Workbook

Sheet PLANILHA
A1: LOTE | B1: LOTE | C1: ADEQUAÇÃO DE ESTRADAS VICINAIS | L1: 4728510.7
A2: Meta | B2: Meta | C2: 1. | D2: SINAPI | F2: RECUPERAÇÃO DE TRECHO DA VICINAL DO KM 180 SUL | G2: - | H2: - | J2: BDI 1 | K2: - | L2: 4728510.7
A3: Nível 2 | B3: Nível 2 | C3: 1.1. | D3: SINAPI | F3: ADMINISTRAÇÃO LOCAL | G3: - | H3: - | J3: BDI 1 | K3: - | L3: 9194.51
A4: Serviço | B4: Serviço | C4: 1.1.1. | D4: PROPRIA | E4: 16 | F4: ADMINISTRAÇÃO LOCAL | G4: UND | H4: 0.1 | I4: 74521.92 | J4: BDI 1 | K4: 91945.14 | L4: 9194.51
A5: Nível 2 | B5: Nível 2 | C5: 1.2. | D5: SINAPI | F5: ADMINISTRAÇÃO LOCAL | G5: - | H5: - | J5: BDI 1 | K5: - | L5: 9194.51
A6: Serviço | B6: Serviço | C6: 1.2.1. | D6: PROPRIA | E6: 16 | F6: ADMINISTRAÇÃO LOCAL | G6: UND | H6: 0.1 | I6: 74521.92 | J6: BDI 1 | K6: 91945.14 | L6: 9194.51
A7: Nível 2 | B7: Nível 2 | C7: 1.3. | D7: SINAPI | F7: ADMINISTRAÇÃO LOCAL | G7: - | H7: - | J7: BDI 1 | K7: - | L7: 18389.03
A8: Serviço | B8: Serviço | C8: 1.3.1. | D8: PROPRIA | E8: 16 | F8: ADMINISTRAÇÃO LOCAL | G8: UND | H8: 0.2 | I8: 74521.92 | J8: BDI 1 | K8: 91945.14 | L8: 18389.03
A9: Nível 2 | B9: Nível 2 | C9: 1.4. | D9: SINAPI | F9: ADMINISTRAÇÃO LOCAL | G9: - | H9: - | J9: BDI 1 | K9: - | L9: 18389.03
A10: Serviço | B10: Serviço | C10: 1.4.1. | D10: PROPRIA | E10: 16 | F10: ADMINISTRAÇÃO LOCAL | G10: UND | H10: 0.2 | I10: 74521.92 | J10: BDI 1 | K10: 91945.14 | L10: 18389.03
A11: Nível 2 | B11: Nível 2 | C11: 1.5. | D11: SINAPI | F11: ADMINISTRAÇÃO LOCAL | G11: - | H11: - | J11: BDI 1 | K11: - | L11: 9194.51
A12: Serviço | B12: Serviço | C12: 1.5.1. | D12: PROPRIA | E12: 16 | F12: ADMINISTRAÇÃO LOCAL | G12: UND | H12: 0.1 | I12: 74521.92 | J12: BDI 1 | K12: 91945.14 | L12: 9194.51
A13: Nível 2 | B13: Nível 2 | C13: 1.6. | D13: SINAPI | F13: ADMINISTRAÇÃO LOCAL | G13: - | H13: - | J13: BDI 1 | K13: - | L13: 9194.51
A14: Serviço | B14: Serviço | C14: 1.6.1. | D14: PROPRIA | E14: 16 | F14: ADMINISTRAÇÃO LOCAL | G14: UND | H14: 0.1 | I14: 74521.92 | J14: BDI 1 | K14: 91945.14 | L14: 9194.51
A15: Nível 2 | B15: Nível 2 | C15: 1.7. | D15: SINAPI | F15: ADMINISTRAÇÃO LOCAL | G15: - | H15: - | J15: BDI 1 | K15: - | L15: 9194.51
A16: Serviço | B16: Serviço | C16: 1.7.1. | D16: PROPRIA | E16: 16 | F16: ADMINISTRAÇÃO LOCAL | G16: UND | H16: 0.1 | I16: 74521.92 | J16: BDI 1 | K16: 91945.14 | L16: 9194.51
A17: Nível 2 | B17: Nível 2 | C17: 1.8. | D17: SINAPI | F17: ADMINISTRAÇÃO LOCAL | G17: - | H17: - | J17: BDI 1 | K17: - | L17: 9194.51
A18: Serviço | B18: Serviço | C18: 1.8.1. | D18: PROPRIA | E18: 16 | F18: ADMINISTRAÇÃO LOCAL | G18: UND | H18: 0.1 | I18: 74521.92 | J18: BDI 1 | K18: 91945.14 | L18: 9194.51
A19: Nível 2 | B19: Nível 2 | C19: 1.9. | D19: SINAPI | F19: SERVIÇOS PRELIMINARES | G19: - | H19: - | J19: BDI 1 | K19: - | L19: 3525.19
A20: Serviço | B20: Serviço | C20: 1.9.1. | D20: PROPRIA | E20: 1 | F20: FORNECIMENTO E INSTALAÇÃO DE PLACA DE OBRA COM CHAPA GALVANIZADA E ESTRUTURA DE MADEIRA | G20: M2 | H20: 6 | I20: 337.92 | J20: BDI 1 | K20: 416.93 | L20: 2501.58
A21: Serviço | B21: Serviço | C21: 1.9.2. | D21: SINAPI | E21: 99064 | F21: LOCAÇÃO DE PAVIMENTAÇÃO. AF_10/2018 | G21: M | H21: 1764.84 | I21: 0.47 | J21: BDI 1 | K21: 0.58 | L21: 1023.61
A22: Nível 2 | B22: Nível 2 | C22: 1.10. | D22: SINAPI | F22: PROJETO EXECUTIVO/AS BUILT | G22: - | H22: - | J22: BDI 1 | K22: - | L22: 92441.13
A23: Serviço | B23: Serviço | C23: 1.10.1. | D23: PROPRIA | E23: 17 | F23: PROJETO EXECUTIVO/AS BUILT | G23: UND | H23: 1 | I23: 74923.92 | J23: BDI 1 | K23: 92441.13 | L23: 92441.13
A24: Nível 2 | B24: Nível 2 | C24: 1.11. | D24: SINAPI | F24: MOBILIZAÇÃO | G24: - | H24: - | J24: BDI 1 | K24: - | L24: 27396.06
A25: Serviço | B25: Serviço | C25: 1.11.1. | D25: PROPRIA | E25: 13 | F25: MOBILIZAÇÃO DE MAQUINÁRIOS | G25: UND | H25: 1 | I25: 22204.62 | J25: BDI 1 | K25: 27396.06 | L25: 27396.06
A26: Nível 2 | B26: Nível 2 | C26: 1.12. | D26: PROPRIA | E26: 14 | F26: DESMOBILIZAÇÃO | G26: - | H26: - | I26: - | J26: BDI 1 | K26: - | L26: 27396.06
A27: Serviço | B27: Serviço | C27: 1.12.1. | D27: PROPRIA | E27: 14 | F27: DESMOBILIZAÇÃO DE MAQUINÁRIOS | G27: UND | H27: 1 | I27: 22204.62 | J27: BDI 1 | K27: 27396.06 | L27: 27396.06
A28: Nível 4 | B28: Nível 4 | C28: 1.13. | D28: SINAPI | F28: REGULARIZAÇÃO E SUBLEITO (TRECHO I, II E II) | G28: - | H28: - | J28: BDI 1 | K28: - | L28: 234540.44
A29: Serviço | B29: Serviço | C29: 1.13.1. | D29: SINAPI | E29: 98525 | F29: LIMPEZA MECANIZADA DE CAMADA VEGETAL, VEGETAÇÃO E PEQUENAS ÁRVORES (DIÂMETRO DE TRONCO MENOR QUE 0,20 M), COM TRATOR DE ESTEIRAS.AF_05/2018 | G29: M2 | H29: 19942.74 | I29: 0.37 | J29: BDI 1 | K29: 0.46 | L29: 9173.66
A30: Serviço | B30: Serviço | C30: 1.13.2. | D30: SICRO | E30: 5501706 | F30: ESCAVAÇÃO MECÂNICA COM RETROESCAVADEIRA EM MATERIAL DE 1ª CATEGORIA | G30: M³ | H30: 8808.9 | I30: 7.4 | J30: BDI 1 | K30: 9.13 | L30: 80425.26
A31: Serviço | B31: Serviço | C31: 1.13.3. | D31: SINAPI | E31: 100974 | F31: CARGA, MANOBRA E DESCARGA DE SOLOS E MATERIAIS GRANULARES EM CAMINHÃO BASCULANTE 10 M³ - CARGA COM PÁ CARREGADEIRA (CAÇAMBA DE 1,7 A 2,8 M³ / 128 HP) E DESCARGA LIVRE (UNIDADE: M3). AF_07/2020 | G31: M3 | H31: 11011.12 | I31: 8.16 | J31: BDI 1 | K31: 10.07 | L31: 110881.98
A32: Serviço | B32: Serviço | C32: 1.13.4. | D32: SICRO | E32: 5501706 | F32: ESCAVAÇÃO MECÂNICA COM RETROESCAVADEIRA EM MATERIAL DE 1ª CATEGORIA | G32: M³ | H32: 104.92 | I32: 7.4 | J32: BDI 1 | K32: 9.13 | L32: 957.92
A33: Serviço | B33: Serviço | C33: 1.13.5. | D33: SINAPI | E33: 100974 | F33: CARGA, MANOBRA E DESCARGA DE SOLOS E MATERIAIS GRANULARES EM CAMINHÃO BASCULANTE 10 M³ - CARGA COM PÁ CARREGADEIRA (CAÇAMBA DE 1,7 A 2,8 M³ / 128 HP) E DESCARGA LIVRE (UNIDADE: M3). AF_07/2020 | G33: M3 | H33: 131.15 | I33: 8.16 | J33: BDI 1 | K33: 10.07 | L33: 1320.68
A34: Serviço | B34: Serviço | C34: 1.13.6. | D34: SINAPI | E34: 95875 | F34: TRANSPORTE COM CAMINHÃO BASCULANTE DE 10 M³, EM VIA URBANA PAVIMENTADA, DMT ATÉ 30 KM (UNIDADE: M3XKM). AF_07/2020 | G34: M3XKM | H34: 1259 | I34: 2.23 | J34: BDI 1 | K34: 2.75 | L34: 3462.25
A35: Serviço | B35: Serviço | C35: 1.13.7. | D35: SINAPI | E35: 100577 | F35: REGULARIZAÇÃO E COMPACTAÇÃO DE SUBLEITO DE SOLO PREDOMINANTEMENTE ARENOSO. AF_11/2019 | G35: M2 | H35: 19942.74 | I35: 1.15 | J35: BDI 1 | K35: 1.42 | L35: 28318.69
A36: Nível 4 | B36: Nível 4 | C36: 1.14. | D36: SINAPI | F36: EXECUÇÃO DA SUBBASE (TRECHO I) | G36: - | H36: - | J36: BDI 1 | K36: - | L36: 220846.95
A37: Serviço | B37: Serviço | C37: 1.14.1. | D37: SICRO | E37: 5501706 | F37: ESCAVAÇÃO MECÂNICA COM RETROESCAVADEIRA EM MATERIAL DE 1ª CATEGORIA | G37: M³ | H37: 963.44 | I37: 7.4 | J37: BDI 1 | K37: 9.13 | L37: 8796.21
A38: Serviço | B38: Serviço | C38: 1.14.2. | D38: SINAPI | E38: 100974 | F38: CARGA, MANOBRA E DESCARGA DE SOLOS E MATERIAIS GRANULARES EM CAMINHÃO BASCULANTE 10 M³ - CARGA COM PÁ CARREGADEIRA (CAÇAMBA DE 1,7 A 2,8 M³ / 128 HP) E DESCARGA LIVRE (UNIDADE: M3). AF_07/2020 | G38: M3 | H38: 1204.3 | I38: 8.16 | J38: BDI 1 | K38: 10.07 | L38: 12127.3
A39: Serviço | B39: Serviço | C39: 1.14.3. | D39: SINAPI | E39: 95875 | F39: TRANSPORTE COM CAMINHÃO BASCULANTE DE 10 M³, EM VIA URBANA PAVIMENTADA, DMT ATÉ 30 KM (UNIDADE: M3XKM). AF_07/2020 | G39: M3XKM | H39: 11561.28 | I39: 2.23 | J39: BDI 1 | K39: 2.75 | L39: 31793.52
A40: Serviço | B40: Serviço | C40: 1.14.4. | D40: SINAPI-I | E40: 4746 | F40: PEDREGULHO OU PICARRA DE JAZIDA, AO NATURAL, PARA BASE DE PAVIMENTACAO (RETIRADO NA JAZIDA, SEM TRANSPORTE) | G40: M3 | H40: 963.44 | I40: 139.67 | J40: BDI 2 | K40: 160.2 | L40: 154343.09
A41: Serviço | B41: Serviço | C41: 1.14.5. | D41: SINAPI | E41: 96388 | F41: EXECUÇÃO E COMPACTAÇÃO DE BASE E OU SUB BASE PARA PAVIMENTAÇÃO DE SOLOS DE COMPORTAMENTO LATERÍTICO (ARENOSO) - EXCLUSIVE SOLO, ESCAVAÇÃO, CARGA E TRANSPORTE. AF_11/2019 | G41: M3 | H41: 963.44 | I41: 11.6 | J41: BDI 1 | K41: 14.31 | L41: 13786.83
A42: Nível 4 | B42: Nível 4 | C42: 1.15. | D42: SINAPI | F42: EXECUÇÃO DA SUBBASE (TRECHO II) | G42: - | H42: - | J42: BDI 1 | K42: - | L42: 232347.26
A43: Serviço | B43: Serviço | C43: 1.15.1. | D43: SICRO | E43: 5501706 | F43: ESCAVAÇÃO MECÂNICA COM RETROESCAVADEIRA EM MATERIAL DE 1ª CATEGORIA | G43: M³ | H43: 1013.61 | I43: 7.4 | J43: BDI 1 | K43: 9.13 | L43: 9254.26
A44: Serviço | B44: Serviço | C44: 1.15.2. | D44: SINAPI | E44: 100974 | F44: CARGA, MANOBRA E DESCARGA DE SOLOS E MATERIAIS GRANULARES EM CAMINHÃO BASCULANTE 10 M³ - CARGA COM PÁ CARREGADEIRA (CAÇAMBA DE 1,7 A 2,8 M³ / 128 HP) E DESCARGA LIVRE (UNIDADE: M3). AF_07/2020 | G44: M3 | H44: 1267.01 | I44: 8.16 | J44: BDI 1 | K44: 10.07 | L44: 12758.79
A45: Serviço | B45: Serviço | C45: 1.15.3. | D45: SINAPI | E45: 95875 | F45: TRANSPORTE COM CAMINHÃO BASCULANTE DE 10 M³, EM VIA URBANA PAVIMENTADA, DMT ATÉ 30 KM (UNIDADE: M3XKM). AF_07/2020 | G45: M3XKM | H45: 12163.32 | I45: 2.23 | J45: BDI 1 | K45: 2.75 | L45: 33449.13
A46: Serviço | B46: Serviço | C46: 1.15.4. | D46: SINAPI-I | E46: 4746 | F46: PEDREGULHO OU PICARRA DE JAZIDA, AO NATURAL, PARA BASE DE PAVIMENTACAO (RETIRADO NA JAZIDA, SEM TRANSPORTE) | G46: M3 | H46: 1013.61 | I46: 139.67 | J46: BDI 2 | K46: 160.2 | L46: 162380.32
A47: Serviço | B47: Serviço | C47: 1.15.5. | D47: SINAPI | E47: 96388 | F47: EXECUÇÃO E COMPACTAÇÃO DE BASE E OU SUB BASE PARA PAVIMENTAÇÃO DE SOLOS DE COMPORTAMENTO LATERÍTICO (ARENOSO) - EXCLUSIVE SOLO, ESCAVAÇÃO, CARGA E TRANSPORTE. AF_11/2019 | G47: M3 | H47: 1013.61 | I47: 11.6 | J47: BDI 1 | K47: 14.31 | L47: 14504.76
A48: Nível 4 | B48: Nível 4 | C48: 1.16. | D48: SINAPI | F48: EXECUÇÃO DE SUBBASE (TRECHO III) | G48: - | H48: - | J48: BDI 1 | K48: - | L48: 232519.21
A49: Serviço | B49: Serviço | C49: 1.16.1. | D49: SICRO | E49: 5501706 | F49: ESCAVAÇÃO MECÂNICA COM RETROESCAVADEIRA EM MATERIAL DE 1ª CATEGORIA | G49: M³ | H49: 1014.36 | I49: 7.4 | J49: BDI 1 | K49: 9.13 | L49: 9261.11
A50: Serviço | B50: Serviço | C50: 1.16.2. | D50: SINAPI | E50: 100974 | F50: CARGA, MANOBRA E DESCARGA DE SOLOS E MATERIAIS GRANULARES EM CAMINHÃO BASCULANTE 10 M³ - CARGA COM PÁ CARREGADEIRA (CAÇAMBA DE 1,7 A 2,8 M³ / 128 HP) E DESCARGA LIVRE (UNIDADE: M3). AF_07/2020 | G50: M3 | H50: 1267.95 | I50: 8.16 | J50: BDI 1 | K50: 10.07 | L50: 12768.26
A51: Serviço | B51: Serviço | C51: 1.16.3. | D51: SINAPI | E51: 95875 | F51: TRANSPORTE COM CAMINHÃO BASCULANTE DE 10 M³, EM VIA URBANA PAVIMENTADA, DMT ATÉ 30 KM (UNIDADE: M3XKM). AF_07/2020 | G51: M3XKM | H51: 12172.32 | I51: 2.23 | J51: BDI 1 | K51: 2.75 | L51: 33473.88
A52: Serviço | B52: Serviço | C52: 1.16.4. | D52: SINAPI-I | E52: 4746 | F52: PEDREGULHO OU PICARRA DE JAZIDA, AO NATURAL, PARA BASE DE PAVIMENTACAO (RETIRADO NA JAZIDA, SEM TRANSPORTE) | G52: M3 | H52: 1014.36 | I52: 139.67 | J52: BDI 2 | K52: 160.2 | L52: 162500.47
A53: Serviço | B53: Serviço | C53: 1.16.5. | D53: SINAPI | E53: 96388 | F53: EXECUÇÃO E COMPACTAÇÃO DE BASE E OU SUB BASE PARA PAVIMENTAÇÃO DE SOLOS DE COMPORTAMENTO LATERÍTICO (ARENOSO) - EXCLUSIVE SOLO, ESCAVAÇÃO, CARGA E TRANSPORTE. AF_11/2019 | G53: M3 | H53: 1014.36 | I53: 11.6 | J53: BDI 1 | K53: 14.31 | L53: 14515.49
A54: Nível 4 | B54: Nível 4 | C54: 1.17. | D54: SINAPI | F54: CONTROLE TECNOLOGICO - SUBBASE (TRECHO I, II E II) | G54: - | H54: - | J54: BDI 1 | K54: - | L54: 6367.15
A55: Serviço | B55: Serviço | C55: 1.17.1. | D55: PROPRIA | E55: 2 | F55: ENSAIO DE GRANULOMETRIA POR PENEIRAMNETO - SOLOS | G55: UND | H55: 5 | I55: 142.36 | J55: BDI 1 | K55: 175.64 | L55: 878.2
A56: Serviço | B56: Serviço | C56: 1.17.2. | D56: PROPRIA | E56: 3 | F56: ENSAIO DE LIMITE DE LIQUIDEZ - SOLOS | G56: UND | H56: 5 | I56: 88.98 | J56: BDI 1 | K56: 109.78 | L56: 548.9
A57: Serviço | B57: Serviço | C57: 1.17.3. | D57: PROPRIA | E57: 4 | F57: ENSAIO DE LIMITE DE PLASTICIDADE - SOLOS | G57: UND | H57: 5 | I57: 80.08 | J57: BDI 1 | K57: 98.8 | L57: 494
A58: Serviço | B58: Serviço | C58: 1.17.4. | D58: PROPRIA | E58: 5 | F58: ENSAIO DE COMPACTAÇÃO - AMOSTRAS NÃO TRABALHADAS - ENERGIA NORMAL - SOLOS | G58: UND | H58: 5 | I58: 169.06 | J58: BDI 1 | K58: 208.59 | L58: 1042.95
A59: Serviço | B59: Serviço | C59: 1.17.5. | D59: PROPRIA | E59: 6 | F59: ENSAIO DE MASSA ESPECIFICA - IN SITU - METODO BALÃO DE BORRACHA - SOLOS | G59: UND | H59: 15 | I59: 71.18 | J59: BDI 1 | K59: 87.82 | L59: 1317.3
A60: Serviço | B60: Serviço | C60: 1.17.6. | D60: PROPRIA | E60: 7 | F60: ENSAIO DE INDICE CALIFORNIA - AMOSTRA NÃO TRABALHADA - ENERGIA NORMAL - SOLOS | G60: UND | H60: 5 | I60: 204.65 | J60: BDI 1 | K60: 252.5 | L60: 1262.5
A61: Serviço | B61: Serviço | C61: 1.17.7. | D61: PROPRIA | E61: 8 | F61: ENSAIO DE TEOR DE UMIDADE - PROCESSO SPEEDY - SOLOS E AGREGADOS MIUDOS | G61: UND | H61: 5 | I61: 53.38 | J61: BDI 1 | K61: 65.86 | L61: 329.3
A62: Serviço | B62: Serviço | C62: 1.17.8. | D62: PROPRIA | E62: 9 | F62: ENSAIO DE EQUIVALENTE EM AREIA - SOLOS | G62: UND | H62: 5 | I62: 80.08 | J62: BDI 1 | K62: 98.8 | L62: 494
A63: Nível 4 | B63: Nível 4 | C63: 1.18. | D63: SINAPI | F63: EXECUÇÃO DA BASE (TRECHO I) | G63: - | H63: - | J63: BDI 1 | K63: - | L63: 195439.37
A64: Serviço | B64: Serviço | C64: 1.18.1. | D64: SICRO | E64: 5501706 | F64: ESCAVAÇÃO MECÂNICA COM RETROESCAVADEIRA EM MATERIAL DE 1ª CATEGORIA | G64: M³ | H64: 852.6 | I64: 7.4 | J64: BDI 1 | K64: 9.13 | L64: 7784.24
A65: Serviço | B65: Serviço | C65: 1.18.2. | D65: SINAPI | E65: 100974 | F65: CARGA, MANOBRA E DESCARGA DE SOLOS E MATERIAIS GRANULARES EM CAMINHÃO BASCULANTE 10 M³ - CARGA COM PÁ CARREGADEIRA (CAÇAMBA DE 1,7 A 2,8 M³ / 128 HP) E DESCARGA LIVRE (UNIDADE: M3). AF_07/2020 | G65: M3 | H65: 1065.75 | I65: 8.16 | J65: BDI 1 | K65: 10.07 | L65: 10732.1
A66: Serviço | B66: Serviço | C66: 1.18.3. | D66: SINAPI | E66: 95875 | F66: TRANSPORTE COM CAMINHÃO BASCULANTE DE 10 M³, EM VIA URBANA PAVIMENTADA, DMT ATÉ 30 KM (UNIDADE: M3XKM). AF_07/2020 | G66: M3XKM | H66: 10231.2 | I66: 2.23 | J66: BDI 1 | K66: 2.75 | L66: 28135.8
A67: Serviço | B67: Serviço | C67: 1.18.4. | D67: SINAPI-I | E67: 4746 | F67: PEDREGULHO OU PICARRA DE JAZIDA, AO NATURAL, PARA BASE DE PAVIMENTACAO (RETIRADO NA JAZIDA, SEM TRANSPORTE) | G67: M3 | H67: 852.6 | I67: 139.67 | J67: BDI 2 | K67: 160.2 | L67: 136586.52
A68: Serviço | B68: Serviço | C68: 1.18.5. | D68: SINAPI | E68: 96388 | F68: EXECUÇÃO E COMPACTAÇÃO DE BASE E OU SUB BASE PARA PAVIMENTAÇÃO DE SOLOS DE COMPORTAMENTO LATERÍTICO (ARENOSO) - EXCLUSIVE SOLO, ESCAVAÇÃO, CARGA E TRANSPORTE. AF_11/2019 | G68: M3 | H68: 852.6 | I68: 11.6 | J68: BDI 1 | K68: 14.31 | L68: 12200.71
A69: Nível 4 | B69: Nível 4 | C69: 1.19. | D69: SINAPI | F69: EXECUÇÃO DA BASE (TRECHO II) | G69: - | H69: - | J69: BDI 1 | K69: - | L69: 205617.07
A70: Serviço | B70: Serviço | C70: 1.19.1. | D70: SICRO | E70: 5501706 | F70: ESCAVAÇÃO MECÂNICA COM RETROESCAVADEIRA EM MATERIAL DE 1ª CATEGORIA | G70: M³ | H70: 897 | I70: 7.4 | J70: BDI 1 | K70: 9.13 | L70: 8189.61
A71: Serviço | B71: Serviço | C71: 1.19.2. | D71: SINAPI | E71: 100974 | F71: CARGA, MANOBRA E DESCARGA DE SOLOS E MATERIAIS GRANULARES EM CAMINHÃO BASCULANTE 10 M³ - CARGA COM PÁ CARREGADEIRA (CAÇAMBA DE 1,7 A 2,8 M³ / 128 HP) E DESCARGA LIVRE (UNIDADE: M3). AF_07/2020 | G71: M3 | H71: 1121.25 | I71: 8.16 | J71: BDI 1 | K71: 10.07 | L71: 11290.99
A72: Serviço | B72: Serviço | C72: 1.19.3. | D72: SINAPI | E72: 95875 | F72: TRANSPORTE COM CAMINHÃO BASCULANTE DE 10 M³, EM VIA URBANA PAVIMENTADA, DMT ATÉ 30 KM (UNIDADE: M3XKM). AF_07/2020 | G72: M3XKM | H72: 10764 | I72: 2.23 | J72: BDI 1 | K72: 2.75 | L72: 29601
A73: Serviço | B73: Serviço | C73: 1.19.4. | D73: SINAPI-I | E73: 4746 | F73: PEDREGULHO OU PICARRA DE JAZIDA, AO NATURAL, PARA BASE DE PAVIMENTACAO (RETIRADO NA JAZIDA, SEM TRANSPORTE) | G73: M3 | H73: 897 | I73: 139.67 | J73: BDI 2 | K73: 160.2 | L73: 143699.4
A74: Serviço | B74: Serviço | C74: 1.19.5. | D74: SINAPI | E74: 96388 | F74: EXECUÇÃO E COMPACTAÇÃO DE BASE E OU SUB BASE PARA PAVIMENTAÇÃO DE SOLOS DE COMPORTAMENTO LATERÍTICO (ARENOSO) - EXCLUSIVE SOLO, ESCAVAÇÃO, CARGA E TRANSPORTE. AF_11/2019 | G74: M3 | H74: 897 | I74: 11.6 | J74: BDI 1 | K74: 14.31 | L74: 12836.07
A75: Nível 4 | B75: Nível 4 | C75: 1.20. | D75: SINAPI | F75: EXECUÇÃO DA BASE (TRECHO III) | G75: - | H75: - | J75: BDI 1 | K75: - | L75: 205768.41
A76: Serviço | B76: Serviço | C76: 1.20.1. | D76: SICRO | E76: 5501706 | F76: ESCAVAÇÃO MECÂNICA COM RETROESCAVADEIRA EM MATERIAL DE 1ª CATEGORIA | G76: M³ | H76: 897.66 | I76: 7.4 | J76: BDI 1 | K76: 9.13 | L76: 8195.64
A77: Serviço | B77: Serviço | C77: 1.20.2. | D77: SINAPI | E77: 100974 | F77: CARGA, MANOBRA E DESCARGA DE SOLOS E MATERIAIS GRANULARES EM CAMINHÃO BASCULANTE 10 M³ - CARGA COM PÁ CARREGADEIRA (CAÇAMBA DE 1,7 A 2,8 M³ / 128 HP) E DESCARGA LIVRE (UNIDADE: M3). AF_07/2020 | G77: M3 | H77: 1122.08 | I77: 8.16 | J77: BDI 1 | K77: 10.07 | L77: 11299.35
A78: Serviço | B78: Serviço | C78: 1.20.3. | D78: SINAPI | E78: 95875 | F78: TRANSPORTE COM CAMINHÃO BASCULANTE DE 10 M³, EM VIA URBANA PAVIMENTADA, DMT ATÉ 30 KM (UNIDADE: M3XKM). AF_07/2020 | G78: M3XKM | H78: 10771.92 | I78: 2.23 | J78: BDI 1 | K78: 2.75 | L78: 29622.78
A79: Serviço | B79: Serviço | C79: 1.20.4. | D79: SINAPI-I | E79: 4746 | F79: PEDREGULHO OU PICARRA DE JAZIDA, AO NATURAL, PARA BASE DE PAVIMENTACAO (RETIRADO NA JAZIDA, SEM TRANSPORTE) | G79: M3 | H79: 897.66 | I79: 139.67 | J79: BDI 2 | K79: 160.2 | L79: 143805.13
A80: Serviço | B80: Serviço | C80: 1.20.5. | D80: SINAPI | E80: 96388 | F80: EXECUÇÃO E COMPACTAÇÃO DE BASE E OU SUB BASE PARA PAVIMENTAÇÃO DE SOLOS DE COMPORTAMENTO LATERÍTICO (ARENOSO) - EXCLUSIVE SOLO, ESCAVAÇÃO, CARGA E TRANSPORTE. AF_11/2019 | G80: M3 | H80: 897.66 | I80: 11.6 | J80: BDI 1 | K80: 14.31 | L80: 12845.51
A81: Nível 4 | B81: Nível 4 | C81: 1.21. | D81: SINAPI | F81: CONTROLE TECNOLOGICO - BASE (TRECHO I, II E II) | G81: - | H81: - | J81: BDI 1 | K81: - | L81: 6191.51
A82: Serviço | B82: Serviço | C82: 1.21.1. | D82: PROPRIA | E82: 2 | F82: ENSAIO DE GRANULOMETRIA POR PENEIRAMNETO - SOLOS | G82: UND | H82: 5 | I82: 142.36 | J82: BDI 1 | K82: 175.64 | L82: 878.2
A83: Serviço | B83: Serviço | C83: 1.21.2. | D83: PROPRIA | E83: 3 | F83: ENSAIO DE LIMITE DE LIQUIDEZ - SOLOS | G83: UND | H83: 5 | I83: 88.98 | J83: BDI 1 | K83: 109.78 | L83: 548.9
A84: Serviço | B84: Serviço | C84: 1.21.3. | D84: PROPRIA | E84: 4 | F84: ENSAIO DE LIMITE DE PLASTICIDADE - SOLOS | G84: UND | H84: 5 | I84: 80.08 | J84: BDI 1 | K84: 98.8 | L84: 494
A85: Serviço | B85: Serviço | C85: 1.21.4. | D85: PROPRIA | E85: 5 | F85: ENSAIO DE COMPACTAÇÃO - AMOSTRAS NÃO TRABALHADAS - ENERGIA NORMAL - SOLOS | G85: UND | H85: 5 | I85: 169.06 | J85: BDI 1 | K85: 208.59 | L85: 1042.95
A86: Serviço | B86: Serviço | C86: 1.21.5. | D86: PROPRIA | E86: 6 | F86: ENSAIO DE MASSA ESPECIFICA - IN SITU - METODO BALÃO DE BORRACHA - SOLOS | G86: UND | H86: 13 | I86: 71.18 | J86: BDI 1 | K86: 87.82 | L86: 1141.66
A87: Serviço | B87: Serviço | C87: 1.21.6. | D87: PROPRIA | E87: 7 | F87: ENSAIO DE INDICE CALIFORNIA - AMOSTRA NÃO TRABALHADA - ENERGIA NORMAL - SOLOS | G87: UND | H87: 5 | I87: 204.65 | J87: BDI 1 | K87: 252.5 | L87: 1262.5
A88: Serviço | B88: Serviço | C88: 1.21.7. | D88: PROPRIA | E88: 8 | F88: ENSAIO DE TEOR DE UMIDADE - PROCESSO SPEEDY - SOLOS E AGREGADOS MIUDOS | G88: UND | H88: 5 | I88: 53.38 | J88: BDI 1 | K88: 65.86 | L88: 329.3
A89: Serviço | B89: Serviço | C89: 1.21.8. | D89: PROPRIA | E89: 9 | F89: ENSAIO DE EQUIVALENTE EM AREIA - SOLOS | G89: UND | H89: 5 | I89: 80.08 | J89: BDI 1 | K89: 98.8 | L89: 494
A90: Nível 3 | B90: Nível 3 | C90: 1.22. | D90: SINAPI | F90: PAVIMENTAÇÃO ASFÁLTICA (TRECHO I) | G90: - | H90: - | J90: BDI 1 | K90: - | L90: 718537.18
A91: Serviço | B91: Serviço | C91: 1.22.1. | D91: PROPRIA | E91: 10 | F91: EXECUÇÃO DE IMPRIMAÇÃO COM ASFALTO DILUÍDO CM-30 | G91: M2 | H91: 5684 | I91: 9.97 | J91: BDI 1 | K91: 12.3 | L91: 69913.2
A92: Serviço | B92: Serviço | C92: 1.22.2. | D92: PROPRIA | E92: 11 | F92: EXECUÇÃO DE PINTURA DE LIGAÇÃO COM EMULSÃO ASFÁLTICA RR-2C | G92: M2 | H92: 5684 | I92: 2.27 | J92: BDI 1 | K92: 2.8 | L92: 15915.2
A93: Serviço | B93: Serviço | C93: 1.22.3. | D93: SINAPI | E93: 95995 | F93: EXECUÇÃO DE PAVIMENTO COM APLICAÇÃO DE CONCRETO ASFÁLTICO, CAMADA DE ROLAMENTO - EXCLUSIVE CARGA E TRANSPORTE. AF_11/2019 | G93: M3 | H93: 198.94 | I93: 2364.92 | J93: BDI 1 | K93: 2917.84 | L93: 580475.09
A94: Serviço | B94: Serviço | C94: 1.22.4. | D94: SINAPI | E94: 100986 | F94: CARGA DE MISTURA ASFÁLTICA EM CAMINHÃO BASCULANTE 10 M³ (UNIDADE: M3). AF_07/2020 | G94: M3 | H94: 198.94 | I94: 8.12 | J94: BDI 1 | K94: 10.02 | L94: 1993.38
A95: Serviço | B95: Serviço | C95: 1.22.5. | D95: SINAPI | E95: 95875 | F95: TRANSPORTE COM CAMINHÃO BASCULANTE DE 10 M³, EM VIA URBANA PAVIMENTADA, DMT ATÉ 30 KM (UNIDADE: M3XKM). AF_07/2020 | G95: M3XKM | H95: 5968.2 | I95: 2.23 | J95: BDI 1 | K95: 2.75 | L95: 16412.55
A96: Serviço | B96: Serviço | C96: 1.22.6. | D96: SINAPI | E96: 93590 | F96: TRANSPORTE COM CAMINHÃO BASCULANTE DE 10 M³, EM VIA URBANA PAVIMENTADA, ADICIONAL PARA DMT EXCEDENTE A 30 KM (UNIDADE: M3XKM). AF_07/2020 | G96: M3XKM | H96: 31034.64 | I96: 0.88 | J96: BDI 1 | K96: 1.09 | L96: 33827.76
A97: Nível 3 | B97: Nível 3 | C97: 1.23. | D97: SINAPI | F97: PAVIMENTAÇÃO ASFÁLTICA (TRECHO II) | G97: - | H97: - | J97: BDI 1 | K97: - | L97: 755955.72
A98: Serviço | B98: Serviço | C98: 1.23.1. | D98: PROPRIA | E98: 10 | F98: EXECUÇÃO DE IMPRIMAÇÃO COM ASFALTO DILUÍDO CM-30 | G98: M2 | H98: 5980 | I98: 9.97 | J98: BDI 1 | K98: 12.3 | L98: 73554
A99: Serviço | B99: Serviço | C99: 1.23.2. | D99: PROPRIA | E99: 11 | F99: EXECUÇÃO DE PINTURA DE LIGAÇÃO COM EMULSÃO ASFÁLTICA RR-2C | G99: M2 | H99: 5980 | I99: 2.27 | J99: BDI 1 | K99: 2.8 | L99: 16744
A100: Serviço | B100: Serviço | C100: 1.23.3. | D100: SINAPI | E100: 95995 | F100: EXECUÇÃO DE PAVIMENTO COM APLICAÇÃO DE CONCRETO ASFÁLTICO, CAMADA DE ROLAMENTO - EXCLUSIVE CARGA E TRANSPORTE. AF_11/2019 | G100: M3 | H100: 209.3 | I100: 2364.92 | J100: BDI 1 | K100: 2917.84 | L100: 610703.91
...

Sheet 1.1.1
B1: PREFEITURA MUNICIPAL DE URUARÁ
K2: DADOS
K3: MEMÓRIA | M3: =M12 -> 1.1
K4: BM: | M4: 5
B5: OBJETO | E5: PAVIMENTAÇÃO DE VIAS URBANAS NO MUNICÍPIO DE URUARÁ - PARÁ | K5: DATA BASE | M5: 45839
K6: DATA DA EMISSÃO | M6: 45884
K7: Referencia | M7: Mensal
B9: MEMORIA DE CALCULO
B10: CTEF: | E10: OGU MTUR 975474/2025
B11: UNIDADE: | E11: UNIDADE | K11: TITULO: | M11: =PLANILHA!C3 -> 1.1.
B12: TITULO: | E12: ADMINISTRAÇÃO DE OBRA | K12: ITEM: | M12: 1.1
B13: DESCRIÇÃO: | E13: =PLANILHA!F4 -> ADMINISTRAÇÃO LOCAL | K13: ITEM: | M13: 1.1.1
B14: MEDIDO: | E14: UNIDADE | F14: UNI | G14: OBJETO: ADEQUAÇÃO DE ESTRADAS VICINAIS
B16: FORMULAS E QUADRO DE CÁLCULOS
B17: ORDEM | C17: Item | D17: DESCRIÇÕES | H17: QUANTIDADES | M17: TOTAL
H18: DIAS | I18: MESES | J18: H/DIA | M18: HORAS
B19: 1 | D19: ENGENHEIRO CIVIL DE OBRA PLENO COM ENCARGOS COMPLEMENTARES | H19: 10 | I19: 6 | J19: 2 | M19: =ROUND((H19*I19*J19),2) -> 120 | N19: 320
B20: 2 | D20: ENCARREGADO GERAL COM ENCARGOS COMPLEMENTARES | H20: 22 | I20: 6 | J20: 2 | M20: =ROUND((H20*I20*J20),2) -> 264 | N20: 672
B21: 3 | D21: TOPOGRAFO COM ENCARGOS COMPLEMENTARES | H21: 15 | I21: 6 | J21: 2 | M21: =ROUND((H21*I21*J21),2) -> 180 | N21: 400
B22: 4 | D22: AUXILIAR DE TOPÓGRAFO COM ENCARGOS COMPLEMENTARES | H22: 15 | I22: 6 | J22: 2 | M22: =ROUND((H22*I22*J22),2) -> 180 | N22: 400
M23: =ROUND(PRODUCT(I23:K23),2) -> 0
D25: A ADMINISTRAÇÃO É PAGA CONFORME O PERCENTUAL DE OBRA EXECUTADA. A EQUIPE DESCRITA REPRESENTA 1 UNIDADE ADMINISTRATIVA QUE DEVE SE REMUNERADA CONFORME AVANÇO FISICO DO EMPREENDIMENTO. | M25: 1
Q26: 1000000
Q28: =Q26*0.02 -> 20000
B32: TOTAL DA ATIVIDADE............................................................................................................................................................................. | M32: 0.2
B34: OBSERVAÇÕES: | H34: Total Executado no Mês | M34: =M32 -> 0.2
H35: Total Executado Anterior | M35: #N/A
H36: Total Executado Acumulado | M36: =M35+M34 -> #N/A
H37: Total Contratado | M37: #N/A
H38: Saldo Atual | M38: =IFERROR(IF(M36>M37,0,M37-M36),"")
H39: Saldo (TAC) | M39: =IF(M36>M37,M36-M37,0) -> #N/A
B40: _____________________________________________
B41: PREFEITURA MUNICIPAL DE URUARÁ
B42: DOUGLAS NASCIMENTO DOS SANTOS
B43: ENGENHEIRO CIVIL CREA/PA: 151536623-5

Sheet 1.2.1
B1: PREFEITURA MUNICIPAL DE URUARÁ
K2: DADOS
K3: MEMÓRIA | M3: =M12 -> 1.2
K4: BM: | M4: 5
B5: OBJETO | E5: PAVIMENTAÇÃO DE VIAS URBANAS NO MUNICÍPIO DE URUARÁ - PARÁ | K5: DATA BASE | M5: 45839
K6: DATA DA EMISSÃO | M6: 45884
K7: Referencia | M7: Mensal
B9: MEMORIA DE CALCULO
B10: CTEF: | E10: OGU MTUR 975474/2025
B11: UNIDADE: | E11: UNIDADE | K11: TITULO: | M11: =PLANILHA!C3 -> 1.1.
B12: TITULO: | E12: ADMINISTRAÇÃO DE OBRA | K12: ITEM: | M12: 1.2
B13: DESCRIÇÃO: | E13: =PLANILHA!F4 -> ADMINISTRAÇÃO LOCAL | K13: ITEM: | M13: 1.2.1
B14: MEDIDO: | E14: UNIDADE | F14: UNI | G14: OBJETO: ADEQUAÇÃO DE ESTRADAS VICINAIS
B16: FORMULAS E QUADRO DE CÁLCULOS
B17: ORDEM | C17: Item | D17: DESCRIÇÕES | H17: QUANTIDADES | M17: TOTAL
H18: DIAS | I18: MESES | J18: H/DIAS | M18: HORAS
B19: 1 | D19: ENGENHEIRO CIVIL DE OBRA PLENO COM ENCARGOS COMPLEMENTARES | H19: 10 | I19: 6 | J19: 2 | M19: =ROUND((H19*I19*J19),2) -> 120 | N19: 320
B20: 2 | D20: ENCARREGADO GERAL COM ENCARGOS COMPLEMENTARES | H20: 22 | I20: 6 | J20: 2 | M20: =ROUND((H20*I20*J20),2) -> 264 | N20: 672
B21: 3 | D21: TOPOGRAFO COM ENCARGOS COMPLEMENTARES | H21: 15 | I21: 6 | J21: 2 | M21: =ROUND((H21*I21*J21),2) -> 180 | N21: 400
B22: 4 | D22: AUXILIAR DE TOPÓGRAFO COM ENCARGOS COMPLEMENTARES | H22: 15 | I22: 6 | J22: 2 | M22: =ROUND((H22*I22*J22),2) -> 180 | N22: 400
M23: =ROUND(PRODUCT(I23:K23),2) -> 0
D25: A ADMINISTRAÇÃO É PAGA CONFORME O PERCENTUAL DE OBRA EXECUTADA. A EQUIPE DESCRITA REPRESENTA 1 UNIDADE ADMINISTRATIVA QUE DEVE SE REMUNERADA CONFORME AVANÇO FISICO DO EMPREENDIMENTO. | M25: 1
Q26: 1000000
Q28: =Q26*0.02 -> 20000
B32: TOTAL DA ATIVIDADE............................................................................................................................................................................. | M32: 0.2
B34: OBSERVAÇÕES: | H34: Total Executado no Mês | M34: =M32 -> 0.2
H35: Total Executado Anterior | M35: #N/A
H36: Total Executado Acumulado | M36: =M35+M34 -> #N/A
H37: Total Contratado | M37: #N/A
H38: Saldo Atual | M38: =IFERROR(IF(M36>M37,0,M37-M36),"")
H39: Saldo (TAC) | M39: =IF(M36>M37,M36-M37,0) -> #N/A
B40: _____________________________________________
B41: PREFEITURA MUNICIPAL DE URUARÁ
B42: DOUGLAS NASCIMENTO DOS SANTOS
B43: ENGENHEIRO CIVIL CREA/PA: 151536623-5

Sheet 1.3.1
B1: PREFEITURA MUNICIPAL DE URUARÁ
K2: DADOS
K3: MEMÓRIA | M3: =M12 -> 1.3
K4: BM: | M4: 5
B5: OBJETO | E5: PAVIMENTAÇÃO DE VIAS URBANAS NO MUNICÍPIO DE URUARÁ - PARÁ | K5: DATA BASE | M5: 45839
K6: DATA DA EMISSÃO | M6: 45884
K7: Referencia | M7: Mensal
B9: MEMORIA DE CALCULO
B10: CTEF: | E10: OGU MTUR 975474/2025
B11: UNIDADE: | E11: UNIDADE | K11: TITULO: | M11: =PLANILHA!C3 -> 1.1.
B12: TITULO: | E12: ADMINISTRAÇÃO DE OBRA | K12: ITEM: | M12: 1.3
B13: DESCRIÇÃO: | E13: =PLANILHA!F4 -> ADMINISTRAÇÃO LOCAL | K13: ITEM: | M13: 1.3.1
B14: MEDIDO: | E14: UNIDADE | F14: UNI | G14: OBJETO: ADEQUAÇÃO DE ESTRADAS VICINAIS
B16: FORMULAS E QUADRO DE CÁLCULOS
B17: ORDEM | C17: Item | D17: DESCRIÇÕES | H17: QUANTIDADES | M17: TOTAL
H18: DIAS | I18: MESES | J18: H/DIAS | M18: HORAS
B19: 1 | D19: ENGENHEIRO CIVIL DE OBRA PLENO COM ENCARGOS COMPLEMENTARES | H19: 10 | I19: 6 | J19: 2 | M19: =ROUND((H19*I19*J19),2) -> 120 | N19: 320
B20: 2 | D20: ENCARREGADO GERAL COM ENCARGOS COMPLEMENTARES | H20: 22 | I20: 6 | J20: 2 | M20: =ROUND((H20*I20*J20),2) -> 264 | N20: 672
B21: 3 | D21: TOPOGRAFO COM ENCARGOS COMPLEMENTARES | H21: 15 | I21: 6 | J21: 2 | M21: =ROUND((H21*I21*J21),2) -> 180 | N21: 400
B22: 4 | D22: AUXILIAR DE TOPÓGRAFO COM ENCARGOS COMPLEMENTARES | H22: 15 | I22: 6 | J22: 2 | M22: =ROUND((H22*I22*J22),2) -> 180 | N22: 400
M23: =ROUND(PRODUCT(I23:K23),2) -> 0
D25: A ADMINISTRAÇÃO É PAGA CONFORME O PERCENTUAL DE OBRA EXECUTADA. A EQUIPE DESCRITA REPRESENTA 1 UNIDADE ADMINISTRATIVA QUE DEVE SE REMUNERADA CONFORME AVANÇO FISICO DO EMPREENDIMENTO. | M25: 1
Q26: 1000000
Q28: =Q26*0.02 -> 20000
B32: TOTAL DA ATIVIDADE............................................................................................................................................................................. | M32: 0.2
B34: OBSERVAÇÕES: | H34: Total Executado no Mês | M34: =M32 -> 0.2
H35: Total Executado Anterior | M35: #N/A
H36: Total Executado Acumulado | M36: =M35+M34 -> #N/A
H37: Total Contratado | M37: #N/A
H38: Saldo Atual | M38: =IFERROR(IF(M36>M37,0,M37-M36),"")
H39: Saldo (TAC) | M39: =IF(M36>M37,M36-M37,0) -> #N/A
B40: _____________________________________________
B41: PREFEITURA MUNICIPAL DE URUARÁ
B42: DOUGLAS NASCIMENTO DOS SANTOS
B43: ENGENHEIRO CIVIL CREA/PA: 151536623-5

Sheet 1.4.1
B1: PREFEITURA MUNICIPAL DE URUARÁ
K2: DADOS
K3: MEMÓRIA | M3: =M12 -> 1.4
K4: BM: | M4: 5
B5: OBJETO | E5: PAVIMENTAÇÃO DE VIAS URBANAS NO MUNICÍPIO DE URUARÁ - PARÁ | K5: DATA BASE | M5: 45839
K6: DATA DA EMISSÃO | M6: 45884
K7: Referencia | M7: Mensal
B9: MEMORIA DE CALCULO
B10: CTEF: | E10: OGU MTUR 975474/2025
B11: UNIDADE: | E11: UNIDADE | K11: TITULO: | M11: =PLANILHA!C3 -> 1.1.
B12: TITULO: | E12: ADMINISTRAÇÃO DE OBRA | K12: ITEM: | M12: 1.4
B13: DESCRIÇÃO: | E13: =PLANILHA!F4 -> ADMINISTRAÇÃO LOCAL | K13: ITEM: | M13: 1.4.1
B14: MEDIDO: | E14: UNIDADE | F14: UNI | G14: OBJETO: ADEQUAÇÃO DE ESTRADAS VICINAIS
B16: FORMULAS E QUADRO DE CÁLCULOS
B17: ORDEM | C17: Item | D17: DESCRIÇÕES | H17: QUANTIDADES | M17: TOTAL
H18: DIAS | I18: MESES | J18: H/DIAS | M18: HORAS
B19: 1 | D19: ENGENHEIRO CIVIL DE OBRA PLENO COM ENCARGOS COMPLEMENTARES | H19: 10 | I19: 6 | J19: 2 | M19: =ROUND((H19*I19*J19),2) -> 120 | N19: 320
B20: 2 | D20: ENCARREGADO GERAL COM ENCARGOS COMPLEMENTARES | H20: 22 | I20: 6 | J20: 2 | M20: =ROUND((H20*I20*J20),2) -> 264 | N20: 672
B21: 3 | D21: TOPOGRAFO COM ENCARGOS COMPLEMENTARES | H21: 15 | I21: 6 | J21: 2 | M21: =ROUND((H21*I21*J21),2) -> 180 | N21: 400
B22: 4 | D22: AUXILIAR DE TOPÓGRAFO COM ENCARGOS COMPLEMENTARES | H22: 15 | I22: 6 | J22: 2 | M22: =ROUND((H22*I22*J22),2) -> 180 | N22: 400
M23: =ROUND(PRODUCT(I23:K23),2) -> 0
D25: A ADMINISTRAÇÃO É PAGA CONFORME O PERCENTUAL DE OBRA EXECUTADA. A EQUIPE DESCRITA REPRESENTA 1 UNIDADE ADMINISTRATIVA QUE DEVE SE REMUNERADA CONFORME AVANÇO FISICO DO EMPREENDIMENTO. | M25: 1
Q26: 1000000
Q28: =Q26*0.02 -> 20000
B32: TOTAL DA ATIVIDADE............................................................................................................................................................................. | M32: 0.2
B34: OBSERVAÇÕES: | H34: Total Executado no Mês | M34: =M32 -> 0.2
H35: Total Executado Anterior | M35: #N/A
H36: Total Executado Acumulado | M36: =M35+M34 -> #N/A
H37: Total Contratado | M37: #N/A
H38: Saldo Atual | M38: =IFERROR(IF(M36>M37,0,M37-M36),"")
H39: Saldo (TAC) | M39: =IF(M36>M37,M36-M37,0) -> #N/A
B40: _____________________________________________
B41: PREFEITURA MUNICIPAL DE URUARÁ
B42: DOUGLAS NASCIMENTO DOS SANTOS
B43: ENGENHEIRO CIVIL CREA/PA: 151536623-5

Sheet 1.5.1.
B1: PREFEITURA MUNICIPAL DE URUARÁ
K2: DADOS
K3: MEMÓRIA | M3: =M12 -> 1.5
K4: BM: | M4: 5
B5: OBJETO | E5: PAVIMENTAÇÃO DE VIAS URBANAS NO MUNICÍPIO DE URUARÁ - PARÁ | K5: DATA BASE | M5: 45839
K6: DATA DA EMISSÃO | M6: 45884
K7: Referencia | M7: Mensal
B9: MEMORIA DE CALCULO
B10: CTEF: | E10: OGU MTUR 975474/2025
B11: UNIDADE: | E11: UNIDADE | K11: TITULO: | M11: =PLANILHA!C3 -> 1.1.
B12: TITULO: | E12: ADMINISTRAÇÃO DE OBRA | K12: ITEM: | M12: 1.5
B13: DESCRIÇÃO: | E13: =PLANILHA!F4 -> ADMINISTRAÇÃO LOCAL | K13: ITEM: | M13: 1.5.1
B14: MEDIDO: | E14: UNIDADE | F14: UNI | G14: OBJETO: ADEQUAÇÃO DE ESTRADAS VICINAIS
B16: FORMULAS E QUADRO DE CÁLCULOS
B17: ORDEM | C17: Item | D17: DESCRIÇÕES | H17: QUANTIDADES | M17: TOTAL
H18: DIAS | I18: MESES | J18: H/DIAS | M18: HORAS
B19: 1 | D19: ENGENHEIRO CIVIL DE OBRA PLENO COM ENCARGOS COMPLEMENTARES | H19: 10 | I19: 6 | J19: 2 | M19: =ROUND((H19*I19*J19),2) -> 120 | N19: 320
B20: 2 | D20: ENCARREGADO GERAL COM ENCARGOS COMPLEMENTARES | H20: 22 | I20: 6 | J20: 2 | M20: =ROUND((H20*I20*J20),2) -> 264 | N20: 672
B21: 3 | D21: TOPOGRAFO COM ENCARGOS COMPLEMENTARES | H21: 15 | I21: 6 | J21: 2 | M21: =ROUND((H21*I21*J21),2) -> 180 | N21: 400
B22: 4 | D22: AUXILIAR DE TOPÓGRAFO COM ENCARGOS COMPLEMENTARES | H22: 15 | I22: 6 | J22: 2 | M22: =ROUND((H22*I22*J22),2) -> 180 | N22: 400
M23: =ROUND(PRODUCT(I23:K23),2) -> 0
D25: A ADMINISTRAÇÃO É PAGA CONFORME O PERCENTUAL DE OBRA EXECUTADA. A EQUIPE DESCRITA REPRESENTA 1 UNIDADE ADMINISTRATIVA QUE DEVE SE REMUNERADA CONFORME AVANÇO FISICO DO EMPREENDIMENTO. | M25: 1
Q26: 1000000
Q28: =Q26*0.02 -> 20000
B32: TOTAL DA ATIVIDADE............................................................................................................................................................................. | M32: 0.2
B34: OBSERVAÇÕES: | H34: Total Executado no Mês | M34: =M32 -> 0.2
H35: Total Executado Anterior | M35: #N/A
H36: Total Executado Acumulado | M36: =M35+M34 -> #N/A
H37: Total Contratado | M37: #N/A
H38: Saldo Atual | M38: =IFERROR(IF(M36>M37,0,M37-M36),"")
H39: Saldo (TAC) | M39: =IF(M36>M37,M36-M37,0) -> #N/A
B40: _____________________________________________
B41: PREFEITURA MUNICIPAL DE URUARÁ
B42: DOUGLAS NASCIMENTO DOS SANTOS
B43: ENGENHEIRO CIVIL CREA/PA: 151536623-5

Sheet 1.6.1
B1: PREFEITURA MUNICIPAL DE URUARÁ
K2: DADOS
K3: MEMÓRIA | M3: =M12 -> 1.6
K4: BM: | M4: 5
B5: OBJETO | E5: ='1.4.1'!E5:J6 -> PAVIMENTAÇÃO DE VIAS URBANAS NO MUNICÍPIO DE URUARÁ - PARÁ | K5: DATA BASE | M5: 45839
K6: DATA DA EMISSÃO | M6: 45884
K7: Referencia | M7: Mensal
B9: MEMORIA DE CALCULO
B10: CTEF: | E10: ='1.4.1'!E10:M10 -> OGU MTUR 975474/2025
B11: UNIDADE: | E11: UNIDADE | K11: TITULO: | M11: =PLANILHA!C3 -> 1.1.
B12: TITULO: | E12: =PLANILHA!F19 -> SERVIÇOS PRELIMINARES | K12: ITEM: | M12: 1.6
B13: DESCRIÇÃO: | E13: =PLANILHA!F20 -> FORNECIMENTO E INSTALAÇÃO DE PLACA DE OBRA COM CHAPA GALVANIZADA E ESTRUTURA DE MADEIRA | K13: ITEM: | M13: 1.6.1
B14: MEDIDO: | E14: UNIDADE | F14: UNI | G14: OBJETO: ADEQUAÇÃO DE ESTRADAS VICINAIS
B16: ='1.4.1'!B16 -> FORMULAS E QUADRO DE CÁLCULOS
B17: Ordem | C17: Item | D17: Descrição | H17: QUANTIDADES | M17: TOTAL
H18: L (M) | I18: C (M) | J18: QUANT | M18: TOTAL (M²)
B19: 1 | D19: =E13 -> FORNECIMENTO E INSTALAÇÃO DE PLACA DE OBRA COM CHAPA GALVANIZADA E ESTRUTURA DE MADEIRA | H19: 2 | I19: 3 | J19: 1 | M19: =ROUND((H19*I19*J19),2) -> 6
B31: TOTAL DA ATIVIDADE............................................................................................................................................................................. | L31: UNIDADE | M31: =M19 -> 6
B33: OBSERVAÇÕES: | H33: Total Executado no Mês | M33: =M31 -> 6
H34: Total Executado Anterior | M34: #N/A
H35: Total Executado Acumulado | M35: =M34+M33 -> #N/A
H36: Total Contratado | M36: #N/A
H37: Saldo Atual | M37: =IFERROR(IF(M35>M36,0,M36-M35),"")
H38: Saldo (TAC) | M38: =IF(M35>M36,M35-M36,0) -> #N/A
B39: _____________________________________________
B40: PREFEITURA MUNICIPAL DE URUARÁ
B41: DOUGLAS NASCIMENTO DOS SANTOS
B42: ENGENHEIRO CIVIL CREA/PA: 151536623-5

Sheet 1.6.2
B1: PREFEITURA MUNICIPAL DE URUARÁ
K2: DADOS
K3: MEMÓRIA | M3: =M12 -> 1.6
K4: BM: | M4: 5
B5: OBJETO | E5: ='1.4.1'!E5:J6 -> PAVIMENTAÇÃO DE VIAS URBANAS NO MUNICÍPIO DE URUARÁ - PARÁ | K5: DATA BASE | M5: 45839
K6: DATA DA EMISSÃO | M6: 45884
K7: Referencia | M7: Mensal
B8: 4
B9: MEMORIA DE CALCULO
B10: CTEF: | E10: ='1.4.1'!E10:M10 -> OGU MTUR 975474/2025
B11: UNIDADE: | E11: UNIDADE | K11: TITULO: | M11: =PLANILHA!C3 -> 1.1.
B12: TITULO: | E12: =PLANILHA!F19 -> SERVIÇOS PRELIMINARES | K12: ITEM: | M12: 1.6
B13: DESCRIÇÃO: | E13: =O13 -> BARRACÃO DE MADEIRA/ALMOXARIFADO | K13: ITEM: | M13: 1.6.2 | O13: BARRACÃO DE MADEIRA/ALMOXARIFADO
B14: MEDIDO: | E14: UNIDADE | F14: UNI | G14: OBJETO: ADEQUAÇÃO DE ESTRADAS VICINAIS
B16: ='1.4.1'!B16 -> FORMULAS E QUADRO DE CÁLCULOS
B17: ORDEM | C17: Item | D17: DESCRIÇÃO | H17: QUANTIDADES | M17: TOTAL
H18: COMPRIMENTO (M) | I18: LARGURA (M) | M18: TOTAL (M2)
B19: 1 | D19: DIMENSÕES 3,00 X 5,00 M | H19: 5 | I19: 3 | M19: =H19*I19 -> 15
O21: =J19+K19 -> 0 | P21: =O21*2 -> 0 | Q21: =P21+I19 -> 3 | R21: =Q21*H19 -> 15
O24: =H20+H19 -> 5
L29: =L21+L20+L19 -> 0
B30: TOTAL DA ATIVIDADE............................................................................................................................................................................. | L30: UNIDADE | M30: =M21+M20+M19 -> 15
B32: OBSERVAÇÕES: | H32: Total Executado no Mês | M32: =M30 -> 15
H33: Total Executado Anterior | M33: #N/A
H34: Total Executado Acumulado | M34: =M33+M32 -> #N/A
H35: Total Contratado | M35: #N/A
H36: Saldo Atual | M36: =IFERROR(IF(M34>M35,0,M35-M34),"")
H37: Saldo (TAC) | M37: =IF(M34>M35,M34-M35,0) -> #N/A
B38: _____________________________________________
B39: PREFEITURA MUNICIPAL DE URUARÁ
B40: DOUGLAS NASCIMENTO DOS SANTOS
B41: ENGENHEIRO CIVIL CREA/PA: 151536623-5

Sheet 1.6.1....
B1: PREFEITURA MUNICIPAL DE RURÓPOLIS
K2: DADOS
K3: MEMÓRIA | M3: 1.6.
K4: BM: | M4: 5
B5: OBJETO | E5: ='1.4.1'!E5:J6 -> PAVIMENTAÇÃO DE VIAS URBANAS NO MUNICÍPIO DE URUARÁ - PARÁ | K5: DATA BASE | M5: 45231
K6: DATA DA EMISSÃO | M6: 45303
K7: Referencia | M7: Mensal
B9: MEMORIA DE CALCULO
B10: CTEF: | E10: ='1.4.1'!E10:M10 -> OGU MTUR 975474/2025
B11: UNIDADE: | E11: UNIDADE | K11: TITULO: | M11: =PLANILHA!C3 -> 1.1.
B12: TITULO: | E12: =PLANILHA!F22 -> PROJETO EXECUTIVO/AS BUILT | K12: ITEM: | M12: =M3 -> 1.6.
B13: DESCRIÇÃO: | E13: =PLANILHA!F23 -> PROJETO EXECUTIVO/AS BUILT | K13: ITEM: | M13: 1.6.1.
B14: MEDIDO: | E14: UNIDADE | F14: UNI | G14: OBJETO: ADEQUAÇÃO DE ESTRADAS VICINAIS
B16: ='1.4.1'!B16 -> FORMULAS E QUADRO DE CÁLCULOS
B17: Ordem | C17: Item | D17: Descrição | H17: Quantidades | M17: Total (UND)
H18: UNIDADE | I18: AREA (M2) | J18: EXT (KM)
B19: 1 | D19: PROJETO DE PAVIMENTAÇÃO | H19: KM | J19: 0.535 | M19: =J19 -> 0.535
B20: 2 | D20: PROJETO DE SINALIZAÇÃO VERTICAL E HORIZONTAL | H20: KM | J20: 0.535 | M20: =J20 -> 0.535
B21: 3 | D21: LEVANTAMENTO TOPOGRÁFICO PLANIMÉTRICO CADASTRAL | H21: M² | I21: ='1.6.2'!L29 -> 0 | M21: =I21 -> 0
B22: 4 | D22: PROJETO DE TERRAPLENAGEM E GEOMETRICO DE VIAS | H22: KM | J22: =J19 -> 0.535 | M22: =J22 -> 0.535
B23: 5 | D23: PROJETO DE DRENAGEM PLUVIAL | H23: KM | J23: =J20 -> 0.535 | M23: =ROUND(PRODUCT(I23:K23),2) -> 0.54
Q27: 15115.6 | R27: 15115.6
P28: 0.52 | Q28: 5318.58 | R28: 5318.58
P29: 0.52 | Q29: 5318.58 | R29: 5318.58
P30: 6330 | Q30: 0.34 | R30: 0.34
P31: 0.52 | Q31: 8973.9 | R31: 8973.9
P32: 0.52 | Q32: 5318.58 | R32: 5318.58
B42: TOTAL DA ATIVIDADE............................................................................................................................................................................. | M42: 1
B44: OBSERVAÇÕES: | H44: Total Executado no Mês | M44: =M42 -> 1
H45: Total Executado Anterior | M45: #N/A
H46: Total Executado Acumulado | M46: =M45+M44 -> #N/A
H47: Total Contratado | M47: #N/A
H48: Saldo Atual | M48: =IFERROR(IF(M46>M47,0,M47-M46),"")
H49: Saldo (TAC) | M49: =IF(M46>M47,M46-M47,0) -> #N/A
B50: _____________________________________________
B51: PREFEITURA MUNICIPAL DE RURÓPOLIS
B52: DOUGLAS NASCIMENTO DOS SANTOS
B53: ENGENHEIRO CIVIL CREA/PA: 151536623-5
R62: HE | S62: OUTRA | T62: outro 2
O63: 15115.6 | P63: 15115.6
M64: PROJETO DE PAVIMENTAÇÃO | N64: 0.52 | O64: 5318.58 | P64: 5318.58 | Q64: =N64*O64 -> 2765.6616 | R64: 4000 | S64: 3800 | T64: 3500
M65: PROJETO DE SINALIZAÇÃO VERTICAL E HORIZONTAL | N65: 0.52 | O65: 5318.58 | P65: 5318.58 | Q65: =N65*O65 -> 2765.6616 | R65: 1500 | S65: 2000 | T65: 1200
M66: LEVANTAMENTO TOPOGRÁFICO PLANIALTIMÉTRICO SEMI-CADASTRAL DE ÁREAS ATÉ 1 HECTARE | N66: 6330 | O66: 0.34 | P66: 0.34 | Q66: =N66*O66 -> 2152.2 | R66: 6000 | S66: 5000 | T66: 6000
M67: PROJETO DE TERRAPLENAGEM E GEOMÉTRICO DE VIAS | N67: 0.52 | O67: 8973.9 | P67: 8973.9 | Q67: =N67*O67 -> 4666.428 | R67: 3000 | S67: 3000 | T67: 2800
M68: PROJETO DE DRENAGEM PLUVIAL SIMPLES - (MICRO E MACRODRENAGEM) | N68: 0.52 | O68: 5318.58 | P68: 5318.58 | Q68: =N68*O68 -> 2765.6616 | R68: 1800 | S68: 2000 | T68: 1500
R69: =SUM(R64:R68) -> 16300 | S69: =SUM(S64:S68) -> 15800 | T69: =SUM(T64:T68) -> 15000

Sheet 1.7.1
B1: PREFEITURA MUNICIPAL DE URUARÁ
K2: DADOS
K3: MEMÓRIA | M3: 1.7
K4: BM: | M4: 5
B5: OBJETO | E5: ='1.4.1'!E5:J6 -> PAVIMENTAÇÃO DE VIAS URBANAS NO MUNICÍPIO DE URUARÁ - PARÁ | K5: DATA BASE | M5: 45839
K6: DATA DA EMISSÃO | M6: 45884
K7: Referencia | M7: Mensal
B9: MEMORIA DE CALCULO
B10: CTEF: | E10: ='1.4.1'!E10:M10 -> OGU MTUR 975474/2025
B11: UNIDADE: | E11: UNIDADE | K11: TITULO: | M11: =PLANILHA!C3 -> 1.1.
B12: TITULO: | E12: MOBILIZAÇÃO DE MAQUINÁRIO | K12: ITEM: | M12: =M3 -> 1.7
B13: DESCRIÇÃO: | E13: MOBILIZAÇÃO DE MAQUINÁRIO | K13: ITEM: | M13: 1.7.1
B14: MEDIDO: | E14: UNIDADE | F14: UNI | G14: OBJETO: ADEQUAÇÃO DE ESTRADAS VICINAIS
B16: ='1.4.1'!B16 -> FORMULAS E QUADRO DE CÁLCULOS
B17: Ordem | C17: Item | D17: Descrição | H17: QUANTIDADES | M17: TOTAL (UND)
H18: QUANT (M) | I18: MASSA (T) | J18: KM
B19: 1 | D19: MOTONIVELADORA POTÊNCIA BÁSICA LÍQUIDA (PRIMEIRA MARCHA) 125 HP, PESO BRUTO 13032 KG, LARGURA DA LÂMINA DE 3,7 M | H19: 1 | I19: 13.032 | J19: 189.5 | M19: =ROUND((H19*I19*J19),2) -> 2469.56
B20: 2 | D20: ROLO COMPACTADOR VIBRATÓRIO DE UM CILINDRO AÇO LISO, POTÊNCIA 80 HP, PESO OPERACIONAL MÁXIMO 8,1 T, IMPACTO DINÂMICO 16,15 / 9,5 T, LARGURA DE TRABALHO 1,68 M - CHI DIURNO. AF_06/2014 | H20: 1 | I20: 8.1 | J20: =189.5 -> 189.5 | M20: =ROUND((H20*I20*J20),2) -> 1534.95
B21: 3 | D21: PÁ CARREGADEIRA SOBRE RODAS, POTÊNCIA 197 HP, CAPACIDADE DA CAÇAMBA 2,5 A 3,5 M3, PESO OPERACIONAL 18338 KG | H21: 1 | I21: 18.338 | J21: 189.5 | M21: =ROUND((H21*I21*J21),2) -> 3475.05
B22: 4 | D22: ROLO COMPACTADOR PE DE CARNEIRO VIBRATORIO, POTENCIA 125 HP, PESO OPERACIONAL SEM/COM LASTRO 11,95 / 13,30 T, IMPACTO DINAMICO 38,5 / 22,5 T, LARGURA DE TRABALHO 2,15 M | H22: 1 | I22: 11.95 | J22: =J21 -> 189.5 | M22: =ROUND((H22*I22*J22),2) -> 2264.53
B23: 5 | D23: ROLO COMPACTADOR VIBRATÓRIO PÉ DE CARNEIRO PARA SOLOS, POTÊNCIA 80 HP, PESO OPERACIONAL SEM/COM LASTRO 7,4 / 8,8 T, LARGURA DE TRABALHO 1,68 M | H23: 1 | I23: 7.4 | J23: =J22 -> 189.5 | M23: =ROUND((H23*I23*J23),2) -> 1402.3
B24: 6 | D24: TRATOR DE PNEUS, POTÊNCIA 85 CV, TRAÇÃO 4X4, PESO COM LASTRO DE 4.675 KG | H24: 1 | I24: 4.675 | J24: =J23 -> 189.5 | M24: =ROUND((H24*I24*J24),2) -> 885.91
B25: 7 | D25: VIBROACABADORA DE ASFALTO SOBRE ESTEIRAS, LARGURA DE PAVIMENTAÇÃO 1,90M A 5,30 M, POTÊNCIA 105 HP CAPACIDADE 450 T/H | H25: 1 | I25: 12.6 | J25: =J24 -> 189.5 | M25: =ROUND((H25*I25*J25),2) -> 2387.7
B26: 8 | D26: ROLO COMPACTADOR VIBRATORIO TANDEM, ACO LISO, POTENCIA 125 HP, PESO SEM/COM LASTRO 10,20/11,65 T, LARGURA DE TRABALHO 1,73 M | H26: 1 | I26: 10.2 | J26: =J25 -> 189.5 | M26: =ROUND((H26*I26*J26),2) -> 1932.9
M27: =ROUND((SUM(M19:M26)),2) -> 16352.9
D37: DISTÂNCIA DO TRECHO PAVIMENTADO
B39: TOTAL DA ATIVIDADE............................................................................................................................................................................. | M39: =M27 -> 16352.9
B41: OBSERVAÇÕES: | H41: Total Executado no Mês | M41: =M39 -> 16352.9
H42: Total Executado Anterior | M42: #N/A
H43: Total Executado Acumulado | M43: =M42+M41 -> #N/A
H44: Total Contratado | M44: #N/A
H45: Saldo Atual | M45: =IFERROR(IF(M43>M44,0,M44-M43),"")
H46: Saldo (TAC) | M46: =IF(M43>M44,M43-M44,0) -> #N/A
B47: _____________________________________________
B48: PREFEITURA MUNICIPAL DE URUARÁ
B49: DOUGLAS NASCIMENTO DOS SANTOS
B50: ENGENHEIRO CIVIL CREA/PA: 151536623-5

Sheet 1.8.1
B1: PREFEITURA MUNICIPAL DE URUARÁ
K2: DADOS
K3: MEMÓRIA | M3: 1.8
K4: BM: | M4: 5
B5: OBJETO | E5: ='1.4.1'!E5:J6 -> PAVIMENTAÇÃO DE VIAS URBANAS NO MUNICÍPIO DE URUARÁ - PARÁ | K5: DATA BASE | M5: 45839
K6: DATA DA EMISSÃO | M6: 45884
K7: Referencia | M7: Mensal
B9: MEMORIA DE CALCULO
B10: CTEF: | E10: ='1.4.1'!E10:M10 -> OGU MTUR 975474/2025
B11: UNIDADE: | E11: UNIDADE | K11: TITULO: | M11: =PLANILHA!C3 -> 1.1.
B12: TITULO: | E12: DESMOBILIZAÇÃO DE MAQUINÁRIO | K12: ITEM: | M12: 1.8
B13: DESCRIÇÃO: | E13: DESMOBILIZAÇÃO DE MAQUINÁRIO | K13: ITEM: | M13: 1.8.1
B14: MEDIDO: | E14: UNIDADE | F14: UNI | G14: OBJETO: ADEQUAÇÃO DE ESTRADAS VICINAIS
B16: ='1.4.1'!B16 -> FORMULAS E QUADRO DE CÁLCULOS
B17: Ordem | C17: Item | D17: Descrição | H17: QUANTIDADES | M17: TOTAL (UND)
H18: QUANT (M) | I18: MASSA (T) | J18: KM
B19: 1 | D19: MOTONIVELADORA POTÊNCIA BÁSICA LÍQUIDA (PRIMEIRA MARCHA) 125 HP, PESO BRUTO 13032 KG, LARGURA DA LÂMINA DE 3,7 M | H19: 1 | I19: 13.032 | J19: ='1.7.1'!J19 -> 189.5 | M19: =ROUND((H19*I19*J19),2) -> 2469.56
B20: 2 | D20: ROLO COMPACTADOR VIBRATÓRIO DE UM CILINDRO AÇO LISO, POTÊNCIA 80 HP, PESO OPERACIONAL MÁXIMO 8,1 T, IMPACTO DINÂMICO 16,15 / 9,5 T, LARGURA DE TRABALHO 1,68 M - CHI DIURNO. AF_06/2014 | H20: 1 | I20: 8.1 | J20: =J19 -> 189.5 | M20: =ROUND((H20*I20*J20),2) -> 1534.95
B21: 3 | D21: PÁ CARREGADEIRA SOBRE RODAS, POTÊNCIA 197 HP, CAPACIDADE DA CAÇAMBA 2,5 A 3,5 M3, PESO OPERACIONAL 18338 KG | H21: 1 | I21: 18.338 | J21: =J20 -> 189.5 | M21: =ROUND((H21*I21*J21),2) -> 3475.05
B22: 4 | D22: ROLO COMPACTADOR PE DE CARNEIRO VIBRATORIO, POTENCIA 125 HP, PESO OPERACIONAL SEM/COM LASTRO 11,95 / 13,30 T, IMPACTO DINAMICO 38,5 / 22,5 T, LARGURA DE TRABALHO 2,15 M | H22: 1 | I22: 11.95 | J22: =J21 -> 189.5 | M22: =ROUND((H22*I22*J22),2) -> 2264.53
B23: 5 | D23: ROLO COMPACTADOR VIBRATÓRIO PÉ DE CARNEIRO PARA SOLOS, POTÊNCIA 80 HP, PESO OPERACIONAL SEM/COM LASTRO 7,4 / 8,8 T, LARGURA DE TRABALHO 1,68 M | H23: 1 | I23: 7.4 | J23: =J22 -> 189.5 | M23: =ROUND((H23*I23*J23),2) -> 1402.3
B24: 6 | D24: TRATOR DE PNEUS, POTÊNCIA 85 CV, TRAÇÃO 4X4, PESO COM LASTRO DE 4.675 KG | H24: 1 | I24: 4.675 | J24: =J23 -> 189.5 | M24: =ROUND((H24*I24*J24),2) -> 885.91
B25: 7 | D25: VIBROACABADORA DE ASFALTO SOBRE ESTEIRAS, LARGURA DE PAVIMENTAÇÃO 1,90M A 5,30 M, POTÊNCIA 105 HP CAPACIDADE 450 T/H | H25: 1 | I25: 12.6 | J25: =J23 -> 189.5 | M25: =ROUND((H25*I25*J25),2) -> 2387.7
B26: 8 | D26: ROLO COMPACTADOR VIBRATORIO TANDEM, ACO LISO, POTENCIA 125 HP, PESO SEM/COM LASTRO 10,20/11,65 T, LARGURA DE TRABALHO 1,73 M | H26: 1 | I26: 10.2 | J26: =J24 -> 189.5 | M26: =ROUND((H26*I26*J26),2) -> 1932.9
M27: =ROUND((SUM(M19:M26)),2) -> 16352.9
D37: DISTÂNCIA DO TRECHO PAVIMENTADO
B39: TOTAL DA ATIVIDADE............................................................................................................................................................................. | M39: =M27 -> 16352.9
B41: OBSERVAÇÕES: | H41: Total Executado no Mês | M41: =M39 -> 16352.9
H42: Total Executado Anterior | M42: #N/A
H43: Total Executado Acumulado | M43: =M42+M41 -> #N/A
H44: Total Contratado | M44: #N/A
H45: Saldo Atual | M45: =IFERROR(IF(M43>M44,0,M44-M43),"")
H46: Saldo (TAC) | M46: =IF(M43>M44,M43-M44,0) -> #N/A
B47: _____________________________________________
B48: PREFEITURA MUNICIPAL DE URUARÁ
B49: DOUGLAS NASCIMENTO DOS SANTOS
B50: ENGENHEIRO CIVIL CREA/PA: 151536623-5

Sheet 1.9.1
B1: PREFEITURA MUNICIPAL DE URUARÁ
K2: DADOS
K3: MEMÓRIA | M3: 1.9
K4: BM: | M4: 5
B5: OBJETO | E5: ='1.4.1'!E5:J6 -> PAVIMENTAÇÃO DE VIAS URBANAS NO MUNICÍPIO DE URUARÁ - PARÁ | K5: DATA BASE | M5: 45839
K6: DATA DA EMISSÃO | M6: 45884
K7: Referencia | M7: Mensal
B9: MEMORIA DE CALCULO
B10: CTEF: | E10: ='1.4.1'!E10:M10 -> OGU MTUR 975474/2025
B11: UNIDADE: | E11: UNIDADE | K11: TITULO: | M11: =PLANILHA!C3 -> 1.1.
B12: TITULO: | E12: REGULARIZAÇÃO DE SUBLEITO | K12: ITEM: | M12: =M3 -> 1.9
B13: DESCRIÇÃO: | E13: =PLANILHA!F29 -> LIMPEZA MECANIZADA DE CAMADA VEGETAL, VEGETAÇÃO E PEQUENAS ÁRVORES (DIÂMETRO DE TRONCO MENOR QUE 0,20 M), COM TRATOR DE ESTEIRAS.AF_05/2018 | K13: ITEM: | M13: 1.9.1
B14: MEDIDO: | E14: UNIDADE | F14: UNI | G14: OBJETO: ADEQUAÇÃO DE ESTRADAS VICINAIS
B16: ='1.4.1'!B16 -> FORMULAS E QUADRO DE CÁLCULOS
B17: ORDEM | C17: Item | D17: DESCRIÇÃO | H17: QUANTIDADES | M17: TOTAL
H18: VIA (M) | I18: MFC (M) | J18: MFC (M) | K18: C (M) | L18: ESP (M) | M18: ÁREA (M2)
B19: 1 | D19: LARGURA DE LIMPEZA (M) (VIA+MFC (BORDO ESQUERDO)+MFC (BORDO DIREITO))*EXTENSAO (M) | H19: 8 | I19: 0.45 | J19: 0.45 | K19: 737.4 | L19: 0.05 | M19: =ROUND(((H19+I19+J19)*(K19)),2) -> 6562.86 | P19: ESTACAS
B20: 2 | D20: 18 UNIDADES DE ACESSOS - LARGURA DE LIMPEZA (M) (VIA+MFC (BORDO ESQUERDO)+MFC (BORDO DIREITO))*EXTENSAO (M) | H20: 6 | I20: 0.45 | J20: 0.45 | K20: =18*5 -> 90 | L20: 0.05 | M20: =ROUND(((H20+I20+J20)*(K20)),2) -> 621 | P20: 37 | Q20: 13.69 | S20: =P20*20 -> 740
S21: =S20-2.6 -> 737.4
N23: =M33*0.05 -> 359.193
G29: VOLUME DE ESCAVAÇÃO (M3) | H29: =(M19*L19)+(L20*M20) -> 359.193
M30: =ROUND((H30*I30*J30),2) -> 0
M31: =ROUND((H31*I31*J31),2) -> 0
M32: =ROUND((H32*I32*J32),2) -> 0
B33: TOTAL DA ATIVIDADE............................................................................................................................................................................. | M33: =ROUND((SUM(M19:M32)),2) -> 7183.86
B35: OBSERVAÇÕES: | H35: Total Executado no Mês | M35: =M33 -> 7183.86
H36: Total Executado Anterior | M36: #N/A
H37: Total Executado Acumulado | M37: =M36+M35 -> #N/A
H38: Total Contratado | M38: #N/A
H39: Saldo Atual | M39: =IFERROR(IF(M37>M38,0,M38-M37),"")
H40: Saldo (TAC) | M40: =IF(M37>M38,M37-M38,0) -> #N/A
B41: _____________________________________________
B42: PREFEITURA MUNICIPAL DE URUARÁ
B43: DOUGLAS NASCIMENTO DOS SANTOS
B44: ENGENHEIRO CIVIL CREA/PA: 151536623-5

Sheet 1.9.2
B1: PREFEITURA MUNICIPAL DE URUARÁ
K2: DADOS
K3: MEMÓRIA | M3: 1.9
K4: BM: | M4: 5
B5: OBJETO | E5: ='1.4.1'!E5:J6 -> PAVIMENTAÇÃO DE VIAS URBANAS NO MUNICÍPIO DE URUARÁ - PARÁ | K5: DATA BASE | M5: 45839
K6: DATA DA EMISSÃO | M6: 45884
K7: Referencia | M7: Mensal
B9: MEMORIA DE CALCULO
B10: CTEF: | E10: ='1.4.1'!E10:M10 -> OGU MTUR 975474/2025
B11: UNIDADE: | E11: UNIDADE | K11: TITULO: | M11: =PLANILHA!C3 -> 1.1.
B12: TITULO: | E12: REGULARIZAÇÃO DE SUBLEITO | K12: ITEM: | M12: 1.9
B13: DESCRIÇÃO: | E13: CARGA, MANOBRA E DESCARGA DE ENTULHO EM CAMINHÃO BASCULANTE 18 M³ - CARGA COM ESCAVADEIRA HIDRÁULICA (CAÇAMBA DE 0,80 M³ / 111 HP) E DESCARGA LIVRE (UNIDADE: M3). AF_07/2020 | K13: ITEM: | M13: 1.9.2 | O13: CARGA, MANOBRA E DESCARGA DE ENTULHO EM CAMINHÃO BASCULANTE 14 M³ - CARGA COM ESCAVADEIRA HIDRÁULICA (CAÇAMBA DE 0,80 M³ / 111 HP) E DESCARGA LIVRE (UNIDADE: M3). AF_07/2020
B14: MEDIDO: | E14: UNIDADE | F14: UNI | G14: OBJETO: ADEQUAÇÃO DE ESTRADAS VICINAIS
B16: ='1.4.1'!B16 -> FORMULAS E QUADRO DE CÁLCULOS
B17: Ordem | C17: Item | D17: Descrição | H17: QUANTIDADES | M17: TOTAL (M3)
H18: AREA (M2) | I18: ESP (M) | J18: EMP (%)
B19: 1 | D19: CARGA E DESCARGA DO ENTULHO GERADO PELA LIMPEZA | H19: ='1.9.1'!M33 -> 7183.86 | I19: 0.05 | J19: 1.25 | M19: =ROUND((H19*I19*J19),2) -> 448.99
B33: TOTAL DA ATIVIDADE............................................................................................................................................................................. | M33: =SUM(M19:M32) -> 448.99
B35: OBSERVAÇÕES: | H35: Total Executado no Mês | M35: =M33 -> 448.99
H36: Total Executado Anterior | M36: #N/A
H37: Total Executado Acumulado | M37: =M36+M35 -> #N/A
H38: Total Contratado | M38: #N/A
H39: Saldo Atual | M39: =IFERROR(IF(M37>M38,0,M38-M37),"")
H40: Saldo (TAC) | M40: =IF(M37>M38,M37-M38,0) -> #N/A
B41: _____________________________________________
B42: PREFEITURA MUNICIPAL DE URUARÁ
B43: DOUGLAS NASCIMENTO DOS SANTOS
B44: ENGENHEIRO CIVIL CREA/PA: 151536623-5

Sheet 1.9.3
B1: PREFEITURA MUNICIPAL DE URUARÁ
K2: DADOS
K3: MEMÓRIA | M3: 1.9
K4: BM: | M4: 5
B5: OBJETO | E5: ='1.4.1'!E5:J6 -> PAVIMENTAÇÃO DE VIAS URBANAS NO MUNICÍPIO DE URUARÁ - PARÁ | K5: DATA BASE | M5: 45839
K6: DATA DA EMISSÃO | M6: 45884
K7: Referencia | M7: Mensal
B9: MEMORIA DE CALCULO
B10: CTEF: | E10: ='1.4.1'!E10:M10 -> OGU MTUR 975474/2025
B11: UNIDADE: | E11: UNIDADE | K11: TITULO: | M11: =PLANILHA!C3 -> 1.1.
B12: TITULO: | E12: REGULARIZAÇÃO DE SUBLEITO | K12: ITEM: | M12: 1.9
B13: DESCRIÇÃO: | E13: TRANSPORTE COM CAMINHÃO BASCULANTE DE 18 M³, EM VIA URBANA EM REVESTIMENTO PRIMÁRIO (UNIDADE: M3XKM). AF_07/2020 | K13: ITEM: | M13: 1.9.3
B14: MEDIDO: | E14: UNIDADE | F14: UNI | G14: OBJETO: ADEQUAÇÃO DE ESTRADAS VICINAIS
B16: ='1.4.1'!B16 -> FORMULAS E QUADRO DE CÁLCULOS
B17: Ordem | C17: Item | D17: Descrição | H17: QUANTIDADES | M17: TOTAL (M³XKM)
H18: AREA (M2) | I18: ESP (M) | J18: EMP (%) | K18: DMT (KM)
B19: 1 | D19: TRANSPORTE DO ENTULHO GERADO PELA LIMPEZA | H19: ='1.9.2'!H19 -> 7183.86 | I19: 0.05 | J19: 1.25 | K19: 7.7 | M19: =ROUND((H19*I19*J19*K19),2) -> 3457.23
M30: =ROUND((H30*I30*J30),2) -> 0
M31: =ROUND((H31*I31*J31),2) -> 0
M32: =ROUND((H32*I32*J32),2) -> 0
B33: TOTAL DA ATIVIDADE............................................................................................................................................................................. | M33: =SUM(M19:M32) -> 3457.23
B35: OBSERVAÇÕES: | H35: Total Executado no Mês | M35: =M33 -> 3457.23
H36: Total Executado Anterior | M36: #N/A
H37: Total Executado Acumulado | M37: =M36+M35 -> #N/A
H38: Total Contratado | M38: #N/A
H39: Saldo Atual | M39: =IFERROR(IF(M37>M38,0,M38-M37),"")
H40: Saldo (TAC) | M40: =IF(M37>M38,M37-M38,0) -> #N/A
B41: _____________________________________________
B42: PREFEITURA MUNICIPAL DE URUARÁ
B43: DOUGLAS NASCIMENTO DOS SANTOS
B44: ENGENHEIRO CIVIL CREA/PA: 151536623-5

Sheet 1.9.4
B1: PREFEITURA MUNICIPAL DE URUARÁ
K2: DADOS
K3: MEMÓRIA | M3: 1.9
K4: BM: | M4: 5
B5: OBJETO | E5: ='1.4.1'!E5:J6 -> PAVIMENTAÇÃO DE VIAS URBANAS NO MUNICÍPIO DE URUARÁ - PARÁ | K5: DATA BASE | M5: 45839
K6: DATA DA EMISSÃO | M6: 45884
K7: Referencia | M7: Mensal
B9: MEMORIA DE CALCULO
B10: CTEF: | E10: ='1.4.1'!E10:M10 -> OGU MTUR 975474/2025
B11: UNIDADE: | E11: UNIDADE | K11: TITULO: | M11: =PLANILHA!C3 -> 1.1.
B12: TITULO: | E12: REGULARIZAÇÃO DE SUBLEITO | K12: ITEM: | M12: 1.9
B13: DESCRIÇÃO: | E13: ESCAVAÇÃO HORIZONTAL EM SOLO DE 1A CATEGORIA COM TRATOR DE ESTEIRAS (100HP/LÂMINA: 2,19M3). AF_07/2020 | K13: ITEM: | M13: 1.9.4
B14: MEDIDO: | E14: UNIDADE | F14: UNI | G14: OBJETO: ADEQUAÇÃO DE ESTRADAS VICINAIS
B16: ='1.4.1'!B16 -> FORMULAS E QUADRO DE CÁLCULOS
B17: Ordem | C17: Item | D17: Descrição | H17: QUANTIDADES | M17: TOTAL (M³)
H18: AREA (M2) | I18: SUBBASE (M) | J18: BASE (M) | K18: CBUQ (M)
B19: 1 | D19: ESCAVAÇÃO PARA IMPLANTAÇÃO DA VIA - ((AREA DE LIMPEZA (M))x (ESPESSURA DA SUBBASE (M) +ESPESSURA DA BASE (M)+ESPESSURA DO PAVIMENTO (M)) | H19: ='1.9.3'!H19 -> 7183.86 | I19: 0.15 | J19: 0.1 | K19: 0.035 | M19: =ROUND(((H19)*(I19+J19+K19)),2) -> 2047.4 | O19: =I19+J19+K19 -> 0.285
O20: =O19*H19 -> 2047.4001
M30: =ROUND((H30*I30*J30),2) -> 0
M31: =ROUND((H31*I31*J31),2) -> 0
M32: =ROUND((H32*I32*J32),2) -> 0
B33: TOTAL DA ATIVIDADE............................................................................................................................................................................. | M33: =SUM(M19:M32) -> 2047.4
B35: OBSERVAÇÕES: | H35: Total Executado no Mês | M35: =M33 -> 2047.4
H36: Total Executado Anterior | M36: #N/A
H37: Total Executado Acumulado | M37: =M36+M35 -> #N/A
H38: Total Contratado | M38: #N/A
H39: Saldo Atual | M39: =IFERROR(IF(M37>M38,0,M38-M37),"")
H40: Saldo (TAC) | M40: =IF(M37>M38,M37-M38,0) -> #N/A
B41: _____________________________________________
B42: PREFEITURA MUNICIPAL DE URUARÁ
B43: DOUGLAS NASCIMENTO DOS SANTOS
B44: ENGENHEIRO CIVIL CREA/PA: 151536623-5

Sheet 1.9.5
B1: PREFEITURA MUNICIPAL DE URUARÁ
K2: DADOS
K3: MEMÓRIA | M3: 1.9
K4: BM: | M4: 5
B5: OBJETO | E5: ='1.4.1'!E5:J6 -> PAVIMENTAÇÃO DE VIAS URBANAS NO MUNICÍPIO DE URUARÁ - PARÁ | K5: DATA BASE | M5: 45839
K6: DATA DA EMISSÃO | M6: 45884
K7: Referencia | M7: Mensal
B9: MEMORIA DE CALCULO
B10: CTEF: | E10: ='1.4.1'!E10:M10 -> OGU MTUR 975474/2025
B11: UNIDADE: | E11: UNIDADE | K11: TITULO: | M11: =PLANILHA!C3 -> 1.1.
B12: TITULO: | E12: REGULARIZAÇÃO DE SUBLEITO | K12: ITEM: | M12: 1.9
B13: DESCRIÇÃO: | E13: CARGA, MANOBRA E DESCARGA DE SOLOS E MATERIAIS GRANULARES EM CAMINHÃO BASCULANTE 18 M³ - CARGA COM ESCAVADEIRA HIDRÁULICA (CAÇAMBA DE 1,20 M³ / 155 HP) E DESCARGA LIVRE (UNIDADE: M3). AF_07/2020 | K13: ITEM: | M13: 1.9.5
B14: MEDIDO: | E14: UNIDADE | F14: UNI | G14: OBJETO: ADEQUAÇÃO DE ESTRADAS VICINAIS
B16: ='1.4.1'!B16 -> FORMULAS E QUADRO DE CÁLCULOS
B17: Ordem | C17: Item | D17: Descrição | H17: QUANTIDADES | M17: TOTAL (M3)
H18: AREA (M2) | I18: SUBBASE (M) | J18: BASE (M) | K18: CBUQ (M) | L18: EMP (%)
B19: 1 | D19: ESCAVAÇÃO PARA IMPLANTAÇÃO DA VIA - ((AREA DE LIMPEZA (M))x (ESPESSURA DA SUBBASE (M) +ESPESSURA DA BASE (M)+ESPESSURA DO PAVIMENTO (M))* (EMPOLAMENTO (%)) | H19: ='1.9.4'!H19 -> 7183.86 | I19: ='1.9.4'!I19 -> 0.15 | J19: ='1.9.4'!J19 -> 0.1 | K19: ='1.9.4'!K19 -> 0.035 | L19: 1.25 | M19: =ROUND((((H19)*(I19+J19+K19))*L19),2) -> 2559.25 | O19: =I19+J19+K19 -> 0.285
O20: =O19*H19 -> 2047.4001
P22: =O20*1.25 -> 2559.2501
M30: =ROUND((H30*I30*J30),2) -> 0
M31: =ROUND((H31*I31*J31),2) -> 0
M32: =ROUND((H32*I32*J32),2) -> 0
B33: TOTAL DA ATIVIDADE............................................................................................................................................................................. | M33: =SUM(M19:M32) -> 2559.25
B35: OBSERVAÇÕES: | H35: Total Executado no Mês | M35: =M33 -> 2559.25
H36: Total Executado Anterior | M36: #N/A
H37: Total Executado Acumulado | M37: =M36+M35 -> #N/A
H38: Total Contratado | M38: #N/A
H39: Saldo Atual | M39: =IFERROR(IF(M37>M38,0,M38-M37),"")
H40: Saldo (TAC) | M40: =IF(M37>M38,M37-M38,0) -> #N/A
B41: _____________________________________________
B42: PREFEITURA MUNICIPAL DE URUARÁ
B43: DOUGLAS NASCIMENTO DOS SANTOS
B44: ENGENHEIRO CIVIL CREA/PA: 151536623-5

Sheet 1.9.6
B1: PREFEITURA MUNICIPAL DE URUARÁ
K2: DADOS
K3: MEMÓRIA | M3: 1.9
K4: BM: | M4: 5
B5: OBJETO | E5: ='1.4.1'!E5:J6 -> PAVIMENTAÇÃO DE VIAS URBANAS NO MUNICÍPIO DE URUARÁ - PARÁ | K5: DATA BASE | M5: 45839
K6: DATA DA EMISSÃO | M6: 45884
K7: Referencia | M7: Mensal
B9: MEMORIA DE CALCULO
B10: CTEF: | E10: ='1.4.1'!E10:M10 -> OGU MTUR 975474/2025
B11: UNIDADE: | E11: UNIDADE | K11: TITULO: | M11: =PLANILHA!C3 -> 1.1.
B12: TITULO: | E12: REGULARIZAÇÃO DE SUBLEITO | K12: ITEM: | M12: 1.9
B13: DESCRIÇÃO: | E13: TRANSPORTE COM CAMINHÃO BASCULANTE DE 18 M³, EM VIA URBANA EM REVESTIMENTO PRIMÁRIO (UNIDADE: M3XKM). AF_07/2020 | K13: ITEM: | M13: 1.9.6
B14: MEDIDO: | E14: UNIDADE | F14: UNI | G14: OBJETO: ADEQUAÇÃO DE ESTRADAS VICINAIS
B16: ='1.4.1'!B16 -> FORMULAS E QUADRO DE CÁLCULOS
B17: Ordem | C17: Item | D17: Descrição | H17: Quantidades | M17: Total (M3XKM)
H18: VOLUME (M3) | I18: DMT (KM)
B19: 1 | D19: VOLUME DO MATERIAL ESCAVADO (M3) x DMT (KM) | H19: ='1.9.5'!M19 -> 2559.25 | I19: 7.7 | M19: =H19*I19 -> 19706.225
M30: =ROUND((H30*I30*J30),2) -> 0
M31: =ROUND((H31*I31*J31),2) -> 0
M32: =ROUND((H32*I32*J32),2) -> 0
B33: TOTAL DA ATIVIDADE............................................................................................................................................................................. | M33: =SUM(M19:M32) -> 19706.225
B35: OBSERVAÇÕES: | H35: Total Executado no Mês | M35: =M33 -> 19706.225
H36: Total Executado Anterior | M36: #N/A
H37: Total Executado Acumulado | M37: =M36+M35 -> #N/A
H38: Total Contratado | M38: #N/A
H39: Saldo Atual | M39: =IFERROR(IF(M37>M38,0,M38-M37),"")
H40: Saldo (TAC) | M40: =IF(M37>M38,M37-M38,0) -> #N/A
B41: _____________________________________________
B42: PREFEITURA MUNICIPAL DE URUARÁ
B43: DOUGLAS NASCIMENTO DOS SANTOS
B44: ENGENHEIRO CIVIL CREA/PA: 151536623-5

Sheet 1.9.7
B1: PREFEITURA MUNICIPAL DE URUARÁ
K2: DADOS
K3: MEMÓRIA | M3: 1.9
K4: BM: | M4: 5
B5: OBJETO | E5: ='1.4.1'!E5:J6 -> PAVIMENTAÇÃO DE VIAS URBANAS NO MUNICÍPIO DE URUARÁ - PARÁ | K5: DATA BASE | M5: 45839
K6: DATA DA EMISSÃO | M6: 45884
K7: Referencia | M7: Mensal
B9: MEMORIA DE CALCULO
B10: CTEF: | E10: ='1.4.1'!E10:M10 -> OGU MTUR 975474/2025
B11: UNIDADE: | E11: UNIDADE | K11: TITULO: | M11: =PLANILHA!C3 -> 1.1.
B12: TITULO: | E12: REGULARIZAÇÃO DE SUBLEITO | K12: ITEM: | M12: 1.9
B13: DESCRIÇÃO: | E13: REGULARIZAÇÃO E COMPACTAÇÃO DE SUBLEITO DE SOLO PREDOMINANTEMENTE ARENOSO, PARA OBRAS DE CONSTRUÇÃO DE PAVIMENTOS. AF_09/2024. | K13: ITEM: | M13: 1.9.7
B14: MEDIDO: | E14: UNIDADE | F14: UNI | G14: OBJETO: ADEQUAÇÃO DE ESTRADAS VICINAIS
B16: ='1.4.1'!B16 -> FORMULAS E QUADRO DE CÁLCULOS
B17: Ordem | C17: Item | D17: Descrição | H17: QUANTIDADES | M17: TOTAL (M²)
H18: VIA (M) | I18: MFC (M) | J18: MFC (M) | K18: C (M)
B19: 1 | D19: LARGURA DE LIMPEZA (M) (VIA+MF (BORDO ESQUERDO)+MF (BORDO DIREITO))*EXTENSAO (M) | H19: ='1.9.1'!H19 -> 8 | I19: 0.45 | J19: 0.45 | K19: ='1.9.1'!K19 -> 737.4 | M19: =ROUND(((H19+I19+J19)*(K19)),2) -> 6562.86
B20: 2 | D20: 18 UNIDADES DE ACESSOS - LARGURA DE LIMPEZA (M) (VIA+MFC (BORDO ESQUERDO)+MFC (BORDO DIREITO))*EXTENSAO (M) | H20: 6 | I20: 0.45 | J20: 0.45 | K20: ='1.9.1'!K20 -> 90 | M20: =ROUND(((H20+I20+J20)*(K20)),2) -> 621
M30: =ROUND((H30*I30*J30),2) -> 0
M31: =ROUND((H31*I31*J31),2) -> 0
M32: =ROUND((H32*I32*J32),2) -> 0
B33: TOTAL DA ATIVIDADE............................................................................................................................................................................. | M33: =SUM(M19:M32) -> 7183.86
B35: OBSERVAÇÕES: | H35: Total Executado no Mês | M35: =M33 -> 7183.86
H36: Total Executado Anterior | M36: #N/A
H37: Total Executado Acumulado | M37: =M36+M35 -> #N/A
H38: Total Contratado | M38: #N/A
H39: Saldo Atual | M39: =IFERROR(IF(M37>M38,0,M38-M37),"")
H40: Saldo (TAC) | M40: =IF(M37>M38,M37-M38,0) -> #N/A
B41: _____________________________________________
B42: PREFEITURA MUNICIPAL DE URUARÁ
B43: DOUGLAS NASCIMENTO DOS SANTOS
B44: ENGENHEIRO CIVIL CREA/PA: 151536623-5

Sheet 1.13.5.
B1: PREFEITURA MUNICIPAL DE URUARÁ
K2: DADOS
K3: MEMÓRIA | M3: =M12 -> 1.13.
K4: BM: | M4: 5
B5: OBJETO | E5: ='1.4.1'!E5:J6 -> PAVIMENTAÇÃO DE VIAS URBANAS NO MUNICÍPIO DE URUARÁ - PARÁ | K5: Período: | M5: 44958
K6: Data Emissão: | M6: 45103
K7: Referencia | M7: Mensal
B9: MEMORIA DE CALCULO
B10: CTEF: | E10: ='1.4.1'!E10:M10 -> OGU MTUR 975474/2025
B11: UNIDADE: | E11: UNIDADE | K11: TITULO: | M11: =PLANILHA!C3 -> 1.1.
B12: TITULO: | E12: =PLANILHA!F28 -> REGULARIZAÇÃO E SUBLEITO (TRECHO I, II E II) | K12: ITEM: | M12: =PLANILHA!C28 -> 1.13.
B13: DESCRIÇÃO: | E13: =PLANILHA!F33 -> CARGA, MANOBRA E DESCARGA DE SOLOS E MATERIAIS GRANULARES EM CAMINHÃO BASCULANTE 10 M³ - CARGA COM PÁ CARREGADEIRA (CAÇAMBA DE 1,7 A 2,8 M³ / 128 HP) E DESCARGA LIVRE (UNIDADE: M3). AF_07/2020 | K13: ITEM: | M13: =PLANILHA!C33 -> 1.13.5.
B14: MEDIDO: | E14: UNIDADE | F14: UNI | G14: OBJETO: ADEQUAÇÃO DE ESTRADAS VICINAIS
B16: ='1.4.1'!B16 -> FORMULAS E QUADRO DE CÁLCULOS
B17: Ordem | C17: Item | D17: Descrição | H17: Quantidades | M17: Total
H18: V (M³) | I18: f (%) | M18: VOLUME (M²)
B19: 1 | D19: VOLUME DE ATERRO (M³)*FATOR DE EMPOLAMENTO (%) | H19: 104.92 | I19: 1.25 | M19: =ROUND((H19*I19),2) -> 131.15
B33: TOTAL DA ATIVIDADE............................................................................................................................................................................. | L33: UNIDADE | M33: =SUM(M19:M32) -> 131.15
B35: OBSERVAÇÕES: | H35: Total Executado no Mês | M35: =M33 -> 131.15
H36: Total Executado Anterior | M36: #N/A
H37: Total Executado Acumulado | M37: =M36+M35 -> #N/A
H38: Total Contratado | M38: #N/A
H39: Saldo Atual | M39: =IFERROR(IF(M37>M38,0,M38-M37),"")
H40: Saldo (TAC) | M40: =IF(M37>M38,M37-M38,0) -> #N/A
B41: _____________________________________________
B42: PREFEITURA MUNICIPAL DE URUARÁ
B43: DOUGLAS NASCIMENTO DOS SANTOS
B44: ENGENHEIRO CIVIL CREA/PA: 151536623-5

Sheet 1.10.1
B1: PREFEITURA MUNICIPAL DE URUARÁ
K2: DADOS
K3: MEMÓRIA | M3: 1.10
K4: BM: | M4: 5
B5: OBJETO | E5: ='1.4.1'!E5:J6 -> PAVIMENTAÇÃO DE VIAS URBANAS NO MUNICÍPIO DE URUARÁ - PARÁ | K5: DATA BASE | M5: 45839
K6: DATA DA EMISSÃO | M6: 45884
K7: Referencia | M7: Mensal
B9: MEMORIA DE CALCULO
B10: CTEF: | E10: ='1.4.1'!E10:M10 -> OGU MTUR 975474/2025
B11: UNIDADE: | E11: UNIDADE | K11: TITULO: | M11: =PLANILHA!C3 -> 1.1.
B12: TITULO: | E12: EXECUÇÃO DA SUBBASE | K12: ITEM: | M12: 1.10
B13: DESCRIÇÃO: | E13: ESCAVAÇÃO MECÂNICA COM RETROESCAVADEIRA EM MATERIAL DE 1ª CATEGORIA | K13: ITEM: | M13: 1.10.1 | O13: ESCAVAÇÃO MECÂNICA COM RETROESCAVADEIRA EM MATERIAL DE 1ª CATEGORIA
B14: MEDIDO: | E14: UNIDADE | F14: UNI | G14: OBJETO: ADEQUAÇÃO DE ESTRADAS VICINAIS
B16: ='1.4.1'!B16 -> FORMULAS E QUADRO DE CÁLCULOS
B17: ORDEM | C17: Item | D17: DESCRIÇÃO | H17: QUANTIDADES | M17: TOTAL (M3)
H18: L (M) | I18: MF (M) | J18: MF (M) | K18: EXT (M) | L18: ESP (M)
B19: 1 | D19: LARGURA (M) (VIA+MFC (BORDO ESQUERDO)+MFC (BORDO DIREITO))*EXTENSAO*ESPESSURA (M) | H19: ='1.9.7'!H19 -> 8 | I19: 0.45 | J19: 0.45 | K19: ='1.9.7'!K19 -> 737.4 | L19: 0.1 | M19: =ROUND(((H19+I19+J19)*(K19*L19)),2) -> 656.29
B20: 2 | D20: 18 UNIDADES DE ACESSOS - LARGURA DE LIMPEZA (M) (VIA+MFC (BORDO ESQUERDO)+MFC (BORDO DIREITO))*EXTENSAO (M) | H20: 6 | I20: 0.45 | J20: 0.45 | K20: ='1.9.7'!K20 -> 90 | L20: 0.1 | M20: =ROUND(((H20+I20+J20)*(K20*L20)),2) -> 62.1
B33: TOTAL DA ATIVIDADE............................................................................................................................................................................. | M33: =SUM(M19:M32) -> 718.39
B35: OBSERVAÇÕES: | H35: Total Executado no Mês | M35: =M33 -> 718.39
H36: Total Executado Anterior | M36: #N/A
H37: Total Executado Acumulado | M37: =M36+M35 -> #N/A
H38: Total Contratado | M38: #N/A
H39: Saldo Atual | M39: =IFERROR(IF(M37>M38,0,M38-M37),"")
H40: Saldo (TAC) | M40: =IF(M37>M38,M37-M38,0) -> #N/A
B41: _____________________________________________
B42: PREFEITURA MUNICIPAL DE URUARÁ
B43: DOUGLAS NASCIMENTO DOS SANTOS
B44: ENGENHEIRO CIVIL CREA/PA: 151536623-5

Sheet 1.10.2
B1: PREFEITURA MUNICIPAL DE URUARÁ
K2: DADOS
K3: MEMÓRIA | M3: 1.10
K4: BM: | M4: 5
B5: OBJETO | E5: ='1.4.1'!E5:J6 -> PAVIMENTAÇÃO DE VIAS URBANAS NO MUNICÍPIO DE URUARÁ - PARÁ | K5: DATA BASE | M5: 45839
K6: DATA DA EMISSÃO | M6: 45884
K7: Referencia | M7: Mensal
B9: MEMORIA DE CALCULO
B10: CTEF: | E10: ='1.4.1'!E10:M10 -> OGU MTUR 975474/2025
B11: UNIDADE: | E11: UNIDADE | K11: TITULO: | M11: =PLANILHA!C3 -> 1.1.
B12: TITULO: | E12: EXECUÇÃO DA SUBBASE | K12: ITEM: | M12: 1.10
B13: DESCRIÇÃO: | E13: CARGA, MANOBRA E DESCARGA DE SOLOS E MATERIAIS GRANULARES EM CAMINHÃO BASCULANTE 18 M³ - CARGA COM ESCAVADEIRA HIDRÁULICA (CAÇAMBA DE 1,20 M³ / 155 HP) E DESCARGA LIVRE (UNIDADE: M3). AF_07/2020 | K13: ITEM: | M13: 1.10.2 | O13: CARGA, MANOBRA E DESCARGA DE SOLOS E MATERIAIS GRANULARES EM CAMINHÃO BASCULANTE 14 M³ - CARGA COM ESCAVADEIRA HIDRÁULICA (CAÇAMBA DE 1,20 M³ / 155 HP) E DESCARGA LIVRE (UNIDADE: M3). AF_07/2020
B14: MEDIDO: | E14: UNIDADE | F14: UNI | G14: OBJETO: ADEQUAÇÃO DE ESTRADAS VICINAIS
B16: ='1.4.1'!B16 -> FORMULAS E QUADRO DE CÁLCULOS
B17: Ordem | C17: Item | D17: Descrição | H17: QUANTIDADES | M17: TOTAL (M³)
H18: V (M3) | I18: f (%)
B19: 1 | D19: VOLUME DE ATERRO (M³)*FATOR DE EMPOLAMENTO (%) | H19: ='1.10.1'!M33 -> 718.39 | I19: 1.25 | M19: =ROUND(((H19*I19)),2) -> 897.99
B33: TOTAL DA ATIVIDADE............................................................................................................................................................................. | L33: UNIDADE | M33: =SUM(M19:M32) -> 897.99
B35: OBSERVAÇÕES: | H35: Total Executado no Mês | M35: =M33 -> 897.99
H36: Total Executado Anterior | M36: #N/A
H37: Total Executado Acumulado | M37: =M36+M35 -> #N/A
H38: Total Contratado | M38: #N/A
H39: Saldo Atual | M39: =IFERROR(IF(M37>M38,0,M38-M37),"")
H40: Saldo (TAC) | M40: =IF(M37>M38,M37-M38,0) -> #N/A
B41: _____________________________________________
B42: PREFEITURA MUNICIPAL DE URUARÁ
B43: DOUGLAS NASCIMENTO DOS SANTOS
B44: ENGENHEIRO CIVIL CREA/PA: 151536623-5

Sheet 1.10.3
B1: PREFEITURA MUNICIPAL DE URUARÁ
K2: DADOS
K3: MEMÓRIA | M3: 1.10
K4: BM: | M4: 5
B5: OBJETO | E5: ='1.4.1'!E5:J6 -> PAVIMENTAÇÃO DE VIAS URBANAS NO MUNICÍPIO DE URUARÁ - PARÁ | K5: DATA BASE | M5: 45839
K6: DATA DA EMISSÃO | M6: 45884
K7: Referencia | M7: Mensal
B9: MEMORIA DE CALCULO
B10: CTEF: | E10: ='1.4.1'!E10:M10 -> OGU MTUR 975474/2025
B11: UNIDADE: | E11: UNIDADE | K11: TITULO: | M11: =PLANILHA!C3 -> 1.1.
B12: TITULO: | E12: EXECUÇÃO DA SUBBASE | K12: ITEM: | M12: 1.10
B13: DESCRIÇÃO: | E13: TRANSPORTE COM CAMINHÃO BASCULANTE DE 18 M³, EM VIA URBANA EM REVESTIMENTO PRIMÁRIO (UNIDADE: M3XKM). AF_07/2020 | K13: ITEM: | M13: 1.10.3 | O13: TRANSPORTE COM CAMINHÃO BASCULANTE DE 14 M³, EM VIA URBANA EM REVESTIMENTO PRIMÁRIO (UNIDADE: M3XKM). AF_07/2020
B14: MEDIDO: | E14: UNIDADE | F14: UNI | G14: OBJETO: ADEQUAÇÃO DE ESTRADAS VICINAIS
B16: ='1.4.1'!B16 -> FORMULAS E QUADRO DE CÁLCULOS
B17: Ordem | C17: Item | D17: Descrição | H17: QUANTIDADES | M17: TOTAL (M³XKM)
H18: V (M³) | I18: f (%) | J18: DMT (KM)
B19: 1 | D19: VOLUME (M³) * EMPOLAMENTO (%) * DMT (KM) | H19: ='1.10.2'!H19 -> 718.39 | I19: 1.25 | J19: 12.15 | M19: =ROUND((H19*I19*J19),2) -> 10910.55
B36: TOTAL DA ATIVIDADE............................................................................................................................................................................. | L36: UNIDADE | M36: =SUM(M19:M35) -> 10910.55
B38: OBSERVAÇÕES: | H38: Total Executado no Mês | M38: =M36 -> 10910.55
H39: Total Executado Anterior | M39: #N/A
H40: Total Executado Acumulado | M40: =M39+M38 -> #N/A
H41: Total Contratado | M41: #N/A
H42: Saldo Atual | M42: =IFERROR(IF(M40>M41,0,M41-M40),"")
H43: Saldo (TAC) | M43: =IF(M40>M41,M40-M41,0) -> #N/A
B44: _____________________________________________
B45: PREFEITURA MUNICIPAL DE URUARÁ
B46: DOUGLAS NASCIMENTO DOS SANTOS
B47: ENGENHEIRO CIVIL CREA/PA: 151536623-5

Sheet 1.10.4.
B1: PREFEITURA MUNICIPAL DE URUARÁ
K2: DADOS
K3: MEMÓRIA | M3: 1.10
K4: BM: | M4: 5
B5: OBJETO | E5: ='1.4.1'!E5:J6 -> PAVIMENTAÇÃO DE VIAS URBANAS NO MUNICÍPIO DE URUARÁ - PARÁ | K5: DATA BASE | M5: 45839
K6: DATA DA EMISSÃO | M6: 45884
K7: Referencia | M7: Mensal
B9: MEMORIA DE CALCULO
B10: CTEF: | E10: ='1.4.1'!E10:M10 -> OGU MTUR 975474/2025
B11: UNIDADE: | E11: UNIDADE | K11: TITULO: | M11: =PLANILHA!C3 -> 1.1.
B12: TITULO: | E12: EXECUÇÃO DA SUBBASE | K12: ITEM: | M12: 1.10
B13: DESCRIÇÃO: | E13: AREIA PARA ATERRO - POSTO JAZIDA/FORNECEDOR (RETIRADO NA JAZIDA, SEM TRANSPORTE) | K13: ITEM: | M13: 1.10.4 | O13: AREIA PARA ATERRO - POSTO JAZIDA/FORNECEDOR (RETIRADO NA JAZIDA, SEM TRANSPORTE)
B14: MEDIDO: | E14: UNIDADE | F14: UNI | G14: OBJETO: ADEQUAÇÃO DE ESTRADAS VICINAIS
B16: ='1.4.1'!B16 -> FORMULAS E QUADRO DE CÁLCULOS
B17: Ordem | C17: Item | D17: Descrição | H17: QUANTIDADES | M17: TOTAL (M³)
H18: VIA (M) | I18: MFC (M) | J18: MFC (M) | K18: C (M) | L18: ESP (M)
B19: 1 | D19: LARGURA (M) (VIA+MFC (BORDO ESQUERDO)+MFC (BORDO DIREITO))*EXTENSAO*ESPESSURA (M) | H19: ='1.10.1'!H19 -> 8 | I19: 0.45 | J19: 0.45 | K19: ='1.10.1'!K19 -> 737.4 | L19: 0.1 | M19: =ROUND(((H19+I19+J19)*(K19*L19)),2) -> 656.29
B20: 2 | D20: 18 UNIDADES DE ACESSOS - LARGURA DE LIMPEZA (M) (VIA+MFC (BORDO ESQUERDO)+MFC (BORDO DIREITO))*EXTENSAO (M) | H20: ='1.10.1'!H20 -> 6 | I20: ='1.10.1'!I20 -> 0.45 | J20: ='1.10.1'!J20 -> 0.45 | K20: ='1.10.1'!K20 -> 90 | L20: ='1.10.1'!L20 -> 0.1 | M20: =ROUND(((H20+I20+J20)*(K20*L20)),2) -> 62.1
B33: TOTAL DA ATIVIDADE............................................................................................................................................................................. | L33: UNIDADE | M33: =SUM(M19:M32) -> 718.39
B35: OBSERVAÇÕES: | H35: Total Executado no Mês | M35: =M33 -> 718.39
H36: Total Executado Anterior | M36: #N/A
H37: Total Executado Acumulado | M37: =M36+M35 -> #N/A
H38: Total Contratado | M38: #N/A
H39: Saldo Atual | M39: =IFERROR(IF(M37>M38,0,M38-M37),"")
H40: Saldo (TAC) | M40: =IF(M37>M38,M37-M38,0) -> #N/A
B41: _____________________________________________
B42: PREFEITURA MUNICIPAL DE URUARÁ
B43: DOUGLAS NASCIMENTO DOS SANTOS
B44: ENGENHEIRO CIVIL CREA/PA: 151536623-5

Sheet 1.10.4
B1: PREFEITURA MUNICIPAL DE URUARÁ
K2: DADOS
K3: MEMÓRIA | M3: 1.10
K4: BM: | M4: 5
B5: OBJETO | E5: ='1.4.1'!E5:J6 -> PAVIMENTAÇÃO DE VIAS URBANAS NO MUNICÍPIO DE URUARÁ - PARÁ | K5: DATA BASE | M5: 45839
K6: DATA DA EMISSÃO | M6: 45884
K7: Referencia | M7: Mensal
B9: MEMORIA DE CALCULO
B10: CTEF: | E10: ='1.4.1'!E10:M10 -> OGU MTUR 975474/2025
B11: UNIDADE: | E11: UNIDADE | K11: TITULO: | M11: =PLANILHA!C3 -> 1.1.
B12: TITULO: | E12: EXECUÇÃO DA SUBBASE | K12: ITEM: | M12: 1.10
B13: DESCRIÇÃO: | E13: CONSTRUÇÃO DE BASE E SUB-BASE PARA PAVIMENTAÇÃO DE SOLO DE COMPORTAMENTO LATERÍTICO (ARENOSO), COM ESPESSURA DE 15 CM - EXCLUSIVE ESCAVAÇÃO, CARGA E TRANSPORTE E SOLO. AF_09/2024 | K13: ITEM: | M13: 1.10.4 | O13: CONSTRUÇÃO DE BASE E SUB-BASE PARA PAVIMENTAÇÃO DE SOLO DE COMPORTAMENTO LATERÍTICO (ARENOSO), COM ESPESSURA DE 15 CM - EXCLUSIVE ESCAVAÇÃO, CARGA E TRANSPORTE E SOLO. AF_09/2024
B14: MEDIDO: | E14: UNIDADE | F14: UNI | G14: OBJETO: ADEQUAÇÃO DE ESTRADAS VICINAIS
B16: ='1.4.1'!B16 -> FORMULAS E QUADRO DE CÁLCULOS
B17: Ordem | C17: Item | D17: Descrição | H17: QUANTIDADES | M17: TOTAL
H18: VIA (M) | I18: MFC (M) | J18: MFC (M) | K18: C (M) | L18: ESP (M) | M18: TOTAL (M³)
B19: 1 | D19: LARGURA (M) (VIA+MFC (BORDO ESQUERDO)+MFC (BORDO DIREITO))*EXTENSAO*ESPESSURA (M) | H19: ='1.10.4.'!H19 -> 8 | I19: 0.45 | J19: 0.45 | K19: ='1.10.4.'!K19 -> 737.4 | L19: ='1.10.4.'!L19 -> 0.1 | M19: =ROUND(((H19+I19+J19)*(K19*L19)),2) -> 656.29
B20: 2 | D20: 18 UNIDADES DE ACESSOS - LARGURA DE LIMPEZA (M) (VIA+MFC (BORDO ESQUERDO)+MFC (BORDO DIREITO))*EXTENSAO (M) | H20: ='1.10.4.'!H20 -> 6 | I20: ='1.10.4.'!I20 -> 0.45 | J20: ='1.10.4.'!J20 -> 0.45 | K20: ='1.10.4.'!K20 -> 90 | L20: ='1.10.4.'!L20 -> 0.1 | M20: =ROUND(((H20+I20+J20)*(K20*L20)),2) -> 62.1
B33: TOTAL DA ATIVIDADE............................................................................................................................................................................. | L33: UNIDADE | M33: =SUM(M19:M32) -> 718.39
B35: OBSERVAÇÕES: | H35: Total Executado no Mês | M35: =M33 -> 718.39
H36: Total Executado Anterior | M36: #N/A
H37: Total Executado Acumulado | M37: =M36+M35 -> #N/A
H38: Total Contratado | M38: #N/A
H39: Saldo Atual | M39: =IFERROR(IF(M37>M38,0,M38-M37),"")
H40: Saldo (TAC) | M40: =IF(M37>M38,M37-M38,0) -> #N/A
B41: _____________________________________________
B42: PREFEITURA MUNICIPAL DE URUARÁ
B43: DOUGLAS NASCIMENTO DOS SANTOS
B44: ENGENHEIRO CIVIL CREA/PA: 151536623-5

Sheet 1.11.1
B1: PREFEITURA MUNICIPAL DE URUARÁ
K2: DADOS
K3: MEMÓRIA | M3: 1.11
K4: BM: | M4: 5
B5: OBJETO | E5: ='1.4.1'!E5:J6 -> PAVIMENTAÇÃO DE VIAS URBANAS NO MUNICÍPIO DE URUARÁ - PARÁ | K5: DATA BASE | M5: 45839
K6: DATA DA EMISSÃO | M6: 45884
K7: Referencia | M7: Mensal
B9: MEMORIA DE CALCULO
B10: CTEF: | E10: ='1.4.1'!E10:M10 -> OGU MTUR 975474/2025
B11: UNIDADE: | E11: UNIDADE | K11: TITULO: | M11: =PLANILHA!C3 -> 1.1.
B12: TITULO: | E12: EXECUÇÃO DA BASE | K12: ITEM: | M12: 1.11
B13: DESCRIÇÃO: | E13: ESCAVAÇÃO MECÂNICA COM RETROESCAVADEIRA EM MATERIAL DE 1ª CATEGORIA | K13: ITEM: | M13: 1.11.1 | O13: ESCAVAÇÃO MECÂNICA COM RETROESCAVADEIRA EM MATERIAL DE 1ª CATEGORIA
B14: MEDIDO: | E14: UNIDADE | F14: UNI | G14: OBJETO: ADEQUAÇÃO DE ESTRADAS VICINAIS
B16: ='1.4.1'!B16 -> FORMULAS E QUADRO DE CÁLCULOS
B17: Ordem | C17: Item | D17: Descrição | H17: QUANTIDADES | M17: TOTAL (M³)
H18: C (M) | I18: L (M) | J18: ESP (M)
B19: 1 | D19: COMPRIMENTO DA VIA (M) * LARGURA (M) * ESPESSURA DA CAMADA (M) | H19: ='1.10.4'!K19 -> 737.4 | I19: 8 | J19: 0.1 | M19: =ROUND((H19*I19*J19),2) -> 589.92
B20: 2 | D20: 18 UNIDADES DE ACESSOS - LARGURA DE LIMPEZA (M) (VIA+MFC (BORDO ESQUERDO)+MFC (BORDO DIREITO))*EXTENSAO (M) | H20: ='1.10.4'!K20 -> 90 | I20: ='1.10.4'!H20 -> 6 | J20: =J19 -> 0.1 | M20: =ROUND((H20*I20*J20),2) -> 54
B33: TOTAL DA ATIVIDADE............................................................................................................................................................................. | M33: =SUM(M19:M32) -> 643.92
B35: OBSERVAÇÕES: | H35: Total Executado no Mês | M35: =M33 -> 643.92
H36: Total Executado Anterior | M36: #N/A
H37: Total Executado Acumulado | M37: =M36+M35 -> #N/A
H38: Total Contratado | M38: #N/A
H39: Saldo Atual | M39: =IFERROR(IF(M37>M38,0,M38-M37),"")
H40: Saldo (TAC) | M40: =IF(M37>M38,M37-M38,0) -> #N/A
B41: _____________________________________________
B42: PREFEITURA MUNICIPAL DE URUARÁ
B43: DOUGLAS NASCIMENTO DOS SANTOS
B44: ENGENHEIRO CIVIL CREA/PA: 151536623-5

Sheet 1.11.2
B1: PREFEITURA MUNICIPAL DE URUARÁ
K2: DADOS
K3: MEMÓRIA | M3: 1.11
K4: BM: | M4: 5
B5: OBJETO | E5: ='1.4.1'!E5:J6 -> PAVIMENTAÇÃO DE VIAS URBANAS NO MUNICÍPIO DE URUARÁ - PARÁ | K5: DATA BASE | M5: 45839
K6: DATA DA EMISSÃO | M6: 45884
K7: Referencia | M7: Mensal
B9: MEMORIA DE CALCULO
B10: CTEF: | E10: ='1.4.1'!E10:M10 -> OGU MTUR 975474/2025
B11: UNIDADE: | E11: UNIDADE | K11: TITULO: | M11: =PLANILHA!C3 -> 1.1.
B12: TITULO: | E12: EXECUÇÃO DA BASE | K12: ITEM: | M12: 1.11
B13: DESCRIÇÃO: | E13: CARGA, MANOBRA E DESCARGA DE SOLOS E MATERIAIS GRANULARES EM CAMINHÃO BASCULANTE 18 M³ - CARGA COM ESCAVADEIRA HIDRÁULICA (CAÇAMBA DE 1,20 M³ / 155 HP) E DESCARGA LIVRE (UNIDADE: M3). AF_07/2020 | K13: ITEM: | M13: 1.11.2 | O13: CARGA, MANOBRA E DESCARGA DE SOLOS E MATERIAIS GRANULARES EM CAMINHÃO BASCULANTE 14 M³ - CARGA COM ESCAVADEIRA HIDRÁULICA (CAÇAMBA DE 1,20 M³ / 155 HP) E DESCARGA LIVRE (UNIDADE: M3). AF_07/2020
B14: MEDIDO: | E14: UNIDADE | F14: UNI | G14: OBJETO: ADEQUAÇÃO DE ESTRADAS VICINAIS
B16: ='1.4.1'!B16 -> FORMULAS E QUADRO DE CÁLCULOS
B17: Ordem | C17: Item | D17: Descrição | H17: QUANTIDADES | M17: TOTAL (M³)
H18: V (M³) | I18: f (%)
B19: 1 | D19: VOLUME DE ATERRO (M³)*FATOR DE EMPOLAMENTO (%) | H19: ='1.11.1'!M33 -> 643.92 | I19: 1.25 | M19: =ROUND((H19*I19),2) -> 804.9
B33: TOTAL DA ATIVIDADE............................................................................................................................................................................. | M33: =SUM(M19:M32) -> 804.9
B35: OBSERVAÇÕES: | H35: Total Executado no Mês | M35: =M33 -> 804.9
H36: Total Executado Anterior | M36: #N/A
H37: Total Executado Acumulado | M37: =M36+M35 -> #N/A
H38: Total Contratado | M38: #N/A
H39: Saldo Atual | M39: =IFERROR(IF(M37>M38,0,M38-M37),"")
H40: Saldo (TAC) | M40: =IF(M37>M38,M37-M38,0) -> #N/A
B41: _____________________________________________
B42: PREFEITURA MUNICIPAL DE URUARÁ
B43: DOUGLAS NASCIMENTO DOS SANTOS
B44: ENGENHEIRO CIVIL CREA/PA: 151536623-5

Sheet 1.11.3
B1: PREFEITURA MUNICIPAL DE URUARÁ
K2: DADOS
K3: MEMÓRIA | M3: 1.11
K4: BM: | M4: 5
B5: OBJETO | E5: ='1.4.1'!E5:J6 -> PAVIMENTAÇÃO DE VIAS URBANAS NO MUNICÍPIO DE URUARÁ - PARÁ | K5: DATA BASE | M5: 45839
K6: DATA DA EMISSÃO | M6: 45884
K7: Referencia | M7: Mensal
B9: MEMORIA DE CALCULO
B10: CTEF: | E10: ='1.4.1'!E10:M10 -> OGU MTUR 975474/2025
B11: UNIDADE: | E11: UNIDADE | K11: TITULO: | M11: =PLANILHA!C3 -> 1.1.
B12: TITULO: | E12: EXECUÇÃO DA BASE | K12: ITEM: | M12: 1.11
B13: DESCRIÇÃO: | E13: TRANSPORTE COM CAMINHÃO BASCULANTE DE 18 M³, EM VIA URBANA EM REVESTIMENTO PRIMÁRIO (UNIDADE: M3XKM). AF_07/2020 | K13: ITEM: | M13: 1.11.3 | O13: TRANSPORTE COM CAMINHÃO BASCULANTE DE 14 M³, EM VIA URBANA EM REVESTIMENTO PRIMÁRIO (UNIDADE: M3XKM). AF_07/2020
B14: MEDIDO: | E14: UNIDADE | F14: UNI | G14: OBJETO: ADEQUAÇÃO DE ESTRADAS VICINAIS
B16: ='1.4.1'!B16 -> FORMULAS E QUADRO DE CÁLCULOS
B17: Ordem | C17: Item | D17: Descrição | H17: QUANTIDADES | M17: TOTAL (M³XKM)
H18: V (M³) | I18: f (%) | J18: DMT (KM)
B19: 1 | D19: VOLUME (M³) * EMPOLAMENTO (%) * DMT (KM) | H19: ='1.11.2'!H19 -> 643.92 | I19: 1.25 | J19: 12.15 | M19: =ROUND((H19*I19*J19),2) -> 9779.54
B36: TOTAL DA ATIVIDADE............................................................................................................................................................................. | M36: =SUM(M19:M35) -> 9779.54
B38: OBSERVAÇÕES: | H38: Total Executado no Mês | M38: =M36 -> 9779.54
H39: Total Executado Anterior | M39: #N/A
H40: Total Executado Acumulado | M40: =M39+M38 -> #N/A
H41: Total Contratado | M41: #N/A
H42: Saldo Atual | M42: =IFERROR(IF(M40>M41,0,M41-M40),"")
H43: Saldo (TAC) | M43: =IF(M40>M41,M40-M41,0) -> #N/A
B44: _____________________________________________
B45: PREFEITURA MUNICIPAL DE URUARÁ
B46: DOUGLAS NASCIMENTO DOS SANTOS
B47: ENGENHEIRO CIVIL CREA/PA: 151536623-5

Sheet 1.11.4.
B1: PREFEITURA MUNICIPAL DE URUARÁ
K2: DADOS
K3: MEMÓRIA | M3: 1.11
K4: BM: | M4: 5
B5: OBJETO | E5: ='1.4.1'!E5:J6 -> PAVIMENTAÇÃO DE VIAS URBANAS NO MUNICÍPIO DE URUARÁ - PARÁ | K5: DATA BASE | M5: 45839
K6: DATA DA EMISSÃO | M6: 45884
K7: Referencia | M7: Mensal
B9: MEMORIA DE CALCULO
B10: CTEF: | E10: ='1.4.1'!E10:M10 -> OGU MTUR 975474/2025
B11: UNIDADE: | E11: UNIDADE | K11: TITULO: | M11: =PLANILHA!C3 -> 1.1.
B12: TITULO: | E12: EXECUÇÃO DA BASE | K12: ITEM: | M12: 1.11
B13: DESCRIÇÃO: | E13: AREIA PARA ATERRO - POSTO JAZIDA/FORNECEDOR (RETIRADO NA JAZIDA, SEM TRANSPORTE) | K13: ITEM: | M13: 1.11.4 | P13: AREIA PARA ATERRO - POSTO JAZIDA/FORNECEDOR (RETIRADO NA JAZIDA, SEM TRANSPORTE)
B14: MEDIDO: | E14: UNIDADE | F14: UNI | G14: OBJETO: ADEQUAÇÃO DE ESTRADAS VICINAIS
B16: ='1.4.1'!B16 -> FORMULAS E QUADRO DE CÁLCULOS
B17: Ordem | C17: Item | D17: Descrição | H17: QUANTIDADES | M17: TOTAL (M³)
H18: C (M) | I18: L (M) | J18: ESP (M)
B19: 1 | D19: COMPRIMENTO DA VIA (M) * LARGURA (M) * ESPESSURA DA CAMADA (M) | H19: ='1.11.1'!H19 -> 737.4 | I19: 8 | J19: 0.1 | M19: =ROUND((H19*I19*J19),2) -> 589.92
B20: 2 | D20: 18 UNIDADES DE ACESSOS - LARGURA DE LIMPEZA (M) (VIA+MFC (BORDO ESQUERDO)+MFC (BORDO DIREITO))*EXTENSAO (M) | H20: ='1.10.4.'!K20 -> 90 | I20: ='1.10.4.'!H20 -> 6 | J20: =J19 -> 0.1 | M20: =ROUND((H20*I20*J20),2) -> 54
B33: TOTAL DA ATIVIDADE............................................................................................................................................................................. | L33: UNIDADE | M33: =SUM(M19:M32) -> 643.92
B35: OBSERVAÇÕES: | H35: Total Executado no Mês | M35: =M33 -> 643.92
H36: Total Executado Anterior | M36: #N/A
H37: Total Executado Acumulado | M37: =M36+M35 -> #N/A
H38: Total Contratado | M38: #N/A
H39: Saldo Atual | M39: =IFERROR(IF(M37>M38,0,M38-M37),"")
H40: Saldo (TAC) | M40: =IF(M37>M38,M37-M38,0) -> #N/A
B41: _____________________________________________
B42: PREFEITURA MUNICIPAL DE URUARÁ
B43: DOUGLAS NASCIMENTO DOS SANTOS
B44: ENGENHEIRO CIVIL CREA/PA: 151536623-5

Sheet 1.11.4
B1: PREFEITURA MUNICIPAL DE URUARÁ
K2: DADOS
K3: MEMÓRIA | M3: 1.11
K4: BM: | M4: 5
B5: OBJETO | E5: ='1.4.1'!E5:J6 -> PAVIMENTAÇÃO DE VIAS URBANAS NO MUNICÍPIO DE URUARÁ - PARÁ | K5: DATA BASE | M5: 45839
K6: DATA DA EMISSÃO | M6: 45884
K7: Referencia | M7: Mensal
B9: MEMORIA DE CALCULO
B10: CTEF: | E10: ='1.4.1'!E10:M10 -> OGU MTUR 975474/2025
B11: UNIDADE: | E11: UNIDADE | K11: TITULO: | M11: =PLANILHA!C3 -> 1.1.
B12: TITULO: | E12: EXECUÇÃO DA BASE | K12: ITEM: | M12: 1.11
B13: DESCRIÇÃO: | E13: CONSTRUÇÃO DE BASE E SUB-BASE PARA PAVIMENTAÇÃO DE SOLO DE COMPORTAMENTO LATERÍTICO (ARENOSO), COM ESPESSURA DE 15 CM - EXCLUSIVE ESCAVAÇÃO, CARGA E TRANSPORTE E SOLO. AF_09/2024 | K13: ITEM: | M13: 1.11.4 | P13: CONSTRUÇÃO DE BASE E SUB-BASE PARA PAVIMENTAÇÃO DE SOLO DE COMPORTAMENTO LATERÍTICO (ARENOSO), COM ESPESSURA DE 15 CM - EXCLUSIVE ESCAVAÇÃO, CARGA E TRANSPORTE E SOLO. AF_09/2024
B14: MEDIDO: | E14: UNIDADE | F14: UNI | G14: OBJETO: ADEQUAÇÃO DE ESTRADAS VICINAIS
B16: ='1.4.1'!B16 -> FORMULAS E QUADRO DE CÁLCULOS
B17: Ordem | C17: Item | D17: Descrição | H17: QUANTIDADES | M17: TOTAL (M³)
H18: C (M) | I18: L (M) | J18: ESP (M)
B19: 1 | D19: COMPRIMENTO DA VIA (M) * LARGURA (M) * ESPESSURA DA CAMADA (M) | H19: ='1.11.4.'!H19 -> 737.4 | I19: ='1.11.4.'!I19 -> 8 | J19: 0.1 | M19: =ROUND((H19*I19*J19),2) -> 589.92
B20: 2 | D20: 18 UNIDADES DE ACESSOS - LARGURA DE LIMPEZA (M) (VIA+MFC (BORDO ESQUERDO)+MFC (BORDO DIREITO))*EXTENSAO (M) | H20: ='1.10.4.'!K20 -> 90 | I20: ='1.10.4.'!H20 -> 6 | J20: =J19 -> 0.1 | M20: =ROUND((H20*I20*J20),2) -> 54
B33: TOTAL DA ATIVIDADE............................................................................................................................................................................. | L33: UNIDADE | M33: =SUM(M19:M32) -> 643.92
B35: OBSERVAÇÕES: | H35: Total Executado no Mês | M35: =M33 -> 643.92
H36: Total Executado Anterior | M36: #N/A
H37: Total Executado Acumulado | M37: =M36+M35 -> #N/A
H38: Total Contratado | M38: #N/A
H39: Saldo Atual | M39: =IFERROR(IF(M37>M38,0,M38-M37),"")
H40: Saldo (TAC) | M40: =IF(M37>M38,M37-M38,0) -> #N/A
B41: _____________________________________________
B42: PREFEITURA MUNICIPAL DE URUARÁ
B43: DOUGLAS NASCIMENTO DOS SANTOS
B44: ENGENHEIRO CIVIL CREA/PA: 151536623-5

Sheet 1.12.1
B1: PREFEITURA MUNICIPAL DE URUARÁ
K2: DADOS
K3: MEMÓRIA | M3: 1.12
K4: BM: | M4: 5
B5: OBJETO | E5: ='1.4.1'!E5:J6 -> PAVIMENTAÇÃO DE VIAS URBANAS NO MUNICÍPIO DE URUARÁ - PARÁ | K5: DATA BASE | M5: 45839
K6: DATA DA EMISSÃO | M6: 45884
K7: Referencia | M7: Mensal
B9: MEMORIA DE CALCULO
B10: CTEF: | E10: ='1.4.1'!E10:M10 -> OGU MTUR 975474/2025
B11: UNIDADE: | E11: UNIDADE | K11: TITULO: | M11: =PLANILHA!C3 -> 1.1.
B12: TITULO: | E12: PAVIMENTAÇÃO ASFÁLTICA TRECHO I | K12: ITEM: | M12: 1.12
B13: DESCRIÇÃO: | E13: =PLANILHA!F91 -> EXECUÇÃO DE IMPRIMAÇÃO COM ASFALTO DILUÍDO CM-30 | K13: ITEM: | M13: 1.12.1 | O13: 65.92 | P13: =32.96*0.2 -> 6.592
B14: MEDIDO: | E14: UNIDADE | F14: UNI | G14: OBJETO: ADEQUAÇÃO DE ESTRADAS VICINAIS
P15: =O13+P13 -> 72.512 | R15: =11.78*1.2 -> 14.136
B16: ='1.4.1'!B16 -> FORMULAS E QUADRO DE CÁLCULOS
B17: Ordem | C17: Item | D17: Descrição | H17: QUANTIDADES | M17: TOTAL (M²) | Q17: =11.78*2 -> 23.56
H18: C (M) | I18: L (M) | R18: =Q17+R15 -> 37.696
B19: 1 | D19: EXTENSÃO TOTAL (M) * LARGURA DE SERVIÇO (M) | H19: 350 | I19: ='1.11.4'!I19 -> 8 | M19: =ROUND((H19*I19),2) -> 2800 | R19: =R18*2 -> 75.392
B20: 2 | D20: 18 UNIDADES DE ACESSOS - LARGURA DE LIMPEZA (M) (VIA+MFC (BORDO ESQUERDO)+MFC (BORDO DIREITO))*EXTENSAO (M) | H20: =12*5 -> 60 | I20: ='1.11.4'!I20 -> 6 | M20: =ROUND((H20*I20),2) -> 360
O21: =340*7 -> 2380
O22: =195*7 -> 1365
O23: =O22+O21 -> 3745
O28: =I19+0.9+2.4 -> 11.3 | P28: =H19*O28 -> 3955
B33: TOTAL DA ATIVIDADE............................................................................................................................................................................. | M33: =SUM(M19:M32) -> 3160
B35: OBSERVAÇÕES: | H35: Total Executado no Mês | M35: =M33 -> 3160
H36: Total Executado Anterior | M36: #N/A
H37: Total Executado Acumulado | M37: =M36+M35 -> #N/A
H38: Total Contratado | M38: #N/A
H39: Saldo Atual | M39: =IFERROR(IF(M37>M38,0,M38-M37),"")
H40: Saldo (TAC) | M40: =IF(M37>M38,M37-M38,0) -> #N/A
B41: _____________________________________________
B42: PREFEITURA MUNICIPAL DE URUARÁ
B43: DOUGLAS NASCIMENTO DOS SANTOS
B44: ENGENHEIRO CIVIL CREA/PA: 151536623-5

Sheet 1.12.2
B1: PREFEITURA MUNICIPAL DE URUARÁ
K2: DADOS
K3: MEMÓRIA | M3: 1.12
K4: BM: | M4: 5
B5: OBJETO | E5: ='1.4.1'!E5:J6 -> PAVIMENTAÇÃO DE VIAS URBANAS NO MUNICÍPIO DE URUARÁ - PARÁ | K5: DATA BASE | M5: 45839
K6: DATA DA EMISSÃO | M6: 45884
K7: Referencia | M7: Mensal
B9: MEMORIA DE CALCULO
B10: CTEF: | E10: ='1.4.1'!E10:M10 -> OGU MTUR 975474/2025
B11: UNIDADE: | E11: UNIDADE | K11: TITULO: | M11: =PLANILHA!C3 -> 1.1.
B12: TITULO: | E12: PAVIMENTAÇÃO ASFÁLTICA TRECHO I | K12: ITEM: | M12: 1.12
B13: DESCRIÇÃO: | E13: =PLANILHA!F92 -> EXECUÇÃO DE PINTURA DE LIGAÇÃO COM EMULSÃO ASFÁLTICA RR-2C | K13: ITEM: | M13: 1.12.2 | O13: EXECUÇÃO DE PINTURA DE LIGAÇÃO COM EMULSÃO ASFÁLTICA RR-2C
B14: MEDIDO: | E14: UNIDADE | F14: UNI | G14: OBJETO: ADEQUAÇÃO DE ESTRADAS VICINAIS
B16: ='1.4.1'!B16 -> FORMULAS E QUADRO DE CÁLCULOS
B17: Ordem | C17: Item | D17: Descrição | H17: QUANTIDADES | M17: TOTAL (M²)
H18: C (M) | I18: L (M)
B19: 1 | D19: EXTENSÃO TOTAL (M) * LARGURA DE SERVIÇO (M) | H19: ='1.12.1'!H19 -> 350 | I19: 8 | M19: =ROUND((H19*I19),2) -> 2800
B20: 2 | D20: 18 UNIDADES DE ACESSOS - LARGURA DE LIMPEZA (M) (VIA+MFC (BORDO ESQUERDO)+MFC (BORDO DIREITO))*EXTENSAO (M) | H20: ='1.12.1'!H20 -> 60 | I20: ='1.12.1'!I20 -> 6 | M20: =ROUND((H20*I20),2) -> 360
B33: TOTAL DA ATIVIDADE............................................................................................................................................................................. | L33: UNIDADE | M33: =SUM(M19:M32) -> 3160
B35: OBSERVAÇÕES: | H35: Total Executado no Mês | M35: =M33 -> 3160
H36: Total Executado Anterior | M36: #N/A
H37: Total Executado Acumulado | M37: =M36+M35 -> #N/A
H38: Total Contratado | M38: #N/A
H39: Saldo Atual | M39: =IFERROR(IF(M37>M38,0,M38-M37),"")
H40: Saldo (TAC) | M40: =IF(M37>M38,M37-M38,0) -> #N/A
B41: _____________________________________________
B42: PREFEITURA MUNICIPAL DE URUARÁ
B43: DOUGLAS NASCIMENTO DOS SANTOS
B44: ENGENHEIRO CIVIL CREA/PA: 151536623-5

Sheet 1.12.3
B1: PREFEITURA MUNICIPAL DE URUARÁ
K2: DADOS
K3: MEMÓRIA | M3: 1.12
K4: BM: | M4: 5
B5: OBJETO | E5: ='1.4.1'!E5:J6 -> PAVIMENTAÇÃO DE VIAS URBANAS NO MUNICÍPIO DE URUARÁ - PARÁ | K5: DATA BASE | M5: 45839
K6: DATA DA EMISSÃO | M6: 45884
K7: Referencia | M7: Mensal
B9: MEMORIA DE CALCULO
B10: CTEF: | E10: ='1.4.1'!E10:M10 -> OGU MTUR 975474/2025
B11: UNIDADE: | E11: UNIDADE | K11: TITULO: | M11: =PLANILHA!C3 -> 1.1.
B12: TITULO: | E12: PAVIMENTAÇÃO ASFÁLTICA TRECHO I | K12: ITEM: | M12: 1.12
B13: DESCRIÇÃO: | E13: =PLANILHA!F93 -> EXECUÇÃO DE PAVIMENTO COM APLICAÇÃO DE CONCRETO ASFÁLTICO, CAMADA DE ROLAMENTO - EXCLUSIVE CARGA E TRANSPORTE. AF_11/2019 | K13: ITEM: | M13: 1.12.3 | O13: EXECUÇÃO DE PAVIMENTO COM APLICAÇÃO DE CONCRETO ASFÁLTICO, CAMADA DE ROLAMENTO - EXCLUSIVE CARGA E TRANSPORTE. AF_11/2019
B14: MEDIDO: | E14: UNIDADE | F14: UNI | G14: OBJETO: ADEQUAÇÃO DE ESTRADAS VICINAIS
B16: ='1.4.1'!B16 -> FORMULAS E QUADRO DE CÁLCULOS
B17: Ordem | C17: Item | D17: Descrição | H17: QUANTIDADES | M17: TOTAL (M³)
H18: C (M) | I18: L (M) | J18: E(M)
B19: 1 | D19: EXTENSÃO TOTAL (M) * LARGURA DE SERVIÇO (M)*ESPESSURA (M) | H19: ='1.12.1'!H19 -> 350 | I19: ='1.12.2'!I19 -> 8 | J19: 0.035 | M19: =ROUND((H19*I19*J19),2) -> 98
B20: 2 | D20: 18 UNIDADES DE ACESSOS - LARGURA DE LIMPEZA (M) (VIA+MFC (BORDO ESQUERDO)+MFC (BORDO DIREITO))*EXTENSAO (M) | H20: ='1.12.2'!H20 -> 60 | I20: ='1.12.2'!I20 -> 6 | J20: 0.035 | M20: =ROUND((H20*I20*J20),2) -> 12.6
B33: TOTAL DA ATIVIDADE............................................................................................................................................................................. | L33: UNIDADE | M33: =SUM(M19:M32) -> 110.6
B35: OBSERVAÇÕES: | H35: Total Executado no Mês | M35: =M33 -> 110.6
H36: Total Executado Anterior | M36: #N/A
H37: Total Executado Acumulado | M37: =M36+M35 -> #N/A
H38: Total Contratado | M38: #N/A
H39: Saldo Atual | M39: =IFERROR(IF(M37>M38,0,M38-M37),"")
H40: Saldo (TAC) | M40: =IF(M37>M38,M37-M38,0) -> #N/A
B41: _____________________________________________
B42: PREFEITURA MUNICIPAL DE URUARÁ
B43: DOUGLAS NASCIMENTO DOS SANTOS
B44: ENGENHEIRO CIVIL CREA/PA: 151536623-5

Sheet 1.12.4
B1: PREFEITURA MUNICIPAL DE URUARÁ
K2: DADOS
K3: MEMÓRIA | M3: 1.12
K4: BM: | M4: 5
B5: OBJETO | E5: ='1.4.1'!E5:J6 -> PAVIMENTAÇÃO DE VIAS URBANAS NO MUNICÍPIO DE URUARÁ - PARÁ | K5: DATA BASE | M5: 45839
K6: DATA DA EMISSÃO | M6: 45884
K7: Referencia | M7: Mensal
B9: MEMORIA DE CALCULO
B10: CTEF: | E10: ='1.4.1'!E10:M10 -> OGU MTUR 975474/2025
B11: UNIDADE: | E11: UNIDADE | K11: TITULO: | M11: =PLANILHA!C3 -> 1.1.
B12: TITULO: | E12: PAVIMENTAÇÃO ASFÁLTICA TRECHO I | K12: ITEM: | M12: 1.12
B13: DESCRIÇÃO: | E13: =PLANILHA!F94 -> CARGA DE MISTURA ASFÁLTICA EM CAMINHÃO BASCULANTE 10 M³ (UNIDADE: M3). AF_07/2020 | K13: ITEM: | M13: 1.12.4 | O13: CARGA DE MISTURA ASFÁLTICA EM CAMINHÃO BASCULANTE 10 M³ (UNIDADE: M3). AF_07/2020
B14: MEDIDO: | E14: UNIDADE | F14: UNI | G14: OBJETO: ADEQUAÇÃO DE ESTRADAS VICINAIS
B16: ='1.4.1'!B16 -> FORMULAS E QUADRO DE CÁLCULOS
B17: Ordem | C17: Item | D17: Descrição | H17: QUANTIDADES | M17: TOTAL (M³)
H18: C (M) | I18: L (M) | J18: E(M)
B19: 1 | D19: EXTENSÃO TOTAL (M) * LARGURA DE SERVIÇO (M)*ESPESSURA (M) | H19: ='1.12.1'!H19 -> 350 | I19: ='1.12.3'!I19 -> 8 | J19: 0.035 | M19: =ROUND((H19*I19*J19),2) -> 98
B20: 2 | D20: 18 UNIDADES DE ACESSOS - LARGURA DE LIMPEZA (M) (VIA+MFC (BORDO ESQUERDO)+MFC (BORDO DIREITO))*EXTENSAO (M) | H20: ='1.12.3'!H20 -> 60 | I20: ='1.12.3'!I20 -> 6 | J20: ='1.12.3'!J20 -> 0.035 | M20: =ROUND((H20*I20*J20),2) -> 12.6
B33: TOTAL DA ATIVIDADE............................................................................................................................................................................. | L33: UNIDADE | M33: =SUM(M19:M32) -> 110.6
B35: OBSERVAÇÕES: | H35: Total Executado no Mês | M35: =M33 -> 110.6
H36: Total Executado Anterior | M36: #N/A
H37: Total Executado Acumulado | M37: =M36+M35 -> #N/A
H38: Total Contratado | M38: #N/A
H39: Saldo Atual | M39: =IFERROR(IF(M37>M38,0,M38-M37),"")
H40: Saldo (TAC) | M40: =IF(M37>M38,M37-M38,0) -> #N/A
B41: _____________________________________________
B42: PREFEITURA MUNICIPAL DE URUARÁ
B43: DOUGLAS NASCIMENTO DOS SANTOS
B44: ENGENHEIRO CIVIL CREA/PA: 151536623-5

Sheet 1.12.5
B1: PREFEITURA MUNICIPAL DE URUARÁ
K2: DADOS
K3: MEMÓRIA | M3: 1.12
K4: BM: | M4: 5
B5: OBJETO | E5: ='1.4.1'!E5:J6 -> PAVIMENTAÇÃO DE VIAS URBANAS NO MUNICÍPIO DE URUARÁ - PARÁ | K5: DATA BASE | M5: 45839
K6: DATA DA EMISSÃO | M6: 45884
K7: Referencia | M7: Mensal
B9: MEMORIA DE CALCULO
B10: CTEF: | E10: ='1.4.1'!E10:M10 -> OGU MTUR 975474/2025
B11: UNIDADE: | E11: UNIDADE | K11: TITULO: | M11: =PLANILHA!C3 -> 1.1.
B12: TITULO: | E12: PAVIMENTAÇÃO ASFÁLTICA TRECHO I | K12: ITEM: | M12: 1.12
B13: DESCRIÇÃO: | E13: TRANSPORTE COM CAMINHÃO BASCULANTE DE 18 M³, EM VIA URBANA PAVIMENTADA, DMT ATÉ 30 KM (UNIDADE: M3XKM). AF_07/2020 | K13: ITEM: | M13: 1.12.5 | O13: TRANSPORTE COM CAMINHÃO BASCULANTE DE 14 M³, EM VIA URBANA PAVIMENTADA, DMT ATÉ 30 KM (UNIDADE: M3XKM). AF_07/2020
B14: MEDIDO: | E14: UNIDADE | F14: UNI | G14: OBJETO: ADEQUAÇÃO DE ESTRADAS VICINAIS
B16: ='1.4.1'!B16 -> FORMULAS E QUADRO DE CÁLCULOS
B17: Ordem | C17: Item | D17: Descrição | H17: QUANTIDADES | M17: TOTAL (M³XKM)
H18: V (M³) | I18: DMT (KM)
B19: 1 | D19: VOLUME (M³)* DMT (KM) | H19: =ROUND(('1.12.4'!M33),2) -> 110.6 | I19: 30 | M19: =ROUND((H19*I19),2) -> 3318
B36: TOTAL DA ATIVIDADE............................................................................................................................................................................. | L36: UNIDADE | M36: =SUM(M19:M35) -> 3318
B38: OBSERVAÇÕES: | H38: Total Executado no Mês | M38: =M36 -> 3318
H39: Total Executado Anterior | M39: #N/A
H40: Total Executado Acumulado | M40: =M39+M38 -> #N/A
H41: Total Contratado | M41: #N/A
H42: Saldo Atual | M42: =IFERROR(IF(M40>M41,0,M41-M40),"")
H43: Saldo (TAC) | M43: =IF(M40>M41,M40-M41,0) -> #N/A
B44: _____________________________________________
B45: PREFEITURA MUNICIPAL DE URUARÁ
B46: DOUGLAS NASCIMENTO DOS SANTOS
B47: ENGENHEIRO CIVIL CREA/PA: 151536623-5

Sheet 1.12.6
B1: PREFEITURA MUNICIPAL DE URUARÁ
K2: DADOS
K3: MEMÓRIA | M3: 1.12
K4: BM: | M4: 5
B5: OBJETO | E5: ='1.4.1'!E5:J6 -> PAVIMENTAÇÃO DE VIAS URBANAS NO MUNICÍPIO DE URUARÁ - PARÁ | K5: DATA BASE | M5: 45839
K6: DATA DA EMISSÃO | M6: 45884
K7: Referencia | M7: Mensal
B9: MEMORIA DE CALCULO
B10: CTEF: | E10: ='1.4.1'!E10:M10 -> OGU MTUR 975474/2025
B11: UNIDADE: | E11: UNIDADE | K11: TITULO: | M11: =PLANILHA!C3 -> 1.1.
B12: TITULO: | E12: PAVIMENTAÇÃO ASFÁLTICA TRECHO I | K12: ITEM: | M12: 1.12
B13: DESCRIÇÃO: | E13: TRANSPORTE COM CAMINHÃO BASCULANTE DE 18 M³, EM VIA URBANA PAVIMENTADA, ADICIONAL PARA DMT EXCEDENTE A 30 KM (UNIDADE: M3XKM). AF_07/2020 | K13: ITEM: | M13: 1.12.6 | N13: TRANSPORTE COM CAMINHÃO BASCULANTE DE 14 M³, EM VIA URBANA PAVIMENTADA, ADICIONAL PARA DMT EXCEDENTE A 30 KM (UNIDADE: M3XKM). AF_07/2020
B14: MEDIDO: | E14: UNIDADE | F14: UNI | G14: OBJETO: ADEQUAÇÃO DE ESTRADAS VICINAIS
B16: ='1.4.1'!B16 -> FORMULAS E QUADRO DE CÁLCULOS
B17: Ordem | C17: Item | D17: Descrição | H17: QUANTIDADES | M17: TOTAL (M³XKM)
H18: V (M³) | I18: DMT (KM)
B19: 1 | D19: VOLUME (M³)* DMT (KM) | H19: ='1.12.5'!H19 -> 110.6 | I19: =189.5-30 -> 159.5 | M19: =ROUND((H19*I19),2) -> 17640.7
B36: TOTAL DA ATIVIDADE............................................................................................................................................................................. | L36: UNIDADE | M36: =SUM(M19:M35) -> 17640.7
B38: OBSERVAÇÕES: | H38: Total Executado no Mês | M38: =M36 -> 17640.7
H39: Total Executado Anterior | M39: #N/A
H40: Total Executado Acumulado | M40: =M39+M38 -> #N/A
H41: Total Contratado | M41: #N/A
H42: Saldo Atual | M42: =IFERROR(IF(M40>M41,0,M41-M40),"")
H43: Saldo (TAC) | M43: =IF(M40>M41,M40-M41,0) -> #N/A
B44: _____________________________________________
B45: PREFEITURA MUNICIPAL DE URUARÁ
B46: DOUGLAS NASCIMENTO DOS SANTOS
B47: ENGENHEIRO CIVIL CREA/PA: 151536623-5

Sheet 1.13.1
B1: PREFEITURA MUNICIPAL DE URUARÁ
K2: DADOS
K3: MEMÓRIA | M3: 1.13
K4: BM: | M4: 5
B5: OBJETO | E5: ='1.4.1'!E5:J6 -> PAVIMENTAÇÃO DE VIAS URBANAS NO MUNICÍPIO DE URUARÁ - PARÁ | K5: DATA BASE | M5: 45839
K6: DATA DA EMISSÃO | M6: 45884
K7: Referencia | M7: Mensal
B9: MEMORIA DE CALCULO
B10: CTEF: | E10: ='1.4.1'!E10:M10 -> OGU MTUR 975474/2025
B11: UNIDADE: | E11: UNIDADE | K11: TITULO: | M11: =PLANILHA!C3 -> 1.1.
B12: TITULO: | E12: PAVIMENTAÇÃO ASFÁLTICA TRECHO II | K12: ITEM: | M12: 1.13
B13: DESCRIÇÃO: | E13: =PLANILHA!F91 -> EXECUÇÃO DE IMPRIMAÇÃO COM ASFALTO DILUÍDO CM-30 | K13: ITEM: | M13: 1.13.1 | O13: 65.92 | P13: =32.96*0.2 -> 6.592
B14: MEDIDO: | E14: UNIDADE | F14: UNI | G14: OBJETO: ADEQUAÇÃO DE ESTRADAS VICINAIS
P15: =O13+P13 -> 72.512 | R15: =11.78*1.2 -> 14.136
B16: ='1.4.1'!B16 -> FORMULAS E QUADRO DE CÁLCULOS
B17: Ordem | C17: Item | D17: Descrição | H17: QUANTIDADES | M17: TOTAL (M²) | Q17: =11.78*2 -> 23.56
H18: C (M) | I18: L (M) | R18: =Q17+R15 -> 37.696
B19: 1 | D19: EXTENSÃO TOTAL (M) * LARGURA DE SERVIÇO (M) | H19: =737.4-350 -> 387.4 | I19: ='1.11.4'!I19 -> 8 | M19: =ROUND((H19*I19),2) -> 3099.2 | R19: =R18*2 -> 75.392
B20: 2 | D20: 18 UNIDADES DE ACESSOS - LARGURA DE LIMPEZA (M) (VIA+MFC (BORDO ESQUERDO)+MFC (BORDO DIREITO))*EXTENSAO (M) | H20: =6*5 -> 30 | I20: ='1.11.4'!I20 -> 6 | M20: =ROUND((H20*I20),2) -> 180
O21: =340*7 -> 2380
O22: =195*7 -> 1365
O23: =O22+O21 -> 3745
O28: =I19+0.9+2.4 -> 11.3 | P28: =H19*O28 -> 4377.62
B33: TOTAL DA ATIVIDADE............................................................................................................................................................................. | M33: =SUM(M19:M32) -> 3279.2
B35: OBSERVAÇÕES: | H35: Total Executado no Mês | M35: =M33 -> 3279.2
H36: Total Executado Anterior | M36: #N/A
H37: Total Executado Acumulado | M37: =M36+M35 -> #N/A
H38: Total Contratado | M38: #N/A
H39: Saldo Atual | M39: =IFERROR(IF(M37>M38,0,M38-M37),"")
H40: Saldo (TAC) | M40: =IF(M37>M38,M37-M38,0) -> #N/A
B41: _____________________________________________
B42: PREFEITURA MUNICIPAL DE URUARÁ
B43: DOUGLAS NASCIMENTO DOS SANTOS
B44: ENGENHEIRO CIVIL CREA/PA: 151536623-5

Sheet 1.13.2
B1: PREFEITURA MUNICIPAL DE URUARÁ
K2: DADOS
K3: MEMÓRIA | M3: 1.13
K4: BM: | M4: 5
B5: OBJETO | E5: ='1.4.1'!E5:J6 -> PAVIMENTAÇÃO DE VIAS URBANAS NO MUNICÍPIO DE URUARÁ - PARÁ | K5: DATA BASE | M5: 45839
K6: DATA DA EMISSÃO | M6: 45884
K7: Referencia | M7: Mensal
B9: MEMORIA DE CALCULO
B10: CTEF: | E10: ='1.4.1'!E10:M10 -> OGU MTUR 975474/2025
B11: UNIDADE: | E11: UNIDADE | K11: TITULO: | M11: =PLANILHA!C3 -> 1.1.
B12: TITULO: | E12: PAVIMENTAÇÃO ASFÁLTICA TRECHO II | K12: ITEM: | M12: 1.13
B13: DESCRIÇÃO: | E13: =PLANILHA!F92 -> EXECUÇÃO DE PINTURA DE LIGAÇÃO COM EMULSÃO ASFÁLTICA RR-2C | K13: ITEM: | M13: 1.13.2
B14: MEDIDO: | E14: UNIDADE | F14: UNI | G14: OBJETO: ADEQUAÇÃO DE ESTRADAS VICINAIS
B16: ='1.4.1'!B16 -> FORMULAS E QUADRO DE CÁLCULOS
B17: Ordem | C17: Item | D17: Descrição | H17: QUANTIDADES | M17: TOTAL (M²)
H18: C (M) | I18: L (M)
B19: 1 | D19: EXTENSÃO TOTAL (M) * LARGURA DE SERVIÇO (M) | H19: ='1.13.1'!H19 -> 387.4 | I19: 8 | M19: =ROUND((H19*I19),2) -> 3099.2
B20: 2 | D20: 18 UNIDADES DE ACESSOS - LARGURA DE LIMPEZA (M) (VIA+MFC (BORDO ESQUERDO)+MFC (BORDO DIREITO))*EXTENSAO (M) | H20: ='1.13.1'!H20 -> 30 | I20: ='1.12.1'!I20 -> 6 | M20: =ROUND((H20*I20),2) -> 180
B33: TOTAL DA ATIVIDADE............................................................................................................................................................................. | L33: UNIDADE | M33: =SUM(M19:M32) -> 3279.2
B35: OBSERVAÇÕES: | H35: Total Executado no Mês | M35: =M33 -> 3279.2
H36: Total Executado Anterior | M36: #N/A
H37: Total Executado Acumulado | M37: =M36+M35 -> #N/A
H38: Total Contratado | M38: #N/A
H39: Saldo Atual | M39: =IFERROR(IF(M37>M38,0,M38-M37),"")
H40: Saldo (TAC) | M40: =IF(M37>M38,M37-M38,0) -> #N/A
B41: _____________________________________________
B42: PREFEITURA MUNICIPAL DE URUARÁ
B43: DOUGLAS NASCIMENTO DOS SANTOS
B44: ENGENHEIRO CIVIL CREA/PA: 151536623-5

Sheet 1.13.3
B1: PREFEITURA MUNICIPAL DE URUARÁ
K2: DADOS
K3: MEMÓRIA | M3: 1.13
K4: BM: | M4: 5
B5: OBJETO | E5: ='1.4.1'!E5:J6 -> PAVIMENTAÇÃO DE VIAS URBANAS NO MUNICÍPIO DE URUARÁ - PARÁ | K5: DATA BASE | M5: 45839
K6: DATA DA EMISSÃO | M6: 45884
K7: Referencia | M7: Mensal
B9: MEMORIA DE CALCULO
B10: CTEF: | E10: ='1.4.1'!E10:M10 -> OGU MTUR 975474/2025
B11: UNIDADE: | E11: UNIDADE | K11: TITULO: | M11: =PLANILHA!C3 -> 1.1.
B12: TITULO: | E12: PAVIMENTAÇÃO ASFÁLTICA TRECHO II | K12: ITEM: | M12: 1.13
B13: DESCRIÇÃO: | E13: =PLANILHA!F93 -> EXECUÇÃO DE PAVIMENTO COM APLICAÇÃO DE CONCRETO ASFÁLTICO, CAMADA DE ROLAMENTO - EXCLUSIVE CARGA E TRANSPORTE. AF_11/2019 | K13: ITEM: | M13: 1.13.3 | O13: EXECUÇÃO DE PAVIMENTO COM APLICAÇÃO DE CONCRETO ASFÁLTICO, CAMADA DE ROLAMENTO - EXCLUSIVE CARGA E TRANSPORTE. AF_11/2019
B14: MEDIDO: | E14: UNIDADE | F14: UNI | G14: OBJETO: ADEQUAÇÃO DE ESTRADAS VICINAIS
B16: ='1.4.1'!B16 -> FORMULAS E QUADRO DE CÁLCULOS
B17: Ordem | C17: Item | D17: Descrição | H17: QUANTIDADES | M17: TOTAL (M³)
H18: C (M) | I18: L (M) | J18: E(M)
B19: 1 | D19: EXTENSÃO TOTAL (M) * LARGURA DE SERVIÇO (M)*ESPESSURA (M) | H19: ='1.13.2'!H19 -> 387.4 | I19: ='1.12.2'!I19 -> 8 | J19: 0.035 | M19: =ROUND((H19*I19*J19),2) -> 108.47
B20: 2 | D20: 18 UNIDADES DE ACESSOS - LARGURA DE LIMPEZA (M) (VIA+MFC (BORDO ESQUERDO)+MFC (BORDO DIREITO))*EXTENSAO (M) | H20: ='1.13.2'!H20 -> 30 | I20: ='1.12.2'!I20 -> 6 | J20: 0.035 | M20: =ROUND((H20*I20*J20),2) -> 6.3
B33: TOTAL DA ATIVIDADE............................................................................................................................................................................. | L33: UNIDADE | M33: =SUM(M19:M32) -> 114.77
B35: OBSERVAÇÕES: | H35: Total Executado no Mês | M35: =M33 -> 114.77
H36: Total Executado Anterior | M36: #N/A
H37: Total Executado Acumulado | M37: =M36+M35 -> #N/A
H38: Total Contratado | M38: #N/A
H39: Saldo Atual | M39: =IFERROR(IF(M37>M38,0,M38-M37),"")
H40: Saldo (TAC) | M40: =IF(M37>M38,M37-M38,0) -> #N/A
B41: _____________________________________________
B42: PREFEITURA MUNICIPAL DE URUARÁ
B43: DOUGLAS NASCIMENTO DOS SANTOS
B44: ENGENHEIRO CIVIL CREA/PA: 151536623-5

Sheet 1.13.4
B1: PREFEITURA MUNICIPAL DE URUARÁ
K2: DADOS
K3: MEMÓRIA | M3: 1.13
K4: BM: | M4: 5
B5: OBJETO | E5: ='1.4.1'!E5:J6 -> PAVIMENTAÇÃO DE VIAS URBANAS NO MUNICÍPIO DE URUARÁ - PARÁ | K5: DATA BASE | M5: 45839
K6: DATA DA EMISSÃO | M6: 45884
K7: Referencia | M7: Mensal
B9: MEMORIA DE CALCULO
B10: CTEF: | E10: ='1.4.1'!E10:M10 -> OGU MTUR 975474/2025
B11: UNIDADE: | E11: UNIDADE | K11: TITULO: | M11: =PLANILHA!C3 -> 1.1.
B12: TITULO: | E12: PAVIMENTAÇÃO ASFÁLTICA TRECHO II | K12: ITEM: | M12: 1.13
B13: DESCRIÇÃO: | E13: =PLANILHA!F94 -> CARGA DE MISTURA ASFÁLTICA EM CAMINHÃO BASCULANTE 10 M³ (UNIDADE: M3). AF_07/2020 | K13: ITEM: | M13: 1.13.4 | O13: CARGA DE MISTURA ASFÁLTICA EM CAMINHÃO BASCULANTE 10 M³ (UNIDADE: M3). AF_07/2020
B14: MEDIDO: | E14: UNIDADE | F14: UNI | G14: OBJETO: ADEQUAÇÃO DE ESTRADAS VICINAIS
B16: ='1.4.1'!B16 -> FORMULAS E QUADRO DE CÁLCULOS
B17: Ordem | C17: Item | D17: Descrição | H17: QUANTIDADES | M17: TOTAL (M³)
H18: C (M) | I18: L (M) | J18: E(M)
B19: 1 | D19: EXTENSÃO TOTAL (M) * LARGURA DE SERVIÇO (M)*ESPESSURA (M) | H19: ='1.13.3'!H19 -> 387.4 | I19: ='1.12.3'!I19 -> 8 | J19: 0.035 | M19: =ROUND((H19*I19*J19),2) -> 108.47
B20: 2 | D20: 18 UNIDADES DE ACESSOS - LARGURA DE LIMPEZA (M) (VIA+MFC (BORDO ESQUERDO)+MFC (BORDO DIREITO))*EXTENSAO (M) | H20: ='1.13.3'!H20 -> 30 | I20: ='1.12.3'!I20 -> 6 | J20: ='1.12.3'!J20 -> 0.035 | M20: =ROUND((H20*I20*J20),2) -> 6.3
B33: TOTAL DA ATIVIDADE............................................................................................................................................................................. | L33: UNIDADE | M33: =SUM(M19:M32) -> 114.77
B35: OBSERVAÇÕES: | H35: Total Executado no Mês | M35: =M33 -> 114.77
H36: Total Executado Anterior | M36: #N/A
H37: Total Executado Acumulado | M37: =M36+M35 -> #N/A
H38: Total Contratado | M38: #N/A
H39: Saldo Atual | M39: =IFERROR(IF(M37>M38,0,M38-M37),"")
H40: Saldo (TAC) | M40: =IF(M37>M38,M37-M38,0) -> #N/A
B41: _____________________________________________
B42: PREFEITURA MUNICIPAL DE URUARÁ
B43: DOUGLAS NASCIMENTO DOS SANTOS
B44: ENGENHEIRO CIVIL CREA/PA: 151536623-5

Sheet 1.13.5
B1: PREFEITURA MUNICIPAL DE URUARÁ
K2: DADOS
K3: MEMÓRIA | M3: 1.13
K4: BM: | M4: 5
B5: OBJETO | E5: ='1.4.1'!E5:J6 -> PAVIMENTAÇÃO DE VIAS URBANAS NO MUNICÍPIO DE URUARÁ - PARÁ | K5: DATA BASE | M5: 45839
K6: DATA DA EMISSÃO | M6: 45884
K7: Referencia | M7: Mensal
B9: MEMORIA DE CALCULO
B10: CTEF: | E10: ='1.4.1'!E10:M10 -> OGU MTUR 975474/2025
B11: UNIDADE: | E11: UNIDADE | K11: TITULO: | M11: =PLANILHA!C3 -> 1.1.
B12: TITULO: | E12: PAVIMENTAÇÃO ASFÁLTICA TRECHO II | K12: ITEM: | M12: 1.13
B13: DESCRIÇÃO: | E13: TRANSPORTE COM CAMINHÃO BASCULANTE DE 18 M³, EM VIA URBANA PAVIMENTADA, DMT ATÉ 30 KM (UNIDADE: M3XKM). AF_07/2020 | K13: ITEM: | M13: 1.13.5 | O13: TRANSPORTE COM CAMINHÃO BASCULANTE DE 14 M³, EM VIA URBANA PAVIMENTADA, DMT ATÉ 30 KM (UNIDADE: M3XKM). AF_07/2020
B14: MEDIDO: | E14: UNIDADE | F14: UNI | G14: OBJETO: ADEQUAÇÃO DE ESTRADAS VICINAIS
B16: ='1.4.1'!B16 -> FORMULAS E QUADRO DE CÁLCULOS
B17: Ordem | C17: Item | D17: Descrição | H17: QUANTIDADES | M17: TOTAL (M³XKM)
H18: V (M³) | I18: DMT (KM)
B19: 1 | D19: VOLUME (M³)* DMT (KM) | H19: ='1.13.4'!M33 -> 114.77 | I19: 30 | M19: =ROUND((H19*I19),2) -> 3443.1
B36: TOTAL DA ATIVIDADE............................................................................................................................................................................. | L36: UNIDADE | M36: =SUM(M19:M35) -> 3443.1
B38: OBSERVAÇÕES: | H38: Total Executado no Mês | M38: =M36 -> 3443.1
H39: Total Executado Anterior | M39: #N/A
H40: Total Executado Acumulado | M40: =M39+M38 -> #N/A
H41: Total Contratado | M41: #N/A
H42: Saldo Atual | M42: =IFERROR(IF(M40>M41,0,M41-M40),"")
H43: Saldo (TAC) | M43: =IF(M40>M41,M40-M41,0) -> #N/A
B44: _____________________________________________
B45: PREFEITURA MUNICIPAL DE URUARÁ
B46: DOUGLAS NASCIMENTO DOS SANTOS
B47: ENGENHEIRO CIVIL CREA/PA: 151536623-5

Sheet 1.13.6
B1: PREFEITURA MUNICIPAL DE URUARÁ
K2: DADOS
K3: MEMÓRIA | M3: 1.13
K4: BM: | M4: 5
B5: OBJETO | E5: ='1.4.1'!E5:J6 -> PAVIMENTAÇÃO DE VIAS URBANAS NO MUNICÍPIO DE URUARÁ - PARÁ | K5: DATA BASE | M5: 45839
K6: DATA DA EMISSÃO | M6: 45884
K7: Referencia | M7: Mensal
B9: MEMORIA DE CALCULO
B10: CTEF: | E10: ='1.4.1'!E10:M10 -> OGU MTUR 975474/2025
B11: UNIDADE: | E11: UNIDADE | K11: TITULO: | M11: =PLANILHA!C3 -> 1.1.
B12: TITULO: | E12: PAVIMENTAÇÃO ASFÁLTICA TRECHO II | K12: ITEM: | M12: 1.13
B13: DESCRIÇÃO: | E13: TRANSPORTE COM CAMINHÃO BASCULANTE DE 18 M³, EM VIA URBANA PAVIMENTADA, ADICIONAL PARA DMT EXCEDENTE A 30 KM (UNIDADE: M3XKM). AF_07/2020 | K13: ITEM: | M13: 1.13.6 | N13: TRANSPORTE COM CAMINHÃO BASCULANTE DE 14 M³, EM VIA URBANA PAVIMENTADA, ADICIONAL PARA DMT EXCEDENTE A 30 KM (UNIDADE: M3XKM). AF_07/2020
B14: MEDIDO: | E14: UNIDADE | F14: UNI | G14: OBJETO: ADEQUAÇÃO DE ESTRADAS VICINAIS
B16: ='1.4.1'!B16 -> FORMULAS E QUADRO DE CÁLCULOS
B17: Ordem | C17: Item | D17: Descrição | H17: QUANTIDADES | M17: TOTAL (M³XKM)
H18: V (M³) | I18: DMT (KM)
B19: 1 | D19: VOLUME (M³)* DMT (KM) | H19: ='1.13.4'!M33 -> 114.77 | I19: =189.5-30 -> 159.5 | M19: =ROUND((H19*I19),2) -> 18305.82
B36: TOTAL DA ATIVIDADE............................................................................................................................................................................. | L36: UNIDADE | M36: =SUM(M19:M35) -> 18305.82
B38: OBSERVAÇÕES: | H38: Total Executado no Mês | M38: =M36 -> 18305.82
H39: Total Executado Anterior | M39: #N/A
H40: Total Executado Acumulado | M40: =M39+M38 -> #N/A
H41: Total Contratado | M41: #N/A
H42: Saldo Atual | M42: =IFERROR(IF(M40>M41,0,M41-M40),"")
H43: Saldo (TAC) | M43: =IF(M40>M41,M40-M41,0) -> #N/A
B44: _____________________________________________
B45: PREFEITURA MUNICIPAL DE URUARÁ
B46: DOUGLAS NASCIMENTO DOS SANTOS
B47: ENGENHEIRO CIVIL CREA/PA: 151536623-5

Sheet 1.14.1
B1: PREFEITURA MUNICIPAL DE URUARÁ
K2: DADOS
K3: MEMÓRIA | M3: 1.14
K4: BM: | M4: 5
B5: OBJETO | E5: ='1.4.1'!E5:J6 -> PAVIMENTAÇÃO DE VIAS URBANAS NO MUNICÍPIO DE URUARÁ - PARÁ | K5: DATA BASE | M5: 45839
K6: DATA DA EMISSÃO | M6: 45884
K7: Referencia | M7: Mensal
B9: MEMORIA DE CALCULO
B10: CTEF: | E10: ='1.4.1'!E10:M10 -> OGU MTUR 975474/2025
B11: UNIDADE: | E11: UNIDADE | K11: TITULO: | M11: =PLANILHA!C3 -> 1.1.
B12: TITULO: | E12: DRENAGEM SUPERFICIAL | K12: ITEM: | M12: 1.14
B13: DESCRIÇÃO: | E13: GUIA (MEIO-FIO) E SARJETA CONJUGADOS DE CONCRETO, MOLDADA IN LOCO EM TRECHO RETO COM EXTRUSORA, 45 CM BASE (15 CM BASE DA GUIA + 30 CM BASE DA SARJETA) X 22 CM ALTURA. AF_06/2016 | K13: ITEM: | M13: 1.14.1 | O13: GUIA (MEIO-FIO) E SARJETA CONJUGADOS DE CONCRETO, MOLDADA IN LOCO EM TRECHO RETO COM EXTRUSORA, 45 CM BASE (15 CM BASE DA GUIA + 30 CM BASE DA SARJETA) X 22 CM ALTURA. AF_06/2016
B14: MEDIDO: | E14: UNIDADE | F14: UNI | G14: OBJETO: ADEQUAÇÃO DE ESTRADAS VICINAIS
B16: ='1.4.1'!B16 -> FORMULAS E QUADRO DE CÁLCULOS
B17: Ordem | C17: Item | D17: Descrição | H17: QUANTIDADES | M17: TOTAL (M)
H18: L (M) | I18: REPETIÇÃO
B19: 1 | D19: GUIA (MEIO-FIO) E SARJETA CONJUGADOS DE CONCRETO, MOLDADA IN LOCO EM TRECHO RETO COM EXTRUSORA, 45 CM BASE (15 CM BASE DA GUIA + 30 CM BASE DA SARJETA) X 22 CM ALTURA. AF_06/2016 | H19: ='1.11.4'!H19-(18*11) -> 539.4 | I19: 2 | M19: =H19*I19 -> 1078.8
B23: 2 | D23: 18 UNIDADES DE ACESSOS - LARGURA DE LIMPEZA (M) (VIA+MFC (BORDO ESQUERDO)+MFC (BORDO DIREITO))*EXTENSAO (M) | H23: 6 | I23: 36 | M23: =H23*I23 -> 216
B33: TOTAL DA ATIVIDADE............................................................................................................................................................................. | L33: UNIDADE | M33: =SUM(M19:M32) -> 1294.8
B35: OBSERVAÇÕES: | H35: Total Executado no Mês | M35: =M33 -> 1294.8
H36: Total Executado Anterior | M36: #N/A
H37: Total Executado Acumulado | M37: =M36+M35 -> #N/A
H38: Total Contratado | M38: #N/A
H39: Saldo Atual | M39: =IFERROR(IF(M37>M38,0,M38-M37),"")
H40: Saldo (TAC) | M40: =IF(M37>M38,M37-M38,0) -> #N/A
B41: _____________________________________________
B42: PREFEITURA MUNICIPAL DE URUARÁ
B43: DOUGLAS NASCIMENTO DOS SANTOS
B44: ENGENHEIRO CIVIL CREA/PA: 151536623-5

Sheet 1.14.2
B1: PREFEITURA MUNICIPAL DE URUARÁ
K2: DADOS
K3: MEMÓRIA | M3: 1.14
K4: BM: | M4: 5
B5: OBJETO | E5: ='1.4.1'!E5:J6 -> PAVIMENTAÇÃO DE VIAS URBANAS NO MUNICÍPIO DE URUARÁ - PARÁ | K5: DATA BASE | M5: 45839
K6: DATA DA EMISSÃO | M6: 45884
K7: Referencia | M7: Mensal
B9: MEMORIA DE CALCULO
B10: CTEF: | E10: ='1.4.1'!E10:M10 -> OGU MTUR 975474/2025
B11: UNIDADE: | E11: UNIDADE | K11: TITULO: | M11: =PLANILHA!C3 -> 1.1.
B12: TITULO: | E12: DRENAGEM SUPERFICIAL | K12: ITEM: | M12: 1.14
B13: DESCRIÇÃO: | E13: TRANSPORTE COM CAMINHÃO BASCULANTE DE 18 M³, EM VIA URBANA EM REVESTIMENTO PRIMÁRIO (UNIDADE: M3XKM). AF_07/2020 | K13: ITEM: | M13: 1.14.2 | P13: TRANSPORTE COM CAMINHÃO BASCULANTE DE 18 M³, EM VIA URBANA EM REVESTIMENTO PRIMÁRIO (UNIDADE: M3XKM). AF_07/2020
B14: MEDIDO: | E14: UNIDADE | F14: UNI | G14: OBJETO: ADEQUAÇÃO DE ESTRADAS VICINAIS
B16: ='1.4.1'!B16 -> FORMULAS E QUADRO DE CÁLCULOS
B17: Ordem | C17: Item | D17: Descrição | H17: QUANTIDADES | M17: TOTAL (M³XKM)
H18: L (M) | I18: CONSUMO (M3) | J18: DIST (KM) | K18: REPETIÇÃO
B19: 1 | D19: TRANSPORTE DA AREIA PREVISTA NA COMPOSIÇÃO DO ITEM 94267 | H19: ='1.14.1'!H19 -> 539.4 | I19: 0.015 | J19: 3 | K19: 2 | M19: =ROUND((H19*I19*J19*K19),2) -> 48.55
B33: TOTAL DA ATIVIDADE............................................................................................................................................................................. | M33: =SUM(M19:M32) -> 48.55
B35: OBSERVAÇÕES: | H35: Total Executado no Mês | M35: =M33 -> 48.55
H36: Total Executado Anterior | M36: #N/A
H37: Total Executado Acumulado | M37: =M36+M35 -> #N/A
H38: Total Contratado | M38: #N/A
H39: Saldo Atual | M39: =IFERROR(IF(M37>M38,0,M38-M37),"")
H40: Saldo (TAC) | M40: =IF(M37>M38,M37-M38,0) -> #N/A
B41: _____________________________________________
B42: PREFEITURA MUNICIPAL DE URUARÁ
B43: DOUGLAS NASCIMENTO DOS SANTOS
B44: ENGENHEIRO CIVIL CREA/PA: 151536623-5

Sheet 1.15.1
B1: PREFEITURA MUNICIPAL DE URUARÁ
K2: DADOS
K3: MEMÓRIA | M3: 1.15
K4: BM: | M4: 5
B5: OBJETO | E5: ='1.4.1'!E5:J6 -> PAVIMENTAÇÃO DE VIAS URBANAS NO MUNICÍPIO DE URUARÁ - PARÁ | K5: DATA BASE | M5: 45839
K6: DATA DA EMISSÃO | M6: 45884
K7: Referencia | M7: Mensal
B9: MEMORIA DE CALCULO
B10: CTEF: | E10: ='1.4.1'!E10:M10 -> OGU MTUR 975474/2025
B11: UNIDADE: | E11: UNIDADE | K11: TITULO: | M11: =PLANILHA!C3 -> 1.1.
B12: TITULO: | E12: EXECUÇÃO DO PASSEIO | K12: ITEM: | M12: 1.15
B13: DESCRIÇÃO: | E13: EXECUÇÃO DE PASSEIO (CALÇADA) OU PISO DE CONCRETO COM CONCRETO MOLDADO IN LOCO, FEITO EM OBRA, ACABAMENTO CONVENCIONAL, NÃO ARMADO. AF_08/2022 | K13: ITEM: | M13: 1.15.1
B14: MEDIDO: | E14: UNIDADE | F14: UNI | G14: OBJETO: ADEQUAÇÃO DE ESTRADAS VICINAIS
B16: ='1.4.1'!B16 -> FORMULAS E QUADRO DE CÁLCULOS
B17: Ordem | C17: Item | D17: Descrição | H17: QUANTIDADES | M17: TOTAL (M3)
H18: C (M) | I18: REPETIÇÃO | J18: L (M) | K18: ESP (M)
B19: 1 | D19: EXECUÇÃO DE PASSEIO (CALÇADA) OU PISO DE CONCRETO COM CONCRETO MOLDADO IN LOCO, FEITO EM OBRA, ACABAMENTO CONVENCIONAL, NÃO ARMADO. AF_08/2022 | H19: ='1.14.2'!H19 -> 539.4 | I19: 2 | J19: 1.5 | K19: 0.06 | M19: =ROUND((H19*I19*J19*K19),2) -> 97.09 | O19: =H19*J19 -> 809.1
B23: 2 | D23: 18 UNIDADES DE ACESSOS - LARGURA DE LIMPEZA (M) (VIA+MFC (BORDO ESQUERDO)+MFC (BORDO DIREITO))*EXTENSAO (M) | H23: 81 | I23: 2 | J23: 1.5 | K23: 0.06 | M23: =ROUND((H23*I23*J23*K23),2) -> 14.58 | O23: =H23*J23 -> 121.5
O24: =O23+O19 -> 930.6
B33: TOTAL DA ATIVIDADE............................................................................................................................................................................. | L33: UNIDADE | M33: =SUM(M19:M32) -> 111.67
B35: OBSERVAÇÕES: | H35: Total Executado no Mês | M35: =M33 -> 111.67
H36: Total Executado Anterior | M36: #N/A
H37: Total Executado Acumulado | M37: =M36+M35 -> #N/A
H38: Total Contratado | M38: #N/A
H39: Saldo Atual | M39: =IFERROR(IF(M37>M38,0,M38-M37),"")
H40: Saldo (TAC) | M40: =IF(M37>M38,M37-M38,0) -> #N/A
B41: _____________________________________________
B42: PREFEITURA MUNICIPAL DE URUARÁ
B43: DOUGLAS NASCIMENTO DOS SANTOS
B44: ENGENHEIRO CIVIL CREA/PA: 151536623-5

Sheet 1.15.2
B1: PREFEITURA MUNICIPAL DE URUARÁ
K2: DADOS
K3: MEMÓRIA | M3: 1.15
K4: BM: | M4: 5
B5: OBJETO | E5: ='1.4.1'!E5:J6 -> PAVIMENTAÇÃO DE VIAS URBANAS NO MUNICÍPIO DE URUARÁ - PARÁ | K5: DATA BASE | M5: 45839
K6: DATA DA EMISSÃO | M6: 45884
K7: Referencia | M7: Mensal
B9: MEMORIA DE CALCULO
B10: CTEF: | E10: ='1.4.1'!E10:M10 -> OGU MTUR 975474/2025
B11: UNIDADE: | E11: UNIDADE | K11: TITULO: | M11: =PLANILHA!C3 -> 1.1.
B12: TITULO: | E12: EXECUÇÃO DO PASSEIO | K12: ITEM: | M12: 1.15
B13: DESCRIÇÃO: | E13: ATERRO MANUAL DE VALAS COM SOLO ARGILO-ARENOSO. AF_08/2023 | K13: ITEM: | M13: 1.15.2
B14: MEDIDO: | E14: UNIDADE | F14: UNI | G14: OBJETO: ADEQUAÇÃO DE ESTRADAS VICINAIS
B16: ='1.4.1'!B16 -> FORMULAS E QUADRO DE CÁLCULOS
B17: Ordem | C17: Item | D17: Descrição | H17: QUANTIDADES | M17: TOTAL (M³)
H18: C (M) | I18: REPETIÇÃO | J18: L (M) | K18: ESP (M)
B19: 1 | D19: ATERRO DA DIFERENÇA DO MEIO FIO E PASSEIO. ALTURA DO MEIO FIO (22 CM) - ESPESSURA DA CALÇADA (6 CM) = 16 CM DE ATERRO | H19: ='1.15.1'!H19 -> 539.4 | I19: 2 | J19: ='1.15.1'!J19 -> 1.5 | K19: 0.12 | M19: =ROUND((H19*I19*J19*K19),2) -> 194.18
B23: 2 | D23: 18 UNIDADES DE ACESSOS - LARGURA DE LIMPEZA (M) (VIA+MFC (BORDO ESQUERDO)+MFC (BORDO DIREITO))*EXTENSAO (M) | H23: 90 | I23: 2 | J23: 1.5 | K23: 0.12 | M23: =ROUND((H23*I23*J23*K23),2) -> 32.4
B33: TOTAL DA ATIVIDADE............................................................................................................................................................................. | L33: UNIDADE | M33: =SUM(M19:M32) -> 226.58
B35: OBSERVAÇÕES: | H35: Total Executado no Mês | M35: =M33 -> 226.58
H36: Total Executado Anterior | M36: #N/A
H37: Total Executado Acumulado | M37: =M36+M35 -> #N/A
H38: Total Contratado | M38: #N/A
H39: Saldo Atual | M39: =IFERROR(IF(M37>M38,0,M38-M37),"")
H40: Saldo (TAC) | M40: =IF(M37>M38,M37-M38,0) -> #N/A
B41: _____________________________________________
B42: PREFEITURA MUNICIPAL DE URUARÁ
B43: DOUGLAS NASCIMENTO DOS SANTOS
B44: ENGENHEIRO CIVIL CREA/PA: 151536623-5

Sheet 1.15.3
B1: PREFEITURA MUNICIPAL DE URUARÁ
K2: DADOS
K3: MEMÓRIA | M3: 1.15
K4: BM: | M4: 5
B5: OBJETO | E5: ='1.4.1'!E5:J6 -> PAVIMENTAÇÃO DE VIAS URBANAS NO MUNICÍPIO DE URUARÁ - PARÁ | K5: DATA BASE | M5: 45839
K6: DATA DA EMISSÃO | M6: 45884
K7: Referencia | M7: Mensal
B9: MEMORIA DE CALCULO
B10: CTEF: | E10: ='1.4.1'!E10:M10 -> OGU MTUR 975474/2025
B11: UNIDADE: | E11: UNIDADE | K11: TITULO: | M11: =PLANILHA!C3 -> 1.1.
B12: TITULO: | E12: EXECUÇÃO DO PASSEIO | K12: ITEM: | M12: 1.15
B13: DESCRIÇÃO: | E13: TRANSPORTE COM CAMINHÃO BASCULANTE DE 18 M³, EM VIA URBANA EM REVESTIMENTO PRIMÁRIO (UNIDADE: M3XKM). AF_07/2020 | K13: ITEM: | M13: 1.15.3
B14: MEDIDO: | E14: UNIDADE | F14: UNI | G14: OBJETO: ADEQUAÇÃO DE ESTRADAS VICINAIS
B16: ='1.4.1'!B16 -> FORMULAS E QUADRO DE CÁLCULOS
B17: Ordem | C17: Item | D17: Descrição | H17: QUANTIDADES | M17: TOTAL (M³XKM)
H18: VOLUME (M3) | I18: DMT | J18: EMP (%)
B19: 1 | D19: ATERRO DA DIFERENÇA DO MEIO FIO E PASSEIO. ALTURA DO MEIO FIO (22 CM) - ESPESSURA DA CALÇADA (6 CM) = 16 CM DE ATERRO | H19: ='1.15.2'!M19 -> 194.18 | I19: 3 | J19: 1.15 | M19: =ROUND((H19*I19*J19),2) -> 669.92
B23: 2 | D23: 18 UNIDADES DE ACESSOS - LARGURA DE LIMPEZA (M) (VIA+MFC (BORDO ESQUERDO)+MFC (BORDO DIREITO))*EXTENSAO (M) | H23: ='1.15.2'!M23 -> 32.4 | I23: 3 | J23: 1.15 | M23: =ROUND((H23*I23*J23),2) -> 111.78
B33: TOTAL DA ATIVIDADE............................................................................................................................................................................. | L33: UNIDADE | M33: =SUM(M19:M32) -> 781.7
B35: OBSERVAÇÕES: | H35: Total Executado no Mês | M35: =M33 -> 781.7
H36: Total Executado Anterior | M36: #N/A
H37: Total Executado Acumulado | M37: =M36+M35 -> #N/A
H38: Total Contratado | M38: #N/A
H39: Saldo Atual | M39: =IFERROR(IF(M37>M38,0,M38-M37),"")
H40: Saldo (TAC) | M40: =IF(M37>M38,M37-M38,0) -> #N/A
B41: _____________________________________________
B42: PREFEITURA MUNICIPAL DE URUARÁ
B43: DOUGLAS NASCIMENTO DOS SANTOS
B44: ENGENHEIRO CIVIL CREA/PA: 151536623-5

Sheet 1.15.4
B1: PREFEITURA MUNICIPAL DE URUARÁ
K2: DADOS
K3: MEMÓRIA | M3: 1.15
K4: BM: | M4: 5
B5: OBJETO | E5: ='1.4.1'!E5:J6 -> PAVIMENTAÇÃO DE VIAS URBANAS NO MUNICÍPIO DE URUARÁ - PARÁ | K5: DATA BASE | M5: 45839
K6: DATA DA EMISSÃO | M6: 45884
K7: Referencia | M7: Mensal
B9: MEMORIA DE CALCULO
B10: CTEF: | E10: ='1.4.1'!E10:M10 -> OGU MTUR 975474/2025
B11: UNIDADE: | E11: UNIDADE | K11: TITULO: | M11: =PLANILHA!C3 -> 1.1.
B12: TITULO: | E12: EXECUÇÃO DO PASSEIO | K12: ITEM: | M12: 1.15
B13: DESCRIÇÃO: | E13: PISO PODOTÁTIL DE ALERTA OU DIRECIONAL, DE CONCRETO, ASSENTADO SOBRE A RGAMASSA. AF_03/2024 | K13: ITEM: | M13: 1.15.3
B14: MEDIDO: | E14: UNIDADE | F14: UNI | G14: OBJETO: ADEQUAÇÃO DE ESTRADAS VICINAIS
B16: ='1.4.1'!B16 -> FORMULAS E QUADRO DE CÁLCULOS
B17: Ordem | C17: Item | D17: Descrição | H17: QUANTIDADES | M17: TOTAL (M2)
H18: QUANT. (UN) | I18: A (M) | J18: B (M) | K18: C (M) | L18: LARG (M)
B19: 1 | D19: ATERRO DA DIFERENÇA DO MEIO FIO E PASSEIO. ALTURA DO MEIO FIO (22 CM) - ESPESSURA DA CALÇADA (6 CM) = 16 CM DE ATERRO | H19: 14 | I19: 1.5 | J19: 1.5 | K19: 1.5 | L19: 0.25 | M19: =L19*(K19+J19+I19)*H19 -> 15.75
B33: TOTAL DA ATIVIDADE............................................................................................................................................................................. | L33: UNIDADE | M33: =SUM(M19:M32) -> 15.75
B35: OBSERVAÇÕES: | H35: Total Executado no Mês | M35: =M33 -> 15.75
H36: Total Executado Anterior | M36: #N/A
H37: Total Executado Acumulado | M37: =M36+M35 -> #N/A
H38: Total Contratado | M38: #N/A
H39: Saldo Atual | M39: =IFERROR(IF(M37>M38,0,M38-M37),"")
H40: Saldo (TAC) | M40: =IF(M37>M38,M37-M38,0) -> #N/A
B41: _____________________________________________
B42: PREFEITURA MUNICIPAL DE URUARÁ
B43: DOUGLAS NASCIMENTO DOS SANTOS
B44: ENGENHEIRO CIVIL CREA/PA: 151536623-5

Sheet 1.16.1
B1: PREFEITURA MUNICIPAL DE URUARÁ
K2: DADOS
K3: MEMÓRIA | M3: 1.16
K4: BM: | M4: 5
B5: OBJETO | E5: ='1.4.1'!E5:J6 -> PAVIMENTAÇÃO DE VIAS URBANAS NO MUNICÍPIO DE URUARÁ - PARÁ | K5: DATA BASE | M5: 45839
K6: DATA DA EMISSÃO | M6: 45884
K7: Referencia | M7: Mensal
B9: MEMORIA DE CALCULO
B10: CTEF: | E10: ='1.4.1'!E10:M10 -> OGU MTUR 975474/2025
B11: UNIDADE: | E11: UNIDADE | K11: TITULO: | M11: =PLANILHA!C3 -> 1.1.
B12: TITULO: | E12: =PLANILHA!F135 -> SINALIZAÇÃO VERTICAL | K12: ITEM: | M12: 1.16
B13: DESCRIÇÃO: | E13: FORNECIMENTO E INSTALAÇÃO DE SUPORTE DE MADEIRA PARA PLACAS DE SINALIZAÇÃO, EM SOLO, COM H= DE 2,0 M E SEÇÃO DE 7,5 X 7,5 CM. AF_03/2022 | K13: ITEM: | M13: 1.16.1 | O13: FORNECIMENTO E INSTALAÇÃO DE SUPORTE DE MADEIRA PARA PLACAS DE SINALIZAÇÃO, EM SOLO, COM H= DE 2,0 M E SEÇÃO DE 7,5 X 7,5 CM. AF_03/2022
B14: MEDIDO: | E14: UNIDADE | F14: UNI | G14: OBJETO: ADEQUAÇÃO DE ESTRADAS VICINAIS
B15: =PLANILHA!C126 -> 1.30.1.
B16: ='1.4.1'!B16 -> FORMULAS E QUADRO DE CÁLCULOS
B17: Ordem | C17: Item | D17: Descrição | H17: QUANTIDADES | M17: TOTAL (UNID)
H18: QUANT (UNID)
B19: 1 | D19: PLACA DE ADVERTENCIA | H19: 7 | M19: =H19 -> 7
B20: 2 | D20: PLACA DE REGULAMENTAÇÃO | H20: 23 | M20: =H20 -> 23
B30: TOTAL DA ATIVIDADE............................................................................................................................................................................. | L30: UNIDADE | M30: =SUM(M19:M29) -> 30
B32: OBSERVAÇÕES: | H32: Total Executado no Mês | M32: =M30 -> 30
H33: Total Executado Anterior | M33: #N/A
H34: Total Executado Acumulado | M34: =M33+M32 -> #N/A
H35: Total Contratado | M35: #N/A
H36: Saldo Atual | M36: =IFERROR(IF(M34>M35,0,M35-M34),"")
H37: Saldo (TAC) | M37: =IF(M34>M35,M34-M35,0) -> #N/A
B38: _____________________________________________
B39: PREFEITURA MUNICIPAL DE URUARÁ
B40: DOUGLAS NASCIMENTO DOS SANTOS
B41: ENGENHEIRO CIVIL CREA/PA: 151536623-5

Sheet 1.16.2
B1: PREFEITURA MUNICIPAL DE URUARÁ
K2: DADOS
K3: MEMÓRIA | M3: 1.16
K4: BM: | M4: 5
B5: OBJETO | E5: ='1.4.1'!E5:J6 -> PAVIMENTAÇÃO DE VIAS URBANAS NO MUNICÍPIO DE URUARÁ - PARÁ | K5: DATA BASE | M5: 45839
K6: DATA DA EMISSÃO | M6: 45884
K7: Referencia | M7: Mensal
B9: MEMORIA DE CALCULO
B10: CTEF: | E10: ='1.4.1'!E10:M10 -> OGU MTUR 975474/2025
B11: UNIDADE: | E11: UNIDADE | K11: TITULO: | M11: =PLANILHA!C3 -> 1.1.
B12: TITULO: | E12: =PLANILHA!F135 -> SINALIZAÇÃO VERTICAL | K12: ITEM: | M12: 1.16
B13: DESCRIÇÃO: | E13: =PLANILHA!F136 -> PLACA DE REGULAMENTAÇÃO EM AÇO D = 0,80 M - PELÍCULA RETRORREFLETIVA TIPO I + SI - FORNECIMENTO E IMPLANTAÇÃO | K13: ITEM: | M13: 1.16.2
B14: MEDIDO: | E14: UNIDADE | F14: UNI | G14: OBJETO: ADEQUAÇÃO DE ESTRADAS VICINAIS
B15: =PLANILHA!C126 -> 1.30.1.
B16: ='1.4.1'!B16 -> FORMULAS E QUADRO DE CÁLCULOS
B17: Ordem | C17: Item | D17: Descrição | H17: QUANTIDADES | M17: TOTAL (UNID)
H18: QUANT (UNID)
B19: 1 | D19: AVENIDA MARQUES DE TAMANDARÉ | H19: 23 | M19: 23
B30: TOTAL DA ATIVIDADE............................................................................................................................................................................. | L30: UNIDADE | M30: =SUM(M19:M29) -> 23
B32: OBSERVAÇÕES: | H32: Total Executado no Mês | M32: =M30 -> 23
H33: Total Executado Anterior | M33: #N/A
H34: Total Executado Acumulado | M34: =M33+M32 -> #N/A
H35: Total Contratado | M35: #N/A
H36: Saldo Atual | M36: =IFERROR(IF(M34>M35,0,M35-M34),"")
H37: Saldo (TAC) | M37: =IF(M34>M35,M34-M35,0) -> #N/A
B38: _____________________________________________
B39: PREFEITURA MUNICIPAL DE URUARÁ
B40: DOUGLAS NASCIMENTO DOS SANTOS
B41: ENGENHEIRO CIVIL CREA/PA: 151536623-5

Sheet 1.16.3
B1: PREFEITURA MUNICIPAL DE URUARÁ
K2: DADOS
K3: MEMÓRIA | M3: 1.16
K4: BM: | M4: 5
B5: OBJETO | E5: ='1.4.1'!E5:J6 -> PAVIMENTAÇÃO DE VIAS URBANAS NO MUNICÍPIO DE URUARÁ - PARÁ | K5: DATA BASE | M5: 45839
K6: DATA DA EMISSÃO | M6: 45884
K7: Referencia | M7: Mensal
B9: MEMORIA DE CALCULO
B10: CTEF: | E10: ='1.4.1'!E10:M10 -> OGU MTUR 975474/2025
B11: UNIDADE: | E11: UNIDADE | K11: TITULO: | M11: =PLANILHA!C3 -> 1.1.
B12: TITULO: | E12: =PLANILHA!F135 -> SINALIZAÇÃO VERTICAL | K12: ITEM: | M12: 1.16
B13: DESCRIÇÃO: | E13: =PLANILHA!F137 -> PLACA DE ADVERTÊNCIA EM AÇO, LADO DE 0,80 M - PELÍCULA RETRORREFLETIVA TIPO I + SI - FORNECIMENTO E IMPLANTAÇÃO | K13: ITEM: | M13: 1.16.3
B14: MEDIDO: | E14: UNIDADE | F14: UNI | G14: OBJETO: ADEQUAÇÃO DE ESTRADAS VICINAIS
B15: =PLANILHA!C126 -> 1.30.1.
B16: ='1.4.1'!B16 -> FORMULAS E QUADRO DE CÁLCULOS
B17: Ordem | C17: Item | D17: Descrição | H17: QUANTIDADES | M17: TOTAL (UNID)
H18: QUANT (UNID)
B19: 1 | D19: AVENIDA MARQUES DE TAMANDARÉ | H19: 7 | M19: 7
B30: TOTAL DA ATIVIDADE............................................................................................................................................................................. | L30: UNIDADE | M30: =SUM(M19:M29) -> 7
B32: OBSERVAÇÕES: | H32: Total Executado no Mês | M32: =M30 -> 7
H33: Total Executado Anterior | M33: #N/A
H34: Total Executado Acumulado | M34: =M33+M32 -> #N/A
H35: Total Contratado | M35: #N/A
H36: Saldo Atual | M36: =IFERROR(IF(M34>M35,0,M35-M34),"")
H37: Saldo (TAC) | M37: =IF(M34>M35,M34-M35,0) -> #N/A
B38: _____________________________________________
B39: PREFEITURA MUNICIPAL DE URUARÁ
B40: DOUGLAS NASCIMENTO DOS SANTOS
B41: ENGENHEIRO CIVIL CREA/PA: 151536623-5

Sheet 1.17.1
B1: PREFEITURA MUNICIPAL DE URUARÁ
K2: DADOS
K3: MEMÓRIA | M3: 1.17
K4: BM: | M4: 5
B5: OBJETO | E5: ='1.4.1'!E5:J6 -> PAVIMENTAÇÃO DE VIAS URBANAS NO MUNICÍPIO DE URUARÁ - PARÁ | K5: DATA BASE | M5: 45839
K6: DATA DA EMISSÃO | M6: 45884
K7: Referencia | M7: Mensal
B9: MEMORIA DE CALCULO
B10: CTEF: | E10: ='1.4.1'!E10:M10 -> OGU MTUR 975474/2025
B11: UNIDADE: | E11: UNIDADE | K11: TITULO: | M11: =PLANILHA!C3 -> 1.1.
B12: TITULO: | E12: =PLANILHA!F140 -> SINALIZAÇÃO HORIZONTAL | K12: ITEM: | M12: 1.17
B13: DESCRIÇÃO: | E13: =PLANILHA!F141 -> SINALIZACAO HORIZONTAL COM TINTA RETRORREFLETIVA A BASE DE RESINA ACRILICA COM MICROESFERAS DE VIDRO | K13: ITEM: | M13: 1.17.1
B14: MEDIDO: | E14: UNIDADE | F14: UNI | G14: OBJETO: ADEQUAÇÃO DE ESTRADAS VICINAIS
B15: =PLANILHA!C126 -> 1.30.1.
B16: ='1.4.1'!B16 -> FORMULAS E QUADRO DE CÁLCULOS
B17: Ordem | C17: Item | D17: Descrição | H17: QUANTIDADES | M17: TOTAL (M²)
H18: AREA (M2)
B19: 1 | D19: TRECHO A SER PAVIMENTADO | M19: =M20+M21+M22+M23 -> 251.12
D20: FAIXA CONTINUA AMARELA | H20: 83.34 | M20: =ROUND((H20),2) -> 83.34
D21: FAIXA CONTINUA BRANCA | H21: 147.48 | M21: =ROUND((H21),2) -> 147.48
D22: FAIXA SECCIONADA | H22: 5.9 | M22: =ROUND((H22),2) -> 5.9
D23: FAIXA DE PEDESTRE | H23: 14.4 | M23: =ROUND((H23),2) -> 14.4
B25: 2 | D25: TRECHO A SER RECAPEADO | M25: =M28+M29 -> 87.25
B26: 2 | D26: TRECHO - AVENIDA PARÁ PARA AVENIDA TAPAJÓS | H26: 165.25 | M26: =ROUND((H26),2) -> 165.25
B27: 6 | D27: TRECHO - AVENIDA TAPAJÓS PARA AVENIDA DAS MANGUEIRAS | H27: 183.75 | M27: =ROUND((H27),2) -> 183.75
D28: FAIXA CONTINUA BRANCA | H28: =(H27+H26)*2*0.1 -> 69.8 | M28: =ROUND((H28),2) -> 69.8
D29: FAIXA SECCIONADA | H29: =(H27+H26)*0.5*0.1 -> 17.45 | M29: =ROUND((H29),2) -> 17.45
B33: TOTAL DA ATIVIDADE............................................................................................................................................................................. | M33: =M25+M19 -> 338.37
B35: OBSERVAÇÕES: | H35: Total Executado no Mês | M35: =M33 -> 338.37
H36: Total Executado Anterior | M36: #N/A
H37: Total Executado Acumulado | M37: =M36+M35 -> #N/A
H38: Total Contratado | M38: #N/A
H39: Saldo Atual | M39: =IFERROR(IF(M37>M38,0,M38-M37),"")
H40: Saldo (TAC) | M40: =IF(M37>M38,M37-M38,0) -> #N/A
B41: _____________________________________________
B42: PREFEITURA MUNICIPAL DE URUARÁ
B43: DOUGLAS NASCIMENTO DOS SANTOS
B44: ENGENHEIRO CIVIL CREA/PA: 151536623-5

Sheet 1.18.1
B1: PREFEITURA MUNICIPAL DE URUARÁ
K2: DADOS
K3: MEMÓRIA | M3: 1.18
K4: BM: | M4: 5
B5: OBJETO | E5: ='1.4.1'!E5:J6 -> PAVIMENTAÇÃO DE VIAS URBANAS NO MUNICÍPIO DE URUARÁ - PARÁ | K5: DATA BASE | M5: 45839
K6: DATA DA EMISSÃO | M6: 45884
K7: Referencia | M7: Mensal
B9: MEMORIA DE CALCULO
B10: CTEF: | E10: ='1.4.1'!E10:M10 -> OGU MTUR 975474/2025
B11: UNIDADE: | E11: UNIDADE | K11: TITULO: | M11: =PLANILHA!C3 -> 1.1.
B12: TITULO: | E12: PLACA DE INAUGURAÇÃO | K12: ITEM: | M12: 1.18 | O12: PLACA DE INAUGURAÇÃO EM AÇO INOX/LETRAS BX. RELEVO- (40 X 30CM)
B13: DESCRIÇÃO: | E13: =O12 -> PLACA DE INAUGURAÇÃO EM AÇO INOX/LETRAS BX. RELEVO- (40 X 30CM) | K13: ITEM: | M13: 1.18.1
B14: MEDIDO: | E14: UNIDADE | F14: UNI | G14: OBJETO: ADEQUAÇÃO DE ESTRADAS VICINAIS
B15: =PLANILHA!C126 -> 1.30.1.
B16: ='1.4.1'!B16 -> FORMULAS E QUADRO DE CÁLCULOS
B17: Ordem | C17: Item | D17: Descrição | H17: QUANTIDADES | M17: TOTAL (UNID)
H18: QUANT (UNID)
B19: 1 | D19: PLACA DE INAUGURAÇÃO | H19: 1 | M19: 1
B30: TOTAL DA ATIVIDADE............................................................................................................................................................................. | L30: UNIDADE | M30: =SUM(M19:M29) -> 1
B32: OBSERVAÇÕES: | H32: Total Executado no Mês | M32: =M30 -> 1
H33: Total Executado Anterior | M33: #N/A
H34: Total Executado Acumulado | M34: =M33+M32 -> #N/A
H35: Total Contratado | M35: #N/A
H36: Saldo Atual | M36: =IFERROR(IF(M34>M35,0,M35-M34),"")
H37: Saldo (TAC) | M37: =IF(M34>M35,M34-M35,0) -> #N/A
B38: _____________________________________________
B39: PREFEITURA MUNICIPAL DE URUARÁ
B40: DOUGLAS NASCIMENTO DOS SANTOS
B41: ENGENHEIRO CIVIL CREA/PA: 151536623-5

Sheet 1.19.1
B1: PREFEITURA MUNICIPAL DE URUARÁ
K2: DADOS
K3: MEMÓRIA | M3: 1.19
K4: BM: | M4: 5
B5: OBJETO | E5: ='1.4.1'!E5:J6 -> PAVIMENTAÇÃO DE VIAS URBANAS NO MUNICÍPIO DE URUARÁ - PARÁ | K5: DATA BASE | M5: 45839
K6: DATA DA EMISSÃO | M6: 45884
K7: Referencia | M7: Mensal
B9: MEMORIA DE CALCULO
B10: CTEF: | E10: ='1.4.1'!E10:M10 -> OGU MTUR 975474/2025
B11: UNIDADE: | E11: UNIDADE | K11: TITULO: | M11: =PLANILHA!C3 -> 1.1.
B12: TITULO: | E12: RECAPEAMENTO MARQUES DE TAMANDARÉ DO TRECHO AVENIDA PARÁ A AVENIDA DAS MANGUEIRAS | K12: ITEM: | M12: 1.19
B13: DESCRIÇÃO: | E13: =PLANILHA!F91 -> EXECUÇÃO DE IMPRIMAÇÃO COM ASFALTO DILUÍDO CM-30 | K13: ITEM: | M13: 1.19.1 | O13: 65.92 | P13: =32.96*0.2 -> 6.592
B14: MEDIDO: | E14: UNIDADE | F14: UNI | G14: OBJETO: ADEQUAÇÃO DE ESTRADAS VICINAIS
P15: =O13+P13 -> 72.512 | R15: =11.78*1.2 -> 14.136
B16: ='1.4.1'!B16 -> FORMULAS E QUADRO DE CÁLCULOS
B17: Ordem | C17: Item | D17: Descrição | H17: QUANTIDADES | M17: TOTAL (M²) | Q17: =11.78*2 -> 23.56
H18: C (M) | I18: L (M) | R18: =Q17+R15 -> 37.696
B19: 1 | D19: TRECHO - AVENIDA PARÁ PARA AVENIDA TAPAJÓS | H19: 165.25 | I19: 7.1 | M19: =ROUND((H19*I19),2) -> 1173.28 | R19: =R18*2 -> 75.392
B20: 2 | D20: TRECHO - AVENIDA TAPAJÓS PARA AVENIDA DAS MANGUEIRAS | H20: 183.75 | I20: 7.1 | M20: =ROUND((H20*I20),2) -> 1304.63
O21: =340*7 -> 2380
O22: =195*7 -> 1365
O23: =O22+O21 -> 3745
O28: =I19+0.9+2.4 -> 10.4 | P28: =H19*O28 -> 1718.6
B33: TOTAL DA ATIVIDADE............................................................................................................................................................................. | M33: =SUM(M19:M32) -> 2477.91
B35: OBSERVAÇÕES: | H35: Total Executado no Mês | M35: =M33 -> 2477.91
H36: Total Executado Anterior | M36: #N/A
H37: Total Executado Acumulado | M37: =M36+M35 -> #N/A
H38: Total Contratado | M38: #N/A
H39: Saldo Atual | M39: =IFERROR(IF(M37>M38,0,M38-M37),"")
H40: Saldo (TAC) | M40: =IF(M37>M38,M37-M38,0) -> #N/A
B41: _____________________________________________
B42: PREFEITURA MUNICIPAL DE URUARÁ
B43: DOUGLAS NASCIMENTO DOS SANTOS
B44: ENGENHEIRO CIVIL CREA/PA: 151536623-5

Sheet 1.19.2
B1: PREFEITURA MUNICIPAL DE URUARÁ
K2: DADOS
K3: MEMÓRIA | M3: 1.19
K4: BM: | M4: 5
B5: OBJETO | E5: ='1.4.1'!E5:J6 -> PAVIMENTAÇÃO DE VIAS URBANAS NO MUNICÍPIO DE URUARÁ - PARÁ | K5: DATA BASE | M5: 45839
K6: DATA DA EMISSÃO | M6: 45884
K7: Referencia | M7: Mensal
B9: MEMORIA DE CALCULO
B10: CTEF: | E10: ='1.4.1'!E10:M10 -> OGU MTUR 975474/2025
B11: UNIDADE: | E11: UNIDADE | K11: TITULO: | M11: =PLANILHA!C3 -> 1.1.
B12: TITULO: | E12: RECAPEAMENTO MARQUES DE TAMANDARÉ DO TRECHO AVENIDA PARÁ A AVENIDA DAS MANGUEIRAS | K12: ITEM: | M12: 1.19
B13: DESCRIÇÃO: | E13: =PLANILHA!F92 -> EXECUÇÃO DE PINTURA DE LIGAÇÃO COM EMULSÃO ASFÁLTICA RR-2C | K13: ITEM: | M13: 1.19.2
B14: MEDIDO: | E14: UNIDADE | F14: UNI | G14: OBJETO: ADEQUAÇÃO DE ESTRADAS VICINAIS
B16: ='1.4.1'!B16 -> FORMULAS E QUADRO DE CÁLCULOS
B17: Ordem | C17: Item | D17: Descrição | H17: QUANTIDADES | M17: TOTAL (M²)
H18: C (M) | I18: L (M)
B19: 1 | D19: TRECHO - AVENIDA PARÁ PARA AVENIDA TAPAJÓS | H19: ='1.19.1'!H19 -> 165.25 | I19: 7.1 | M19: =ROUND((H19*I19),2) -> 1173.28
B20: 2 | D20: TRECHO - AVENIDA TAPAJÓS PARA AVENIDA DAS MANGUEIRAS | H20: ='1.19.1'!H20 -> 183.75 | I20: 7.1 | M20: =ROUND((H20*I20),2) -> 1304.63
B33: TOTAL DA ATIVIDADE............................................................................................................................................................................. | L33: UNIDADE | M33: =SUM(M19:M32) -> 2477.91
B35: OBSERVAÇÕES: | H35: Total Executado no Mês | M35: =M33 -> 2477.91
H36: Total Executado Anterior | M36: #N/A
H37: Total Executado Acumulado | M37: =M36+M35 -> #N/A
H38: Total Contratado | M38: #N/A
H39: Saldo Atual | M39: =IFERROR(IF(M37>M38,0,M38-M37),"")
H40: Saldo (TAC) | M40: =IF(M37>M38,M37-M38,0) -> #N/A
B41: _____________________________________________
B42: PREFEITURA MUNICIPAL DE URUARÁ
B43: DOUGLAS NASCIMENTO DOS SANTOS
B44: ENGENHEIRO CIVIL CREA/PA: 151536623-5

Sheet 1.19.3
B1: PREFEITURA MUNICIPAL DE URUARÁ
K2: DADOS
K3: MEMÓRIA | M3: 1.19
K4: BM: | M4: 5
B5: OBJETO | E5: ='1.4.1'!E5:J6 -> PAVIMENTAÇÃO DE VIAS URBANAS NO MUNICÍPIO DE URUARÁ - PARÁ | K5: DATA BASE | M5: 45839
K6: DATA DA EMISSÃO | M6: 45884
K7: Referencia | M7: Mensal
B9: MEMORIA DE CALCULO
B10: CTEF: | E10: ='1.4.1'!E10:M10 -> OGU MTUR 975474/2025
B11: UNIDADE: | E11: UNIDADE | K11: TITULO: | M11: =PLANILHA!C3 -> 1.1.
B12: TITULO: | E12: RECAPEAMENTO MARQUES DE TAMANDARÉ DO TRECHO AVENIDA PARÁ A AVENIDA DAS MANGUEIRAS | K12: ITEM: | M12: 1.19
B13: DESCRIÇÃO: | E13: =PLANILHA!F93 -> EXECUÇÃO DE PAVIMENTO COM APLICAÇÃO DE CONCRETO ASFÁLTICO, CAMADA DE ROLAMENTO - EXCLUSIVE CARGA E TRANSPORTE. AF_11/2019 | K13: ITEM: | M13: 1.19.3 | O13: EXECUÇÃO DE PAVIMENTO COM APLICAÇÃO DE CONCRETO ASFÁLTICO, CAMADA DE ROLAMENTO - EXCLUSIVE CARGA E TRANSPORTE. AF_11/2019
B14: MEDIDO: | E14: UNIDADE | F14: UNI | G14: OBJETO: ADEQUAÇÃO DE ESTRADAS VICINAIS
B16: ='1.4.1'!B16 -> FORMULAS E QUADRO DE CÁLCULOS
B17: Ordem | C17: Item | D17: Descrição | H17: QUANTIDADES | M17: TOTAL (M³)
H18: C (M) | I18: L (M) | J18: E(M)
B19: 1 | D19: TRECHO - AVENIDA PARÁ PARA AVENIDA TAPAJÓS | H19: ='1.19.1'!H19 -> 165.25 | I19: ='1.19.1'!I19 -> 7.1 | J19: 0.03 | M19: =ROUND((H19*I19*J19),2) -> 35.2
B20: 2 | D20: TRECHO - AVENIDA TAPAJÓS PARA AVENIDA DAS MANGUEIRAS | H20: ='1.19.1'!H20 -> 183.75 | I20: ='1.19.1'!I20 -> 7.1 | J20: 0.03 | M20: =ROUND((H20*I20*J20),2) -> 39.14
B33: TOTAL DA ATIVIDADE............................................................................................................................................................................. | L33: UNIDADE | M33: =SUM(M19:M32) -> 74.34
B35: OBSERVAÇÕES: | H35: Total Executado no Mês | M35: =M33 -> 74.34
H36: Total Executado Anterior | M36: #N/A
H37: Total Executado Acumulado | M37: =M36+M35 -> #N/A
H38: Total Contratado | M38: #N/A
H39: Saldo Atual | M39: =IFERROR(IF(M37>M38,0,M38-M37),"")
H40: Saldo (TAC) | M40: =IF(M37>M38,M37-M38,0) -> #N/A
B41: _____________________________________________
B42: PREFEITURA MUNICIPAL DE URUARÁ
B43: DOUGLAS NASCIMENTO DOS SANTOS
B44: ENGENHEIRO CIVIL CREA/PA: 151536623-5

Sheet 1.19.4
B1: PREFEITURA MUNICIPAL DE URUARÁ
K2: DADOS
K3: MEMÓRIA | M3: =M12 -> 1.19
K4: BM: | M4: 5
B5: OBJETO | E5: ='1.4.1'!E5:J6 -> PAVIMENTAÇÃO DE VIAS URBANAS NO MUNICÍPIO DE URUARÁ - PARÁ | K5: DATA BASE | M5: 45839
K6: DATA DA EMISSÃO | M6: 45884
K7: Referencia | M7: Mensal
B9: MEMORIA DE CALCULO
B10: CTEF: | E10: ='1.4.1'!E10:M10 -> OGU MTUR 975474/2025
B11: UNIDADE: | E11: UNIDADE | K11: TITULO: | M11: =PLANILHA!C3 -> 1.1.
B12: TITULO: | E12: RECAPEAMENTO MARQUES DE TAMANDARÉ DO TRECHO AVENIDA PARÁ A AVENIDA DAS MANGUEIRAS | K12: ITEM: | M12: 1.19
B13: DESCRIÇÃO: | E13: =PLANILHA!F94 -> CARGA DE MISTURA ASFÁLTICA EM CAMINHÃO BASCULANTE 10 M³ (UNIDADE: M3). AF_07/2020 | K13: ITEM: | M13: 1.19.4 | O13: CARGA DE MISTURA ASFÁLTICA EM CAMINHÃO BASCULANTE 10 M³ (UNIDADE: M3). AF_07/2020
B14: MEDIDO: | E14: UNIDADE | F14: UNI | G14: OBJETO: ADEQUAÇÃO DE ESTRADAS VICINAIS
B16: ='1.4.1'!B16 -> FORMULAS E QUADRO DE CÁLCULOS
B17: Ordem | C17: Item | D17: Descrição | H17: QUANTIDADES | M17: TOTAL (M³)
H18: C (M) | I18: L (M) | J18: E(M)
B19: 1 | D19: TRECHO - AVENIDA PARÁ PARA AVENIDA TAPAJÓS | H19: ='1.19.1'!H19 -> 165.25 | I19: ='1.19.1'!I19 -> 7.1 | J19: ='1.19.3'!J19 -> 0.03 | M19: =ROUND((H19*I19*J19),2) -> 35.2
B20: 2 | D20: TRECHO - AVENIDA TAPAJÓS PARA AVENIDA DAS MANGUEIRAS | H20: ='1.19.1'!H20 -> 183.75 | I20: ='1.19.1'!I20 -> 7.1 | J20: ='1.19.3'!J20 -> 0.03 | M20: =ROUND((H20*I20*J20),2) -> 39.14
B33: TOTAL DA ATIVIDADE............................................................................................................................................................................. | L33: UNIDADE | M33: =SUM(M19:M32) -> 74.34
B35: OBSERVAÇÕES: | H35: Total Executado no Mês | M35: =M33 -> 74.34
H36: Total Executado Anterior | M36: #N/A
H37: Total Executado Acumulado | M37: =M36+M35 -> #N/A
H38: Total Contratado | M38: #N/A
H39: Saldo Atual | M39: =IFERROR(IF(M37>M38,0,M38-M37),"")
H40: Saldo (TAC) | M40: =IF(M37>M38,M37-M38,0) -> #N/A
B41: _____________________________________________
B42: PREFEITURA MUNICIPAL DE URUARÁ
B43: DOUGLAS NASCIMENTO DOS SANTOS
B44: ENGENHEIRO CIVIL CREA/PA: 151536623-5

Sheet 1.19.5
B1: PREFEITURA MUNICIPAL DE URUARÁ
K2: DADOS
K3: MEMÓRIA | M3: =M12 -> 1.19
K4: BM: | M4: 5
B5: OBJETO | E5: ='1.4.1'!E5:J6 -> PAVIMENTAÇÃO DE VIAS URBANAS NO MUNICÍPIO DE URUARÁ - PARÁ | K5: DATA BASE | M5: 45839
K6: DATA DA EMISSÃO | M6: 45884
K7: Referencia | M7: Mensal
B9: MEMORIA DE CALCULO
B10: CTEF: | E10: ='1.4.1'!E10:M10 -> OGU MTUR 975474/2025
B11: UNIDADE: | E11: UNIDADE | K11: TITULO: | M11: =PLANILHA!C3 -> 1.1.
B12: TITULO: | E12: RECAPEAMENTO MARQUES DE TAMANDARÉ DO TRECHO AVENIDA PARÁ A AVENIDA DAS MANGUEIRAS | K12: ITEM: | M12: 1.19
B13: DESCRIÇÃO: | E13: TRANSPORTE COM CAMINHÃO BASCULANTE DE 18 M³, EM VIA URBANA PAVIMENTADA, DMT ATÉ 30 KM (UNIDADE: M3XKM). AF_07/2020 | K13: ITEM: | M13: 1.19.5 | O13: TRANSPORTE COM CAMINHÃO BASCULANTE DE 14 M³, EM VIA URBANA PAVIMENTADA, DMT ATÉ 30 KM (UNIDADE: M3XKM). AF_07/2020
B14: MEDIDO: | E14: UNIDADE | F14: UNI | G14: OBJETO: ADEQUAÇÃO DE ESTRADAS VICINAIS
B16: ='1.4.1'!B16 -> FORMULAS E QUADRO DE CÁLCULOS
B17: Ordem | C17: Item | D17: Descrição | H17: QUANTIDADES | M17: TOTAL (M³XKM)
H18: V (M³) | I18: DMT (KM)
B19: 1 | D19: VOLUME (M³)* DMT (KM) | H19: ='1.19.4'!M33 -> 74.34 | I19: 30 | M19: =ROUND((H19*I19),2) -> 2230.2
B36: TOTAL DA ATIVIDADE............................................................................................................................................................................. | L36: UNIDADE | M36: =SUM(M19:M35) -> 2230.2
B38: OBSERVAÇÕES: | H38: Total Executado no Mês | M38: =M36 -> 2230.2
H39: Total Executado Anterior | M39: #N/A
H40: Total Executado Acumulado | M40: =M39+M38 -> #N/A
H41: Total Contratado | M41: #N/A
H42: Saldo Atual | M42: =IFERROR(IF(M40>M41,0,M41-M40),"")
H43: Saldo (TAC) | M43: =IF(M40>M41,M40-M41,0) -> #N/A
B44: _____________________________________________
B45: PREFEITURA MUNICIPAL DE URUARÁ
B46: DOUGLAS NASCIMENTO DOS SANTOS
B47: ENGENHEIRO CIVIL CREA/PA: 151536623-5

Sheet 1.19.6
B1: PREFEITURA MUNICIPAL DE URUARÁ
K2: DADOS
K3: MEMÓRIA | M3: 1.19
K4: BM: | M4: 5
B5: OBJETO | E5: ='1.4.1'!E5:J6 -> PAVIMENTAÇÃO DE VIAS URBANAS NO MUNICÍPIO DE URUARÁ - PARÁ | K5: DATA BASE | M5: 45839
K6: DATA DA EMISSÃO | M6: 45884
K7: Referencia | M7: Mensal
B9: MEMORIA DE CALCULO
B10: CTEF: | E10: ='1.4.1'!E10:M10 -> OGU MTUR 975474/2025
B11: UNIDADE: | E11: UNIDADE | K11: TITULO: | M11: =PLANILHA!C3 -> 1.1.
B12: TITULO: | E12: RECAPEAMENTO MARQUES DE TAMANDARÉ DO TRECHO AVENIDA PARÁ A AVENIDA DAS MANGUEIRAS | K12: ITEM: | M12: 1.19
B13: DESCRIÇÃO: | E13: TRANSPORTE COM CAMINHÃO BASCULANTE DE 18 M³, EM VIA URBANA PAVIMENTADA, ADICIONAL PARA DMT EXCEDENTE A 30 KM (UNIDADE: M3XKM). AF_07/2020 | K13: ITEM: | M13: 1.19.6 | N13: TRANSPORTE COM CAMINHÃO BASCULANTE DE 14 M³, EM VIA URBANA PAVIMENTADA, ADICIONAL PARA DMT EXCEDENTE A 30 KM (UNIDADE: M3XKM). AF_07/2020
B14: MEDIDO: | E14: UNIDADE | F14: UNI | G14: OBJETO: ADEQUAÇÃO DE ESTRADAS VICINAIS
B16: ='1.4.1'!B16 -> FORMULAS E QUADRO DE CÁLCULOS
B17: Ordem | C17: Item | D17: Descrição | H17: QUANTIDADES | M17: TOTAL (M³XKM)
H18: V (M³) | I18: DMT (KM)
B19: 1 | D19: VOLUME (M³)* DMT (KM) | H19: ='1.19.4'!M33 -> 74.34 | I19: =189.5-30 -> 159.5 | M19: =ROUND((H19*I19),2) -> 11857.23
B36: TOTAL DA ATIVIDADE............................................................................................................................................................................. | L36: UNIDADE | M36: =SUM(M19:M35) -> 11857.23
B38: OBSERVAÇÕES: | H38: Total Executado no Mês | M38: =M36 -> 11857.23
H39: Total Executado Anterior | M39: #N/A
H40: Total Executado Acumulado | M40: =M39+M38 -> #N/A
H41: Total Contratado | M41: #N/A
H42: Saldo Atual | M42: =IFERROR(IF(M40>M41,0,M41-M40),"")
H43: Saldo (TAC) | M43: =IF(M40>M41,M40-M41,0) -> #N/A
B44: _____________________________________________
B45: PREFEITURA MUNICIPAL DE URUARÁ
B46: DOUGLAS NASCIMENTO DOS SANTOS
B47: ENGENHEIRO CIVIL CREA/PA: 151536623-5
