Workbook

Sheet PLANILHA
A1: LOTE | B1: LOTE | C1: ADEQUAÇÃO DE ESTRADAS VICINAIS | L1: 4728510.7
A2: Meta | B2: Meta | C2: 1. | D2: SINAPI | F2: RECUPERAÇÃO DE TRECHO DA VICINAL DO KM 180 SUL | G2: - | H2: - | J2: BDI 1 | K2: - | L2: 4728510.7
A3: Nível 2 | B3: Nível 2 | C3: 1.1. | D3: SINAPI | F3: ADMINISTRAÇÃO LOCAL | G3: - | H3: - | J3: BDI 1 | K3: - | L3: 9194.51
A4: Serviço | B4: Serviço | C4: 1.1.1. | D4: PROPRIA | E4: 16 | F4: ADMINISTRAÇÃO LOCAL | G4: UND | H4: 0.1 | I4: 74521.92 | J4: BDI 1 | K4: 91945.14 | L4: 9194.51
A5: Nível 2 | B5: Nível 2 | C5: 1.2. | D5: SINAPI | F5: ADMINISTRAÇÃO LOCAL | G5: - | H5: - | J5: BDI 1 | K5: - | L5: 9194.51
A6: Serviço | B6: Serviço | C6: 1.2.1. | D6: PROPRIA | E6: 16 | F6: ADMINISTRAÇÃO LOCAL | G6: UND | H6: 0.1 | I6: 74521.92 | J6: BDI 1 | K6: 91945.14 | L6: 9194.51
A7: Nível 2 | B7: Nível 2 | C7: 1.3. | D7: SINAPI | F7: ADMINISTRAÇÃO LOCAL | G7: - | H7: - | J7: BDI 1 | K7: - | L7: 18389.03
A8: Serviço | B8: Serviço | C8: 1.3.1. | D8: PROPRIA | E8: 16 | F8: ADMINISTRAÇÃO LOCAL | G8: UND | H8: 0.2 | I8: 74521.92 | J8: BDI 1 | K8: 91945.14 | L8: 18389.03
A9: Nível 2 | B9: Nível 2 | C9: 1.4. | D9: SINAPI | F9: ADMINISTRAÇÃO LOCAL | G9: - | H9: - | J9: BDI 1 | K9: - | L9: 18389.03
A10: Serviço | B10: Serviço | C10: 1.4.1. | D10: PROPRIA | E10: 16 | F10: ADMINISTRAÇÃO LOCAL | G10: UND | H10: 0.2 | I10: 74521.92 | J10: BDI 1 | K10: 91945.14 | L10: 18389.03
A11: Nível 2 | B11: Nível 2 | C11: 1.5. | D11: SINAPI | F11: ADMINISTRAÇÃO LOCAL | G11: - | H11: - | J11: BDI 1 | K11: - | L11: 9194.51
A12: Serviço | B12: Serviço | C12: 1.5.1. | D12: PROPRIA | E12: 16 | F12: ADMINISTRAÇÃO LOCAL | G12: UND | H12: 0.1 | I12: 74521.92 | J12: BDI 1 | K12: 91945.14 | L12: 9194.51
A13: Nível 2 | B13: Nível 2 | C13: 1.6. | D13: SINAPI | F13: ADMINISTRAÇÃO LOCAL | G13: - | H13: - | J13: BDI 1 | K13: - | L13: 9194.51
A14: Serviço | B14: Serviço | C14: 1.6.1. | D14: PROPRIA | E14: 16 | F14: ADMINISTRAÇÃO LOCAL | G14: UND | H14: 0.1 | I14: 74521.92 | J14: BDI 1 | K14: 91945.14 | L14: 9194.51
A15: Nível 2 | B15: Nível 2 | C15: 1.7. | D15: SINAPI | F15: ADMINISTRAÇÃO LOCAL | G15: - | H15: - | J15: BDI 1 | K15: - | L15: 9194.51
A16: Serviço | B16: Serviço | C16: 1.7.1. | D16: PROPRIA | E16: 16 | F16: ADMINISTRAÇÃO LOCAL | G16: UND | H16: 0.1 | I16: 74521.92 | J16: BDI 1 | K16: 91945.14 | L16: 9194.51
A17: Nível 2 | B17: Nível 2 | C17: 1.8. | D17: SINAPI | F17: ADMINISTRAÇÃO LOCAL | G17: - | H17: - | J17: BDI 1 | K17: - | L17: 9194.51
A18: Serviço | B18: Serviço | C18: 1.8.1. | D18: PROPRIA | E18: 16 | F18: ADMINISTRAÇÃO LOCAL | G18: UND | H18: 0.1 | I18: 74521.92 | J18: BDI 1 | K18: 91945.14 | L18: 9194.51
A19: Nível 2 | B19: Nível 2 | C19: 1.9. | D19: SINAPI | F19: SERVIÇOS PRELIMINARES | G19: - | H19: - | J19: BDI 1 | K19: - | L19: 3525.19
A20: Serviço | B20: Serviço | C20: 1.9.1. | D20: PROPRIA | E20: 1 | F20: FORNECIMENTO E INSTALAÇÃO DE PLACA DE OBRA COM CHAPA GALVANIZADA E ESTRUTURA DE MADEIRA | G20: M2 | H20: 6 | I20: 337.92 | J20: BDI 1 | K20: 416.93 | L20: 2501.58
A21: Serviço | B21: Serviço | C21: 1.9.2. | D21: SINAPI | E21: 99064 | F21: LOCAÇÃO DE PAVIMENTAÇÃO. AF_10/2018 | G21: M | H21: 1764.84 | I21: 0.47 | J21: BDI 1 | K21: 0.58 | L21: 1023.61
A22: Nível 2 | B22: Nível 2 | C22: 1.10. | D22: SINAPI | F22: PROJETO EXECUTIVO/AS BUILT | G22: - | H22: - | J22: BDI 1 | K22: - | L22: 92441.13
A23: Serviço | B23: Serviço | C23: 1.10.1. | D23: PROPRIA | E23: 17 | F23: PROJETO EXECUTIVO/AS BUILT | G23: UND | H23: 1 | I23: 74923.92 | J23: BDI 1 | K23: 92441.13 | L23: 92441.13
A24: Nível 2 | B24: Nível 2 | C24: 1.11. | D24: SINAPI | F24: MOBILIZAÇÃO | G24: - | H24: - | J24: BDI 1 | K24: - | L24: 27396.06
A25: Serviço | B25: Serviço | C25: 1.11.1. | D25: PROPRIA | E25: 13 | F25: MOBILIZAÇÃO DE MAQUINÁRIOS | G25: UND | H25: 1 | I25: 22204.62 | J25: BDI 1 | K25: 27396.06 | L25: 27396.06
A26: Nível 2 | B26: Nível 2 | C26: 1.12. | D26: PROPRIA | E26: 14 | F26: DESMOBILIZAÇÃO | G26: - | H26: - | I26: - | J26: BDI 1 | K26: - | L26: 27396.06
A27: Serviço | B27: Serviço | C27: 1.12.1. | D27: PROPRIA | E27: 14 | F27: DESMOBILIZAÇÃO DE MAQUINÁRIOS | G27: UND | H27: 1 | I27: 22204.62 | J27: BDI 1 | K27: 27396.06 | L27: 27396.06
A28: Nível 4 | B28: Nível 4 | C28: 1.13. | D28: SINAPI | F28: REGULARIZAÇÃO E SUBLEITO (TRECHO I, II E II) | G28: - | H28: - | J28: BDI 1 | K28: - | L28: 234540.44
A29: Serviço | B29: Serviço | C29: 1.13.1. | D29: SINAPI | E29: 98525 | F29: LIMPEZA MECANIZADA DE CAMADA VEGETAL, VEGETAÇÃO E PEQUENAS ÁRVORES (DIÂMETRO DE TRONCO MENOR QUE 0,20 M), COM TRATOR DE ESTEIRAS.AF_05/2018 | G29: M2 | H29: 19942.74 | I29: 0.37 | J29: BDI 1 | K29: 0.46 | L29: 9173.66
A30: Serviço | B30: Serviço | C30: 1.13.2. | D30: SICRO | E30: 5501706 | F30: ESCAVAÇÃO MECÂNICA COM RETROESCAVADEIRA EM MATERIAL DE 1ª CATEGORIA | G30: M³ | H30: 8808.9 | I30: 7.4 | J30: BDI 1 | K30: 9.13 | L30: 80425.26
A31: Serviço | B31: Serviço | C31: 1.13.3. | D31: SINAPI | E31: 100974 | F31: CARGA, MANOBRA E DESCARGA DE SOLOS E MATERIAIS GRANULARES EM CAMINHÃO BASCULANTE 10 M³ - CARGA COM PÁ CARREGADEIRA (CAÇAMBA DE 1,7 A 2,8 M³ / 128 HP) E DESCARGA LIVRE (UNIDADE: M3). AF_07/2020 | G31: M3 | H31: 11011.12 | I31: 8.16 | J31: BDI 1 | K31: 10.07 | L31: 110881.98
A32: Serviço | B32: Serviço | C32: 1.13.4. | D32: SICRO | E32: 5501706 | F32: ESCAVAÇÃO MECÂNICA COM RETROESCAVADEIRA EM MATERIAL DE 1ª CATEGORIA | G32: M³ | H32: 104.92 | I32: 7.4 | J32: BDI 1 | K32: 9.13 | L32: 957.92
A33: Serviço | B33: Serviço | C33: 1.13.5. | D33: SINAPI | E33: 100974 | F33: CARGA, MANOBRA E DESCARGA DE SOLOS E MATERIAIS GRANULARES EM CAMINHÃO BASCULANTE 10 M³ - CARGA COM PÁ CARREGADEIRA (CAÇAMBA DE 1,7 A 2,8 M³ / 128 HP) E DESCARGA LIVRE (UNIDADE: M3). AF_07/2020 | G33: M3 | H33: 131.15 | I33: 8.16 | J33: BDI 1 | K33: 10.07 | L33: 1320.68
A34: Serviço | B34: Serviço | C34: 1.13.6. | D34: SINAPI | E34: 95875 | F34: TRANSPORTE COM CAMINHÃO BASCULANTE DE 10 M³, EM VIA URBANA PAVIMENTADA, DMT ATÉ 30 KM (UNIDADE: M3XKM). AF_07/2020 | G34: M3XKM | H34: 1259 | I34: 2.23 | J34: BDI 1 | K34: 2.75 | L34: 3462.25
A35: Serviço | B35: Serviço | C35: 1.13.7. | D35: SINAPI | E35: 100577 | F35: REGULARIZAÇÃO E COMPACTAÇÃO DE SUBLEITO DE SOLO PREDOMINANTEMENTE ARENOSO. AF_11/2019 | G35: M2 | H35: 19942.74 | I35: 1.15 | J35: BDI 1 | K35: 1.42 | L35: 28318.69
A36: Nível 4 | B36: Nível 4 | C36: 1.14. | D36: SINAPI | F36: EXECUÇÃO DA SUBBASE (TRECHO I) | G36: - | H36: - | J36: BDI 1 | K36: - | L36: 220846.95
A37: Serviço | B37: Serviço | C37: 1.14.1. | D37: SICRO | E37: 5501706 | F37: ESCAVAÇÃO MECÂNICA COM RETROESCAVADEIRA EM MATERIAL DE 1ª CATEGORIA | G37: M³ | H37: 963.44 | I37: 7.4 | J37: BDI 1 | K37: 9.13 | L37: 8796.21
A38: Serviço | B38: Serviço | C38: 1.14.2. | D38: SINAPI | E38: 100974 | F38: CARGA, MANOBRA E DESCARGA DE SOLOS E MATERIAIS GRANULARES EM CAMINHÃO BASCULANTE 10 M³ - CARGA COM PÁ CARREGADEIRA (CAÇAMBA DE 1,7 A 2,8 M³ / 128 HP) E DESCARGA LIVRE (UNIDADE: M3). AF_07/2020 | G38: M3 | H38: 1204.3 | I38: 8.16 | J38: BDI 1 | K38: 10.07 | L38: 12127.3
A39: Serviço | B39: Serviço | C39: 1.14.3. | D39: SINAPI | E39: 95875 | F39: TRANSPORTE COM CAMINHÃO BASCULANTE DE 10 M³, EM VIA URBANA PAVIMENTADA, DMT ATÉ 30 KM (UNIDADE: M3XKM). AF_07/2020 | G39: M3XKM | H39: 11561.28 | I39: 2.23 | J39: BDI 1 | K39: 2.75 | L39: 31793.52
A40: Serviço | B40: Serviço | C40: 1.14.4. | D40: SINAPI-I | E40: 4746 | F40: PEDREGULHO OU PICARRA DE JAZIDA, AO NATURAL, PARA BASE DE PAVIMENTACAO (RETIRADO NA JAZIDA, SEM TRANSPORTE) | G40: M3 | H40: 963.44 | I40: 139.67 | J40: BDI 2 | K40: 160.2 | L40: 154343.09
...

Sheet 1.1.1
B1: PREFEITURA MUNICIPAL DE URUARÁ
K2: DADOS
K3: MEMÓRIA | M3: =M12 -> 1.1
K4: BM: | M4: 5
B5: OBJETO | E5: PAVIMENTAÇÃO DE VIAS URBANAS NO MUNICÍPIO DE URUARÁ - PARÁ | K5: DATA BASE | M5: 45839
K6: DATA DA EMISSÃO | M6: 45884
K7: Referencia | M7: Mensal
B9: MEMORIA DE CALCULO
B10: CTEF: | E10: OGU MTUR 975474/2025
B11: UNIDADE: | E11: UNIDADE | K11: TITULO: | M11: =PLANILHA!C3 -> 1.1.
B12: TITULO: | E12: ADMINISTRAÇÃO DE OBRA | K12: ITEM: | M12: 1.1
B13: DESCRIÇÃO: | E13: =PLANILHA!F4 -> ADMINISTRAÇÃO LOCAL | K13: ITEM: | M13: 1.1.1
B14: MEDIDO: | E14: UNIDADE | F14: UNI | G14: OBJETO: ADEQUAÇÃO DE ESTRADAS VICINAIS
B16: FORMULAS E QUADRO DE CÁLCULOS
B17: ORDEM | C17: Item | D17: DESCRIÇÕES | H17: QUANTIDADES | M17: TOTAL
H18: DIAS | I18: MESES | J18: H/DIA | M18: HORAS
B19: 1 | D19: ENGENHEIRO CIVIL DE OBRA PLENO COM ENCARGOS COMPLEMENTARES | H19: 10 | I19: 6 | J19: 2 | M19: =ROUND((H19*I19*J19),2) -> 120 | N19: 320
B20: 2 | D20: ENCARREGADO GERAL COM ENCARGOS COMPLEMENTARES | H20: 22 | I20: 6 | J20: 2 | M20: =ROUND((H20*I20*J20),2) -> 264 | N20: 672
B21: 3 | D21: TOPOGRAFO COM ENCARGOS COMPLEMENTARES | H21: 15 | I21: 6 | J21: 2 | M21: =ROUND((H21*I21*J21),2) -> 180 | N21: 400
B22: 4 | D22: AUXILIAR DE TOPÓGRAFO COM ENCARGOS COMPLEMENTARES | H22: 15 | I22: 6 | J22: 2 | M22: =ROUND((H22*I22*J22),2) -> 180 | N22: 400
M23: =ROUND(PRODUCT(I23:K23),2) -> 0
D25: A ADMINISTRAÇÃO É PAGA CONFORME O PERCENTUAL DE OBRA EXECUTADA. A EQUIPE DESCRITA REPRESENTA 1 UNIDADE ADMINISTRATIVA QUE DEVE SE REMUNERADA CONFORME AVANÇO FISICO DO EMPREENDIMENTO. | M25: 1
Q26: 1000000
Q28: =Q26*0.02 -> 20000
B32: TOTAL DA ATIVIDADE............................................................................................................................................................................. | M32: 0.2
B34: OBSERVAÇÕES: | H34: Total Executado no Mês | M34: =M32 -> 0.2
H35: Total Executado Anterior | M35: #N/A
H36: Total Executado Acumulado | M36: =M35+M34 -> #N/A
H37: Total Contratado | M37: #N/A
H38: Saldo Atual | M38: =IFERROR(IF(M36>M37,0,M37-M36),"")
H39: Saldo (TAC) | M39: =IF(M36>M37,M36-M37,0) -> #N/A
B40: _____________________________________________
B41: PREFEITURA MUNICIPAL DE URUARÁ
B42: DOUGLAS NASCIMENTO DOS SANTOS
B43: ENGENHEIRO CIVIL CREA/PA: 151536623-5

Sheet 1.2.1
B1: PREFEITURA MUNICIPAL DE URUARÁ
K2: DADOS
K3: MEMÓRIA | M3: =M12 -> 1.2
K4: BM: | M4: 5
B5: OBJETO | E5: PAVIMENTAÇÃO DE VIAS URBANAS NO MUNICÍPIO DE URUARÁ - PARÁ | K5: DATA BASE | M5: 45839
K6: DATA DA EMISSÃO | M6: 45884
K7: Referencia | M7: Mensal
B9: MEMORIA DE CALCULO
B10: CTEF: | E10: OGU MTUR 975474/2025
B11: UNIDADE: | E11: UNIDADE | K11: TITULO: | M11: =PLANILHA!C3 -> 1.1.
B12: TITULO: | E12: ADMINISTRAÇÃO DE OBRA | K12: ITEM: | M12: 1.2
B13: DESCRIÇÃO: | E13: =PLANILHA!F4 -> ADMINISTRAÇÃO LOCAL | K13: ITEM: | M13: 1.2.1
B14: MEDIDO: | E14: UNIDADE | F14: UNI | G14: OBJETO: ADEQUAÇÃO DE ESTRADAS VICINAIS
B16: FORMULAS E QUADRO DE CÁLCULOS
B17: ORDEM | C17: Item | D17: DESCRIÇÕES | H17: QUANTIDADES | M17: TOTAL
H18: DIAS | I18: MESES | J18: H/DIAS | M18: HORAS
B19: 1 | D19: ENGENHEIRO CIVIL DE OBRA PLENO COM ENCARGOS COMPLEMENTARES | H19: 10 | I19: 6 | J19: 2 | M19: =ROUND((H19*I19*J19),2) -> 120 | N19: 320
B20: 2 | D20: ENCARREGADO GERAL COM ENCARGOS COMPLEMENTARES | H20: 22 | I20: 6 | J20: 2 | M20: =ROUND((H20*I20*J20),2) -> 264 | N20: 672
B21: 3 | D21: TOPOGRAFO COM ENCARGOS COMPLEMENTARES | H21: 15 | I21: 6 | J21: 2 | M21: =ROUND((H21*I21*J21),2) -> 180 | N21: 400
B22: 4 | D22: AUXILIAR DE TOPÓGRAFO COM ENCARGOS COMPLEMENTARES | H22: 15 | I22: 6 | J22: 2 | M22: =ROUND((H22*I22*J22),2) -> 180 | N22: 400
M23: =ROUND(PRODUCT(I23:K23),2) -> 0
D25: A ADMINISTRAÇÃO É PAGA CONFORME O PERCENTUAL DE OBRA EXECUTADA. A EQUIPE DESCRITA REPRESENTA 1 UNIDADE ADMINISTRATIVA QUE DEVE SE REMUNERADA CONFORME AVANÇO FISICO DO EMPREENDIMENTO. | M25: 1
Q26: 1000000
Q28: =Q26*0.02 -> 20000
B32: TOTAL DA ATIVIDADE............................................................................................................................................................................. | M32: 0.2
B34: OBSERVAÇÕES: | H34: Total Executado no Mês | M34: =M32 -> 0.2
H35: Total Executado Anterior | M35: #N/A
H36: Total Executado Acumulado | M36: =M35+M34 -> #N/A
H37: Total Contratado | M37: #N/A
H38: Saldo Atual | M38: =IFERROR(IF(M36>M37,0,M37-M36),"")
H39: Saldo (TAC) | M39: =IF(M36>M37,M36-M37,0) -> #N/A
B40: _____________________________________________
B41: PREFEITURA MUNICIPAL DE URUARÁ
B42: DOUGLAS NASCIMENTO DOS SANTOS
B43: ENGENHEIRO CIVIL CREA/PA: 151536623-5

Sheet 1.3.1
B1: PREFEITURA MUNICIPAL DE URUARÁ
K2: DADOS
K3: MEMÓRIA | M3: =M12 -> 1.3
K4: BM: | M4: 5
B5: OBJETO | E5: PAVIMENTAÇÃO DE VIAS URBANAS NO MUNICÍPIO DE URUARÁ - PARÁ | K5: DATA BASE | M5: 45839
K6: DATA DA EMISSÃO | M6: 45884
K7: Referencia | M7: Mensal
B9: MEMORIA DE CALCULO
B10: CTEF: | E10: OGU MTUR 975474/2025
B11: UNIDADE: | E11: UNIDADE | K11: TITULO: | M11: =PLANILHA!C3 -> 1.1.
B12: TITULO: | E12: ADMINISTRAÇÃO DE OBRA | K12: ITEM: | M12: 1.3
B13: DESCRIÇÃO: | E13: =PLANILHA!F4 -> ADMINISTRAÇÃO LOCAL | K13: ITEM: | M13: 1.3.1
B14: MEDIDO: | E14: UNIDADE | F14: UNI | G14: OBJETO: ADEQUAÇÃO DE ESTRADAS VICINAIS
B16: FORMULAS E QUADRO DE CÁLCULOS
B17: ORDEM | C17: Item | D17: DESCRIÇÕES | H17: QUANTIDADES | M17: TOTAL
H18: DIAS | I18: MESES | J18: H/DIAS | M18: HORAS
B19: 1 | D19: ENGENHEIRO CIVIL DE OBRA PLENO COM ENCARGOS COMPLEMENTARES | H19: 10 | I19: 6 | J19: 2 | M19: =ROUND((H19*I19*J19),2) -> 120 | N19: 320
B20: 2 | D20: ENCARREGADO GERAL COM ENCARGOS COMPLEMENTARES | H20: 22 | I20: 6 | J20: 2 | M20: =ROUND((H20*I20*J20),2) -> 264 | N20: 672
B21: 3 | D21: TOPOGRAFO COM ENCARGOS COMPLEMENTARES | H21: 15 | I21: 6 | J21: 2 | M21: =ROUND((H21*I21*J21),2) -> 180 | N21: 400
B22: 4 | D22: AUXILIAR DE TOPÓGRAFO COM ENCARGOS COMPLEMENTARES | H22: 15 | I22: 6 | J22: 2 | M22: =ROUND((H22*I22*J22),2) -> 180 | N22: 400
M23: =ROUND(PRODUCT(I23:K23),2) -> 0
D25: A ADMINISTRAÇÃO É PAGA CONFORME O PERCENTUAL DE OBRA EXECUTADA. A EQUIPE DESCRITA REPRESENTA 1 UNIDADE ADMINISTRATIVA QUE DEVE SE REMUNERADA CONFORME AVANÇO FISICO DO EMPREENDIMENTO. | M25: 1
Q26: 1000000
Q28: =Q26*0.02 -> 20000
B32: TOTAL DA ATIVIDADE............................................................................................................................................................................. | M32: 0.2
B34: OBSERVAÇÕES: | H34: Total Executado no Mês | M34: =M32 -> 0.2
H35: Total Executado Anterior | M35: #N/A
H36: Total Executado Acumulado | M36: =M35+M34 -> #N/A
H37: Total Contratado | M37: #N/A
H38: Saldo Atual | M38: =IFERROR(IF(M36>M37,0,M37-M36),"")
H39: Saldo (TAC) | M39: =IF(M36>M37,M36-M37,0) -> #N/A
B40: _____________________________________________
B41: PREFEITURA MUNICIPAL DE URUARÁ
B42: DOUGLAS NASCIMENTO DOS SANTOS
B43: ENGENHEIRO CIVIL CREA/PA: 151536623-5

Sheet 1.4.1
B1: PREFEITURA MUNICIPAL DE URUARÁ
K2: DADOS
K3: MEMÓRIA | M3: =M12 -> 1.4
K4: BM: | M4: 5
B5: OBJETO | E5: PAVIMENTAÇÃO DE VIAS URBANAS NO MUNICÍPIO DE URUARÁ - PARÁ | K5: DATA BASE | M5: 45839
K6: DATA DA EMISSÃO | M6: 45884
K7: Referencia | M7: Mensal
B9: MEMORIA DE CALCULO
B10: CTEF: | E10: OGU MTUR 975474/2025
B11: UNIDADE: | E11: UNIDADE | K11: TITULO: | M11: =PLANILHA!C3 -> 1.1.
B12: TITULO: | E12: ADMINISTRAÇÃO DE OBRA | K12: ITEM: | M12: 1.4
B13: DESCRIÇÃO: | E13: =PLANILHA!F4 -> ADMINISTRAÇÃO LOCAL | K13: ITEM: | M13: 1.4.1
B14: MEDIDO: | E14: UNIDADE | F14: UNI | G14: OBJETO: ADEQUAÇÃO DE ESTRADAS VICINAIS
B16: FORMULAS E QUADRO DE CÁLCULOS
B17: ORDEM | C17: Item | D17: DESCRIÇÕES | H17: QUANTIDADES | M17: TOTAL
H18: DIAS | I18: MESES | J18: H/DIAS | M18: HORAS
B19: 1 | D19: ENGENHEIRO CIVIL DE OBRA PLENO COM ENCARGOS COMPLEMENTARES | H19: 10 | I19: 6 | J19: 2 | M19: =ROUND((H19*I19*J19),2) -> 120 | N19: 320
B20: 2 | D20: ENCARREGADO GERAL COM ENCARGOS COMPLEMENTARES | H20: 22 | I20: 6 | J20: 2 | M20: =ROUND((H20*I20*J20),2) -> 264 | N20: 672
B21: 3 | D21: TOPOGRAFO COM ENCARGOS COMPLEMENTARES | H21: 15 | I21: 6 | J21: 2 | M21: =ROUND((H21*I21*J21),2) -> 180 | N21: 400
B22: 4 | D22: AUXILIAR DE TOPÓGRAFO COM ENCARGOS COMPLEMENTARES | H22: 15 | I22: 6 | J22: 2 | M22: =ROUND((H22*I22*J22),2) -> 180 | N22: 400
M23: =ROUND(PRODUCT(I23:K23),2) -> 0
D25: A ADMINISTRAÇÃO É PAGA CONFORME O PERCENTUAL DE OBRA EXECUTADA. A EQUIPE DESCRITA REPRESENTA 1 UNIDADE ADMINISTRATIVA QUE DEVE SE REMUNERADA CONFORME AVANÇO FISICO DO EMPREENDIMENTO. | M25: 1
Q26: 1000000
Q28: =Q26*0.02 -> 20000
B32: TOTAL DA ATIVIDADE............................................................................................................................................................................. | M32: 0.2
B34: OBSERVAÇÕES: | H34: Total Executado no Mês | M34: =M32 -> 0.2
H35: Total Executado Anterior | M35: #N/A
H36: Total Executado Acumulado | M36: =M35+M34 -> #N/A
H37: Total Contratado | M37: #N/A
H38: Saldo Atual | M38: =IFERROR(IF(M36>M37,0,M37-M36),"")
H39: Saldo (TAC) | M39: =IF(M36>M37,M36-M37,0) -> #N/A
B40: _____________________________________________
B41: PREFEITURA MUNICIPAL DE URUARÁ
B42: DOUGLAS NASCIMENTO DOS SANTOS
B43: ENGENHEIRO CIVIL CREA/PA: 151536623-5

Sheet 1.5.1.
B1: PREFEITURA MUNICIPAL DE URUARÁ
K2: DADOS
K3: MEMÓRIA | M3: =M12 -> 1.5
K4: BM: | M4: 5
B5: OBJETO | E5: PAVIMENTAÇÃO DE VIAS URBANAS NO MUNICÍPIO DE URUARÁ - PARÁ | K5: DATA BASE | M5: 45839
K6: DATA DA EMISSÃO | M6: 45884
K7: Referencia | M7: Mensal
B9: MEMORIA DE CALCULO
B10: CTEF: | E10: OGU MTUR 975474/2025
B11: UNIDADE: | E11: UNIDADE | K11: TITULO: | M11: =PLANILHA!C3 -> 1.1.
B12: TITULO: | E12: ADMINISTRAÇÃO DE OBRA | K12: ITEM: | M12: 1.5
B13: DESCRIÇÃO: | E13: =PLANILHA!F4 -> ADMINISTRAÇÃO LOCAL | K13: ITEM: | M13: 1.5.1
B14: MEDIDO: | E14: UNIDADE | F14: UNI | G14: OBJETO: ADEQUAÇÃO DE ESTRADAS VICINAIS
B16: FORMULAS E QUADRO DE CÁLCULOS
B17: ORDEM | C17: Item | D17: DESCRIÇÕES | H17: QUANTIDADES | M17: TOTAL
H18: DIAS | I18: MESES | J18: H/DIAS | M18: HORAS
B19: 1 | D19: ENGENHEIRO CIVIL DE OBRA PLENO COM ENCARGOS COMPLEMENTARES | H19: 10 | I19: 6 | J19: 2 | M19: =ROUND((H19*I19*J19),2) -> 120 | N19: 320
B20: 2 | D20: ENCARREGADO GERAL COM ENCARGOS COMPLEMENTARES | H20: 22 | I20: 6 | J20: 2 | M20: =ROUND((H20*I20*J20),2) -> 264 | N20: 672
B21: 3 | D21: TOPOGRAFO COM ENCARGOS COMPLEMENTARES | H21: 15 | I21: 6 | J21: 2 | M21: =ROUND((H21*I21*J21),2) -> 180 | N21: 400
B22: 4 | D22: AUXILIAR DE TOPÓGRAFO COM ENCARGOS COMPLEMENTARES | H22: 15 | I22: 6 | J22: 2 | M22: =ROUND((H22*I22*J22),2) -> 180 | N22: 400
M23: =ROUND(PRODUCT(I23:K23),2) -> 0
D25: A ADMINISTRAÇÃO É PAGA CONFORME O PERCENTUAL DE OBRA EXECUTADA. A EQUIPE DESCRITA REPRESENTA 1 UNIDADE ADMINISTRATIVA QUE DEVE SE REMUNERADA CONFORME AVANÇO FISICO DO EMPREENDIMENTO. | M25: 1
Q26: 1000000
Q28: =Q26*0.02 -> 20000
B32: TOTAL DA ATIVIDADE............................................................................................................................................................................. | M32: 0.2
B34: OBSERVAÇÕES: | H34: Total Executado no Mês | M34: =M32 -> 0.2
H35: Total Executado Anterior | M35: #N/A
H36: Total Executado Acumulado | M36: =M35+M34 -> #N/A
H37: Total Contratado | M37: #N/A
H38: Saldo Atual | M38: =IFERROR(IF(M36>M37,0,M37-M36),"")
H39: Saldo (TAC) | M39: =IF(M36>M37,M36-M37,0) -> #N/A
B40: _____________________________________________
B41: PREFEITURA MUNICIPAL DE URUARÁ
B42: DOUGLAS NASCIMENTO DOS SANTOS
B43: ENGENHEIRO CIVIL CREA/PA: 151536623-5

Sheet 1.6.1
B1: PREFEITURA MUNICIPAL DE URUARÁ
K2: DADOS
K3: MEMÓRIA | M3: =M12 -> 1.6
K4: BM: | M4: 5
B5: OBJETO | E5: ='1.4.1'!E5:J6 -> PAVIMENTAÇÃO DE VIAS URBANAS NO MUNICÍPIO DE URUARÁ - PARÁ | K5: DATA BASE | M5: 45839
K6: DATA DA EMISSÃO | M6: 45884
K7: Referencia | M7: Mensal
B9: MEMORIA DE CALCULO
B10: CTEF: | E10: ='1.4.1'!E10:M10 -> OGU MTUR 975474/2025
B11: UNIDADE: | E11: UNIDADE | K11: TITULO: | M11: =PLANILHA!C3 -> 1.1.
B12: TITULO: | E12: =PLANILHA!F19 -> SERVIÇOS PRELIMINARES | K12: ITEM: | M12: 1.6
B13: DESCRIÇÃO: | E13: =PLANILHA!F20 -> FORNECIMENTO E INSTALAÇÃO DE PLACA DE OBRA COM CHAPA GALVANIZADA E ESTRUTURA DE MADEIRA | K13: ITEM: | M13: 1.6.1
B14: MEDIDO: | E14: UNIDADE | F14: UNI | G14: OBJETO: ADEQUAÇÃO DE ESTRADAS VICINAIS
B16: ='1.4.1'!B16 -> FORMULAS E QUADRO DE CÁLCULOS
B17: Ordem | C17: Item | D17: Descrição | H17: QUANTIDADES | M17: TOTAL
H18: L (M) | I18: C (M) | J18: QUANT | M18: TOTAL (M²)
B19: 1 | D19: =E13 -> FORNECIMENTO E INSTALAÇÃO DE PLACA DE OBRA COM CHAPA GALVANIZADA E ESTRUTURA DE MADEIRA | H19: 2 | I19: 3 | J19: 1 | M19: =ROUND((H19*I19*J19),2) -> 6
B31: TOTAL DA ATIVIDADE............................................................................................................................................................................. | L31: UNIDADE | M31: =M19 -> 6
B33: OBSERVAÇÕES: | H33: Total Executado no Mês | M33: =M31 -> 6
H34: Total Executado Anterior | M34: #N/A
H35: Total Executado Acumulado | M35: =M34+M33 -> #N/A
H36: Total Contratado | M36: #N/A
H37: Saldo Atual | M37: =IFERROR(IF(M35>M36,0,M36-M35),"")
H38: Saldo (TAC) | M38: =IF(M35>M36,M35-M36,0) -> #N/A
B39: _____________________________________________
B40: PREFEITURA MUNICIPAL DE URUARÁ
B41: DOUGLAS NASCIMENTO DOS SANTOS
B42: ENGENHEIRO CIVIL CREA/PA: 151536623-5

Sheet 1.6.2
B1: PREFEITURA MUNICIPAL DE URUARÁ
K2: DADOS
K3: MEMÓRIA | M3: =M12 -> 1.6
K4: BM: | M4: 5
B5: OBJETO | E5: ='1.4.1'!E5:J6 -> PAVIMENTAÇÃO DE VIAS URBANAS NO MUNICÍPIO DE URUARÁ - PARÁ | K5: DATA BASE | M5: 45839
K6: DATA DA EMISSÃO | M6: 45884
K7: Referencia | M7: Mensal
B8: 4
B9: MEMORIA DE CALCULO
B10: CTEF: | E10: ='1.4.1'!E10:M10 -> OGU MTUR 975474/2025
B11: UNIDADE: | E11: UNIDADE | K11: TITULO: | M11: =PLANILHA!C3 -> 1.1.
B12: TITULO: | E12: =PLANILHA!F19 -> SERVIÇOS PRELIMINARES | K12: ITEM: | M12: 1.6
B13: DESCRIÇÃO: | E13: =O13 -> BARRACÃO DE MADEIRA/ALMOXARIFADO | K13: ITEM: | M13: 1.6.2 | O13: BARRACÃO DE MADEIRA/ALMOXARIFADO
B14: MEDIDO: | E14: UNIDADE | F14: UNI | G14: OBJETO: ADEQUAÇÃO DE ESTRADAS VICINAIS
B16: ='1.4.1'!B16 -> FORMULAS E QUADRO DE CÁLCULOS
B17: ORDEM | C17: Item | D17: DESCRIÇÃO | H17: QUANTIDADES | M17: TOTAL
H18: COMPRIMENTO (M) | I18: LARGURA (M) | M18: TOTAL (M2)
B19: 1 | D19: DIMENSÕES 3,00 X 5,00 M | H19: 5 | I19: 3 | M19: =H19*I19 -> 15
O21: =J19+K19 -> 0 | P21: =O21*2 -> 0 | Q21: =P21+I19 -> 3 | R21: =Q21*H19 -> 15
O24: =H20+H19 -> 5
L29: =L21+L20+L19 -> 0
B30: TOTAL DA ATIVIDADE............................................................................................................................................................................. | L30: UNIDADE | M30: =M21+M20+M19 -> 15
B32: OBSERVAÇÕES: | H32: Total Executado no Mês | M32: =M30 -> 15
H33: Total Executado Anterior | M33: #N/A
H34: Total Executado Acumulado | M34: =M33+M32 -> #N/A
H35: Total Contratado | M35: #N/A
H36: Saldo Atual | M36: =IFERROR(IF(M34>M35,0,M35-M34),"")
H37: Saldo (TAC) | M37: =IF(M34>M35,M34-M35,0) -> #N/A
B38: _____________________________________________
B39: PREFEITURA MUNICIPAL DE URUARÁ
B40: DOUGLAS NASCIMENTO DOS SANTOS
B41: ENGENHEIRO CIVIL CREA/PA: 151536623-5

Sheet 1.6.1....
B1: PREFEITURA MUNICIPAL DE RURÓPOLIS
K2: DADOS
K3: MEMÓRIA | M3: 1.6.
K4: BM: | M4: 5
B5: OBJETO | E5: ='1.4.1'!E5:J6 -> PAVIMENTAÇÃO DE VIAS URBANAS NO MUNICÍPIO DE URUARÁ - PARÁ | K5: DATA BASE | M5: 45231
K6: DATA DA EMISSÃO | M6: 45303
K7: Referencia | M7: Mensal
B9: MEMORIA DE CALCULO
B10: CTEF: | E10: ='1.4.1'!E10:M10 -> OGU MTUR 975474/2025
B11: UNIDADE: | E11: UNIDADE | K11: TITULO: | M11: =PLANILHA!C3 -> 1.1.
B12: TITULO: | E12: =PLANILHA!F22 -> PROJETO EXECUTIVO/AS BUILT | K12: ITEM: | M12: =M3 -> 1.6.
B13: DESCRIÇÃO: | E13: =PLANILHA!F23 -> PROJETO EXECUTIVO/AS BUILT | K13: ITEM: | M13: 1.6.1.
B14: MEDIDO: | E14: UNIDADE | F14: UNI | G14: OBJETO: ADEQUAÇÃO DE ESTRADAS VICINAIS
B16: ='1.4.1'!B16 -> FORMULAS E QUADRO DE CÁLCULOS
B17: Ordem | C17: Item | D17: Descrição | H17: Quantidades | M17: Total (UND)
H18: UNIDADE | I18: AREA (M2) | J18: EXT (KM)
B19: 1 | D19: PROJETO DE PAVIMENTAÇÃO | H19: KM | J19: 0.535 | M19: =J19 -> 0.535
B20: 2 | D20: PROJETO DE SINALIZAÇÃO VERTICAL E HORIZONTAL | H20: KM | J20: 0.535 | M20: =J20 -> 0.535
B21: 3 | D21: LEVANTAMENTO TOPOGRÁFICO PLANIMÉTRICO CADASTRAL | H21: M² | I21: ='1.6.2'!L29 -> 0 | M21: =I21 -> 0
B22: 4 | D22: PROJETO DE TERRAPLENAGEM E GEOMETRICO DE VIAS | H22: KM | J22: =J19 -> 0.535 | M22: =J22 -> 0.535
B23: 5 | D23: PROJETO DE DRENAGEM PLUVIAL | H23: KM | J23: =J20 -> 0.535 | M23: =ROUND(PRODUCT(I23:K23),2) -> 0.54
Q27: 15115.6 | R27: 15115.6
P28: 0.52 | Q28: 5318.58 | R28: 5318.58
P29: 0.52 | Q29: 5318.58 | R29: 5318.58
P30: 6330 | Q30: 0.34 | R30: 0.34
P31: 0.52 | Q31: 8973.9 | R31: 8973.9
P32: 0.52 | Q32: 5318.58 | R32: 5318.58
B42: TOTAL DA ATIVIDADE............................................................................................................................................................................. | M42: 1
B44: OBSERVAÇÕES: | H44: Total Executado no Mês | M44: =M42 -> 1
H45: Total Executado Anterior | M45: #N/A
H46: Total Executado Acumulado | M46: =M45+M44 -> #N/A
H47: Total Contratado | M47: #N/A
H48: Saldo Atual | M48: =IFERROR(IF(M46>M47,0,M47-M46),"")
H49: Saldo (TAC) | M49: =IF(M46>M47,M46-M47,0) -> #N/A
B50: _____________________________________________
B51: PREFEITURA MUNICIPAL DE RURÓPOLIS
B52: DOUGLAS NASCIMENTO DOS SANTOS
B53: ENGENHEIRO CIVIL CREA/PA: 151536623-5
R62: HE | S62: OUTRA | T62: outro 2
O63: 15115.6 | P63: 15115.6
...

Sheet 1.7.1
B1: PREFEITURA MUNICIPAL DE URUARÁ
K2: DADOS
K3: MEMÓRIA | M3: 1.7
K4: BM: | M4: 5
B5: OBJETO | E5: ='1.4.1'!E5:J6 -> PAVIMENTAÇÃO DE VIAS URBANAS NO MUNICÍPIO DE URUARÁ - PARÁ | K5: DATA BASE | M5: 45839
K6: DATA DA EMISSÃO | M6: 45884
K7: Referencia | M7: Mensal
B9: MEMORIA DE CALCULO
B10: CTEF: | E10: ='1.4.1'!E10:M10 -> OGU MTUR 975474/2025
B11: UNIDADE: | E11: UNIDADE | K11: TITULO: | M11: =PLANILHA!C3 -> 1.1.
B12: TITULO: | E12: MOBILIZAÇÃO DE MAQUINÁRIO | K12: ITEM: | M12: =M3 -> 1.7
B13: DESCRIÇÃO: | E13: MOBILIZAÇÃO DE MAQUINÁRIO | K13: ITEM: | M13: 1.7.1
B14: MEDIDO: | E14: UNIDADE | F14: UNI | G14: OBJETO: ADEQUAÇÃO DE ESTRADAS VICINAIS
B16: ='1.4.1'!B16 -> FORMULAS E QUADRO DE CÁLCULOS
B17: Ordem | C17: Item | D17: Descrição | H17: QUANTIDADES | M17: TOTAL (UND)
H18: QUANT (M) | I18: MASSA (T) | J18: KM
B19: 1 | D19: MOTONIVELADORA POTÊNCIA BÁSICA LÍQUIDA (PRIMEIRA MARCHA) 125 HP, PESO BRUTO 13032 KG, LARGURA DA LÂMINA DE 3,7 M | H19: 1 | I19: 13.032 | J19: 189.5 | M19: =ROUND((H19*I19*J19),2) -> 2469.56
B20: 2 | D20: ROLO COMPACTADOR VIBRATÓRIO DE UM CILINDRO AÇO LISO, POTÊNCIA 80 HP, PESO OPERACIONAL MÁXIMO 8,1 T, IMPACTO DINÂMICO 16,15 / 9,5 T, LARGURA DE TRABALHO 1,68 M - CHI DIURNO. AF_06/2014 | H20: 1 | I20: 8.1 | J20: =189.5 -> 189.5 | M20: =ROUND((H20*I20*J20),2) -> 1534.95
B21: 3 | D21: PÁ CARREGADEIRA SOBRE RODAS, POTÊNCIA 197 HP, CAPACIDADE DA CAÇAMBA 2,5 A 3,5 M3, PESO OPERACIONAL 18338 KG | H21: 1 | I21: 18.338 | J21: 189.5 | M21: =ROUND((H21*I21*J21),2) -> 3475.05
B22: 4 | D22: ROLO COMPACTADOR PE DE CARNEIRO VIBRATORIO, POTENCIA 125 HP, PESO OPERACIONAL SEM/COM LASTRO 11,95 / 13,30 T, IMPACTO DINAMICO 38,5 / 22,5 T, LARGURA DE TRABALHO 2,15 M | H22: 1 | I22: 11.95 | J22: =J21 -> 189.5 | M22: =ROUND((H22*I22*J22),2) -> 2264.53
B23: 5 | D23: ROLO COMPACTADOR VIBRATÓRIO PÉ DE CARNEIRO PARA SOLOS, POTÊNCIA 80 HP, PESO OPERACIONAL SEM/COM LASTRO 7,4 / 8,8 T, LARGURA DE TRABALHO 1,68 M | H23: 1 | I23: 7.4 | J23: =J22 -> 189.5 | M23: =ROUND((H23*I23*J23),2) -> 1402.3
B24: 6 | D24: TRATOR DE PNEUS, POTÊNCIA 85 CV, TRAÇÃO 4X4, PESO COM LASTRO DE 4.675 KG | H24: 1 | I24: 4.675 | J24: =J23 -> 189.5 | M24: =ROUND((H24*I24*J24),2) -> 885.91
B25: 7 | D25: VIBROACABADORA DE ASFALTO SOBRE ESTEIRAS, LARGURA DE PAVIMENTAÇÃO 1,90M A 5,30 M, POTÊNCIA 105 HP CAPACIDADE 450 T/H | H25: 1 | I25: 12.6 | J25: =J24 -> 189.5 | M25: =ROUND((H25*I25*J25),2) -> 2387.7
B26: 8 | D26: ROLO COMPACTADOR VIBRATORIO TANDEM, ACO LISO, POTENCIA 125 HP, PESO SEM/COM LASTRO 10,20/11,65 T, LARGURA DE TRABALHO 1,73 M | H26: 1 | I26: 10.2 | J26: =J25 -> 189.5 | M26: =ROUND((H26*I26*J26),2) -> 1932.9
M27: =ROUND((SUM(M19:M26)),2) -> 16352.9
D37: DISTÂNCIA DO TRECHO PAVIMENTADO
B39: TOTAL DA ATIVIDADE............................................................................................................................................................................. | M39: =M27 -> 16352.9
B41: OBSERVAÇÕES: | H41: Total Executado no Mês | M41: =M39 -> 16352.9
H42: Total Executado Anterior | M42: #N/A
H43: Total Executado Acumulado | M43: =M42+M41 -> #N/A
H44: Total Contratado | M44: #N/A
H45: Saldo Atual | M45: =IFERROR(IF(M43>M44,0,M44-M43),"")
H46: Saldo (TAC) | M46: =IF(M43>M44,M43-M44,0) -> #N/A
B47: _____________________________________________
B48: PREFEITURA MUNICIPAL DE URUARÁ
B49: DOUGLAS NASCIMENTO DOS SANTOS
B50: ENGENHEIRO CIVIL CREA/PA: 151536623-5

Sheet 1.8.1
B1: PREFEITURA MUNICIPAL DE URUARÁ
K2: DADOS
K3: MEMÓRIA | M3: 1.8
K4: BM: | M4: 5
B5: OBJETO | E5: ='1.4.1'!E5:J6 -> PAVIMENTAÇÃO DE VIAS URBANAS NO MUNICÍPIO DE URUARÁ - PARÁ | K5: DATA BASE | M5: 45839
K6: DATA DA EMISSÃO | M6: 45884
K7: Referencia | M7: Mensal
B9: MEMORIA DE CALCULO
B10: CTEF: | E10: ='1.4.1'!E10:M10 -> OGU MTUR 975474/2025
B11: UNIDADE: | E11: UNIDADE | K11: TITULO: | M11: =PLANILHA!C3 -> 1.1.
B12: TITULO: | E12: DESMOBILIZAÇÃO DE MAQUINÁRIO | K12: ITEM: | M12: 1.8
B13: DESCRIÇÃO: | E13: DESMOBILIZAÇÃO DE MAQUINÁRIO | K13: ITEM: | M13: 1.8.1
B14: MEDIDO: | E14: UNIDADE | F14: UNI | G14: OBJETO: ADEQUAÇÃO DE ESTRADAS VICINAIS
B16: ='1.4.1'!B16 -> FORMULAS E QUADRO DE CÁLCULOS
B17: Ordem | C17: Item | D17: Descrição | H17: QUANTIDADES | M17: TOTAL (UND)
H18: QUANT (M) | I18: MASSA (T) | J18: KM
B19: 1 | D19: MOTONIVELADORA POTÊNCIA BÁSICA LÍQUIDA (PRIMEIRA MARCHA) 125 HP, PESO BRUTO 13032 KG, LARGURA DA LÂMINA DE 3,7 M | H19: 1 | I19: 13.032 | J19: ='1.7.1'!J19 -> 189.5 | M19: =ROUND((H19*I19*J19),2) -> 2469.56
B20: 2 | D20: ROLO COMPACTADOR VIBRATÓRIO DE UM CILINDRO AÇO LISO, POTÊNCIA 80 HP, PESO OPERACIONAL MÁXIMO 8,1 T, IMPACTO DINÂMICO 16,15 / 9,5 T, LARGURA DE TRABALHO 1,68 M - CHI DIURNO. AF_06/2014 | H20: 1 | I20: 8.1 | J20: =J19 -> 189.5 | M20: =ROUND((H20*I20*J20),2) -> 1534.95
B21: 3 | D21: PÁ CARREGADEIRA SOBRE RODAS, POTÊNCIA 197 HP, CAPACIDADE DA CAÇAMBA 2,5 A 3,5 M3, PESO OPERACIONAL 18338 KG | H21: 1 | I21: 18.338 | J21: =J20 -> 189.5 | M21: =ROUND((H21*I21*J21),2) -> 3475.05
B22: 4 | D22: ROLO COMPACTADOR PE DE CARNEIRO VIBRATORIO, POTENCIA 125 HP, PESO OPERACIONAL SEM/COM LASTRO 11,95 / 13,30 T, IMPACTO DINAMICO 38,5 / 22,5 T, LARGURA DE TRABALHO 2,15 M | H22: 1 | I22: 11.95 | J22: =J21 -> 189.5 | M22: =ROUND((H22*I22*J22),2) -> 2264.53
B23: 5 | D23: ROLO COMPACTADOR VIBRATÓRIO PÉ DE CARNEIRO PARA SOLOS, POTÊNCIA 80 HP, PESO OPERACIONAL SEM/COM LASTRO 7,4 / 8,8 T, LARGURA DE TRABALHO 1,68 M | H23: 1 | I23: 7.4 | J23: =J22 -> 189.5 | M23: =ROUND((H23*I23*J23),2) -> 1402.3
B24: 6 | D24: TRATOR DE PNEUS, POTÊNCIA 85 CV, TRAÇÃO 4X4, PESO COM LASTRO DE 4.675 KG | H24: 1 | I24: 4.675 | J24: =J23 -> 189.5 | M24: =ROUND((H24*I24*J24),2) -> 885.91
B25: 7 | D25: VIBROACABADORA DE ASFALTO SOBRE ESTEIRAS, LARGURA DE PAVIMENTAÇÃO 1,90M A 5,30 M, POTÊNCIA 105 HP CAPACIDADE 450 T/H | H25: 1 | I25: 12.6 | J25: =J23 -> 189.5 | M25: =ROUND((H25*I25*J25),2) -> 2387.7
B26: 8 | D26: ROLO COMPACTADOR VIBRATORIO TANDEM, ACO LISO, POTENCIA 125 HP, PESO SEM/COM LASTRO 10,20/11,65 T, LARGURA DE TRABALHO 1,73 M | H26: 1 | I26: 10.2 | J26: =J24 -> 189.5 | M26: =ROUND((H26*I26*J26),2) -> 1932.9
M27: =ROUND((SUM(M19:M26)),2) -> 16352.9
D37: DISTÂNCIA DO TRECHO PAVIMENTADO
B39: TOTAL DA ATIVIDADE............................................................................................................................................................................. | M39: =M27 -> 16352.9
B41: OBSERVAÇÕES: | H41: Total Executado no Mês | M41: =M39 -> 16352.9
H42: Total Executado Anterior | M42: #N/A
H43: Total Executado Acumulado | M43: =M42+M41 -> #N/A
H44: Total Contratado | M44: #N/A
H45: Saldo Atual | M45: =IFERROR(IF(M43>M44,0,M44-M43),"")
H46: Saldo (TAC) | M46: =IF(M43>M44,M43-M44,0) -> #N/A
B47: _____________________________________________
B48: PREFEITURA MUNICIPAL DE URUARÁ
B49: DOUGLAS NASCIMENTO DOS SANTOS
B50: ENGENHEIRO CIVIL CREA/PA: 151536623-5

Sheet 1.9.1
B1: PREFEITURA MUNICIPAL DE URUARÁ
K2: DADOS
K3: MEMÓRIA | M3: 1.9
K4: BM: | M4: 5
B5: OBJETO | E5: ='1.4.1'!E5:J6 -> PAVIMENTAÇÃO DE VIAS URBANAS NO MUNICÍPIO DE URUARÁ - PARÁ | K5: DATA BASE | M5: 45839
K6: DATA DA EMISSÃO | M6: 45884
K7: Referencia | M7: Mensal
B9: MEMORIA DE CALCULO
B10: CTEF: | E10: ='1.4.1'!E10:M10 -> OGU MTUR 975474/2025
B11: UNIDADE: | E11: UNIDADE | K11: TITULO: | M11: =PLANILHA!C3 -> 1.1.
B12: TITULO: | E12: REGULARIZAÇÃO DE SUBLEITO | K12: ITEM: | M12: =M3 -> 1.9
B13: DESCRIÇÃO: | E13: =PLANILHA!F29 -> LIMPEZA MECANIZADA DE CAMADA VEGETAL, VEGETAÇÃO E PEQUENAS ÁRVORES (DIÂMETRO DE TRONCO MENOR QUE 0,20 M), COM TRATOR DE ESTEIRAS.AF_05/2018 | K13: ITEM: | M13: 1.9.1
B14: MEDIDO: | E14: UNIDADE | F14: UNI | G14: OBJETO: ADEQUAÇÃO DE ESTRADAS VICINAIS
B16: ='1.4.1'!B16 -> FORMULAS E QUADRO DE CÁLCULOS
B17: ORDEM | C17: Item | D17: DESCRIÇÃO | H17: QUANTIDADES | M17: TOTAL
H18: VIA (M) | I18: MFC (M) | J18: MFC (M) | K18: C (M) | L18: ESP (M) | M18: ÁREA (M2)
B19: 1 | D19: LARGURA DE LIMPEZA (M) (VIA+MFC (BORDO ESQUERDO)+MFC (BORDO DIREITO))*EXTENSAO (M) | H19: 8 | I19: 0.45 | J19: 0.45 | K19: 737.4 | L19: 0.05 | M19: =ROUND(((H19+I19+J19)*(K19)),2) -> 6562.86 | P19: ESTACAS
B20: 2 | D20: 18 UNIDADES DE ACESSOS - LARGURA DE LIMPEZA (M) (VIA+MFC (BORDO ESQUERDO)+MFC (BORDO DIREITO))*EXTENSAO (M) | H20: 6 | I20: 0.45 | J20: 0.45 | K20: =18*5 -> 90 | L20: 0.05 | M20: =ROUND(((H20+I20+J20)*(K20)),2) -> 621 | P20: 37 | Q20: 13.69 | S20: =P20*20 -> 740
S21: =S20-2.6 -> 737.4
N23: =M33*0.05 -> 359.193
G29: VOLUME DE ESCAVAÇÃO (M3) | H29: =(M19*L19)+(L20*M20) -> 359.193
M30: =ROUND((H30*I30*J30),2) -> 0
M31: =ROUND((H31*I31*J31),2) -> 0
M32: =ROUND((H32*I32*J32),2) -> 0
B33: TOTAL DA ATIVIDADE............................................................................................................................................................................. | M33: =ROUND((SUM(M19:M32)),2) -> 7183.86
B35: OBSERVAÇÕES: | H35: Total Executado no Mês | M35: =M33 -> 7183.86
H36: Total Executado Anterior | M36: #N/A
H37: Total Executado Acumulado | M37: =M36+M35 -> #N/A
H38: Total Contratado | M38: #N/A
H39: Saldo Atual | M39: =IFERROR(IF(M37>M38,0,M38-M37),"")
H40: Saldo (TAC) | M40: =IF(M37>M38,M37-M38,0) -> #N/A
B41: _____________________________________________
B42: PREFEITURA MUNICIPAL DE URUARÁ
B43: DOUGLAS NASCIMENTO DOS SANTOS
B44: ENGENHEIRO CIVIL CREA/PA: 151536623-5

Sheet 1.9.2
B1: PREFEITURA MUNICIPAL DE URUARÁ
K2: DADOS
K3: MEMÓRIA | M3: 1.9
K4: BM: | M4: 5
B5: OBJETO | E5: ='1.4.1'!E5:J6 -> PAVIMENTAÇÃO DE VIAS URBANAS NO MUNICÍPIO DE URUARÁ - PARÁ | K5: DATA BASE | M5: 45839
K6: DATA DA EMISSÃO | M6: 45884
K7: Referencia | M7: Mensal
B9: MEMORIA DE CALCULO
B10: CTEF: | E10: ='1.4.1'!E10:M10 -> OGU MTUR 975474/2025
B11: UNIDADE: | E11: UNIDADE | K11: TITULO: | M11: =PLANILHA!C3 -> 1.1.
B12: TITULO: | E12: REGULARIZAÇÃO DE SUBLEITO | K12: ITEM: | M12: 1.9
B13: DESCRIÇÃO: | E13: CARGA, MANOBRA E DESCARGA DE ENTULHO EM CAMINHÃO BASCULANTE 18 M³ - CARGA COM ESCAVADEIRA HIDRÁULICA (CAÇAMBA DE 0,80 M³ / 111 HP) E DESCARGA LIVRE (UNIDADE: M3). AF_07/2020 | K13: ITEM: | M13: 1.9.2 | O13: CARGA, MANOBRA E DESCARGA DE ENTULHO EM CAMINHÃO BASCULANTE 14 M³ - CARGA COM ESCAVADEIRA HIDRÁULICA (CAÇAMBA DE 0,80 M³ / 111 HP) E DESCARGA LIVRE (UNIDADE: M3). AF_07/2020
B14: MEDIDO: | E14: UNIDADE | F14: UNI | G14: OBJETO: ADEQUAÇÃO DE ESTRADAS VICINAIS
B16: ='1.4.1'!B16 -> FORMULAS E QUADRO DE CÁLCULOS
B17: Ordem | C17: Item | D17: Descrição | H17: QUANTIDADES | M17: TOTAL (M3)
H18: AREA (M2) | I18: ESP (M) | J18: EMP (%)
B19: 1 | D19: CARGA E DESCARGA DO ENTULHO GERADO PELA LIMPEZA | H19: ='1.9.1'!M33 -> 7183.86 | I19: 0.05 | J19: 1.25 | M19: =ROUND((H19*I19*J19),2) -> 448.99
B33: TOTAL DA ATIVIDADE............................................................................................................................................................................. | M33: =SUM(M19:M32) -> 448.99
B35: OBSERVAÇÕES: | H35: Total Executado no Mês | M35: =M33 -> 448.99
H36: Total Executado Anterior | M36: #N/A
H37: Total Executado Acumulado | M37: =M36+M35 -> #N/A
H38: Total Contratado | M38: #N/A
H39: Saldo Atual | M39: =IFERROR(IF(M37>M38,0,M38-M37),"")
H40: Saldo (TAC) | M40: =IF(M37>M38,M37-M38,0) -> #N/A
B41: _____________________________________________
B42: PREFEITURA MUNICIPAL DE URUARÁ
B43: DOUGLAS NASCIMENTO DOS SANTOS
B44: ENGENHEIRO CIVIL CREA/PA: 151536623-5

Sheet 1.9.3
B1: PREFEITURA MUNICIPAL DE URUARÁ
K2: DADOS
K3: MEMÓRIA | M3: 1.9
K4: BM: | M4: 5
B5: OBJETO | E5: ='1.4.1'!E5:J6 -> PAVIMENTAÇÃO DE VIAS URBANAS NO MUNICÍPIO DE URUARÁ - PARÁ | K5: DATA BASE | M5: 45839
K6: DATA DA EMISSÃO | M6: 45884
K7: Referencia | M7: Mensal
B9: MEMORIA DE CALCULO
B10: CTEF: | E10: ='1.4.1'!E10:M10 -> OGU MTUR 975474/2025
B11: UNIDADE: | E11: UNIDADE | K11: TITULO: | M11: =PLANILHA!C3 -> 1.1.
B12: TITULO: | E12: REGULARIZAÇÃO DE SUBLEITO | K12: ITEM: | M12: 1.9
B13: DESCRIÇÃO: | E13: TRANSPORTE COM CAMINHÃO BASCULANTE DE 18 M³, EM VIA URBANA EM REVESTIMENTO PRIMÁRIO (UNIDADE: M3XKM). AF_07/2020 | K13: ITEM: | M13: 1.9.3
B14: MEDIDO: | E14: UNIDADE | F14: UNI | G14: OBJETO: ADEQUAÇÃO DE ESTRADAS VICINAIS
B16: ='1.4.1'!B16 -> FORMULAS E QUADRO DE CÁLCULOS
B17: Ordem | C17: Item | D17: Descrição | H17: QUANTIDADES | M17: TOTAL (M³XKM)
H18: AREA (M2) | I18: ESP (M) | J18: EMP (%) | K18: DMT (KM)
B19: 1 | D19: TRANSPORTE DO ENTULHO GERADO PELA LIMPEZA | H19: ='1.9.2'!H19 -> 7183.86 | I19: 0.05 | J19: 1.25 | K19: 7.7 | M19: =ROUND((H19*I19*J19*K19),2) -> 3457.23
M30: =ROUND((H30*I30*J30),2) -> 0
M31: =ROUND((H31*I31*J31),2) -> 0
M32: =ROUND((H32*I32*J32),2) -> 0
B33: TOTAL DA ATIVIDADE............................................................................................................................................................................. | M33: =SUM(M19:M32) -> 3457.23
B35: OBSERVAÇÕES: | H35: Total Executado no Mês | M35: =M33 -> 3457.23
H36: Total Executado Anterior | M36: #N/A
H37: Total Executado Acumulado | M37: =M36+M35 -> #N/A
H38: Total Contratado | M38: #N/A
H39: Saldo Atual | M39: =IFERROR(IF(M37>M38,0,M38-M37),"")
H40: Saldo (TAC) | M40: =IF(M37>M38,M37-M38,0) -> #N/A
B41: _____________________________________________
B42: PREFEITURA MUNICIPAL DE URUARÁ
B43: DOUGLAS NASCIMENTO DOS SANTOS
B44: ENGENHEIRO CIVIL CREA/PA: 151536623-5

Sheet 1.9.4
B1: PREFEITURA MUNICIPAL DE URUARÁ
K2: DADOS
K3: MEMÓRIA | M3: 1.9
K4: BM: | M4: 5
B5: OBJETO | E5: ='1.4.1'!E5:J6 -> PAVIMENTAÇÃO DE VIAS URBANAS NO MUNICÍPIO DE URUARÁ - PARÁ | K5: DATA BASE | M5: 45839
K6: DATA DA EMISSÃO | M6: 45884
K7: Referencia | M7: Mensal
B9: MEMORIA DE CALCULO
B10: CTEF: | E10: ='1.4.1'!E10:M10 -> OGU MTUR 975474/2025
B11: UNIDADE: | E11: UNIDADE | K11: TITULO: | M11: =PLANILHA!C3 -> 1.1.
B12: TITULO: | E12: REGULARIZAÇÃO DE SUBLEITO | K12: ITEM: | M12: 1.9
B13: DESCRIÇÃO: | E13: ESCAVAÇÃO HORIZONTAL EM SOLO DE 1A CATEGORIA COM TRATOR DE ESTEIRAS (100HP/LÂMINA: 2,19M3). AF_07/2020 | K13: ITEM: | M13: 1.9.4
B14: MEDIDO: | E14: UNIDADE | F14: UNI | G14: OBJETO: ADEQUAÇÃO DE ESTRADAS VICINAIS
B16: ='1.4.1'!B16 -> FORMULAS E QUADRO DE CÁLCULOS
B17: Ordem | C17: Item | D17: Descrição | H17: QUANTIDADES | M17: TOTAL (M³)
H18: AREA (M2) | I18: SUBBASE (M) | J18: BASE (M) | K18: CBUQ (M)
B19: 1 | D19: ESCAVAÇÃO PARA IMPLANTAÇÃO DA VIA - ((AREA DE LIMPEZA (M))x (ESPESSURA DA SUBBASE (M) +ESPESSURA DA BASE (M)+ESPESSURA DO PAVIMENTO (M)) | H19: ='1.9.3'!H19 -> 7183.86 | I19: 0.15 | J19: 0.1 | K19: 0.035 | M19: =ROUND(((H19)*(I19+J19+K19)),2) -> 2047.4 | O19: =I19+J19+K19 -> 0.285
O20: =O19*H19 -> 2047.4001
M30: =ROUND((H30*I30*J30),2) -> 0
M31: =ROUND((H31*I31*J31),2) -> 0
M32: =ROUND((H32*I32*J32),2) -> 0
B33: TOTAL DA ATIVIDADE............................................................................................................................................................................. | M33: =SUM(M19:M32) -> 2047.4
B35: OBSERVAÇÕES: | H35: Total Executado no Mês | M35: =M33 -> 2047.4
H36: Total Executado Anterior | M36: #N/A
H37: Total Executado Acumulado | M37: =M36+M35 -> #N/A
H38: Total Contratado | M38: #N/A
H39: Saldo Atual | M39: =IFERROR(IF(M37>M38,0,M38-M37),"")
H40: Saldo (TAC) | M40: =IF(M37>M38,M37-M38,0) -> #N/A
B41: _____________________________________________
B42: PREFEITURA MUNICIPAL DE URUARÁ
B43: DOUGLAS NASCIMENTO DOS SANTOS
B44: ENGENHEIRO CIVIL CREA/PA: 151536623-5

Sheet 1.9.5
B1: PREFEITURA MUNICIPAL DE URUARÁ
K2: DADOS
K3: MEMÓRIA | M3: 1.9
K4: BM: | M4: 5
B5: OBJETO | E5: ='1.4.1'!E5:J6 -> PAVIMENTAÇÃO DE VIAS URBANAS NO MUNICÍPIO DE URUARÁ - PARÁ | K5: DATA BASE | M5: 45839
K6: DATA DA EMISSÃO | M6: 45884
K7: Referencia | M7: Mensal
B9: MEMORIA DE CALCULO
B10: CTEF: | E10: ='1.4.1'!E10:M10 -> OGU MTUR 975474/2025
B11: UNIDADE: | E11: UNIDADE | K11: TITULO: | M11: =PLANILHA!C3 -> 1.1.
B12: TITULO: | E12: REGULARIZAÇÃO DE SUBLEITO | K12: ITEM: | M12: 1.9
B13: DESCRIÇÃO: | E13: CARGA, MANOBRA E DESCARGA DE SOLOS E MATERIAIS GRANULARES EM CAMINHÃO BASCULANTE 18 M³ - CARGA COM ESCAVADEIRA HIDRÁULICA (CAÇAMBA DE 1,20 M³ / 155 HP) E DESCARGA LIVRE (UNIDADE: M3). AF_07/2020 | K13: ITEM: | M13: 1.9.5
B14: MEDIDO: | E14: UNIDADE | F14: UNI | G14: OBJETO: ADEQUAÇÃO DE ESTRADAS VICINAIS
B16: ='1.4.1'!B16 -> FORMULAS E QUADRO DE CÁLCULOS
B17: Ordem | C17: Item | D17: Descrição | H17: QUANTIDADES | M17: TOTAL (M3)
H18: AREA (M2) | I18: SUBBASE (M) | J18: BASE (M) | K18: CBUQ (M) | L18: EMP (%)
B19: 1 | D19: ESCAVAÇÃO PARA IMPLANTAÇÃO DA VIA - ((AREA DE LIMPEZA (M))x (ESPESSURA DA SUBBASE (M) +ESPESSURA DA BASE (M)+ESPESSURA DO PAVIMENTO (M))* (EMPOLAMENTO (%)) | H19: ='1.9.4'!H19 -> 7183.86 | I19: ='1.9.4'!I19 -> 0.15 | J19: ='1.9.4'!J19 -> 0.1 | K19: ='1.9.4'!K19 -> 0.035 | L19: 1.25 | M19: =ROUND((((H19)*(I19+J19+K19))*L19),2) -> 2559.25 | O19: =I19+J19+K19 -> 0.285
O20: =O19*H19 -> 2047.4001
P22: =O20*1.25 -> 2559.2501
M30: =ROUND((H30*I30*J30),2) -> 0
M31: =ROUND((H31*I31*J31),2) -> 0
M32: =ROUND((H32*I32*J32),2) -> 0
B33: TOTAL DA ATIVIDADE............................................................................................................................................................................. | M33: =SUM(M19:M32) -> 2559.25
B35: OBSERVAÇÕES: | H35: Total Executado no Mês | M35: =M33 -> 2559.25
H36: Total Executado Anterior | M36: #N/A
H37: Total Executado Acumulado | M37: =M36+M35 -> #N/A
H38: Total Contratado | M38: #N/A
H39: Saldo Atual | M39: =IFERROR(IF(M37>M38,0,M38-M37),"")
H40: Saldo (TAC) | M40: =IF(M37>M38,M37-M38,0) -> #N/A
B41: _____________________________________________
B42: PREFEITURA MUNICIPAL DE URUARÁ
B43: DOUGLAS NASCIMENTO DOS SANTOS
B44: ENGENHEIRO CIVIL CREA/PA: 151536623-5

Sheet 1.9.6
B1: PREFEITURA MUNICIPAL DE URUARÁ
K2: DADOS
K3: MEMÓRIA | M3: 1.9
K4: BM: | M4: 5
B5: OBJETO | E5: ='1.4.1'!E5:J6 -> PAVIMENTAÇÃO DE VIAS URBANAS NO MUNICÍPIO DE URUARÁ - PARÁ | K5: DATA BASE | M5: 45839
K6: DATA DA EMISSÃO | M6: 45884
K7: Referencia | M7: Mensal
B9: MEMORIA DE CALCULO
B10: CTEF: | E10: ='1.4.1'!E10:M10 -> OGU MTUR 975474/2025
B11: UNIDADE: | E11: UNIDADE | K11: TITULO: | M11: =PLANILHA!C3 -> 1.1.
B12: TITULO: | E12: REGULARIZAÇÃO DE SUBLEITO | K12: ITEM: | M12: 1.9
B13: DESCRIÇÃO: | E13: TRANSPORTE COM CAMINHÃO BASCULANTE DE 18 M³, EM VIA URBANA EM REVESTIMENTO PRIMÁRIO (UNIDADE: M3XKM). AF_07/2020 | K13: ITEM: | M13: 1.9.6
B14: MEDIDO: | E14: UNIDADE | F14: UNI | G14: OBJETO: ADEQUAÇÃO DE ESTRADAS VICINAIS
B16: ='1.4.1'!B16 -> FORMULAS E QUADRO DE CÁLCULOS
B17: Ordem | C17: Item | D17: Descrição | H17: Quantidades | M17: Total (M3XKM)
H18: VOLUME (M3) | I18: DMT (KM)
B19: 1 | D19: VOLUME DO MATERIAL ESCAVADO (M3) x DMT (KM) | H19: ='1.9.5'!M19 -> 2559.25 | I19: 7.7 | M19: =H19*I19 -> 19706.225
M30: =ROUND((H30*I30*J30),2) -> 0
M31: =ROUND((H31*I31*J31),2) -> 0
M32: =ROUND((H32*I32*J32),2) -> 0
B33: TOTAL DA ATIVIDADE............................................................................................................................................................................. | M33: =SUM(M19:M32) -> 19706.225
B35: OBSERVAÇÕES: | H35: Total Executado no Mês | M35: =M33 -> 19706.225
H36: Total Executado Anterior | M36: #N/A
H37: Total Executado Acumulado | M37: =M36+M35 -> #N/A
H38: Total Contratado | M38: #N/A
H39: Saldo Atual | M39: =IFERROR(IF(M37>M38,0,M38-M37),"")
H40: Saldo (TAC) | M40: =IF(M37>M38,M37-M38,0) -> #N/A
B41: _____________________________________________
B42: PREFEITURA MUNICIPAL DE URUARÁ
B43: DOUGLAS NASCIMENTO DOS SANTOS
B44: ENGENHEIRO CIVIL CREA/PA: 151536623-5

Sheet 1.9.7
B1: PREFEITURA MUNICIPAL DE URUARÁ
K2: DADOS
K3: MEMÓRIA | M3: 1.9
K4: BM: | M4: 5
B5: OBJETO | E5: ='1.4.1'!E5:J6 -> PAVIMENTAÇÃO DE VIAS URBANAS NO MUNICÍPIO DE URUARÁ - PARÁ | K5: DATA BASE | M5: 45839
K6: DATA DA EMISSÃO | M6: 45884
K7: Referencia | M7: Mensal
B9: MEMORIA DE CALCULO
B10: CTEF: | E10: ='1.4.1'!E10:M10 -> OGU MTUR 975474/2025
B11: UNIDADE: | E11: UNIDADE | K11: TITULO: | M11: =PLANILHA!C3 -> 1.1.
B12: TITULO: | E12: REGULARIZAÇÃO DE SUBLEITO | K12: ITEM: | M12: 1.9
B13: DESCRIÇÃO: | E13: REGULARIZAÇÃO E COMPACTAÇÃO DE SUBLEITO DE SOLO PREDOMINANTEMENTE ARENOSO, PARA OBRAS DE CONSTRUÇÃO DE PAVIMENTOS. AF_09/2024. | K13: ITEM: | M13: 1.9.7
B14: MEDIDO: | E14: UNIDADE | F14: UNI | G14: OBJETO: ADEQUAÇÃO DE ESTRADAS VICINAIS
B16: ='1.4.1'!B16 -> FORMULAS E QUADRO DE CÁLCULOS
B17: Ordem | C17: Item | D17: Descrição | H17: QUANTIDADES | M17: TOTAL (M²)
H18: VIA (M) | I18: MFC (M) | J18: MFC (M) | K18: C (M)
B19: 1 | D19: LARGURA DE LIMPEZA (M) (VIA+MF (BORDO ESQUERDO)+MF (BORDO DIREITO))*EXTENSAO (M) | H19: ='1.9.1'!H19 -> 8 | I19: 0.45 | J19: 0.45 | K19: ='1.9.1'!K19 -> 737.4 | M19: =ROUND(((H19+I19+J19)*(K19)),2) -> 6562.86
B20: 2 | D20: 18 UNIDADES DE ACESSOS - LARGURA DE LIMPEZA (M) (VIA+MFC (BORDO ESQUERDO)+MFC (BORDO DIREITO))*EXTENSAO (M) | H20: 6 | I20: 0.45 | J20: 0.45 | K20: ='1.9.1'!K20 -> 90 | M20: =ROUND(((H20+I20+J20)*(K20)),2) -> 621
M30: =ROUND((H30*I30*J30),2) -> 0
M31: =ROUND((H31*I31*J31),2) -> 0
M32: =ROUND((H32*I32*J32),2) -> 0
B33: TOTAL DA ATIVIDADE............................................................................................................................................................................. | M33: =SUM(M19:M32) -> 7183.86
B35: OBSERVAÇÕES: | H35: Total Executado no Mês | M35: =M33 -> 7183.86
H36: Total Executado Anterior | M36: #N/A
H37: Total Executado Acumulado | M37: =M36+M35 -> #N/A
H38: Total Contratado | M38: #N/A
H39: Saldo Atual | M39: =IFERROR(IF(M37>M38,0,M38-M37),"")
H40: Saldo (TAC) | M40: =IF(M37>M38,M37-M38,0) -> #N/A
B41: _____________________________________________
B42: PREFEITURA MUNICIPAL DE URUARÁ
B43: DOUGLAS NASCIMENTO DOS SANTOS
B44: ENGENHEIRO CIVIL CREA/PA: 151536623-5

Sheet 1.13.5.
B1: PREFEITURA MUNICIPAL DE URUARÁ
K2: DADOS
K3: MEMÓRIA | M3: =M12 -> 1.13.
K4: BM: | M4: 5
B5: OBJETO | E5: ='1.4.1'!E5:J6 -> PAVIMENTAÇÃO DE VIAS URBANAS NO MUNICÍPIO DE URUARÁ - PARÁ | K5: Período: | M5: 44958
K6: Data Emissão: | M6: 45103
K7: Referencia | M7: Mensal
B9: MEMORIA DE CALCULO
B10: CTEF: | E10: ='1.4.1'!E10:M10 -> OGU MTUR 975474/2025
B11: UNIDADE: | E11: UNIDADE | K11: TITULO: | M11: =PLANILHA!C3 -> 1.1.
B12: TITULO: | E12: =PLANILHA!F28 -> REGULARIZAÇÃO E SUBLEITO (TRECHO I, II E II) | K12: ITEM: | M12: =PLANILHA!C28 -> 1.13.
B13: DESCRIÇÃO: | E13: =PLANILHA!F33 -> CARGA, MANOBRA E DESCARGA DE SOLOS E MATERIAIS GRANULARES EM CAMINHÃO BASCULANTE 10 M³ - CARGA COM PÁ CARREGADEIRA (CAÇAMBA DE 1,7 A 2,8 M³ / 128 HP) E DESCARGA LIVRE (UNIDADE: M3). AF_07/2020 | K13: ITEM: | M13: =PLANILHA!C33 -> 1.13.5.
B14: MEDIDO: | E14: UNIDADE | F14: UNI | G14: OBJETO: ADEQUAÇÃO DE ESTRADAS VICINAIS
B16: ='1.4.1'!B16 -> FORMULAS E QUADRO DE CÁLCULOS
B17: Ordem | C17: Item | D17: Descrição | H17: Quantidades | M17: Total
H18: V (M³) | I18: f (%) | M18: VOLUME (M²)
B19: 1 | D19: VOLUME DE ATERRO (M³)*FATOR DE EMPOLAMENTO (%) | H19: 104.92 | I19: 1.25 | M19: =ROUND((H19*I19),2) -> 131.15
B33: TOTAL DA ATIVIDADE............................................................................................................................................................................. | L33: UNIDADE | M33: =SUM(M19:M32) -> 131.15
B35: OBSERVAÇÕES: | H35: Total Executado no Mês | M35: =M33 -> 131.15
H36: Total Executado Anterior | M36: #N/A
H37: Total Executado Acumulado | M37: =M36+M35 -> #N/A
H38: Total Contratado | M38: #N/A
H39: Saldo Atual | M39: =IFERROR(IF(M37>M38,0,M38-M37),"")
H40: Saldo (TAC) | M40: =IF(M37>M38,M37-M38,0) -> #N/A
B41: _____________________________________________
B42: PREFEITURA MUNICIPAL DE URUARÁ
B43: DOUGLAS NASCIMENTO DOS SANTOS
B44: ENGENHEIRO CIVIL CREA/PA: 151536623-5

Sheet 1.10.1
B1: PREFEITURA MUNICIPAL DE URUARÁ
K2: DADOS
K3: MEMÓRIA | M3: 1.10
K4: BM: | M4: 5
B5: OBJETO | E5: ='1.4.1'!E5:J6 -> PAVIMENTAÇÃO DE VIAS URBANAS NO MUNICÍPIO DE URUARÁ - PARÁ | K5: DATA BASE | M5: 45839
K6: DATA DA EMISSÃO | M6: 45884
K7: Referencia | M7: Mensal
B9: MEMORIA DE CALCULO
B10: CTEF: | E10: ='1.4.1'!E10:M10 -> OGU MTUR 975474/2025
B11: UNIDADE: | E11: UNIDADE | K11: TITULO: | M11: =PLANILHA!C3 -> 1.1.
B12: TITULO: | E12: EXECUÇÃO DA SUBBASE | K12: ITEM: | M12: 1.10
B13: DESCRIÇÃO: | E13: ESCAVAÇÃO MECÂNICA COM RETROESCAVADEIRA EM MATERIAL DE 1ª CATEGORIA | K13: ITEM: | M13: 1.10.1 | O13: ESCAVAÇÃO MECÂNICA COM RETROESCAVADEIRA EM MATERIAL DE 1ª CATEGORIA
B14: MEDIDO: | E14: UNIDADE | F14: UNI | G14: OBJETO: ADEQUAÇÃO DE ESTRADAS VICINAIS
B16: ='1.4.1'!B16 -> FORMULAS E QUADRO DE CÁLCULOS
B17: ORDEM | C17: Item | D17: DESCRIÇÃO | H17: QUANTIDADES | M17: TOTAL (M3)
H18: L (M) | I18: MF (M) | J18: MF (M) | K18: EXT (M) | L18: ESP (M)
B19: 1 | D19: LARGURA (M) (VIA+MFC (BORDO ESQUERDO)+MFC (BORDO DIREITO))*EXTENSAO*ESPESSURA (M) | H19: ='1.9.7'!H19 -> 8 | I19: 0.45 | J19: 0.45 | K19: ='1.9.7'!K19 -> 737.4 | L19: 0.1 | M19: =ROUND(((H19+I19+J19)*(K19*L19)),2) -> 656.29
B20: 2 | D20: 18 UNIDADES DE ACESSOS - LARGURA DE LIMPEZA (M) (VIA+MFC (BORDO ESQUERDO)+MFC (BORDO DIREITO))*EXTENSAO (M) | H20: 6 | I20: 0.45 | J20: 0.45 | K20: ='1.9.7'!K20 -> 90 | L20: 0.1 | M20: =ROUND(((H20+I20+J20)*(K20*L20)),2) -> 62.1
B33: TOTAL DA ATIVIDADE............................................................................................................................................................................. | M33: =SUM(M19:M32) -> 718.39
B35: OBSERVAÇÕES: | H35: Total Executado no Mês | M35: =M33 -> 718.39
H36: Total Executado Anterior | M36: #N/A
H37: Total Executado Acumulado | M37: =M36+M35 -> #N/A
H38: Total Contratado | M38: #N/A
H39: Saldo Atual | M39: =IFERROR(IF(M37>M38,0,M38-M37),"")
H40: Saldo (TAC) | M40: =IF(M37>M38,M37-M38,0) -> #N/A
B41: _____________________________________________
B42: PREFEITURA MUNICIPAL DE URUARÁ
B43: DOUGLAS NASCIMENTO DOS SANTOS
B44: ENGENHEIRO CIVIL CREA/PA: 151536623-5

Sheet 1.10.2
B1: PREFEITURA MUNICIPAL DE URUARÁ
K2: DADOS
K3: MEMÓRIA | M3: 1.10
K4: BM: | M4: 5
B5: OBJETO | E5: ='1.4.1'!E5:J6 -> PAVIMENTAÇÃO DE VIAS URBANAS NO MUNICÍPIO DE URUARÁ - PARÁ | K5: DATA BASE | M5: 45839
K6: DATA DA EMISSÃO | M6: 45884
K7: Referencia | M7: Mensal
B9: MEMORIA DE CALCULO
B10: CTEF: | E10: ='1.4.1'!E10:M10 -> OGU MTUR 975474/2025
B11: UNIDADE: | E11: UNIDADE | K11: TITULO: | M11: =PLANILHA!C3 -> 1.1.
B12: TITULO: | E12: EXECUÇÃO DA SUBBASE | K12: ITEM: | M12: 1.10
B13: DESCRIÇÃO: | E13: CARGA, MANOBRA E DESCARGA DE SOLOS E MATERIAIS GRANULARES EM CAMINHÃO BASCULANTE 18 M³ - CARGA COM ESCAVADEIRA HIDRÁULICA (CAÇAMBA DE 1,20 M³ / 155 HP) E DESCARGA LIVRE (UNIDADE: M3). AF_07/2020 | K13: ITEM: | M13: 1.10.2 | O13: CARGA, MANOBRA E DESCARGA DE SOLOS E MATERIAIS GRANULARES EM CAMINHÃO BASCULANTE 14 M³ - CARGA COM ESCAVADEIRA HIDRÁULICA (CAÇAMBA DE 1,20 M³ / 155 HP) E DESCARGA LIVRE (UNIDADE: M3). AF_07/2020
B14: MEDIDO: | E14: UNIDADE | F14: UNI | G14: OBJETO: ADEQUAÇÃO DE ESTRADAS VICINAIS
B16: ='1.4.1'!B16 -> FORMULAS E QUADRO DE CÁLCULOS
B17: Ordem | C17: Item | D17: Descrição | H17: QUANTIDADES | M17: TOTAL (M³)
H18: V (M3) | I18: f (%)
B19: 1 | D19: VOLUME DE ATERRO (M³)*FATOR DE EMPOLAMENTO (%) | H19: ='1.10.1'!M33 -> 718.39 | I19: 1.25 | M19: =ROUND(((H19*I19)),2) -> 897.99
B33: TOTAL DA ATIVIDADE............................................................................................................................................................................. | L33: UNIDADE | M33: =SUM(M19:M32) -> 897.99
B35: OBSERVAÇÕES: | H35: Total Executado no Mês | M35: =M33 -> 897.99
H36: Total Executado Anterior | M36: #N/A
H37: Total Executado Acumulado | M37: =M36+M35 -> #N/A
H38: Total Contratado | M38: #N/A
H39: Saldo Atual | M39: =IFERROR(IF(M37>M38,0,M38-M37),"")
H40: Saldo (TAC) | M40: =IF(M37>M38,M37-M38,0) -> #N/A
B41: _____________________________________________
B42: PREFEITURA MUNICIPAL DE URUARÁ
B43: DOUGLAS NASCIMENTO DOS SANTOS
B44: ENGENHEIRO CIVIL CREA/PA: 151536623-5

Sheet 1.10.3
B1: PREFEITURA MUNICIPAL DE URUARÁ
K2: DADOS
K3: MEMÓRIA | M3: 1.10
K4: BM: | M4: 5
B5: OBJETO | E5: ='1.4.1'!E5:J6 -> PAVIMENTAÇÃO DE VIAS URBANAS NO MUNICÍPIO DE URUARÁ - PARÁ | K5: DATA BASE | M5: 45839
K6: DATA DA EMISSÃO | M6: 45884
K7: Referencia | M7: Mensal
B9: MEMORIA DE CALCULO
B10: CTEF: | E10: ='1.4.1'!E10:M10 -> OGU MTUR 975474/2025
B11: UNIDADE: | E11: UNIDADE | K11: TITULO: | M11: =PLANILHA!C3 -> 1.1.
B12: TITULO: | E12: EXECUÇÃO DA SUBBASE | K12: ITEM: | M12: 1.10
B13: DESCRIÇÃO: | E13: TRANSPORTE COM CAMINHÃO BASCULANTE DE 18 M³, EM VIA URBANA EM REVESTIMENTO PRIMÁRIO (UNIDADE: M3XKM). AF_07/2020 | K13: ITEM: | M13: 1.10.3 | O13: TRANSPORTE COM CAMINHÃO BASCULANTE DE 14 M³, EM VIA URBANA EM REVESTIMENTO PRIMÁRIO (UNIDADE: M3XKM). AF_07/2020
B14: MEDIDO: | E14: UNIDADE | F14: UNI | G14: OBJETO: ADEQUAÇÃO DE ESTRADAS VICINAIS
B16: ='1.4.1'!B16 -> FORMULAS E QUADRO DE CÁLCULOS
B17: Ordem | C17: Item | D17: Descrição | H17: QUANTIDADES | M17: TOTAL (M³XKM)
H18: V (M³) | I18: f (%) | J18: DMT (KM)
B19: 1 | D19: VOLUME (M³) * EMPOLAMENTO (%) * DMT (KM) | H19: ='1.10.2'!H19 -> 718.39 | I19: 1.25 | J19: 12.15 | M19: =ROUND((H19*I19*J19),2) -> 10910.55
B36: TOTAL DA ATIVIDADE............................................................................................................................................................................. | L36: UNIDADE | M36: =SUM(M19:M35) -> 10910.55
B38: OBSERVAÇÕES: | H38: Total Executado no Mês | M38: =M36 -> 10910.55
H39: Total Executado Anterior | M39: #N/A
H40: Total Executado Acumulado | M40: =M39+M38 -> #N/A
H41: Total Contratado | M41: #N/A
H42: Saldo Atual | M42: =IFERROR(IF(M40>M41,0,M41-M40),"")
H43: Saldo (TAC) | M43: =IF(M40>M41,M40-M41,0) -> #N/A
B44: _____________________________________________
B45: PREFEITURA MUNICIPAL DE URUARÁ
B46: DOUGLAS NASCIMENTO DOS SANTOS
B47: ENGENHEIRO CIVIL CREA/PA: 151536623-5

Sheet 1.10.4.
B1: PREFEITURA MUNICIPAL DE URUARÁ
K2: DADOS
K3: MEMÓRIA | M3: 1.10
K4: BM: | M4: 5
B5: OBJETO | E5: ='1.4.1'!E5:J6 -> PAVIMENTAÇÃO DE VIAS URBANAS NO MUNICÍPIO DE URUARÁ - PARÁ | K5: DATA BASE | M5: 45839
K6: DATA DA EMISSÃO | M6: 45884
K7: Referencia | M7: Mensal
B9: MEMORIA DE CALCULO
B10: CTEF: | E10: ='1.4.1'!E10:M10 -> OGU MTUR 975474/2025
B11: UNIDADE: | E11: UNIDADE | K11: TITULO: | M11: =PLANILHA!C3 -> 1.1.
B12: TITULO: | E12: EXECUÇÃO DA SUBBASE | K12: ITEM: | M12: 1.10
B13: DESCRIÇÃO: | E13: AREIA PARA ATERRO - POSTO JAZIDA/FORNECEDOR (RETIRADO NA JAZIDA, SEM TRANSPORTE) | K13: ITEM: | M13: 1.10.4 | O13: AREIA PARA ATERRO - POSTO JAZIDA/FORNECEDOR (RETIRADO NA JAZIDA, SEM TRANSPORTE)
B14: MEDIDO: | E14: UNIDADE | F14: UNI | G14: OBJETO: ADEQUAÇÃO DE ESTRADAS VICINAIS
B16: ='1.4.1'!B16 -> FORMULAS E QUADRO DE CÁLCULOS
B17: Ordem | C17: Item | D17: Descrição | H17: QUANTIDADES | M17: TOTAL (M³)
H18: VIA (M) | I18: MFC (M) | J18: MFC (M) | K18: C (M) | L18: ESP (M)
B19: 1 | D19: LARGURA (M) (VIA+MFC (BORDO ESQUERDO)+MFC (BORDO DIREITO))*EXTENSAO*ESPESSURA (M) | H19: ='1.10.1'!H19 -> 8 | I19: 0.45 | J19: 0.45 | K19: ='1.10.1'!K19 -> 737.4 | L19: 0.1 | M19: =ROUND(((H19+I19+J19)*(K19*L19)),2) -> 656.29
B20: 2 | D20: 18 UNIDADES DE ACESSOS - LARGURA DE LIMPEZA (M) (VIA+MFC (BORDO ESQUERDO)+MFC (BORDO DIREITO))*EXTENSAO (M) | H20: ='1.10.1'!H20 -> 6 | I20: ='1.10.1'!I20 -> 0.45 | J20: ='1.10.1'!J20 -> 0.45 | K20: ='1.10.1'!K20 -> 90 | L20: ='1.10.1'!L20 -> 0.1 | M20: =ROUND(((H20+I20+J20)*(K20*L20)),2) -> 62.1
B33: TOTAL DA ATIVIDADE............................................................................................................................................................................. | L33: UNIDADE | M33: =SUM(M19:M32) -> 718.39
B35: OBSERVAÇÕES: | H35: Total Executado no Mês | M35: =M33 -> 718.39
H36: Total Executado Anterior | M36: #N/A
H37: Total Executado Acumulado | M37: =M36+M35 -> #N/A
H38: Total Contratado | M38: #N/A
H39: Saldo Atual | M39: =IFERROR(IF(M37>M38,0,M38-M37),"")
H40: Saldo (TAC) | M40: =IF(M37>M38,M37-M38,0) -> #N/A
B41: _____________________________________________
B42: PREFEITURA MUNICIPAL DE URUARÁ
B43: DOUGLAS NASCIMENTO DOS SANTOS
B44: ENGENHEIRO CIVIL CREA/PA: 151536623-5

Sheet 1.10.4
B1: PREFEITURA MUNICIPAL DE URUARÁ
K2: DADOS
K3: MEMÓRIA | M3: 1.10
K4: BM: | M4: 5
B5: OBJETO | E5: ='1.4.1'!E5:J6 -> PAVIMENTAÇÃO DE VIAS URBANAS NO MUNICÍPIO DE URUARÁ - PARÁ | K5: DATA BASE | M5: 45839
K6: DATA DA EMISSÃO | M6: 45884
K7: Referencia | M7: Mensal
B9: MEMORIA DE CALCULO
B10: CTEF: | E10: ='1.4.1'!E10:M10 -> OGU MTUR 975474/2025
B11: UNIDADE: | E11: UNIDADE | K11: TITULO: | M11: =PLANILHA!C3 -> 1.1.
B12: TITULO: | E12: EXECUÇÃO DA SUBBASE | K12: ITEM: | M12: 1.10
B13: DESCRIÇÃO: | E13: CONSTRUÇÃO DE BASE E SUB-BASE PARA PAVIMENTAÇÃO DE SOLO DE COMPORTAMENTO LATERÍTICO (ARENOSO), COM ESPESSURA DE 15 CM - EXCLUSIVE ESCAVAÇÃO, CARGA E TRANSPORTE E SOLO. AF_09/2024 | K13: ITEM: | M13: 1.10.4 | O13: CONSTRUÇÃO DE BASE E SUB-BASE PARA PAVIMENTAÇÃO DE SOLO DE COMPORTAMENTO LATERÍTICO (ARENOSO), COM ESPESSURA DE 15 CM - EXCLUSIVE ESCAVAÇÃO, CARGA E TRANSPORTE E SOLO. AF_09/2024
B14: MEDIDO: | E14: UNIDADE | F14: UNI | G14: OBJETO: ADEQUAÇÃO DE ESTRADAS VICINAIS
B16: ='1.4.1'!B16 -> FORMULAS E QUADRO DE CÁLCULOS
B17: Ordem | C17: Item | D17: Descrição | H17: QUANTIDADES | M17: TOTAL
H18: VIA (M) | I18: MFC (M) | J18: MFC (M) | K18: C (M) | L18: ESP (M) | M18: TOTAL (M³)
B19: 1 | D19: LARGURA (M) (VIA+MFC (BORDO ESQUERDO)+MFC (BORDO DIREITO))*EXTENSAO*ESPESSURA (M) | H19: ='1.10.4.'!H19 -> 8 | I19: 0.45 | J19: 0.45 | K19: ='1.10.4.'!K19 -> 737.4 | L19: ='1.10.4.'!L19 -> 0.1 | M19: =ROUND(((H19+I19+J19)*(K19*L19)),2) -> 656.29
B20: 2 | D20: 18 UNIDADES DE ACESSOS - LARGURA DE LIMPEZA (M) (VIA+MFC (BORDO ESQUERDO)+MFC (BORDO DIREITO))*EXTENSAO (M) | H20: ='1.10.4.'!H20 -> 6 | I20: ='1.10.4.'!I20 -> 0.45 | J20: ='1.10.4.'!J20 -> 0.45 | K20: ='1.10.4.'!K20 -> 90 | L20: ='1.10.4.'!L20 -> 0.1 | M20: =ROUND(((H20+I20+J20)*(K20*L20)),2) -> 62.1
B33: TOTAL DA ATIVIDADE............................................................................................................................................................................. | L33: UNIDADE | M33: =SUM(M19:M32) -> 718.39
B35: OBSERVAÇÕES: | H35: Total Executado no Mês | M35: =M33 -> 718.39
H36: Total Executado Anterior | M36: #N/A
H37: Total Executado Acumulado | M37: =M36+M35 -> #N/A
H38: Total Contratado | M38: #N/A
H39: Saldo Atual | M39: =IFERROR(IF(M37>M38,0,M38-M37),"")
H40: Saldo (TAC) | M40: =IF(M37>M38,M37-M38,0) -> #N/A
B41: _____________________________________________
B42: PREFEITURA MUNICIPAL DE URUARÁ
B43: DOUGLAS NASCIMENTO DOS SANTOS
B44: ENGENHEIRO CIVIL CREA/PA: 151536623-5

Sheet 1.11.1
B1: PREFEITURA MUNICIPAL DE URUARÁ
K2: DADOS
K3: MEMÓRIA | M3: 1.11
K4: BM: | M4: 5
B5: OBJETO | E5: ='1.4.1'!E5:J6 -> PAVIMENTAÇÃO DE VIAS URBANAS NO MUNICÍPIO DE URUARÁ - PARÁ | K5: DATA BASE | M5: 45839
K6: DATA DA EMISSÃO | M6: 45884
