Workbook
Name AGUA: [1]INSUMOS!#REF!
Name AGUA: [1]INSUMOS!#REF!
Name AGUA: [1]INSUMOS!#REF!
Name AGUA: [1]INSUMOS!#REF!
Name AreaTeste2: #REF!
Name AreaTeste2: #REF!
Name AreaTeste2: #REF!
Name Aterro_arenoso: [2]Preços!$C$15
Name bdi: '[3]Comparativo Av. Cristóvão'!#REF!
Name bdi: '[4]Comparativo Av. Cristóvão'!#REF!
Name BDI_redes: #REF!
Name BDI_redes: #REF!
Name BDI_redes: #REF!
Name Carrinho_de_mão: [2]Preços!$C$291
Name casa: [1]INSUMOS!#REF!
Name casa: [1]INSUMOS!#REF!
Name casa: [1]INSUMOS!#REF!
Name casa: [1]INSUMOS!#REF!
Name CélulaInicioPlanilha: #REF!
Name CélulaInicioPlanilha: #REF!
Name CélulaInicioPlanilha: #REF!
Name CélulaResumo: #REF!
Name CélulaResumo: #REF!
Name CélulaResumo: #REF!
Name Compactador_de_placa_vibratória: [2]Preços!$C$286
Name dados_re: [5]RE!$B$13:$P$37
Name Encarregado: [2]Preços!$C$277
Name Excel_BuiltIn_Print_Area_6_1: #REF!
Name Excel_BuiltIn_Print_Area_6_1: #REF!
Name Excel_BuiltIn_Print_Area_6_1: #REF!
Name Excel_BuiltIn_Print_Titles_1_1: #REF!
Name Excel_BuiltIn_Print_Titles_1_1: #REF!
Name Excel_BuiltIn_Print_Titles_1_1: #REF!
Name iv: #REF!
Name iv: #REF!
Name iv: #REF!
Name k: #REF!
Name k: #REF!
Name k: #REF!
Name LADRILHISTA: [1]INSUMOS!#REF!
Name LADRILHISTA: [1]INSUMOS!#REF!
Name LADRILHISTA: [1]INSUMOS!#REF!
Name LADRILHISTA: [1]INSUMOS!#REF!
Name llllllll: #REF!
Name llllllll: #REF!
Name llllllll: #REF!
Name LOCAÇÃO: [1]INSUMOS!#REF!
Name LOCAÇÃO: [1]INSUMOS!#REF!
Name LOCAÇÃO: [1]INSUMOS!#REF!
Name LOCAÇÃO: [1]INSUMOS!#REF!
Name M: #REF!
Name M: #REF!
Name M: #REF!
Name MAO_DE_OBRA_PARA_COLOCACAO_DE_VIDRO_COM_MASSA: [1]INSUMOS!#REF!
Name MAO_DE_OBRA_PARA_COLOCACAO_DE_VIDRO_COM_MASSA: [1]INSUMOS!#REF!
Name MAO_DE_OBRA_PARA_COLOCACAO_DE_VIDRO_COM_MASSA: [1]INSUMOS!#REF!
Name MAO_DE_OBRA_PARA_COLOCACAO_DE_VIDRO_COM_MASSA: [1]INSUMOS!#REF!
Name MAPA: #REF!
Name MAPA: #REF!
Name MAPA: #REF!

Sheet Resumo do Orçamento
A3: PREFEITURA MUNICIPAL DE NOVO REPARTIMENTO
A4: SECRETARIA MUNICIPAL DE GESTÃO E PLANEJAMENTO
A5: DEPARTAMENTO DE ENGENHARIA
A9: Município | D9: Obra | E9: Bancos | F9: B.D.I. | I9: Encargos Sociais
A10: NOVO REPARTIMENTO-PA | D10: CONSTRUÇÃO DA FÁBRICA E ESCOLA DE CHOCOLATE | E10: SINAPI - 10/2024 - Pará SBC - 11/2024 - Pará SEDOP - 10/2024 - Pará | F10: 28,82% | I10: Desonerado: Horista: 88,37% Mensalista: 48,18%
A11: Planilha Orçamentária Resumida
A12: Item | D12: Descrição | I12: Total | J12: Peso (%)
A13: 1 | D13: SERVIÇOS INICIAIS | G13: 1 | I13: 1142.77 | J13: 0.0022940244
A14: 2 | D14: ESTRUTURA | G14: 1 | I14: 97184.7 | J14: 0.19509094
A15: 3 | D15: VEDAÇÃO | G15: 1 | I15: 51553.83 | J15: 0.10349042
A16: 4 | D16: COBERTURA | G16: 1 | I16: 65060.13 | J16: 0.13060329
A17: 5 | D17: REVESTIMENTO | G17: 1 | I17: 45476.38 | J17: 0.091290394
A18: 6 | D18: PISO | G18: 1 | I18: 41523.98 | J18: 0.08335625
A19: 7 | D19: FORRO | G19: 1 | I19: 12715.14 | J19: 0.025524682
A20: 8 | D20: ESQUADRIAS | G20: 1 | I20: 46636.11 | J20: 0.093618464
A21: 9 | D21: INSTALAÇÕES HIDROSSANITÁRIAS | G21: 1 | I21: 71916.57 | J21: 0.14436708
A22: 10 | D22: INSTALAÇÕES ELÉTRICAS | G22: 1 | I22: 39150.43 | J22: 0.078591528
A23: 11 | D23: PINTURA | G23: 1 | I23: 22834.57 | J23: 0.045838672
A24: 12 | D24: SERVIÇOS FINAIS | G24: 1 | I24: 2956.16 | J24: 0.0059342677
G26: Total sem BDI | I26: 386737.83
G27: Total do BDI | I27: 111412.94
G28: Total Geral | I28: 498150.77
E30: Novo Repartimento-PA, 04 de Fevereiro de 2025
A32: _______________________________________________________________ Williams José Gonçalves de Almeida Setor de Engenharia

Sheet Orçamento Sintético
A3: PREFEITURA MUNICIPAL DE NOVO REPARTIMENTO
A4: SECRETARIA MUNICIPAL DE GESTÃO E PLANEJAMENTO
A5: DEPARTAMENTO DE ENGENHARIA
A9: Município | D9: Obra | E9: Bancos | G9: B.D.I. | I9: Encargos Sociais
A10: NOVO REPARTIMENTO-PA | D10: CONSTRUÇÃO DA FÁBRICA E ESCOLA DE CHOCOLATE | E10: SINAPI - 10/2024 - Pará SBC - 11/2024 - Pará SEDOP - 10/2024 - Pará | G10: 28,82% | I10: Desonerado: Horista: 88,37% Mensalista: 48,18%
A11: Orçamento Sintético
A12: Item | B12: Código | C12: Banco | D12: Descrição | E12: Und | F12: Quant. | G12: Valor Unit | H12: Valor Unit com BDI | I12: Total | J12: Peso (%)
A13: 1 | D13: SERVIÇOS INICIAIS | F13: 1 | H13: 1142.77 | I13: 1142.77 | J13: 0.0022940244
A14: 1.1 | B14: 011340 | C14: SEDOP | D14: Placa de obra em lona com plotagem de gráfica | E14: m² | F14: 4.5 | G14: 197.14 | H14: 253.95 | I14: 1142.77 | J14: 0.0022940244
A15: 2 | D15: ESTRUTURA | F15: 1 | H15: 97184.7 | I15: 97184.7 | J15: 0.19509094
A16: 2.1 | D16: FUNDAÇÃO | F16: 1 | H16: 38645.78 | I16: 38645.78 | J16: 0.077578481
A17: 2.1.1 | B17: 93358 | C17: SINAPI | D17: ESCAVAÇÃO MANUAL DE VALA. AF_09/2024 | E17: m³ | F17: 20.87 | G17: 81.37 | H17: 104.82 | I17: 2187.59 | J17: 0.0043914215
A18: 2.1.2 | B18: 96544 | C18: SINAPI | D18: ARMAÇÃO DE BLOCO UTILIZANDO AÇO CA-50 DE 6,3 MM - MONTAGEM. AF_01/2024 | E18: KG | F18: 106 | G18: 18.51 | H18: 23.84 | I18: 2527.04 | J18: 0.0050728417
A19: 2.1.3 | B19: 96545 | C19: SINAPI | D19: ARMAÇÃO DE BLOCO UTILIZANDO AÇO CA-50 DE 8 MM - MONTAGEM. AF_01/2024 | E19: KG | F19: 246 | G19: 16.93 | H19: 21.8 | I19: 5362.8 | J19: 0.010765415
A20: 2.1.4 | B20: 96546 | C20: SINAPI | D20: ARMAÇÃO DE BLOCO UTILIZANDO AÇO CA-50 DE 10 MM - MONTAGEM. AF_01/2024 | E20: KG | F20: 192 | G20: 14.94 | H20: 19.24 | I20: 3694.08 | J20: 0.0074155862
A21: 2.1.5 | B21: 96543 | C21: SINAPI | D21: ARMAÇÃO DE BLOCO UTILIZANDO AÇO CA-60 DE 5 MM - MONTAGEM. AF_01/2024 | E21: KG | F21: 144 | G21: 20.18 | H21: 25.99 | I21: 3742.56 | J21: 0.0075129062
A22: 2.1.6 | B22: 102482 | C22: SINAPI | D22: CONCRETO FCK = 25MPA, TRAÇO 1:2,2:2,5 (EM MASSA SECA DE CIMENTO/ AREIA MÉDIA/ SEIXO ROLADO) - PREPARO MECÂNICO COM BETONEIRA 600 L. AF_05/2021 | E22: m³ | F22: 11.28 | G22: 723.74 | H22: 932.32 | I22: 10516.56 | J22: 0.021111199
A23: 2.1.7 | B23: 050035 | C23: SEDOP | D23: Formas para concreto em chapa de madeira compensada resinada e=15mm(REAP 2x) - incl. desforma | E23: m² | F23: 85 | G23: 93.74 | H23: 120.75 | I23: 10263.75 | J23: 0.020603702
A24: 2.1.8 | B24: 030254 | C24: SEDOP | D24: Reaterro compactado | E24: m³ | F24: 16.49 | G24: 16.55 | H24: 21.31 | I24: 351.4 | J24: 0.00070540893
A25: 2.2 | D25: SUPERESTRUTURA | F25: 1 | H25: 58538.92 | I25: 58538.92 | J25: 0.11751246
A26: 2.2.1 | B26: 92761 | C26: SINAPI | D26: ARMAÇÃO DE PILAR OU VIGA DE ESTRUTURA CONVENCIONAL DE CONCRETO ARMADO UTILIZANDO AÇO CA-50 DE 8,0 MM - MONTAGEM. AF_06/2022 | E26: KG | F26: 366.9 | G26: 13.58 | H26: 17.49 | I26: 6417.08 | J26: 0.012881803
A27: 2.2.2 | B27: 92762 | C27: SINAPI | D27: ARMAÇÃO DE PILAR OU VIGA DE ESTRUTURA CONVENCIONAL DE CONCRETO ARMADO UTILIZANDO AÇO CA-50 DE 10,0 MM - MONTAGEM. AF_06/2022 | E27: KG | F27: 375.4 | G27: 12.21 | H27: 15.72 | I27: 5901.28 | J27: 0.011846373
A28: 2.2.3 | B28: 92759 | C28: SINAPI | D28: ARMAÇÃO DE PILAR OU VIGA DE ESTRUTURA CONVENCIONAL DE CONCRETO ARMADO UTILIZANDO AÇO CA-60 DE 5,0 MM - MONTAGEM. AF_06/2022 | E28: KG | F28: 177 | G28: 14.84 | H28: 19.11 | I28: 3382.47 | J28: 0.0067900527
A29: 2.2.4 | B29: 050035 | C29: SEDOP | D29: Formas para concreto em chapa de madeira compensada resinada e=15mm(REAP 2x) - incl. desforma | E29: m² | F29: 251.15 | G29: 93.74 | H29: 120.75 | I29: 30326.36 | J29: 0.060877874
A30: 2.2.5 | B30: 102482 | C30: SINAPI | D30: CONCRETO FCK = 25MPA, TRAÇO 1:2,2:2,5 (EM MASSA SECA DE CIMENTO/ AREIA MÉDIA/ SEIXO ROLADO) - PREPARO MECÂNICO COM BETONEIRA 600 L. AF_05/2021 | E30: m³ | F30: 13.42 | G30: 723.74 | H30: 932.32 | I30: 12511.73 | J30: 0.025116352
A31: 3 | D31: VEDAÇÃO | F31: 1 | H31: 51553.83 | I31: 51553.83 | J31: 0.10349042
A32: 3.1 | B32: 060046 | C32: SEDOP | D32: Alvenaria tijolo de barro a cutelo | E32: m² | F32: 304.31 | G32: 111.44 | H32: 143.55 | I32: 43683.7 | J32: 0.087691724
A33: 3.2 | B33: 060045 | C33: SEDOP | D33: Alvenaria tijolo de barro a singelo | E33: m² | F33: 43.74 | G33: 139.68 | H33: 179.93 | I33: 7870.13 | J33: 0.015798691
A34: 4 | D34: COBERTURA | F34: 1 | H34: 65060.13 | I34: 65060.13 | J34: 0.13060329
A35: 4.1 | B35: 070051 | C35: SEDOP | D35: Estrutura em mad. lei p/ telha de barro - pç.aparelhada | E35: m² | F35: 296.76 | G35: 117.89 | H35: 151.86 | I35: 45065.97 | J35: 0.090466527
A36: 4.2 | B36: 070049 | C36: SEDOP | D36: Cobertura - telha de barro paulista ou planatex | E36: m² | F36: 296.76 | G36: 49.98 | H36: 64.38 | I36: 19105.4 | J36: 0.038352646
A37: 4.3 | B37: 94219 | C37: SINAPI | D37: CUMEEIRA E ESPIGÃO PARA TELHA CERÂMICA EMBOÇADA COM ARGAMASSA TRAÇO 1:2:9 (CIMENTO, CAL E AREIA), PARA TELHADOS COM MAIS DE 2 ÁGUAS, INCLUSO TRANSPORTE VERTICAL. AF_07/2019 | E37: M | F37: 20.54 | G37: 33.59 | H37: 43.27 | I37: 888.76 | J37: 0.0017841185
A38: 5 | D38: REVESTIMENTO | F38: 1 | H38: 45476.38 | I38: 45476.38 | J38: 0.091290394
A39: 5.1 | B39: 87894 | C39: SINAPI | D39: CHAPISCO APLICADO EM ALVENARIA (SEM PRESENÇA DE VÃOS) E ESTRUTURAS DE CONCRETO DE FACHADA, COM COLHER DE PEDREIRO. ARGAMASSA TRAÇO 1:3 COM PREPARO EM BETONEIRA 400L. AF_10/2022 | E39: m² | F39: 696.1 | G39: 7.18 | H39: 9.24 | I39: 6431.96 | J39: 0.012911673
A40: 5.2 | B40: 104958 | C40: SINAPI | D40: MASSA ÚNICA, EM ARGAMASSA TRAÇO 1:2:8 PREPARO MECÂNICO, APLICADA MANUALMENTE EM PAREDES INTERNAS DE AMBIENTES COM ÁREA MAIOR QUE 10M², E = 10MM, COM TALISCAS. AF_03/2024 | E40: m² | F40: 696.1 | G40: 26.45 | H40: 34.07 | I40: 23716.12 | J40: 0.047608317
A41: 5.3 | B41: 87273 | C41: SINAPI | D41: REVESTIMENTO CERÂMICO PARA PAREDES INTERNAS COM PLACAS TIPO ESMALTADA DE DIMENSÕES 33X45 CM APLICADAS NA ALTURA INTEIRA DAS PAREDES. AF_02/2023_PE | E41: m² | F41: 169 | G41: 70.41 | H41: 90.7 | I41: 15328.3 | J41: 0.030770403
A42: 6 | D42: PISO | F42: 1 | H42: 41523.98 | I42: 41523.98 | J42: 0.08335625
A43: 6.1 | B43: 94438 | C43: SINAPI | D43: (COMPOSIÇÃO REPRESENTATIVA) DO SERVIÇO DE CONTRAPISO EM ARGAMASSA TRAÇO 1:4 (CIM E AREIA), EM BETONEIRA 400 L, ESPESSURA 3 CM ÁREAS SECAS E 3 CM ÁREAS MOLHADAS, PARA EDIFICAÇÃO HABITACIONAL UNIFAMILIAR (CASA) E EDIFICAÇÃO PÚBLICA PADRÃO. AF_11/2014 | E43: m² | F43: 147.54 | G43: 52.36 | H43: 67.45 | I43: 9951.57 | J43: 0.019977024
A44: 6.2 | B44: 130110 | C44: SEDOP | D44: Camada regularizadora no traço 1:4 | E44: m² | F44: 147.54 | G44: 40.43 | H44: 52.08 | I44: 7683.88 | J44: 0.015424808
A45: 6.3 | B45: 87257 | C45: SINAPI | D45: REVESTIMENTO CERÂMICO PARA PISO COM PLACAS TIPO ESMALTADA DE DIMENSÕES 60X60 CM APLICADA EM AMBIENTES DE ÁREA MAIOR QUE 10 M2. AF_02/2023_PE | E45: m² | F45: 219.84 | G45: 70.81 | H45: 91.21 | I45: 20051.6 | J45: 0.040252071
...

Sheet CPUs
A3: PREFEITURA MUNICIPAL DE NOVO REPARTIMENTO
A4: SECRETARIA MUNICIPAL DE GESTÃO E PLANEJAMENTO
A5: DEPARTAMENTO DE ENGENHARIA
A9: Município | C9: Composições Analíticas com Preço Unitário | E9: Bancos | G9: B.D.I. | I9: Encargos Sociais
A10: NOVO REPARTIMENTO-PA | C10: CONSTRUÇÃO DA FÁBRICA E ESCOLA DE CHOCOLATE | E10: SINAPI - 10/2024 - Pará SBC - 11/2024 - Pará SEDOP - 10/2024 - Pará | G10: 28,82% | I10: Desonerado: Horista: 88,37% Mensalista: 48,18%
A11: Composições Analíticas com Preço Unitário
A12: Composições Principais
A13: 1.1 | B13: Código | C13: Banco | D13: Descrição | E13: Tipo | G13: Und | H13: Quant. | I13: Valor Unit | J13: Total
A14: Composição | B14: 011340 | C14: SEDOP | D14: Placa de obra em lona com plotagem de gráfica | G14: m² | H14: 1 | I14: 197.14 | J14: 197.14
A15: Composição Auxiliar | B15: 280026 | C15: SEDOP | D15: SERVENTE COM ENCARGOS COMPLEMENTARES | G15: h | H15: 0.4 | I15: 20.54 | J15: 8.21
A16: Composição Auxiliar | B16: 280013 | C16: SEDOP | D16: CARPINTEIRO COM ENCARGOS COMPLEMENTARES | G16: h | H16: 0.4 | I16: 25.27 | J16: 10.1
A17: Insumo | B17: D00084 | C17: SEDOP | D17: Prego 1 1/2"x13 | E17: Material | G17: kg | H17: 0.1 | I17: 17.15 | J17: 1.71
A18: Insumo | B18: D00281 | C18: SEDOP | D18: Pernamanca 3" x 2" 4 m - madeira branca | E18: Material | G18: Dz | H18: 0.41 | I18: 212.5 | J18: 87.12
A19: Insumo | B19: D00475 | C19: SEDOP | D19: Lona com plotagem de gráfica | E19: Material | G19: m² | H19: 1 | I19: 90 | J19: 90
E20: MO sem LS => | F20: 6.42 | G20: LS => | H20: 5.68 | I20: MO com LS => | J20: 12.1
E21: Valor do BDI => | F21: 56.81 | H21: Valor com BDI => | J21: 253.95
A23: 2.1.1 | B23: Código | C23: Banco | D23: Descrição | E23: Tipo | G23: Und | H23: Quant. | I23: Valor Unit | J23: Total
A24: Composição | B24: 93358 | C24: SINAPI | D24: ESCAVAÇÃO MANUAL DE VALA. AF_09/2024 | E24: MOVT - MOVIMENTO DE TERRA | G24: m³ | H24: 1 | I24: 81.37 | J24: 81.37
A25: Composição Auxiliar | B25: 88316 | C25: SINAPI | D25: SERVENTE COM ENCARGOS COMPLEMENTARES | E25: SEDI - SERVIÇOS DIVERSOS | G25: H | H25: 3.9557667 | I25: 20.57 | J25: 81.37
E26: MO sem LS => | F26: 26.83 | G26: LS => | H26: 23.72 | I26: MO com LS => | J26: 50.55
E27: Valor do BDI => | F27: 23.45 | H27: Valor com BDI => | J27: 104.82
A29: 2.1.2 | B29: Código | C29: Banco | D29: Descrição | E29: Tipo | G29: Und | H29: Quant. | I29: Valor Unit | J29: Total
A30: Composição | B30: 96544 | C30: SINAPI | D30: ARMAÇÃO DE BLOCO UTILIZANDO AÇO CA-50 DE 6,3 MM - MONTAGEM. AF_01/2024 | E30: FUES - FUNDAÇÕES E ESTRUTURAS | G30: KG | H30: 1 | I30: 18.51 | J30: 18.51
A31: Composição Auxiliar | B31: 88238 | C31: SINAPI | D31: AJUDANTE DE ARMADOR COM ENCARGOS COMPLEMENTARES | E31: SEDI - SERVIÇOS DIVERSOS | G31: H | H31: 0.075 | I31: 21.02 | J31: 1.57
A32: Composição Auxiliar | B32: 88245 | C32: SINAPI | D32: ARMADOR COM ENCARGOS COMPLEMENTARES | E32: SEDI - SERVIÇOS DIVERSOS | G32: H | H32: 0.196 | I32: 25.37 | J32: 4.97
A33: Composição Auxiliar | B33: 92801 | C33: SINAPI | D33: CORTE E DOBRA DE AÇO CA-50, DIÂMETRO DE 6,3 MM. AF_06/2022 | E33: FUES - FUNDAÇÕES E ESTRUTURAS | G33: KG | H33: 1 | I33: 11.15 | J33: 11.15
A34: Insumo | B34: 00039017 | C34: SINAPI | D34: ESPACADOR / DISTANCIADOR CIRCULAR COM ENTRADA LATERAL, EM PLASTICO, PARA VERGALHAO *4,2 A 12,5* MM, COBRIMENTO 20 MM | E34: Material | G34: UN | H34: 0.856 | I34: 0.22 | J34: 0.18
A35: Insumo | B35: 00043132 | C35: SINAPI | D35: ARAME RECOZIDO 16 BWG, D = 1,65 MM (0,016 KG/M) OU 18 BWG, D = 1,25 MM (0,01 KG/M) | E35: Material | G35: KG | H35: 0.025 | I35: 25.85 | J35: 0.64
E36: MO sem LS => | F36: 2.65 | G36: LS => | H36: 2.35 | I36: MO com LS => | J36: 5
E37: Valor do BDI => | F37: 5.33 | H37: Valor com BDI => | J37: 23.84
A39: 2.1.3 | B39: Código | C39: Banco | D39: Descrição | E39: Tipo | G39: Und | H39: Quant. | I39: Valor Unit | J39: Total
A40: Composição | B40: 96545 | C40: SINAPI | D40: ARMAÇÃO DE BLOCO UTILIZANDO AÇO CA-50 DE 8 MM - MONTAGEM. AF_01/2024 | E40: FUES - FUNDAÇÕES E ESTRUTURAS | G40: KG | H40: 1 | I40: 16.93 | J40: 16.93
A41: Composição Auxiliar | B41: 88245 | C41: SINAPI | D41: ARMADOR COM ENCARGOS COMPLEMENTARES | E41: SEDI - SERVIÇOS DIVERSOS | G41: H | H41: 0.15 | I41: 25.37 | J41: 3.8
A42: Composição Auxiliar | B42: 92802 | C42: SINAPI | D42: CORTE E DOBRA DE AÇO CA-50, DIÂMETRO DE 8,0 MM. AF_06/2022 | E42: FUES - FUNDAÇÕES E ESTRUTURAS | G42: KG | H42: 1 | I42: 11.17 | J42: 11.17
A43: Composição Auxiliar | B43: 88238 | C43: SINAPI | D43: AJUDANTE DE ARMADOR COM ENCARGOS COMPLEMENTARES | E43: SEDI - SERVIÇOS DIVERSOS | G43: H | H43: 0.057 | I43: 21.02 | J43: 1.19
A44: Insumo | B44: 00043132 | C44: SINAPI | D44: ARAME RECOZIDO 16 BWG, D = 1,65 MM (0,016 KG/M) OU 18 BWG, D = 1,25 MM (0,01 KG/M) | E44: Material | G44: KG | H44: 0.025 | I44: 25.85 | J44: 0.64
A45: Insumo | B45: 00039017 | C45: SINAPI | D45: ESPACADOR / DISTANCIADOR CIRCULAR COM ENTRADA LATERAL, EM PLASTICO, PARA VERGALHAO *4,2 A 12,5* MM, COBRIMENTO 20 MM | E45: Material | G45: UN | H45: 0.635 | I45: 0.22 | J45: 0.13
E46: MO sem LS => | F46: 1.94 | G46: LS => | H46: 1.72 | I46: MO com LS => | J46: 3.66
E47: Valor do BDI => | F47: 4.87 | H47: Valor com BDI => | J47: 21.8
A49: 2.1.4 | B49: Código | C49: Banco | D49: Descrição | E49: Tipo | G49: Und | H49: Quant. | I49: Valor Unit | J49: Total
...

Sheet MEMORIAL DE CÁLCULO
A3: PREFEITURA MUNICIPAL DE NOVO REPARTIMENTO
A4: SECRETARIA MUNICIPAL DE GESTÃO E PLANEJAMENTO
A5: DEPARTAMENTO DE ENGENHARIA
A9: Município | B9: Obra
A10: NOVO REPARTIMENTO-PA | B10: CONSTRUÇÃO DA FÁBRICA E ESCOLA DE CHOCOLATE
A11: MEMORIAL DE CÁLCULO
A12: Item | B12: Descrição | C12: Und | D12: Quant. | E12: Observações
A13: 1 | B13: SERVIÇOS INICIAIS
A14: 1.1 | B14: Placa de obra em lona com plotagem de gráfica | C14: m² | D14: 4,5 | E14: A = 1,50m x 3,00m = 4,50m²
A15: 2 | B15: ESTRUTURA
A16: 2.1 | B16: FUNDAÇÃO
A17: 2.1.1 | B17: ESCAVAÇÃO MANUAL DE VALA. AF_09/2024 | C17: m³ | D17: 20,87 | E17: V1 = 0,65m x 0,65m x 1,50m = 0,63m³ x 11 = 6,93m³ V2 = 0,65m + 0,75m * 1,50m = 0,73m³ x 3 = 2,19m³ V3 = 0,60m x 0,60m x 1,50m = 0,50m³ x 11 = 5,50m³ V4 = 0,75m x 0,90m x 1,50m = 1,01m³ x 2 = 2,02m³ V5 = 0,70m x 0,85m x 1,50m = 0,89m³ x 3 = 2,67m³ V6 = 0,65m x 0,80m x 1,50m = 0,78m³ x 2 = 1,56m³ Vt = 20,87m³
A18: 2.1.2 | B18: ARMAÇÃO DE BLOCO UTILIZANDO AÇO CA-50 DE 6,3 MM - MONTAGEM. AF_01/2024 | C18: KG | D18: 106,0 | E18: P = 11kg + 20kg + 51kg + 24kg = 106 kg
A19: 2.1.3 | B19: ARMAÇÃO DE BLOCO UTILIZANDO AÇO CA-50 DE 8 MM - MONTAGEM. AF_01/2024 | C19: KG | D19: 246,0 | E19: P = 190kg + 56kg = 246 kg
A20: 2.1.4 | B20: ARMAÇÃO DE BLOCO UTILIZANDO AÇO CA-50 DE 10 MM - MONTAGEM. AF_01/2024 | C20: KG | D20: 192,0 | E20: P = 76kg + 116kg = 192 kg
A21: 2.1.5 | B21: ARMAÇÃO DE BLOCO UTILIZANDO AÇO CA-60 DE 5 MM - MONTAGEM. AF_01/2024 | C21: KG | D21: 144,0 | E21: P = 78kg + 66kg = 144 kg
A22: 2.1.6 | B22: CONCRETO FCK = 25MPA, TRAÇO 1:2,2:2,5 (EM MASSA SECA DE CIMENTO/ AREIA MÉDIA/ SEIXO ROLADO) - PREPARO MECÂNICO COM BETONEIRA 600 L. AF_05/2021 | C22: m³ | D22: 11,28 | E22: V = 4,18m³ + 3,11m³ + 1,40m³ + 2,59m³ = 11,28m³
A23: 2.1.7 | B23: Formas para concreto em chapa de madeira compensada resinada e=15mm(REAP 2x) - incl. desforma | C23: m² | D23: 85,0 | E23: A = 91,25m² + 78,75m² = 170m² / 2 = 85,00m²
A24: 2.1.8 | B24: Reaterro compactado | C24: m³ | D24: 16,49 | E24: V = 20,87m³ - 4,38m³ = 16,49m³
A25: 2.2 | B25: SUPERESTRUTURA
A26: 2.2.1 | B26: ARMAÇÃO DE PILAR OU VIGA DE ESTRUTURA CONVENCIONAL DE CONCRETO ARMADO UTILIZANDO AÇO CA-50 DE 8,0 MM - MONTAGEM. AF_06/2022 | C26: KG | D26: 366,9 | E26: P = 150kg + 216,90kg = 366,90kg
A27: 2.2.2 | B27: ARMAÇÃO DE PILAR OU VIGA DE ESTRUTURA CONVENCIONAL DE CONCRETO ARMADO UTILIZANDO AÇO CA-50 DE 10,0 MM - MONTAGEM. AF_06/2022 | C27: KG | D27: 375,4 | E27: P = 143kg + 68kg + 80kg + 84,40kg = 375,40kg
A28: 2.2.3 | B28: ARMAÇÃO DE PILAR OU VIGA DE ESTRUTURA CONVENCIONAL DE CONCRETO ARMADO UTILIZANDO AÇO CA-60 DE 5,0 MM - MONTAGEM. AF_06/2022 | C28: KG | D28: 177,0 | E28: P = 88kg + 16kg + 37kg + 36kg = 177kg
A29: 2.2.4 | B29: Formas para concreto em chapa de madeira compensada resinada e=15mm(REAP 2x) - incl. desforma | C29: m² | D29: 251,15 | E29: A = 121m² + 22 m² + 10 m² + 98,15m² = 251,15 m²
A30: 2.2.5 | B30: CONCRETO FCK = 25MPA, TRAÇO 1:2,2:2,5 (EM MASSA SECA DE CIMENTO/ AREIA MÉDIA/ SEIXO ROLADO) - PREPARO MECÂNICO COM BETONEIRA 600 L. AF_05/2021 | C30: m³ | D30: 13,42 | E30: V = 6,35m³ + 0,48m³ + 1,09m³ + 5,50m³ = 13,42 m³
A31: 3 | B31: VEDAÇÃO
A32: 3.1 | B32: Alvenaria tijolo de barro a cutelo | C32: m² | D32: 304,31 | E32: P = 3,05m + (2,55m x 3) + 6,35m + (3,00m x 3) + 3,15m + (6,30m x 2) + (9,65m x 2) + (2,50m x 4) = 70,10m A = 70,10m x 4,28m = 304,31m²
A33: 3.2 | B33: Alvenaria tijolo de barro a singelo | C33: m² | D33: 43,74 | E33: A = 3,00m + 11,80m = 29,16m x 1,50m = 43,74 m²
A34: 4 | B34: COBERTURA
A35: 4.1 | B35: Estrutura em mad. lei p/ telha de barro - pç.aparelhada | C35: m² | D35: 296,76 | E35: A = 103,17m² + 158,05m² + 24,91m² +10,63m² = 296,76 m²
A36: 4.2 | B36: Cobertura - telha de barro paulista ou planatex | C36: m² | D36: 296,76 | E36: Idem item 5.1 = 296,76 m²
A37: 4.3 | B37: CUMEEIRA E ESPIGÃO PARA TELHA CERÂMICA EMBOÇADA COM ARGAMASSA TRAÇO 1:2:9 (CIMENTO, CAL E AREIA), PARA TELHADOS COM MAIS DE 2 ÁGUAS, INCLUSO TRANSPORTE VERTICAL. AF_07/2019 | C37: M | D37: 20,54 | E37: P = 3,20m + 17,34m = 20,54m
A38: 5 | B38: REVESTIMENTO
A39: 5.1 | B39: CHAPISCO APLICADO EM ALVENARIA (SEM PRESENÇA DE VÃOS) E ESTRUTURAS DE CONCRETO DE FACHADA, COM COLHER DE PEDREIRO. ARGAMASSA TRAÇO 1:3 COM PREPARO EM BETONEIRA 400L. AF_10/2022 | C39: m² | D39: 696,1 | E39: A = 304,31m² + 43,74m² = 348,05m² x 2 = 696,10m²
A40: 5.2 | B40: MASSA ÚNICA, EM ARGAMASSA TRAÇO 1:2:8 PREPARO MECÂNICO, APLICADA MANUALMENTE EM PAREDES INTERNAS DE AMBIENTES COM ÁREA MAIOR QUE 10M², E = 10MM, COM TALISCAS. AF_03/2024 | C40: m² | D40: 696,1 | E40: Idem o item 6,1 = 696,10m²
A41: 5.3 | B41: REVESTIMENTO CERÂMICO PARA PAREDES INTERNAS COM PLACAS TIPO ESMALTADA DE DIMENSÕES 33X45 CM APLICADAS NA ALTURA INTEIRA DAS PAREDES. AF_02/2023_PE | C41: m² | D41: 169,0 | E41: - Lavabo = 12,39m² - Bloqueio sanitário = 16,29m² - Processamento = 53,64m² - Matéria Prima = 36,10m² - Banheiro Masculino = 12,21 m² - Banheiro PCD = 14,31m² - Banheiro Feminino = 12,21m² DML = 11,85 m² At = 169,00m²
A42: 6 | B42: PISO
A43: 6.1 | B43: (COMPOSIÇÃO REPRESENTATIVA) DO SERVIÇO DE CONTRAPISO EM ARGAMASSA TRAÇO 1:4 (CIM E AREIA), EM BETONEIRA 400 L, ESPESSURA 3 CM ÁREAS SECAS E 3 CM ÁREAS MOLHADAS, PARA EDIFICAÇÃO HABITACIONAL UNIFAMILIAR (CASA) E EDIFICAÇÃO PÚBLICA PADRÃO. AF_11/2014 | C43: m² | D43: 147,54 | E43: A = 16,70m² + 14,23m² + 3,32m² + 6,25m² + 6,38m² + 5,10m² + 3,90m² + 18,00m² + 12,75m² + 22,30m² + 16,73m² + 7,38m² + 3,00m² + 3,25m² + 5,00m² + 3,25m² = 147,54 m²
A44: 6.2 | B44: Camada regularizadora no traço 1:4 | C44: m² | D44: 147,54 | E44: Idem o item 7.1 = 147,54 m²
A45: 6.3 | B45: REVESTIMENTO CERÂMICO PARA PISO COM PLACAS TIPO ESMALTADA DE DIMENSÕES 60X60 CM APLICADA EM AMBIENTES DE ÁREA MAIOR QUE 10 M2. AF_02/2023_PE | C45: m² | D45: 219,84 | E45: A = 246,54m² - 26,70m² = 219,84 m²
...

Sheet BDI
A3: PREFEITURA MUNICIPAL DE NOVO REPARTIMENTO
A4: SECRETARIA MUNICIPAL DE GESTÃO E PLANEJAMENTO
A8: COMPOSIÇÃO ANALÍTICA DA TAXA DE BONIFICAÇÃO E DESPESAS INDIRETAS (BDI)
A11: DEMOSTRATIVO DA COMPOSIÇÃO DO B.D.I - DESONERADO
A12: Item Componente do BDI | C12: Valores Propostos (%)
A13: AC | B13: Administração central | C13: 0.03
A15: R | B15: Risco | C15: 0.0097
A17: G + S | B17: Garantia + Seguro | C17: 0.008
A19: DF | B19: Despesas financeiras | C19: 0.0059
A21: L | B21: Lucro | C21: 0.0616
A23: I | B23: Impostos (PIS, Cofins, ISS, CPRB) | C23: =C27+C29+C31+C35 -> 0.1315
B25: TRIBUTOS
B27: PIS | C27: 0.0065
B29: Confins | C29: 0.03
B31: ISS | C31: 0.05
B33: Contribuição Previdenciária sobre a Receita Bruta
B35: CPRB | C35: 0.045
A38: B.D.I. = | C38: =(((1+C13+C15+C17)*(1+C19)*(1+C21))/(1-C23))-1 -> 0.28819865
A40: O cálculo foi elaborado conforme equação para cálculo do percentual do BDI recomendada pelo relatório do acórdão TCU – 2369/2011 e TCU – 2622/2013, conforme abaixo ilustrado.
A45: Onde:
A47: AC = | B47: taxa de administração central
A48: S = | B48: taxa de seguros
A49: R = | B49: taxa de riscos
A50: G = | B50: taxa de garantias
A51: DF = | B51: taxa de despesas financeiras
A52: L = | B52: taxa de lucro/remuneração
A53: I = | B53: taxa de incidência de impostos (PIS, COFINS e ISS)
B58: ='Resumo do Orçamento'!E30 -> Novo Repartimento-PA, 04 de Fevereiro de 2025

Sheet Curva ABC de Insumos
A3: PREFEITURA MUNICIPAL DE NOVO REPARTIMENTO
A4: SECRETARIA MUNICIPAL DE GESTÃO E PLANEJAMENTO
A5: DEPARTAMENTO DE ENGENHARIA
D9: Obra | E9: Bancos | F9: B.D.I. | I9: Encargos Sociais
D10: CONSTRUÇÃO DA FÁBRICA E ESCOLA DE CHOCOLATE | E10: SINAPI - 10/2024 - Pará SBC - 11/2024 - Pará SEDOP - 10/2024 - Pará | F10: 28,82% | I10: Desonerado: Horista: 88,37% Mensalista: 48,18%
A11: Curva ABC de Insumos
A12: Código | B12: Banco | C12: Grupo | D12: Descrição | E12: Tipo | F12: Und | G12: Quantidade | I12: Valor Unitário | K12: Total | N12: Peso | O12: Valor Acumulado | P12: Peso Acumulado
G13: Operativa | H13: Improdutiva | I13: Operativa | J13: Improdutiva | K13: Operativa | L13: Improdutiva | M13: Geral
A14: 00001379 | B14: SINAPI | D14: CIMENTO PORTLAND COMPOSTO CP II-32 | E14: Material | F14: KG | G14: 22.964,1344621 | I14: 1,57 | K14: 36.053,69 | M14: 36053.691 | N14: 7,24% | O14: 36053.691 | P14: 7,24%
A15: MO475000 | B15: SEDOP | D15: PEDREIRO | E15: Mão de Obra | F15: h | G15: 782,7679539 | I15: 22,20 | K15: 17.377,45 | M15: 17377.449 | N15: 3,49% | O15: 53431.14 | P15: 10,73%
A16: 00001292 | B16: SINAPI | D16: PISO EM CERAMICA ESMALTADA, COR LISA, PEI MAIOR OU IGUAL A 4, FORMATO MAIOR QUE 2025 CM2 | E16: Material | F16: M² | G16: 254,2159440 | I16: 62,33 | K16: 15.845,28 | M16: 15845.28 | N16: 3,18% | O16: 69276.419 | P16: 13,91%
A17: MO121400 | B17: SEDOP | D17: CARPINTEIRO | E17: Mão de Obra | F17: h | G17: 665,7406776 | I17: 22,20 | K17: 14.779,44 | M17: 14779.443 | N17: 2,97% | O17: 84055.863 | P17: 16,87%
A18: 00004750 | B18: SINAPI | D18: PEDREIRO (HORISTA) | E18: Mão de Obra | F18: H | G18: 662,1962973 | I18: 22,20 | K18: 14.700,76 | M18: 14700.758 | N18: 2,95% | O18: 98756.62 | P18: 19,82%
A19: EC373700 | B19: SEDOP | D19: ALIMENTACAO - HORISTA (ENCARGOS COMPLEMENTARES)(COLETADOCAIXA) | E19: Material | F19: h | G19: 3.221,6817535 | I19: 4,47 | K19: 14.400,92 | M19: 14400.917 | N19: 2,89% | O19: 113157.54 | P19: 22,72%
A20: 00037370 | B20: SINAPI | D20: ALIMENTACAO - HORISTA (COLETADO CAIXA - ENCARGOS COMPLEMENTARES) | E20: Material | F20: H | G20: 3.186,5331921 | I20: 4,47 | K20: 14.243,80 | M20: 14243.803 | N20: 2,86% | O20: 127401.34 | P20: 25,57%
A21: 00006111 | B21: SINAPI | D21: SERVENTE DE OBRAS (HORISTA) | E21: Mão de Obra | F21: H | G21: 872,3374556 | I21: 16,07 | K21: 14.018,46 | M21: 14018.463 | N21: 2,81% | O21: 141419.8 | P21: 28,39%
A22: D00036 | B22: SEDOP | D22: Tijolo de barro 14x19x9 | E22: Material | F22: un | G22: 14.003,4500000 | I22: 1,00 | K22: 14.003,45 | M22: 14003.45 | N22: 2,81% | O22: 155423.25 | P22: 31,20%
A23: MO611100 | B23: SEDOP | D23: SERVENTE | E23: Mão de Obra | F23: h | G23: 848,7525119 | I23: 16,07 | K23: 13.639,45 | M23: 13639.453 | N23: 2,74% | O23: 169062.71 | P23: 33,94%
A24: MO611700 | B24: SEDOP | D24: CARPINTEIRO AUXILIAR | E24: Mão de Obra | F24: h | G24: 747,9721103 | I24: 16,07 | K24: 12.019,91 | M24: 12019.912 | N24: 2,41% | O24: 181082.62 | P24: 36,35%
A25: 00003437 | B25: SINAPI | D25: JANELA BASCULANTE EM MADEIRA PINUS/ EUCALIPTO/ TAUARI/ VIROLA OU EQUIVALENTE DA REGIAO, CAIXA DO BATENTE/ MARCO *10* CM, *2* FOLHAS BASCULANTES PARA VIDRO, COM FERRAGENS (SEM VIDRO, SEM GUARNICAO/ALIZAR E SEM ACABAMENTO) | E25: Material | F25: M² | G25: 13,9500000 | I25: 774,37 | K25: 10.802,46 | M25: 10802.461 | N25: 2,17% | O25: 191885.08 | P25: 38,52%
... A310: EC434640 | B310: SEDOP | D310: FERRAMENTAS - FAMILIA OPERADOR ESCAVADEIRA -HORISTA(ENCARGOS COMPLEMENTARES - COLETADO CAIXA) | E310: Material | F310: h | G310: 13,0338535 | I310: 0,01 | K310: 0,13 | M310: 0.13033854 | N310: 0,00% | O310: 497997.01 | P310: 99,97%
M312: Totais por Tipo
L313: Equipamento | P313: R$ 9.159,02
L314: Equipamento para Aquisição Permanente | P314: R$ 0,00
L315: Mão de Obra | P315: R$ 127.411,26
L316: Material | P316: R$ 357.188,64
L317: Serviços | P317: R$ 4.078,76
L318: Taxas | P318: R$ 159,33
L319: Administração | P319: R$ 0,00
L320: Aluguel | P320: R$ 0,00
L321: Verba | P321: R$ 0,00
L322: Transporte | P322: R$ 0,00
L323: Franquia | P323: R$ 0,00
L324: Outros | P324: R$ 0,00
L326: MÃO DE OBRA COM BDI (32,94%) | P326: 164090.86
L327: MATERIAL COM BDI (67,06%) | P327: 334059.91
L329: Total sem BDI | N329: 386737.83
L330: Total do BDI | N330: 111412.94
L331: Total Geral | N331: 498150.77
L334: ='Resumo do Orçamento'!E30 -> Novo Repartimento-PA, 04 de Fevereiro de 2025
...

Sheet ENC. SOCIAL 
A2: PREFEITURA MUNICIPAL DE NOVO REPARTIMENTO
A3: SECRETARIA MUNICIPAL DE GESTÃO E PLANEJAMENTO
A4: DEPARTAMENTO DE ENGENHARIA
B7: TAXA DE ENCARGOS SOCIAIS
A9: TAXA DE ENCARGOS SOCIAIS | D9: HORISTA | E9: MENSALISTA
B10: GRUPO A | D10: % | E10: %
A11: A1 | B11: INSS | D11: 0 | E11: =D11 -> 0
A12: A2 | B12: SESI | D12: 0.015 | E12: =D12 -> 0.015
A13: A3 | B13: SENAI | D13: 0.01 | E13: =D13 -> 0.01
A14: A4 | B14: INCRA | D14: 0.002 | E14: =D14 -> 0.002
A15: A5 | B15: SEBRAE | D15: 0.006 | E15: =D15 -> 0.006
A16: A6 | B16: Salário-educação | D16: 0.025 | E16: =D16 -> 0.025
A17: A7 | B17: Seguro contra acidentes de trabalho | D17: 0.03 | E17: =D17 -> 0.03
A18: A8 | B18: FGTS | D18: 0.08 | E18: =D18 -> 0.08
A19: A9 | B19: SECONCI | D19: 0 | E19: =D19 -> 0
A20: A | B20: Total de Encargos Sociais Básicos | D20: =SUM(D11:D19) -> 0.168 | E20: =SUM(E11:E19) -> 0.168
B22: GRUPO B | D22: % | E22: %
A23: B1 | B23: Repouso semanal remunerado | D23: 0.1813 | E23: 0
A24: B2 | B24: Feriados | D24: 0.0416 | E24: 0
A25: B3 | B25: Auxílio - Enfermidade | D25: 0.0089 | E25: 0.0066
A26: B4 | B26: 13º Salário | D26: 0.1123 | E26: 0.0833
A27: B5 | B27: Licença Paternidade | D27: 0.0007 | E27: 0.0005
A28: B6 | B28: Faltas Justificadas | D28: 0.0075 | E28: 0.0056
A29: B7 | B29: Dias de Chuvas | D29: 0.0275 | E29: 0
A30: B8 | B30: Auxílio Acidente de Trabalho | D30: 0.0011 | E30: 0.0008
A31: B9 | B31: Férias Gozadas | D31: 0.1317 | E31: 0.0977
A32: B10 | B32: Salário Maternidade | D32: 0.0004 | E32: 0.0003
A33: B | B33: Total de Encargos Sociais que recebem incidências de A | D33: =SUM(D23:D32) -> 0.513 | E33: =SUM(E23:E32) -> 0.1948
B35: GRUPO C | D35: % | E35: %
A36: C1 | B36: Aviso Prévio Indenizado | D36: 0.0582 | E36: 0.0432
A37: C2 | B37: Aviso Prévio Trabalhado | D37: 0.0014 | E37: 0.001
A38: C3 | B38: Férias Indenizadas | D38: 0.0182 | E38: 0.0135
A39: C4 | B39: Depósito Rescisão Sem Justa Causa | D39: 0.0289 | E39: 0.0214
A40: C5 | B40: Indenização Adicional | D40: 0.0049 | E40: 0.0036
A41: C | B41: Total dos Encargos Sociais que não recebem as incidências globais de A | D41: =SUM(D36:D40) -> 0.1116 | E41: =SUM(E36:E40) -> 0.0827
B43: GRUPO D | D43: % | E43: %
A44: D1 | B44: Reincidência de A sobre B | D44: =D20*D33 -> 0.086184 | E44: 0.0327
A45: D2 | B45: Reincidência de Grupo A sobre Aviso Prévio Trabalhado e Reincidência do FGTS sobre Aviso Prévio Indenizado | D45: 0.0049 | E45: 0.0036
A46: D | B46: Total das Taxas incidências e reincidências | D46: =SUM(D44:D45) -> 0.091084 | E46: =SUM(E44:E45) -> 0.0363
B49: TOTAL DOS ENCARGOS SOCIAIS: | D49: =SUM(D20,D33,D41,D46) -> 0.883684 | E49: =SUM(E20,E33,E41,E46) -> 0.4818
...

Sheet CRONOGRAMA
A3: PREFEITURA MUNICIPAL DE NOVO REPARTIMENTO
A4: SECRETARIA MUNICIPAL DE GESTÃO E PLANEJAMENTO
A5: DEPARTAMENTO DE ENGENHARIA
A9: Município | B9: Obra | C9: Bancos | D9: B.D.I. | F9: Encargos Sociais
A10: NOVO REPARTIMENTO-PA | B10: CONSTRUÇÃO DA FÁBRICA E ESCOLA DE CHOCOLATE | C10: SINAPI - 10/2024 - Pará SBC - 11/2024 - Pará SEDOP - 10/2024 - Pará | D10: 28,82% | F10: Desonerado: Horista: 88,37% Mensalista: 48,18%
A11: Cronograma Físico e Financeiro
A12: Item | B12: Descrição | C12: Total Por Etapa | D12: 30 DIAS | E12: 60 DIAS | F12: 90 DIAS | G12: 120 DIAS | H12: 150 DIAS
A13: 1 | B13: SERVIÇOS INICIAIS | C13: 100,00% 1.142,77 | D13: 50,00% 571,39 | H13: 50,00% 571,39
A14: 2 | B14: ESTRUTURA | C14: 100,00% 97.184,70 | D14: 40,00% 38.873,88 | E14: 60,00% 58.310,82
A15: 3 | B15: VEDAÇÃO | C15: 100,00% 51.553,83 | D15: 50,00% 25.776,92 | E15: 50,00% 25.776,92
A16: 4 | B16: COBERTURA | C16: 100,00% 65.060,13 | F16: 50,00% 32.530,07 | G16: 50,00% 32.530,07
A17: 5 | B17: REVESTIMENTO | C17: 100,00% 45.476,38 | E17: 30,00% 13.642,91 | F17: 40,00% 18.190,55 | G17: 30,00% 13.642,91
A18: 6 | B18: PISO | C18: 100,00% 41.523,98 | E18: 50,00% 20.761,99 | F18: 30,00% 12.457,19 | G18: 20,00% 8.304,80
A19: 7 | B19: FORRO | C19: 100,00% 12.715,14 | F19: 50,00% 6.357,57 | G19: 50,00% 6.357,57
A20: 8 | B20: ESQUADRIAS | C20: 100,00% 46.636,11 | G20: 50,00% 23.318,06 | H20: 50,00% 23.318,06
A21: 9 | B21: INSTALAÇÕES HIDROSSANITÁRIAS | C21: 100,00% 71.916,57 | E21: 30,00% 21.574,97 | F21: 30,00% 21.574,97 | G21: 40,00% 28.766,63
A22: 10 | B22: INSTALAÇÕES ELÉTRICAS | C22: 100,00% 39.150,43 | F22: 30,00% 11.745,13 | G22: 30,00% 11.745,13 | H22: 40,00% 15.660,17
A23: 11 | B23: PINTURA | C23: 100,00% 22.834,57 | G23: 50,00% 11.417,29 | H23: 50,00% 11.417,29
A24: 12 | B24: SERVIÇOS FINAIS | C24: 100,00% 2.956,16 | H24: 100,00% 2.956,16
A25: Porcentagem | D25: 13,09% | E25: 28,12% | F25: 20,65% | G25: 27,32% | H25: 10,82%
A26: Custo | D26: 65.222,18 | E26: 140.067,61 | F26: 102.855,48 | G26: 136.082,44 | H26: 53.923,05
A27: Porcentagem Acumulado | D27: 13,09% | E27: 41,21% | F27: 61,86% | G27: 89,18% | H27: 100,0%
A28: Custo Acumulado | D28: 65.222,18 | E28: 205.289,79 | F28: 308.145,27 | G28: 444.227,71 | H28: 498.150,77
D31: ='Resumo do Orçamento'!E30 -> Novo Repartimento-PA, 04 de Fevereiro de 2025
A33: _______________________________________________________________ Williams José Gonçalves de Almeida Setor de Engenharia

Sheet PLANILHA DE MAIOR RELEVANCIA
A3: PREFEITURA MUNICIPAL DE NOVO REPARTIMENTO
A4: SECRETARIA MUNICIPAL DE GESTÃO E PLANEJAMENTO
A9: Município | D9: Obra | E9: ='Resumo do Orçamento'!E9 -> Bancos | F9: ='Resumo do Orçamento'!F9 -> B.D.I. | I9: ='Resumo do Orçamento'!I9 -> Encargos Sociais
A10: NOVO REPARTIMENTO-PA | D10: ='Resumo do Orçamento'!D10 -> CONSTRUÇÃO DA FÁBRICA E ESCOLA DE CHOCOLATE | E10: ='Resumo do Orçamento'!E10 -> SINAPI - 10/2024 - Pará SBC - 11/2024 - Pará SEDOP - 10/2024 - Pará | F10: ='Resumo do Orçamento'!F10 -> 28,82% | I10: ='Resumo do Orçamento'!I10 -> Desonerado: Horista: 88,37% Mensalista: 48,18%
A11: Planilha de maior relevância de serviços.
A12: Item | D12: Descrição | J12: UNID. | K12: QUANT. | L12: 0.5
A13: 4.3 | D13: CUMEEIRA E ESPIGÃO PARA TELHA CERÂMICA EMBOÇADA COM ARGAMASSA TRAÇO 1:2:9 (CIMENTO, CAL E AREIA), PARA TELHADOS COM MAIS DE 2 ÁGUAS, INCLUSO TRANSPORTE VERTICAL. AF_07/2019 | J13: M | K13: =L13*2 -> 20.54 | L13: 10.27
A14: 5.3 | D14: REVESTIMENTO CERÂMICO PARA PAREDES INTERNAS COM PLACAS TIPO ESMALTADA DE DIMENSÕES 33X45 CM APLICADAS NA ALTURA INTEIRA DAS PAREDES. AF_02/2023_PE | J14: M² | K14: =L14*2 -> 169 | L14: 84.5
A15: 6.3 | D15: REVESTIMENTO CERÂMICO PARA PISO COM PLACAS TIPO ESMALTADA DE DIMENSÕES 60X60 CM APLICADA EM AMBIENTES DE ÁREA MAIOR QUE 10 M2. AF_02/2023_PE | J15: M² | K15: =L15*2 -> 219.84 | L15: 109.92
A16: 7.1 | D16: FORRO EM PLACAS DE GESSO, PARA AMBIENTES COMERCIAIS. AF_08/2023_PS | J16: M² | K16: =L16*2 -> 110.3 | L16: 55.15
A17: 8.4 | D17: Esquadria mad. e=3cm c/ caix. aduela e alizar | J17: M² | K17: =L17*2 -> 11.7 | L17: 5.85
G22: ='Resumo do Orçamento'!E30 -> Novo Repartimento-PA, 04 de Fevereiro de 2025
A26: _______________________________________________________________
