Workbook

Sheet EAP FINAL
A6: PREFEITURA MUNICIPAL DE BREU BRANCO
A7: SECRETARIA MUNICIPAL DE OBRAS E INFRAESTRUTURA | H7: BDI
A8: OBRA: PROVISÃO DE 40 UNIDADES HABITACIONAIS NO MUNICÍPIO DE BREU BRANCO/PA | H8: 0.2466
E11: SINAPI - 09/2025 - Pará SEDOP - 10/2025 - Pará
A12: Orçamento Sintética
A13: Item | D13: Descrição | E13: Und | F13: Quant | G13: Valor unit | H13: Valor Com bdi | I13: Valor total | J13: %
A14: 1 | D14: SERVIÇOS PRELIMINARES GERAIS | F14: 1 | I14: =SUM(I15:I19) -> 59607.92 | J14: =SUM(J15:J19) -> 0.0099047832
A15: 1.1 | B15: 103689 | C15: SINAPI | D15: FORNECIMENTO E INSTALAÇÃO DE PLACA DE OBRA COM CHAPA GALVANIZADA E ESTRUTURA DE MADEIRA. AF_03/2022_PS | E15: m² | F15: 6 | G15: 468.64 | H15: =ROUND(G15*$H$8+G15,2) -> 584.21 | I15: =ROUND(H15*F15,2) -> 3505.26 | J15: =I15/$I$220 -> 0.00058245348
A16: 1.2 | B16: 010269 | C16: SEDOP | D16: Locação planimetrica de linha | E16: m | F16: 1380.55 | G16: 2.69 | H16: =ROUND(G16*$H$8+G16,2) -> 3.35 | I16: =ROUND(H16*F16,2) -> 4624.84 | J16: =I16/$I$220 -> 0.00076848911
A17: 1.3 | B17: PMI 13 | C17: Próprio | D17: Mobilização e Desmobilização de Equipamento e Mão de Obra | E17: UND | F17: 1 | G17: 30391.87 | H17: =ROUND(G17*$H$8+G17,2) -> 37886.51 | I17: =ROUND(H17*F17,2) -> 37886.51 | J17: =I17/$I$220 -> 0.006295433
A18: 1.4 | B18: 010005 | C18: SEDOP | D18: Barracão de madeira/Almoxarifado | E18: m² | F18: 6.5 | G18: 569.87 | H18: =ROUND(G18*$H$8+G18,2) -> 710.4 | I18: =ROUND(H18*F18,2) -> 4617.6 | J18: =I18/$I$220 -> 0.00076728607
A19: 1.5 | B19: 011171 | C19: SEDOP | D19: Licenças e taxas da obra (até 500m2) | E19: cj | F19: 1 | G19: 7198.55 | H19: =ROUND(G19*$H$8+G19,2) -> 8973.71 | I19: =ROUND(H19*F19,2) -> 8973.71 | J19: =I19/$I$220 -> 0.0014911215
A20: 2 | D20: ADMINISTRAÇÃO LOCAL | F20: 1 | I20: =I21 -> 151590.82 | J20: =J21 -> 0.025189173
A21: 2.1 | B21: PMBB 12 | C21: Próprio | D21: ADMINISTRAÇÃO LOCAL | E21: und | F21: 1 | G21: 121603.42 | H21: =ROUND(G21*$H$8+G21,2) -> 151590.82 | I21: =ROUND(H21*F21,2) -> 151590.82 | J21: =I21/$I$220 -> 0.025189173
A22: 3 | D22: FUNDAÇÕES | F22: 1 | I22: =SUM(I23:I29) -> 725608.77 | J22: =SUM(J23:J29) -> 0.12057119
A23: 3.1 | B23: 96558 | C23: SINAPI | D23: CONCRETAGEM DE SAPATA, FCK 30 MPA, COM USO DE BOMBA - LANÇAMENTO, ADENSAMENTO E ACABAMENTO. AF_01/2024 | E23: m³ | F23: 248.25 | G23: 988.89 | H23: =ROUND(G23*$H$8+G23,2) -> 1232.75 | I23: =ROUND(H23*F23,2) -> 306030.19 | J23: =I23/$I$220 -> 0.050851677
A24: 3.2 | B24: 104917 | C24: SINAPI | D24: ARMAÇÃO DE SAPATA ISOLADA, VIGA BALDRAME E SAPATA CORRIDA UTILIZANDO AÇO CA-50 DE 6,3 MM - MONTAGEM. AF_01/2024 | E24: KG | F24: 143.5 | G24: 15.15 | H24: =ROUND(G24*$H$8+G24,2) -> 18.89 | I24: =ROUND(H24*F24,2) -> 2710.72 | J24: =I24/$I$220 -> 0.0004504283
A25: 3.3 | B25: 104918 | C25: SINAPI | D25: ARMAÇÃO DE SAPATA ISOLADA, VIGA BALDRAME E SAPATA CORRIDA UTILIZANDO AÇO CA-50 DE 8 MM - MONTAGEM. AF_01/2024 | E25: KG | F25: 8213.5 | G25: 13.93 | H25: =ROUND(G25*$H$8+G25,2) -> 17.37 | I25: =ROUND(H25*F25,2) -> 142668.5 | J25: =I25/$I$220 -> 0.023706591
A26: 3.4 | B26: 104920 | C26: SINAPI | D26: ARMAÇÃO DE BLOCO, SAPATA ISOLADA, VIGA BALDRAME E SAPATA CORRIDA UTILIZANDO AÇO CA-50 DE 12,5 MM - MONTAGEM. AF_01/2024 | E26: KG | F26: 2461 | G26: 10.45 | H26: =ROUND(G26*$H$8+G26,2) -> 13.03 | I26: =ROUND(H26*F26,2) -> 32066.83 | J26: =I26/$I$220 -> 0.0053284027
A27: 3.5 | B27: 104919 | C27: SINAPI | D27: ARMAÇÃO DE SAPATA ISOLADA, VIGA BALDRAME E SAPATA CORRIDA UTILIZANDO AÇO CA-50 DE 10 MM - MONTAGEM. AF_01/2024 | E27: KG | F27: 1207.5 | G27: 12.36 | H27: =ROUND(G27*$H$8+G27,2) -> 15.41 | I27: =ROUND(H27*F27,2) -> 18607.58 | J27: =I27/$I$220 -> 0.0030919389
A28: 3.6 | B28: 96543 | C28: SINAPI | D28: ARMAÇÃO DE BLOCO UTILIZANDO AÇO CA-60 DE 5 MM - MONTAGEM. AF_01/2024 | E28: KG | F28: 2595.5 | G28: 19.81 | H28: =ROUND(G28*$H$8+G28,2) -> 24.7 | I28: =ROUND(H28*F28,2) -> 64108.85 | J28: =I28/$I$220 -> 0.010652683
A29: 3.7 | B29: 96536 | C29: SINAPI | D29: FABRICAÇÃO, MONTAGEM E DESMONTAGEM DE FÔRMA PARA VIGA BALDRAME, EM MADEIRA SERRADA, E=25 MM, 4 UTILIZAÇÕES. AF_01/2024 | E29: m² | F29: 1690.7 | G29: 75.64 | H29: =ROUND(G29*$H$8+G29,2) -> 94.29 | I29: =ROUND(H29*F29,2) -> 159416.1 | J29: =I29/$I$220 -> 0.026489465
A30: 4 | D30: SUPEESTRUTURA | F30: 1 | I30: =SUM(I31:I48) -> 998818.36 | J30: =SUM(J31:J48) -> 0.16596921
A31: 4.1 | B31: 103672 | C31: SINAPI | D31: CONCRETAGEM DE PILARES, FCK = 25 MPA, COM USO DE BOMBA - LANÇAMENTO, ADENSAMENTO E ACABAMENTO. AF_02/2022_PS | E31: m³ | F31: 92.9 | G31: 852.26 | H31: =ROUND(G31*$H$8+G31,2) -> 1062.43 | I31: =ROUND(H31*F31,2) -> 98699.75 | J31: =I31/$I$220 -> 0.016400499
A32: 4.2 | B32: 96536 | C32: SINAPI | D32: FABRICAÇÃO, MONTAGEM E DESMONTAGEM DE FÔRMA PARA VIGA BALDRAME, EM MADEIRA SERRADA, E=25 MM, 4 UTILIZAÇÕES. AF_01/2024 | E32: m² | F32: 684.15 | G32: 75.64 | H32: =ROUND(G32*$H$8+G32,2) -> 94.29 | I32: =ROUND(H32*F32,2) -> 64508.5 | J32: =I32/$I$220 -> 0.010719091
A33: 4.3 | B33: 92761 | C33: SINAPI | D33: ARMAÇÃO DE PILAR OU VIGA DE ESTRUTURA CONVENCIONAL DE CONCRETO ARMADO UTILIZANDO AÇO CA-50 DE 8,0 MM - MONTAGEM. AF_06/2022 | E33: KG | F33: 1599.5 | G33: 11.96 | H33: =ROUND(G33*$H$8+G33,2) -> 14.91 | I33: =ROUND(H33*F33,2) -> 23848.55 | J33: =I33/$I$220 -> 0.0039628076
A34: 4.4 | B34: 92759 | C34: SINAPI | D34: ARMAÇÃO DE PILAR OU VIGA DE ESTRUTURA CONVENCIONAL DE CONCRETO ARMADO UTILIZANDO AÇO CA-60 DE 5,0 MM - MONTAGEM. AF_06/2022 | E34: KG | F34: 651 | G34: 13.79 | H34: =ROUND(G34*$H$8+G34,2) -> 17.19 | I34: =ROUND(H34*F34,2) -> 11190.69 | J34: =I34/$I$220 -> 0.0018595072
A35: 4.5 | B35: 96536 | C35: SINAPI | D35: FABRICAÇÃO, MONTAGEM E DESMONTAGEM DE FÔRMA PARA VIGA BALDRAME, EM MADEIRA SERRADA, E=25 MM, 4 UTILIZAÇÕES. AF_01/2024 | E35: m² | F35: 630.1 | G35: 75.64 | H35: =ROUND(G35*$H$8+G35,2) -> 94.29 | I35: =ROUND(H35*F35,2) -> 59412.13 | J35: =I35/$I$220 -> 0.0098722496
A36: 4.6 | B36: 92761 | C36: SINAPI | D36: ARMAÇÃO DE PILAR OU VIGA DE ESTRUTURA CONVENCIONAL DE CONCRETO ARMADO UTILIZANDO AÇO CA-50 DE 8,0 MM - MONTAGEM. AF_06/2022 | E36: KG | F36: 1432.5 | G36: 11.96 | H36: =ROUND(G36*$H$8+G36,2) -> 14.91 | I36: =ROUND(H36*F36,2) -> 21358.58 | J36: =I36/$I$220 -> 0.0035490603
A37: 4.7 | B37: 92759 | C37: SINAPI | D37: ARMAÇÃO DE PILAR OU VIGA DE ESTRUTURA CONVENCIONAL DE CONCRETO ARMADO UTILIZANDO AÇO CA-60 DE 5,0 MM - MONTAGEM. AF_06/2022 | E37: KG | F37: 683 | G37: 13.79 | H37: =ROUND(G37*$H$8+G37,2) -> 17.19 | I37: =ROUND(H37*F37,2) -> 11740.77 | J37: =I37/$I$220 -> 0.0019509116
A38: 4.8 | B38: 050771 | C38: SEDOP | D38: Laje pré-moldada treliçada e=16cm (Incl. capeamento) - unidirecional | E38: m² | F38: 1346.05 | G38: 159.03 | H38: =ROUND(G38*$H$8+G38,2) -> 198.25 | I38: =ROUND(H38*F38,2) -> 266854.41 | J38: =I38/$I$220 -> 0.044342012
A39: 4.9 | B39: 105539 | C39: SINAPI | D39: CONCRETAGEM DE EDIFICAÇÕES (PAREDES E LAJES) FEITAS COM SISTEMA DE FÔRMAS MANUSEÁVEIS, COM CONCRETO USINADO AUTOADENSÁVEL REFORÇADO COM FIBRAS DE POLIPROPILENO, FCK 25 MPA - LANÇAMENTO E ACABAMENTO. AF_09/2024 | E39: m³ | F39: 49.1 | G39: 865.97 | H39: =ROUND(G39*$H$8+G39,2) -> 1079.52 | I39: =ROUND(H39*F39,2) -> 53004.43 | J39: =I39/$I$220 -> 0.0088075106
A40: 4.10 | B40: 96536 | C40: SINAPI | D40: FABRICAÇÃO, MONTAGEM E DESMONTAGEM DE FÔRMA PARA VIGA BALDRAME, EM MADEIRA SERRADA, E=25 MM, 4 UTILIZAÇÕES. AF_01/2024 | E40: m² | F40: 48.2 | G40: 75.64 | H40: =ROUND(G40*$H$8+G40,2) -> 94.29 | I40: =ROUND(H40*F40,2) -> 4544.78 | J40: =I40/$I$220 -> 0.0007551859
A41: 4.11 | B41: 101792 | C41: SINAPI | D41: ESCORAMENTO DE FÔRMAS DE LAJE EM MADEIRA NÃO APARELHADA, PÉ-DIREITO SIMPLES, INCLUSO TRAVAMENTO, 4 UTILIZAÇÕES. AF_09/2020 | E41: m³ | F41: 368.5 | G41: 19.07 | H41: =ROUND(G41*$H$8+G41,2) -> 23.77 | I41: =ROUND(H41*F41,2) -> 8759.25 | J41: =I41/$I$220 -> 0.0014554857
A42: 4.12 | B42: 92917 | C42: SINAPI | D42: ARMAÇÃO DE ESTRUTURAS DIVERSAS DE CONCRETO ARMADO, EXCETO VIGAS, PILARES, LAJES E FUNDAÇÕES, UTILIZANDO AÇO CA-50 DE 8,0 MM - MONTAGEM. AF_06/2022 | E42: KG | F42: 211 | G42: 13.42 | H42: =ROUND(G42*$H$8+G42,2) -> 16.73 | I42: =ROUND(H42*F42,2) -> 3530.03 | J42: =I42/$I$220 -> 0.0005865694
... A48: 4.18 | B48: PMBB 28 | C48: Próprio | D48: ESCADA METALICA | E48: un | F48: 5 | G48: 36594.36 | H48: =ROUND(G48*$H$8+G48,2) -> 45618.53 | I48: =ROUND(H48*F48,2) -> 228092.65 | J48: =I48/$I$220 -> 0.037901142
A49: 5 | D49: PAREDES E PAINÉIS | F49: 1 | I49: =I50+I52+I59 -> 1163497.7 | J49: =J50+J52+J59 -> 0.19333325
A50: 5.1 | D50: Alvenaria e Fechamentos | F50: 1 | I50: =I51 -> 736896.48 | J50: =SUM(J51) -> 0.12244681
A51: 5.1.1 | B51: 89453 | C51: SINAPI | D51: ALVENARIA DE BLOCOS DE CONCRETO ESTRUTURAL 14X19X39 CM (ESPESSURA 14 CM), FBK = 4,5 MPA, UTILIZANDO PALHETA. AF_10/2022 | E51: m² | F51: 6185.65 | G51: 95.56 | H51: =ROUND(G51*$H$8+G51,2) -> 119.13 | I51: =ROUND(H51*F51,2) -> 736896.48 | J51: =I51/$I$220 -> 0.12244681
A52: 5.2 | D52: Esquadrias Metálicas | F52: 1 | I52: =SUM(I53:I58) -> 281980.75 | J52: =SUM(J53:J58) -> 0.046855488
...

Sheet CRONOGRAMA
B1: PREFEITURA MUNICIPAL DE BREU BRANCO
B2: SECRETARIA MUNICIPAL DE OBRAS E INFRAESTRUTURA
B3: OBRA: PROVISÃO DE 40 UNIDADES HABITACIONAIS NO MUNICÍPIO DE BREU BRANCO/PA
B7: CRONOGRAMA FÍSICO-FINANCEIRO
B8: ITEM | C8: SERVIÇOS | G8: 1º MÊS | H8: 2º MÊS | I8: 3º MÊS | J8: 4º MÊS | K8: 5 MÊS | L8: 6º MÊS | M8: 7º MÊS | N8: 8º MÊS | O8: 9º MÊS | P8: 10º MÊS | Q8: TOTAL | R8: %
G9: 30 DIAS | H9: 60 DIAS | I9: 90 DIAS | J9: 120 DIAS | K9: 150 DIAS | L9: 180 DIAS | M9: 210 DIAS | N9: 240 DIAS | O9: 270 DIAS | P9: 300 DIAS
B11: 1 | C11: ='EAP FINAL'!D14 -> SERVIÇOS PRELIMINARES GERAIS | G11: =G12/Q12 -> 0.68220238 | P11: =P12/Q12 -> 0.31779762 | Q11: =SUM(G11:P11) -> 1 | R11: =Q12/$Q$32 -> 0.0099047832
G12: ='EAP FINAL'!I15+'EAP FINAL'!I16+'EAP FINAL'!I18+'EAP FINAL'!I19+'EAP FINAL'!I17/2 -> 40664.665 | P12: ='EAP FINAL'!I17/2 -> 18943.255 | Q12: ='EAP FINAL'!I14 -> 59607.92 | S12: =SUM(G12:P12) -> 59607.92
B13: 2 | C13: ='EAP FINAL'!D20 -> ADMINISTRAÇÃO LOCAL | G13: 0.1 | H13: 0.1 | I13: 0.1 | J13: 0.1 | K13: 0.1 | L13: 0.1 | M13: 0.1 | N13: 0.1 | O13: 0.1 | P13: 0.1 | Q13: =SUM(G13:P13) -> 1 | R13: =Q14/$Q$32 -> 0.025189173
G14: =G13*$Q14 -> 15159.082 | H14: =H13*$Q14 -> 15159.082 | I14: =I13*$Q14 -> 15159.082 | J14: =J13*$Q14 -> 15159.082 | K14: =K13*$Q14 -> 15159.082 | L14: =L13*$Q14 -> 15159.082 | M14: =M13*$Q14 -> 15159.082 | N14: =N13*$Q14 -> 15159.082 | ... P14: =P13*$Q14 -> 15159.082 | Q14: ='EAP FINAL'!I20 -> 151590.82 | S14: =SUM(G14:P14) -> 151590.82
B15: 3 | C15: ='EAP FINAL'!D22 -> FUNDAÇÕES | G15: 0.5 | H15: 0.5 | Q15: =SUM(G15:P15) -> 1 | R15: =Q16/$Q$32 -> 0.12057119
G16: =G15*$Q16 -> 362804.39 | H16: =H15*$Q16 -> 362804.39 | Q16: ='EAP FINAL'!I22 -> 725608.77 | S16: =SUM(G16:P16) -> 725608.77
B17: 4 | C17: ='EAP FINAL'!D30 -> SUPEESTRUTURA | I17: =100%/4 -> 0.25 | J17: 0.25 | K17: 0.25 | L17: 0.25 | Q17: =SUM(G17:P17) -> 1 | R17: =Q18/$Q$32 -> 0.16596921
I18: =I17*$Q18 -> 249704.59 | J18: =J17*$Q18 -> 249704.59 | K18: =K17*$Q18 -> 249704.59 | L18: =L17*$Q18 -> 249704.59 | Q18: ='EAP FINAL'!I30 -> 998818.36 | S18: =SUM(G18:P18) -> 998818.36
B19: 5 | C19: ='EAP FINAL'!D49 -> PAREDES E PAINÉIS | J19: 0.25 | K19: 0.25 | L19: 0.25 | M19: 0.25 | Q19: =SUM(G19:P19) -> 1 | R19: =Q20/$Q$32 -> 0.19333325
J20: =$Q20*J19 -> 290874.43 | K20: =$Q20*K19 -> 290874.43 | L20: =$Q20*L19 -> 290874.43 | M20: =$Q20*M19 -> 290874.43 | Q20: ='EAP FINAL'!I49 -> 1163497.7 | S20: =SUM(G20:P20) -> 1163497.7
B21: 6 | C21: ='EAP FINAL'!D64 -> COBERTURA E PROTEÇÕES | L21: 0.5 | M21: 0.25 | N21: 0.25 | Q21: =SUM(G21:P21) -> 1 | R21: =Q22/$Q$32 -> 0.059751421
L22: =$Q22*L21 -> 179794.84 | M22: =$Q22*M21 -> 89897.422 | N22: =$Q22*N21 -> 89897.422 | Q22: ='EAP FINAL'!I64 -> 359589.69 | S22: =SUM(G22:P22) -> 359589.69
B23: 7 | C23: ='EAP FINAL'!D73 -> REVESTIMENTOS | L23: 0.2 | M23: 0.2 | N23: 0.2 | O23: 0.2 | P23: 0.2 | Q23: =SUM(G23:P23) -> 1 | R23: =Q24/$Q$32 -> 0.1706124
L24: =$Q24*L23 -> 205352.3 | M24: =$Q24*M23 -> 205352.3 | N24: =$Q24*N23 -> 205352.3 | O24: =$Q24*O23 -> 205352.3 | P24: =$Q24*P23 -> 205352.3 | Q24: ='EAP FINAL'!I73 -> 1026761.5 | S24: =SUM(G24:P24) -> 1026761.5
B25: 8 | C25: ='EAP FINAL'!D94 -> PAVIMENTAÇÃO | K25: 0.2 | L25: 0.2 | M25: 0.2 | N25: 0.2 | O25: 0.2 | Q25: =SUM(G25:P25) -> 1 | R25: =Q26/$Q$32 -> 0.054583444
K26: =$Q26*K25 -> 65697.664 | L26: =$Q26*L25 -> 65697.664 | M26: =$Q26*M25 -> 65697.664 | N26: =$Q26*N25 -> 65697.664 | O26: =$Q26*O25 -> 65697.664 | Q26: ='EAP FINAL'!I94 -> 328488.32 | S26: =SUM(G26:P26) -> 328488.32
B27: 9 | C27: ='EAP FINAL'!D103 -> INSTALAÇÕES | I27: 0.2 | J27: 0.2 | K27: 0.2 | L27: 0.2 | M27: 0.2 | Q27: =SUM(G27:N27) -> 1 | R27: =Q28/$Q$32 -> 0.19522939
I28: =$Q28*I27 -> 234981.77 | J28: =$Q28*J27 -> 234981.77 | K28: =$Q28*K27 -> 234981.77 | L28: =$Q28*L27 -> 234981.77 | M28: =$Q28*M27 -> 234981.77 | Q28: ='EAP FINAL'!I103 -> 1174908.9 | S28: =SUM(G28:P28) -> 1174908.9
B29: 10 | C29: ='EAP FINAL'!D217 -> COMPLEMENTARES | P29: 1 | Q29: =SUM(G29:P29) -> 1 | R29: =Q30/$Q$32 -> 0.004855753
P30: =$Q30*P29 -> 29222.38 | Q30: ='EAP FINAL'!I217 -> 29222.38 | S30: =SUM(G30:P30) -> 29222.38
B32: PARCIAIS SIMPLES | G32: =G12+G14+G16+G18+G20+G22+G24+G26+G28+G30 -> 418628.13 | H32: =H12+H14+H16+H18+H20+H22+H24+H26+H28+H30 -> 377963.47 | I32: =I12+I14+I16+I18+I20+I22+I24+I26+I28+I30 -> 499845.45 | J32: =J12+J14+J16+J18+J20+J22+J24+J26+J28+J30 -> 790719.88 | K32: =K12+K14+K16+K18+K20+K22+K24+K26+K28+K30 -> 856417.54 | L32: =L12+L14+L16+L18+L20+L22+L24+L26+L28+L30 -> 1241564.7 | M32: =M12+M14+M16+M18+M20+M22+M24+M26+M28+M30 -> 901962.68 | N32: =N12+N14+N16+N18+N20+N22+N24+N26+N28+N30 -> 376106.47 | ... Q32: =Q12+Q14+Q16+Q18+Q20+Q22+Q24+Q26+Q28+Q30 -> 6018094.4
B33: PERCENTUAIS SIMPLES (%) | G33: =G32/$Q$32 -> 0.069561577 | H33: =H32/$Q$32 -> 0.06280451 | I33: =I32/$Q$32 -> 0.083057097 | J33: =J32/$Q$32 -> 0.13139041 | K33: =K32/$Q$32 -> 0.1423071 | L33: =L32/$Q$32 -> 0.20630529 | M33: =M32/$Q$32 -> 0.14987513 | N33: =N32/$Q$32 -> 0.062495941 | ... P33: =P32/$Q$32 -> 0.044644867 | Q33: =SUM(G33:N33) -> 0.90779705 | R33: =SUM(R11:R30) -> 1
B34: PARCIAIS ACUMULADAS | H34: =G32+H32 -> 796591.6 | I34: =H34+I32 -> 1296437 | J34: =I34+J32 -> 2087156.9 | K34: =J34+K32 -> 2943574.5 | L34: =K34+L32 -> 4185139.2 | M34: =L34+M32 -> 5087101.8 | N34: =M34+N32 -> 5463208.3 | O34: =N34+O32 -> 5749417.3 | P34: =O34+P32 -> 6018094.4
B35: PERCENTUAIS ACUMULADOS (%) | H35: =H34/$Q$32 -> 0.13236609 | I35: =I34/$Q$32 -> 0.21542318 | J35: =J34/$Q$32 -> 0.34681359 | K35: =K34/$Q$32 -> 0.48912069 | L35: =L34/$Q$32 -> 0.69542598 | M35: =M34/$Q$32 -> 0.84530111 | N35: =N34/$Q$32 -> 0.90779705 | O35: =O34/$Q$32 -> 0.95535513 | P35: =P34/$Q$32 -> 1

Sheet BDI
B1: =CRONOGRAMA!B1 -> PREFEITURA MUNICIPAL DE BREU BRANCO
B2: =CRONOGRAMA!B2 -> SECRETARIA MUNICIPAL DE OBRAS E INFRAESTRUTURA
B4: OBRA: PROVISÃO DE UNIDADES HABITACIONAIS NO MUNICÍPIO DE BREU BRANCO/PA
B7: COMPOSIÇÃO DE B.D.I. (BONIFICAÇÃO E DESPESAS INDIRETAS)
B8: DESONERADO
B9: ITEM | C9: DESCRIÇÃO | G9: %
B10: 1 | C10: CUSTOS DIRETOS | G10: 0.0536
B12: 1.1 | C12: ADMINISTRAÇÃO CENTRAL - (AC) | G12: 0.03
B14: 1.2 | C14: SEGUROS - (S) | G14: 0.004
B16: 1.3 | C16: GARANTIAS - (G) | G16: 0.004
B18: 1.4 | C18: RISCOS - (R). | G18: 0.0097
B20: 1.5 | C20: DESPESAS FINANCEIRAS - (DF) | G20: 0.0059
B22: 2 | C22: IMPOSTOS - (I) | G22: =SUM(G23:G26) -> 0.1025
B23: 2.1 | C23: PIS | G23: 0.0065
B24: 2.2 | C24: COFINS | G24: 0.03
B25: 2.3 | C25: IMPOSTO SOBRE SERVIÇO - I.S.S. | G25: 0.03
B26: 2.4 | C26: CPRB | G26: 0.036
B28: 3 | C28: LUCRO - (L) | G28: =G29 -> 0.0616
B29: 3.1 | C29: LUCRATIVIDADE BRUTA | G29: 0.0616
B31: 4 | C31: BDI | G31: =(((1+G12+G14+G18+G16)*(1+G20)*(1+G28))/(1-G22))-1 -> 0.2465744

Sheet ANALITICO
B10: OBRA: PROVISÃO DE 40 UNIDADES HABITACIONAIS NO MUNICÍPIO DE BREU BRANCO/PA
E11: =BDI!G31 -> 0.2465744 | G11: Desonerado
A13: 1 | D13: SERVIÇOS PRELIMINARES GERAIS | J13: 59607.92
A14: 1.1 | B14: Código | C14: Banco | D14: Descrição | E14: Tipo | G14: Und | H14: Quant. | I14: Valor Unit | J14: Total
A15: Composição | B15: 103689 | C15: SINAPI | D15: FORNECIMENTO E INSTALAÇÃO DE PLACA DE OBRA COM CHAPA GALVANIZADA E ESTRUTURA DE MADEIRA. AF_03/2022_PS | E15: Sinalização Vertical Viária | G15: m² | H15: 1 | I15: 468.64 | J15: 468.64 | K15: =IF(J15=0,"FALSO","")
A16: Composição Auxiliar | B16: 102234 | C16: SINAPI | D16: PINTURA IMUNIZANTE PARA MADEIRA, 2 DEMÃOS. AF_01/2021 | E16: Pintura em Madeira | G16: m² | H16: 0.5 | I16: 25.94 | J16: 12.97 | K16: =IF(J16=0,"FALSO","")
A17: Composição Auxiliar | B17: 88262 | C17: SINAPI | D17: CARPINTEIRO DE FORMAS COM ENCARGOS COMPLEMENTARES | E17: Livro SINAPI: Cálculos e Parâmetros | G17: H | H17: 0.3729 | I17: 28.12 | J17: 10.48 | K17: =IF(J17=0,"FALSO","")
A18: Composição Auxiliar | B18: 88316 | C18: SINAPI | D18: SERVENTE COM ENCARGOS COMPLEMENTARES | E18: Livro SINAPI: Cálculos e Parâmetros | G18: H | H18: 1.1186 | I18: 23.48 | J18: 26.26 | K18: =IF(J18=0,"FALSO","")
A19: Insumo | B19: 00005065 | C19: SINAPI | D19: PREGO DE ACO POLIDO COM CABECA 10 X 10 (7/8 X 17) | E19: Material | G19: KG | H19: 0.0113 | I19: 32.37 | J19: 0.36 | K19: =IF(J19=0,"FALSO","")
A20: Insumo | B20: 00004813 | C20: SINAPI | D20: PLACA DE OBRA (PARA CONSTRUCAO CIVIL) EM CHAPA GALVANIZADA *N. 22*, ADESIVADA, DE *2,4 X 1,2* M (SEM POSTES PARA FIXACAO) | E20: Material | G20: m² | H20: 1 | I20: 400 | J20: 400 | K20: =IF(J20=0,"FALSO","")
A21: Insumo | B21: 00004509 | C21: SINAPI | D21: SARRAFO *2,5 X 10* CM EM PINUS, MISTA OU EQUIVALENTE DA REGIAO - BRUTA | E21: Material | G21: M | H21: 3.2083 | I21: 5.72 | J21: 18.35 | K21: =IF(J21=0,"FALSO","")
A22: Insumo | B22: 00005069 | C22: SINAPI | D22: PREGO DE ACO POLIDO COM CABECA 17 X 27 (2 1/2 X 11) | E22: Material | G22: KG | H22: 0.0132 | I22: 17.34 | J22: 0.22 | K22: =IF(J22=0,"FALSO","")
E23: MO sem LS => | F23: 26.44 | G23: LS => | H23: 0 | I23: MO com LS => | J23: 26.44 | K23: =IF(J23=0,"FALSO","")
E24: Valor do BDI => | F24: 115.57 | H24: Valor com BDI => | J24: 584.21 | K24: =IF(J24=0,"FALSO","")
G25: Quant. => | H25: 6,00 | I25: Preço Total => | J25: 3505.26 | K25: =IF(J25=0,"FALSO","")
K26: =IF(J26=0,"FALSO","") -> FALSO
A27: 1.2 | B27: Código | C27: Banco | D27: Descrição | E27: Tipo | G27: Und | H27: Quant. | I27: Valor Unit | J27: Total | K27: =IF(J27=0,"FALSO","")
A28: Composição | B28: 010269 | C28: SEDOP | D28: Locação planimetrica de linha | E28: 0 | G28: m | H28: 1 | I28: 2.69 | J28: 2.69 | K28: =IF(J28=0,"FALSO","")
A29: Composição Auxiliar | B29: 280026 | C29: SEDOP | D29: SERVENTE COM ENCARGOS COMPLEMENTARES | E29: 0 | G29: h | H29: 0.03 | I29: 26.13 | J29: 0.78 | K29: =IF(J29=0,"FALSO","")
A30: Composição Auxiliar | B30: 280013 | C30: SEDOP | D30: CARPINTEIRO COM ENCARGOS COMPLEMENTARES | E30: 0 | G30: h | H30: 0.03 | I30: 31.75 | J30: 0.95 | K30: =IF(J30=0,"FALSO","")
A31: Insumo | B31: D00082 | C31: SEDOP | D31: Prego 2"x11 | E31: Material | G31: kg | H31: 0.005 | I31: 20.36 | J31: 0.1 | K31: =IF(J31=0,"FALSO","")
A32: Insumo | B32: D00281 | C32: SEDOP | D32: Pernamanca 3" x 2" 4 m - madeira branca | E32: Material | G32: Dz | H32: 0.004 | I32: 215 | J32: 0.86 | K32: =IF(J32=0,"FALSO","")
E33: MO sem LS => | F33: 1.15 | G33: LS => | H33: 0 | I33: MO com LS => | J33: 1.15 | K33: =IF(J33=0,"FALSO","")
E34: Valor do BDI => | F34: 0.66 | H34: Valor com BDI => | J34: 3.35 | K34: =IF(J34=0,"FALSO","")
G35: Quant. => | H35: 1.380,55 | I35: Preço Total => | J35: 4624.84 | K35: =IF(J35=0,"FALSO","")
K36: =IF(J36=0,"FALSO","") -> FALSO
A37: 1.3 | B37: Código | C37: Banco | D37: Descrição | E37: Tipo | G37: Und | H37: Quant. | I37: Valor Unit | J37: Total | K37: =IF(J37=0,"FALSO","")
A38: Composição | B38: PMI 13 | C38: Próprio | D38: Mobilização e Desmobilização de Equipamento e Mão de Obra | E38: SEOP - SERVIÇOS OPERACIONAIS | G38: UND | H38: 1 | I38: 30391.87 | J38: 30391.87 | K38: =IF(J38=0,"FALSO","")
A39: Composição Auxiliar | B39: 5928 | C39: SINAPI | D39: GUINDAUTO HIDRÁULICO, CAPACIDADE MÁXIMA DE CARGA 6200 KG, MOMENTO MÁXIMO DE CARGA 11,7 TM, ALCANCE MÁXIMO HORIZONTAL 9,70 M, INCLUSIVE CAMINHÃO TOCO PBT 16.000 KG, POTÊNCIA DE 189 CV - CHP DIURNO. AF_06/2014 | E39: Custos Horários Produtivo e Improdutivo dos Equipamentos | G39: CHP | H39: 50 | I39: 287.6 | J39: 14380 | K39: =IF(J39=0,"FALSO","")
A40: Composição Auxiliar | B40: 73340 | C40: SINAPI | D40: CAMINHÃO TOCO, PBT 14.300 KG, CARGA ÚTIL MÁX. 9.710 KG, DIST. ENTRE EIXOS 3,56 M, POTÊNCIA 185 CV, INCLUSIVE CARROCERIA FIXA ABERTA DE MADEIRA P/ TRANSPORTE GERAL DE CARGA SECA, DIMEN. APROX. 2,50 X 6,50 X 0,50 M - MATERIAIS NA OPERAÇÃO. AF_06/2014 | E40: Depreciação, Juros, Impostos e Seguros, Manutenção e Materiais na Operação dos Equipamentos | G40: H | H40: 50 | I40: 163.75 | J40: 8187.5 | K40: =IF(J40=0,"FALSO","")
A41: Composição Auxiliar | B41: 88316 | C41: SINAPI | D41: SERVENTE COM ENCARGOS COMPLEMENTARES | E41: Livro SINAPI: Cálculos e Parâmetros | G41: H | H41: 180 | I41: 23.48 | J41: 4226.4 | K41: =IF(J41=0,"FALSO","")
A42: Composição Auxiliar | B42: 88282 | C42: SINAPI | D42: MOTORISTA DE CAMINHÃO COM ENCARGOS COMPLEMENTARES | E42: Livro SINAPI: Cálculos e Parâmetros | G42: H | H42: 85 | I42: 29.01 | J42: 2465.85 | K42: =IF(J42=0,"FALSO","")
A43: Composição Auxiliar | B43: 88286 | C43: SINAPI | D43: MOTORISTA OPERADOR DE MUNCK COM ENCARGOS COMPLEMENTARES | E43: Livro SINAPI: Cálculos e Parâmetros | G43: H | H43: 35.68 | I43: 31.73 | J43: 1132.12 | K43: =IF(J43=0,"FALSO","")
E44: MO sem LS => | F44: 6179.49 | G44: LS => | H44: 0 | I44: MO com LS => | J44: 6179.49 | K44: =IF(J44=0,"FALSO","")
E45: Valor do BDI => | F45: 7494.64 | H45: Valor com BDI => | J45: 37886.51 | K45: =IF(J45=0,"FALSO","")
G46: Quant. => | H46: 1,00 | I46: Preço Total => | J46: 37886.51 | K46: =IF(J46=0,"FALSO","")
K47: =IF(J47=0,"FALSO","") -> FALSO
A48: 1.4 | B48: Código | C48: Banco | D48: Descrição | E48: Tipo | G48: Und | H48: Quant. | I48: Valor Unit | J48: Total | K48: =IF(J48=0,"FALSO","")
A49: Composição | B49: 010005 | C49: SEDOP | D49: Barracão de madeira/Almoxarifado | E49: 0 | G49: m² | H49: 1 | I49: 569.87 | J49: 569.87 | K49: =IF(J49=0,"FALSO","")
A50: Composição Auxiliar | B50: 280013 | C50: SEDOP | D50: CARPINTEIRO COM ENCARGOS COMPLEMENTARES | E50: 0 | G50: h | H50: 6.7 | I50: 31.75 | J50: 212.72 | K50: =IF(J50=0,"FALSO","")
...

Sheet MEMÓRIA DE CÁLCULO
B1: PREFEITURA MUNICIPAL DE BREU BRANCO
B2: SECRETARIA MUNICIPAL DE OBRAS E INFRAESTRUTURA
B3: OBRA: PROVISÃO DE 40 UNIDADES HABITACIONAIS NO MUNICÍPIO DE BREU BRANCO/PA
B5: MEMÓRIA DE CÁLCULO
A6: ITEM | B6: FONTE | C6: CODIGO | D6: DESCRIÇÃO | E6: COMP. | F6: LARG. | G6: ALT. | H6: (X) | I6: DIST. | J6: COEF. | K6: VOLUME | L6: AREA | M6: UNID. | N6: QUANT.
A7: 1 | D7: ='EAP FINAL'!D14 -> SERVIÇOS PRELIMINARES GERAIS
A8: ='EAP FINAL'!A15 -> 1.1 | B8: ='EAP FINAL'!B15 -> 103689 | C8: ='EAP FINAL'!C15 -> SINAPI | D8: ='EAP FINAL'!D15 -> FORNECIMENTO E INSTALAÇÃO DE PLACA DE OBRA COM CHAPA GALVANIZADA E ESTRUTURA DE MADEIRA. AF_03/2022_PS | L8: =N8 -> 6 | M8: ='EAP FINAL'!E15 -> m² | N8: ='EAP FINAL'!F15 -> 6
A9: ='EAP FINAL'!A16 -> 1.2 | B9: ='EAP FINAL'!B16 -> 010269 | C9: ='EAP FINAL'!C16 -> SEDOP | D9: ='EAP FINAL'!D16 -> Locação planimetrica de linha | E9: =N9 -> 1380.55 | M9: ='EAP FINAL'!E16 -> m | N9: ='EAP FINAL'!F16 -> 1380.55
A10: ='EAP FINAL'!A17 -> 1.3 | B10: ='EAP FINAL'!B17 -> PMI 13 | C10: ='EAP FINAL'!C17 -> Próprio | D10: ='EAP FINAL'!D17 -> Mobilização e Desmobilização de Equipamento e Mão de Obra | H10: =N10 -> 1 | M10: ='EAP FINAL'!E17 -> UND | N10: ='EAP FINAL'!F17 -> 1
A11: ='EAP FINAL'!A20 -> 2 | D11: ='EAP FINAL'!D20 -> ADMINISTRAÇÃO LOCAL | M11: ='EAP FINAL'!E20 -> 0 | N11: ='EAP FINAL'!F20 -> 1
A12: ='EAP FINAL'!A21 -> 2.1 | B12: ='EAP FINAL'!B21 -> PMBB 12 | C12: ='EAP FINAL'!C21 -> Próprio | D12: ='EAP FINAL'!D21 -> ADMINISTRAÇÃO LOCAL | H12: =N12 -> 1 | L12: =R12 -> 0 | M12: ='EAP FINAL'!E21 -> und | N12: ='EAP FINAL'!F21 -> 1
A13: ='EAP FINAL'!A22 -> 3 | D13: ='EAP FINAL'!D22 -> FUNDAÇÕES | M13: ='EAP FINAL'!E22 -> 0 | N13: ='EAP FINAL'!F22 -> 1 | O13: =3*8*12*4 -> 1152
A14: ='EAP FINAL'!A23 -> 3.1 | B14: ='EAP FINAL'!B23 -> 96558 | C14: ='EAP FINAL'!C23 -> SINAPI | D14: ='EAP FINAL'!D23 -> CONCRETAGEM DE SAPATA, FCK 30 MPA, COM USO DE BOMBA - LANÇAMENTO, ADENSAMENTO E ACABAMENTO. AF_01/2024 | K14: =N14 -> 248.25 | M14: ='EAP FINAL'!E23 -> m³ | N14: ='EAP FINAL'!F23 -> 248.25
A15: ='EAP FINAL'!A24 -> 3.2 | B15: ='EAP FINAL'!B24 -> 104917 | C15: ='EAP FINAL'!C24 -> SINAPI | D15: ='EAP FINAL'!D24 -> ARMAÇÃO DE SAPATA ISOLADA, VIGA BALDRAME E SAPATA CORRIDA UTILIZANDO AÇO CA-50 DE 6,3 MM - MONTAGEM. AF_01/2024 | H15: =N15 -> 143.5 | M15: ='EAP FINAL'!E24 -> KG | N15: ='EAP FINAL'!F24 -> 143.5 | O15: CONSIDERANDO 3 DIAS POR SEMANA 8 HRS POR DIAS X4 SEMANAS X12 MESESS
A16: ='EAP FINAL'!A25 -> 3.3 | B16: ='EAP FINAL'!B25 -> 104918 | C16: ='EAP FINAL'!C25 -> SINAPI | D16: ='EAP FINAL'!D25 -> ARMAÇÃO DE SAPATA ISOLADA, VIGA BALDRAME E SAPATA CORRIDA UTILIZANDO AÇO CA-50 DE 8 MM - MONTAGEM. AF_01/2024 | H16: =N16 -> 8213.5 | M16: ='EAP FINAL'!E25 -> KG | N16: ='EAP FINAL'!F25 -> 8213.5
A17: ='EAP FINAL'!A26 -> 3.4 | B17: ='EAP FINAL'!B26 -> 104920 | C17: ='EAP FINAL'!C26 -> SINAPI | D17: ='EAP FINAL'!D26 -> ARMAÇÃO DE BLOCO, SAPATA ISOLADA, VIGA BALDRAME E SAPATA CORRIDA UTILIZANDO AÇO CA-50 DE 12,5 MM - MONTAGEM. AF_01/2024 | H17: =N17 -> 2461 | M17: ='EAP FINAL'!E26 -> KG | N17: ='EAP FINAL'!F26 -> 2461
A18: ='EAP FINAL'!A27 -> 3.5 | B18: ='EAP FINAL'!B27 -> 104919 | C18: ='EAP FINAL'!C27 -> SINAPI | D18: ='EAP FINAL'!D27 -> ARMAÇÃO DE SAPATA ISOLADA, VIGA BALDRAME E SAPATA CORRIDA UTILIZANDO AÇO CA-50 DE 10 MM - MONTAGEM. AF_01/2024 | H18: =N18 -> 1207.5 | M18: ='EAP FINAL'!E27 -> KG | N18: ='EAP FINAL'!F27 -> 1207.5
A19: ='EAP FINAL'!A28 -> 3.6 | B19: ='EAP FINAL'!B28 -> 96543 | C19: ='EAP FINAL'!C28 -> SINAPI | D19: ='EAP FINAL'!D28 -> ARMAÇÃO DE BLOCO UTILIZANDO AÇO CA-60 DE 5 MM - MONTAGEM. AF_01/2024 | H19: =N19 -> 2595.5 | M19: ='EAP FINAL'!E28 -> KG | N19: ='EAP FINAL'!F28 -> 2595.5
A20: ='EAP FINAL'!A29 -> 3.7 | B20: ='EAP FINAL'!B29 -> 96536 | C20: ='EAP FINAL'!C29 -> SINAPI | D20: ='EAP FINAL'!D29 -> FABRICAÇÃO, MONTAGEM E DESMONTAGEM DE FÔRMA PARA VIGA BALDRAME, EM MADEIRA SERRADA, E=25 MM, 4 UTILIZAÇÕES. AF_01/2024 | L20: =N20 -> 1690.7 | M20: ='EAP FINAL'!E29 -> m² | N20: ='EAP FINAL'!F29 -> 1690.7
A21: ='EAP FINAL'!A30 -> 4 | D21: ='EAP FINAL'!D30 -> SUPEESTRUTURA | M21: ='EAP FINAL'!E30 -> 0 | N21: ='EAP FINAL'!F30 -> 1
A22: ='EAP FINAL'!A31 -> 4.1 | B22: ='EAP FINAL'!B31 -> 103672 | C22: ='EAP FINAL'!C31 -> SINAPI | D22: ='EAP FINAL'!D31 -> CONCRETAGEM DE PILARES, FCK = 25 MPA, COM USO DE BOMBA - LANÇAMENTO, ADENSAMENTO E ACABAMENTO. AF_02/2022_PS | K22: =N22 -> 92.9 | M22: ='EAP FINAL'!E31 -> m³ | N22: ='EAP FINAL'!F31 -> 92.9
A23: ='EAP FINAL'!A32 -> 4.2 | B23: ='EAP FINAL'!B32 -> 96536 | C23: ='EAP FINAL'!C32 -> SINAPI | D23: ='EAP FINAL'!D32 -> FABRICAÇÃO, MONTAGEM E DESMONTAGEM DE FÔRMA PARA VIGA BALDRAME, EM MADEIRA SERRADA, E=25 MM, 4 UTILIZAÇÕES. AF_01/2024 | L23: =N23 -> 684.15 | M23: ='EAP FINAL'!E32 -> m² | N23: ='EAP FINAL'!F32 -> 684.15
A24: ='EAP FINAL'!A33 -> 4.3 | B24: ='EAP FINAL'!B33 -> 92761 | C24: ='EAP FINAL'!C33 -> SINAPI | D24: ='EAP FINAL'!D33 -> ARMAÇÃO DE PILAR OU VIGA DE ESTRUTURA CONVENCIONAL DE CONCRETO ARMADO UTILIZANDO AÇO CA-50 DE 8,0 MM - MONTAGEM. AF_06/2022 | H24: =N24 -> 1599.5 | M24: ='EAP FINAL'!E33 -> KG | N24: ='EAP FINAL'!F33 -> 1599.5
A25: ='EAP FINAL'!A34 -> 4.4 | B25: ='EAP FINAL'!B34 -> 92759 | C25: ='EAP FINAL'!C34 -> SINAPI | D25: ='EAP FINAL'!D34 -> ARMAÇÃO DE PILAR OU VIGA DE ESTRUTURA CONVENCIONAL DE CONCRETO ARMADO UTILIZANDO AÇO CA-60 DE 5,0 MM - MONTAGEM. AF_06/2022 | H25: =N25 -> 651 | M25: ='EAP FINAL'!E34 -> KG | N25: ='EAP FINAL'!F34 -> 651
A26: ='EAP FINAL'!A35 -> 4.5 | B26: ='EAP FINAL'!B35 -> 96536 | C26: ='EAP FINAL'!C35 -> SINAPI | D26: ='EAP FINAL'!D35 -> FABRICAÇÃO, MONTAGEM E DESMONTAGEM DE FÔRMA PARA VIGA BALDRAME, EM MADEIRA SERRADA, E=25 MM, 4 UTILIZAÇÕES. AF_01/2024 | L26: =N26 -> 630.1 | M26: ='EAP FINAL'!E35 -> m² | N26: ='EAP FINAL'!F35 -> 630.1
A27: ='EAP FINAL'!A36 -> 4.6 | B27: ='EAP FINAL'!B36 -> 92761 | C27: ='EAP FINAL'!C36 -> SINAPI | D27: ='EAP FINAL'!D36 -> ARMAÇÃO DE PILAR OU VIGA DE ESTRUTURA CONVENCIONAL DE CONCRETO ARMADO UTILIZANDO AÇO CA-50 DE 8,0 MM - MONTAGEM. AF_06/2022 | H27: =N27 -> 1432.5 | M27: ='EAP FINAL'!E36 -> KG | N27: ='EAP FINAL'!F36 -> 1432.5
A28: ='EAP FINAL'!A37 -> 4.7 | B28: ='EAP FINAL'!B37 -> 92759 | C28: ='EAP FINAL'!C37 -> SINAPI | D28: ='EAP FINAL'!D37 -> ARMAÇÃO DE PILAR OU VIGA DE ESTRUTURA CONVENCIONAL DE CONCRETO ARMADO UTILIZANDO AÇO CA-60 DE 5,0 MM - MONTAGEM. AF_06/2022 | H28: =N28 -> 683 | M28: ='EAP FINAL'!E37 -> KG | N28: ='EAP FINAL'!F37 -> 683
A29: ='EAP FINAL'!A38 -> 4.8 | B29: ='EAP FINAL'!B38 -> 050771 | C29: ='EAP FINAL'!C38 -> SEDOP | D29: ='EAP FINAL'!D38 -> Laje pré-moldada treliçada e=16cm (Incl. capeamento) - unidirecional | L29: =N29 -> 1346.05 | M29: ='EAP FINAL'!E38 -> m² | N29: ='EAP FINAL'!F38 -> 1346.05
A30: ='EAP FINAL'!A39 -> 4.9 | B30: ='EAP FINAL'!B39 -> 105539 | C30: ='EAP FINAL'!C39 -> SINAPI | D30: ='EAP FINAL'!D39 -> CONCRETAGEM DE EDIFICAÇÕES (PAREDES E LAJES) FEITAS COM SISTEMA DE FÔRMAS MANUSEÁVEIS, COM CONCRETO USINADO AUTOADENSÁVEL REFORÇADO COM FIBRAS DE POLIPROPILENO, FCK 25 MPA - LANÇAMENTO E ACABAMENTO. AF_09/2024 | K30: =N30 -> 49.1 | M30: ='EAP FINAL'!E39 -> m³ | N30: ='EAP FINAL'!F39 -> 49.1
A31: ='EAP FINAL'!A40 -> 4.10 | B31: ='EAP FINAL'!B40 -> 96536 | C31: ='EAP FINAL'!C40 -> SINAPI | D31: ='EAP FINAL'!D40 -> FABRICAÇÃO, MONTAGEM E DESMONTAGEM DE FÔRMA PARA VIGA BALDRAME, EM MADEIRA SERRADA, E=25 MM, 4 UTILIZAÇÕES. AF_01/2024 | L31: =N31 -> 48.2 | M31: ='EAP FINAL'!E40 -> m² | N31: ='EAP FINAL'!F40 -> 48.2
A32: ='EAP FINAL'!A41 -> 4.11 | B32: ='EAP FINAL'!B41 -> 101792 | C32: ='EAP FINAL'!C41 -> SINAPI | D32: ='EAP FINAL'!D41 -> ESCORAMENTO DE FÔRMAS DE LAJE EM MADEIRA NÃO APARELHADA, PÉ-DIREITO SIMPLES, INCLUSO TRAVAMENTO, 4 UTILIZAÇÕES. AF_09/2020 | K32: =N32 -> 368.5 | M32: ='EAP FINAL'!E41 -> m³ | N32: ='EAP FINAL'!F41 -> 368.5
A33: ='EAP FINAL'!A42 -> 4.12 | B33: ='EAP FINAL'!B42 -> 92917 | C33: ='EAP FINAL'!C42 -> SINAPI | D33: ='EAP FINAL'!D42 -> ARMAÇÃO DE ESTRUTURAS DIVERSAS DE CONCRETO ARMADO, EXCETO VIGAS, PILARES, LAJES E FUNDAÇÕES, UTILIZANDO AÇO CA-50 DE 8,0 MM - MONTAGEM. AF_06/2022 | H33: =N33 -> 211 | M33: ='EAP FINAL'!E42 -> KG | N33: ='EAP FINAL'!F42 -> 211
A34: ='EAP FINAL'!A43 -> 4.13 | B34: ='EAP FINAL'!B43 -> 92768 | C34: ='EAP FINAL'!C43 -> SINAPI | D34: ='EAP FINAL'!D43 -> ARMAÇÃO DE LAJE DE ESTRUTURA CONVENCIONAL DE CONCRETO ARMADO UTILIZANDO AÇO CA-60 DE 5,0 MM - MONTAGEM. AF_06/2022 | H34: =N34 -> 53.5 | M34: ='EAP FINAL'!E43 -> KG | N34: ='EAP FINAL'!F43 -> 53.5
A35: ='EAP FINAL'!A44 -> 4.14 | B35: ='EAP FINAL'!B44 -> 90279 | C35: ='EAP FINAL'!C44 -> SINAPI | D35: ='EAP FINAL'!D44 -> GRAUTE FGK=20 MPA; TRAÇO 1:0,04:1,8:2,1 (EM MASSA SECA DE CIMENTO/ CAL/ AREIA GROSSA/ BRITA 0) - PREPARO MECÂNICO COM BETONEIRA 400 L. AF_09/2021 | K35: =N35 -> 69.25 | M35: ='EAP FINAL'!E44 -> m³ | N35: ='EAP FINAL'!F44 -> 69.25
A36: ='EAP FINAL'!A45 -> 4.15 | B36: ='EAP FINAL'!B45 -> 92761 | C36: ='EAP FINAL'!C45 -> SINAPI | D36: ='EAP FINAL'!D45 -> ARMAÇÃO DE PILAR OU VIGA DE ESTRUTURA CONVENCIONAL DE CONCRETO ARMADO UTILIZANDO AÇO CA-50 DE 8,0 MM - MONTAGEM. AF_06/2022 | H36: =N36 -> 4247.3 | M36: ='EAP FINAL'!E45 -> KG | N36: ='EAP FINAL'!F45 -> 4247.3
A37: ='EAP FINAL'!A46 -> 4.16 | B37: ='EAP FINAL'!B46 -> 92762 | C37: ='EAP FINAL'!C46 -> SINAPI | D37: ='EAP FINAL'!D46 -> ARMAÇÃO DE PILAR OU VIGA DE ESTRUTURA CONVENCIONAL DE CONCRETO ARMADO UTILIZANDO AÇO CA-50 DE 10,0 MM - MONTAGEM. AF_06/2022 | H37: =N37 -> 254 | M37: ='EAP FINAL'!E46 -> KG | N37: ='EAP FINAL'!F46 -> 254
A38: ='EAP FINAL'!A47 -> 4.17 | B38: ='EAP FINAL'!B47 -> 92916 | C38: ='EAP FINAL'!C47 -> SINAPI | D38: ='EAP FINAL'!D47 -> ARMAÇÃO DE ESTRUTURAS DIVERSAS DE CONCRETO ARMADO, EXCETO VIGAS, PILARES, LAJES E FUNDAÇÕES, UTILIZANDO AÇO CA-50 DE 6,3 MM - MONTAGEM. AF_06/2022 | H38: =N38 -> 26.35 | M38: ='EAP FINAL'!E47 -> KG | N38: ='EAP FINAL'!F47 -> 26.35
A39: ='EAP FINAL'!A48 -> 4.18 | B39: ='EAP FINAL'!B48 -> PMBB 28 | C39: ='EAP FINAL'!C48 -> Próprio | D39: ='EAP FINAL'!D48 -> ESCADA METALICA | H39: =N39 -> 5 | M39: ='EAP FINAL'!E48 -> un | N39: ='EAP FINAL'!F48 -> 5
A40: ='EAP FINAL'!A49 -> 5 | D40: ='EAP FINAL'!D49 -> PAREDES E PAINÉIS | M40: ='EAP FINAL'!E49 -> 0 | N40: ='EAP FINAL'!F49 -> 1
A41: ='EAP FINAL'!A50 -> 5.1 | D41: ='EAP FINAL'!D50 -> Alvenaria e Fechamentos | M41: ='EAP FINAL'!E50 -> 0 | N41: ='EAP FINAL'!F50 -> 1
...

Sheet LEIS SOCIAIS
A5: PREFEITURA MUNICIPAL DE BREU BRANCO
A6: SECRETARIA MUNICIPAL DE OBRAS E INFRAESTRUTURA
A8: ='MEMÓRIA DE CÁLCULO'!B3 -> OBRA: PROVISÃO DE 40 UNIDADES HABITACIONAIS NO MUNICÍPIO DE BREU BRANCO/PA
A9: ='MEMÓRIA DE CÁLCULO'!B4 -> 0
