Workbook

Sheet Orçamento comparativo
D1: OBRA: | K1: B.D.I. | L1: Bancos
D2: EXECUÇÃO ORLA MARGINAL A MS-475 DE NOVO HORIZONTE DO SUL-MS ENDEREÇO: RODOVIA MS-475/ORLA MARGINAL, S/N, CENTRO PREFEITURA MUNICIPAL DE NOVO HORIZONTE DO SUL/MS | K2: 0.2171 | L2: SINAPI - 06/2025 - MS AGESUL - 06/2025 SICRO - MS 04/2025
A4: PLANILHA ORÇAMENTÁRIA (INCLUSO ITENS EXECUTADOS EM CONTRATOS RESCINDIDOS)
A5: Item | D5: Descrição | E5: Und | F5: QTD. A LICITAR | G5: QTD. CONTRATO ANTERIOR | H5: QTD. EXECUTADA | I5: QTD. SALDO | J5: QTD. ACRÉSCIMO/ DECRÉSCIMO | K5: Valor Unit com BDI | L5: Total
A6: 1 | D6: SERVIÇOS PRELIMINARES | L6: =SUM(L7:L15) -> 30533.31
A7: 1.1 | B7: SINAPI | C7: 99060 | D7: LOCAÇÃO COM CAVALETE COM ALTURA DE 1,00 M | E7: unid | F7: 1 | G7: =H7+I7 -> 14 | H7: 14 | I7: 0 | J7: =F7-I7 -> 1 | K7: 216.75 | L7: =TRUNC(K7*F7,2) -> 216.75
A8: 1.2 | B8: AGESUL | C8: 101001101 | D8: PLACA DE OBRA EM CHAPA GALVANIZADA N. 22, ADESIVADA | E8: m² | F8: 8 | G8: =H8+I8 -> 3 | H8: 3 | I8: 0 | J8: =F8-I8 -> 8 | K8: 618.35 | L8: =TRUNC(K8*F8,2) -> 4946.8
A9: 1.3 | B9: AGESUL | C9: 101001186 | D9: LOCACAO DE CONTAINER 2,30 X 6,00 M, ALT. 2,50 M, COM 1 SANITARIO, PARA ESCRITORIO, COMPLETO, SEM DIVISORIAS INTERNAS, EXCLUSIVE TRANSPORTE/CARGA/DESCARGA | E9: mês | F9: 3 | G9: =H9+I9 -> 3 | H9: 3 | I9: 0 | J9: =F9-I9 -> 3 | K9: 1099.64 | L9: =TRUNC(K9*F9,2) -> 3298.92
A10: 1.4 | B10: AGESUL | C10: 101001196 | D10: MOBILIZACAO E DESMOBILIZACAO DE CONTAINER | E10: unid | F10: 1 | G10: =H10+I10 -> 1 | H10: 1 | I10: 0 | J10: =F10-I10 -> 1 | K10: 1319.04 | L10: =TRUNC(K10*F10,2) -> 1319.04
A11: 1.5 | B11: AGESUL | C11: 101003101 | D11: PADRAO PROVISORIO TRIFASICO ATE 27 KW | E11: unid | F11: 1 | G11: =H11+I11 -> 1 | H11: 1 | I11: 0 | J11: =F11-I11 -> 1 | K11: 6940.65 | L11: =TRUNC(K11*F11,2) -> 6940.65
A12: 1.6 | B12: AGESUL | C12: 101002100 | D12: INSTALACAO PROVISORIA DE AGUA E ESGOTO PARA OBRAS DE PORTE PEQUENO | E12: UN | F12: 1 | G12: =H12+I12 -> 1 | H12: 1 | I12: 0 | J12: =F12-I12 -> 1 | K12: 2897.92 | L12: =TRUNC(K12*F12,2) -> 2897.92
A13: 1.7 | B13: AGESUL | C13: 201002161 | D13: LOCACAO DE CACAMBA (4M3) (7 DIAS) | E13: unid | F13: 4 | G13: =H13+I13 -> 5 | H13: 1 | I13: 4 | J13: =F13-I13 -> 0 | K13: 425.98 | L13: =TRUNC(K13*F13,2) -> 1703.92
A14: 1.8 | B14: CP. PRÓPRIA | C14: COMPOSIÇÃO 12 | D14: SINALIZAÇÃO DE SEGURANÇA COM CONE DE SINALIZACAO EM PVC RIGIDO COM FAIXA REFLETIVA, H = 70 / 76 CM | E14: UN | F14: 20 | G14: =H14+I14 -> 280 | H14: 120 | I14: 160 | J14: =F14-I14 -> -140 | K14: 57.2 | L14: =TRUNC(K14*F14,2) -> 1144
A15: 1.9 | B15: CP. PRÓPRIA | C15: COMPOSIÇÃO 13 | D15: SINALIZAÇÃO DE SEGURANÇA COM TELA PLASTICA TECIDA LISTRADA BRANCA E LARANJA, TIPO GUARDA CORPO, EM POLIETILENO MONOFILADO, ROLO 1,20 X 50 M (L X C) | E15: M | F15: 862.6 | G15: =H15+I15 -> 1400 | H15: 390 | I15: 1010 | J15: =F15-I15 -> -147.4 | K15: 9.35 | L15: =TRUNC(K15*F15,2) -> 8065.31
A16: 2 | D16: REMODELAÇÃO ESQUINA CANTEIRO CENTRAL | L16: =L20 -> 23444.44
D17: DEMOLIÇÃO E RETIRADAS | L17: 0
D18: DEMOLIÇÃO DE GUIAS, SARJETAS OU SARJETÕES, DE FORMA MECANIZADA, SEM REAPROVEITAMENTO. AF_09/2023 | E18: m | G18: =H18+I18 -> 76.44 | H18: 76.44 | I18: 0 | J18: =F18-I18 -> 0
D19: ESCAVACAO DE VALAS EM SOLO DE QUALQUER CATEGORIA, NA(S) PROFUNDIDADE(S):- ATE 2,00 M (SEM PRESENCA DE AGUA) | E19: m³ | G19: =H19+I19 -> 8.216 | H19: 8.216 | I19: 0 | J19: =F19-I19 -> 0
A20: 2.1 | D20: REMODELAÇÃO CANTEIRO | L20: =SUM(L21:L25) -> 23444.44
A21: 2.1.1 | B21: SINAPI | C21: 94990 | D21: EXECUÇÃO DE PASSEIO (CALÇADA) OU PISO DE CONCRETO COM CONCRETO MOLDADO IN LOCO, FEITO EM OBRA, ACABAMENTO CONVENCIONAL, NÃO ARMADO. (10CM) | E21: m³ | F21: 2.106 | G21: =H21+I21 -> 2.106 | H21: 0 | I21: 2.106 | J21: =F21-I21 -> 0 | K21: 912.64 | L21: =TRUNC(K21*F21,2) -> 1922.01
A22: 2.1.2 | B22: CP. PRÓPRIA | C22: COMPOSIÇÃO 9 | D22: REMODELAÇÃO DE MEIO-FIO ELEVADO COM MUDANÇA DE SEÇÃO, ARMADO, COM SARJETA, ALTURA INICIAL DE 60CM E FINAL DE 35CM, SEÇÃO INICIAL 0,128M2 E SEÇÃO FINAL 0,09M2 , CONCRETO FCK=20MPA, MOLDADO NO LOCAL - MODELO ESQUINA MUDANÇA DE SEÇÃO | E22: UNID | F22: 13 | G22: =H22+I22 -> 13 | H22: 0 | I22: 13 | J22: =F22-I22 -> 0 | K22: 1194.58 | L22: =TRUNC(K22*F22,2) -> 15529.54
A23: 2.1.3 | B23: SINAPI | C23: 94268 | D23: GUIA (MEIO-FIO) E SARJETA CONJUGADOS DE CONCRETO, MOLDADA IN LOCO EM TRECHO CURVO COM EXTRUSORA, 45 CM BASE (15 CM BASE DA GUIA + 30 CM BASE DA SARJETA) X 22 CM ALTURA. AF_06/2016 | E23: m | F23: 12.22 | G23: =H23+I23 -> 12.22 | H23: 0 | I23: 12.22 | J23: =F23-I23 -> 0 | K23: 77.13 | L23: =TRUNC(K23*F23,2) -> 942.52
A24: 2.1.4 | B24: CP. PRÓPRIA | C24: COMPOSIÇÃO 2 | D24: PILARETE DE CONCRETO ARMADO DE PROTEÇÃO DAS ESQUINAS D=15CM, H=80CM | E24: unid | F24: 39 | G24: =H24+I24 -> 39 | H24: 0 | I24: 39 | J24: =F24-I24 -> 0 | K24: 129.45 | L24: =TRUNC(K24*F24,2) -> 5048.55
A25: 2.1.5 | B25: SINAPI | C25: 102498 | D25: PINTURA DE MEIO-FIO COM TINTA BRANCA A BASE DE CAL (CAIAÇÃO). AF_05/2021 | E25: m² | F25: 0.9711 | G25: =H25+I25 -> 0.9711 | H25: 0 | I25: 0.9711 | J25: =F25-I25 -> 0 | K25: 1.88 | L25: =TRUNC(K25*F25,2) -> 1.82
A26: 3 | D26: CONSTRUÇÃO PÓRTICOS | L26: =L52 -> 10982.14
D27: FUNDAÇÃO | L27: 0
D28: ESTACA BROCA DE CONCRETO, DIÂMETRO DE 25CM, ESCAVAÇÃO MANUAL COM TRADO CONCHA, SEM ARMADURA DE ARRANQUE | E28: m | G28: =H28+I28 -> 84 | H28: 84 | I28: 0 | J28: =F28-I28 -> 0
D29: LANÇAMENTO COM USO DE BALDES, ADENSAMENTO E ACABAMENTO DE CONCRETO EM ESTRUTURAS. | E29: m³ | G29: =H29+I29 -> 4.1233404 | H29: 4.1233404 | I29: 0 | J29: =F29-I29 -> 0
D30: CORTE E DOBRA DE AÇO CA-60, DIÂMETRO DE 5,0 MM. | E30: kg | G30: =H30+I30 -> 41.6 | H30: 41.6 | I30: 0 | J30: =F30-I30 -> 0
D31: MONTAGEM DE ARMADURA DE ESTACAS, DIÂMETRO = 10,0 MM. AF_09/2021_PS | E31: kg | G31: =H31+I31 -> 157.6 | H31: 157.6 | I31: 0 | J31: =F31-I31 -> 0
D32: BLOCOS | L32: 0
D33: ESCAVAÇÃO MANUAL DE VALA PARA VIGA BALDRAME (SEM ESCAVAÇÃO PARA COLOCAÇÃO DE FÔRMAS). AF_06/2017 | E33: m³ | G33: =H33+I33 -> 11.008 | H33: 11.008 | I33: 0 | J33: =F33-I33 -> 0
D34: ARMAÇÃO DE BLOCO, VIGA BALDRAME OU SAPATA UTILIZANDO AÇO CA-50 DE 10 MM - MONTAGEM. | E34: kg | G34: =H34+I34 -> 241.6 | H34: 241.6 | I34: 0 | J34: =F34-I34 -> 0
D35: CONCRETO FCK = 25MPA, TRAÇO 1:2,3:2,7 (CIMENTO/ AREIA MÉDIA/ BRITA 1) - PREPARO MECÂNICO COM BETONEIRA 400 L. AF_07/2016 | E35: m³ | G35: =H35+I35 -> 11.008 | H35: 11.008 | I35: 0 | J35: =F35-I35 -> 0
D36: LANÇAMENTO COM USO DE BALDES, ADENSAMENTO E ACABAMENTO DE CONCRETO EM ESTRUTURAS. | E36: m³ | G36: =H36+I36 -> 11.008 | H36: 11.008 | I36: 0 | J36: =F36-I36 -> 0
D37: VIGA SUPERIOR | L37: 0
D38: MONTAGEM E DESMONTAGEM DE FÔRMA DE PILARES RETANGULARES E ESTRUTURAS SIMILARES, PÉ-DIREITO SIMPLES, EM MADEIRA SERRADA, 4 UTILIZAÇÕES. AF_09/2020 | E38: m² | G38: =H38+I38 -> 81.2 | H38: 81.2 | I38: 0 | J38: =F38-I38 -> 0
D39: CORTE E DOBRA DE AÇO CA-60, DIÂMETRO DE 5,0 MM. | E39: kg | G39: =H39+I39 -> 93.6 | H39: 93.6 | I39: 0 | J39: =F39-I39 -> 0
D40: ARMAÇÃO DE PILAR OU VIGA DE ESTRUTURA CONVENCIONAL DE CONCRETO ARMADO UTILIZANDO AÇO CA-50 DE 10,0 MM - MONTAGEM. AF_06/2022 | E40: kg | G40: =H40+I40 -> 224 | H40: 224 | I40: 0 | J40: =F40-I40 -> 0
D41: CONCRETO FCK = 25MPA, TRAÇO 1:2,3:2,7 (CIMENTO/ AREIA MÉDIA/ BRITA 1) - PREPARO MECÂNICO COM BETONEIRA 400 L. AF_07/2016 | E41: m³ | G41: =H41+I41 -> 9.768 | H41: 9.768 | I41: 0 | J41: =F41-I41 -> 0
...

Sheet abc
B2: OBRA: | D2: Bancos
B3: EXECUÇÃO ORLA MARGINAL A MS-475 DE NOVO HORIZONTE DO SUL-MS ENDEREÇO: RODOVIA MS-475/ORLA MARGINAL, S/N, CENTRO PREFEITURA MUNICIPAL DE NOVO HORIZONTE DO SUL/MS | D3: SINAPI - 06/2025 - MS AGESUL - 06/2025 SICRO - MS 04/2025
A6: Item | B6: Descrição | C6: Und | D6: Quant. | E6: Total | F6: Peso (%) | G6: VERIFICAÇÃO | H6: ANTERIOR
A7: 5.11 | B7: BARREIRA DE CONTENÇÃO TIPO MEIO-FIO COM SARJETA, EM CONCRETO ARMADO FCK=20MPA, ALTURA DE 60CM, SEÇÃO 0,128M2, MOLDADO NO LOCAL | C7: M | D7: 862.6 | E7: 218832.99 | F7: 0.36765112 | G7: 218832.99 | H7: 223861.95
A8: 5.5 | B8: EXECUÇÃO DE PAVIMENTO EM PISO INTERTRAVADO, COM BLOCO RETANGULAR COR NATURAL DE 20 X 10 CM, ESPESSURA 6 CM. AF_10/2022 | C8: m² | D8: 1371.46 | E8: 135911.68 | F8: 0.22833889 | G8: 135911.68 | H8: 125612.02 | J8: 81.43 | K8: 0
A9: 5.12 | B9: GUIA (MEIO-FIO) EM TRECHO RETO, CONFECCIONADA EM CONCRETO PRÉ-FABRICADO, DIMENSÕES 100X15X13X20 CM (COMPRIMENTO X BASE INFERIOR X BASE SUPERIOR X ALTURA), PARA URBANIZAÇÃO INTERNA DE EMPREENDIMENTOS, ARMADA. | C9: unid | D9: 600 | E9: 40728 | F9: 0.068425218 | G9: 40728 | H9: 40728
A10: 5.4 | B10: PISO PODOTÁTIL DIRECIONAL, DE CONCRETO, ASSENTADO SOBRE ARGAMASSA | C10: m² | D10: 174.02 | E10: 35077.21 | F10: 0.058931588 | G10: 35077.21 | H10: 33913.01 | I10: CORRIGIR | J10: 165.62 | K10: 0
A11: 5.13 | B11: PILAR ARMADO DE REFORÇO DO MEIO-FIO ELEVADO COM SARJETA, ALTURA DE 60CM, COM BROCA DE DIÂMETRO 15CM. (CONCRETO E FORMA DO PILAR PREVISTO JUNTO A COMPOSIÇÃO DO MEIO-FIO ELEVADO). | C11: UNID | D11: 458 | E11: 20252.76 | F11: 0.03402572 | G11: 20252.76 | H11: 21058.84
A12: 5.3 | B12: PILARETE COM TRILHO TR-25 DE PROTEÇÃO DE VIAS | C12: unid | D12: 28 | E12: 16146.76 | F12: 0.02712742 | G12: 16146.76 | H12: 16108.12
A13: 5.1 | B13: DEMOLIÇÃO DE GUIAS, SARJETAS OU SARJETÕES, DE FORMA MECANIZADA, SEM REAPROVEITAMENTO. AF_09/2023 | C13: m | D13: 934.6 | E13: 15794.74 | F13: 0.026536008 | G13: 15794.74 | H13: 16075.12 | J13: 13.89 | K13: 0
A14: 2.1.2 | B14: REMODELAÇÃO DE MEIO-FIO ELEVADO COM MUDANÇA DE SEÇÃO, ARMADO, COM SARJETA, ALTURA INICIAL DE 60CM E FINAL DE 35CM, SEÇÃO INICIAL 0,128M2 E SEÇÃO FINAL 0,09M2 , CONCRETO FCK=20MPA, MOLDADO NO LOCAL - MODELO ESQUINA MUDANÇA DE SEÇÃO | C14: UNID | D14: 13 | E14: 15529.54 | F14: 0.026090458 | G14: 15529.54 | H14: 15888.34
A15: 6.1 | B15: ENGENHEIRO CIVIL DE OBRA JUNIOR COM ENCARGOS COMPLEMENTARES | C15: h | D15: 91.59 | E15: 14021.51 | F15: 0.023556887 | G15: 14021.51 | H15: 14021.51 | J15: 125.79 | K15: 0
A16: 6.2 | B16: MESTRE DE OBRAS COM ENCARGOS COMPLEMENTARES | C16: h | D16: 195.03 | E16: 8868.01 | F16: 0.014898731 | G16: 8868.01 | H16: 7604.21 | J16: 37.36 | K16: 0
A17: 1.9 | B17: SINALIZAÇÃO DE SEGURANÇA COM TELA PLASTICA TECIDA LISTRADA BRANCA E LARANJA, TIPO GUARDA CORPO, EM POLIETILENO MONOFILADO, ROLO 1,20 X 50 M (L X C) | C17: M | D17: 862.6 | E17: 8065.31 | F17: 0.013550152 | G17: 8065.31 | H17: 8134.31
A18: 1.5 | B18: PADRAO PROVISORIO TRIFASICO ATE 27 KW | C18: unid | D18: 1 | E18: 6940.65 | F18: 0.011660663 | G18: 6940.65 | H18: 6561.1 | J18: 5702.62 | K18: 0
A19: 4.1 | B19: COMPACTAÇÃO MECÂNICA DE SOLO PARA EXECUÇÃO DE RADIER, PISO DE CONCRETO OU LAJE SOBRE SOLO, COM COMPACTADOR DE SOLOS A PERCUSSÃO. AF_09/2021 | C19: m² | D19: 1567.56 | E19: 6035.1 | F19: 0.010139291 | G19: 6035.1 | H19: 6035.1 | J19: 3.17 | K19: 0
A20: 5.6 | B20: TRANSPORTE COM CAMINHÃO CARROCERIA 9T, EM VIA URBANA PAVIMENTADA, DMT ATÉ 30KM (UNIDADE: TXKM). AF_07/2020 | C20: Txkm | D20: 1974.9024 | E20: 5253.24 | F20: 0.0088257241 | G20: 5253.24 | H20: 5509.97 | J20: 2.19 | K20: 0
A21: 2.1.4 | B21: PILARETE DE CONCRETO ARMADO DE PROTEÇÃO DAS ESQUINAS D=15CM, H=80CM | C21: unid | D21: 39 | E21: 5048.55 | F21: 0.008481834 | G21: 5048.55 | H21: 5076.24
A22: 1.2 | B22: PLACA DE OBRA EM CHAPA GALVANIZADA N. 22, ADESIVADA | C22: m² | D22: 8 | E22: 4946.8 | F22: 0.0083108885 | G22: 4946.8 | H22: 4948.48 | J22: 508.06 | K22: 0
A23: 4.2 | B23: ESPALHAMENTO DE TERRA | C23: m³ | D23: 156.756 | E23: 3956.52 | F23: 0.0066471652 | G23: 3956.52 | H23: 3956.52 | J23: 20.74 | K23: 0
A24: 1.3 | B24: LOCACAO DE CONTAINER 2,30 X 6,00 M, ALT. 2,50 M, COM 1 SANITARIO, PARA ESCRITORIO, COMPLETO, SEM DIVISORIAS INTERNAS, EXCLUSIVE TRANSPORTE/CARGA/DESCARGA | C24: mês | D24: 3 | E24: 3298.92 | F24: 0.005542362 | G24: 3298.92 | H24: 3039.69 | J24: 903.5 | K24: 0
A25: 3.1.4 | B25: TEXTURA ACRÍLICA, APLICAÇÃO MANUAL EM PAREDE, UMA DEMÃO. AF_04/2023 | C25: m² | D25: 213.48 | E25: 3291.86 | F25: 0.0055305008 | G25: 3291.86 | H25: 3434.89 | J25: 12.67 | K25: 0
A26: 3.1.3 | B26: APLICAÇÃO MANUAL DE PINTURA COM TINTA LÁTEX ACRÍLICA EM PAREDES, DUAS DEMÃOS. AF_06/2014 | C26: m² | D26: 213.48 | E26: 3112.53 | F26: 0.0052292168 | G26: 3112.53 | H26: 3236.35 | J26: 11.98 | K26: 0
A27: 1.6 | B27: INSTALACAO PROVISORIA DE AGUA E ESGOTO PARA OBRAS DE PORTE PEQUENO | C27: UN | D27: 1 | E27: 2897.92 | F27: 0.0048686606 | G27: 2897.92 | H27: 767.6 | I27: SUBST. POR AGESUL
A28: 3.1.5 | B28: CHAPIM (RUFO CAPA) EM AÇO GALVANIZADO, CORTE 33. AF_11/2020 | C28: m | D28: 60 | E28: 2734.8 | F28: 0.0045946102 | G28: 2734.8 | H28: 2841 | J28: 37.45 | K28: 0
A29: 5.9 | B29: TRANSPORTE COM CAMINHÃO BASCULANTE DE 18 M³, EM VIA URBANA PAVIMENTADA, ADICIONAL PARA DMT EXCEDENTE A 30 KM (UNIDADE: M3XKM). AF_07/2020 (AREIA PISO INTERTRAVADO) | C29: m³xkm | D29: 2606.3683 | E29: 2397.85 | F29: 0.0040285162 | G29: 2397.85 | H29: 2528.17 | J29: 0.76 | K29: 0
A30: 5.8 | B30: TRANSPORTE COM CAMINHÃO BASCULANTE DE 18 M³, EM VIA URBANA PAVIMENTADA, DMT ATÉ 30 KM (UNIDADE: M3XKM). AF_07/2020 (AREIA PISO INTERTRAVADO) | C30: m³xkm | D30: 1071.1103 | E30: 2388.57 | F30: 0.0040129253 | G30: 2388.57 | H30: 2527.82 | J30: 1.84 | K30: 0
A31: 2.1.1 | B31: EXECUÇÃO DE PASSEIO (CALÇADA) OU PISO DE CONCRETO COM CONCRETO MOLDADO IN LOCO, FEITO EM OBRA, ACABAMENTO CONVENCIONAL, NÃO ARMADO. (10CM) | C31: m³ | D31: 2.106 | E31: 1922.01 | F31: 0.0032290796 | G31: 1922.01 | H31: 1927.74 | J31: 749.85 | K31: 0
A32: 5.14 | B32: PINTURA DE MEIO-FIO COM TINTA BRANCA A BASE DE CAL (CAIAÇÃO). AF_05/2021 | C32: m² | D32: 907.68 | E32: 1706.43 | F32: 0.0028668936 | G32: 1706.43 | H32: 1706.43 | J32: 1.55 | K32: 0
A33: 1.7 | B33: LOCACAO DE CACAMBA (4M3) (7 DIAS) | C33: unid | D33: 4 | E33: 1703.92 | F33: 0.0028626767 | G33: 1703.92 | H33: 1703.92 | J33: 350 | K33: 0
A34: 1.4 | B34: MOBILIZACAO E DESMOBILIZACAO DE CONTAINER | C34: unid | D34: 1 | E34: 1319.04 | F34: 0.0022160577 | G34: 1319.04 | H34: 1333.84 | J34: 1083.76 | K34: 0
A35: 5.7 | B35: TRANSPORTE COM CAMINHÃO CARROCERIA 9T, EM VIA URBANA PAVIMENTADA, ADICIONAL PARA DMT EXCEDENTE A 30 KM (UNIDADE: TXKM). AF_07/2020 | C35: Txkm | D35: 1171.7754 | E35: 1230.36 | F35: 0.0020670706 | G35: 1230.36 | H35: 1288.95 | J35: 0.87 | K35: 0
A36: 1.8 | B36: SINALIZAÇÃO DE SEGURANÇA COM CONE DE SINALIZACAO EM PVC RIGIDO COM FAIXA REFLETIVA, H = 70 / 76 CM | C36: UN | D36: 20 | E36: 1144 | F36: 0.0019219812 | G36: 1144 | H36: 1162.8
A37: 5.2 | B37: TRANSPORTE COM CAMINHÃO BASCULANTE DE 10 M³, EM VIA URBANA PAVIMENTADA, DMT ATÉ 30 KM (UNIDADE: M3XKM). AF_07/2020 (BOTA-FORA) | C37: m³xkm | D37: 348.9 | E37: 1032.74 | F37: 0.0017350584 | G37: 1032.74 | H37: 1081.59 | J37: 2.44 | K37: 0
A38: 3.1.2 | B38: APLICAÇÃO DE FUNDO SELADOR ACRÍLICO EM PAREDES, UMA DEMÃO. AF_06/2014 | C38: m² | D38: 213.48 | E38: 996.95 | F38: 0.0016749293 | G38: 996.95 | H38: 964.92 | J38: 3.84 | K38: 0
A39: 2.1.3 | B39: GUIA (MEIO-FIO) E SARJETA CONJUGADOS DE CONCRETO, MOLDADA IN LOCO EM TRECHO CURVO COM EXTRUSORA, 45 CM BASE (15 CM BASE DA GUIA + 30 CM BASE DA SARJETA) X 22 CM ALTURA. AF_06/2016 | C39: m | D39: 12.22 | E39: 942.52 | F39: 0.001583484 | G39: 942.52 | H39: 965.5 | J39: 63.38 | K39: 0
A40: 3.1.1 | B40: EMBOCO OU MASSA UNICA EM ARGAMASSA TRACO 1:2:8, PREPARO MANUAL, ESP=25MM | C40: M2 | D40: 12 | E40: 846 | F40: 0.0014213252 | G40: 846 | H40: 847.32 | J40: 57.93 | K40: 0
A41: 5.10 | B41: EXECUÇÃO DE PASSEIO (CALÇADA) OU PISO DE CONCRETO COM CONCRETO MOLDADO IN LOCO, FEITO EM OBRA, ACABAMENTO CONVENCIONAL, NÃO ARMADO. (7CM) | C41: m³ | D41: 0.6846 | E41: 624.79 | F41: 0.0010496806 | G41: 624.79 | H41: 626.65 | J41: 749.85 | K41: 0
A42: 1.1 | B42: LOCAÇÃO COM CAVALETE COM ALTURA DE 1,00 M | C42: unid | D42: 1 | E42: 216.75 | F42: 0.00036415159 | G42: 216.75 | H42: 216.91 | J42: 178.09 | K42: 0
A43: 2.1.5 | B43: PINTURA DE MEIO-FIO COM TINTA BRANCA A BASE DE CAL (CAIAÇÃO). AF_05/2021 | C43: m² | D43: 0.9711 | E43: 1.82 | F43: 3.0576973e-06 | G43: 1.82 | H43: 1.82 | J43: 1.55 | K43: 0
...

Sheet atestado
A2: Item | B2: Descrição | C2: Unidade | D2: Qtd. Exig. Atestado | E2: Qtd. Edital
A3: 5.5 | B3: EXECUÇÃO DE PAVIMENTO EM PISO INTERTRAVADO, COM BLOCO RETANGULAR COR NATURAL DE 20 X 10 CM, ESPESSURA 6 CM. | C3: m² | D3: =E3/2 -> 685.73 | E3: 1371.46
A4: 5.12 | B4: GUIA (MEIO-FIO) EM TRECHO RETO, CONFECCIONADA EM CONCRETO PRÉ-FABRICADO, | C4: unid | D4: =E4/2 -> 300 | E4: 600

Sheet Orçamento Sintético
D2: OBRA: | F2: Bancos | I2: B.D.I.
D3: EXECUÇÃO ORLA MARGINAL A MS-475 DE NOVO HORIZONTE DO SUL-MS ENDEREÇO: RODOVIA MS-475/ORLA MARGINAL, S/N, CENTRO PREFEITURA MUNICIPAL DE NOVO HORIZONTE DO SUL/MS | F3: SINAPI - 06/2025 - MS AGESUL - 06/2025 SICRO - MS 04/2025 | I3: 0.2171
A5: ORÇAMENTO SINTÉTICO - MÉTODO TRUNCADO
A6: Item | B6: Banco | C6: Código | D6: Descrição | E6: Und | F6: Quant. | G6: MEMÓRIA DE CÁLCULO | H6: Valor Unit | I6: Preço Unitário | J6: Total | K6: Peso (%) | L6: VERIFICAÇÃO | M6: ANTERIOR
A7: 1 | D7: SERVIÇOS PRELIMINARES | J7: =SUM(J8:J16) -> 30533.31 | K7: =J7/$I$53 -> 0.051297593
A8: 1.1 | B8: SINAPI | C8: 99060 | D8: LOCAÇÃO COM CAVALETE COM ALTURA DE 1,00 M | E8: unid | F8: 1 | G8: 14 unidades | H8: =VLOOKUP(C8,sinapi!A$1:D$14488,4,FALSE) -> 178.09 | I8: =TRUNC(H8*(1+$I$3),2) -> 216.75 | J8: =TRUNC(I8*F8,2) -> 216.75 | K8: =(J8/$I$53) -> 0.00036415159 | L8: =J8 -> 216.75 | M8: 216.91 | O8: 178.09 | P8: =H8-O8 -> 0
A9: 1.2 | B9: AGESUL | C9: 101001101 | D9: PLACA DE OBRA EM CHAPA GALVANIZADA N. 22, ADESIVADA | E9: m² | F9: 8 | G9: =2*4 | H9: =VLOOKUP(C9,agesul!A$1:D$15489,4,FALSE) -> 508.06 | I9: =TRUNC(H9*(1+$I$3),2) -> 618.35 | J9: =TRUNC(I9*F9,2) -> 4946.8 | K9: =(J9/$I$53) -> 0.0083108885 | L9: =J9 -> 4946.8 | M9: 4948.48 | O9: 508.06 | P9: =H9-O9 -> 0
A10: 1.3 | B10: AGESUL | C10: 101001186 | D10: LOCACAO DE CONTAINER 2,30 X 6,00 M, ALT. 2,50 M, COM 1 SANITARIO, PARA ESCRITORIO, COMPLETO, SEM DIVISORIAS INTERNAS, EXCLUSIVE TRANSPORTE/CARGA/DESCARGA | E10: mês | F10: 3 | G10: 3 meses | H10: =VLOOKUP(C10,agesul!A$1:D$15489,4,FALSE) -> 903.5 | I10: =TRUNC(H10*(1+$I$3),2) -> 1099.64 | J10: =TRUNC(I10*F10,2) -> 3298.92 | K10: =(J10/$I$53) -> 0.005542362 | L10: =J10 -> 3298.92 | M10: 3039.69 | O10: 903.5 | P10: =H10-O10 -> 0
A11: 1.4 | B11: AGESUL | C11: 101001196 | D11: MOBILIZACAO E DESMOBILIZACAO DE CONTAINER | E11: unid | F11: 1 | G11: 1 unidade | H11: =VLOOKUP(C11,agesul!A$1:D$15489,4,FALSE) -> 1083.76 | I11: =TRUNC(H11*(1+$I$3),2) -> 1319.04 | J11: =TRUNC(I11*F11,2) -> 1319.04 | K11: =(J11/$I$53) -> 0.0022160577 | L11: =J11 -> 1319.04 | M11: 1333.84 | O11: 1083.76 | P11: =H11-O11 -> 0
A12: 1.5 | B12: AGESUL | C12: 101003101 | D12: PADRAO PROVISORIO TRIFASICO ATE 27 KW | E12: unid | F12: 1 | G12: 1 unidade | H12: =VLOOKUP(C12,agesul!A$1:D$15489,4,FALSE) -> 5702.62 | I12: =TRUNC(H12*(1+$I$3),2) -> 6940.65 | J12: =TRUNC(I12*F12,2) -> 6940.65 | K12: =(J12/$I$53) -> 0.011660663 | L12: =J12 -> 6940.65 | M12: 6561.1 | O12: 5702.62 | P12: =H12-O12 -> 0
A13: 1.6 | B13: AGESUL | C13: 101002100 | D13: INSTALACAO PROVISORIA DE AGUA E ESGOTO PARA OBRAS DE PORTE PEQUENO | E13: UN | F13: 1 | G13: 1 unidade | H13: =VLOOKUP(C13,agesul!A$1:D$15489,4,FALSE) -> 2381.01 | I13: =TRUNC(H13*(1+$I$3),2) -> 2897.92 | J13: =TRUNC(I13*F13,2) -> 2897.92 | K13: =(J13/$I$53) -> 0.0048686606 | L13: =J13 -> 2897.92 | M13: 767.6 | N13: SUBST. POR AGESUL
A14: 1.7 | B14: AGESUL | C14: 201002161 | D14: LOCACAO DE CACAMBA (4M3) (7 DIAS) | E14: unid | F14: 4 | G14: 4 locações | H14: =VLOOKUP(C14,agesul!A$1:D$15489,4,FALSE) -> 350 | I14: =TRUNC(H14*(1+$I$3),2) -> 425.98 | J14: =TRUNC(I14*F14,2) -> 1703.92 | K14: =(J14/$I$53) -> 0.0028626767 | L14: =J14 -> 1703.92 | M14: 1703.92 | O14: 350 | P14: =H14-O14 -> 0
A15: 1.8 | B15: CP. PRÓPRIA | C15: =Composição!B95 -> COMPOSIÇÃO 12 | D15: =Composição!D96 -> SINALIZAÇÃO DE SEGURANÇA COM CONE DE SINALIZACAO EM PVC RIGIDO COM FAIXA REFLETIVA, H = 70 / 76 CM | E15: UN | F15: 20 | G15: 20 unidades | H15: =Composição!H100 -> 47 | I15: =TRUNC(H15*(1+$I$3),2) -> 57.2 | J15: =TRUNC(I15*F15,2) -> 1144 | K15: =(J15/$I$53) -> 0.0019219812 | L15: =J15 -> 1144 | M15: 1162.8
A16: 1.9 | B16: CP. PRÓPRIA | C16: =Composição!B102 -> COMPOSIÇÃO 13 | D16: =Composição!D103 -> SINALIZAÇÃO DE SEGURANÇA COM TELA PLASTICA TECIDA LISTRADA BRANCA E LARANJA, TIPO GUARDA CORPO, EM POLIETILENO MONOFILADO, ROLO 1,20 X 50 M (L X C) | E16: M | F16: 862.6 | G16: 862,60m de guias a executar com proteção | H16: =Composição!H107 -> 7.69 | I16: =TRUNC(H16*(1+$I$3),2) -> 9.35 | J16: =TRUNC(I16*F16,2) -> 8065.31 | K16: =(J16/$I$53) -> 0.013550152 | L16: =J16 -> 8065.31 | M16: 8134.31
A17: 2 | D17: REMODELAÇÃO ESQUINA CANTEIRO CENTRAL | J17: =J18 -> 23444.44 | K17: =J17/$I$53 -> 0.039387913
A18: 2.1 | D18: REMODELAÇÃO CANTEIRO | J18: =SUM(J19:J23) -> 23444.44 | K18: =(J18/$I$53) -> 0.039387913
A19: 2.1.1 | B19: SINAPI | C19: 94990 | D19: EXECUÇÃO DE PASSEIO (CALÇADA) OU PISO DE CONCRETO COM CONCRETO MOLDADO IN LOCO, FEITO EM OBRA, ACABAMENTO CONVENCIONAL, NÃO ARMADO. (10CM) | E19: m³ | F19: 2.106 | G19: =((1,62*0,1)*13) | H19: =VLOOKUP(C19,sinapi!A$1:D$14488,4,FALSE) -> 749.85 | I19: =TRUNC(H19*(1+$I$3),2) -> 912.64 | J19: =TRUNC(I19*F19,2) -> 1922.01 | K19: =(J19/$I$53) -> 0.0032290796 | L19: =J19 -> 1922.01 | M19: 1927.74 | O19: 749.85 | P19: =H19-O19 -> 0
A20: 2.1.2 | B20: CP. PRÓPRIA | C20: =Composição!B76 -> COMPOSIÇÃO 9 | D20: =Composição!D77 -> REMODELAÇÃO DE MEIO-FIO ELEVADO COM MUDANÇA DE SEÇÃO, ARMADO, COM SARJETA, ALTURA INICIAL DE 60CM E FINAL DE 35CM, SEÇÃO INICIAL 0,128M2 E SEÇÃO FINAL 0,09M2 , CONCRETO FCK=20MPA, MOLDADO NO LOCAL - MODELO ESQUINA MUDANÇA DE SEÇÃO | E20: =Composição!E77 -> UNID | F20: 13 | G20: =(13) | H20: =Composição!H84 -> 981.5 | I20: =TRUNC(H20*(1+$I$3),2) -> 1194.58 | J20: =TRUNC(I20*F20,2) -> 15529.54 | K20: =(J20/$I$53) -> 0.026090458 | L20: =J20 -> 15529.54 | M20: 15888.34
A21: 2.1.3 | B21: SINAPI | C21: 94268 | D21: GUIA (MEIO-FIO) E SARJETA CONJUGADOS DE CONCRETO, MOLDADA IN LOCO EM TRECHO CURVO COM EXTRUSORA, 45 CM BASE (15 CM BASE DA GUIA + 30 CM BASE DA SARJETA) X 22 CM ALTURA. AF_06/2016 | E21: m | F21: 12.22 | G21: =(0,94*13) | H21: =VLOOKUP(C21,sinapi!A$1:D$14488,4,FALSE) -> 63.38 | I21: =TRUNC(H21*(1+$I$3),2) -> 77.13 | J21: =TRUNC(I21*F21,2) -> 942.52 | K21: =(J21/$I$53) -> 0.001583484 | L21: =J21 -> 942.52 | M21: 965.5 | O21: 63.38 | P21: =H21-O21 -> 0
A22: 2.1.4 | B22: CP. PRÓPRIA | C22: =Composição!B13 -> COMPOSIÇÃO 2 | D22: =Composição!D14 -> PILARETE DE CONCRETO ARMADO DE PROTEÇÃO DAS ESQUINAS D=15CM, H=80CM | E22: unid | F22: 39 | G22: =(3*13) | H22: =Composição!H20 -> 106.36 | I22: =TRUNC(H22*(1+$I$3),2) -> 129.45 | J22: =TRUNC(I22*F22,2) -> 5048.55 | K22: =(J22/$I$53) -> 0.008481834 | L22: =J22 -> 5048.55 | M22: 5076.24
A23: 2.1.5 | B23: SINAPI | C23: 102498 | D23: PINTURA DE MEIO-FIO COM TINTA BRANCA A BASE DE CAL (CAIAÇÃO). AF_05/2021 | E23: m² | F23: 0.9711 | G23: =(((4,04+0,94)*(0,15*0,1))*13) | H23: =VLOOKUP(C23,sinapi!A$1:D$14488,4,FALSE) -> 1.55 | I23: =TRUNC(H23*(1+$I$3),2) -> 1.88 | J23: =TRUNC(I23*F23,2) -> 1.82 | K23: =(J23/$I$53) -> 3.0576973e-06 | L23: =J23 -> 1.82 | M23: 1.82 | O23: 1.55 | P23: =H23-O23 -> 0
A24: 3 | D24: CONSTRUÇÃO PÓRTICOS | J24: =(J25) -> 10982.14 | K24: =J24/$I$53 -> 0.018450582
A25: 3.1 | D25: ACABAMENTO | J25: =SUM(J26:J30) -> 10982.14 | K25: =(J25/$I$53) -> 0.018450582
A26: 3.1.1 | B26: AGESUL | C26: 501000145 | D26: EMBOCO OU MASSA UNICA EM ARGAMASSA TRACO 1:2:8, PREPARO MANUAL, ESP=25MM | E26: M2 | F26: 12 | G26: =(((10,8*2)+(3,6*0,3)+(2,95*0,3)+(2,4*0,3*2)+(5,6*0,3)+(7,4*0,3))*8) | H26: =VLOOKUP(C26,agesul!A$1:D$15489,4,FALSE) -> 57.93 | I26: =TRUNC(H26*(1+$I$3),2) -> 70.5 | J26: =TRUNC(I26*F26,2) -> 846 | K26: =(J26/$I$53) -> 0.0014213252 | L26: =J26 -> 846 | M26: 847.32 | O26: 57.93 | P26: =H26-O26 -> 0
A27: 3.1.2 | B27: SINAPI | C27: 88485 | D27: APLICAÇÃO DE FUNDO SELADOR ACRÍLICO EM PAREDES, UMA DEMÃO. AF_06/2014 | E27: m² | F27: 213.48 | G27: =(((10,8*2)+(3,6*0,3)+(2,95*0,3)+(2,4*0,3*2)+(5,6*0,3))*8) | H27: =VLOOKUP(C27,sinapi!A$1:D$14488,4,FALSE) -> 3.84 | I27: =TRUNC(H27*(1+$I$3),2) -> 4.67 | J27: =TRUNC(I27*F27,2) -> 996.95 | K27: =(J27/$I$53) -> 0.0016749293 | L27: =J27 -> 996.95 | M27: 964.92 | O27: 3.84 | P27: =H27-O27 -> 0
A28: 3.1.3 | B28: SINAPI | C28: 88489 | D28: APLICAÇÃO MANUAL DE PINTURA COM TINTA LÁTEX ACRÍLICA EM PAREDES, DUAS DEMÃOS. AF_06/2014 | E28: m² | F28: 213.48 | G28: =(((10,8*2)+(3,6*0,3)+(2,95*0,3)+(2,4*0,3*2)+(5,6*0,3))*8) | H28: =VLOOKUP(C28,sinapi!A$1:D$14488,4,FALSE) -> 11.98 | I28: =TRUNC(H28*(1+$I$3),2) -> 14.58 | J28: =TRUNC(I28*F28,2) -> 3112.53 | K28: =(J28/$I$53) -> 0.0052292168 | L28: =J28 -> 3112.53 | M28: 3236.35 | O28: 11.98 | P28: =H28-O28 -> 0
A29: 3.1.4 | B29: SINAPI | C29: 95305 | D29: TEXTURA ACRÍLICA, APLICAÇÃO MANUAL EM PAREDE, UMA DEMÃO. AF_04/2023 | E29: m² | F29: 213.48 | G29: =(((10,8*2)+(3,6*0,3)+(2,95*0,3)+(2,4*0,3*2)+(5,6*0,3))*8) | H29: =VLOOKUP(C29,sinapi!A$1:D$14488,4,FALSE) -> 12.67 | I29: =TRUNC(H29*(1+$I$3),2) -> 15.42 | J29: =TRUNC(I29*F29,2) -> 3291.86 | K29: =(J29/$I$53) -> 0.0055305008 | L29: =J29 -> 3291.86 | M29: 3434.89 | O29: 12.67 | P29: =H29-O29 -> 0
A30: 3.1.5 | B30: SINAPI | C30: 101979 | D30: CHAPIM (RUFO CAPA) EM AÇO GALVANIZADO, CORTE 33. AF_11/2020 | E30: m | F30: 60 | G30: =(7,5*8) | H30: =VLOOKUP(C30,sinapi!A$1:D$14488,4,FALSE) -> 37.45 | I30: =TRUNC(H30*(1+$I$3),2) -> 45.58 | J30: =TRUNC(I30*F30,2) -> 2734.8 | K30: =(J30/$I$53) -> 0.0045946102 | L30: =J30 -> 2734.8 | M30: 2841 | O30: 37.45 | P30: =H30-O30 -> 0
A31: 4 | D31: MOVIMENTAÇÃO DE TERRA | J31: =SUM(J32:J33) -> 9991.62 | K31: =J31/$I$53 -> 0.016786456
A32: 4.1 | B32: SINAPI | C32: 97083 | D32: COMPACTAÇÃO MECÂNICA DE SOLO PARA EXECUÇÃO DE RADIER, PISO DE CONCRETO OU LAJE SOBRE SOLO, COM COMPACTADOR DE SOLOS A PERCUSSÃO. AF_09/2021 | E32: m² | F32: 1567.56 | G32: =(176,32+1381,46+(6*1,63)) | H32: =VLOOKUP(C32,sinapi!A$1:D$14488,4,FALSE) -> 3.17 | I32: =TRUNC(H32*(1+$I$3),2) -> 3.85 | J32: =TRUNC(I32*F32,2) -> 6035.1 | K32: =(J32/$I$53) -> 0.010139291 | L32: =J32 -> 6035.1 | M32: 6035.1 | O32: 3.17 | P32: =H32-O32 -> 0
A33: 4.2 | B33: AGESUL | C33: 401001117 | D33: ESPALHAMENTO DE TERRA | E33: m³ | F33: 156.756 | G33: =((176,32+1381,46+(6*1,63))*0,1) | H33: =VLOOKUP(C33,agesul!A$1:D$15489,4,FALSE) -> 20.74 | I33: =TRUNC(H33*(1+$I$3),2) -> 25.24 | J33: =TRUNC(I33*F33,2) -> 3956.52 | K33: =(J33/$I$53) -> 0.0066471652 | L33: =J33 -> 3956.52 | M33: 3956.52 | O33: 20.74 | P33: =H33-O33 -> 0
A34: 5 | D34: ORLA MARGINAL | J34: =SUM(J35:J48) -> 497378.12 | K34: =J34/$I$53 -> 0.83562184
A35: 5.1 | B35: SINAPI | C35: 104796 | D35: DEMOLIÇÃO DE GUIAS, SARJETAS OU SARJETÕES, DE FORMA MECANIZADA, SEM REAPROVEITAMENTO. AF_09/2023 | E35: m | F35: 934.6 | G35: =((215,8+125,8+202,8+90,8+145,8+176,8+176,8)) | H35: =VLOOKUP(C35,sinapi!A$1:D$14488,4,FALSE) -> 13.89 | I35: =TRUNC(H35*(1+$I$3),2) -> 16.9 | J35: =TRUNC(I35*F35,2) -> 15794.74 | K35: =(J35/$I$53) -> 0.026536008 | L35: =J35 -> 15794.74 | M35: 16075.12 | O35: 13.89 | P35: =H35-O35 -> 0
A36: 5.2 | B36: SINAPI | C36: 95875 | D36: TRANSPORTE COM CAMINHÃO BASCULANTE DE 10 M³, EM VIA URBANA PAVIMENTADA, DMT ATÉ 30 KM (UNIDADE: M3XKM). AF_07/2020 (BOTA-FORA) | E36: m³xkm | F36: 348.9 | G36: =(5*69,78) | H36: =VLOOKUP(C36,sinapi!A$1:D$14488,4,FALSE) -> 2.44 | I36: =TRUNC(H36*(1+$I$3),2) -> 2.96 | J36: =TRUNC(I36*F36,2) -> 1032.74 | K36: =(J36/$I$53) -> 0.0017350584 | L36: =J36 -> 1032.74 | M36: 1081.59 | O36: 2.44 | P36: =H36-O36 -> 0
A37: 5.3 | B37: CP. PRÓPRIA | C37: =Composição!B48 -> COMPOSIÇÃO 6 | D37: =Composição!D49 -> PILARETE COM TRILHO TR-25 DE PROTEÇÃO DE VIAS | E37: unid | F37: 28 | G37: =(2*14) | H37: =Composição!H58 -> 473.81 | I37: =TRUNC(H37*(1+$I$3),2) -> 576.67 | J37: =TRUNC(I37*F37,2) -> 16146.76 | K37: =(J37/$I$53) -> 0.02712742 | L37: =J37 -> 16146.76 | M37: 16108.12
A38: 5.4 | B38: SINAPI | C38: 104658 | D38: PISO PODOTÁTIL DIRECIONAL, DE CONCRETO, ASSENTADO SOBRE ARGAMASSA | E38: m² | F38: 174.02 | G38: =(57,16+54,82+35,57+26,47) | H38: =VLOOKUP(C38,sinapi!A$1:D$14488,4,FALSE) -> 165.62 | I38: =TRUNC(H38*(1+$I$3),2) -> 201.57 | J38: =TRUNC(I38*F38,2) -> 35077.21 | K38: =(J38/$I$53) -> 0.058931588 | L38: =J38 -> 35077.21 | M38: 33913.01 | N38: CORRIGIR | O38: 165.62 | P38: =H38-O38 -> 0
A39: 5.5 | B39: SINAPI | C39: 92397 | D39: EXECUÇÃO DE PAVIMENTO EM PISO INTERTRAVADO, COM BLOCO RETANGULAR COR NATURAL DE 20 X 10 CM, ESPESSURA 6 CM. AF_10/2022 | E39: m² | F39: 1371.46 | G39: =(453,07+430,93+276,93+210,53) | H39: =VLOOKUP(C39,sinapi!A$1:D$14488,4,FALSE) -> 81.43 | I39: =TRUNC(H39*(1+$I$3),2) -> 99.1 | J39: =TRUNC(I39*F39,2) -> 135911.68 | K39: =(J39/$I$53) -> 0.22833889 | L39: =J39 -> 135911.68 | M39: 125612.02 | O39: 81.43 | P39: =H39-O39 -> 0
A40: 5.6 | B40: SINAPI | C40: 100947 | D40: TRANSPORTE COM CAMINHÃO CARROCERIA 9T, EM VIA URBANA PAVIMENTADA, DMT ATÉ 30KM (UNIDADE: TXKM). AF_07/2020 | E40: Txkm | F40: 1974.9024 | G40: =((0,06*0,2*0,1*2,4)*(50*1371,46)*30/3) | H40: =VLOOKUP(C40,sinapi!A$1:D$14488,4,FALSE) -> 2.19 | I40: =TRUNC(H40*(1+$I$3),2) -> 2.66 | J40: =TRUNC(I40*F40,2) -> 5253.24 | K40: =(J40/$I$53) -> 0.0088257241 | L40: =J40 -> 5253.24 | M40: 5509.97 | O40: 2.19 | P40: =H40-O40 -> 0
A41: 5.7 | B41: SINAPI | C41: 100948 | D41: TRANSPORTE COM CAMINHÃO CARROCERIA 9T, EM VIA URBANA PAVIMENTADA, ADICIONAL PARA DMT EXCEDENTE A 30 KM (UNIDADE: TXKM). AF_07/2020 | E41: Txkm | F41: 1171.7754 | G41: =((0,06*0,2*0,1*2,4)*(50*1371,46)*17,8/3) | H41: =VLOOKUP(C41,sinapi!A$1:D$14488,4,FALSE) -> 0.87 | I41: =TRUNC(H41*(1+$I$3),2) -> 1.05 | J41: =TRUNC(I41*F41,2) -> 1230.36 | K41: =(J41/$I$53) -> 0.0020670706 | L41: =J41 -> 1230.36 | M41: 1288.95 | O41: 0.87 | P41: =H41-O41 -> 0
A42: 5.8 | B42: SINAPI | C42: 95877 | D42: TRANSPORTE COM CAMINHÃO BASCULANTE DE 18 M³, EM VIA URBANA PAVIMENTADA, DMT ATÉ 30 KM (UNIDADE: M3XKM). AF_07/2020 (AREIA PISO INTERTRAVADO) | E42: m³xkm | F42: 1071.1103 | G42: =((0,0568*1371,46*1,375)*30/3) | H42: =VLOOKUP(C42,sinapi!A$1:D$14488,4,FALSE) -> 1.84 | I42: =TRUNC(H42*(1+$I$3),2) -> 2.23 | J42: =TRUNC(I42*F42,2) -> 2388.57 | K42: =(J42/$I$53) -> 0.0040129253 | L42: =J42 -> 2388.57 | M42: 2527.82 | O42: 1.84 | P42: =H42-O42 -> 0
...

Sheet Resumo
B2: OBRA: | C2: B.D.I. | D2: Bancos | E2: Encargos Sociais
B3: EXECUÇÃO ORLA MARGINAL A MS-475 DE NOVO HORIZONTE DO SUL-MS ENDEREÇO: RODOVIA MS-475/ORLA MARGINAL, S/N, CENTRO PREFEITURA MUNICIPAL DE NOVO HORIZONTE DO SUL/MS | C3: 0.2171 | D3: SINAPI - 01/2025 - MS AGESUL - 01/2025 SICRO - MS 01/2025 | E3: Não Desonerado: Horista: 106,76% Mensalista: 64,39%
A5: ORÇAMENTO RESUMIDO
A6: Item | B6: Descrição | E6: Total | F6: Peso (%)
A7: 1 | B7: SERVIÇOS PRELIMINARES | E7: ='Orçamento Sintético'!$J$7 -> 30533.31 | F7: ='Orçamento Sintético'!K7 -> 0.051297593
A8: 2 | B8: REMODELAÇÃO ESQUINA CANTEIRO CENTRAL | E8: ='Orçamento Sintético'!J17 -> 23444.44 | F8: ='Orçamento Sintético'!K17 -> 0.039387913
A9: 2.1 | B9: REMODELAÇÃO CANTEIRO | E9: ='Orçamento Sintético'!J18 -> 23444.44 | F9: ='Orçamento Sintético'!K18 -> 0.039387913
A10: 3 | B10: CONSTRUÇÃO PÓRTICOS | E10: ='Orçamento Sintético'!J24 -> 10982.14 | F10: ='Orçamento Sintético'!K24 -> 0.018450582
A11: 3.1 | B11: ACABAMENTO | E11: ='Orçamento Sintético'!J25 -> 10982.14 | F11: ='Orçamento Sintético'!K25 -> 0.018450582
A12: 4 | B12: MOVIMENTAÇÃO DE TERRA | E12: ='Orçamento Sintético'!$J$31 -> 9991.62 | F12: ='Orçamento Sintético'!K31 -> 0.016786456
A13: 5 | B13: ORLA MARGINAL | E13: ='Orçamento Sintético'!$J$34 -> 497378.12 | F13: ='Orçamento Sintético'!K34 -> 0.83562184
A14: 6 | B14: ADMINISTRAÇÃO LOCAL | E14: ='Orçamento Sintético'!$J$49 -> 22889.52 | F14: ='Orçamento Sintético'!K49 -> 0.038455618
B15: ='Orçamento Sintético'!$D$52 -> 26 de agosto de 2025 | E15: ='Orçamento Sintético'!I53 -> 595219.15
B19: RAFAEL DOS SANTOS ARAUJO LIMA
B20: Eng. Civil - CREA/MS 20613D
B24: ALDENIR BARBOSA DO NASCIMENTO
B25: Prefeito Municipal

Sheet Cronograma
B2: ='Orçamento Sintético'!D2 -> OBRA:
B3: ='Orçamento Sintético'!D3 -> EXECUÇÃO ORLA MARGINAL A MS-475 DE NOVO HORIZONTE DO SUL-MS ENDEREÇO: RODOVIA MS-475/ORLA MARGINAL, S/N, CENTRO PREFEITURA MUNICIPAL DE NOVO HORIZONTE DO SUL/MS
A4: Cronograma Físico e Financeiro
A5: Item | B5: Descrição | C5: Total Por Etapa | D5: 1º MÊS | E5: 2º MÊS | F5: 3º MÊS
A6: 1 | B6: ='Orçamento Sintético'!D7 -> SERVIÇOS PRELIMINARES | C6: =Resumo!E7 -> 30533.31 | D6: =(D7*$C$6) -> 30533.31 | E6: =(E7*$C$6) -> 0 | F6: =(F7*$C$6) -> 0
D7: 1
A8: 2 | B8: ='Orçamento Sintético'!D17 -> REMODELAÇÃO ESQUINA CANTEIRO CENTRAL | C8: =Resumo!E8 -> 23444.44 | D8: =(D9*$C$8) -> 23444.44 | E8: =(E9*$C$8) -> 0 | F8: =(F9*$C$8) -> 0
D9: 1
A10: 3 | B10: ='Orçamento Sintético'!D24 -> CONSTRUÇÃO PÓRTICOS | C10: =Resumo!E10 -> 10982.14 | D10: =(D11*$C$10) -> 5491.07 | E10: =(E11*$C$10) -> 5491.07 | F10: =(F11*$C$10) -> 0
D11: 0.5 | E11: 0.5
A12: 4 | B12: ='Orçamento Sintético'!D31 -> MOVIMENTAÇÃO DE TERRA | C12: =Resumo!E12 -> 9991.62 | D12: =(D13*$C$12) -> 0 | E12: =(E13*$C$12) -> 4995.81 | F12: =(F13*$C$12) -> 4995.81
E13: 0.5 | F13: 0.5
A14: 5 | B14: ='Orçamento Sintético'!D34 -> ORLA MARGINAL | C14: =Resumo!E13 -> 497378.12 | D14: =(D15*$C$14) -> 124344.53 | E14: =(E15*$C$14) -> 174082.34 | F14: =(F15*$C$14) -> 198951.25
D15: 0.25 | E15: 0.35 | F15: 0.4
A16: 6 | B16: ='Orçamento Sintético'!D49 -> ADMINISTRAÇÃO LOCAL | C16: =Resumo!E14 -> 22889.52 | D16: =(D17*$C$16) -> 7351.3569 | E16: =(E17*$C$16) -> 7381.5869 | F16: =(F17*$C$16) -> 8156.5762
D17: =((D6+D8+D10+D12+D14)/SUM($C$6:$C$15)) -> 0.32116693 | E17: =((E6+E8+E10+E12+E14)/SUM($C$6:$C$15)) -> 0.32248762 | F17: =((F6+F8+F10+F12+F14)/SUM($C$6:$C$15)) -> 0.35634545
A18: TOTAL | C18: =SUM(C6:C17) -> 595219.15
B19: ='Orçamento Sintético'!$D$52 -> 26 de agosto de 2025 | C19: Porcentagem | D19: =(D20/$C$18) -> 0.32116693 | E19: =(E20/$C$18) -> 0.32248762 | F19: =(F20/$C$18) -> 0.35634545
C20: Custo | D20: =(D6+D8+D10+D12+D14+D16) -> 191164.71 | E20: =(E6+E8+E10+E12+E14+E16) -> 191950.81 | F20: =(F6+F8+F10+F12+F14+F16) -> 212103.63
C21: Porcentagem Acumulado | D21: =D19 -> 0.32116693 | E21: =(E22/$C$18) -> 0.64365455 | F21: =(F22/$C$18) -> 1
C22: Custo Acumulado | D22: =D20 -> 191164.71 | E22: =(D22+E20) -> 383115.52 | F22: =(E22+F20) -> 595219.15
B27: ________________________________________ | C27: ____________________________________
B28: ='Orçamento Sintético'!D57 -> RAFAEL DOS SANTOS ARAUJO LIMA | C28: ='Orçamento Sintético'!D62 -> ALDENIR BARBOSA DO NASCIMENTO
B29: ='Orçamento Sintético'!D58 -> Eng. Civil - CREA/MS 20613D | C29: Prefeito Municipal

Sheet Composição
D2: OBRA: | E2: BANCOS: | G2: BDI
D3: ='Orçamento Sintético'!D3 -> EXECUÇÃO ORLA MARGINAL A MS-475 DE NOVO HORIZONTE DO SUL-MS ENDEREÇO: RODOVIA MS-475/ORLA MARGINAL, S/N, CENTRO PREFEITURA MUNICIPAL DE NOVO HORIZONTE DO SUL/MS | E3: ='Orçamento Sintético'!I3:I3 -> 0.2171 | G3: ='Orçamento Sintético'!I3 -> 0.2171
B5: COMPOSIÇÃO 1
B6: SINAPI | C6: CÓDIGO | D6: ALVENARIA DE VEDAÇÃO DE BLOCOS CERÂMICOS FURADOS NA HORIZONTAL DE 9X19X19 CM (ESPESSURA 30CM) E ARGAMASSA DE ASSENTAMENTO COM PREPARO EM BETONEIRA. | E6: M2 | F6: COEFICIENTE | G6: R$ UNIT. | H6: R$ TOTAL
B7: INSUMO | C7: 7271 | D7: BLOCO CERAMICO / TIJOLO VAZADO PARA ALVENARIA DE VEDACAO, 8 FUROS NA HORIZONTAL, DE 9 X 19 X 19 CM (L XA X C) | E7: UN | F7: =(75*1.1) -> 82.5 | G7: =VLOOKUP(C7,sinapi!A6:D14488,4,FALSE) -> 0.99 | H7: =TRUNC(G7*F7,2) -> 81.67 | I7: 0.99 | J7: =G7-I7 -> 0 | M7: 0.99 | N7: =G7-M7 -> 0
B8: COMPOSICAO | C8: 87292 | D8: ARGAMASSA TRAÇO 1:2:8 (EM VOLUME DE CIMENTO, CAL E AREIA MÉDIA ÚMIDA) PARA EMBOÇO/MASSA ÚNICA/ASSENTAMENTO DE ALVENARIA DE VEDAÇÃO, PREPARO MECÂNICO COM BETONEIRA 400 L. AF_08/2019 | E8: M3 | F8: =(0.0091*3) -> 0.0273 | G8: =VLOOKUP(C8,sinapi!A7:D14489,4,FALSE) -> 587.53 | H8: =TRUNC(G8*F8,2) -> 16.03 | M8: 587.53 | N8: =G8-M8 -> 0
B9: COMPOSICAO | C9: 88309 | D9: PEDREIRO COM ENCARGOS COMPLEMENTARES | E9: H | F9: =(1.61*2.4) -> 3.864 | G9: =VLOOKUP(C9,sinapi!A8:D14490,4,FALSE) -> 25.75 | H9: =TRUNC(G9*F9,2) -> 99.49 | M9: 25.75 | N9: =G9-M9 -> 0
B10: COMPOSICAO | C10: 88316 | D10: SERVENTE COM ENCARGOS COMPLEMENTARES | E10: H | F10: =(0.805*2.4) -> 1.932 | G10: =VLOOKUP(C10,sinapi!A9:D14491,4,FALSE) -> 20.74 | H10: =TRUNC(G10*F10,2) -> 40.06 | M10: 20.74 | N10: =G10-M10 -> 0
B11: TOTAL (R$): | H11: =SUM(H7:H10) -> 237.25
B13: COMPOSIÇÃO 2
B14: SINAPI | C14: CÓDIGO | D14: PILARETE DE CONCRETO ARMADO DE PROTEÇÃO DAS ESQUINAS D=15CM, H=80CM | E14: UNID | F14: COEFICIENTE | G14: R$ UNIT. | H14: R$ TOTAL
B15: COMPOSIÇÃO | C15: 88309 | D15: PEDREIRO COM ENCARGOS COMPLEMENTARES | E15: H | F15: 0.795 | G15: =VLOOKUP(C15,sinapi!A14:D14496,4,FALSE) -> 25.75 | H15: =TRUNC(G15*F15,2) -> 20.47 | M15: 25.75 | N15: =G15-M15 -> 0
B16: COMPOSIÇÃO | C16: 88316 | D16: SERVENTE COM ENCARGOS COMPLEMENTARES | E16: H | F16: 0.998 | G16: =VLOOKUP(C16,sinapi!A15:D14497,4,FALSE) -> 20.74 | H16: =TRUNC(G16*F16,2) -> 20.69 | M16: 20.74 | N16: =G16-M16 -> 0
B17: COMPOSIÇÃO | C17: 94970 | D17: CONCRETO FCK = 20MPA, TRAÇO 1:2,7:3 (EM MASSA SECA DE CIMENTO/ AREIA MÉDIA/ BRITA 1) - PREPARO MECÂNICO COM BETONEIRA 600 L. AF_05/2021 | E17: M3 | F17: =((PI()*0.15*0.15/4)*2) -> 0.035342917 | G17: =VLOOKUP(C17,sinapi!A16:D14498,4,FALSE) -> 462.01 | H17: =TRUNC(G17*F17,2) -> 16.32 | M17: 462.01 | N17: =G17-M17 -> 0
B18: INSUMO | C18: 42407 | D18: TRELICA NERVURADA (ESPACADOR), ALTURA = 120,0 MM, DIAMETRO DOS BANZOS INFERIORES E SUPERIOR = 6,0 MM, DIAMETRO DA DIAGONAL = 4,2 MM | E18: M | F18: 1.5 | G18: =VLOOKUP(C18,sinapi!A17:D14499,4,FALSE) -> 5.94 | H18: =TRUNC(G18*F18,2) -> 8.91 | M18: 5.94 | N18: =G18-M18 -> 0
B19: INSUMO | C19: 20065 | D19: TUBO PVC SERIE NORMAL, DN 150 MM, PARA ESGOTO PREDIAL (NBR 5688) | E19: M | F19: 1 | G19: =VLOOKUP(C19,sinapi!A18:D14500,4,FALSE) -> 39.97 | H19: =TRUNC(G19*F19,2) -> 39.97 | M19: 39.97 | N19: =G19-M19 -> 0
B20: TOTAL (R$): | H20: =SUM(H15:H19) -> 106.36
B22: COMPOSIÇÃO 3
B23: SINAPI | C23: CÓDIGO | D23: ESTACA BROCA DE CONCRETO, DIÂMETRO DE 25CM, ESCAVAÇÃO MANUAL COM TRADO CONCHA, SEM ARMADURA DE ARRANQUE | E23: M | F23: COEFICIENTE | G23: R$ UNIT. | H23: R$ TOTAL
B24: COMPOSIÇÃO | C24: 88309 | D24: PEDREIRO COM ENCARGOS COMPLEMENTARES | E24: H | F24: 0.795 | G24: =VLOOKUP(C24,sinapi!A23:D14505,4,FALSE) -> 25.75 | H24: =TRUNC(G24*F24,2) -> 20.47 | M24: 25.75 | N24: =G24-M24 -> 0
B25: COMPOSIÇÃO | C25: 88316 | D25: SERVENTE COM ENCARGOS COMPLEMENTARES | E25: H | F25: 0.998 | G25: =VLOOKUP(C25,sinapi!A24:D14506,4,FALSE) -> 20.74 | H25: =TRUNC(G25*F25,2) -> 20.69 | M25: 20.74 | N25: =G25-M25 -> 0
B26: COMPOSIÇÃO | C26: 94970 | D26: CONCRETO FCK = 20MPA, TRAÇO 1:2,7:3 (EM MASSA SECA DE CIMENTO/ AREIA MÉDIA/ BRITA 1) - PREPARO MECÂNICO COM BETONEIRA 600 L. AF_05/2021 | E26: M3 | F26: 0.062 | G26: =VLOOKUP(C26,sinapi!A25:D14507,4,FALSE) -> 462.01 | H26: =TRUNC(G26*F26,2) -> 28.64 | M26: 462.01 | N26: =G26-M26 -> 0
B27: TOTAL (R$): | H27: =SUM(H24:H26) -> 69.8
B29: COMPOSIÇÃO 4
B30: SINAPI | C30: CÓDIGO | D30: GUIA (MEIO-FIO) EM TRECHO RETO, CONFECCIONADA EM CONCRETO PRÉ-FABRICADO, DIMENSÕES 100X15X13X20 CM (COMPRIMENTO X BASE INFERIOR X BASE SUPERIOR X ALTURA), PARA URBANIZAÇÃO INTERNA DE EMPREENDIMENTOS, ARMADA. | E30: M | F30: COEFICIENTE | G30: R$ UNIT. | H30: R$ TOTAL
B31: COMPOSIÇÃO AGESUL | C31: 1701000200 | D31: CORTE MECANICO DE PAVIMENTO ASFALTICO OU PISO DE CONCRETO COM SERRA DE DISCO DIAMANTADO | E31: M | F31: =(0.95+0.1+0.95+0.1) -> 2.1 | G31: =VLOOKUP(C31,agesul!A30:D14512,4,FALSE) -> 3.16 | H31: =TRUNC(G31*F31,2) -> 6.63 | M31: 3.16 | N31: =G31-M31 -> 0
B32: COMPOSIÇÃO | C32: 93358 | D32: ESCAVAÇÃO MANUAL DE VALAS. AF_03/2016 | E32: M3 | F32: =(0.95*0.1*0.05) -> 0.00475 | G32: =VLOOKUP(C32,sinapi!A31:D14513,4,FALSE) -> 82.04 | H32: =TRUNC(G32*F32,2) -> 0.38 | M32: 82.04 | N32: =G32-M32 -> 0
B33: COMPOSIÇÃO | C33: 92802 | D33: CORTE E DOBRA DE AÇO CA-50, DIÂMETRO DE 8,0 MM. AF_06/2022 | E33: KG | F33: =(0.395*0.8) -> 0.316 | G33: =VLOOKUP(C33,sinapi!A32:D14514,4,FALSE) -> 10.2 | H33: =TRUNC(G33*F33,2) -> 3.22 | M33: 10.2 | N33: =G33-M33 -> 0
B34: COMPOSIÇÃO | C34: 94969 | D34: CONCRETO FCK = 15MPA, TRAÇO 1:2,7:3 (EM MASSA SECA DE CIMENTO/ AREIA MÉDIA/ BRITA 1) - PREPARO MECÂNICO COM BETONEIRA 600 L. AF_05/2021 | E34: M3 | F34: =(0.05*0.1*0.95) -> 0.00475 | G34: =VLOOKUP(C34,sinapi!A33:D14515,4,FALSE) -> 424.23 | H34: =TRUNC(G34*F34,2) -> 2.01 | M34: 424.23 | N34: =G34-M34 -> 0
B35: COMPOSIÇÃO | C35: 94275 | D35: ASSENTAMENTO DE GUIA (MEIO-FIO) EM TRECHO RETO, CONFECCIONADA EM CONCRETO PRÉ-FABRICADO, DIMENSÕES 100X15X13X20 CM (COMPRIMENTO X BASE INFERIOR X BASE SUPERIOR X ALTURA), PARA URBANIZAÇÃO INTERNA DE EMPREENDIMENTOS. AF_06/2016 | E35: M | F35: 1 | G35: =VLOOKUP(C35,sinapi!A34:D14516,4,FALSE) -> 40.37 | H35: =TRUNC(G35*F35,2) -> 40.37 | M35: 40.37 | N35: =G35-M35 -> 0
B36: COMPOSIÇÃO | C36: 102498 | D36: PINTURA DE MEIO-FIO COM TINTA BRANCA A BASE DE CAL (CAIAÇÃO). AF_05/2021 | E36: M2 | F36: =((0.2*1*2)+(0.1*1)+(0.14*0.2*2)) -> 0.556 | G36: =VLOOKUP(C36,sinapi!A35:D14517,4,FALSE) -> 1.55 | H36: =TRUNC(G36*F36,2) -> 0.86 | M36: 1.55 | N36: =G36-M36 -> 0
B37: COMPOSICAO | C37: 88309 | D37: PEDREIRO COM ENCARGOS COMPLEMENTARES | E37: H | F37: 0.05 | G37: =VLOOKUP(C37,sinapi!A36:D14518,4,FALSE) -> 25.75 | H37: =TRUNC(G37*F37,2) -> 1.28 | M37: 25.75 | N37: =G37-M37 -> 0
B38: COMPOSICAO | C38: 88316 | D38: SERVENTE COM ENCARGOS COMPLEMENTARES | E38: H | F38: 0.05 | G38: =VLOOKUP(C38,sinapi!A37:D14519,4,FALSE) -> 20.74 | H38: =TRUNC(G38*F38,2) -> 1.03 | M38: 20.74 | N38: =G38-M38 -> 0
B39: TOTAL (R$): | H39: =SUM(H31:H38) -> 55.78
B41: COMPOSIÇÃO 5
B42: SINAPI | C42: CÓDIGO | D42: ESTACA BROCA DE CONCRETO, DIÂMETRO DE 20CM, ESCAVAÇÃO MANUAL COM TRADO CONCHA, SEM ARMADURA DE ARRANQUE | E42: M | F42: COEFICIENTE | G42: R$ UNIT. | H42: R$ TOTAL
B43: COMPOSICAO | C43: 88309 | D43: PEDREIRO COM ENCARGOS COMPLEMENTARES | E43: H | F43: 0.486 | G43: =VLOOKUP(C43,sinapi!A42:D14524,4,FALSE) -> 25.75 | H43: =TRUNC(G43*F43,2) -> 12.51 | M43: 25.75 | N43: =G43-M43 -> 0
B44: COMPOSICAO | C44: 88316 | D44: SERVENTE COM ENCARGOS COMPLEMENTARES | E44: H | F44: 0.665 | G44: =VLOOKUP(C44,sinapi!A43:D14525,4,FALSE) -> 20.74 | H44: =TRUNC(G44*F44,2) -> 13.79 | M44: 20.74 | N44: =G44-M44 -> 0
B45: COMPOSICAO | C45: 94970 | D45: CONCRETO FCK = 20MPA, TRAÇO 1:2,7:3 (EM MASSA SECA DE CIMENTO/ AREIA MÉDIA/ BRITA 1) - PREPARO MECÂNICO COM BETONEIRA 600 L. AF_05/2021 | E45: M3 | F45: 0.043 | G45: =VLOOKUP(C45,sinapi!A44:D14526,4,FALSE) -> 462.01 | H45: =TRUNC(G45*F45,2) -> 19.86 | M45: 462.01 | N45: =G45-M45 -> 0
B46: TOTAL (R$): | H46: =SUM(H43:H45) -> 46.16
...

Sheet Memória de Cálculo
B2: OBRA:
B3: EXECUÇÃO ORLA MARGINAL A MS-475 DE NOVO HORIZONTE DO SUL-MS ENDEREÇO: RODOVIA MS-475/ORLA MARGINAL, S/N, CENTRO PREFEITURA MUNICIPAL DE NOVO HORIZONTE DO SUL/MS
A8: MEMÓRIA DE CÁLCULO
A9: ='Orçamento Sintético'!A6 -> Item | B9: ='Orçamento Sintético'!D6 -> Descrição | C9: ='Orçamento Sintético'!E6 -> Und | D9: ='Orçamento Sintético'!G6 -> MEMÓRIA DE CÁLCULO
A10: ='Orçamento Sintético'!A7 -> 1 | B10: ='Orçamento Sintético'!D7 -> SERVIÇOS PRELIMINARES
A11: ='Orçamento Sintético'!A8 -> 1.1 | B11: ='Orçamento Sintético'!D8 -> LOCAÇÃO COM CAVALETE COM ALTURA DE 1,00 M | C11: ='Orçamento Sintético'!E8 -> unid | D11: ='Orçamento Sintético'!G8 -> 14 unidades
A12: ='Orçamento Sintético'!A9 -> 1.2 | B12: ='Orçamento Sintético'!D9 -> PLACA DE OBRA EM CHAPA GALVANIZADA N. 22, ADESIVADA | C12: ='Orçamento Sintético'!E9 -> m² | D12: ='Orçamento Sintético'!G9 -> =2*4
A13: ='Orçamento Sintético'!A10 -> 1.3 | B13: ='Orçamento Sintético'!D10 -> LOCACAO DE CONTAINER 2,30 X 6,00 M, ALT. 2,50 M, COM 1 SANITARIO, PARA ESCRITORIO, COMPLETO, SEM DIVISORIAS INTERNAS, EXCLUSIVE TRANSPORTE/CARGA/DESCARGA | C13: ='Orçamento Sintético'!E10 -> mês | D13: ='Orçamento Sintético'!G10 -> 3 meses
A14: ='Orçamento Sintético'!A11 -> 1.4 | B14: ='Orçamento Sintético'!D11 -> MOBILIZACAO E DESMOBILIZACAO DE CONTAINER | C14: ='Orçamento Sintético'!E11 -> unid | D14: ='Orçamento Sintético'!G11 -> 1 unidade
A15: ='Orçamento Sintético'!A12 -> 1.5 | B15: ='Orçamento Sintético'!D12 -> PADRAO PROVISORIO TRIFASICO ATE 27 KW | C15: ='Orçamento Sintético'!E12 -> unid | D15: ='Orçamento Sintético'!G12 -> 1 unidade
A16: ='Orçamento Sintético'!A13 -> 1.6 | B16: ='Orçamento Sintético'!D13 -> INSTALACAO PROVISORIA DE AGUA E ESGOTO PARA OBRAS DE PORTE PEQUENO | C16: ='Orçamento Sintético'!E13 -> UN | D16: ='Orçamento Sintético'!G13 -> 1 unidade
A17: ='Orçamento Sintético'!A14 -> 1.7 | B17: ='Orçamento Sintético'!D14 -> LOCACAO DE CACAMBA (4M3) (7 DIAS) | C17: ='Orçamento Sintético'!E14 -> unid | D17: ='Orçamento Sintético'!G14 -> 4 locações
A18: ='Orçamento Sintético'!A15 -> 1.8 | B18: ='Orçamento Sintético'!D15 -> SINALIZAÇÃO DE SEGURANÇA COM CONE DE SINALIZACAO EM PVC RIGIDO COM FAIXA REFLETIVA, H = 70 / 76 CM | C18: ='Orçamento Sintético'!E15 -> UN | D18: ='Orçamento Sintético'!G15 -> 20 unidades
A19: ='Orçamento Sintético'!A16 -> 1.9 | B19: ='Orçamento Sintético'!D16 -> SINALIZAÇÃO DE SEGURANÇA COM TELA PLASTICA TECIDA LISTRADA BRANCA E LARANJA, TIPO GUARDA CORPO, EM POLIETILENO MONOFILADO, ROLO 1,20 X 50 M (L X C) | C19: ='Orçamento Sintético'!E16 -> M | D19: ='Orçamento Sintético'!G16 -> 862,60m de guias a executar com proteção
A20: ='Orçamento Sintético'!A17 -> 2 | B20: ='Orçamento Sintético'!D17 -> REMODELAÇÃO ESQUINA CANTEIRO CENTRAL
A21: ='Orçamento Sintético'!A18 -> 2.1 | B21: ='Orçamento Sintético'!D18 -> REMODELAÇÃO CANTEIRO
A22: ='Orçamento Sintético'!A19 -> 2.1.1 | B22: ='Orçamento Sintético'!D19 -> EXECUÇÃO DE PASSEIO (CALÇADA) OU PISO DE CONCRETO COM CONCRETO MOLDADO IN LOCO, FEITO EM OBRA, ACABAMENTO CONVENCIONAL, NÃO ARMADO. (10CM) | C22: ='Orçamento Sintético'!E19 -> m³ | D22: ='Orçamento Sintético'!G19 -> =((1,62*0,1)*13)
A23: ='Orçamento Sintético'!A20 -> 2.1.2 | B23: ='Orçamento Sintético'!D20 -> REMODELAÇÃO DE MEIO-FIO ELEVADO COM MUDANÇA DE SEÇÃO, ARMADO, COM SARJETA, ALTURA INICIAL DE 60CM E FINAL DE 35CM, SEÇÃO INICIAL 0,128M2 E SEÇÃO FINAL 0,09M2 , CONCRETO FCK=20MPA, MOLDADO NO LOCAL - MODELO ESQUINA MUDANÇA DE SEÇÃO | C23: ='Orçamento Sintético'!E20 -> UNID | D23: ='Orçamento Sintético'!G20 -> =(13)
A24: ='Orçamento Sintético'!A21 -> 2.1.3 | B24: ='Orçamento Sintético'!D21 -> GUIA (MEIO-FIO) E SARJETA CONJUGADOS DE CONCRETO, MOLDADA IN LOCO EM TRECHO CURVO COM EXTRUSORA, 45 CM BASE (15 CM BASE DA GUIA + 30 CM BASE DA SARJETA) X 22 CM ALTURA. AF_06/2016 | C24: ='Orçamento Sintético'!E21 -> m | D24: ='Orçamento Sintético'!G21 -> =(0,94*13)
A25: ='Orçamento Sintético'!A22 -> 2.1.4 | B25: ='Orçamento Sintético'!D22 -> PILARETE DE CONCRETO ARMADO DE PROTEÇÃO DAS ESQUINAS D=15CM, H=80CM | C25: ='Orçamento Sintético'!E22 -> unid | D25: ='Orçamento Sintético'!G22 -> =(3*13)
A26: ='Orçamento Sintético'!A23 -> 2.1.5 | B26: ='Orçamento Sintético'!D23 -> PINTURA DE MEIO-FIO COM TINTA BRANCA A BASE DE CAL (CAIAÇÃO). AF_05/2021 | C26: ='Orçamento Sintético'!E23 -> m² | D26: ='Orçamento Sintético'!G23 -> =(((4,04+0,94)*(0,15*0,1))*13)
A27: ='Orçamento Sintético'!A24 -> 3 | B27: ='Orçamento Sintético'!D24 -> CONSTRUÇÃO PÓRTICOS
A28: ='Orçamento Sintético'!A25 -> 3.1 | B28: ='Orçamento Sintético'!D25 -> ACABAMENTO
A29: ='Orçamento Sintético'!A26 -> 3.1.1 | B29: ='Orçamento Sintético'!D26 -> EMBOCO OU MASSA UNICA EM ARGAMASSA TRACO 1:2:8, PREPARO MANUAL, ESP=25MM | C29: ='Orçamento Sintético'!E26 -> M2 | D29: ='Orçamento Sintético'!G26 -> =(((10,8*2)+(3,6*0,3)+(2,95*0,3)+(2,4*0,3*2)+(5,6*0,3)+(7,4*0,3))*8)
A30: ='Orçamento Sintético'!A27 -> 3.1.2 | B30: ='Orçamento Sintético'!D27 -> APLICAÇÃO DE FUNDO SELADOR ACRÍLICO EM PAREDES, UMA DEMÃO. AF_06/2014 | C30: ='Orçamento Sintético'!E27 -> m² | D30: ='Orçamento Sintético'!G27 -> =(((10,8*2)+(3,6*0,3)+(2,95*0,3)+(2,4*0,3*2)+(5,6*0,3))*8)
A31: ='Orçamento Sintético'!A28 -> 3.1.3 | B31: ='Orçamento Sintético'!D28 -> APLICAÇÃO MANUAL DE PINTURA COM TINTA LÁTEX ACRÍLICA EM PAREDES, DUAS DEMÃOS. AF_06/2014 | C31: ='Orçamento Sintético'!E28 -> m² | D31: ='Orçamento Sintético'!G28 -> =(((10,8*2)+(3,6*0,3)+(2,95*0,3)+(2,4*0,3*2)+(5,6*0,3))*8)
A32: ='Orçamento Sintético'!A29 -> 3.1.4 | B32: ='Orçamento Sintético'!D29 -> TEXTURA ACRÍLICA, APLICAÇÃO MANUAL EM PAREDE, UMA DEMÃO. AF_04/2023 | C32: ='Orçamento Sintético'!E29 -> m² | D32: ='Orçamento Sintético'!G29 -> =(((10,8*2)+(3,6*0,3)+(2,95*0,3)+(2,4*0,3*2)+(5,6*0,3))*8)
A33: ='Orçamento Sintético'!A30 -> 3.1.5 | B33: ='Orçamento Sintético'!D30 -> CHAPIM (RUFO CAPA) EM AÇO GALVANIZADO, CORTE 33. AF_11/2020 | C33: ='Orçamento Sintético'!E30 -> m | D33: ='Orçamento Sintético'!G30 -> =(7,5*8)
A34: ='Orçamento Sintético'!A31 -> 4 | B34: ='Orçamento Sintético'!D31 -> MOVIMENTAÇÃO DE TERRA
A35: ='Orçamento Sintético'!A32 -> 4.1 | B35: ='Orçamento Sintético'!D32 -> COMPACTAÇÃO MECÂNICA DE SOLO PARA EXECUÇÃO DE RADIER, PISO DE CONCRETO OU LAJE SOBRE SOLO, COM COMPACTADOR DE SOLOS A PERCUSSÃO. AF_09/2021 | C35: ='Orçamento Sintético'!E32 -> m² | D35: ='Orçamento Sintético'!G32 -> =(176,32+1381,46+(6*1,63))
A36: ='Orçamento Sintético'!A33 -> 4.2 | B36: ='Orçamento Sintético'!D33 -> ESPALHAMENTO DE TERRA | C36: ='Orçamento Sintético'!E33 -> m³ | D36: ='Orçamento Sintético'!G33 -> =((176,32+1381,46+(6*1,63))*0,1)
A37: ='Orçamento Sintético'!A34 -> 5 | B37: ='Orçamento Sintético'!D34 -> ORLA MARGINAL
A38: ='Orçamento Sintético'!A35 -> 5.1 | B38: ='Orçamento Sintético'!D35 -> DEMOLIÇÃO DE GUIAS, SARJETAS OU SARJETÕES, DE FORMA MECANIZADA, SEM REAPROVEITAMENTO. AF_09/2023 | C38: ='Orçamento Sintético'!E35 -> m | D38: ='Orçamento Sintético'!G35 -> =((215,8+125,8+202,8+90,8+145,8+176,8+176,8))
A39: ='Orçamento Sintético'!A36 -> 5.2 | B39: ='Orçamento Sintético'!D36 -> TRANSPORTE COM CAMINHÃO BASCULANTE DE 10 M³, EM VIA URBANA PAVIMENTADA, DMT ATÉ 30 KM (UNIDADE: M3XKM). AF_07/2020 (BOTA-FORA) | C39: ='Orçamento Sintético'!E36 -> m³xkm | D39: ='Orçamento Sintético'!G36 -> =(5*69,78)
A40: ='Orçamento Sintético'!A37 -> 5.3 | B40: ='Orçamento Sintético'!D37 -> PILARETE COM TRILHO TR-25 DE PROTEÇÃO DE VIAS | C40: ='Orçamento Sintético'!E37 -> unid | D40: ='Orçamento Sintético'!G37 -> =(2*14)
A41: ='Orçamento Sintético'!A38 -> 5.4 | B41: ='Orçamento Sintético'!D38 -> PISO PODOTÁTIL DIRECIONAL, DE CONCRETO, ASSENTADO SOBRE ARGAMASSA | C41: ='Orçamento Sintético'!E38 -> m² | D41: ='Orçamento Sintético'!G38 -> =(57,16+54,82+35,57+26,47)
A42: ='Orçamento Sintético'!A39 -> 5.5 | B42: ='Orçamento Sintético'!D39 -> EXECUÇÃO DE PAVIMENTO EM PISO INTERTRAVADO, COM BLOCO RETANGULAR COR NATURAL DE 20 X 10 CM, ESPESSURA 6 CM. AF_10/2022 | C42: ='Orçamento Sintético'!E39 -> m² | D42: ='Orçamento Sintético'!G39 -> =(453,07+430,93+276,93+210,53)
A43: ='Orçamento Sintético'!A40 -> 5.6 | B43: ='Orçamento Sintético'!D40 -> TRANSPORTE COM CAMINHÃO CARROCERIA 9T, EM VIA URBANA PAVIMENTADA, DMT ATÉ 30KM (UNIDADE: TXKM). AF_07/2020 | C43: ='Orçamento Sintético'!E40 -> Txkm | D43: ='Orçamento Sintético'!G40 -> =((0,06*0,2*0,1*2,4)*(50*1371,46)*30/3)
A44: ='Orçamento Sintético'!A41 -> 5.7 | B44: ='Orçamento Sintético'!D41 -> TRANSPORTE COM CAMINHÃO CARROCERIA 9T, EM VIA URBANA PAVIMENTADA, ADICIONAL PARA DMT EXCEDENTE A 30 KM (UNIDADE: TXKM). AF_07/2020 | C44: ='Orçamento Sintético'!E41 -> Txkm | D44: ='Orçamento Sintético'!G41 -> =((0,06*0,2*0,1*2,4)*(50*1371,46)*17,8/3)
A45: ='Orçamento Sintético'!A42 -> 5.8 | B45: ='Orçamento Sintético'!D42 -> TRANSPORTE COM CAMINHÃO BASCULANTE DE 18 M³, EM VIA URBANA PAVIMENTADA, DMT ATÉ 30 KM (UNIDADE: M3XKM). AF_07/2020 (AREIA PISO INTERTRAVADO) | C45: ='Orçamento Sintético'!E42 -> m³xkm | D45: ='Orçamento Sintético'!G42 -> =((0,0568*1371,46*1,375)*30/3)
...

Sheet sinapi
B1: SINAPI - Sistema Nacional de Pesquisa de Custos e Índices da Construção Civil
B2: RELATÓRIO DE CUSTOS DE COMPOSIÇÕES - SEM ENCARGOS SOCIAIS
A3: 06/2025 | B3: Mês de Referência:
A4: 11/07/2025 | B4: Data de emissão: | D4: MS
D5: CAMPO GRANDE
A6: %AS (porcentagem Atribuído São Paulo) corresponde a porcentagem do custo total da | D6: 1.0752
A7: composição que foi obtida utilizando preços de insumos de São Paulo por indisponibilidade | D7: 0.648
A8: dos preços de insumos necessários à composição no estado em questão. Custo zerado (hífen)
A9: indica que pelo menos um dos itens da composição não tem custo/preço. | D9: MS
A10: Código da Composição | B10: Descrição | C10: Unidade | D10: Custo (R$)
A11: 104658 | B11: PISO PODOTÁTIL DE ALERTA OU DIRECIONAL, DE CONCRETO, ASSENTADO SOBRE ARGAMASSA. AF_03/2024 | C11: M2 | D11: 165.62
A12: 105002 | B12: RAMPA DE ACESSIBILIDADE EM CONCRETO MOLDADO IN LOCO, EM CALÇADA NOVA COM LARGURA MAIOR OU IGUAL À 3,00 M, FCK 25MPA, COM PISO PODOTÁTIL. AF_03/2024 | C12: UN | D12: 681.99
A13: 105004 | B13: RAMPA DE ACESSIBILIDADE EM CONCRETO MOLDADO IN LOCO, EM CALÇADA NOVA COM LARGURA MENOR À 3,00 M, FCK 25MPA, COM PISO PODOTÁTIL. AF_03/2024 | C13: M2 | D13: 116.27
A14: 105003 | B14: RAMPA DE ACESSIBILIDADE EM CONCRETO MOLDADO IN LOCO, EM CALÇADA PRÉ EXISTENTE COM LARGURA MAIOR OU IGUAL À 3,00 M, FCK 25MPA, COM PISO PODOTÁTIL. AF_03/2024 | C14: UN | D14: 1114.79
A15: 105005 | B15: RAMPA DE ACESSIBILIDADE EM CONCRETO MOLDADO IN LOCO, EM CALÇADA PRÉ EXISTENTE COM LARGURA MENOR À 3,00 M, FCK 25MPA, COM PISO PODOTÁTIL. AF_03/2024 | C15: M2 | D15: 196.39
A16: 105006 | B16: RAMPA DE ACESSIBILIDADE EM CONCRETO PRÉ MOLDADO, EM CALÇADA NOVA COM LARGURA MAIOR OU IGUAL À 3,00 M, FCK 25MPA, COM PISO PODOTÁTIL. AF_03/2024 | C16: UN | D16: 0
A17: 104999 | B17: RAMPA DE ACESSIBILIDADE EM CONCRETO PRÉ MOLDADO, EM CALÇADA PRÉ EXISTENTE COM LARGURA MAIOR OU IGUAL À 3,00 M, FCK 25MPA, COM PISO PODOTÁTIL. AF_03/2024 | C17: UN | D17: 0
A18: 105000 | B18: RAMPA DE ACESSIBILIDADE PARA ACESSO A EDIFICAÇÕES COM INCLINAÇÃO DE 8,33% EM CONCRETO MOLDADO IN LOCO, COM LARGURA DE 1,20M, FCK 25MPA, NÃO ARMADA, COM JUNTA A CADA 2M COM CORTE À SECO. AF_03/2024 | C18: M | D18: 1333.33
A19: 105001 | B19: RAMPA DE ACESSIBILIDADE PARA ACESSO A EDIFICAÇÕES COM INCLINAÇÃO DE 8,33% EM CONCRETO MOLDADO IN LOCO, COM LARGURA DE 1,50M, FCK 25MPA, NÃO ARMADA, COM JUNTA A CADA 2M COM CORTE À SECO. AF_03/2024 | C19: M | D19: 1366.33
A20: 89306 | B20: ALVENARIA ESTRUTURAL DE BLOCOS CERÂMICOS 14X19X29, (ESPESSURA DE 14 CM), UTILIZANDO COLHER DE PEDREIRO E ARGAMASSA DE ASSENTAMENTO COM PREPARO EM BETONEIRA. AF_03/2023 | C20: M2 | D20: 98.38
A21: 89307 | B21: ALVENARIA ESTRUTURAL DE BLOCOS CERÂMICOS 14X19X29, (ESPESSURA DE 14 CM), UTILIZANDO COLHER DE PEDREIRO E ARGAMASSA DE ASSENTAMENTO COM PREPARO MANUAL. AF_03/2023 | C21: M2 | D21: 100.16
A22: 89290 | B22: ALVENARIA ESTRUTURAL DE BLOCOS CERÂMICOS 14X19X29, (ESPESSURA DE 14 CM), UTILIZANDO PALHETA E ARGAMASSA DE ASSENTAMENTO COM PREPARO EM BETONEIRA. AF_03/2023 | C22: M2 | D22: 83.19
... A9733: 103548 | B9733: VÁLVULA REDUTORA DE PRESSÃO DE FERRO FUNDIDO PARA REDE DE ÁGUA, DN 80 MM, JUNTA FLANGEADA. AF_12/2021 | C9733: UN | D9733: 0
A9734: Código do Insumo | B9734: Descrição do Insumo | C9734: Unidade | D9734: MS
A9735: 45333 | B9735: ABERTURA PARA ENCAIXE DE CUBA OU LAVATORIO EM BANCADA DE MARMORE/ GRANITO OU OUTRO TIPO DE PEDRA NATURAL | C9735: UN | D9735: 213.23
A9736: 11270 | B9736: ABRACADEIRA DE LATAO PARA FIXACAO DE CABO PARA-RAIO, DIMENSOES 32 X 24 X 24 MM | C9736: UN | D9736: 3
A9737: 412 | B9737: ABRACADEIRA DE NYLON PARA AMARRACAO DE CABOS, COMPRIMENTO DE *230* X *7,6* MM | C9737: UN | D9737: 1.49
A9738: 414 | B9738: ABRACADEIRA DE NYLON PARA AMARRACAO DE CABOS, COMPRIMENTO DE 100 X 2,5 MM | C9738: UN | D9738: 0.09
A9739: 410 | B9739: ABRACADEIRA DE NYLON PARA AMARRACAO DE CABOS, COMPRIMENTO DE 150 X *3,6* MM | C9739: UN | D9739: 0.23
A9740: 411 | B9740: ABRACADEIRA DE NYLON PARA AMARRACAO DE CABOS, COMPRIMENTO DE 200 X *4,6* MM | C9740: UN | D9740: 0.29
A9741: 408 | B9741: ABRACADEIRA DE NYLON PARA AMARRACAO DE CABOS, COMPRIMENTO DE 390 X *4,6* MM | C9741: UN | D9741: 1.44
A9742: 39131 | B9742: ABRACADEIRA EM ACO PARA AMARRACAO DE ELETRODUTOS, TIPO D, COM 1 1/2" E CUNHA DE FIXACAO | C9742: UN | D9742: 5.73
A9743: 394 | B9743: ABRACADEIRA EM ACO PARA AMARRACAO DE ELETRODUTOS, TIPO D, COM 1 1/2" E PARAFUSO DE FIXACAO | C9743: UN | D9743: 5.8
A9744: 39130 | B9744: ABRACADEIRA EM ACO PARA AMARRACAO DE ELETRODUTOS, TIPO D, COM 1 1/4" E CUNHA DE FIXACAO | C9744: UN | D9744: 5.23
A9745: 395 | B9745: ABRACADEIRA EM ACO PARA AMARRACAO DE ELETRODUTOS, TIPO D, COM 1 1/4" E PARAFUSO DE FIXACAO | C9745: UN | D9745: 5.59
A9746: 39129 | B9746: ABRACADEIRA EM ACO PARA AMARRACAO DE ELETRODUTOS, TIPO D, COM 1" E CUNHA DE FIXACAO | C9746: UN | D9746: 3.22
... A9778: 36246 | B9778: ACABAMENTO SIMPLES/CONVENCIONAL PARA FORRO PVC, TIPO "U" OU "C", COR BRANCA, COMPRIMENTO 6 M | C9778: M | D9778: 5.24
A9779: 37600 | B9779: ACESSORIO DE LIGACAO NAO ELETRICO PARA CARGAS EXPLOSIVAS, TUBO DE 6 M | C9779: UN
A9780: 37599 | B9780: ACESSORIO INICIADOR NAO ELETRICO, TUBO DE 6 M, TEMPO DE RETARDO DE *160* MS | C9780: UN
A9781: 1 | B9781: ACETILENO - RECARGA DE GAS PARA CILINDRO (NAO INCLUI TROCA/MANUTENCAO DO CILINDRO) | C9781: KG | D9781: 100
...

Sheet agesul
A1: AGENCIA ESTADUAL DE GESTAO DE EMPREENDIMENTOS - AGESUL
B2: BOLETIM DE PRECOS SEM BDI (SINAPI/AGESUL) - JUNHO/2025 (LEIS SOCIAIS - 107,52%) - MOEDA: REAL | D2: NÃO DESONERADO
B5: CANTEIRO DE OBRAS
A7: CODIGO | B7: S E R V I C O S | D7: TOTAL
B9: * CANTEIRO DE OBRAS - SERVICOS GERAIS
A10: 101001101 | B10: PLACA DE OBRA EM CHAPA GALVANIZADA N. 22, ADESIVADA | C10: M2 | D10: 508.06
A11: 101001106 | B11: SINAPI - 98524 - LIMPEZA MANUAL DE VEGETACAO EM TERRENO COM ENXADA. AF_03/2024 | C11: M2 | D11: 4.42
A12: 101001111 | B12: REGULARIZACAO DO SOLO COM IRREGULARIDADES ATE 0,20 M | C12: M2 | D12: 8.29
A13: 101001116 | B13: SINAPI - 100575 - REGULARIZACAO DE SUPERFICIES COM MOTONIVELADORA. AF_09/2024 | C13: M2 | D13: 0.58
A14: 101001121 | B14: SINAPI - 98525 - LIMPEZA MECANIZADA DE CAMADA VEGETAL, VEGETACAO E PEQUENAS ARVORES (DIAMETRO DE TRONCO MENOR QUE 0,20 M), COM TRATOR DE ESTEIRAS. AF_03/2024 | C14: M2 | D14: 0.66
A15: 101001126 | B15: SINAPI - 99059 - LOCACAO CONVENCIONAL DE OBRA, UTILIZANDO GABARITO DE TABUAS CORRIDAS PONTALETADAS A CADA 2,00M - 2 UTILIZACOES. AF_03/2024 | C15: M | D15: 60.23
A16: 101001128 | B16: FECHAMENTO PROVISORIO UTILIZANDO TELA PLASTICA LARANJA, TIPO TAPUME PARA SINALIZACAO, MALHA RETANGULAR, ROLO 1.20 X 50 M (L X C) FIXADOS EM PONTALETES 7,5 X 7,5CM | C16: M | D16: 27.43
A17: 101001131 | B17: TAPUME COM TELHA TRAPEZOIDAL EM ACO GALVANIZADO, ESP=0,50MM, ESTRUTURA EM MADEIRA NAO APARELHADA (REAPROVEITAMENTO DA TELHA DE 3X), INCLUSO PINTURA LATEX EXTERNAMENTE | C17: M2 | D17: 74.92
A18: 101001136 | B18: PORTAO PARA TAPUME COM TELHA TRAPEZOIDAL EM ACO GALVANIZADO, ESP=0,5MM, EM ESTRUTURA DE MADEIRA, INCLUSIVE FERRAGENS (REAPROVEITAMENTO DA TELHA DE 3X), INCLUSO PINTURA LATEX EXTERNAMENTE | C18: M2 | D18: 79.91
A19: 101001141 | B19: EXECUCAO DE ESCRITORIO EM CANTEIRO DE OBRAS, FORA DA PROJECAO DA LAJE, EM CHAPA DE MADEIRA COMPENSADA, NAO INCLUSO MOBILIARIO E EQUIPAMENTOS | C19: M2 | D19: 1035.89
A20: 101001146 | B20: EXECUCAO DE ALMOXARIFADO EM CANTEIRO DE OBRAS, FORA DA PROJECAO DA LAJE, EM CHAPA DE MADEIRA COMPENSADA, NAO INCLUSO MOBILIARIO E EQUIPAMENTOS | C20: M2 | D20: 655.48
A21: 101001151 | B21: EXECUCAO DE REFEITORIO EM CANTEIRO DE OBRAS, FORA DA PROJECAO DA LAJE, EM CHAPA DE MADEIRA COMPENSADA, NAO INCLUSO MOBILIARIO E EQUIPAMENTOS | C21: M2 | D21: 692.57
... A44: 101001256 | B44: BAIA PARA AGREGADOS DESCOBERTA, MEDINDO (3,0 X 3,0 X 0,9)M, PAREDES EM CHAPA DE COMPENSADO RESINADA 6MM, ESTRUTURADA COM CAIBROS, PISO EM TERRENO NATURAL, REGULARIZADO E COMPACTADO | C44: UN | D44: 662.62
B46: * CANTEIRO DE OBRAS - INSTALACOES HIDRAULICAS
A47: 101002100 | B47: INSTALACAO PROVISORIA DE AGUA E ESGOTO PARA OBRAS DE PORTE PEQUENO | C47: UN | D47: 2381.01
A48: 101002101 | B48: SINAPI - 95635 - KIT CAVALETE PARA MEDICAO DE AGUA - ENTRADA PRINCIPAL, EM PVC 25 MM (3/4") - FORNECIMENTO E INSTALACAO (EXCLUSIVE HIDROMETRO). AF_03/2024 | C48: UN | D48: 206.9
A49: 101002106 | B49: SINAPI - 95675 - HIDROMETRO DN 3/4", 5,0 M3/H - FORNECIMENTO E INSTALACAO. AF_03/2024 | C49: UN | D49: 167.64
