Workbook
Name ___sub1: #REF!
Name ___sub1: #REF!
Name ___sub2: #REF!
Name ___sub2: #REF!
Name ___sub3: #REF!
Name ___sub3: #REF!
Name _0: "$#REF!.$N$2:$N$2"
Name _i: #REF!
Name _i: #REF!
Name _i_2: "FINANCEIRO.$#REF!$#REF!"
Name _l: #REF!
Name _l: #REF!
Name _l_2: "FINANCEIRO.$#REF!$#REF!"
Name _s: #REF!
Name _s: #REF!
Name _s_2: "FINANCEIRO.$#REF!$#REF!"
Name _sub1: #REF!
Name _sub1: #REF!
Name _sub2: #REF!
Name _sub2: #REF!
Name _sub3: #REF!
Name _sub3: #REF!
Name _t: #REF!
Name _t: #REF!
Name _t_2: "FINANCEIRO.$#REF!$#REF!"
Name a: #REF!
Name Acréscimo_de_hora_extra: #REF!
Name Acréscimo_feriado: #REF!
Name Adicional_noturno: #REF!
Name Ajudante_diu_cap_mec: #REF!
Name Ajudante_diu_cap_mec_res: #REF!
Name Ajudante_diu_eq_padrão: #REF!
Name Ajudante_diu_eq_padrão_res: #REF!
Name Ajudante_diu_lav_vias: #REF!
Name Ajudante_diu_lav_vias_res: #REF!
Name Ajudante_diu_op_aterro: #REF!
Name Ajudante_diu_op_aterro_res: #REF!
Name Ajudante_diu_usi_rec_comp: #REF!
Name Ajudante_diu_usi_rec_comp_res: #REF!
Name Ajudante_diu_usi_tra_RSSS: #REF!
Name Ajudante_diu_usi_tra_RSSS_res: #REF!
Name Ajudante_not_cap_mec: #REF!
Name Ajudante_not_cap_mec_res: #REF!
Name Ajudante_not_eq_padrão: #REF!
Name Ajudante_not_eq_padrão_res: #REF!
Name Ajudante_not_lav_vias: #REF!
Name Ajudante_not_lav_vias_res: #REF!
Name Ajudante_not_op_aterro: #REF!
Name Ajudante_not_op_aterro_res: #REF!
Name Ajudante_not_usi_rec_comp: #REF!
Name Ajudante_not_usi_rec_comp_res: #REF!
Name Ajudante_not_usi_tra_RSSS: #REF!
Name Ajudante_not_usi_tra_RSSS_res: #REF!
Name Análise: #REF!
Name AnimCapa: #REF!
Name AnimDetalhes: #REF!
Name Apoio: #REF!
Name AREA: #REF!
Name Área_impressão_IM_1: "$#REF!.$B$2:$L$41"
Name Área_impressão_IM_2: "$CRONO.$#REF!$#REF!:$#REF!$#REF!"

Sheet ANEXO V
B2: PREFEITURA MUNICIPAL DE SANTANA DO PARAÍSO SECRETARIA MUNICIPAL DE OBRAS, SERVIÇOS URBANOS E MEIO AMBIENTE
B3: ='MEMORIA DE CAL.'!B5 -> OBRA: OBRA DE DRENAGEM E PAVIMENTAÇÃO ASFALTICA NO BAIRRO ÁGUAS CLARAS NO MUNICÍPIO DE SANTANA DO PARAÍSO/MG
B4: ='MEMORIA DE CAL.'!B6 -> ENDEREÇO DA OBRA: RUA AVENCA, RUA TULIPA E RUA ROSA,BAIRRO AGUAS CLARAS - SANTANA DO PARAÍSO - MG.
B5: ='MEMORIA DE CAL.'!B7 -> PRAZO DE EXECUÇÃO: 03 MESES | J5: ( ) COM DESONERAÇÃO
B6: ='MEMORIA DE CAL.'!B8 -> BASES ORÇAMENTÁRIAS: SINAPI ABRIL/2024 - SEM DESONERAÇÃO; SICRO MG JAN/2026; SUDECAP 10/2025 - SEM DESONERAÇÃO; SEINFRA 01/2026 REGIÃO LESTE - SEM DESONERAÇÃO. | J6: ( ) SEM DESONERAÇÃO
J7: BDI:
B8: ANEXO V - MODELO DE PLANILHA ORÇAMENTÁRIA
B9: ITEM | C9: BASE DE REFERÊNCIA | D9: CÓDIGO | E9: DESCRIÇÃO | F9: UND | G9: QUANT. | H9: VALOR UNITÁRIO | K9: VALOR TOTAL ORÇAMENTO C/ BDI
H10: SEM BDI | I10: TOTAL S/ BDI | J10: COM BDI
B11: 1 | E11: =VLOOKUP($B11,'MEMORIA DE CAL.'!$B:$M,4,FALSE) -> ADMINISTRAÇÃO LOCAL
B12: 1.1 | C12: =VLOOKUP($B12,'MEMORIA DE CAL.'!$B:$M,2,FALSE) -> COMPOSIÇÃO | D12: =VLOOKUP($B12,'MEMORIA DE CAL.'!$B:$M,3,FALSE) -> CPU-001 | E12: =VLOOKUP($B12,'MEMORIA DE CAL.'!$B:$M,4,FALSE) -> ADMINISTRAÇÃO LOCAL DA OBRA | F12: =VLOOKUP($B12,'MEMORIA DE CAL.'!$B:$M,5,FALSE) -> UNID. | G12: =VLOOKUP($B12,'MEMORIA DE CAL.'!$B:$M,11,FALSE) -> #REF!
B13: 2 | E13: =VLOOKUP($B13,'MEMORIA DE CAL.'!$B:$M,4,FALSE) -> INSTALAÇÕES INICIAIS DA OBRA
B14: 2.1 | C14: =VLOOKUP($B14,'MEMORIA DE CAL.'!$B:$M,2,FALSE) -> SEINFRA | D14: =VLOOKUP($B14,'MEMORIA DE CAL.'!$B:$M,3,FALSE) -> ED-28427 | E14: =VLOOKUP($B14,'MEMORIA DE CAL.'!$B:$M,4,FALSE) -> FORNECIMENTO E COLOCAÇÃO DE PLACA DE OBRA EM CHAPA GALVANIZADA #26, ESP. 0,45MM, DIMENSÃO (3X1,5)M, PLOTADA COM ADESIVO VINÍLICO, AFIXADA COM REBITES 4,8X40MM, EM ESTRUTURA METÁLICA DE METALON 20X20MM, ESP. 1,25MM, INCLUSIVE SUPORTE EM EUCALIPTO AUTOCLAVADO PINTADO COM TINTA PVA DUAS (2) DEMÃOS | F14: =VLOOKUP($B14,'MEMORIA DE CAL.'!$B:$M,5,FALSE) -> UN | G14: =VLOOKUP($B14,'MEMORIA DE CAL.'!$B:$M,11,FALSE) -> 1
B15: 2.2 | C15: =VLOOKUP($B15,'MEMORIA DE CAL.'!$B:$M,2,FALSE) -> SEINFRA | D15: =VLOOKUP($B15,'MEMORIA DE CAL.'!$B:$M,3,FALSE) -> ED-50137 | E15: =VLOOKUP($B15,'MEMORIA DE CAL.'!$B:$M,4,FALSE) -> MOBILIZAÇÃO E DESMOBILIZAÇÃO DE CONTAINER, INCLUSIVE CARGA, DESCARGA E TRANSPORTE EM CAMINHÃO CARROCERIA COM GUINDAUTO (MUNCK), EXCLUSIVE LOCAÇÃO DO CONTAINER | F15: =VLOOKUP($B15,'MEMORIA DE CAL.'!$B:$M,5,FALSE) -> UN | G15: =VLOOKUP($B15,'MEMORIA DE CAL.'!$B:$M,11,FALSE) -> 1
B16: 2.3 | C16: =VLOOKUP($B16,'MEMORIA DE CAL.'!$B:$M,2,FALSE) -> SEINFRA | D16: =VLOOKUP($B16,'MEMORIA DE CAL.'!$B:$M,3,FALSE) -> ED-16358 | E16: =VLOOKUP($B16,'MEMORIA DE CAL.'!$B:$M,4,FALSE) -> LIGAÇÕES PROVISÓRIAS PARA CONTAINER TIPO 3 (CORRESPONDENTE AO CÓDIGO ED-16350) | F16: =VLOOKUP($B16,'MEMORIA DE CAL.'!$B:$M,5,FALSE) -> UN | G16: =VLOOKUP($B16,'MEMORIA DE CAL.'!$B:$M,11,FALSE) -> 1
B17: 2.4 | C17: =VLOOKUP($B17,'MEMORIA DE CAL.'!$B:$M,2,FALSE) -> SEINFRA | D17: =VLOOKUP($B17,'MEMORIA DE CAL.'!$B:$M,3,FALSE) -> ED-16350 | E17: =VLOOKUP($B17,'MEMORIA DE CAL.'!$B:$M,4,FALSE) -> LOCAÇÃO DE CONTAINER COM ISOLAMENTO TÉRMICO, TIPO 3, PARA DEPÓSITO/FERRAMENTARIA DE OBRA, COM MEDIDAS REFERENCIAIS DE (6) METROS COMPRIMENTO, (2,3) METROS LARGURA E (2,5) METROS ALTURA ÚTIL INTERNA, INCLUSIVE LIGAÇÕES ELÉTRICAS INTERNAS, EXCLUSIVE MOBILIZAÇÃO/DESMOBILIZAÇÃO E LIGAÇÕES PROVISÓRIAS EXTERNAS | F17: =VLOOKUP($B17,'MEMORIA DE CAL.'!$B:$M,5,FALSE) -> MÊS | G17: =VLOOKUP($B17,'MEMORIA DE CAL.'!$B:$M,11,FALSE) -> 3
B18: 2.5 | C18: =VLOOKUP($B18,'MEMORIA DE CAL.'!$B:$M,2,FALSE) -> SEINFRA | D18: =VLOOKUP($B18,'MEMORIA DE CAL.'!$B:$M,3,FALSE) -> ED-50155 | E18: =VLOOKUP($B18,'MEMORIA DE CAL.'!$B:$M,4,FALSE) -> LOCAÇÃO DE BANHEIRO QUÍMICO, DIMENSÃO (110X120X230)CM, LINHA PADRÃO, CONTENDO UMA (1) PIA/HIGIENIZADOR DE MÃOS, INCLUSIVE MANUTENÇÃO E MOBILIZAÇÃO/DESMOBILIZAÇÃO | F18: =VLOOKUP($B18,'MEMORIA DE CAL.'!$B:$M,5,FALSE) -> MÊS | G18: =VLOOKUP($B18,'MEMORIA DE CAL.'!$B:$M,11,FALSE) -> 3
B19: 3 | E19: =VLOOKUP($B19,'MEMORIA DE CAL.'!$B:$M,4,FALSE) -> TERRAPLENAGEM
B20: 3.1 | C20: =VLOOKUP($B20,'MEMORIA DE CAL.'!$B:$M,2,FALSE) -> SEINFRA | D20: =VLOOKUP($B20,'MEMORIA DE CAL.'!$B:$M,3,FALSE) -> ED-51103 | E20: =VLOOKUP($B20,'MEMORIA DE CAL.'!$B:$M,4,FALSE) -> ESCAVAÇÃO MECÂNICA HORIZONTAL, COM TRATOR DE ESTEIRA, EM MATERIAL DE 1ª CATEGORIA, INCLUSIVE AFASTAMENTO E EMPILHAMENTO COM DISTÂNCIA MÁXIMA DE ATÉ CINQUENTA (50) METROS, EXCLUSIVE CARGA, TRANSPORTE E DESGARGA | F20: =VLOOKUP($B20,'MEMORIA DE CAL.'!$B:$M,5,FALSE) -> M3 | G20: =VLOOKUP($B20,'MEMORIA DE CAL.'!$B:$M,11,FALSE) -> 1776.01
B21: 3.2 | C21: =VLOOKUP($B21,'MEMORIA DE CAL.'!$B:$M,2,FALSE) -> SINAPI | D21: =VLOOKUP($B21,'MEMORIA DE CAL.'!$B:$M,3,FALSE) -> 105556 | E21: =VLOOKUP($B21,'MEMORIA DE CAL.'!$B:$M,4,FALSE) -> EXECUÇÃO E COMPACTAÇÃO DE CORPO DE ATERRO DE ATERRO (95% DE ENERGIA DO PROCTOR NORMAL) COM SOLO PREDOMINANTEMENTE ARGILOSO, EM CAMADAS COM ESPESSURA DE 10 CM - EXCLUSIVE ESCAVAÇÃO, CARGA E TRANSPORTE E SOLO. AF_09/2024 | F21: =VLOOKUP($B21,'MEMORIA DE CAL.'!$B:$M,5,FALSE) -> M3 | G21: =VLOOKUP($B21,'MEMORIA DE CAL.'!$B:$M,11,FALSE) -> 174.94
B22: 3.3 | C22: =VLOOKUP($B22,'MEMORIA DE CAL.'!$B:$M,2,FALSE) -> SINAPI | D22: =VLOOKUP($B22,'MEMORIA DE CAL.'!$B:$M,3,FALSE) -> 100978 | E22: =VLOOKUP($B22,'MEMORIA DE CAL.'!$B:$M,4,FALSE) -> CARGA, MANOBRA E DESCARGA DE SOLOS E MATERIAIS GRANULARES EM CAMINHÃO BASCULANTE 10 M³ - CARGA COM ESCAVADEIRA HIDRÁULICA (CAÇAMBA DE 1,20 M³ / 155 HP) E DESCARGA LIVRE (UNIDADE: M3). AF_02/2026 | F22: =VLOOKUP($B22,'MEMORIA DE CAL.'!$B:$M,5,FALSE) -> M3 | G22: =VLOOKUP($B22,'MEMORIA DE CAL.'!$B:$M,11,FALSE) -> 2081.39
B23: 3.4 | C23: =VLOOKUP($B23,'MEMORIA DE CAL.'!$B:$M,2,FALSE) -> SINAPI | D23: =VLOOKUP($B23,'MEMORIA DE CAL.'!$B:$M,3,FALSE) -> 95875 | E23: =VLOOKUP($B23,'MEMORIA DE CAL.'!$B:$M,4,FALSE) -> TRANSPORTE COM CAMINHÃO BASCULANTE DE 10 M³, EM VIA URBANA PAVIMENTADA, DMT ATÉ 30 KM (UNIDADE: M3XKM). AF_02/2026 | F23: =VLOOKUP($B23,'MEMORIA DE CAL.'!$B:$M,5,FALSE) -> M3XKM | G23: =VLOOKUP($B23,'MEMORIA DE CAL.'!$B:$M,11,FALSE) -> 5827.89
B24: 3.5 | C24: =VLOOKUP($B24,'MEMORIA DE CAL.'!$B:$M,2,FALSE) -> SINAPI | D24: =VLOOKUP($B24,'MEMORIA DE CAL.'!$B:$M,3,FALSE) -> 100574 | E24: =VLOOKUP($B24,'MEMORIA DE CAL.'!$B:$M,4,FALSE) -> ESPALHAMENTO DE MATERIAL COM TRATOR DE ESTEIRAS. AF_09/2024 | F24: =VLOOKUP($B24,'MEMORIA DE CAL.'!$B:$M,5,FALSE) -> M3 | G24: =VLOOKUP($B24,'MEMORIA DE CAL.'!$B:$M,11,FALSE) -> 2081.39
B25: 4 | E25: =VLOOKUP($B25,'MEMORIA DE CAL.'!$B:$M,4,FALSE) -> DRENAGEM
B26: 4.1 | C26: =VLOOKUP($B26,'MEMORIA DE CAL.'!$B:$M,2,FALSE) -> SINAPI | D26: =VLOOKUP($B26,'MEMORIA DE CAL.'!$B:$M,3,FALSE) -> 90082 | E26: =VLOOKUP($B26,'MEMORIA DE CAL.'!$B:$M,4,FALSE) -> ESCAVAÇÃO MECANIZADA DE VALA COM PROF. ATÉ 1,5 M (MÉDIA MONTANTE E JUSANTE/UMA COMPOSIÇÃO POR TRECHO), ESCAVADEIRA (0,8 M3), LARG. DE 1,5 M A 2,5 M, EM SOLO DE 1A CATEGORIA, EM LOCAIS COM ALTO NÍVEL DE INTERFERÊNCIA. AF_09/2024 | F26: =VLOOKUP($B26,'MEMORIA DE CAL.'!$B:$M,5,FALSE) -> M3 | G26: =VLOOKUP($B26,'MEMORIA DE CAL.'!$B:$M,11,FALSE) -> 27.5
B27: 4.2 | C27: =VLOOKUP($B27,'MEMORIA DE CAL.'!$B:$M,2,FALSE) -> SINAPI | D27: =VLOOKUP($B27,'MEMORIA DE CAL.'!$B:$M,3,FALSE) -> 102278 | E27: =VLOOKUP($B27,'MEMORIA DE CAL.'!$B:$M,4,FALSE) -> ESCAVAÇÃO MECANIZADA DE VALA COM PROF. MAIOR QUE 1,50 M ATÉ 3,0 M (MÉDIA MONTANTE E JUSANTE/UMA COMPOSIÇÃO POR TRECHO), ESCAVADEIRA (1,2 M3), LARG. DE 1,5 M A 2,5 M, EM SOLO DE 1A CATEGORIA, EM LOCAIS COM ALTO NÍVEL DE INTERFERÊNCIA. AF_09/2024 | F27: =VLOOKUP($B27,'MEMORIA DE CAL.'!$B:$M,5,FALSE) -> M3 | G27: =VLOOKUP($B27,'MEMORIA DE CAL.'!$B:$M,11,FALSE) -> 665.3
B28: 4.3 | C28: =VLOOKUP($B28,'MEMORIA DE CAL.'!$B:$M,2,FALSE) -> SINAPI | D28: =VLOOKUP($B28,'MEMORIA DE CAL.'!$B:$M,3,FALSE) -> 101619 | E28: =VLOOKUP($B28,'MEMORIA DE CAL.'!$B:$M,4,FALSE) -> PREPARO DE FUNDO DE VALA COM LARGURA MENOR QUE 1,5 M, COM CAMADA DE BRITA, LANÇAMENTO MANUAL. AF_08/2020 | F28: =VLOOKUP($B28,'MEMORIA DE CAL.'!$B:$M,5,FALSE) -> M3 | G28: =VLOOKUP($B28,'MEMORIA DE CAL.'!$B:$M,11,FALSE) -> 52.58
B29: 4.4 | C29: =VLOOKUP($B29,'MEMORIA DE CAL.'!$B:$M,2,FALSE) -> SINAPI | D29: =VLOOKUP($B29,'MEMORIA DE CAL.'!$B:$M,3,FALSE) -> 104737 | E29: =VLOOKUP($B29,'MEMORIA DE CAL.'!$B:$M,4,FALSE) -> REATERRO MANUAL DE VALAS, COM PLACA VIBRATÓRIA. AF_08/2023 | F29: =VLOOKUP($B29,'MEMORIA DE CAL.'!$B:$M,5,FALSE) -> M3 | G29: =VLOOKUP($B29,'MEMORIA DE CAL.'!$B:$M,11,FALSE) -> 241.93
B30: 4.5 | C30: =VLOOKUP($B30,'MEMORIA DE CAL.'!$B:$M,2,FALSE) -> SINAPI | D30: =VLOOKUP($B30,'MEMORIA DE CAL.'!$B:$M,3,FALSE) -> 104730 | E30: =VLOOKUP($B30,'MEMORIA DE CAL.'!$B:$M,4,FALSE) -> REATERRO MECANIZADO DE VALA COM ESCAVADEIRA HIDRÁULICA (CAPACIDADE DA CAÇAMBA: 0,8 M³/POTÊNCIA: 111 HP), LARGURA DE 1,5 A 2,5 M, PROFUNDIDADE DE 1,5 A 3,0 M, COM SOLO (SEM SUBSTITUIÇÃO) DE 1ª CATEGORIA, COM PLACA VIBRATÓRIA. AF_08/2023 | F30: =VLOOKUP($B30,'MEMORIA DE CAL.'!$B:$M,5,FALSE) -> M3 | G30: =VLOOKUP($B30,'MEMORIA DE CAL.'!$B:$M,11,FALSE) -> 323.01
B31: 4.6 | C31: =VLOOKUP($B31,'MEMORIA DE CAL.'!$B:$M,2,FALSE) -> SINAPI | D31: =VLOOKUP($B31,'MEMORIA DE CAL.'!$B:$M,3,FALSE) -> 100978 | E31: =VLOOKUP($B31,'MEMORIA DE CAL.'!$B:$M,4,FALSE) -> CARGA, MANOBRA E DESCARGA DE SOLOS E MATERIAIS GRANULARES EM CAMINHÃO BASCULANTE 10 M³ - CARGA COM ESCAVADEIRA HIDRÁULICA (CAÇAMBA DE 1,20 M³ / 155 HP) E DESCARGA LIVRE (UNIDADE: M3). AF_02/2026 | F31: =VLOOKUP($B31,'MEMORIA DE CAL.'!$B:$M,5,FALSE) -> M3 | G31: =VLOOKUP($B31,'MEMORIA DE CAL.'!$B:$M,11,FALSE) -> 517.49
B32: 4.7 | C32: =VLOOKUP($B32,'MEMORIA DE CAL.'!$B:$M,2,FALSE) -> SINAPI | D32: =VLOOKUP($B32,'MEMORIA DE CAL.'!$B:$M,3,FALSE) -> 95875 | E32: =VLOOKUP($B32,'MEMORIA DE CAL.'!$B:$M,4,FALSE) -> TRANSPORTE COM CAMINHÃO BASCULANTE DE 10 M³, EM VIA URBANA PAVIMENTADA, DMT ATÉ 30 KM (UNIDADE: M3XKM). AF_02/2026 | F32: =VLOOKUP($B32,'MEMORIA DE CAL.'!$B:$M,5,FALSE) -> M3XKM | G32: =VLOOKUP($B32,'MEMORIA DE CAL.'!$B:$M,11,FALSE) -> 1241.85
B33: 4.8 | C33: =VLOOKUP($B33,'MEMORIA DE CAL.'!$B:$M,2,FALSE) -> SINAPI | D33: =VLOOKUP($B33,'MEMORIA DE CAL.'!$B:$M,3,FALSE) -> 100574 | E33: =VLOOKUP($B33,'MEMORIA DE CAL.'!$B:$M,4,FALSE) -> ESPALHAMENTO DE MATERIAL COM TRATOR DE ESTEIRAS. AF_09/2024 | F33: =VLOOKUP($B33,'MEMORIA DE CAL.'!$B:$M,5,FALSE) -> M3 | G33: =VLOOKUP($B33,'MEMORIA DE CAL.'!$B:$M,11,FALSE) -> 517.49
B34: 4.9 | C34: =VLOOKUP($B34,'MEMORIA DE CAL.'!$B:$M,2,FALSE) -> SINAPI | D34: =VLOOKUP($B34,'MEMORIA DE CAL.'!$B:$M,3,FALSE) -> 101573 | E34: =VLOOKUP($B34,'MEMORIA DE CAL.'!$B:$M,4,FALSE) -> ESCORAMENTO DE VALA, TIPO PONTALETEAMENTO, COM PROFUNDIDADE DE 1,5 A 3,0 M, LARGURA MAIOR OU IGUAL A 1,5 M E MENOR QUE 2,5 M. AF_01/2026 | F34: =VLOOKUP($B34,'MEMORIA DE CAL.'!$B:$M,5,FALSE) -> M2 | G34: =VLOOKUP($B34,'MEMORIA DE CAL.'!$B:$M,11,FALSE) -> 1056.33
B35: 4.10 | C35: =VLOOKUP($B35,'MEMORIA DE CAL.'!$B:$M,2,FALSE) -> SINAPI | D35: =VLOOKUP($B35,'MEMORIA DE CAL.'!$B:$M,3,FALSE) -> 92219 | E35: =VLOOKUP($B35,'MEMORIA DE CAL.'!$B:$M,4,FALSE) -> TUBO DE CONCRETO PARA REDES COLETORAS DE ÁGUAS PLUVIAIS, DIÂMETRO DE 400 MM, JUNTA RÍGIDA, INSTALADO EM LOCAL COM ALTO NÍVEL DE INTERFERÊNCIAS - FORNECIMENTO E ASSENTAMENTO. AF_03/2024 | F35: =VLOOKUP($B35,'MEMORIA DE CAL.'!$B:$M,5,FALSE) -> M | G35: =VLOOKUP($B35,'MEMORIA DE CAL.'!$B:$M,11,FALSE) -> 65
B36: 4.11 | C36: =VLOOKUP($B36,'MEMORIA DE CAL.'!$B:$M,2,FALSE) -> SINAPI | D36: =VLOOKUP($B36,'MEMORIA DE CAL.'!$B:$M,3,FALSE) -> 92221 | E36: =VLOOKUP($B36,'MEMORIA DE CAL.'!$B:$M,4,FALSE) -> TUBO DE CONCRETO PARA REDES COLETORAS DE ÁGUAS PLUVIAIS, DIÂMETRO DE 600 MM, JUNTA RÍGIDA, INSTALADO EM LOCAL COM ALTO NÍVEL DE INTERFERÊNCIAS - FORNECIMENTO E ASSENTAMENTO. AF_03/2024 | F36: =VLOOKUP($B36,'MEMORIA DE CAL.'!$B:$M,5,FALSE) -> M | G36: =VLOOKUP($B36,'MEMORIA DE CAL.'!$B:$M,11,FALSE) -> 236.6
B37: 4.12 | C37: =VLOOKUP($B37,'MEMORIA DE CAL.'!$B:$M,2,FALSE) -> SINAPI | D37: =VLOOKUP($B37,'MEMORIA DE CAL.'!$B:$M,3,FALSE) -> 99259 | E37: =VLOOKUP($B37,'MEMORIA DE CAL.'!$B:$M,4,FALSE) -> BASE PARA POÇO DE VISITA RETANGULAR PARA DRENAGEM, EM ALVENARIA COM BLOCOS DE CONCRETO, DIMENSÕES INTERNAS = 1X1,5 M, PROFUNDIDADE = 1,40 M, EXCLUINDO TAMPÃO. AF_12/2020 | F37: =VLOOKUP($B37,'MEMORIA DE CAL.'!$B:$M,5,FALSE) -> UN | G37: =VLOOKUP($B37,'MEMORIA DE CAL.'!$B:$M,11,FALSE) -> 12
... B43: 4.18 | C43: =VLOOKUP($B43,'MEMORIA DE CAL.'!$B:$M,2,FALSE) -> SINAPI | D43: =VLOOKUP($B43,'MEMORIA DE CAL.'!$B:$M,3,FALSE) -> 94287 | E43: =VLOOKUP($B43,'MEMORIA DE CAL.'!$B:$M,4,FALSE) -> EXECUÇÃO DE SARJETA DE CONCRETO USINADO, MOLDADA IN LOCO EM TRECHO RETO, 30 CM BASE X 10 CM ALTURA. AF_01/2024 | F43: =VLOOKUP($B43,'MEMORIA DE CAL.'!$B:$M,5,FALSE) -> M | G43: =VLOOKUP($B43,'MEMORIA DE CAL.'!$B:$M,11,FALSE) -> 523.91
B44: 5 | E44: =VLOOKUP($B44,'MEMORIA DE CAL.'!$B:$M,4,FALSE) -> PAVIMENTAÇÃO ASFÁLTICA
B45: 5.1 | C45: =VLOOKUP($B45,'MEMORIA DE CAL.'!$B:$M,2,FALSE) -> SINAPI | D45: =VLOOKUP($B45,'MEMORIA DE CAL.'!$B:$M,3,FALSE) -> 100576 | E45: =VLOOKUP($B45,'MEMORIA DE CAL.'!$B:$M,4,FALSE) -> REGULARIZAÇÃO E COMPACTAÇÃO DE SUBLEITO DE SOLO PREDOMINANTEMENTE ARGILOSO, PARA OBRAS DE CONSTRUÇÃO DE PAVIMENTOS. AF_09/2024 | F45: =VLOOKUP($B45,'MEMORIA DE CAL.'!$B:$M,5,FALSE) -> M2 | G45: =VLOOKUP($B45,'MEMORIA DE CAL.'!$B:$M,11,FALSE) -> 2069.14
B46: 5.2 | C46: =VLOOKUP($B46,'MEMORIA DE CAL.'!$B:$M,2,FALSE) -> SINAPI | D46: =VLOOKUP($B46,'MEMORIA DE CAL.'!$B:$M,3,FALSE) -> 105730 | E46: =VLOOKUP($B46,'MEMORIA DE CAL.'!$B:$M,4,FALSE) -> CONSTRUÇÃO DE BASE E SUB-BASE PARA PAVIMENTAÇÃO DE BRITA GRADUADA SIMPLES, COM ESPESSURA DE 20CM - EXCLUSIVE CARGA E TRANSPORTE. AF_09/2024 | F46: =VLOOKUP($B46,'MEMORIA DE CAL.'!$B:$M,5,FALSE) -> M3 | G46: =VLOOKUP($B46,'MEMORIA DE CAL.'!$B:$M,11,FALSE) -> 413.82
...

Sheet ANEXO VI
J1: MUNICIPIO DE SANTANA DO PARAÍSO - ANEXO VI - MODELO DE COMPOSIÇÃO DE BDI Rua Dona Amélia nº 71 - Bairro Centro - Cidade Santana do Paraíso - Minas Gerais TEL. (31) 3251-7600 - CEP 35179-000 PREFEITURA MUNICIPAL DE SANTANA DO PARAÍSO
E2: MIN | F2: MED | G2: MAX
A3: OBRA DE EDIFICAÇÃO | B3: AC | C3: =CONCATENATE(A3,"-",B3) -> OBRA DE EDIFICAÇÃO-AC | E3: 0.03 | F3: 0.04 | G3: 0.055
A4: =A3 -> OBRA DE EDIFICAÇÃO | B4: SG | C4: =CONCATENATE(A4,"-",B4) -> OBRA DE EDIFICAÇÃO-SG | E4: 0.008 | F4: 0.008 | G4: 0.01 | J4: COMPOSIÇÃO DO BDI
A5: =A4 -> OBRA DE EDIFICAÇÃO | B5: R | C5: =CONCATENATE(A5,"-",B5) -> OBRA DE EDIFICAÇÃO-R | E5: 0.0097 | F5: 0.0127 | G5: 0.0127
A6: =A5 -> OBRA DE EDIFICAÇÃO | B6: DF | C6: =CONCATENATE(A6,"-",B6) -> OBRA DE EDIFICAÇÃO-DF | E6: 0.0059 | F6: 0.0123 | G6: 0.0139 | J6: PREFEITURA: PREFEITURA MUNICIPAL DE SANTANA DO PARAÍSO | S6: FOLHA Nº: 1
A7: =A6 -> OBRA DE EDIFICAÇÃO | B7: L | C7: =CONCATENATE(A7,"-",B7) -> OBRA DE EDIFICAÇÃO-L | E7: 0.0616 | F7: 0.074 | G7: 0.0896 | I7: FILTRO | J7: OBRA:OBRA DE DRENAGEM E PAVIMENTAÇÃO ASFALTICA NO BAIRRO ÁGUAS CLARAS NO MUNICÍPIO DE SANTANA DO PARAÍSO/MG | S7: DATA: 07/04/2025
A8: =A7 -> OBRA DE EDIFICAÇÃO | B8: BDI PAD | C8: =CONCATENATE(A8,"-",B8) -> OBRA DE EDIFICAÇÃO-BDI PAD | E8: 0.2034 | F8: 0.2212 | G8: 0.25 | J8: LOCAL: RUA AVENCA, RUA TULIPA E RUA ROSA,BAIRRO AGUAS CLARAS - SANTANA DO PARAÍSO - MG.
A9: OBRA RODOVIÁRIA | B9: AC | C9: =CONCATENATE(A9,"-",B9) -> OBRA RODOVIÁRIA-AC | E9: 0.038 | F9: 0.0401 | G9: 0.0467 | J9: REFERÊNCIA: SINAPI ABRIL/2024 - SEM DESONERAÇÃO; SICRO MG JAN/2026; SEINFRA 01/2026 REGIÃO LESTE - SEM DESONERAÇÃO.
A10: OBRA RODOVIÁRIA | B10: SG | C10: =CONCATENATE(A10,"-",B10) -> OBRA RODOVIÁRIA-SG | E10: 0.0032 | F10: 0.004 | G10: 0.0074 | J10: CONFORME LEGISLAÇÃO TRIBUTÁRIA MUNICIPAL, DEFINIR ESTIMATIVA DE PERCENTUAL DA BASE DE CÁLCULO PARA O ISS:
A12: OBRA RODOVIÁRIA | B12: R | C12: =CONCATENATE(A12,"-",B12) -> OBRA RODOVIÁRIA-R | E12: 0.005 | F12: 0.0056 | G12: 0.0097
A13: OBRA RODOVIÁRIA | B13: DF | C13: =CONCATENATE(A13,"-",B13) -> OBRA RODOVIÁRIA-DF | E13: 0.0102 | F13: 0.0111 | G13: 0.0121 | I13: ↓ | J13: SOBRE A BASE DE CÁLCULO, DEFINIR A RESPECTIVA ALÍQUOTA DO ISS (ENTRE 2% E 5%):
A14: OBRA RODOVIÁRIA | B14: L | C14: =CONCATENATE(A14,"-",B14) -> OBRA RODOVIÁRIA-L | E14: 0.0664 | F14: 0.073 | G14: 0.0869 | I14: F
A15: OBRA RODOVIÁRIA | B15: BDI PAD | C15: =CONCATENATE(A15,"-",B15) -> OBRA RODOVIÁRIA-BDI PAD | E15: 0.196 | F15: 0.2097 | G15: 0.2423 | I15: F | J15: BDI
A16: Construção de Redes de Abastecimento de Água, Coleta de Esgoto | B16: AC | C16: =CONCATENATE(A16,"-",B16) -> Construção de Redes de Abastecimento de Água, Coleta de Esgoto-AC | E16: 0.0343 | F16: 0.0493 | G16: 0.0671 | I16: F
A17: =A16 -> Construção de Redes de Abastecimento de Água, Coleta de Esgoto | B17: SG | C17: =CONCATENATE(A17,"-",B17) -> Construção de Redes de Abastecimento de Água, Coleta de Esgoto-SG | E17: 0.0028 | F17: 0.0049 | G17: 0.0075 | I17: F | J17: TIPO DE OBRA: | L17: OBRA RODOVIÁRIA
A18: =A17 -> Construção de Redes de Abastecimento de Água, Coleta de Esgoto | B18: R | C18: =CONCATENATE(A18,"-",B18) -> Construção de Redes de Abastecimento de Água, Coleta de Esgoto-R | E18: 0.01 | F18: 0.0139 | G18: 0.0174 | I18: F
A19: =A18 -> Construção de Redes de Abastecimento de Água, Coleta de Esgoto | B19: DF | C19: =CONCATENATE(A19,"-",B19) -> Construção de Redes de Abastecimento de Água, Coleta de Esgoto-DF | E19: 0.0094 | F19: 0.0099 | G19: 0.0117 | I19: F
A20: =A19 -> Construção de Redes de Abastecimento de Água, Coleta de Esgoto | B20: L | C20: =CONCATENATE(A20,"-",B20) -> Construção de Redes de Abastecimento de Água, Coleta de Esgoto-L | E20: 0.0674 | F20: 0.0804 | G20: 0.094 | I20: F
A21: =A20 -> Construção de Redes de Abastecimento de Água, Coleta de Esgoto | B21: BDI PAD | C21: =CONCATENATE(A21,"-",B21) -> Construção de Redes de Abastecimento de Água, Coleta de Esgoto-BDI PAD | E21: 0.2076 | F21: 0.2418 | G21: 0.2644 | I21: F | J21: Itens | R21: Siglas | S21: % Adotado | T21: Situação | W21: 1º Quartil | X21: Médio | Y21: 3º Quartil
A22: Construção e Manutenção de Estações e Redes de Distribuição de Energia Elétrica | B22: AC | C22: =CONCATENATE(A22,"-",B22) -> Construção e Manutenção de Estações e Redes de Distribuição de Energia Elétrica-AC | E22: 0.0529 | F22: 0.0592 | G22: 0.0793 | I22: F
A23: =A22 -> Construção e Manutenção de Estações e Redes de Distribuição de Energia Elétrica | B23: SG | C23: =CONCATENATE(A23,"-",B23) -> Construção e Manutenção de Estações e Redes de Distribuição de Energia Elétrica-SG | E23: 0.0025 | F23: 0.0051 | G23: 0.0056 | I23: F | J23: =IF($L$17=$A$148,"Encargos Sociais incidentes sobre a mão de obra","Administração Central") -> Administração Central | R23: =IF($L17=$A$148,"K1","AC") -> AC | T23: - | W23: =VLOOKUP(CONCATENATE(L17,"-",R23),$C$3:$G$138,3,FALSE) -> 0.038 | X23: =VLOOKUP(CONCATENATE(L17,"-",R23),$C$3:$G$138,4,FALSE) -> 0.0401 | Y23: =VLOOKUP(CONCATENATE(L17,"-",R23),$C$3:$G$138,5,FALSE) -> 0.0467
A24: =A23 -> Construção e Manutenção de Estações e Redes de Distribuição de Energia Elétrica | B24: R | C24: =CONCATENATE(A24,"-",B24) -> Construção e Manutenção de Estações e Redes de Distribuição de Energia Elétrica-R | E24: 0.01 | F24: 0.0148 | G24: 0.0197 | I24: F | J24: =IF($L$17=$A$148,"Administração Central da empresa ou consultoria - overhead","Seguro e Garantia") -> Seguro e Garantia | R24: =IF($L17=$A$148,"K2","SG") -> SG | T24: - | W24: =VLOOKUP(CONCATENATE(L17,"-",R24),$C$3:$G$138,3,FALSE) -> 0.0032 | X24: =VLOOKUP(CONCATENATE(L17,"-",R24),$C$3:$G$138,4,FALSE) -> 0.004 | Y24: =VLOOKUP(CONCATENATE(L17,"-",R24),$C$3:$G$138,5,FALSE) -> 0.0074
A25: =A24 -> Construção e Manutenção de Estações e Redes de Distribuição de Energia Elétrica | B25: DF | C25: =CONCATENATE(A25,"-",B25) -> Construção e Manutenção de Estações e Redes de Distribuição de Energia Elétrica-DF | E25: 0.0101 | F25: 0.0107 | G25: 0.0111 | I25: F | J25: =IF($L$17=$A$148,"","Risco") -> Risco | R25: =IF($L17=$A$148,"","R") -> R | T25: - | W25: =VLOOKUP(CONCATENATE(L17,"-",R25),$C$3:$G$138,3,FALSE) -> 0.005 | X25: =VLOOKUP(CONCATENATE(L17,"-",R25),$C$3:$G$138,4,FALSE) -> 0.0056 | Y25: =VLOOKUP(CONCATENATE(L17,"-",R25),$C$3:$G$138,5,FALSE) -> 0.0097
A26: =A25 -> Construção e Manutenção de Estações e Redes de Distribuição de Energia Elétrica | B26: L | C26: =CONCATENATE(A26,"-",B26) -> Construção e Manutenção de Estações e Redes de Distribuição de Energia Elétrica-L | E26: 0.08 | F26: 0.0831 | G26: 0.0951 | I26: F | J26: =IF($L$17=$A$148,"","Despesas Financeiras") -> Despesas Financeiras | R26: =IF($L17=$A$148,"","DF") -> DF | T26: - | W26: =VLOOKUP(CONCATENATE(L17,"-",R26),$C$3:$G$138,3,FALSE) -> 0.0102 | X26: =VLOOKUP(CONCATENATE(L17,"-",R26),$C$3:$G$138,4,FALSE) -> 0.0111 | Y26: =VLOOKUP(CONCATENATE(L17,"-",R26),$C$3:$G$138,5,FALSE) -> 0.0121
A27: =A26 -> Construção e Manutenção de Estações e Redes de Distribuição de Energia Elétrica | B27: BDI PAD | C27: =CONCATENATE(A27,"-",B27) -> Construção e Manutenção de Estações e Redes de Distribuição de Energia Elétrica-BDI PAD | E27: 0.24 | F27: 0.2584 | G27: 0.2786 | I27: F | J27: =IF($L$17=$A$148,"Margem bruta da empresa de consultoria","Lucro") -> Lucro | R27: =IF($L17=$A$148,"K3","L") -> L | T27: - | W27: =VLOOKUP(CONCATENATE(L17,"-",R27),$C$3:$G$138,3,FALSE) -> 0.0664 | X27: =VLOOKUP(CONCATENATE(L17,"-",R27),$C$3:$G$138,4,FALSE) -> 0.073 | Y27: =VLOOKUP(CONCATENATE(L17,"-",R27),$C$3:$G$138,5,FALSE) -> 0.0869
A28: Obras Portuárias, Marítimas e Fluviais | B28: AC | C28: =CONCATENATE(A28,"-",B28) -> Obras Portuárias, Marítimas e Fluviais-AC | E28: 0.04 | F28: 0.0552 | G28: 0.0785 | I28: F | J28: Tributos (impostos COFINS 3%, e PIS 0,65%) | R28: CP | S28: 0.0365 | T28: - | W28: 0.0365 | X28: 0.0365 | Y28: 0.0365
A29: =A28 -> Obras Portuárias, Marítimas e Fluviais | B29: SG | C29: =CONCATENATE(A29,"-",B29) -> Obras Portuárias, Marítimas e Fluviais-SG | E29: 0.0081 | F29: 0.0122 | G29: 0.0199 | I29: F | J29: Tributos (ISS, variável de acordo com o município) | R29: ISS | S29: =IF(AND($L17<>$A$147,COUNTA(OFFSET(S22,1,0,6))>0),$X$13*$X$12,0) -> 0 | T29: - | W29: 0 | X29: 0.025 | Y29: 0.05
A30: =A29 -> Obras Portuárias, Marítimas e Fluviais | B30: R | C30: =CONCATENATE(A30,"-",B30) -> Obras Portuárias, Marítimas e Fluviais-R | E30: 0.0146 | F30: 0.0232 | G30: 0.0316 | I30: F | J30: Tributos (Contribuição Previdenciária sobre a Receita Bruta - 0% ou 4,5% - Desoneração) | R30: CPRB | S30: =IF(P31="SEM",0,IF(AND($L17<>$A$147,COUNTA(OFFSET(S22,1,0,6))>0),4.5%,0%)) -> 0 | T30: - | W30: 0 | X30: 0.045 | Y30: 0.045
A31: =A30 -> Obras Portuárias, Marítimas e Fluviais | B31: DF | C31: =CONCATENATE(A31,"-",B31) -> Obras Portuárias, Marítimas e Fluviais-DF | E31: 0.0094 | F31: 0.0102 | G31: 0.0133 | I31: F | J31: COM ou SEM desoneração: | P31: SEM | R31: BDI PAD | S31: =IF(P31="SEM",ROUND((((1+S23+S24+S25)*(1+S26)*(1+S27)/(1-(S28+S29)))-1),4),IF(P31="COM",ROUND((((1+S23+S24+S25)*(1+S26)*(1+S27)/(1-(S28+S29+S30)))-1),4))) -> 0.0379 | T31: =IF(OR($L$17=$A$148,$L$17=$A$147,AND(A81>=W31,A81<=Y31)),"OK","FORA DO INTERVALO") -> FORA DO INTERVALO | W31: =IF($L17=$A$147,0,VLOOKUP(CONCATENATE($L17,"-",$R31),$C$3:$G$138,3,FALSE)) -> 0.196 | X31: =IF($L17=$A$147,0,VLOOKUP(CONCATENATE($L17,"-",$R31),$C$3:$G$138,4,FALSE)) -> 0.2097 | Y31: =IF($L17=$A$147,0,VLOOKUP(CONCATENATE($L17,"-",$R31),$C$3:$G$138,5,FALSE)) -> 0.2423
A32: =A31 -> Obras Portuárias, Marítimas e Fluviais | B32: L | C32: =CONCATENATE(A32,"-",B32) -> Obras Portuárias, Marítimas e Fluviais-L | E32: 0.0714 | F32: 0.084 | G32: 0.1043 | I32: F
A33: =A32 -> Obras Portuárias, Marítimas e Fluviais | B33: BDI PAD | C33: =CONCATENATE(A33,"-",B33) -> Obras Portuárias, Marítimas e Fluviais-BDI PAD | E33: 0.228 | F33: 0.2748 | G33: 0.3095 | I33: F
A34: Fornecimento de Materiais e Equipamentos (aquisição indireta - em conjunto com licitação de obras) | B34: AC | C34: =CONCATENATE(A34,"-",B34) -> Fornecimento de Materiais e Equipamentos (aquisição indireta - em conjunto com licitação de obras)-AC | E34: 0.015 | F34: 0.0345 | G34: 0.0449 | I34: F | J34: * O convenete deve preencher apenas os campos destacados
A35: =A34 -> Fornecimento de Materiais e Equipamentos (aquisição indireta - em conjunto com licitação de obras) | B35: SG | C35: =CONCATENATE(A35,"-",B35) -> Fornecimento de Materiais e Equipamentos (aquisição indireta - em conjunto com licitação de obras)-SG | E35: 0.003 | F35: 0.0048 | G35: 0.0082 | I35: F
A36: =A35 -> Fornecimento de Materiais e Equipamentos (aquisição indireta - em conjunto com licitação de obras) | B36: R | C36: =CONCATENATE(A36,"-",B36) -> Fornecimento de Materiais e Equipamentos (aquisição indireta - em conjunto com licitação de obras)-R | E36: 0.0056 | F36: 0.0085 | G36: 0.0089 | I36: F | J36: Os valores de BDI foram calculados com o emprego da fórmula:
A37: =A36 -> Fornecimento de Materiais e Equipamentos (aquisição indireta - em conjunto com licitação de obras) | B37: DF | C37: =CONCATENATE(A37,"-",B37) -> Fornecimento de Materiais e Equipamentos (aquisição indireta - em conjunto com licitação de obras)-DF | E37: 0.0085 | F37: 0.0085 | G37: 0.0111 | I37: F | N37: BDI= | O37: =IF($L17=$A$148,"(1+K1+K2)*(1+K3)","(1+AC + S + R + G)*(1 + DF)*(1+L)") -> (1+AC + S + R + G)*(1 + DF)*(1+L) | R37: -1
A38: =A37 -> Fornecimento de Materiais e Equipamentos (aquisição indireta - em conjunto com licitação de obras) | B38: L | C38: =CONCATENATE(A38,"-",B38) -> Fornecimento de Materiais e Equipamentos (aquisição indireta - em conjunto com licitação de obras)-L | E38: 0.035 | F38: 0.0511 | G38: 0.0622 | I38: F | P38: (1-CP-ISS-CRPB)
A39: =A38 -> Fornecimento de Materiais e Equipamentos (aquisição indireta - em conjunto com licitação de obras) | B39: BDI PAD | C39: =CONCATENATE(A39,"-",B39) -> Fornecimento de Materiais e Equipamentos (aquisição indireta - em conjunto com licitação de obras)-BDI PAD | E39: 0.111 | F39: 0.1402 | G39: 0.168 | I39: F
A40: Fornecimento de Materiais e Equipamentos (aquisição direta) | B40: AC | C40: =CONCATENATE(A40,"-",B40) -> Fornecimento de Materiais e Equipamentos (aquisição direta)-AC | E40: - | F40: - | G40: - | I40: F | J40: =CONCATENATE("Declaro para os devidos fins que, conforme legislação tributária municipal, a base de cálculo deste tipo de obra corresponde à ",$X$12*100,"%, com a respectiva alíquota de ",$X$13*100,"%.") -> Declaro para os devidos fins que, conforme legislação tributária municipal, a base de cálculo deste tipo de obra corresponde à 0%, com a respectiva alíquota de 0%.
A41: Fornecimento de Materiais e Equipamentos (aquisição direta) | B41: SG | C41: =CONCATENATE(A41,"-",B41) -> Fornecimento de Materiais e Equipamentos (aquisição direta)-SG | E41: - | F41: - | G41: - | I41: F | J41: =CONCATENATE("Declaro para os devidos fins que o regime de Contribuição Previdenciária sobre a Receita Bruta adotado para elaboração do orçamento foi ",IF(P31="COM","COM","SEM")," Desoneração, e que esta é a alternativa mais adequada para a Administração Pública.") -> Declaro para os devidos fins que o regime de Contribuição Previdenciária sobre a Receita Bruta adotado para elaboração do orçamento foi SEM Desoneração, e que esta é a alternativa mais adequada para a Administração Pública.
...

Sheet ANEXO VII
B1: 1 | C1: 2 | D1: 3 | E1: 4 | F1: 5 | G1: 6 | H1: 7 | I1: 8 | J1: 9
B2: PREFEITURA MUNICIPAL DE SANTANA DO PARAÍSO SECRETARIA MUNICIPAL DE OBRAS, SERVIÇOS URBANOS E MEIO AMBIENTE
B3: ='MEMORIA DE CAL.'!B5 -> OBRA: OBRA DE DRENAGEM E PAVIMENTAÇÃO ASFALTICA NO BAIRRO ÁGUAS CLARAS NO MUNICÍPIO DE SANTANA DO PARAÍSO/MG
B4: ='MEMORIA DE CAL.'!B6 -> ENDEREÇO DA OBRA: RUA AVENCA, RUA TULIPA E RUA ROSA,BAIRRO AGUAS CLARAS - SANTANA DO PARAÍSO - MG.
B5: ='MEMORIA DE CAL.'!B7 -> PRAZO DE EXECUÇÃO: 03 MESES
B6: ='MEMORIA DE CAL.'!B8 -> BASES ORÇAMENTÁRIAS: SINAPI ABRIL/2024 - SEM DESONERAÇÃO; SICRO MG JAN/2026; SUDECAP 10/2025 - SEM DESONERAÇÃO; SEINFRA 01/2026 REGIÃO LESTE - SEM DESONERAÇÃO.
B7: ='MEMORIA DE CAL.'!B9
B8: ANEXO VII - MODELO DE CRONOGRAMA FÍSICO-FINANCEIRO
B9: ITEM | C9: ETAPAS/DESCRIÇÃO | E9: TOTAL ETAPAS | F9: PREVISTO / REALIZADO | G9: FINANCEIRO / FÍSICO | H9: MÊS 01 | I9: MÊS 02 | J9: MÊS 03
B11: 1 | C11: =VLOOKUP(B11,'MEMORIA DE CAL.'!$B$2:$L$526,4,) -> ADMINISTRAÇÃO LOCAL
B15: 2 | C15: =VLOOKUP(B15,'MEMORIA DE CAL.'!$B$2:$L$526,4,) -> INSTALAÇÕES INICIAIS DA OBRA
B19: 3 | C19: =VLOOKUP(B19,'MEMORIA DE CAL.'!$B$2:$L$526,4,) -> TERRAPLENAGEM
B23: 4 | C23: =VLOOKUP(B23,'MEMORIA DE CAL.'!$B$2:$L$526,4,) -> DRENAGEM
B27: 5 | C27: =VLOOKUP(B27,'MEMORIA DE CAL.'!$B$2:$L$526,4,) -> PAVIMENTAÇÃO ASFÁLTICA
B31: 6 | C31: =VLOOKUP(B31,'MEMORIA DE CAL.'!$B$2:$L$526,4,) -> CALÇADAS
B35: 7 | C35: =VLOOKUP(B35,'MEMORIA DE CAL.'!$B$2:$L$526,4,) -> SERVIÇOS FINAIS
B39: 9 | C39: =VLOOKUP(B39,'MEMORIA DE CAL.'!$B$23:$P$526,2,FALSE) -> #N/A | E39: =VLOOKUP(B39,#REF!,8,FALSE) -> #REF!
E41: =TRUNC((E39/$E$44),2) -> #REF!
B44: TOTAL PARCIAL
B49: TOTAL ACUMULADO

Sheet MEMORIA DE CAL.
B2: PREFEITURA MUNICIPAL DE SANTANA DO PARAÍSO SECRETARIA MUNICIPAL DE OBRAS, SERVIÇOS URBANOS E MEIO AMBIENTE | R2: ATENÇÃO | S2: MÊS 01 | T2: =#REF! -> #REF!
B3: CONTRATO N°: | S3: MÊS 02 | T3: =#REF! -> #REF!
B4: CONTRATADA: | S4: MÊS 03 | T4: =#REF! -> #REF!
B5: OBRA: OBRA DE DRENAGEM E PAVIMENTAÇÃO ASFALTICA NO BAIRRO ÁGUAS CLARAS NO MUNICÍPIO DE SANTANA DO PARAÍSO/MG
B6: ENDEREÇO DA OBRA: RUA AVENCA, RUA TULIPA E RUA ROSA,BAIRRO AGUAS CLARAS - SANTANA DO PARAÍSO - MG.
B7: PRAZO DE EXECUÇÃO: 03 MESES
B8: BASES ORÇAMENTÁRIAS: SINAPI ABRIL/2024 - SEM DESONERAÇÃO; SICRO MG JAN/2026; SUDECAP 10/2025 - SEM DESONERAÇÃO; SEINFRA 01/2026 REGIÃO LESTE - SEM DESONERAÇÃO.
B9: VALOR DO CONTRATO: R$ 915.770,10
B10: MEMÓRIA DE CÁLCULO | N10: QUANTITATIVOS REPROGRAMAÇÃO
B11: ITEM | C11: FONTE | D11: CODIGO | E11: DESCRIÇÃO | F11: UNID. | G11: DETALHAMENTO DE CÁLCULO | L11: QUANT. TOTAL PREVISTO | M11: QUANT. TOTAL EXECUTADO | N11: ACRÉSCIMO | O11: DECRÉSCIMO | P11: REPROGRAMADO
B12: 1 | E12: ADMINISTRAÇÃO LOCAL
B13: 1.1 | C13: COMPOSIÇÃO | D13: CPU-001 | E13: ADMINISTRAÇÃO LOCAL DA OBRA | F13: UNID. | G13: QTDE. | L13: =TRUNC((SUBTOTAL(9,'MEMORIA DE CAL.'!L15:L17)),2) -> #REF! | M13: =TRUNC((SUBTOTAL(9,'MEMORIA DE CAL.'!M15:M17)),2) -> #REF! | N13: =TRUNC((SUBTOTAL(9,'MEMORIA DE CAL.'!N15:N17)),2) -> #REF! | O13: =TRUNC((SUBTOTAL(9,'MEMORIA DE CAL.'!O15:O17)),2) -> #REF! | P13: =TRUNC((SUBTOTAL(9,'MEMORIA DE CAL.'!P15:P17)),2) -> #REF!
B14: 1.1 | E14: Corpo técnico composto por Engenheiro Senior, Encarregado geral e Topografo - Proporcional a medição Engenheiro e topografo - 3 dias por semana durante 4 horas por dia, Encarregado geral - 8 horas por dia durante todos o período da obra
B15: 1.1 | D15: MÊS 01 | E15: Proporcional a medição - MÊS 01 | G15: 0.29 | L15: =M15 -> 0.29 | M15: =TRUNC((PRODUCT(G15:K15)),2) -> 0.29 | N15: =IF('MEMORIA DE CAL.'!$M15>'MEMORIA DE CAL.'!$L15,'MEMORIA DE CAL.'!$M15-'MEMORIA DE CAL.'!$L15,0) -> 0 | O15: =IF('MEMORIA DE CAL.'!$M15<'MEMORIA DE CAL.'!$L15,'MEMORIA DE CAL.'!$L15-'MEMORIA DE CAL.'!$M15,0) -> 0 | P15: ='MEMORIA DE CAL.'!$L15+'MEMORIA DE CAL.'!$N15-'MEMORIA DE CAL.'!$O15 -> 0.29
B16: 1.1 | D16: MÊS 02 | E16: Proporcional a medição - MÊS 02 | G16: =T3 -> #REF! | L16: =M16 -> #REF! | M16: =TRUNC((PRODUCT(G16:K16)),2) -> #REF! | N16: =IF('MEMORIA DE CAL.'!$M16>'MEMORIA DE CAL.'!$L16,'MEMORIA DE CAL.'!$M16-'MEMORIA DE CAL.'!$L16,0) -> #REF! | O16: =IF('MEMORIA DE CAL.'!$M16<'MEMORIA DE CAL.'!$L16,'MEMORIA DE CAL.'!$L16-'MEMORIA DE CAL.'!$M16,0) -> #REF! | P16: ='MEMORIA DE CAL.'!$L16+'MEMORIA DE CAL.'!$N16-'MEMORIA DE CAL.'!$O16 -> #REF!
B17: 1.1 | D17: MÊS 03 | E17: Proporcional a medição - MÊS 03 | G17: =T4 -> #REF! | L17: =M17 -> #REF! | M17: =TRUNC((PRODUCT(G17:K17)),2) -> #REF! | N17: =IF('MEMORIA DE CAL.'!$M17>'MEMORIA DE CAL.'!$L17,'MEMORIA DE CAL.'!$M17-'MEMORIA DE CAL.'!$L17,0) -> #REF! | O17: =IF('MEMORIA DE CAL.'!$M17<'MEMORIA DE CAL.'!$L17,'MEMORIA DE CAL.'!$L17-'MEMORIA DE CAL.'!$M17,0) -> #REF! | P17: ='MEMORIA DE CAL.'!$L17+'MEMORIA DE CAL.'!$N17-'MEMORIA DE CAL.'!$O17 -> #REF!
B18: 2 | E18: INSTALAÇÕES INICIAIS DA OBRA
B19: 2.1 | C19: SEINFRA | D19: ED-28427 | E19: FORNECIMENTO E COLOCAÇÃO DE PLACA DE OBRA EM CHAPA GALVANIZADA #26, ESP. 0,45MM, DIMENSÃO (3X1,5)M, PLOTADA COM ADESIVO VINÍLICO, AFIXADA COM REBITES 4,8X40MM, EM ESTRUTURA METÁLICA DE METALON 20X20MM, ESP. 1,25MM, INCLUSIVE SUPORTE EM EUCALIPTO AUTOCLAVADO PINTADO COM TINTA PVA DUAS (2) DEMÃOS | F19: UN | G19: QTDE. | L19: =TRUNC((SUBTOTAL(9,'MEMORIA DE CAL.'!L20)),2) -> 1 | M19: =TRUNC((SUBTOTAL(9,'MEMORIA DE CAL.'!M20)),2) -> 1 | N19: =TRUNC((SUBTOTAL(9,'MEMORIA DE CAL.'!N20)),2) -> 0 | O19: =TRUNC((SUBTOTAL(9,'MEMORIA DE CAL.'!O20)),2) -> 0 | P19: =TRUNC((SUBTOTAL(9,'MEMORIA DE CAL.'!P20)),2) -> 1
B20: 2.1 | D20: MÊS 01 | E20: 01 placa com as informações da obra. dimensões da placa: 3x1,5 m totalizando 4,5m². | G20: 1 | L20: 1 | M20: =TRUNC((PRODUCT(G20:K20)),2) -> 1 | N20: =IF('MEMORIA DE CAL.'!$M20>'MEMORIA DE CAL.'!$L20,'MEMORIA DE CAL.'!$M20-'MEMORIA DE CAL.'!$L20,0) -> 0 | O20: =IF('MEMORIA DE CAL.'!$M20<'MEMORIA DE CAL.'!$L20,'MEMORIA DE CAL.'!$L20-'MEMORIA DE CAL.'!$M20,0) -> 0 | P20: ='MEMORIA DE CAL.'!$L20+'MEMORIA DE CAL.'!$N20-'MEMORIA DE CAL.'!$O20 -> 1
B21: 2.2 | C21: SEINFRA | D21: ED-50137 | E21: MOBILIZAÇÃO E DESMOBILIZAÇÃO DE CONTAINER, INCLUSIVE CARGA, DESCARGA E TRANSPORTE EM CAMINHÃO CARROCERIA COM GUINDAUTO (MUNCK), EXCLUSIVE LOCAÇÃO DO CONTAINER | F21: UN | G21: QTDE. | L21: =TRUNC((SUBTOTAL(9,'MEMORIA DE CAL.'!L22:L22)),2) -> 1 | M21: =TRUNC((SUBTOTAL(9,'MEMORIA DE CAL.'!M22:M22)),2) -> 1 | N21: =TRUNC((SUBTOTAL(9,'MEMORIA DE CAL.'!N22:N22)),2) -> 0 | O21: =TRUNC((SUBTOTAL(9,'MEMORIA DE CAL.'!O22:O22)),2) -> 0 | P21: =TRUNC((SUBTOTAL(9,'MEMORIA DE CAL.'!P22:P22)),2) -> 1
B22: 2.2 | D22: MÊS 01 | E22: Mobilização e desmobilização das duas unidades de containers locados, itens 2.4 | G22: 1 | L22: 1 | M22: =TRUNC((PRODUCT(G22:K22)),2) -> 1 | N22: =IF('MEMORIA DE CAL.'!$M22>'MEMORIA DE CAL.'!$L22,'MEMORIA DE CAL.'!$M22-'MEMORIA DE CAL.'!$L22,0) -> 0 | O22: =IF('MEMORIA DE CAL.'!$M22<'MEMORIA DE CAL.'!$L22,'MEMORIA DE CAL.'!$L22-'MEMORIA DE CAL.'!$M22,0) -> 0 | P22: ='MEMORIA DE CAL.'!$L22+'MEMORIA DE CAL.'!$N22-'MEMORIA DE CAL.'!$O22 -> 1
B23: 2.3 | C23: SEINFRA | D23: ED-16358 | E23: LIGAÇÕES PROVISÓRIAS PARA CONTAINER TIPO 3 (CORRESPONDENTE AO CÓDIGO ED-16350) | F23: UN | G23: QTDE. | L23: =TRUNC((SUBTOTAL(9,'MEMORIA DE CAL.'!L24:L24)),2) -> 1 | M23: =TRUNC((SUBTOTAL(9,'MEMORIA DE CAL.'!M24:M24)),2) -> 1 | N23: =TRUNC((SUBTOTAL(9,'MEMORIA DE CAL.'!N24:N24)),2) -> 0 | O23: =TRUNC((SUBTOTAL(9,'MEMORIA DE CAL.'!O24:O24)),2) -> 0 | P23: =TRUNC((SUBTOTAL(9,'MEMORIA DE CAL.'!P24:P24)),2) -> 1
B24: 2.3 | D24: MÊS 01 | E24: Ligações provisórias para pleno funcionamento do container no item 2.5 | G24: 1 | L24: 1 | M24: =TRUNC((PRODUCT(G24:K24)),2) -> 1 | N24: =IF('MEMORIA DE CAL.'!$M24>'MEMORIA DE CAL.'!$L24,'MEMORIA DE CAL.'!$M24-'MEMORIA DE CAL.'!$L24,0) -> 0 | O24: =IF('MEMORIA DE CAL.'!$M24<'MEMORIA DE CAL.'!$L24,'MEMORIA DE CAL.'!$L24-'MEMORIA DE CAL.'!$M24,0) -> 0 | P24: ='MEMORIA DE CAL.'!$L24+'MEMORIA DE CAL.'!$N24-'MEMORIA DE CAL.'!$O24 -> 1
B25: 2.4 | C25: SEINFRA | D25: ED-16350 | E25: LOCAÇÃO DE CONTAINER COM ISOLAMENTO TÉRMICO, TIPO 3, PARA DEPÓSITO/FERRAMENTARIA DE OBRA, COM MEDIDAS REFERENCIAIS DE (6) METROS COMPRIMENTO, (2,3) METROS LARGURA E (2,5) METROS ALTURA ÚTIL INTERNA, INCLUSIVE LIGAÇÕES ELÉTRICAS INTERNAS, EXCLUSIVE MOBILIZAÇÃO/DESMOBILIZAÇÃO E LIGAÇÕES PROVISÓRIAS EXTERNAS | F25: MÊS | G25: QTDE. | L25: =TRUNC((SUBTOTAL(9,'MEMORIA DE CAL.'!L26:L28)),2) -> 3 | M25: =TRUNC((SUBTOTAL(9,'MEMORIA DE CAL.'!M26:M28)),2) -> 3 | N25: =TRUNC((SUBTOTAL(9,'MEMORIA DE CAL.'!N26:N28)),2) -> 0 | O25: =TRUNC((SUBTOTAL(9,'MEMORIA DE CAL.'!O26:O28)),2) -> 0 | P25: =TRUNC((SUBTOTAL(9,'MEMORIA DE CAL.'!P26:P28)),2) -> 3
B26: 2.4 | D26: MÊS 01 | E26: locação de 01 container destinado ao almoxerifado conforme tempo de obra - mês 01 | G26: 1 | L26: 1 | M26: =TRUNC((PRODUCT(G26:K26)),2) -> 1 | N26: =IF('MEMORIA DE CAL.'!$M26>'MEMORIA DE CAL.'!$L26,'MEMORIA DE CAL.'!$M26-'MEMORIA DE CAL.'!$L26,0) -> 0 | O26: =IF('MEMORIA DE CAL.'!$M26<'MEMORIA DE CAL.'!$L26,'MEMORIA DE CAL.'!$L26-'MEMORIA DE CAL.'!$M26,0) -> 0 | P26: ='MEMORIA DE CAL.'!$L26+'MEMORIA DE CAL.'!$N26-'MEMORIA DE CAL.'!$O26 -> 1
B27: 2.4 | D27: MÊS 02 | E27: locação de 01 container destinado ao almoxerifado conforme tempo de obra - mês 01 | G27: 1 | L27: 1 | M27: =TRUNC((PRODUCT(G27:K27)),2) -> 1 | N27: =IF('MEMORIA DE CAL.'!$M27>'MEMORIA DE CAL.'!$L27,'MEMORIA DE CAL.'!$M27-'MEMORIA DE CAL.'!$L27,0) -> 0 | O27: =IF('MEMORIA DE CAL.'!$M27<'MEMORIA DE CAL.'!$L27,'MEMORIA DE CAL.'!$L27-'MEMORIA DE CAL.'!$M27,0) -> 0 | P27: ='MEMORIA DE CAL.'!$L27+'MEMORIA DE CAL.'!$N27-'MEMORIA DE CAL.'!$O27 -> 1
B28: 2.4 | D28: MÊS 03 | E28: locação de 01 container destinado ao almoxerifado conforme tempo de obra - mês 01 | G28: 1 | L28: 1 | M28: =TRUNC((PRODUCT(G28:K28)),2) -> 1 | N28: =IF('MEMORIA DE CAL.'!$M28>'MEMORIA DE CAL.'!$L28,'MEMORIA DE CAL.'!$M28-'MEMORIA DE CAL.'!$L28,0) -> 0 | O28: =IF('MEMORIA DE CAL.'!$M28<'MEMORIA DE CAL.'!$L28,'MEMORIA DE CAL.'!$L28-'MEMORIA DE CAL.'!$M28,0) -> 0 | P28: ='MEMORIA DE CAL.'!$L28+'MEMORIA DE CAL.'!$N28-'MEMORIA DE CAL.'!$O28 -> 1
B29: 2.5 | C29: SEINFRA | D29: ED-50155 | E29: LOCAÇÃO DE BANHEIRO QUÍMICO, DIMENSÃO (110X120X230)CM, LINHA PADRÃO, CONTENDO UMA (1) PIA/HIGIENIZADOR DE MÃOS, INCLUSIVE MANUTENÇÃO E MOBILIZAÇÃO/DESMOBILIZAÇÃO | F29: MÊS | G29: QTDE. | L29: =TRUNC((SUBTOTAL(9,'MEMORIA DE CAL.'!L30:L32)),2) -> 3 | M29: =TRUNC((SUBTOTAL(9,'MEMORIA DE CAL.'!M30:M32)),2) -> 3 | N29: =TRUNC((SUBTOTAL(9,'MEMORIA DE CAL.'!N30:N32)),2) -> 0 | O29: =TRUNC((SUBTOTAL(9,'MEMORIA DE CAL.'!O30:O32)),2) -> 0 | P29: =TRUNC((SUBTOTAL(9,'MEMORIA DE CAL.'!P30:P32)),2) -> 3
B30: 2.5 | D30: MÊS 01 | E30: locação de 01 banheiro químico conforme tempo de obra - mês 01 | G30: 1 | L30: 1 | M30: =TRUNC((PRODUCT(G30:K30)),2) -> 1 | N30: =IF('MEMORIA DE CAL.'!$M30>'MEMORIA DE CAL.'!$L30,'MEMORIA DE CAL.'!$M30-'MEMORIA DE CAL.'!$L30,0) -> 0 | O30: =IF('MEMORIA DE CAL.'!$M30<'MEMORIA DE CAL.'!$L30,'MEMORIA DE CAL.'!$L30-'MEMORIA DE CAL.'!$M30,0) -> 0 | P30: ='MEMORIA DE CAL.'!$L30+'MEMORIA DE CAL.'!$N30-'MEMORIA DE CAL.'!$O30 -> 1
B31: 2.5 | D31: MÊS 02 | E31: locação de 01 banheiro químico conforme tempo de obra - mês 02 | G31: 1 | L31: 1 | M31: =TRUNC((PRODUCT(G31:K31)),2) -> 1 | N31: =IF('MEMORIA DE CAL.'!$M31>'MEMORIA DE CAL.'!$L31,'MEMORIA DE CAL.'!$M31-'MEMORIA DE CAL.'!$L31,0) -> 0 | O31: =IF('MEMORIA DE CAL.'!$M31<'MEMORIA DE CAL.'!$L31,'MEMORIA DE CAL.'!$L31-'MEMORIA DE CAL.'!$M31,0) -> 0 | P31: ='MEMORIA DE CAL.'!$L31+'MEMORIA DE CAL.'!$N31-'MEMORIA DE CAL.'!$O31 -> 1
B32: 2.5 | D32: MÊS 03 | E32: locação de 01 banheiro químico conforme tempo de obra - mês 03 | G32: 1 | L32: 1 | M32: =TRUNC((PRODUCT(G32:K32)),2) -> 1 | N32: =IF('MEMORIA DE CAL.'!$M32>'MEMORIA DE CAL.'!$L32,'MEMORIA DE CAL.'!$M32-'MEMORIA DE CAL.'!$L32,0) -> 0 | O32: =IF('MEMORIA DE CAL.'!$M32<'MEMORIA DE CAL.'!$L32,'MEMORIA DE CAL.'!$L32-'MEMORIA DE CAL.'!$M32,0) -> 0 | P32: ='MEMORIA DE CAL.'!$L32+'MEMORIA DE CAL.'!$N32-'MEMORIA DE CAL.'!$O32 -> 1
B33: 3 | E33: TERRAPLENAGEM
B34: 3.1 | C34: SEINFRA | D34: ED-51103 | E34: ESCAVAÇÃO MECÂNICA HORIZONTAL, COM TRATOR DE ESTEIRA, EM MATERIAL DE 1ª CATEGORIA, INCLUSIVE AFASTAMENTO E EMPILHAMENTO COM DISTÂNCIA MÁXIMA DE ATÉ CINQUENTA (50) METROS, EXCLUSIVE CARGA, TRANSPORTE E DESGARGA | F34: M3 | L34: =TRUNC((SUBTOTAL(9,'MEMORIA DE CAL.'!L35:L36)),2) -> 1776.01 | M34: =TRUNC((SUBTOTAL(9,'MEMORIA DE CAL.'!M35:M36)),2) -> 1776.01 | N34: =TRUNC((SUBTOTAL(9,'MEMORIA DE CAL.'!N35:N36)),2) -> 0 | O34: =TRUNC((SUBTOTAL(9,'MEMORIA DE CAL.'!O35:O36)),2) -> 0 | P34: =TRUNC((SUBTOTAL(9,'MEMORIA DE CAL.'!P35:P36)),2) -> 1776.01
B35: 3.1 | E35: Quantitativo referente à movimentação de corte necessária para execução de acesso, conforme tabela de corte e aterro presente na folha 01/03 do projeto de terraplenagem. software utilizado: Civil3D | G35: Volume total (m3)
B36: 3.1 | D36: MÊS 01 | E36: Movimentação de Corte na Rua Rosa, Rua Tulipa e Rua Avenca | G36: 1776.01 | L36: 1776.01 | M36: =TRUNC((PRODUCT(G36:K36)),2) -> 1776.01 | N36: =IF('MEMORIA DE CAL.'!$M36>'MEMORIA DE CAL.'!$L36,'MEMORIA DE CAL.'!$M36-'MEMORIA DE CAL.'!$L36,0) -> 0 | O36: =IF('MEMORIA DE CAL.'!$M36<'MEMORIA DE CAL.'!$L36,'MEMORIA DE CAL.'!$L36-'MEMORIA DE CAL.'!$M36,0) -> 0 | P36: ='MEMORIA DE CAL.'!$L36+'MEMORIA DE CAL.'!$N36-'MEMORIA DE CAL.'!$O36 -> 1776.01
B37: 3.2 | C37: SINAPI | D37: 105556 | E37: EXECUÇÃO E COMPACTAÇÃO DE CORPO DE ATERRO DE ATERRO (95% DE ENERGIA DO PROCTOR NORMAL) COM SOLO PREDOMINANTEMENTE ARGILOSO, EM CAMADAS COM ESPESSURA DE 10 CM - EXCLUSIVE ESCAVAÇÃO, CARGA E TRANSPORTE E SOLO. AF_09/2024 | F37: M3 | L37: =TRUNC((SUBTOTAL(9,'MEMORIA DE CAL.'!L38:L39)),2) -> 174.94 | M37: =TRUNC((SUBTOTAL(9,'MEMORIA DE CAL.'!M38:M39)),2) -> 174.94 | N37: =TRUNC((SUBTOTAL(9,'MEMORIA DE CAL.'!N38:N39)),2) -> 0 | O37: =TRUNC((SUBTOTAL(9,'MEMORIA DE CAL.'!O38:O39)),2) -> 0 | P37: =TRUNC((SUBTOTAL(9,'MEMORIA DE CAL.'!P38:P39)),2) -> 174.94
B38: 3.2 | E38: Quantitativo referente ao aterro, conforme tabela de corte e aterro presente na folha 01/03 do projeto de terraplenagem. software utilizado: Civil3D | G38: Volume total (m3)
B39: 3.2 | D39: MÊS 01 | E39: Movimentação de aterro na Rua Rosa, Rua Tulipa e Rua Avenca | G39: 174.94 | L39: 174.94 | M39: =TRUNC((PRODUCT(G39:K39)),2) -> 174.94 | N39: =IF('MEMORIA DE CAL.'!$M39>'MEMORIA DE CAL.'!$L39,'MEMORIA DE CAL.'!$M39-'MEMORIA DE CAL.'!$L39,0) -> 0 | O39: =IF('MEMORIA DE CAL.'!$M39<'MEMORIA DE CAL.'!$L39,'MEMORIA DE CAL.'!$L39-'MEMORIA DE CAL.'!$M39,0) -> 0 | P39: ='MEMORIA DE CAL.'!$L39+'MEMORIA DE CAL.'!$N39-'MEMORIA DE CAL.'!$O39 -> 174.94
B40: 3.3 | C40: SINAPI | D40: 100978 | E40: CARGA, MANOBRA E DESCARGA DE SOLOS E MATERIAIS GRANULARES EM CAMINHÃO BASCULANTE 10 M³ - CARGA COM ESCAVADEIRA HIDRÁULICA (CAÇAMBA DE 1,20 M³ / 155 HP) E DESCARGA LIVRE (UNIDADE: M3). AF_02/2026 | F40: M3 | L40: =TRUNC((SUBTOTAL(9,'MEMORIA DE CAL.'!L41:L42)),2) -> 2081.39 | M40: =TRUNC((SUBTOTAL(9,'MEMORIA DE CAL.'!M41:M42)),2) -> 2081.39 | N40: =TRUNC((SUBTOTAL(9,'MEMORIA DE CAL.'!N41:N42)),2) -> 0 | O40: =TRUNC((SUBTOTAL(9,'MEMORIA DE CAL.'!O41:O42)),2) -> 0 | P40: =TRUNC((SUBTOTAL(9,'MEMORIA DE CAL.'!P41:P42)),2) -> 2081.39
B41: 3.3 | E41: Carga do material excedente da escavação que não foi utilizado para o aterro, que será destinado ao bota fora. Material acrescido de 30% de fator de empolamento | G41: Volume total (m3) | J41: Empolamento
...
