Workbook

Sheet RESUMO
A1: MUNICÍPIO DE SANTA CRUZ DOS MILAGRES - PI
A2: MANUTENÇÃO DE ESTRADAS NO MUNICÍPIO DE SANTA CRUZ DOS MILAGRES-PI
A3: PLANILHA RESUMO
A5: DATA BASE: | B5: SINAPI PI-12/2023, SICRO3 10/2023, SEM DESONERAÇÃO | G5: BDI (%): | H5: BDI (%): | I5: BDI (%):
A6: ITEM | B6: DESCRIÇÃO | G6: EXTENSÃO DA EXTRADA (M) | H6: R$/M | I6: TOTAL (R$) | J6: TOTAL (%)
A7: 1 | B7: ADMINISTRAÇÃO LOCAL DA OBRA | G7: - | I7: =COMPOSICAO!J13 -> 1015.65 | J7: =(I7/$I$31) -> 0.0084801697
A8: 2 | B8: ESTRADA - POVOADO CANTO DOS COCOS A LOCALIDADE ALTO BONITO | G8: 4500 | H8: =ORCAMENTO!I11 -> 0.64 | I8: =ORCAMENTO!K11 -> 8640 | J8: =(I8/$I$31) -> 0.07213968
A9: 3 | B9: ESTRADA - POVOADO SANTA CRUZ AO POVOADO CANTO DOS COCOS | G9: 2125 | H9: =H8 -> 0.64 | I9: =ORCAMENTO!K13 -> 4080 | J9: =(I9/$I$31) -> 0.03406596
A10: 4 | B10: ESTRADA - POVOADO ABROLHOS AO POVOADO TABUA | G10: 2125 | H10: =H9 -> 0.64 | I10: =ORCAMENTO!K16 -> 4080 | J10: =(I10/$I$31) -> 0.03406596
A11: 5 | B11: ESTRADA - POVOADO TABUA AO POVOADO MUQUEM | G11: 1750 | H11: =H10 -> 0.64 | I11: =ORCAMENTO!K19 -> 3360 | J11: =(I11/$I$31) -> 0.02805432
A12: 6 | B12: ESTRADA - POVOADO LAGES AO POVOADO BELO HORIZONTE | G12: 2125 | H12: =H11 -> 0.64 | I12: =ORCAMENTO!K22 -> 4080 | J12: =(I12/$I$31) -> 0.03406596
A13: 7 | B13: ESTRADA - POVOADO GROTA DE SOMBRA AO POVOADO CAPIVARA | G13: 2125 | H13: =H12 -> 0.64 | I13: =ORCAMENTO!K25 -> 4080 | J13: =(I13/$I$31) -> 0.03406596
A14: 8 | B14: ESTRADA - POVOADO ALTO ALEGRE AO POVOADO FERVEDOR | G14: 2125 | H14: =H13 -> 0.64 | I14: =ORCAMENTO!K28 -> 4080 | J14: =(I14/$I$31) -> 0.03406596
A15: 9 | B15: ESTRADA - POVOADO JATOBÁ VELHO AO POVOADO ALDEIA | G15: 2125 | H15: =H14 -> 0.64 | I15: =ORCAMENTO!K31 -> 4080 | J15: =(I15/$I$31) -> 0.03406596
A16: 10 | B16: ESTRADA - POVOADO GAMELEIRA AO POVOADO BOI MANSO | G16: 2000 | H16: =H15 -> 0.64 | I16: =ORCAMENTO!K34 -> 3840 | J16: =(I16/$I$31) -> 0.03206208
A17: 11 | B17: ESTRADA - PERÍMETRO PERIURBANO | G17: 1250 | H17: =H16 -> 0.64 | I17: =ORCAMENTO!K37 -> 2400 | J17: =(I17/$I$31) -> 0.0200388
A18: 12 | B18: ESTRADA - POVOADO ASSENTAMENTO AO POVOADO SANTA ANGÉLICA | G18: 2125 | H18: =H17 -> 0.64 | I18: =ORCAMENTO!K40 -> 4080 | J18: =(I18/$I$31) -> 0.03406596
A19: 13 | B19: ESTRADA - POVOADO SANTA ANGÉLICA AO POVOADO SÃO MATEUS | G19: 5125 | H19: =H18 -> 0.64 | I19: =ORCAMENTO!K43 -> 9840 | J19: =(I19/$I$31) -> 0.082159081
A20: 14 | B20: ESTRADA - POVOADO ALTA MIRA A LOCALIDADE BOI MANSO | G20: 2225 | H20: =H19 -> 0.64 | I20: =ORCAMENTO!K46 -> 4272 | J20: =(I20/$I$31) -> 0.035669064
A21: 15 | B21: ESTRADA - POVOADO SANTA CRUZ AO POVOADO BURITI DO MEIO DE BAIXO | G21: 6125 | H21: =H20 -> 0.64 | I21: =ORCAMENTO!K49 -> 11760 | J21: =(I21/$I$31) -> 0.098190121
A22: 16 | B22: ESTRADA - POVOADO BURITI DO MEIO DE CIMA AO POVOADO MELANCIA | G22: 2125 | H22: =H21 -> 0.64 | I22: =ORCAMENTO!K52 -> 4080 | J22: =(I22/$I$31) -> 0.03406596
A23: 17 | B23: ESTRADA - POVOADO ABROLHOS AO POVOADO PAUS DE CHAPADA | G23: 3000 | H23: =H22 -> 0.64 | I23: =ORCAMENTO!K55 -> 5760 | J23: =(I23/$I$31) -> 0.04809312
A24: 18 | B24: ESTRADA - POVOADO ABROLHOS AO POVOADO PÉ DE FIGUEIRA | G24: 3125 | H24: =H23 -> 0.64 | I24: =ORCAMENTO!K58 -> 6000 | J24: =(I24/$I$31) -> 0.050097
A25: 19 | B25: ESTRADA - POVOADO SANTA ANGELICA A LOCALIDADE BAIXA FRIA | G25: 3125 | H25: =H24 -> 0.64 | I25: =ORCAMENTO!K61 -> 6000 | J25: =(I25/$I$31) -> 0.050097
A26: 20 | B26: ESTRADA - ESTRADA SÃO MATEUS AO POVOADO GUDIM | G26: 2125 | H26: =H25 -> 0.64 | I26: =ORCAMENTO!K64 -> 4080 | J26: =(I26/$I$31) -> 0.03406596
A27: 21 | B27: ESTRADA - PI 225 AO POVOADO PENSAMENTO | G27: 3125 | H27: =H26 -> 0.64 | I27: =ORCAMENTO!K67 -> 6000 | J27: =(I27/$I$31) -> 0.050097
A28: 22 | B28: ESTRADA - PI 225 AO POVOADO MORRO DO MEL | G28: 3125 | H28: =H27 -> 0.64 | I28: =ORCAMENTO!K70 -> 6000 | J28: =(I28/$I$31) -> 0.050097
A29: 23 | B29: ESTRADA - POVOADO PAUS DE CHAPADA A POVOADO NOVO ORIENTE | G29: 2125 | H29: =H28 -> 0.64 | I29: =ORCAMENTO!K73 -> 4080 | J29: =(I29/$I$31) -> 0.03406596
A30: 24 | B30: ESTRADA - ESTRADA SÃO MATEUS A LOCALIDADE RIACHO DO GADO | G30: 2125 | H30: =H29 -> 0.64 | I30: =ORCAMENTO!K76 -> 4080 | J30: =(I30/$I$31) -> 0.03406596
A31: TOTAL | G31: =SUM(G8:G30) -> 61850 | I31: =SUM(I7:I30) -> 119767.65 | J31: =SUM(J7:J30) -> 1

Sheet CRONOGRAMA
A1: MUNICÍPIO DE SANTA CRUZ DOS MILAGRES - PI
A2: MANUTENÇÃO DE ESTRADAS NO MUNICÍPIO DE SANTA CRUZ DOS MILAGRES-PI
A3: CRONOGRAMA FÍSICO-FINANCEIRO
A5: DATA BASE: | B5: SINAPI PI-12/2023, SICRO3 10/2023, SEM DESONERAÇÃO | G5: LEIS SOCIAIS (%): | H5: 112.15 | V5: BDI (%): | W5: 20.73
A6: ITEM | B6: DESCRIÇÃO | G6: TOTAL (R$) | H6: TOTAL (%) | I6: 30 DIAS | K6: 60 DIAS | M6: 90 DIAS | O6: 120 DIAS | Q6: 150 DIAS | S6: 180 DIAS | U6: TOTAL (R$) | V6: TOTAL (%)
V7: META | W7: GERAL
A8: 1 | B8: =RESUMO!B7 -> ADMINISTRAÇÃO LOCAL DA OBRA | G8: =RESUMO!I7 -> 1015.65 | H8: =(G8/$G$32) -> 0.0084801697 | M8: =G8 -> 1015.65 | N8: 1
A9: 2 | B9: =RESUMO!B8 -> ESTRADA - POVOADO CANTO DOS COCOS A LOCALIDADE ALTO BONITO | G9: =RESUMO!I8 -> 8640 | H9: =(G9/$G$32) -> 0.07213968 | I9: =G9 -> 8640 | J9: 1
A10: 3 | B10: =RESUMO!B9 -> ESTRADA - POVOADO SANTA CRUZ AO POVOADO CANTO DOS COCOS | G10: =RESUMO!I9 -> 4080 | H10: =(G10/$G$32) -> 0.03406596 | I10: =G10 -> 4080 | J10: 1
A11: 4 | B11: =RESUMO!B10 -> ESTRADA - POVOADO ABROLHOS AO POVOADO TABUA | G11: =RESUMO!I10 -> 4080 | H11: =(G11/$G$32) -> 0.03406596 | I11: =G11 -> 4080 | J11: 1
A12: 5 | B12: =RESUMO!B11 -> ESTRADA - POVOADO TABUA AO POVOADO MUQUEM | G12: =RESUMO!I11 -> 3360 | H12: =(G12/$G$32) -> 0.02805432 | I12: =G12 -> 3360 | J12: 1
A13: 6 | B13: =RESUMO!B12 -> ESTRADA - POVOADO LAGES AO POVOADO BELO HORIZONTE | G13: =RESUMO!I12 -> 4080 | H13: =(G13/$G$32) -> 0.03406596 | I13: =G13 -> 4080 | J13: 1
A14: 7 | B14: =RESUMO!B13 -> ESTRADA - POVOADO GROTA DE SOMBRA AO POVOADO CAPIVARA | G14: =RESUMO!I13 -> 4080 | H14: =(G14/$G$32) -> 0.03406596 | I14: =G14 -> 4080 | J14: 1
A15: 8 | B15: =RESUMO!B14 -> ESTRADA - POVOADO ALTO ALEGRE AO POVOADO FERVEDOR | G15: =RESUMO!I14 -> 4080 | H15: =(G15/$G$32) -> 0.03406596 | I15: =G15 -> 4080 | J15: 1
A16: 9 | B16: =RESUMO!B15 -> ESTRADA - POVOADO JATOBÁ VELHO AO POVOADO ALDEIA | G16: =RESUMO!I15 -> 4080 | H16: =(G16/$G$32) -> 0.03406596 | I16: =G16 -> 4080 | J16: 1
A17: 10 | B17: =RESUMO!B16 -> ESTRADA - POVOADO GAMELEIRA AO POVOADO BOI MANSO | G17: =RESUMO!I16 -> 3840 | H17: =(G17/$G$32) -> 0.03206208 | I17: =G17 -> 3840 | J17: 1
A18: 11 | B18: =RESUMO!B17 -> ESTRADA - PERÍMETRO PERIURBANO | G18: =RESUMO!I17 -> 2400 | H18: =(G18/$G$32) -> 0.0200388 | I18: =G18 -> 2400 | J18: 1
A19: 12 | B19: =RESUMO!B18 -> ESTRADA - POVOADO ASSENTAMENTO AO POVOADO SANTA ANGÉLICA | G19: =RESUMO!I18 -> 4080 | H19: =(G19/$G$32) -> 0.03406596 | I19: =G19 -> 4080 | J19: 1
A20: 13 | B20: =RESUMO!B19 -> ESTRADA - POVOADO SANTA ANGÉLICA AO POVOADO SÃO MATEUS | G20: =RESUMO!I19 -> 9840 | H20: =(G20/$G$32) -> 0.082159081 | K20: =G20 -> 9840 | L20: 1
A21: 14 | B21: =RESUMO!B20 -> ESTRADA - POVOADO ALTA MIRA A LOCALIDADE BOI MANSO | G21: =RESUMO!I20 -> 4272 | H21: =(G21/$G$32) -> 0.035669064 | K21: =G21 -> 4272 | L21: 1
A22: 15 | B22: =RESUMO!B21 -> ESTRADA - POVOADO SANTA CRUZ AO POVOADO BURITI DO MEIO DE BAIXO | G22: =RESUMO!I21 -> 11760 | H22: =(G22/$G$32) -> 0.098190121 | K22: =G22 -> 11760 | L22: 1
A23: 16 | B23: =RESUMO!B22 -> ESTRADA - POVOADO BURITI DO MEIO DE CIMA AO POVOADO MELANCIA | G23: =RESUMO!I22 -> 4080 | H23: =(G23/$G$32) -> 0.03406596 | K23: =G23 -> 4080 | L23: 1
A24: 17 | B24: =RESUMO!B23 -> ESTRADA - POVOADO ABROLHOS AO POVOADO PAUS DE CHAPADA | G24: =RESUMO!I23 -> 5760 | H24: =(G24/$G$32) -> 0.04809312 | K24: =G24 -> 5760 | L24: 1
A25: 18 | B25: =RESUMO!B24 -> ESTRADA - POVOADO ABROLHOS AO POVOADO PÉ DE FIGUEIRA | G25: =RESUMO!I24 -> 6000 | H25: =(G25/$G$32) -> 0.050097 | K25: =G25 -> 6000 | L25: 1
A26: 19 | B26: =RESUMO!B25 -> ESTRADA - POVOADO SANTA ANGELICA A LOCALIDADE BAIXA FRIA | G26: =RESUMO!I25 -> 6000 | H26: =(G26/$G$32) -> 0.050097 | M26: =G26 -> 6000 | N26: 1
A27: 20 | B27: =RESUMO!B26 -> ESTRADA - ESTRADA SÃO MATEUS AO POVOADO GUDIM | G27: =RESUMO!I26 -> 4080 | H27: =(G27/$G$32) -> 0.03406596 | M27: =G27 -> 4080 | N27: 1
A28: 21 | B28: =RESUMO!B27 -> ESTRADA - PI 225 AO POVOADO PENSAMENTO | G28: =RESUMO!I27 -> 6000 | H28: =(G28/$G$32) -> 0.050097 | M28: =G28 -> 6000 | N28: 1
A29: 22 | B29: =RESUMO!B28 -> ESTRADA - PI 225 AO POVOADO MORRO DO MEL | G29: =RESUMO!I28 -> 6000 | H29: =(G29/$G$32) -> 0.050097 | M29: =G29 -> 6000 | N29: 1
A30: 23 | B30: =RESUMO!B29 -> ESTRADA - POVOADO PAUS DE CHAPADA A POVOADO NOVO ORIENTE | G30: =RESUMO!I29 -> 4080 | H30: =(G30/$G$32) -> 0.03406596 | M30: =G30 -> 4080 | N30: 1
A31: 24 | B31: =RESUMO!B30 -> ESTRADA - ESTRADA SÃO MATEUS A LOCALIDADE RIACHO DO GADO | G31: =RESUMO!I30 -> 4080 | H31: =(G31/$G$32) -> 0.03406596 | M31: =G31 -> 4080 | N31: 1
B32: TOTAL GERAL | G32: =SUM(G8:G31) -> 119767.65 | H32: =SUM(H8:H31) -> 1 | I32: =SUM(I9:I19) -> 46800 | J32: =I32/G32 -> 0.3907566 | K32: =SUM(K20:K31) -> 41712 | L32: =K32/G32 -> 0.34827435 | M32: =SUM(M8:M31) -> 31255.65 | N32: =M32/G32 -> 0.26096905
B33: TOTAL ACUMULADO | I33: =I32 -> 46800 | J33: =J32 -> 0.3907566 | K33: =K32+I33 -> 88512 | L33: =L32+J33 -> 0.73903095 | M33: =M32+K33 -> 119767.65 | N33: =N32+L33 -> 1

Sheet ORCAMENTO
A1: MUNICÍPIO DE SANTA CRUZ DOS MILAGRES - PI
A2: MANUTENÇÃO DE ESTRADAS NO MUNICÍPIO DE SANTA CRUZ DOS MILAGRES-PI
A3: PLANILHA ORÇAMENTÁRIA
A5: DATA BASE: | B5: SINAPI PI-12/2023, SICRO3 10/2023, SEM DESONERAÇÃO | H5: LEIS SOCIAIS (%): | I5: 112.15 | K5: BDI (%): | L5: 20.73
A6: ITEM | B6: CÓDIGO | C6: DESCRIÇÃO | G6: UNID | H6: QUANT | I6: P. UNIT. C/BDI | K6: TOTAL (R$)
A7: 1 | B7: ADMINISTRAÇÃO LOCAL DA OBRA | K7: =K8 -> 1015.65
A8: 1.1 | B8: ADM 2 | C8: ADMINISTRAÇÃO LOCAL DA OBRA | G8: MÊS | H8: 1 | I8: =COMPOSICAO!J13 -> 1015.65 | K8: =ROUND(H8*I8,2) -> 1015.65
A10: 2 | B10: =RESUMO!B8 -> ESTRADA - POVOADO CANTO DOS COCOS A LOCALIDADE ALTO BONITO | K10: =K11 -> 8640
A11: 2.1 | B11: 5501700 | C11: DESMATAMENTO, DESTOCAMENTO, LIMPEZA DE ÁREA E ESTOCAGEM DO MATERIAL DE LIMPEZA COM ÁRVORES DE DIÂMETRO ATÉ 0,15 M | G11: M2 | H11: =MEMORIA!P12 -> 13500 | I11: =COMPOSICAO!J25 -> 0.64 | K11: =ROUND(H11*I11,2) -> 8640
A13: 3 | B13: =RESUMO!B9 -> ESTRADA - POVOADO SANTA CRUZ AO POVOADO CANTO DOS COCOS | K13: =K14 -> 4080
A14: 3.1 | B14: 5501700 | C14: DESMATAMENTO, DESTOCAMENTO, LIMPEZA DE ÁREA E ESTOCAGEM DO MATERIAL DE LIMPEZA COM ÁRVORES DE DIÂMETRO ATÉ 0,15 M | G14: M2 | H14: =MEMORIA!P16 -> 6375 | I14: =I11 -> 0.64 | K14: =ROUND(H14*I14,2) -> 4080
A16: 4 | B16: =RESUMO!B10 -> ESTRADA - POVOADO ABROLHOS AO POVOADO TABUA | K16: =K17 -> 4080
A17: 4.1 | B17: 5501700 | C17: DESMATAMENTO, DESTOCAMENTO, LIMPEZA DE ÁREA E ESTOCAGEM DO MATERIAL DE LIMPEZA COM ÁRVORES DE DIÂMETRO ATÉ 0,15 M | G17: M2 | H17: =MEMORIA!P20 -> 6375 | I17: =I14 -> 0.64 | K17: =ROUND(H17*I17,2) -> 4080
A19: 5 | B19: =RESUMO!B11 -> ESTRADA - POVOADO TABUA AO POVOADO MUQUEM | K19: =K20 -> 3360
A20: 5.1 | B20: 5501700 | C20: DESMATAMENTO, DESTOCAMENTO, LIMPEZA DE ÁREA E ESTOCAGEM DO MATERIAL DE LIMPEZA COM ÁRVORES DE DIÂMETRO ATÉ 0,15 M | G20: M2 | H20: =MEMORIA!P24 -> 5250 | I20: =I17 -> 0.64 | K20: =ROUND(H20*I20,2) -> 3360
A22: 6 | B22: =RESUMO!B12 -> ESTRADA - POVOADO LAGES AO POVOADO BELO HORIZONTE | K22: =K23 -> 4080
A23: 6.1 | B23: 5501700 | C23: DESMATAMENTO, DESTOCAMENTO, LIMPEZA DE ÁREA E ESTOCAGEM DO MATERIAL DE LIMPEZA COM ÁRVORES DE DIÂMETRO ATÉ 0,15 M | G23: M2 | H23: =MEMORIA!P28 -> 6375 | I23: =I20 -> 0.64 | K23: =ROUND(H23*I23,2) -> 4080
A25: 7 | B25: =RESUMO!B13 -> ESTRADA - POVOADO GROTA DE SOMBRA AO POVOADO CAPIVARA | K25: =K26 -> 4080
A26: 7.1 | B26: 5501700 | C26: DESMATAMENTO, DESTOCAMENTO, LIMPEZA DE ÁREA E ESTOCAGEM DO MATERIAL DE LIMPEZA COM ÁRVORES DE DIÂMETRO ATÉ 0,15 M | G26: M2 | H26: =MEMORIA!P32 -> 6375 | I26: =I23 -> 0.64 | K26: =ROUND(H26*I26,2) -> 4080
A28: 8 | B28: =RESUMO!B14 -> ESTRADA - POVOADO ALTO ALEGRE AO POVOADO FERVEDOR | K28: =K29 -> 4080
A29: 8.1 | B29: 5501700 | C29: DESMATAMENTO, DESTOCAMENTO, LIMPEZA DE ÁREA E ESTOCAGEM DO MATERIAL DE LIMPEZA COM ÁRVORES DE DIÂMETRO ATÉ 0,15 M | G29: M2 | H29: =MEMORIA!P36 -> 6375 | I29: =I26 -> 0.64 | K29: =ROUND(H29*I29,2) -> 4080
A31: 9 | B31: =RESUMO!B15 -> ESTRADA - POVOADO JATOBÁ VELHO AO POVOADO ALDEIA | K31: =K32 -> 4080
A32: 9.1 | B32: 5501700 | C32: DESMATAMENTO, DESTOCAMENTO, LIMPEZA DE ÁREA E ESTOCAGEM DO MATERIAL DE LIMPEZA COM ÁRVORES DE DIÂMETRO ATÉ 0,15 M | G32: M2 | H32: =MEMORIA!P40 -> 6375 | I32: =I29 -> 0.64 | K32: =ROUND(H32*I32,2) -> 4080
A34: 10 | B34: =RESUMO!B16 -> ESTRADA - POVOADO GAMELEIRA AO POVOADO BOI MANSO | K34: =K35 -> 3840
A35: 10.1 | B35: 5501700 | C35: DESMATAMENTO, DESTOCAMENTO, LIMPEZA DE ÁREA E ESTOCAGEM DO MATERIAL DE LIMPEZA COM ÁRVORES DE DIÂMETRO ATÉ 0,15 M | G35: M2 | H35: =MEMORIA!P44 -> 6000 | I35: =I32 -> 0.64 | K35: =ROUND(H35*I35,2) -> 3840
A37: 11 | B37: =RESUMO!B17 -> ESTRADA - PERÍMETRO PERIURBANO | K37: =K38 -> 2400
A38: 11.1 | B38: 5501700 | C38: DESMATAMENTO, DESTOCAMENTO, LIMPEZA DE ÁREA E ESTOCAGEM DO MATERIAL DE LIMPEZA COM ÁRVORES DE DIÂMETRO ATÉ 0,15 M | G38: M2 | H38: =MEMORIA!P48 -> 3750 | I38: =I35 -> 0.64 | K38: =ROUND(H38*I38,2) -> 2400
A40: 12 | B40: =RESUMO!B18 -> ESTRADA - POVOADO ASSENTAMENTO AO POVOADO SANTA ANGÉLICA | K40: =K41 -> 4080
A41: 12.1 | B41: 5501700 | C41: DESMATAMENTO, DESTOCAMENTO, LIMPEZA DE ÁREA E ESTOCAGEM DO MATERIAL DE LIMPEZA COM ÁRVORES DE DIÂMETRO ATÉ 0,15 M | G41: M2 | H41: =MEMORIA!P52 -> 6375 | I41: =I38 -> 0.64 | K41: =ROUND(H41*I41,2) -> 4080
A43: 13 | B43: =RESUMO!B19 -> ESTRADA - POVOADO SANTA ANGÉLICA AO POVOADO SÃO MATEUS | K43: =K44 -> 9840
A44: 13.1 | B44: 5501700 | C44: DESMATAMENTO, DESTOCAMENTO, LIMPEZA DE ÁREA E ESTOCAGEM DO MATERIAL DE LIMPEZA COM ÁRVORES DE DIÂMETRO ATÉ 0,15 M | G44: M2 | H44: =MEMORIA!P56 -> 15375 | I44: =I41 -> 0.64 | K44: =ROUND(H44*I44,2) -> 9840
A46: 14 | B46: =RESUMO!B20 -> ESTRADA - POVOADO ALTA MIRA A LOCALIDADE BOI MANSO | K46: =K47 -> 4272
A47: 14.1 | B47: 5501700 | C47: DESMATAMENTO, DESTOCAMENTO, LIMPEZA DE ÁREA E ESTOCAGEM DO MATERIAL DE LIMPEZA COM ÁRVORES DE DIÂMETRO ATÉ 0,15 M | G47: M2 | H47: =MEMORIA!P60 -> 6675 | I47: =I44 -> 0.64 | K47: =ROUND(H47*I47,2) -> 4272
A49: 15 | B49: =RESUMO!B21 -> ESTRADA - POVOADO SANTA CRUZ AO POVOADO BURITI DO MEIO DE BAIXO | K49: =K50 -> 11760
A50: 15.1 | B50: 5501700 | C50: DESMATAMENTO, DESTOCAMENTO, LIMPEZA DE ÁREA E ESTOCAGEM DO MATERIAL DE LIMPEZA COM ÁRVORES DE DIÂMETRO ATÉ 0,15 M | G50: M2 | H50: =MEMORIA!P64 -> 18375 | I50: =I47 -> 0.64 | K50: =ROUND(H50*I50,2) -> 11760
A52: 16 | B52: =RESUMO!B22 -> ESTRADA - POVOADO BURITI DO MEIO DE CIMA AO POVOADO MELANCIA | K52: =K53 -> 4080
A53: 16.1 | B53: 5501700 | C53: DESMATAMENTO, DESTOCAMENTO, LIMPEZA DE ÁREA E ESTOCAGEM DO MATERIAL DE LIMPEZA COM ÁRVORES DE DIÂMETRO ATÉ 0,15 M | G53: M2 | H53: =MEMORIA!P68 -> 6375 | I53: =I50 -> 0.64 | K53: =ROUND(H53*I53,2) -> 4080
A55: 17 | B55: =RESUMO!B23 -> ESTRADA - POVOADO ABROLHOS AO POVOADO PAUS DE CHAPADA | K55: =K56 -> 5760
A56: 17.1 | B56: 5501700 | C56: DESMATAMENTO, DESTOCAMENTO, LIMPEZA DE ÁREA E ESTOCAGEM DO MATERIAL DE LIMPEZA COM ÁRVORES DE DIÂMETRO ATÉ 0,15 M | G56: M2 | H56: =MEMORIA!P72 -> 9000 | I56: =I53 -> 0.64 | K56: =ROUND(H56*I56,2) -> 5760
A58: 18 | B58: =RESUMO!B24 -> ESTRADA - POVOADO ABROLHOS AO POVOADO PÉ DE FIGUEIRA | K58: =K59 -> 6000
...

Sheet MEMORIA
A1: MUNICÍPIO DE SANTA CRUZ DOS MILAGRES - PI
A2: MANUTENÇÃO DE ESTRADAS NO MUNICÍPIO DE SANTA CRUZ DOS MILAGRES-PI
A3: MEMÓRIA DE CÁLCULO
A5: DATA BASE: | B5: SINAPI PI-12/2023, SICRO3 10/2023, SEM DESONERAÇÃO | K5: LEIS SOCIAIS (%): | M5: 112.15 | O5: BDI (%): | P5: 20.73
A6: ITEM | B6: CÓDIGO | C6: DESCRIÇÃO | G6: UNID | H6: QUANT | I6: COEF | J6: COMP (m) | K6: LARG (m) | L6: ALT (m) | M6: ÁREA (m2) | N6: VOL (m3) | O6: PARCIAL | P6: TOTAL
A7: 1 | B7: ADMINISTRAÇÃO LOCAL DA OBRA
A8: 1.1 | B8: ADM 2 | C8: ADMINISTRAÇÃO LOCAL DA OBRA | G8: MÊS
A9: 1.1.1
A11: 2 | B11: =RESUMO!B8 -> ESTRADA - POVOADO CANTO DOS COCOS A LOCALIDADE ALTO BONITO
A12: 2.1 | B12: 5501700 | C12: DESMATAMENTO, DESTOCAMENTO, LIMPEZA DE ÁREA E ESTOCAGEM DO MATERIAL DE LIMPEZA COM ÁRVORES DE DIÂMETRO ATÉ 0,15 M | G12: M2 | H12: =RESUMO!G8 -> 4500 | I12: 2 | J12: =H12 -> 4500 | K12: 1.5 | M12: =I12*J12*K12 -> 13500 | P12: =ROUND(M12,2) -> 13500
A13: 2.1.1
A15: 3 | B15: =RESUMO!B9 -> ESTRADA - POVOADO SANTA CRUZ AO POVOADO CANTO DOS COCOS
A16: 3.1 | B16: 5501700 | C16: DESMATAMENTO, DESTOCAMENTO, LIMPEZA DE ÁREA E ESTOCAGEM DO MATERIAL DE LIMPEZA COM ÁRVORES DE DIÂMETRO ATÉ 0,15 M | G16: M2 | H16: =RESUMO!G9 -> 2125 | I16: 2 | J16: =H16 -> 2125 | K16: 1.5 | M16: =I16*J16*K16 -> 6375 | P16: =ROUND(M16,2) -> 6375
A17: 3.1.1
A19: 4 | B19: =RESUMO!B10 -> ESTRADA - POVOADO ABROLHOS AO POVOADO TABUA
A20: 4.1 | B20: 5501700 | C20: DESMATAMENTO, DESTOCAMENTO, LIMPEZA DE ÁREA E ESTOCAGEM DO MATERIAL DE LIMPEZA COM ÁRVORES DE DIÂMETRO ATÉ 0,15 M | G20: M2 | H20: =RESUMO!G10 -> 2125 | I20: 2 | J20: =H20 -> 2125 | K20: 1.5 | M20: =I20*J20*K20 -> 6375 | P20: =ROUND(M20,2) -> 6375
A21: 4.1.1
A23: 5 | B23: =RESUMO!B11 -> ESTRADA - POVOADO TABUA AO POVOADO MUQUEM
A24: 5.1 | B24: 5501700 | C24: DESMATAMENTO, DESTOCAMENTO, LIMPEZA DE ÁREA E ESTOCAGEM DO MATERIAL DE LIMPEZA COM ÁRVORES DE DIÂMETRO ATÉ 0,15 M | G24: M2 | H24: =RESUMO!G11 -> 1750 | I24: 2 | J24: =H24 -> 1750 | K24: 1.5 | M24: =I24*J24*K24 -> 5250 | P24: =ROUND(M24,2) -> 5250
A25: 5.1.1
A27: 6 | B27: =RESUMO!B12 -> ESTRADA - POVOADO LAGES AO POVOADO BELO HORIZONTE
A28: 6.1 | B28: 5501700 | C28: DESMATAMENTO, DESTOCAMENTO, LIMPEZA DE ÁREA E ESTOCAGEM DO MATERIAL DE LIMPEZA COM ÁRVORES DE DIÂMETRO ATÉ 0,15 M | G28: M2 | H28: =RESUMO!G12 -> 2125 | I28: 2 | J28: =H28 -> 2125 | K28: 1.5 | M28: =I28*J28*K28 -> 6375 | P28: =ROUND(M28,2) -> 6375
A29: 6.1.1
A31: 7 | B31: =RESUMO!B13 -> ESTRADA - POVOADO GROTA DE SOMBRA AO POVOADO CAPIVARA
A32: 7.1 | B32: 5501700 | C32: DESMATAMENTO, DESTOCAMENTO, LIMPEZA DE ÁREA E ESTOCAGEM DO MATERIAL DE LIMPEZA COM ÁRVORES DE DIÂMETRO ATÉ 0,15 M | G32: M2 | H32: =RESUMO!G13 -> 2125 | I32: 2 | J32: =H32 -> 2125 | K32: 1.5 | M32: =I32*J32*K32 -> 6375 | P32: =ROUND(M32,2) -> 6375
A33: 7.1.1
A35: 8 | B35: =RESUMO!B14 -> ESTRADA - POVOADO ALTO ALEGRE AO POVOADO FERVEDOR
A36: 8.1 | B36: 5501700 | C36: DESMATAMENTO, DESTOCAMENTO, LIMPEZA DE ÁREA E ESTOCAGEM DO MATERIAL DE LIMPEZA COM ÁRVORES DE DIÂMETRO ATÉ 0,15 M | G36: M2 | H36: =RESUMO!G14 -> 2125 | I36: 2 | J36: =H36 -> 2125 | K36: 1.5 | M36: =I36*J36*K36 -> 6375 | P36: =ROUND(M36,2) -> 6375
A37: 8.1.1
A39: 9 | B39: =RESUMO!B15 -> ESTRADA - POVOADO JATOBÁ VELHO AO POVOADO ALDEIA
A40: 9.1 | B40: 5501700 | C40: DESMATAMENTO, DESTOCAMENTO, LIMPEZA DE ÁREA E ESTOCAGEM DO MATERIAL DE LIMPEZA COM ÁRVORES DE DIÂMETRO ATÉ 0,15 M | G40: M2 | H40: =RESUMO!G15 -> 2125 | I40: 2 | J40: =H40 -> 2125 | K40: 1.5 | M40: =I40*J40*K40 -> 6375 | P40: =ROUND(M40,2) -> 6375
A41: 9.1.1
A43: 10 | B43: =RESUMO!B16 -> ESTRADA - POVOADO GAMELEIRA AO POVOADO BOI MANSO
A44: 10.1 | B44: 5501700 | C44: DESMATAMENTO, DESTOCAMENTO, LIMPEZA DE ÁREA E ESTOCAGEM DO MATERIAL DE LIMPEZA COM ÁRVORES DE DIÂMETRO ATÉ 0,15 M | G44: M2 | H44: =RESUMO!G16 -> 2000 | I44: 2 | J44: =H44 -> 2000 | K44: 1.5 | M44: =I44*J44*K44 -> 6000 | P44: =ROUND(M44,2) -> 6000
A45: 10.1.1
A47: 11 | B47: =RESUMO!B17 -> ESTRADA - PERÍMETRO PERIURBANO
A48: 11.1 | B48: 5501700 | C48: DESMATAMENTO, DESTOCAMENTO, LIMPEZA DE ÁREA E ESTOCAGEM DO MATERIAL DE LIMPEZA COM ÁRVORES DE DIÂMETRO ATÉ 0,15 M | G48: M2 | H48: =RESUMO!G17 -> 1250 | I48: 2 | J48: =H48 -> 1250 | K48: 1.5 | M48: =I48*J48*K48 -> 3750 | P48: =ROUND(M48,2) -> 3750
A49: 11.1.1
A51: 12 | B51: =RESUMO!B18 -> ESTRADA - POVOADO ASSENTAMENTO AO POVOADO SANTA ANGÉLICA
A52: 12.1 | B52: 5501700 | C52: DESMATAMENTO, DESTOCAMENTO, LIMPEZA DE ÁREA E ESTOCAGEM DO MATERIAL DE LIMPEZA COM ÁRVORES DE DIÂMETRO ATÉ 0,15 M | G52: M2 | H52: =RESUMO!G18 -> 2125 | I52: 2 | J52: =H52 -> 2125 | K52: 1.5 | M52: =I52*J52*K52 -> 6375 | P52: =ROUND(M52,2) -> 6375
...

Sheet COMPOSICAO
A1: MUNICÍPIO DE SANTA CRUZ DOS MILAGRES - PI
A2: MANUTENÇÃO DE ESTRADAS NO MUNICÍPIO DE SANTA CRUZ DOS MILAGRES-PI
A3: PLANILHA DE COMPOSIÇÕES ANALÍTICAS
A5: DATA BASE: | B5: SINAPI PI-12/2023, SICRO3 10/2023, SEM DESONERAÇÃO | H5: LEIS SOCIAIS (%): | I5: 112.15 | J5: BDI (%): | K5: 20.73
A6: CLASSE/TIPO | B6: CÓDIGO | C6: DESCRIÇÃO | G6: UNID | H6: COEFICIENTE | I6: PREÇO UNIT | J6: TOTAL (R$)
A7: SERP | B7: ADM 2 | C7: ADMINISTRAÇÃO LOCAL DA OBRA | G7: MÊS | I7: 910.74
A8: COMPOSICAO | B8: 90777 | C8: ENGENHEIRO CIVIL DE OBRA JUNIOR COM ENCARGOS COMPLEMENTARES | G8: H | H8: 4.76 | I8: 80.26 | J8: =I8*H8 -> 382.0376
A9: COMPOSICAO | B9: 90776 | C9: ENCARREGADO GERAL COM ENCARGOS COMPLEMENTARES | G9: H | H9: 9.52 | I9: 24.63 | J9: =I9*H9 -> 234.4776
A10: COMPOSICAO | B10: 90767 | C10: APONTADOR OU APROPRIADOR COM ENCARGOS COMPLEMENTARES | G10: H | H10: 14.0376 | I10: 16.01 | J10: =I10*H10 -> 224.74198
A11: CUSTO DIRETO TOTAL | J11: =SUM(J8:K10) -> 841.25718
A12: TAXA DE BDI (20,73 %) | J12: =ROUND(J11*0.2073,2) -> 174.39
A13: TOTAL - ADM 2 | J13: =ROUND(J12+J11,2) -> 1015.65
A15: CLASSE/TIPO | B15: CÓDIGO | C15: DESCRIÇÃO | G15: UNID | H15: COEFICIENTE | I15: PREÇO UNIT | J15: TOTAL (R$)
A16: SERP | B16: 5501700 | C16: DESMATAMENTO, DESTOCAMENTO, LIMPEZA DE ÁREA E ESTOCAGEM DO MATERIAL DE LIMPEZA COM ÁRVORES DE DIÂMETRO ATÉ 0,15 M | G16: M2 | I16: 0.52
A17: COTACAO | B17: E9541 | C17: TRATOR DE ESTEIRAS COM LÂMINA - 259 KW | G17: CHP | H17: 1 | I17: 673.3729 | J17: 766.2802
A18: COMPOSICAO | B18: 88316 | C18: SERVENTE COM ENCARGOS COMPLEMENTARES | G18: H | H18: 2 | I18: 19.4495 | J18: =H18*I18 -> 38.899
A19: CUSTO HORÁRIO TOTAL DE EXECUÇÃO | J19: =SUM(J17:K18) -> 805.1792
A20: PRODUÇÃO DA EQUIPE | J20: 1532.91
A21: CUSTO UNITÁRIO DE EXECUÇÃO | J21: =J19/J20 -> 0.52526189
A22: CUSTO UNITÁRIO DE MATERIAL E SERVIÇOS AUXILIARES | J22: 0
A23: CUSTO DIRETO TOTAL | J23: =J21 -> 0.52526189
A24: TAXA DE BDI (20,73 %) | J24: =ROUND(0.2073*J23,2) -> 0.11
A25: TOTAL - 5501700 | J25: =ROUND(J24+J23,2) -> 0.64

Sheet COMPOSICAO_AUX_1
A1: MUNICÍPIO DE SANTA CRUZ DOS MILAGRES - PI
A2: MANUTENÇÃO DE ESTRADAS NO MUNICÍPIO DE SANTA CRUZ DOS MILAGRES-PI
A3: PLANILHA DE COMPOSIÇÕES ANALÍTICAS AUXILIARES - NÍVEL 1
A5: DATA BASE: | B5: SINAPI PI-02/2021, SICRO DNIT PI-10/2020, SEM DESONERAÇÃO | H5: LEIS SOCIAIS (%): | I5: 112.15 | J5: BDI (%): | K5: 20.73
A6: CLASSE/TIPO | B6: CÓDIGO | C6: DESCRIÇÃO | G6: UNID | H6: COEFICIENTE | I6: PREÇO UNIT | J6: TOTAL (R$)
A7: SEDI | B7: 90777 | C7: ENGENHEIRO CIVIL DE OBRA JUNIOR COM ENCARGOS COMPLEMENTARES | G7: H | I7: 92.27
A8: INSUMO | B8: 2706 | C8: ENGENHEIRO CIVIL DE OBRA JUNIOR | G8: H | H8: 1 | I8: 90.16 | J8: 90.16
A9: INSUMO | B9: 37372 | C9: EXAMES - HORISTA (COLETADO CAIXA) | G9: H | H9: 1 | I9: 0.55 | J9: 0.55
A10: INSUMO | B10: 37373 | C10: SEGURO - HORISTA (COLETADO CAIXA) | G10: H | H10: 1 | I10: 0.06 | J10: 0.06
A11: INSUMO | B11: 43462 | C11: FERRAMENTAS - FAMILIA ENGENHEIRO CIVIL - HORISTA (ENCARGOS COMPLEMENTARES - COLETADO CAIXA) | G11: H | H11: 1 | I11: 0.01 | J11: 0.01
A12: INSUMO | B12: 43486 | C12: EPI - FAMILIA ENGENHEIRO CIVIL - HORISTA (ENCARGOS COMPLEMENTARES - COLETADO CAIXA) | G12: H | H12: 1 | I12: 0.55 | J12: 0.55
A13: COMPOSICAO | B13: 95402 | C13: CURSO DE CAPACITAÇÃO PARA ENGENHEIRO CIVIL DE OBRA JÚNIOR (ENCARGOS COMPLEMENTARES) - HORISTA | G13: H | H13: 1 | I13: 0.94 | J13: 0.94
A14: TOTAL - 90777 | J14: 92.27
A16: CLASSE/TIPO | B16: CÓDIGO | C16: DESCRIÇÃO | G16: UNID | H16: COEFICIENTE | I16: PREÇO UNIT | J16: TOTAL (R$)
A17: SEDI | B17: 90776 | C17: ENCARREGADO GERAL COM ENCARGOS COMPLEMENTARES | G17: H | I17: 25.38
A18: INSUMO | B18: 4083 | C18: ENCARREGADO GERAL DE OBRAS | G18: H | H18: 1 | I18: 23.4 | J18: 23.4
A19: INSUMO | B19: 37372 | C19: EXAMES - HORISTA (COLETADO CAIXA) | G19: H | H19: 1 | I19: 0.55 | J19: 0.55
A20: INSUMO | B20: 37373 | C20: SEGURO - HORISTA (COLETADO CAIXA) | G20: H | H20: 1 | I20: 0.06 | J20: 0.06
A21: INSUMO | B21: 43463 | C21: FERRAMENTAS - FAMILIA ENCARREGADO GERAL - HORISTA (ENCARGOS COMPLEMENTARES - COLETADO CAIXA) | G21: H | H21: 1 | I21: 0.08 | J21: 0.08
A22: INSUMO | B22: 43487 | C22: EPI - FAMILIA ENCARREGADO GERAL - HORISTA (ENCARGOS COMPLEMENTARES - COLETADO CAIXA) | G22: H | H22: 1 | I22: 0.94 | J22: 0.94
A23: COMPOSICAO | B23: 95401 | C23: CURSO DE CAPACITAÇÃO PARA ENCARREGADO GERAL (ENCARGOS COMPLEMENTARES) - HORISTA | G23: H | H23: 1 | I23: 0.35 | J23: 0.35
A24: TOTAL - 90776 | J24: 25.38
A26: CLASSE/TIPO | B26: CÓDIGO | C26: DESCRIÇÃO | G26: UNID | H26: COEFICIENTE | I26: PREÇO UNIT | J26: TOTAL (R$)
A27: SEDI | B27: 90767 | C27: APONTADOR OU APROPRIADOR COM ENCARGOS COMPLEMENTARES | G27: H | I27: 16.38
A28: INSUMO | B28: 6122 | C28: APONTADOR OU APROPRIADOR DE MAO DE OBRA | G28: H | H28: 1 | I28: 14.93 | J28: 14.93
A29: INSUMO | B29: 37372 | C29: EXAMES - HORISTA (COLETADO CAIXA) | G29: H | H29: 1 | I29: 0.55 | J29: 0.55
A30: INSUMO | B30: 37373 | C30: SEGURO - HORISTA (COLETADO CAIXA) | G30: H | H30: 1 | I30: 0.06 | J30: 0.06
A31: INSUMO | B31: 43458 | C31: FERRAMENTAS - FAMILIA ALMOXARIFE - HORISTA (ENCARGOS COMPLEMENTARES - COLETADO CAIXA) | G31: H | H31: 1 | I31: 0.04 | J31: 0.04
A32: INSUMO | B32: 43482 | C32: EPI - FAMILIA ALMOXARIFE - HORISTA (ENCARGOS COMPLEMENTARES - COLETADO CAIXA) | G32: H | H32: 1 | I32: 0.58 | J32: 0.58
A33: COMPOSICAO | B33: 95393 | C33: CURSO DE CAPACITAÇÃO PARA APONTADOR OU APROPRIADOR (ENCARGOS COMPLEMENTARES) - HORISTA | G33: H | H33: 1 | I33: 0.22 | J33: 0.22
A34: TOTAL - 90767 | J34: 16.38
A36: CLASSE/TIPO | B36: CÓDIGO | C36: DESCRIÇÃO | G36: UNID | H36: COEFICIENTE | I36: PREÇO UNIT | J36: TOTAL (R$)
A37: SEDI | B37: 88316 | C37: SERVENTE COM ENCARGOS COMPLEMENTARES | G37: H | I37: 15.35
A38: INSUMO | B38: 6111 | C38: SERVENTE DE OBRAS | G38: H | H38: 1 | I38: 10.6 | J38: 10.6
A39: INSUMO | B39: 37370 | C39: ALIMENTACAO - HORISTA (COLETADO CAIXA) | G39: H | H39: 1 | I39: 1.86 | J39: 1.86
A40: INSUMO | B40: 37371 | C40: TRANSPORTE - HORISTA (COLETADO CAIXA) | G40: H | H40: 1 | I40: 0.7 | J40: 0.7
A41: INSUMO | B41: 37372 | C41: EXAMES - HORISTA (COLETADO CAIXA) | G41: H | H41: 1 | I41: 0.55 | J41: 0.55
A42: INSUMO | B42: 37373 | C42: SEGURO - HORISTA (COLETADO CAIXA) | G42: H | H42: 1 | I42: 0.06 | J42: 0.06
A43: INSUMO | B43: 43467 | C43: FERRAMENTAS - FAMILIA SERVENTE - HORISTA (ENCARGOS COMPLEMENTARES - COLETADO CAIXA) | G43: H | H43: 1 | I43: 0.41 | J43: 0.41
A44: INSUMO | B44: 43491 | C44: EPI - FAMILIA SERVENTE - HORISTA (ENCARGOS COMPLEMENTARES - COLETADO CAIXA) | G44: H | H44: 1 | I44: 1.01 | J44: 1.01
...

Sheet COMPOSICAO_AUX_2
A1: MUNICÍPIO DE SANTA CRUZ DOS MILAGRES - PI
A2: MANUTENÇÃO DE ESTRADAS NO MUNICÍPIO DE SANTA CRUZ DOS MILAGRES-PI
A3: PLANILHA DE COMPOSIÇÕES ANALÍTICAS AUXILIARES - NÍVEL 2
A5: DATA BASE: | B5: SINAPI PI-02/2021, SICRO DNIT PI-10/2020, SEM DESONERAÇÃO | H5: LEIS SOCIAIS (%): | I5: 112.15 | J5: BDI (%): | K5: 20.73
A6: CLASSE/TIPO | B6: CÓDIGO | C6: DESCRIÇÃO | G6: UNID | H6: COEFICIENTE | I6: PREÇO UNIT | J6: TOTAL (R$)
A7: SEDI | B7: 95402 | C7: CURSO DE CAPACITAÇÃO PARA ENGENHEIRO CIVIL DE OBRA JÚNIOR (ENCARGOS COMPLEMENTARES) - HORISTA | G7: H | I7: 0.94
A8: INSUMO | B8: 2706 | C8: ENGENHEIRO CIVIL DE OBRA JUNIOR | G8: H | H8: 0.0105 | I8: 90.16 | J8: 0.94
A9: TOTAL - 95402 | J9: 0.94
A11: CLASSE/TIPO | B11: CÓDIGO | C11: DESCRIÇÃO | G11: UNID | H11: COEFICIENTE | I11: PREÇO UNIT | J11: TOTAL (R$)
A12: SEDI | B12: 95401 | C12: CURSO DE CAPACITAÇÃO PARA ENCARREGADO GERAL (ENCARGOS COMPLEMENTARES) - HORISTA | G12: H | I12: 0.35
A13: INSUMO | B13: 4083 | C13: ENCARREGADO GERAL DE OBRAS | G13: H | H13: 0.0151 | I13: 23.4 | J13: 0.35
A14: TOTAL - 95401 | J14: 0.35
A16: CLASSE/TIPO | B16: CÓDIGO | C16: DESCRIÇÃO | G16: UNID | H16: COEFICIENTE | I16: PREÇO UNIT | J16: TOTAL (R$)
A17: SEDI | B17: 95393 | C17: CURSO DE CAPACITAÇÃO PARA APONTADOR OU APROPRIADOR (ENCARGOS COMPLEMENTARES) - HORISTA | G17: H | I17: 0.22
A18: INSUMO | B18: 6122 | C18: APONTADOR OU APROPRIADOR DE MAO DE OBRA | G18: H | H18: 0.0151 | I18: 14.93 | J18: 0.22
A19: TOTAL - 95393 | J19: 0.22
A21: CLASSE/TIPO | B21: CÓDIGO | C21: DESCRIÇÃO | G21: UNID | H21: COEFICIENTE | I21: PREÇO UNIT | J21: TOTAL (R$)
A22: SEDI | B22: 95378 | C22: CURSO DE CAPACITAÇÃO PARA SERVENTE (ENCARGOS COMPLEMENTARES) - HORISTA | G22: H | I22: 0.16
A23: INSUMO | B23: 6111 | C23: SERVENTE DE OBRAS | G23: H | H23: 0.0151 | I23: 10.6 | J23: 0.16
A24: TOTAL - 95378 | J24: 0.16

Sheet BDI
A1: MUNICÍPIO DE SANTA CRUZ DOS MILAGRES - PI
A2: MANUTENÇÃO DE ESTRADAS NO MUNICÍPIO DE SANTA CRUZ DOS MILAGRES-PI
A3: COMPOSIÇÃO DA TAXA DE BDI
A5: DATA BASE: | B5: SINAPI PI-12/2023, SICRO3 10/2023, SEM DESONERAÇÃO | G5: LEIS SOCIAIS (%): | H5: 112.15 | J5: BDI (%): | K5: 20.73
A6: ITEM | C6: DESCRIÇÃO | J6: TOTAL (%)
A7: AC | C7: ADMINISTRAÇÃO CENTRAL | J7: 0.038
A8: SG | C8: SEGURO E GARANTIA | J8: 0.0032
A9: R | C9: RISCOS | J9: 0.005
A10: DF | C10: DESPESA FINANCEIRA | J10: 0.0102
A11: L | C11: LUCRO | J11: 0.06641
A12: I | C12: TRIBUTOS E IMPOSTOS | J12: 0.0665
A13: PIS | C13: PROGRAMA DE INTEGRAÇÃO SOCIAL | J13: 0.0065
A14: COFINS | C14: CONSTRIBUIÇÃO SOCIAL PARA FINANCIAMENTO DA SEGURIDADE SOCIAL | J14: 0.03
A15: ISS | C15: IMPOSTO SOBRE SERVIÇOS DE QUALQUER NATUREZA (5% x 60%) | J15: 0.03
A16: CPRB | C16: CONTRIBUIÇÃO PREVIDENCIÁRIA SOBRE A RECEITA BRUTA | J16: 0
A17: BDI | C17: TAXA DE BENEFÍCIOS E DESPESAS INDIRETAS | J17: 0.2073
A19: BDI = { [ ( 1 + AC + SG + R ) x ( 1 + DF ) x ( 1 + L ) ] / [ 1 - ( PIS + COFINS + ISS + CPRB ) ] } - 1
A20: Cálculo em conformidade com o acórdão nº 2622/2013-TCU e Lei nº 13.161 de 31 de agosto de 2015.
A21: OBSERVAÇÕES
A22: a) Os percentuais de Impostos a serem adotados devem ser indicados pelo Tomador, conforme legislação vigente. Deverão ser definidos pelo Tomador, conforme Código Tributário do município, o valor do ISS, que será um percentual entre 2% e 5%, e a alíquota aplicada sobre o mesmo, representando o percentual de mão de obra em relação ao valor total da obra.
A25: b) Para análise de orçamentos considerando a desoneração sobre a folha de pagamento, prevista na lei nº 12.844/2013, deverá ser adotada uma alíquota de 4,5% sobre a contribuição previenciária sobre a receita bruta. Quando a opção orçamentária não considerar a desoneração da folha de pagamento, deverá ser adotada uma alíquota de 0% no referido item.
A28: c) Para o tipo de obra “Construção de Rodovias e Ferrovias”, enquadram-se:a construção e recuperação de auto-estradas, rodovias e outras vias não-urbanas para passagem de veículos; a construção e recuperação de vias férreas de superfície ou subterrâneas, inclusive para metropolitanos (preparação do leito, colocação dos trilhos, etc.); a construção e recuperação de pistas de aeroportos; a pavimentação de auto-estradas, rodovias e outras vias não-urbanas; pontes, viadutos e túneis, inclusive em pistas de aeroportos; a instalação de barreiras acústicas; a construção de praças de pedágio, conforme classificação 4211-1/01 do CNAE.

Sheet LS
A1: MUNICÍPIO DE SANTA CRUZ DOS MILAGRES - PI
A2: MANUTENÇÃO DE ESTRADAS NO MUNICÍPIO DE SANTA CRUZ DOS MILAGRES-PI
A3: PLANILHA DE ENCARGOS SOCIAIS
A5: DATA BASE: | B5: SINAPI PI-12/2023, SICRO3 10/2023, SEM DESONERAÇÃO | G5: LEIS SOCIAIS (%): | H5: 112.15 | I5: BDI (%): | J5: 20.73
A6: CÓDIGO | C6: DESCRIÇÃO | G6: COM DESONERAÇÃO | I6: SEM DESONERAÇÃO
G7: HORISTA | H7: MENSALISTA | I7: HORISTA | J7: MENSALISTA
A8: GRUPO A
A9: A1 | C9: INSS | G9: 0 | H9: 0 | I9: 0.2 | J9: 0.2
A10: A2 | C10: SESI | G10: 0.015 | H10: 0.015 | I10: 0.015 | J10: 0.015
A11: A3 | C11: SENAI | G11: 0.01 | H11: 0.01 | I11: 0.01 | J11: 0.01
A12: A4 | C12: INCRA | G12: 0.002 | H12: 0.002 | I12: 0.002 | J12: 0.002
A13: A5 | C13: SEBRAE | G13: 0.006 | H13: 0.006 | I13: 0.006 | J13: 0.006
A14: A6 | C14: SALÁRIO EDUCAÇÃO | G14: 0.025 | H14: 0.025 | I14: 0.025 | J14: 0.025
A15: A7 | C15: SEGURO CONTRA ACIDENTES DE TRABALHO | G15: 0.03 | H15: 0.03 | I15: 0.03 | J15: 0.03
A16: A8 | C16: FGTS | G16: 0.08 | H16: 0.08 | I16: 0.08 | J16: 0.08
A17: A9 | C17: SECONCI | G17: 0 | H17: 0 | I17: 0 | J17: 0
A18: A | C18: TOTAL | G18: 0.168 | H18: 0.168 | I18: 0.368 | J18: 0.368
A19: GRUPO B
A20: B1 | C20: REPOUSO SEMANAL REMUNERADO | G20: 0.1782 | H20: Não Incide | I20: 0.1782 | J20: Não Incide
A21: B2 | C21: FERIADOS | G21: 0.0395 | H21: Não Incide | I21: 0.0395 | J21: Não Incide
A22: B3 | C22: AUXÍLIO - ENFERMIDADE | G22: 0.0087 | H22: 0.0067 | I22: 0.0087 | J22: 0.0067
A23: B4 | C23: 13º SALÁRIO | G23: 0.1076 | H23: 0.0833 | I23: 0.1076 | J23: 0.0833
A24: B5 | C24: LICENÇA PATERNIDADE | G24: 0.0007 | H24: 0.0006 | I24: 0.0007 | J24: 0.0006
A25: B6 | C25: FALTAS JUSTIFICADAS | G25: 0.0072 | H25: 0.0056 | I25: 0.0072 | J25: 0.0056
A26: B7 | C26: DIAS DE CHUVAS | G26: 0.0116 | H26: Não Incide | I26: 0.0116 | J26: Não Incide
A27: B8 | C27: AUXÍLIO ACIDENTE DE TRABALHO | G27: 0.0011 | H27: 0.0008 | I27: 0.0011 | J27: 0.0008
A28: B9 | C28: FÉRIAS GOZADAS | G28: 0.0835 | H28: 0.0647 | I28: 0.0835 | J28: 0.0647
A29: B10 | C29: SALÁRIO MATERNIDADE | G29: 0.0003 | H29: 0.0003 | I29: 0.0003 | J29: 0.0003
A30: B | C30: TOTAL | G30: 0.4384 | H30: 0.162 | I30: 0.4384 | J30: 0.162
A31: GRUPO C
A32: C1 | C32: AVISO PRÉVIO INDENIZADO | G32: 0.052 | H32: 0.0403 | I32: 0.052 | J32: 0.0403
A33: C2 | C33: AVISO PRÉVIO TRABALHADO | G33: 0.0012 | H33: 0.0009 | I33: 0.0012 | J33: 0.0009
A34: C3 | C34: FÉRIAS INDENIZADAS | G34: 0.0526 | H34: 0.0407 | I34: 0.0526 | J34: 0.0407
A35: C4 | C35: DEPÓSITO RESCISÃO SEM JUSTA CAUSA | G35: 0.039 | H35: 0.0302 | I35: 0.039 | J35: 0.0302
A36: C5 | C36: INDENIZAÇÃO ADICIONAL | G36: 0.0044 | H36: 0.0034 | I36: 0.0044 | J36: 0.0034
A37: C | C37: TOTAL | G37: 0.1492 | H37: 0.1155 | I37: 0.1492 | J37: 0.1155
A38: GRUPO D
A39: D1 | C39: REINCIDÊNCIA DE GRUPO A SOBRE GRUPO B | G39: 0.0737 | H39: 0.0272 | I39: 0.1613 | J39: 0.0596
A40: D2 | C40: REINCIDÊNCIA DE GRUPO A SOBRE AVISO PRÉVIO TRABALHADO E REINCIDÊNCIA DO FGTS SOBRE AVISO PRÉVIO INDENIZADO | G40: 0.0044 | H40: 0.0034 | I40: 0.0046 | J40: 0.0036
A41: D | C41: TOTAL | G41: 0.0781 | H41: 0.0306 | I41: 0.1659 | J41: 0.0632
...
