Workbook

Sheet Mapa Resumido
C2: Universidade do Estado do Rio de Janeiro
C3: Hospital Universitário Pedro Ernesto
C5: Mapa Resumo - Preços Válidos
I8: Processo: | J8: SEI-260008/013010/2023
A10: Item | B10: ID SIGA | C10: Material | D10: Unidade | H10: Quantidade | I10: Menor Preço | J10: Subtotal | K10: Última Compra
A11: ='Item 1'!$A$8 -> 1 | B11: ='Item 1'!$A$10 -> 166235 | C11: ='Item 1'!$A$11 -> Prestação de serviços de lavanderia com locação de enxoval hospitalar. | D11: ='Item 1'!$B$9 -> UNIDADE TEMPORAL: MÊS | E11: ='Item 1'!$B$10 -> 6 | F11: ='Item 1'!$B$11 -> UNIDADE DE MEDIDA: KG | G11: ='Item 1'!$B$12 -> QUANTIDADE KG MENSAL | H11: ='Item 1'!$B$13 -> 100000 | I11: =MIN('Item 1'!B18) -> 6.8 | J11: =E11*H11*I11 -> 4080000 | K11: 6.8
A12: ='Item 2'!$A$8 -> 2 | B12: ='Item 2'!$A$10 -> 152521 | C12: ='Item 2'!$A$11 -> Mão de obra para o controle operacional e gestão do enxoval hospitalar nas dependências da Contratante. | D12: ='Item 2'!$B$10 -> Serviço mensal | H12: ='Item 2'!B11 -> 6 | I12: =MIN('Item 2'!B19) -> 306948.93 | J12: =H12*I12 -> 1841693.6 | K12: 306948.93
H14: Total: | J14: =SUM(J11:J12) -> 5921693.6

Sheet Item 1
B2: Universidade do Estado do Rio de Janeiro
B3: Hospital Universitário Pedro Ernesto
B5: Mapa de Demonstração de Pesquisa de Mercado
A8: 1 | B8: Processo: | C8: ='Mapa Resumido'!J8 -> SEI-260008/013010/2023
A9: ID SIGA | B9: UNIDADE TEMPORAL: MÊS | C9: Fornecedor/Preço Referencial | E9: Data da Consulta | F9: Valor Unitário
A10: 166235 | B10: 6 | C10: SGHN. | E10: 45244 | F10: =680000/100000 -> 6.8 | G10: ( = R$ 680.000 / 100.000 )
A11: Prestação de serviços de lavanderia com locação de enxoval hospitalar. | B11: UNIDADE DE MEDIDA: KG | C11: ROBSON FERREIRA DOS SANTOS. | E11: 45246 | F11: =152900 -> 152900
B12: QUANTIDADE KG MENSAL | C12: SGNH. PE-393/2023. RJ. | E12: 45231 | F12: =377664.21/27803.5 -> 13.583333 | G12: ( = R$ 377.664,21 / 27.803,50 )
B13: 100000 | C13: SGHN. CONT-2023007869. HUPE. | E13: 45231 | F13: 6.8
A18: Mínimo Unitário | B18: =MIN(F10:F16) -> 6.8 | C18: ( Mínimo dentre F10:F16 )
A19: Mínimo Mensal | B19: =B18*B13 -> 680000 | C19: ( B18 * B13 )
A20: Mínimo Total | B20: =B19*B10 -> 4080000 | C20: ( B19 * B10 )
D22: Obs.1: Nos casos de dispensas de licitação amparadas pelos artigos 74 e 75 da Lei 14.133/2021 e adesões à ata externa , a metodologia utilizada será sempre o mínimo dentre os preços válidos, sem utilizar tratamento estatístico. Os valores desconsiderados serão justificados no relatório analítico, caso a caso.
D25: Obs.2: Para o cálculo do valor unitário foi realizado o seguinte cálculo de acordo com os parâmentros dispostos no SIGA: VALOR UNITÁRIO TOTAL DA PROPOSTA = VALOR DA UNITÁRIO POR MÊS x QUANTIDADE DE MESES. Considerou-se o consumo de 100.000 kg por mês, assim: VALOR UNITÁRIO POR KG = VALOR DA UNITÁRIO POR MÊS / 100.000 KG.

Sheet Item 2
B2: Universidade do Estado do Rio de Janeiro
B3: Hospital Universitário Pedro Ernesto
B5: Mapa de Demonstração de Pesquisa de Mercado
A8: 2 | B8: Processo: | C8: ='Mapa Resumido'!J8 -> SEI-260008/013010/2023
A9: ID SIGA | B9: Quantidade | C9: Fornecedor/Preço Referencial | E9: Data da Consulta | F9: Valor Unitário
A10: 152521 | B10: Serviço mensal | C10: SGHN. | E10: 45244 | F10: 306948.93
A11: Mão de obra para o controle operacional e gestão do enxoval hospitalar nas dependências da Contratante. | B11: 6 | C11: SGNH. PE-393/2023. RJ. (dsconsiderado) | E11: 45231 | F11: 172740.62
C12: SGHN. CONT-2023007869. HUPE. | E12: 45231 | F12: 306948.93
A19: Mínimo Mensal | B19: =306948.93 -> 306948.93 | D19: Obs.1: Nos casos de dispensas de licitação amparadas pelos artigos 74 e 75 da Lei 14.133/2021 e adesões à ata externa , a metodologia utilizada será sempre o mínimo dentre os preços válidos, sem utilizar tratamento estatístico. Os valores desconsiderados serão justificados no relatório analítico, caso a caso.
A20: Mínimo Total | B20: =B19*B11 -> 1841693.6
