Workbook

Sheet DIMENSIONAMENTO ESTIMADO  
A1: SUGESTÃO DE DIMENSIONAMENTO ESTIMADO DE PESSOAL DA DIVISÃO DE NUTRIÇÃO
A3: SUGESTÃO DE DIMENSIONAMENTO ESTIMADO DE PESSOAL
A4: Categoria Profissional | B4: CBO | C4: NÚMERO POR PLANTÃO (A e B), 2 EQUIPES EM ESCALA 12X36 | M4: DIARISTAS | O4: TOTAL DE MO A CONTRATAR
C5: 06:00 às 18:00h | E5: 06:30 às 18:30h | G5: 08:30 às 20:30h | I5: 09:00 às 21:00h | K5: 19:00 às 07:00h | M5: 07:00 às 16:00h | N5: 08:00 às 17:00h
C6: A | D6: B | E6: A | F6: B | G6: A | H6: B | I6: A | J6: B | K6: A | L6: B
A7: Nutricionista RT de Produção | B7: 2237-10 | M7: 1 | O7: =SUM(C7:N7) -> 1
A8: Nutricionista Plantonista Grandes Refeições | B8: 2237-10 | C8: 1 | D8: 1 | I8: 1 | J8: 1 | O8: =SUM(C8:N8) -> 4
A9: Nutricionista Plantonista Pequenas Refeições, Lanches Padronizados, Dietas Líquidas e Semilíquidas e Pediatria | B9: 2237-10 | C9: 1 | D9: 1 | O9: =SUM(C9:N9) -> 2
A10: Nutricionista Planejamento | B10: 2237-10 | M10: 1 | O10: =SUM(C10:N10) -> 1
A11: Nutricionista do Controle de Qualidade/Auxiliar Chefia | B11: 2237-10 | M11: 1 | O11: =SUM(C11:N11) -> 1
A12: Nutricionista RT Lactário/Enteral/Banco de Leite | B12: 2237-10 | E12: 1 | F12: 1 | O12: =SUM(C12:N12) -> 2
A13: Tecnico em Nutrição* | B13: 3252-10 | E13: 5 | F13: 5 | K13: 1 | L13: 1 | M13: 2 | O13: =SUM(C13:N13) -> 14
A14: Assistente Administrativo | B14: 4110-05 | M14: 3 | O14: =SUM(C14:N14) -> 3
A15: Almoxarife | B15: 4141-05 | M15: 1 | O15: =SUM(C15:N15) -> 1
A16: Aux. de Almoxarife | B16: 4141-05 | C16: 1 | D16: 1 | E16: 1 | F16: 1 | G16: 1 | H16: 1 | O16: =SUM(C16:N16) -> 6
A17: Cozinheiro Lider | B17: 5132-14 | C17: 1 | D17: 1 | O17: =SUM(C17:N17) -> 2
A18: Magarefe | B18: 8485-20 | C18: 1 | D18: 1 | O18: =SUM(C18:N18) -> 2
A19: Cozinheiro | B19: 5132-15 | C19: 1 | D19: 1 | E19: 1 | F19: 1 | O19: =SUM(C19:N19) -> 4
A20: Copeiro Auxiliar de Cozinha ** | B20: 5135-05 | C20: 10 | D20: 10 | E20: 4 | F20: 4 | G20: 1 | H20: 1 | K20: 1 | L20: 1 | O20: =SUM(C20:N20) -> 32
A21: Copeiro de Distribuição*** | B21: 5134-25 | E21: 29 | F21: 29 | G21: 5 | H21: 5 | K21: 5 | L21: 5 | M21: 2 | O21: =SUM(C21:N21) -> 80
A22: Servente de Limpeza**** | B22: 5143-20 | C22: 2 | D22: 2 | E22: 7 | F22: 7 | G22: 1 | H22: 1 | I22: 2 | J22: 2 | K22: 1 | L22: 1 | O22: =SUM(C22:N22) -> 26
A23: Tecnico em Manutenção ***** | B23: 5143-10 | N23: 1 | O23: =SUM(C23:N23) -> 1
A24: Mecânico de Refrigeração ***** | B24: 7257-05 | N24: 1 | O24: =SUM(C24:N24) -> 1
A27: Motorista | B27: 7823-10 | E27: 1 | F27: 1 | O27: =SUM(C27:N27) -> 2
C28: =SUM(C7:C27) -> 18 | D28: =SUM(D7:D27) -> 18 | E28: =SUM(E7:E27) -> 49 | F28: =SUM(F7:F27) -> 49 | G28: =SUM(G7:G27) -> 8 | H28: =SUM(H7:H27) -> 8 | I28: =SUM(I7:I27) -> 3 | J28: =SUM(J7:J27) -> 3 | ... O28: =SUM(O7:O27) -> 185
A29: Subtotal

Sheet VALOR ESTIMADO
A2: VALOR ESTIMADO DO POSTO DIA
A3: Categoria Profissional | B3: CBO | C3: VALOR MENSAL | D3: VALOR ANUAL
A6: Servente de Limp Plant Diurno | B6: 5143-20 | C6: ='Serv Limp Plant Diurno'!C154 -> 120728.88 | D6: ='Serv Limp Plant Diurno'!C155 -> 1448746.6
A7: Servente de Limp Plant Noturno | B7: 5143-20 | C7: ='Serv Limp Plant Noturno'!C154 -> 11520.98 | D7: ='Serv Limp Plant Noturno'!C155 -> 138251.76
A8: Assistente Administrativo | B8: 4110-05 | C8: =C10 -> 31400.16 | D8: ='Ass Adm. Diarista '!C155 -> 247511.16
A9: Almoxarife | B9: 4141-05 | C9: ='Almoxarife Diarista'!C154 -> 5634.52 | D9: ='Almoxarife Diarista'!C155 -> 67614.24
A10: Aux. de Almoxarife | B10: 4141-05 | C10: ='Aux Almoxarife '!C154 -> 31400.16 | D10: ='Aux Almoxarife '!C155 -> 376801.92
A11: Cozinheiro Lider | B11: 5132-14 | C11: ='Cozinheiro Lider'!C154 -> 14839.68 | D11: ='Cozinheiro Lider'!C155 -> 178076.16
A12: Cozinheiro | B12: 5132-15 | C12: ='Cozinheiro '!C154 -> 22123.84 | D12: ='Cozinheiro '!C155 -> 265486.08
A13: Auxiliar de Cozinha | B13: 5135-05 | C13: ='Aux Cozinha '!C154 -> 157842 | D13: ='Aux Cozinha '!C155 -> 1894104
A14: Auxiliar de Cozinha Noturno | B14: 5135-05 | C14: ='Aux Cozinha Noturno'!C154 -> 12058.04 | D14: ='Aux Cozinha Noturno'!C155 -> 144696.48
A15: Copeiro Diarista | B15: 5134-25 | C15: ='Copeiro diarista '!C154 -> 10687.46 | D15: ='Copeiro diarista '!C155 -> 128249.52
A16: Copeiro Plantonista Noturno | B16: 5134-26 | C16: ='Copeiro Plant Noturno '!C154 -> 59797.6 | D16: ='Copeiro Plant Noturno '!C155 -> 717571.2
A17: Copeiro Plantonista Diurno | B17: 5134-27 | C17: ='Copeiro Plant diurno '!C154 -> 354424.84 | D17: ='Copeiro Plant diurno '!C155 -> 4253098.1
A18: Tecnico em Manutenção | B18: 5143-10 | C18: ='Tec. Manutenção'!C154 -> 9888.36 | D18: ='Tec. Manutenção'!C155 -> 118660.32
A19: Motorista | B19: 7823-10 | C19: ='Motorista '!C154 -> 14485.84 | D19: ='Motorista '!C155 -> 173830.08
A20: Nutricionista RT Lactário/Enteral/Banco de Leite | B20: 2237-10 | C20: =' Nutricionista RT SET FEC PLANT'!C154 -> 24761.44 | D20: =' Nutricionista RT SET FEC PLANT'!C155 -> 297137.28
A21: Nutricionista RT Chefia | B21: 2237-10 | C21: =' NUT RT CHEFIA DIARISTA'!C154 -> 14261.58 | D21: =' NUT RT CHEFIA DIARISTA'!C155 -> 171138.96
A22: Nutricionista Plantonista | B22: 2237-10 | C22: ='Nutricionista Plantonista'!C154 -> 69036.66 | D22: ='Nutricionista Plantonista'!C155 -> 828439.92
A23: Nutricionista Diarista | B23: 2237-10 | C23: ='Nutricionista Diarista '!C154 -> 24150.02 | D23: ='Nutricionista Diarista '!C155 -> 289800.24
A24: Tecnico em Nutrição Plant Noturno | B24: 3252-10 | C24: ='Tec em Nutrição Plant noturno'!C154 -> 12852.44 | D24: ='Tec em Nutrição Plant noturno'!C155 -> 154229.28
A25: Tecnico em Nutrição Plantonista Diurno | B25: 3252-10 | C25: ='Tecnico em Nutrição Plantonista'!C154 -> 55722 | D25: ='Tecnico em Nutrição Plantonista'!C155 -> 668664
A26: Tecnico em Nutrição Diarista | B26: 3252-10 | C26: ='Tecnico Nutrição Diarista'!C154 -> 11407.6 | D26: ='Tecnico Nutrição Diarista'!C155 -> 136891.2
A27: Mecânico de Refrigeração | B27: 7257-05 | C27: ='Mecânico de Refrigeração'!C154 -> 7115.83 | D27: ='Mecânico de Refrigeração'!C155 -> 85389.96
A30: Magarefe | B30: 8485-20 | C30: ='Magarefe plantonista '!C154 -> 10623.22 | D30: ='Magarefe plantonista '!C155 -> 127478.64
A31: TOTAL | C31: =SUM(C6:C30) -> 1086763.1 | D31: =SUM(D6:D30) -> 12911867

Sheet Serv Limp Plant Diurno
A2: PLANILHA 37 - SERVENTE DE LIMPEZA PLANTONISTA NOTURNO 20:00 às 08:00H
A4: Discriminação dos Serviços
A5: A | B5: Data de apresentação da proposta
A6: B | B6: Município | H6: Rio de Janeiro
A7: C | B7: Sindicato dosTrabalhadores nas Empresas de Refeições Coletivas, Refeições Rápidas (FAST FOOD) e Afins do Estado do Rio de Janeiro - SINDIREFEIÇÕES-RJ | H7: 2024
A8: D | B8: Nº de meses de execução contratual | H8: 12
A10: Identificação do Serviço
A11: Tipo de Serviço | C11: Unidade de Medida | E11: Quantidade total a contratar (em função da unidade de medida)
A12: Limpeza | C12: Nº Refeições | E12: 24
A14: Dados para composição dos custos referentes à mão-de-obra
A15: 1 | B15: Tipo de serviço (mesmo serviço com características distintas) | H15: Limpeza
A16: 2 | B16: Classificação Brasileira de Ocupações (CBO) | H16: 5143-20
A17: 3 | B17: Salário Nominativo da Categoria Profissional | H17: 1711.6
A18: 4 | B18: Categoria profissional (vinculada à execução contratual) | H18: Servente
A19: 5 | B19: Data base da categoria (dia/mês/ano) | H19: 45536
A21: MÓDULO 1 - COMPOSIÇÃO DA REMUNERAÇÃO
A22: 1 | B22: COMPOSIÇÃO DA REMUNERAÇÃO | H22: % | I22: VALOR (R$)
A23: A | B23: Salário Base | I23: 1711.6
A24: B | B24: Adicional Periculosidade | I24: 0
A25: C | B25: Adicional Insalubridade | H25: 0.2 | I25: =1412*H25 -> 282.4
A26: D | B26: Adicional Noturno | I26: 0
A27: E | B27: Adicional de Hora Noturna Reduzida | I27: 0
A28: F | B28: Outros (especificar) | I28: 0
A29: TOTAL DO MÓDULO 1 | I29: =TRUNC(SUM(I23:I28),2) -> 1994
A31: MÓDULO 2 – ENCARGOS E BENEFÍCIOS ANUAIS, MENSAIS E DIÁRIOS
A32: Submódulo 2.1 - 13º Salário, Férias e Adicional de Férias | H32: % | I32: VALOR (R$)
A33: A | B33: 13 (Décimo-terceiro) salário | H33: 0.0833 | I33: =$I$29*H33 -> 166.1002
A34: B | B34: Férias e Adicional de Férias | H34: 0.0278 | I34: =H34*I29 -> 55.4332
A35: TOTAL SUBMÓDULO 2.1 | H35: =TRUNC(SUM(H33:H34),4) -> 0.1111 | I35: =TRUNC(SUM(I33:I34),2) -> 221.53
J36: base 2.2 | K36: =I29+I35+I93 -> 2400.75
A37: Submódulo 2.2 - GPS, FGTS e Outras Contribuições | H37: % | I37: VALOR (R$) | J37: Total do mod 1+total submodulo 2.1+total mod 4
A38: A | B38: INSS | H38: 0.2 | I38: =H38*$K$36 -> 480.15
A39: B | B39: Salário Educação | H39: 0.025 | I39: =H39*$K$36 -> 60.01875
A40: C | B40: SAT (Seguro Acidente de Trabalho) | H40: =0.02*0.843 -> 0.01686 | I40: =H40*$K$36 -> 40.476645
A41: D | B41: SESC ou SESI | H41: 0.015 | I41: =H41*$K$36 -> 36.01125
A42: E | B42: SENAI - SENAC | H42: 0.01 | I42: =H42*$K$36 -> 24.0075
A43: F | B43: SEBRAE | H43: 0.006 | I43: =H43*$K$36 -> 14.4045
A44: G | B44: INCRA | H44: 0.002 | I44: =H44*$K$36 -> 4.8015
A45: H | B45: FGTS | H45: 0.08 | I45: =H45*$K$36 -> 192.06
A46: TOTAL SUBMÓDULO 2.2 | H46: =SUM(H38:H45) -> 0.35486 | I46: =TRUNC(SUM(I38:I45),2) -> 851.93
...

Sheet Serv Limp Plant Noturno
A2: PLANILHA 37 - SERVENTE DE LIMPEZA PLANTONISTA DIURNO
A4: Discriminação dos Serviços
A5: A | B5: Data de apresentação da proposta
A6: B | B6: Município | H6: Rio de Janeiro
A7: C | B7: Sindicato dosTrabalhadores nas Empresas de Refeições Coletivas, Refeições Rápidas (FAST FOOD) e Afins do Estado do Rio de Janeiro - SINDIREFEIÇÕES-RJ | H7: 2024
A8: D | B8: Nº de meses de execução contratual | H8: 12
A10: Identificação do Serviço
A11: Tipo de Serviço | C11: Unidade de Medida | E11: Quantidade total a contratar (em função da unidade de medida)
A12: Limpeza | C12: Nº Refeições | E12: 2
A14: Dados para composição dos custos referentes à mão-de-obra
A15: 1 | B15: Tipo de serviço (mesmo serviço com características distintas) | H15: Limpeza
A16: 2 | B16: Classificação Brasileira de Ocupações (CBO) | H16: 5143-20
A17: 3 | B17: Salário Nominativo da Categoria Profissional | H17: 1711.6
A18: 4 | B18: Categoria profissional (vinculada à execução contratual) | H18: Servente
A19: 5 | B19: Data base da categoria (dia/mês/ano) | H19: 45536
A21: MÓDULO 1 - COMPOSIÇÃO DA REMUNERAÇÃO
A22: 1 | B22: COMPOSIÇÃO DA REMUNERAÇÃO | H22: % | I22: VALOR (R$)
A23: A | B23: Salário Base | I23: 1711.6
A24: B | B24: Adicional Periculosidade | I24: 0
A25: C | B25: Adicional Insalubridade | H25: 0.2 | I25: =1412*H25 -> 282.4
A26: D | B26: Adicional Noturno | H26: 0.2 | I26: =I23*H26 -> 342.32
A27: E | B27: Adicional de Hora Noturna Reduzida | I27: 0
A28: F | B28: Outros (especificar) | I28: 0
A29: TOTAL DO MÓDULO 1 | I29: =TRUNC(SUM(I23:I28),2) -> 2336.32
A31: MÓDULO 2 – ENCARGOS E BENEFÍCIOS ANUAIS, MENSAIS E DIÁRIOS
A32: Submódulo 2.1 - 13º Salário, Férias e Adicional de Férias | H32: % | I32: VALOR (R$)
A33: A | B33: 13 (Décimo-terceiro) salário | H33: 0.0833 | I33: =$I$29*H33 -> 194.61546
A34: B | B34: Férias e Adicional de Férias | H34: 0.0278 | I34: =H34*I29 -> 64.949696
A35: TOTAL SUBMÓDULO 2.1 | H35: =TRUNC(SUM(H33:H34),4) -> 0.1111 | I35: =TRUNC(SUM(I33:I34),2) -> 259.56
J36: base 2.2 | K36: =I29+I35+I93 -> 2812.83
A37: Submódulo 2.2 - GPS, FGTS e Outras Contribuições | H37: % | I37: VALOR (R$) | J37: Total do mod 1+total submodulo 2.1+total mod 4
A38: A | B38: INSS | H38: 0.2 | I38: =H38*$K$36 -> 562.566
A39: B | B39: Salário Educação | H39: 0.025 | I39: =H39*$K$36 -> 70.32075
A40: C | B40: SAT (Seguro Acidente de Trabalho) | H40: =0.02*0.843 -> 0.01686 | I40: =H40*$K$36 -> 47.424314
A41: D | B41: SESC ou SESI | H41: 0.015 | I41: =H41*$K$36 -> 42.19245
A42: E | B42: SENAI - SENAC | H42: 0.01 | I42: =H42*$K$36 -> 28.1283
A43: F | B43: SEBRAE | H43: 0.006 | I43: =H43*$K$36 -> 16.87698
A44: G | B44: INCRA | H44: 0.002 | I44: =H44*$K$36 -> 5.62566
A45: H | B45: FGTS | H45: 0.08 | I45: =H45*$K$36 -> 225.0264
A46: TOTAL SUBMÓDULO 2.2 | H46: =SUM(H38:H45) -> 0.35486 | I46: =TRUNC(SUM(I38:I45),2) -> 998.16
...

Sheet Ass Adm. Diarista 
A2: PLANILHA 38 - ASSISTENTE ADMINISTRATIVO PLENO DIARISTA
A4: Discriminação dos Serviços
A5: A | B5: Data de apresentação da proposta
A6: B | B6: Município | H6: Rio de Janeiro
A7: C | B7: Sindicato dos Empregados em Empresas de Asseio e Conservação | H7: 2024
A8: D | B8: Nº de meses de execução contratual | H8: 12
A10: Identificação do Serviço
A11: Tipo de Serviço | C11: Unidade de Medida | E11: Quantidade total a contratar (em função da unidade de medida)
A12: Alimentação | C12: Profissional | E12: 3
A14: Dados para composição dos custos referentes à mão-de-obra
A15: 1 | B15: Tipo de serviço (mesmo serviço com características distintas) | H15: Administrativo
A16: 2 | B16: Classificação Brasileira de Ocupações (CBO) | H16: 4110-05
A17: 3 | B17: Salário Nominativo da Categoria Profissional | H17: =SUM(2175.53) + 6.2%*2175.53 -> 2310.4129
A18: 4 | B18: Categoria profissional (vinculada à execução contratual) | H18: Assistente Administrativo
A19: 5 | B19: Data base da categoria (dia/mês/ano) | H19: 45352
A21: MÓDULO 1 - COMPOSIÇÃO DA REMUNERAÇÃO
A22: 1 | B22: COMPOSIÇÃO DA REMUNERAÇÃO | H22: % | I22: VALOR (R$)
A23: A | B23: Salário Base | I23: =H17 -> 2310.4129
A24: B | B24: Adicional Periculosidade | I24: 0
A25: C | B25: Adicional Insalubridade | H25: 0.2 | I25: =1412*H25 -> 282.4
A26: D | B26: Adicional Noturno | I26: 0
A27: E | B27: Adicional de Hora Noturna Reduzida | I27: 0
A28: F | B28: Outros (especificar) | I28: 0
A29: TOTAL DO MÓDULO 1 | I29: =TRUNC(SUM(I23:I28),2) -> 2592.81
A31: MÓDULO 2 – ENCARGOS E BENEFÍCIOS ANUAIS, MENSAIS E DIÁRIOS
A32: Submódulo 2.1 - 13º Salário, Férias e Adicional de Férias | H32: % | I32: VALOR (R$)
A33: A | B33: 13 (Décimo-terceiro) salário | H33: 0.0833 | I33: =$I$29*H33 -> 215.98107
A34: B | B34: Férias e Adicional de Férias | H34: 0.0278 | I34: =H34*I29 -> 72.080118
A35: TOTAL SUBMÓDULO 2.1 | H35: =TRUNC(SUM(H33:H34),4) -> 0.1111 | I35: =TRUNC(SUM(I33:I34),2) -> 288.06
J36: base 2.2 | K36: =I29+I35+I93 -> 3122.15
A37: Submódulo 2.2 - GPS, FGTS e Outras Contribuições | H37: % | I37: VALOR (R$) | J37: Total do mod 1+total submodulo 2.1+total mod 4
A38: A | B38: INSS | H38: 0.2 | I38: =H38*$K$36 -> 624.43
A39: B | B39: Salário Educação | H39: 0.025 | I39: =H39*$K$36 -> 78.05375
A40: C | B40: SAT (Seguro Acidente de Trabalho) | H40: =0.02*0.843 -> 0.01686 | I40: =H40*$K$36 -> 52.639449
A41: D | B41: SESC ou SESI | H41: 0.015 | I41: =H41*$K$36 -> 46.83225
A42: E | B42: SENAI - SENAC | H42: 0.01 | I42: =H42*$K$36 -> 31.2215
A43: F | B43: SEBRAE | H43: 0.006 | I43: =H43*$K$36 -> 18.7329
A44: G | B44: INCRA | H44: 0.002 | I44: =H44*$K$36 -> 6.2443
A45: H | B45: FGTS | H45: 0.08 | I45: =H45*$K$36 -> 249.772
A46: TOTAL SUBMÓDULO 2.2 | H46: =SUM(H38:H45) -> 0.35486 | I46: =TRUNC(SUM(I38:I45),2) -> 1107.92
...

Sheet Almoxarife Diarista
A2: PLANILHA 39 - ALMOXARIFE DIARISTA
A4: Discriminação dos Serviços
A5: A | B5: Data de apresentação da proposta
A6: B | B6: Município | H6: Rio de Janeiro
A7: C | B7: Sindicato dosTrabalhadores nas Empresas de Refeições Coletivas, Refeições Rápidas (FAST FOOD) e Afins do Estado do Rio de Janeiro - SINDIREFEIÇÕES-RJ | H7: 2024
A8: D | B8: Nº de meses de execução contratual | H8: 12
A10: Identificação do Serviço
A11: Tipo de Serviço | C11: Unidade de Medida | E11: Quantidade total a contratar (em função da unidade de medida)
A12: Alimentação | C12: Nº Refeições | E12: 1
A14: Dados para composição dos custos referentes à mão-de-obra
A15: 1 | B15: Tipo de serviço (mesmo serviço com características distintas) | H15: Controle de Estoque
A16: 2 | B16: Classificação Brasileira de Ocupações (CBO) | H16: 4141-05
A17: 3 | B17: Salário Nominativo da Categoria Profissional | H17: 1929.4
A18: 4 | B18: Categoria profissional (vinculada à execução contratual) | H18: Almoxarife
A19: 5 | B19: Data base da categoria (dia/mês/ano) | H19: 45352
A21: MÓDULO 1 - COMPOSIÇÃO DA REMUNERAÇÃO
A22: 1 | B22: COMPOSIÇÃO DA REMUNERAÇÃO | H22: % | I22: VALOR (R$)
A23: A | B23: Salário Base | I23: =H17 -> 1929.4
A24: B | B24: Adicional Periculosidade | I24: 0
A25: C | B25: Adicional Insalubridade | H25: 0.2 | I25: =1412*H25 -> 282.4
A26: D | B26: Adicional Noturno | I26: 0
A27: E | B27: Adicional de Hora Noturna Reduzida | I27: 0
A28: F | B28: Outros (especificar) | I28: 0
A29: TOTAL DO MÓDULO 1 | I29: =TRUNC(SUM(I23:I28),2) -> 2211.8
A31: MÓDULO 2 – ENCARGOS E BENEFÍCIOS ANUAIS, MENSAIS E DIÁRIOS
A32: Submódulo 2.1 - 13º Salário, Férias e Adicional de Férias | H32: % | I32: VALOR (R$)
A33: A | B33: 13 (Décimo-terceiro) salário | H33: 0.0833 | I33: =$I$29*H33 -> 184.24294
A34: B | B34: Férias e Adicional de Férias | H34: 0.0278 | I34: =H34*I29 -> 61.48804
A35: TOTAL SUBMÓDULO 2.1 | H35: =TRUNC(SUM(H33:H34),4) -> 0.1111 | I35: =TRUNC(SUM(I33:I34),2) -> 245.73
J36: base 2.2 | K36: =I29+I35+I93 -> 2662.96
A37: Submódulo 2.2 - GPS, FGTS e Outras Contribuições | H37: % | I37: VALOR (R$) | J37: Total do mod 1+total submodulo 2.1+total mod 4
A38: A | B38: INSS | H38: 0.2 | I38: =H38*$K$36 -> 532.592
A39: B | B39: Salário Educação | H39: 0.025 | I39: =H39*$K$36 -> 66.574
A40: C | B40: SAT (Seguro Acidente de Trabalho) | H40: =0.02*0.843 -> 0.01686 | I40: =H40*$K$36 -> 44.897506
A41: D | B41: SESC ou SESI | H41: 0.015 | I41: =H41*$K$36 -> 39.9444
A42: E | B42: SENAI - SENAC | H42: 0.01 | I42: =H42*$K$36 -> 26.6296
A43: F | B43: SEBRAE | H43: 0.006 | I43: =H43*$K$36 -> 15.97776
A44: G | B44: INCRA | H44: 0.002 | I44: =H44*$K$36 -> 5.32592
A45: H | B45: FGTS | H45: 0.08 | I45: =H45*$K$36 -> 213.0368
A46: TOTAL SUBMÓDULO 2.2 | H46: =SUM(H38:H45) -> 0.35486 | I46: =TRUNC(SUM(I38:I45),2) -> 944.97
...

Sheet Aux Almoxarife 
A2: PLANILHA 40 - AUXILIAR DE ALMOXARIFE PLANTONISTA
A4: Discriminação dos Serviços
A5: A | B5: Data de apresentação da proposta
A6: B | B6: Município | H6: Rio de Janeiro
A7: C | B7: Sindicato dosTrabalhadores nas Empresas de Refeições Coletivas, Refeições Rápidas (FAST FOOD) e Afins do Estado do Rio de Janeiro - SINDIREFEIÇÕES-RJ | H7: 2024
A8: D | B8: Nº de meses de execução contratual | H8: 12
A10: Identificação do Serviço
A11: Tipo de Serviço | C11: Unidade de Medida | E11: Quantidade total a contratar (em função da unidade de medida)
A12: Alimentação | C12: Nº Refeições | E12: 6
A14: Dados para composição dos custos referentes à mão-de-obra
A15: 1 | B15: Tipo de serviço (mesmo serviço com características distintas) | H15: Organização de Estoque
A16: 2 | B16: Classificação Brasileira de Ocupações (CBO) | H16: 4141-05
A17: 3 | B17: Salário Nominativo da Categoria Profissional | H17: 1799.6
A18: 4 | B18: Categoria profissional (vinculada à execução contratual) | H18: Auxiliar de Almoxarife
A19: 5 | B19: Data base da categoria (dia/mês/ano) | H19: 45352
A21: MÓDULO 1 - COMPOSIÇÃO DA REMUNERAÇÃO
A22: 1 | B22: COMPOSIÇÃO DA REMUNERAÇÃO | H22: % | I22: VALOR (R$)
A23: A | B23: Salário Base | I23: =H17 -> 1799.6
A24: B | B24: Adicional Periculosidade | I24: 0
A25: C | B25: Adicional Insalubridade | H25: 0.2 | I25: =1412*H25 -> 282.4
A26: D | B26: Adicional Noturno | I26: 0
A27: E | B27: Adicional de Hora Noturna Reduzida | I27: 0
A28: F | B28: Outros (especificar) | I28: 0
A29: TOTAL DO MÓDULO 1 | I29: =TRUNC(SUM(I23:I28),2) -> 2082
A31: MÓDULO 2 – ENCARGOS E BENEFÍCIOS ANUAIS, MENSAIS E DIÁRIOS
A32: Submódulo 2.1 - 13º Salário, Férias e Adicional de Férias | H32: % | I32: VALOR (R$)
A33: A | B33: 13 (Décimo-terceiro) salário | H33: 0.0833 | I33: =$I$29*H33 -> 173.4306
A34: B | B34: Férias e Adicional de Férias | H34: 0.0278 | I34: =H34*I29 -> 57.8796
A35: TOTAL SUBMÓDULO 2.1 | H35: =TRUNC(SUM(H33:H34),4) -> 0.1111 | I35: =TRUNC(SUM(I33:I34),2) -> 231.31
J36: base 2.2 | K36: =I29+I35+I93 -> 2506.7
A37: Submódulo 2.2 - GPS, FGTS e Outras Contribuições | H37: % | I37: VALOR (R$) | J37: Total do mod 1+total submodulo 2.1+total mod 4
A38: A | B38: INSS | H38: 0.2 | I38: =H38*$K$36 -> 501.34
A39: B | B39: Salário Educação | H39: 0.025 | I39: =H39*$K$36 -> 62.6675
A40: C | B40: SAT (Seguro Acidente de Trabalho) | H40: =0.02*0.843 -> 0.01686 | I40: =H40*$K$36 -> 42.262962
A41: D | B41: SESC ou SESI | H41: 0.015 | I41: =H41*$K$36 -> 37.6005
A42: E | B42: SENAI - SENAC | H42: 0.01 | I42: =H42*$K$36 -> 25.067
A43: F | B43: SEBRAE | H43: 0.006 | I43: =H43*$K$36 -> 15.0402
A44: G | B44: INCRA | H44: 0.002 | I44: =H44*$K$36 -> 5.0134
A45: H | B45: FGTS | H45: 0.08 | I45: =H45*$K$36 -> 200.536
A46: TOTAL SUBMÓDULO 2.2 | H46: =SUM(H38:H45) -> 0.35486 | I46: =TRUNC(SUM(I38:I45),2) -> 889.52
...

Sheet Cozinheiro Lider
A2: PLANILHA 41 - COZINHEIRO LIDER PLANTONISTA
A4: Discriminação dos Serviços
A5: A | B5: Data de apresentação da proposta
A6: B | B6: Município | H6: Rio de Janeiro
A7: C | B7: Sindicato dos Empregados em Empresas de Asseio e Conservação | H7: 2024
A8: D | B8: Nº de meses de execução contratual | H8: 12
A10: Identificação do Serviço
A11: Tipo de Serviço | C11: Unidade de Medida | E11: Quantidade total a contratar (em função da unidade de medida)
A12: Alimentação | C12: Nº Refeições | E12: 2
A14: Dados para composição dos custos referentes à mão-de-obra
A15: 1 | B15: Tipo de serviço (mesmo serviço com características distintas) | H15: Cozinheiro
A16: 2 | B16: Classificação Brasileira de Ocupações (CBO) | H16: 5132-14
A17: 3 | B17: Salário Nominativo da Categoria Profissional | H17: 2386.44
A18: 4 | B18: Categoria profissional (vinculada à execução contratual) | H18: Cozinheiro Lider
A19: 5 | B19: Data base da categoria (dia/mês/ano) | H19: 45352
A21: MÓDULO 1 - COMPOSIÇÃO DA REMUNERAÇÃO
A22: 1 | B22: COMPOSIÇÃO DA REMUNERAÇÃO | H22: % | I22: VALOR (R$)
A23: A | B23: Salário Base | I23: =H17 -> 2386.44
A24: B | B24: Adicional Periculosidade | I24: 0
A25: C | B25: Adicional Insalubridade | H25: 0.2 | I25: =1412*H25 -> 282.4
A26: D | B26: Adicional Noturno | I26: 0
A27: E | B27: Adicional de Hora Noturna Reduzida | I27: 0
A28: F | B28: Adicional de Liderança | H28: 0.1 | I28: =I23*10% -> 238.644
A29: TOTAL DO MÓDULO 1 | I29: =TRUNC(SUM(I23:I28),2) -> 2907.48
A31: MÓDULO 2 – ENCARGOS E BENEFÍCIOS ANUAIS, MENSAIS E DIÁRIOS
A32: Submódulo 2.1 - 13º Salário, Férias e Adicional de Férias | H32: % | I32: VALOR (R$)
A33: A | B33: 13 (Décimo-terceiro) salário | H33: 0.0833 | I33: =$I$29*H33 -> 242.19308
A34: B | B34: Férias e Adicional de Férias | H34: 0.0278 | I34: =H34*I29 -> 80.827944
A35: TOTAL SUBMÓDULO 2.1 | H35: =TRUNC(SUM(H33:H34),4) -> 0.1111 | I35: =TRUNC(SUM(I33:I34),2) -> 323.02
J36: base 2.2 | K36: =I29+I35+I93 -> 3501.37
A37: Submódulo 2.2 - GPS, FGTS e Outras Contribuições | H37: % | I37: VALOR (R$) | J37: Total do mod 1+total submodulo 2.1+total mod 4
A38: A | B38: INSS | H38: 0.2 | I38: =H38*$K$36 -> 700.274
A39: B | B39: Salário Educação | H39: 0.025 | I39: =H39*$K$36 -> 87.53425
A40: C | B40: SAT (Seguro Acidente de Trabalho) | H40: =0.02*0.843 -> 0.01686 | I40: =H40*$K$36 -> 59.033098
A41: D | B41: SESC ou SESI | H41: 0.015 | I41: =H41*$K$36 -> 52.52055
A42: E | B42: SENAI - SENAC | H42: 0.01 | I42: =H42*$K$36 -> 35.0137
A43: F | B43: SEBRAE | H43: 0.006 | I43: =H43*$K$36 -> 21.00822
A44: G | B44: INCRA | H44: 0.002 | I44: =H44*$K$36 -> 7.00274
A45: H | B45: FGTS | H45: 0.08 | I45: =H45*$K$36 -> 280.1096
A46: TOTAL SUBMÓDULO 2.2 | H46: =SUM(H38:H45) -> 0.35486 | I46: =TRUNC(SUM(I38:I45),2) -> 1242.49
...

Sheet Cozinheiro 
A2: PLANILHA 42 - COZINHEIRO PLANTONISTA
A4: Discriminação dos Serviços
A5: A | B5: Data de apresentação da proposta
A6: B | B6: Município | H6: Rio de Janeiro
A7: C | B7: Sindicato dosTrabalhadores nas Empresas de Refeições Coletivas, Refeições Rápidas (FAST FOOD) e Afins do Estado do Rio de Janeiro - SINDIREFEIÇÕES-RJ | H7: 2024
A8: D | B8: Nº de meses de execução contratual | H8: 12
A10: Identificação do Serviço
A11: Tipo de Serviço | C11: Unidade de Medida | E11: Quantidade total a contratar (em função da unidade de medida)
A12: Alimentação | C12: Nº Refeições | E12: 4
A14: Dados para composição dos custos referentes à mão-de-obra
A15: 1 | B15: Tipo de serviço (mesmo serviço com características distintas) | H15: Cozinheiro Plantonista
A16: 2 | B16: Classificação Brasileira de Ocupações (CBO) | H16: 5132-14
A17: 3 | B17: Salário Nominativo da Categoria Profissional | H17: 1929.4
A18: 4 | B18: Categoria profissional (vinculada à execução contratual) | H18: Cozinheiro
A19: 5 | B19: Data base da categoria (dia/mês/ano) | H19: 45352
A21: MÓDULO 1 - COMPOSIÇÃO DA REMUNERAÇÃO
A22: 1 | B22: COMPOSIÇÃO DA REMUNERAÇÃO | H22: % | I22: VALOR (R$)
A23: A | B23: Salário Base | I23: =H17 -> 1929.4
A24: B | B24: Adicional Periculosidade | I24: 0
A25: C | B25: Adicional Insalubridade | H25: 0.2 | I25: =1412*H25 -> 282.4
A26: D | B26: Adicional Noturno | I26: 0
A27: E | B27: Adicional de Hora Noturna Reduzida | I27: 0
A28: F | B28: Outros (especificar) | I28: 0
A29: TOTAL DO MÓDULO 1 | I29: =TRUNC(SUM(I23:I28),2) -> 2211.8
A31: MÓDULO 2 – ENCARGOS E BENEFÍCIOS ANUAIS, MENSAIS E DIÁRIOS
A32: Submódulo 2.1 - 13º Salário, Férias e Adicional de Férias | H32: % | I32: VALOR (R$)
A33: A | B33: 13 (Décimo-terceiro) salário | H33: 0.0833 | I33: =$I$29*H33 -> 184.24294
A34: B | B34: Férias e Adicional de Férias | H34: 0.0278 | I34: =H34*I29 -> 61.48804
A35: TOTAL SUBMÓDULO 2.1 | H35: =TRUNC(SUM(H33:H34),4) -> 0.1111 | I35: =TRUNC(SUM(I33:I34),2) -> 245.73
J36: base 2.2 | K36: =I29+I35+I93 -> 2662.96
A37: Submódulo 2.2 - GPS, FGTS e Outras Contribuições | H37: % | I37: VALOR (R$) | J37: Total do mod 1+total submodulo 2.1+total mod 4
A38: A | B38: INSS | H38: 0.2 | I38: =H38*$K$36 -> 532.592
A39: B | B39: Salário Educação | H39: 0.025 | I39: =H39*$K$36 -> 66.574
A40: C | B40: SAT (Seguro Acidente de Trabalho) | H40: =0.02*0.843 -> 0.01686 | I40: =H40*$K$36 -> 44.897506
A41: D | B41: SESC ou SESI | H41: 0.015 | I41: =H41*$K$36 -> 39.9444
A42: E | B42: SENAI - SENAC | H42: 0.01 | I42: =H42*$K$36 -> 26.6296
A43: F | B43: SEBRAE | H43: 0.006 | I43: =H43*$K$36 -> 15.97776
A44: G | B44: INCRA | H44: 0.002 | I44: =H44*$K$36 -> 5.32592
A45: H | B45: FGTS | H45: 0.08 | I45: =H45*$K$36 -> 213.0368
A46: TOTAL SUBMÓDULO 2.2 | H46: =SUM(H38:H45) -> 0.35486 | I46: =TRUNC(SUM(I38:I45),2) -> 944.97
...

Sheet Aux Cozinha Noturno
A2: PLANILHA 43 - AUXILIAR DE COZINHA PLANTONISTA NOTURNO
A4: Discriminação dos Serviços
A5: A | B5: Data de apresentação da proposta
A6: B | B6: Município | H6: Rio de Janeiro
A7: C | B7: Sindicato dosTrabalhadores nas Empresas de Refeições Coletivas, Refeições Rápidas (FAST FOOD) e Afins do Estado do Rio de Janeiro - SINDIREFEIÇÕES-RJ | H7: 2024
A8: D | B8: Nº de meses de execução contratual | H8: 12
A10: Identificação do Serviço
A11: Tipo de Serviço | C11: Unidade de Medida | E11: Quantidade total a contratar (em função da unidade de medida)
A12: Alimentação | C12: Nº Refeições | E12: 2
A14: Dados para composição dos custos referentes à mão-de-obra
A15: 1 | B15: Tipo de serviço (mesmo serviço com características distintas) | H15: Auxiliar de Cozinha Plantonista
A16: 2 | B16: Classificação Brasileira de Ocupações (CBO) | H16: 5135-05
A17: 3 | B17: Salário Nominativo da Categoria Profissional | H17: 1799.6
A18: 4 | B18: Categoria profissional (vinculada à execução contratual) | H18: Auxiliar de Cozinha
A19: 5 | B19: Data base da categoria (dia/mês/ano) | H19: 45352
A21: MÓDULO 1 - COMPOSIÇÃO DA REMUNERAÇÃO
A22: 1 | B22: COMPOSIÇÃO DA REMUNERAÇÃO | H22: % | I22: VALOR (R$)
A23: A | B23: Salário Base | I23: =H17 -> 1799.6
A24: B | B24: Adicional Periculosidade | I24: 0
A25: C | B25: Adicional Insalubridade | H25: 0.2 | I25: =1412*H25 -> 282.4
A26: D | B26: Adicional Noturno | H26: 0.2 | I26: =I23*H26 -> 359.92
A27: E | B27: Adicional de Hora Noturna Reduzida | I27: 0
A28: F | B28: Outros (especificar) | I28: 0
A29: TOTAL DO MÓDULO 1 | I29: =TRUNC(SUM(I23:I28),2) -> 2441.92
A31: MÓDULO 2 – ENCARGOS E BENEFÍCIOS ANUAIS, MENSAIS E DIÁRIOS
A32: Submódulo 2.1 - 13º Salário, Férias e Adicional de Férias | H32: % | I32: VALOR (R$)
A33: A | B33: 13 (Décimo-terceiro) salário | H33: 0.0833 | I33: =$I$29*H33 -> 203.41194
A34: B | B34: Férias e Adicional de Férias | H34: 0.0278 | I34: =H34*I29 -> 67.885376
A35: TOTAL SUBMÓDULO 2.1 | H35: =TRUNC(SUM(H33:H34),4) -> 0.1111 | I35: =TRUNC(SUM(I33:I34),2) -> 271.29
J36: base 2.2 | K36: =I29+I35+I93 -> 2939.96
A37: Submódulo 2.2 - GPS, FGTS e Outras Contribuições | H37: % | I37: VALOR (R$) | J37: Total do mod 1+total submodulo 2.1+total mod 4
A38: A | B38: INSS | H38: 0.2 | I38: =H38*$K$36 -> 587.992
A39: B | B39: Salário Educação | H39: 0.025 | I39: =H39*$K$36 -> 73.499
A40: C | B40: SAT (Seguro Acidente de Trabalho) | H40: =0.02*0.843 -> 0.01686 | I40: =H40*$K$36 -> 49.567726
A41: D | B41: SESC ou SESI | H41: 0.015 | I41: =H41*$K$36 -> 44.0994
A42: E | B42: SENAI - SENAC | H42: 0.01 | I42: =H42*$K$36 -> 29.3996
A43: F | B43: SEBRAE | H43: 0.006 | I43: =H43*$K$36 -> 17.63976
A44: G | B44: INCRA | H44: 0.002 | I44: =H44*$K$36 -> 5.87992
A45: H | B45: FGTS | H45: 0.08 | I45: =H45*$K$36 -> 235.1968
A46: TOTAL SUBMÓDULO 2.2 | H46: =SUM(H38:H45) -> 0.35486 | I46: =TRUNC(SUM(I38:I45),2) -> 1043.27
...

Sheet Aux Cozinha 
A2: PLANILHA 44 - AUXILIAR DE COZINHA PLANTONISTA
A4: Discriminação dos Serviços
A5: A | B5: Data de apresentação da proposta
A6: B | B6: Município | H6: Rio de Janeiro
A7: C | B7: Sindicato dosTrabalhadores nas Empresas de Refeições Coletivas, Refeições Rápidas (FAST FOOD) e Afins do Estado do Rio de Janeiro - SINDIREFEIÇÕES-RJ | H7: 2024
A8: D | B8: Nº de meses de execução contratual | H8: 12
A10: Identificação do Serviço
A11: Tipo de Serviço | C11: Unidade de Medida | E11: Quantidade total a contratar (em função da unidade de medida)
A12: Alimentação | C12: Nº Refeições | E12: 30
A14: Dados para composição dos custos referentes à mão-de-obra
A15: 1 | B15: Tipo de serviço (mesmo serviço com características distintas) | H15: Auxiliar de Cozinha Plantonista
A16: 2 | B16: Classificação Brasileira de Ocupações (CBO) | H16: 5135-05
A17: 3 | B17: Salário Nominativo da Categoria Profissional | H17: 1799.6
A18: 4 | B18: Categoria profissional (vinculada à execução contratual) | H18: Auxiliar de Cozinha
A19: 5 | B19: Data base da categoria (dia/mês/ano) | H19: 45352
A21: MÓDULO 1 - COMPOSIÇÃO DA REMUNERAÇÃO
A22: 1 | B22: COMPOSIÇÃO DA REMUNERAÇÃO | H22: % | I22: VALOR (R$)
A23: A | B23: Salário Base | I23: =H17 -> 1799.6
A24: B | B24: Adicional Periculosidade | I24: 0
A25: C | B25: Adicional Insalubridade | H25: 0.2 | I25: =1412*H25 -> 282.4
A26: D | B26: Adicional Noturno | I26: 0
A27: E | B27: Adicional de Hora Noturna Reduzida | I27: 0
A28: F | B28: Outros (especificar) | I28: 0
A29: TOTAL DO MÓDULO 1 | I29: =TRUNC(SUM(I23:I28),2) -> 2082
A31: MÓDULO 2 – ENCARGOS E BENEFÍCIOS ANUAIS, MENSAIS E DIÁRIOS
A32: Submódulo 2.1 - 13º Salário, Férias e Adicional de Férias | H32: % | I32: VALOR (R$)
A33: A | B33: 13 (Décimo-terceiro) salário | H33: 0.0833 | I33: =$I$29*H33 -> 173.4306
A34: B | B34: Férias e Adicional de Férias | H34: 0.0278 | I34: =H34*I29 -> 57.8796
A35: TOTAL SUBMÓDULO 2.1 | H35: =TRUNC(SUM(H33:H34),4) -> 0.1111 | I35: =TRUNC(SUM(I33:I34),2) -> 231.31
J36: base 2.2 | K36: =I29+I35+I93 -> 2506.7
A37: Submódulo 2.2 - GPS, FGTS e Outras Contribuições | H37: % | I37: VALOR (R$) | J37: Total do mod 1+total submodulo 2.1+total mod 4
A38: A | B38: INSS | H38: 0.2 | I38: =H38*$K$36 -> 501.34
A39: B | B39: Salário Educação | H39: 0.025 | I39: =H39*$K$36 -> 62.6675
A40: C | B40: SAT (Seguro Acidente de Trabalho) | H40: =0.02*0.843 -> 0.01686 | I40: =H40*$K$36 -> 42.262962
A41: D | B41: SESC ou SESI | H41: 0.015 | I41: =H41*$K$36 -> 37.6005
A42: E | B42: SENAI - SENAC | H42: 0.01 | I42: =H42*$K$36 -> 25.067
A43: F | B43: SEBRAE | H43: 0.006 | I43: =H43*$K$36 -> 15.0402
A44: G | B44: INCRA | H44: 0.002 | I44: =H44*$K$36 -> 5.0134
A45: H | B45: FGTS | H45: 0.08 | I45: =H45*$K$36 -> 200.536
A46: TOTAL SUBMÓDULO 2.2 | H46: =SUM(H38:H45) -> 0.35486 | I46: =TRUNC(SUM(I38:I45),2) -> 889.52
...

Sheet Copeiro diarista 
A2: PLANILHA 45 - COPEIRO DIARISTA
A4: Discriminação dos Serviços
A5: A | B5: Data de apresentação da proposta
A6: B | B6: Município | H6: Rio de Janeiro
A7: C | B7: Sindicato dosTrabalhadores nas Empresas de Refeições Coletivas, Refeições Rápidas (FAST FOOD) e Afins do Estado do Rio de Janeiro - SINDIREFEIÇÕES-RJ | H7: 2024
A8: D | B8: Nº de meses de execução contratual | H8: 12
A10: Identificação do Serviço
A11: Tipo de Serviço | C11: Unidade de Medida | E11: Quantidade total a contratar (em função da unidade de medida)
A12: Alimentação | C12: Nº Refeições | E12: 2
A14: Dados para composição dos custos referentes à mão-de-obra
A15: 1 | B15: Tipo de serviço (mesmo serviço com características distintas) | H15: Copeiro Diarista
A16: 2 | B16: Classificação Brasileira de Ocupações (CBO) | H16: 5134-25
A17: 3 | B17: Salário Nominativo da Categoria Profissional | H17: 1799.6
A18: 4 | B18: Categoria profissional (vinculada à execução contratual) | H18: Copeiro
A19: 5 | B19: Data base da categoria (dia/mês/ano) | H19: 45352
A21: MÓDULO 1 - COMPOSIÇÃO DA REMUNERAÇÃO
A22: 1 | B22: COMPOSIÇÃO DA REMUNERAÇÃO | H22: % | I22: VALOR (R$)
A23: A | B23: Salário Base | I23: =H17 -> 1799.6
A24: B | B24: Adicional Periculosidade | I24: 0
A25: C | B25: Adicional Insalubridade | H25: 0.2 | I25: =1412*H25 -> 282.4
A26: D | B26: Adicional Noturno | I26: =H26*I23 -> 0
A27: E | B27: Adicional de Hora Noturna Reduzida | I27: 0
A28: F | B28: Outros (especificar) | I28: 0
A29: TOTAL DO MÓDULO 1 | I29: =TRUNC(SUM(I23:I28),2) -> 2082
A31: MÓDULO 2 – ENCARGOS E BENEFÍCIOS ANUAIS, MENSAIS E DIÁRIOS
A32: Submódulo 2.1 - 13º Salário, Férias e Adicional de Férias | H32: % | I32: VALOR (R$)
A33: A | B33: 13 (Décimo-terceiro) salário | H33: 0.0833 | I33: =$I$29*H33 -> 173.4306
A34: B | B34: Férias e Adicional de Férias | H34: 0.0278 | I34: =H34*I29 -> 57.8796
A35: TOTAL SUBMÓDULO 2.1 | H35: =TRUNC(SUM(H33:H34),4) -> 0.1111 | I35: =TRUNC(SUM(I33:I34),2) -> 231.31
J36: base 2.2 | K36: =I29+I35+I93 -> 2506.7
A37: Submódulo 2.2 - GPS, FGTS e Outras Contribuições | H37: % | I37: VALOR (R$) | J37: Total do mod 1+total submodulo 2.1+total mod 4
A38: A | B38: INSS | H38: 0.2 | I38: =H38*$K$36 -> 501.34
A39: B | B39: Salário Educação | H39: 0.025 | I39: =H39*$K$36 -> 62.6675
A40: C | B40: SAT (Seguro Acidente de Trabalho) | H40: =0.02*0.843 -> 0.01686 | I40: =H40*$K$36 -> 42.262962
A41: D | B41: SESC ou SESI | H41: 0.015 | I41: =H41*$K$36 -> 37.6005
A42: E | B42: SENAI - SENAC | H42: 0.01 | I42: =H42*$K$36 -> 25.067
A43: F | B43: SEBRAE | H43: 0.006 | I43: =H43*$K$36 -> 15.0402
A44: G | B44: INCRA | H44: 0.002 | I44: =H44*$K$36 -> 5.0134
A45: H | B45: FGTS | H45: 0.08 | I45: =H45*$K$36 -> 200.536
A46: TOTAL SUBMÓDULO 2.2 | H46: =SUM(H38:H45) -> 0.35486 | I46: =TRUNC(SUM(I38:I45),2) -> 889.52
...

Sheet Copeiro Plant Noturno  
A2: PLANILHA 46 - COPEIRO PLANTONISTA NOTURNO
A4: Discriminação dos Serviços
A5: A | B5: Data de apresentação da proposta
A6: B | B6: Município | H6: Rio de Janeiro
A7: C | B7: Sindicato dosTrabalhadores nas Empresas de Refeições Coletivas, Refeições Rápidas (FAST FOOD) e Afins do Estado do Rio de Janeiro - SINDIREFEIÇÕES-RJ | H7: 2024
A8: D | B8: Nº de meses de execução contratual | H8: 12
A10: Identificação do Serviço
A11: Tipo de Serviço | C11: Unidade de Medida | E11: Quantidade total a contratar (em função da unidade de medida)
A12: Alimentação | C12: Nº Refeições | E12: 10
A14: Dados para composição dos custos referentes à mão-de-obra
A15: 1 | B15: Tipo de serviço (mesmo serviço com características distintas) | H15: Copeiro Plantonista Noturno
A16: 2 | B16: Classificação Brasileira de Ocupações (CBO) | H16: 5134-25
A17: 3 | B17: Salário Nominativo da Categoria Profissional | H17: 1799.6
A18: 4 | B18: Categoria profissional (vinculada à execução contratual) | H18: Copeiro
A19: 5 | B19: Data base da categoria (dia/mês/ano) | H19: 45352
A21: MÓDULO 1 - COMPOSIÇÃO DA REMUNERAÇÃO
A22: 1 | B22: COMPOSIÇÃO DA REMUNERAÇÃO | H22: % | I22: VALOR (R$)
A23: A | B23: Salário Base | I23: =H17 -> 1799.6
A24: B | B24: Adicional Periculosidade | I24: 0
A25: C | B25: Adicional Insalubridade | H25: 0.2 | I25: =1412*H25 -> 282.4
A26: D | B26: Adicional Noturno | H26: 0.2 | I26: =H26*I23 -> 359.92
A27: E | B27: Adicional de Hora Noturna Reduzida | I27: 0
A28: F | B28: Outros (especificar) | I28: 0
A29: TOTAL DO MÓDULO 1 | I29: =TRUNC(SUM(I23:I28),2) -> 2441.92
A31: MÓDULO 2 – ENCARGOS E BENEFÍCIOS ANUAIS, MENSAIS E DIÁRIOS
A32: Submódulo 2.1 - 13º Salário, Férias e Adicional de Férias | H32: % | I32: VALOR (R$)
A33: A | B33: 13 (Décimo-terceiro) salário | H33: 0.0833 | I33: =$I$29*H33 -> 203.41194
A34: B | B34: Férias e Adicional de Férias | H34: 0.0278 | I34: =H34*I29 -> 67.885376
A35: TOTAL SUBMÓDULO 2.1 | H35: =TRUNC(SUM(H33:H34),4) -> 0.1111 | I35: =TRUNC(SUM(I33:I34),2) -> 271.29
J36: base 2.2 | K36: =I29+I35+I93 -> 2939.96
A37: Submódulo 2.2 - GPS, FGTS e Outras Contribuições | H37: % | I37: VALOR (R$) | J37: Total do mod 1+total submodulo 2.1+total mod 4
A38: A | B38: INSS | H38: 0.2 | I38: =H38*$K$36 -> 587.992
A39: B | B39: Salário Educação | H39: 0.025 | I39: =H39*$K$36 -> 73.499
A40: C | B40: SAT (Seguro Acidente de Trabalho) | H40: =0.02*0.843 -> 0.01686 | I40: =H40*$K$36 -> 49.567726
A41: D | B41: SESC ou SESI | H41: 0.015 | I41: =H41*$K$36 -> 44.0994
A42: E | B42: SENAI - SENAC | H42: 0.01 | I42: =H42*$K$36 -> 29.3996
A43: F | B43: SEBRAE | H43: 0.006 | I43: =H43*$K$36 -> 17.63976
A44: G | B44: INCRA | H44: 0.002 | I44: =H44*$K$36 -> 5.87992
A45: H | B45: FGTS | H45: 0.08 | I45: =H45*$K$36 -> 235.1968
A46: TOTAL SUBMÓDULO 2.2 | H46: =SUM(H38:H45) -> 0.35486 | I46: =TRUNC(SUM(I38:I45),2) -> 1043.27
...

Sheet Copeiro Plant diurno 
A2: PLANILHA 47 - COPEIRO PLANTONISTA DIURNO
A4: Discriminação dos Serviços
A5: A | B5: Data de apresentação da proposta
A6: B | B6: Município | H6: Rio de Janeiro
A7: C | B7: Sindicato dosTrabalhadores nas Empresas de Refeições Coletivas, Refeições Rápidas (FAST FOOD) e Afins do Estado do Rio de Janeiro - SINDIREFEIÇÕES-RJ | H7: 2024
A8: D | B8: Nº de meses de execução contratual | H8: 12
A10: Identificação do Serviço
A11: Tipo de Serviço | C11: Unidade de Medida | E11: Quantidade total a contratar (em função da unidade de medida)
A12: Alimentação | C12: Nº Refeições | E12: 68
A14: Dados para composição dos custos referentes à mão-de-obra
A15: 1 | B15: Tipo de serviço (mesmo serviço com características distintas) | H15: Copeiro Plantonista Diurno
A16: 2 | B16: Classificação Brasileira de Ocupações (CBO) | H16: 5134-25
A17: 3 | B17: Salário Nominativo da Categoria Profissional | H17: 1799.6
A18: 4 | B18: Categoria profissional (vinculada à execução contratual) | H18: Copeiro
A19: 5 | B19: Data base da categoria (dia/mês/ano) | H19: 45352
A21: MÓDULO 1 - COMPOSIÇÃO DA REMUNERAÇÃO
A22: 1 | B22: COMPOSIÇÃO DA REMUNERAÇÃO | H22: % | I22: VALOR (R$)
A23: A | B23: Salário Base | I23: =H17 -> 1799.6
A24: B | B24: Adicional Periculosidade | I24: 0
A25: C | B25: Adicional Insalubridade | H25: 0.2 | I25: =1412*H25 -> 282.4
A26: D | B26: Adicional Noturno | I26: =H26*I23 -> 0
A27: E | B27: Adicional de Hora Noturna Reduzida | I27: 0
A28: F | B28: Outros (especificar) | I28: 0
A29: TOTAL DO MÓDULO 1 | I29: =TRUNC(SUM(I23:I28),2) -> 2082
A31: MÓDULO 2 – ENCARGOS E BENEFÍCIOS ANUAIS, MENSAIS E DIÁRIOS
A32: Submódulo 2.1 - 13º Salário, Férias e Adicional de Férias | H32: % | I32: VALOR (R$)
A33: A | B33: 13 (Décimo-terceiro) salário | H33: 0.0833 | I33: =$I$29*H33 -> 173.4306
A34: B | B34: Férias e Adicional de Férias | H34: 0.0278 | I34: =H34*I29 -> 57.8796
A35: TOTAL SUBMÓDULO 2.1 | H35: =TRUNC(SUM(H33:H34),4) -> 0.1111 | I35: =TRUNC(SUM(I33:I34),2) -> 231.31
J36: base 2.2 | K36: =I29+I35+I93 -> 2506.7
A37: Submódulo 2.2 - GPS, FGTS e Outras Contribuições | H37: % | I37: VALOR (R$) | J37: Total do mod 1+total submodulo 2.1+total mod 4
A38: A | B38: INSS | H38: 0.2 | I38: =H38*$K$36 -> 501.34
A39: B | B39: Salário Educação | H39: 0.025 | I39: =H39*$K$36 -> 62.6675
A40: C | B40: SAT (Seguro Acidente de Trabalho) | H40: =0.02*0.843 -> 0.01686 | I40: =H40*$K$36 -> 42.262962
A41: D | B41: SESC ou SESI | H41: 0.015 | I41: =H41*$K$36 -> 37.6005
A42: E | B42: SENAI - SENAC | H42: 0.01 | I42: =H42*$K$36 -> 25.067
A43: F | B43: SEBRAE | H43: 0.006 | I43: =H43*$K$36 -> 15.0402
A44: G | B44: INCRA | H44: 0.002 | I44: =H44*$K$36 -> 5.0134
A45: H | B45: FGTS | H45: 0.08 | I45: =H45*$K$36 -> 200.536
A46: TOTAL SUBMÓDULO 2.2 | H46: =SUM(H38:H45) -> 0.35486 | I46: =TRUNC(SUM(I38:I45),2) -> 889.52
...

Sheet Tec. Manutenção
A2: PLANILHA 48 - TÉCNICO EM GERAL DE MANUTENÇÃO DIARISTA
A4: Discriminação dos Serviços
A5: A | B5: Data de apresentação da proposta
A6: B | B6: Município | H6: Rio de Janeiro
A7: C | B7: SINDISTAL | H7: 2024-2026
A8: D | B8: Nº de meses de execução contratual | H8: 12
A10: Identificação do Serviço
A11: Tipo de Serviço | C11: Unidade de Medida | E11: Quantidade total a contratar (em função da unidade de medida)
A12: Alimentação | C12: Profissional | E12: 1
A14: Dados para composição dos custos referentes à mão-de-obra
A15: 1 | B15: Tipo de serviço (mesmo serviço com características distintas) | H15: Tecnico de Manutenção Diarista
A16: 2 | B16: Classificação Brasileira de Ocupações (CBO) | H16: 5143-10
A17: 3 | B17: Salário Nominativo da Categoria Profissional | H17: 3236.16
A18: 4 | B18: Categoria profissional (vinculada à execução contratual) | H18: Tecnico de Manutenção
A19: 5 | B19: Data base da categoria (dia/mês/ano) | H19: 45413
A21: MÓDULO 1 - COMPOSIÇÃO DA REMUNERAÇÃO
A22: 1 | B22: COMPOSIÇÃO DA REMUNERAÇÃO | H22: % | I22: VALOR (R$)
A23: A | B23: Salário Base | I23: =H17 -> 3236.16
A24: B | B24: Adicional Periculosidade | H24: 0.3 | I24: =I23*H24 -> 970.848
A25: C | B25: Adicional Insalubridade | H25: 0.2 | I25: 0
A26: D | B26: Adicional Noturno | I26: =H26*I23 -> 0
A27: E | B27: Adicional de Hora Noturna Reduzida | I27: 0
A28: F | B28: Outros (especificar) | I28: 0
A29: TOTAL DO MÓDULO 1 | I29: =TRUNC(SUM(I23:I28),2) -> 4207
A31: MÓDULO 2 – ENCARGOS E BENEFÍCIOS ANUAIS, MENSAIS E DIÁRIOS
A32: Submódulo 2.1 - 13º Salário, Férias e Adicional de Férias | H32: % | I32: VALOR (R$)
A33: A | B33: 13 (Décimo-terceiro) salário | H33: 0.0833 | I33: =$I$29*H33 -> 350.4431
A34: B | B34: Férias e Adicional de Férias | H34: 0.0278 | I34: =H34*I29 -> 116.9546
A35: TOTAL SUBMÓDULO 2.1 | H35: =TRUNC(SUM(H33:H34),4) -> 0.1111 | I35: =TRUNC(SUM(I33:I34),2) -> 467.39
J36: base 2.2 | K36: =I29+I35+I93 -> 5064.67
A37: Submódulo 2.2 - GPS, FGTS e Outras Contribuições | H37: % | I37: VALOR (R$) | J37: Total do mod 1+total submodulo 2.1+total mod 4
A38: A | B38: INSS | H38: 0.2 | I38: =H38*$K$36 -> 1012.934
A39: B | B39: Salário Educação | H39: 0.025 | I39: =H39*$K$36 -> 126.61675
A40: C | B40: SAT (Seguro Acidente de Trabalho) | H40: =0.02*0.843 -> 0.01686 | I40: =H40*$K$36 -> 85.390336
A41: D | B41: SESC ou SESI | H41: 0.015 | I41: =H41*$K$36 -> 75.97005
A42: E | B42: SENAI - SENAC | H42: 0.01 | I42: =H42*$K$36 -> 50.6467
A43: F | B43: SEBRAE | H43: 0.006 | I43: =H43*$K$36 -> 30.38802
A44: G | B44: INCRA | H44: 0.002 | I44: =H44*$K$36 -> 10.12934
A45: H | B45: FGTS | H45: 0.08 | I45: =H45*$K$36 -> 405.1736
A46: TOTAL SUBMÓDULO 2.2 | H46: =SUM(H38:H45) -> 0.35486 | I46: =TRUNC(SUM(I38:I45),2) -> 1797.24
...

Sheet Motorista 
A2: PLANILHA 49- CONDUTOR DE VEÍCULOS PLANTONISTA (MOTORISTA)
A4: Discriminação dos Serviços
A5: A | B5: Data de apresentação da proposta
A6: B | B6: Município | H6: Rio de Janeiro
A7: C | B7: SINTRUCAD-RIO | H7: 2023/2025
A8: D | B8: Nº de meses de execução contratual | H8: 12
A10: Identificação do Serviço
A11: Tipo de Serviço | C11: Unidade de Medida | E11: Quantidade total a contratar (em função da unidade de medida)
A12: Alimentação | C12: Profissional | E12: 2
A14: Dados para composição dos custos referentes à mão-de-obra
A15: 1 | B15: Tipo de serviço (mesmo serviço com características distintas) | H15: Motorista Plantonista
A16: 2 | B16: Classificação Brasileira de Ocupações (CBO) | H16: 7823-10
A17: 3 | B17: Salário Nominativo da Categoria Profissional | H17: 2759.87
A18: 4 | B18: Categoria profissional (vinculada à execução contratual) | H18: Condutor de Veículos
A19: 5 | B19: Data base da categoria (dia/mês/ano) | H19: 45777
A21: MÓDULO 1 - COMPOSIÇÃO DA REMUNERAÇÃO
A22: 1 | B22: COMPOSIÇÃO DA REMUNERAÇÃO | H22: % | I22: VALOR (R$)
A23: A | B23: Salário Base | I23: =H17 -> 2759.87
A24: B | B24: Adicional Periculosidade | I24: 0
A25: C | B25: Adicional Insalubridade | H25: 0.2 | I25: =1412*H25 -> 282.4
A26: D | B26: Adicional Noturno | I26: =H26*I23 -> 0
A27: E | B27: Adicional de Hora Noturna Reduzida | I27: 0
A28: F | B28: Outros (especificar) | I28: 0
A29: TOTAL DO MÓDULO 1 | I29: =TRUNC(SUM(I23:I28),2) -> 3042.27
A31: MÓDULO 2 – ENCARGOS E BENEFÍCIOS ANUAIS, MENSAIS E DIÁRIOS
A32: Submódulo 2.1 - 13º Salário, Férias e Adicional de Férias | H32: % | I32: VALOR (R$)
A33: A | B33: 13 (Décimo-terceiro) salário | H33: 0.0833 | I33: =$I$29*H33 -> 253.42109
A34: B | B34: Férias e Adicional de Férias | H34: 0.0278 | I34: =H34*I29 -> 84.575106
A35: TOTAL SUBMÓDULO 2.1 | H35: =TRUNC(SUM(H33:H34),4) -> 0.1111 | I35: =TRUNC(SUM(I33:I34),2) -> 337.99
J36: base 2.2 | K36: =I29+I35+I93 -> 3662.21
A37: Submódulo 2.2 - GPS, FGTS e Outras Contribuições | H37: % | I37: VALOR (R$) | J37: Total do mod 1+total submodulo 2.1+total mod 4
A38: A | B38: INSS | H38: 0.2 | I38: =H38*$K$36 -> 732.442
A39: B | B39: Salário Educação | H39: 0.025 | I39: =H39*$K$36 -> 91.55525
A40: C | B40: SAT (Seguro Acidente de Trabalho) | H40: =0.02*0.843 -> 0.01686 | I40: =H40*$K$36 -> 61.744861
A41: D | B41: SESC ou SESI | H41: 0.015 | I41: =H41*$K$36 -> 54.93315
A42: E | B42: SENAI - SENAC | H42: 0.01 | I42: =H42*$K$36 -> 36.6221
A43: F | B43: SEBRAE | H43: 0.006 | I43: =H43*$K$36 -> 21.97326
A44: G | B44: INCRA | H44: 0.002 | I44: =H44*$K$36 -> 7.32442
A45: H | B45: FGTS | H45: 0.08 | I45: =H45*$K$36 -> 292.9768
A46: TOTAL SUBMÓDULO 2.2 | H46: =SUM(H38:H45) -> 0.35486 | I46: =TRUNC(SUM(I38:I45),2) -> 1299.57
...

Sheet  Nutricionista RT SET FEC PLANT
A2: PLANILHA 50 - NUTRICIONISTA RT PLANTONISTA SETORES FECHADOS
A4: Discriminação dos Serviços
A5: A | B5: Data de apresentação da proposta
A6: B | B6: Município | H6: Rio de Janeiro
A7: C | B7: SINDICATO DOS NUTRICIONISTAS DO ESTADO DO RIO DE JANEIRO | H7: 2023-2024
A8: D | B8: Nº de meses de execução contratual | H8: 12
A10: Identificação do Serviço
A11: Tipo de Serviço | C11: Unidade de Medida | E11: Quantidade total a contratar (em função da unidade de medida)
A12: Alimentação | C12: Profissional | E12: 2
A14: Dados para composição dos custos referentes à mão-de-obra
A15: 1 | B15: Tipo de serviço (mesmo serviço com características distintas) | H15: Nutricionista RT Plant
A16: 2 | B16: Classificação Brasileira de Ocupações (CBO) | H16: 2237-10
A17: 3 | B17: Salário Nominativo da Categoria Profissional | H17: 4100.8
A18: 4 | B18: Categoria profissional (vinculada à execução contratual) | H18: Nutricionista
A19: 5 | B19: Data base da categoria (dia/mês/ano) | H19: 45292
A21: MÓDULO 1 - COMPOSIÇÃO DA REMUNERAÇÃO
A22: 1 | B22: COMPOSIÇÃO DA REMUNERAÇÃO | H22: % | I22: VALOR (R$)
A23: A | B23: Salário Base | I23: =H17 -> 4100.8
A24: B | B24: Adicional Periculosidade | I24: 0
A25: C | B25: Adicional Insalubridade | H25: 0.2 | I25: =1412*H25 -> 282.4
A26: D | B26: Adicional Noturno | I26: 0
A27: E | B27: Adicional de Hora Noturna Reduzida | I27: 0
A28: F | B28: Outros - Gratificação de Liderança -20% sobre salário base | H28: 0.2 | I28: =I23*20% -> 820.16
A29: TOTAL DO MÓDULO 1 | I29: =TRUNC(SUM(I23:I28),2) -> 5203.36
A31: MÓDULO 2 – ENCARGOS E BENEFÍCIOS ANUAIS, MENSAIS E DIÁRIOS
A32: Submódulo 2.1 - 13º Salário, Férias e Adicional de Férias | H32: % | I32: VALOR (R$)
A33: A | B33: 13 (Décimo-terceiro) salário | H33: 0.0833 | I33: =$I$29*H33 -> 433.43989
A34: B | B34: Férias e Adicional de Férias | H34: 0.0278 | I34: =H34*I29 -> 144.65341
A35: TOTAL SUBMÓDULO 2.1 | H35: =TRUNC(SUM(H33:H34),4) -> 0.1111 | I35: =TRUNC(SUM(I33:I34),2) -> 578.09
J36: base 2.2 | K36: =I29+I35+I93 -> 6264.71
A37: Submódulo 2.2 - GPS, FGTS e Outras Contribuições | H37: % | I37: VALOR (R$) | J37: Total do mod 1+total submodulo 2.1+total mod 4
A38: A | B38: INSS | H38: 0.2 | I38: =H38*$K$36 -> 1252.942
A39: B | B39: Salário Educação | H39: 0.025 | I39: =H39*$K$36 -> 156.61775
A40: C | B40: SAT (Seguro Acidente de Trabalho) | H40: =0.02*0.843 -> 0.01686 | I40: =H40*$K$36 -> 105.62301
A41: D | B41: SESC ou SESI | H41: 0.015 | I41: =H41*$K$36 -> 93.97065
A42: E | B42: SENAI - SENAC | H42: 0.01 | I42: =H42*$K$36 -> 62.6471
A43: F | B43: SEBRAE | H43: 0.006 | I43: =H43*$K$36 -> 37.58826
A44: G | B44: INCRA | H44: 0.002 | I44: =H44*$K$36 -> 12.52942
A45: H | B45: FGTS | H45: 0.08 | I45: =H45*$K$36 -> 501.1768
A46: TOTAL SUBMÓDULO 2.2 | H46: =SUM(H38:H45) -> 0.35486 | I46: =TRUNC(SUM(I38:I45),2) -> 2223.09
...

Sheet  NUT RT CHEFIA DIARISTA
A2: PLANILHA 51 - NUTRICIONISTA RT (CHEFIA) PRODUÇÃO DIARISTA
A4: Discriminação dos Serviços
A5: A | B5: Data de apresentação da proposta
A6: B | B6: Município | H6: Rio de Janeiro
A7: C | B7: SINDICATO DOS NUTRICIONISTAS DO ESTADO DO RIO DE JANEIRO | H7: 2023-2024
A8: D | B8: Nº de meses de execução contratual | H8: 12
A10: Identificação do Serviço
A11: Tipo de Serviço | C11: Unidade de Medida | E11: Quantidade total a contratar (em função da unidade de medida)
A12: Alimentação | C12: Profissional | E12: 1
A14: Dados para composição dos custos referentes à mão-de-obra
A15: 1 | B15: Tipo de serviço (mesmo serviço com características distintas) | H15: Nutricionista RT Diarista
A16: 2 | B16: Classificação Brasileira de Ocupações (CBO) | H16: 2237-10
A17: 3 | B17: Salário Nominativo da Categoria Profissional | H17: 4100.8
A18: 4 | B18: Categoria profissional (vinculada à execução contratual) | H18: Nutricionista
A19: 5 | B19: Data base da categoria (dia/mês/ano) | H19: 44927
A21: MÓDULO 1 - COMPOSIÇÃO DA REMUNERAÇÃO
A22: 1 | B22: COMPOSIÇÃO DA REMUNERAÇÃO | H22: % | I22: VALOR (R$)
A23: A | B23: Salário Base | I23: =H17 -> 4100.8
A24: B | B24: Adicional Periculosidade | I24: 0
A25: C | B25: Adicional Insalubridade | H25: 0.2 | I25: =1412*H25 -> 282.4
A26: D | B26: Adicional Noturno | I26: 0
A27: E | B27: Adicional de Hora Noturna Reduzida | I27: 0
A28: F | B28: Outros - Gratificação de Liderança - 40% sobre salário base | H28: 0.4 | I28: =I23*40% -> 1640.32
A29: TOTAL DO MÓDULO 1 | I29: =TRUNC(SUM(I23:I28),2) -> 6023.52
A31: MÓDULO 2 – ENCARGOS E BENEFÍCIOS ANUAIS, MENSAIS E DIÁRIOS
A32: Submódulo 2.1 - 13º Salário, Férias e Adicional de Férias | H32: % | I32: VALOR (R$)
A33: A | B33: 13 (Décimo-terceiro) salário | H33: 0.0833 | I33: =$I$29*H33 -> 501.75922
A34: B | B34: Férias e Adicional de Férias | H34: 0.0278 | I34: =H34*I29 -> 167.45386
A35: TOTAL SUBMÓDULO 2.1 | H35: =TRUNC(SUM(H33:H34),4) -> 0.1111 | I35: =TRUNC(SUM(I33:I34),2) -> 669.21
J36: base 2.2 | K36: =I29+I35+I93 -> 7252.01
A37: Submódulo 2.2 - GPS, FGTS e Outras Contribuições | H37: % | I37: VALOR (R$) | J37: Total do mod 1+total submodulo 2.1+total mod 4
A38: A | B38: INSS | H38: 0.2 | I38: =H38*$K$36 -> 1450.402
A39: B | B39: Salário Educação | H39: 0.025 | I39: =H39*$K$36 -> 181.30025
A40: C | B40: SAT (Seguro Acidente de Trabalho) | H40: =0.02*0.843 -> 0.01686 | I40: =H40*$K$36 -> 122.26889
A41: D | B41: SESC ou SESI | H41: 0.015 | I41: =H41*$K$36 -> 108.78015
A42: E | B42: SENAI - SENAC | H42: 0.01 | I42: =H42*$K$36 -> 72.5201
A43: F | B43: SEBRAE | H43: 0.006 | I43: =H43*$K$36 -> 43.51206
A44: G | B44: INCRA | H44: 0.002 | I44: =H44*$K$36 -> 14.50402
A45: H | B45: FGTS | H45: 0.08 | I45: =H45*$K$36 -> 580.1608
A46: TOTAL SUBMÓDULO 2.2 | H46: =SUM(H38:H45) -> 0.35486 | I46: =TRUNC(SUM(I38:I45),2) -> 2573.44
...

Sheet Nutricionista  Plantonista
A2: PLANILHA 52 - NUTRICIONISTA PLANTONISTA PRODUÇÃO
A4: Discriminação dos Serviços
A5: A | B5: Data de apresentação da proposta
A6: B | B6: Município | H6: Rio de Janeiro
A7: C | B7: SINDICATO DOS NUTRICIONISTAS DO ESTADO DO RIO DE JANEIRO | H7: 2023-2024
A8: D | B8: Nº de meses de execução contratual | H8: 12
A10: Identificação do Serviço
A11: Tipo de Serviço | C11: Unidade de Medida | E11: Quantidade total a contratar (em função da unidade de medida)
A12: Alimentação | C12: Nº Refeições | E12: 6
A14: Dados para composição dos custos referentes à mão-de-obra
A15: 1 | B15: Tipo de serviço (mesmo serviço com características distintas) | H15: Nutricionista Plantonista
A16: 2 | B16: Classificação Brasileira de Ocupações (CBO) | H16: 2237-10
A17: 3 | B17: Salário Nominativo da Categoria Profissional | H17: 4100.8
A18: 4 | B18: Categoria profissional (vinculada à execução contratual) | H18: Nutricionista
A19: 5 | B19: Data base da categoria (dia/mês/ano) | H19: 44927
A21: MÓDULO 1 - COMPOSIÇÃO DA REMUNERAÇÃO
A22: 1 | B22: COMPOSIÇÃO DA REMUNERAÇÃO | H22: % | I22: VALOR (R$)
A23: A | B23: Salário Base | I23: =H17 -> 4100.8
A24: B | B24: Adicional Periculosidade | I24: 0
A25: C | B25: Adicional Insalubridade | H25: 0.2 | I25: =1412*H25 -> 282.4
A26: D | B26: Adicional Noturno | I26: 0
A27: E | B27: Adicional de Hora Noturna Reduzida | I27: 0
A28: F | B28: Outros - Gratificação - 10% sobre salário base | H28: 0.1 | I28: =I23*H28 -> 410.08
A29: TOTAL DO MÓDULO 1 | I29: =TRUNC(SUM(I23:I28),2) -> 4793.28
A31: MÓDULO 2 – ENCARGOS E BENEFÍCIOS ANUAIS, MENSAIS E DIÁRIOS
A32: Submódulo 2.1 - 13º Salário, Férias e Adicional de Férias | H32: % | I32: VALOR (R$)
A33: A | B33: 13 (Décimo-terceiro) salário | H33: 0.0833 | I33: =$I$29*H33 -> 399.28022
A34: B | B34: Férias e Adicional de Férias | H34: 0.0278 | I34: =H34*I29 -> 133.25318
A35: TOTAL SUBMÓDULO 2.1 | H35: =TRUNC(SUM(H33:H34),4) -> 0.1111 | I35: =TRUNC(SUM(I33:I34),2) -> 532.53
J36: base 2.2 | K36: =I29+I35+I93 -> 5771.07
A37: Submódulo 2.2 - GPS, FGTS e Outras Contribuições | H37: % | I37: VALOR (R$) | J37: Total do mod 1+total submodulo 2.1+total mod 4
A38: A | B38: INSS | H38: 0.2 | I38: =H38*$K$36 -> 1154.214
A39: B | B39: Salário Educação | H39: 0.025 | I39: =H39*$K$36 -> 144.27675
A40: C | B40: SAT (Seguro Acidente de Trabalho) | H40: =0.02*0.843 -> 0.01686 | I40: =H40*$K$36 -> 97.30024
A41: D | B41: SESC ou SESI | H41: 0.015 | I41: =H41*$K$36 -> 86.56605
A42: E | B42: SENAI - SENAC | H42: 0.01 | I42: =H42*$K$36 -> 57.7107
A43: F | B43: SEBRAE | H43: 0.006 | I43: =H43*$K$36 -> 34.62642
A44: G | B44: INCRA | H44: 0.002 | I44: =H44*$K$36 -> 11.54214
A45: H | B45: FGTS | H45: 0.08 | I45: =H45*$K$36 -> 461.6856
A46: TOTAL SUBMÓDULO 2.2 | H46: =SUM(H38:H45) -> 0.35486 | I46: =TRUNC(SUM(I38:I45),2) -> 2047.92
...

Sheet Nutricionista Diarista 
A2: PLANILHA 53 - NUTRICIONISTA DIARISTA (CONTROLE DE QUALIDADE E PLANEJAMENTO)
A4: Discriminação dos Serviços
A5: A | B5: Data de apresentação da proposta
A6: B | B6: Município | H6: Rio de Janeiro
A7: C | B7: SINDICATO DOS NUTRICIONISTAS DO ESTADO DO RIO DE JANEIRO | H7: 2023-2024
A8: D | B8: Nº de meses de execução contratual | H8: 12
A10: Identificação do Serviço
A11: Tipo de Serviço | C11: Unidade de Medida | E11: Quantidade total a contratar (em função da unidade de medida)
A12: Alimentação | C12: Nº Refeições | E12: 2
A14: Dados para composição dos custos referentes à mão-de-obra
A15: 1 | B15: Tipo de serviço (mesmo serviço com características distintas) | H15: Nutricionista Diarista
A16: 2 | B16: Classificação Brasileira de Ocupações (CBO) | H16: 2237-10
A17: 3 | B17: Salário Nominativo da Categoria Profissional | H17: 4100.8
A18: 4 | B18: Categoria profissional (vinculada à execução contratual) | H18: Nutricionista
A19: 5 | B19: Data base da categoria (dia/mês/ano) | H19: 44927
A21: MÓDULO 1 - COMPOSIÇÃO DA REMUNERAÇÃO
A22: 1 | B22: COMPOSIÇÃO DA REMUNERAÇÃO | H22: % | I22: VALOR (R$)
A23: A | B23: Salário Base | I23: =H17 -> 4100.8
A24: B | B24: Adicional Periculosidade | I24: 0
A25: C | B25: Adicional Insalubridade | H25: 0.2 | I25: =1412*H25 -> 282.4
A26: D | B26: Adicional Noturno | I26: 0
A27: E | B27: Adicional de Hora Noturna Reduzida | I27: 0
A28: F | B28: Outros - Gratificação - 15% sobre salário base | H28: 0.15 | I28: =I23*H28 -> 615.12
A29: TOTAL DO MÓDULO 1 | I29: =TRUNC(SUM(I23:I28),2) -> 4998.32
A31: MÓDULO 2 – ENCARGOS E BENEFÍCIOS ANUAIS, MENSAIS E DIÁRIOS
A32: Submódulo 2.1 - 13º Salário, Férias e Adicional de Férias | H32: % | I32: VALOR (R$)
A33: A | B33: 13 (Décimo-terceiro) salário | H33: 0.0833 | I33: =$I$29*H33 -> 416.36006
A34: B | B34: Férias e Adicional de Férias | H34: 0.0278 | I34: =H34*I29 -> 138.9533
A35: TOTAL SUBMÓDULO 2.1 | H35: =TRUNC(SUM(H33:H34),4) -> 0.1111 | I35: =TRUNC(SUM(I33:I34),2) -> 555.31
J36: base 2.2 | K36: =I29+I35+I93 -> 6017.89
A37: Submódulo 2.2 - GPS, FGTS e Outras Contribuições | H37: % | I37: VALOR (R$) | J37: Total do mod 1+total submodulo 2.1+total mod 4
A38: A | B38: INSS | H38: 0.2 | I38: =H38*$K$36 -> 1203.578
A39: B | B39: Salário Educação | H39: 0.025 | I39: =H39*$K$36 -> 150.44725
A40: C | B40: SAT (Seguro Acidente de Trabalho) | H40: =0.02*0.843 -> 0.01686 | I40: =H40*$K$36 -> 101.46163
A41: D | B41: SESC ou SESI | H41: 0.015 | I41: =H41*$K$36 -> 90.26835
A42: E | B42: SENAI - SENAC | H42: 0.01 | I42: =H42*$K$36 -> 60.1789
A43: F | B43: SEBRAE | H43: 0.006 | I43: =H43*$K$36 -> 36.10734
A44: G | B44: INCRA | H44: 0.002 | I44: =H44*$K$36 -> 12.03578
A45: H | B45: FGTS | H45: 0.08 | I45: =H45*$K$36 -> 481.4312
A46: TOTAL SUBMÓDULO 2.2 | H46: =SUM(H38:H45) -> 0.35486 | I46: =TRUNC(SUM(I38:I45),2) -> 2135.5
...

Sheet Tec em Nutrição Plant noturno
A2: PLANILHA 54 - TÉCNICO EM NUTRIÇÃO PLANTONISTA NOTURNO
A4: Discriminação dos Serviços
A5: A | B5: Data de apresentação da proposta
A6: B | B6: Município | H6: Rio de Janeiro
A7: C | B7: SALÁRIO.COM.BR | H7: 2024
A8: D | B8: Nº de meses de execução contratual | H8: 12
A10: Identificação do Serviço
A11: Tipo de Serviço | C11: Unidade de Medida | E11: Quantidade total a contratar (em função da unidade de medida)
A12: Alimentação | C12: Nº Refeições | E12: 2
A14: Dados para composição dos custos referentes à mão-de-obra
A15: 1 | B15: Tipo de serviço (mesmo serviço com características distintas) | H15: Tecnico em Nutrição Plantonista Noturno
A16: 2 | B16: Classificação Brasileira de Ocupações (CBO) | H16: 3252-10
A17: 3 | B17: Salário Nominativo da Categoria Profissional | H17: 2002.14
A18: 4 | B18: Categoria profissional (vinculada à execução contratual) | H18: Tecnico em Nutrição
A19: 5 | B19: Data base da categoria (dia/mês/ano) | H19: 2024
A21: MÓDULO 1 - COMPOSIÇÃO DA REMUNERAÇÃO
A22: 1 | B22: COMPOSIÇÃO DA REMUNERAÇÃO | H22: % | I22: VALOR (R$)
A23: A | B23: Salário Base | I23: =H17 -> 2002.14
A24: B | B24: Adicional Periculosidade | I24: 0
A25: C | B25: Adicional Insalubridade | H25: 0.2 | I25: =1412*H25 -> 282.4
A26: D | B26: Adicional Noturno | H26: 0.2 | I26: =H26*I23 -> 400.428
A27: E | B27: Adicional de Hora Noturna Reduzida | I27: 0
A28: F | B28: Outros (especificar) | I28: 0
A29: TOTAL DO MÓDULO 1 | I29: =TRUNC(SUM(I23:I28),2) -> 2684.96
A31: MÓDULO 2 – ENCARGOS E BENEFÍCIOS ANUAIS, MENSAIS E DIÁRIOS
A32: Submódulo 2.1 - 13º Salário, Férias e Adicional de Férias | H32: % | I32: VALOR (R$)
A33: A | B33: 13 (Décimo-terceiro) salário | H33: 0.0833 | I33: =$I$29*H33 -> 223.65717
A34: B | B34: Férias e Adicional de Férias | H34: 0.0278 | I34: =H34*I29 -> 74.641888
A35: TOTAL SUBMÓDULO 2.1 | H35: =TRUNC(SUM(H33:H34),4) -> 0.1111 | I35: =TRUNC(SUM(I33:I34),2) -> 298.29
J36: base 2.2 | K36: =I29+I35+I93 -> 3232.74
A37: Submódulo 2.2 - GPS, FGTS e Outras Contribuições | H37: % | I37: VALOR (R$) | J37: Total do mod 1+total submodulo 2.1+total mod 4
A38: A | B38: INSS | H38: 0.2 | I38: =H38*$K$36 -> 646.548
A39: B | B39: Salário Educação | H39: 0.025 | I39: =H39*$K$36 -> 80.8185
A40: C | B40: SAT (Seguro Acidente de Trabalho) | H40: =0.02*0.843 -> 0.01686 | I40: =H40*$K$36 -> 54.503996
A41: D | B41: SESC ou SESI | H41: 0.015 | I41: =H41*$K$36 -> 48.4911
A42: E | B42: SENAI - SENAC | H42: 0.01 | I42: =H42*$K$36 -> 32.3274
A43: F | B43: SEBRAE | H43: 0.006 | I43: =H43*$K$36 -> 19.39644
A44: G | B44: INCRA | H44: 0.002 | I44: =H44*$K$36 -> 6.46548
A45: H | B45: FGTS | H45: 0.08 | I45: =H45*$K$36 -> 258.6192
