Workbook

Sheet 1 - Proposta Comercial
A2: Anexo I Modelo de Apresentação de Proposta
A3: PROPOSTA DETALHE
A4: A firma ao lado mencionada propõe fornecer à Secretaria de Estado de Desenvolvimento Social e Direitos Humanos, pelos preços abaixo assinados, obedecendo rigorosamente ao estipulado e constante do Termo de Referência no processo SEI N.° 310001/003760/2024. | F4: Razão Social: SERVIÇOS LTDA
F5: CNPJ:
F6: Inscrição Estadual:
F7: Endereço:
F8: Tel:
F9: E-mail:
A10: ESPECIFICAÇÃO:
A11: Contratação de empresa especializada na prestação de serviço contínuo de preparo, fornecimento e distribuição diária de refeições (café da manhã, almoço e jantar) transportadas, a preço acessível e subsidiado, incluindo o desenvolvimento das atividades necessárias à implantação, ao gerenciamento, à manutenção e à operacionalização, com disponibilização de mão de obra, aquisição e instalação de equipamentos, mobiliários e utensílios para o Restaurante do Povo Tia Vicentina, localizado no bairro de Madureira, município do Rio de Janeiro, conforme condições e especificações estabelecidas no Termo de Referência e seus Anexos.
A12: Item 1. Refeição
A13: Refeição | B13: Quantidade fornecida por dia | C13: Quantidade total forrnecida em 24 meses (528 dias úteis) | E13: VALOR UNITÁRIO DA REFEIÇÃO | G13: Valor Total por dia (valor unitário x quantidade fornecida por dia) | H13: Valor total de cada refeição em 24 meses (528 dias úteis)
A14: Café da manhã | B14: 500 | C14: 264000 | E14: 0 | G14: =E14*B14 -> 0 | H14: =E14*C14 -> 0
A15: Almoço | B15: 1999 | C15: 1055472 | E15: 0 | G15: =E15*B15 -> 0 | H15: =E15*C15 -> 0
A16: Jantar | B16: 500 | C16: 264000 | E16: 0 | G16: =E16*B16 -> 0 | H16: =E16*C16 -> 0 | I16: =G14+G15+G16 -> 0
A17: Valor total estimado em 24 meses | H17: =SUM(H14:H16) -> 0 | I17: =I16*22 -> 0 | J17: 22 dias
A18: Valor total estimado por extenso
A19: * O Valor não corresponde necessariamente ao total pago pelo contratante. Há a possibilidade de isenção e/ou gratuidade dos valores a serem pagos pelos usuários (CAFÉ: R$ 0,50, ALMOÇO: R$ 1,00 e JANTAR: R$ 1,00) quando estipulado em lei. Nesses casos o custo do usuário será abarcado pelo contratande.
A20: *Foram considerados os quantitativos máximos previstos. | I20: =I17*12 -> 0 | K20: =I20 -> 0
A22: OBSERVAÇÕES: | G22: Validade da Proposta-Detalhe: 180 (cento e oitenta dias) dias.
A23: 1) A PROPOSTA-DETALHE deverá: | K23: ='2 - Composição de custos'!C27 -> 0 | L23: TRIBUTOS
A24: ● Ser preenchida integralmente por processo mecânico ou eletrônico, sem emendas e rasuras; | G24: Prazo de entrega: Conforme o Termo de Referência. | K24: ='2 - Composição de custos'!C28 -> 0 | L24: LUCROS
A25: ● Conter os preços em algarismos e por extenso, por unidade, já incluídas as despesas de fretes, impostos federais, ou estaduais e descontos especiais; | G25: Local de entrega: Conforme o Termo de Referência. Declaramos inteira submissão ao presente termo e legislação vigente. | K25: ='2 - Composição de custos'!E22 -> #REF! | L25: somatorio 1 ao 9
A26: ● Ser datada e assinada pelo gerente ou seu procurador. | G26: Em / / | K26: =SUM(K22:K25) -> #REF! | L26: VALOR FINAL
A27: 2) O Proponente se obrigará, mediante devolução da PROPOSTA-DETALHE, a cumprir os termos nela contidos; | G27: ___________________________________
G28: (Assinatura do responsável)
A29: 3) A licitação poderá ser anulada no todo, ou em parte, de conformidade com a legislação vigente. | G29: Nome Completo: _____________________________ Cargo:________________________________________

Sheet 2 - Composição de custos
B2: Anexo II Planilha de Composição de Custos
B3: ITENS | C3: CUSTO POR ITEM (R$) | D3: % DO VALOR GLOBAL | F3: ='1 - Proposta Comercial'!I20 -> 0
B4: I - MATÉRIA PRIMA ALIMENTAR DOS CARDÁPIOS | H4: =C5+C6 -> 0 | I4: alimento
B5: 1 Gêneros alimentícios | D5: =C30/C5 -> #DIV/0! | F5: =C5 -> 0
B6: 2 Gêneros alimentícios oriundos da agricultura familiar | D6: =C30/C6 -> #DIV/0! | E6: =D5+D6 -> #DIV/0! | F6: =C6 -> 0
B7: II - MÃO-DE-OBRA | C7: ='6 - Resumo RH'!F36 -> 0 | D7: =C30/C7 -> #DIV/0! | F7: =SUM(F5:F6) -> 0
B8: III - ENCARGOS SOCIAIS
B9: IV – INSUMOS
B10: 1) Uniformes
B11: 2) Vale-Alimentação (Cesta Básica)
B12: 3) Vale-Transporte
B13: 4) Exame médico: Admissional/Periódico/Demissional
B14: V – DESPESAS ADMINISTRATIVAS E OPERACIONAIS
B15: 1- Desinsetização/Desratização | D15: =C30/C15 -> #DIV/0!
B16: 2- Gás/Energia Elétrica/Água | D16: =C30/C16 -> #DIV/0!
B17: 3- Descartáveis/Higienização | D17: =C32/C17 -> #DIV/0!
B18: 4- Depreciação | D18: =C32/C18 -> #DIV/0!
B19: 5- Despesas Gerais | D19: =C34/C19 -> #DIV/0!
B20: 6- Seguros de Riscos de Responsabilidade Civil e Danos Físicos | D20: =C34/C20 -> #DIV/0!
B21: 7- Análise microbiológica | D21: =C36/C21 -> #DIV/0!
B22: 8- Manejo de resíduos sólidos | D22: =C36/C22 -> #DIV/0! | E22: =C15+C16+C17+C18+#REF!+C19+C20+C21+C22 -> #REF! | F22: somatorio do ao 9 | G22: =D15+D16+D17+D18+#REF!+D19+D20+D21+D22 -> #DIV/0!
B23: 9- Equipamentos e mobiliários | C23: ='3 - Equipamentos e mobiliarios'!E27 -> 0 | D23: =C38/C23 -> #DIV/0!
B24: 10- Utensílios | C24: ='4 - Utensílios'!F40 -> 0 | D24: =C38/C24 -> #DIV/0!
B25: 11- Mobiliários de refeitório | C25: ='5 - mobiliario de refeitório'!E15 -> 0
B26: 12- Transporte das refeições | D26: =C40/C26 -> #DIV/0! | I26: ='1 - Proposta Comercial'!#REF! -> #REF! | J26: =I26/F3 -> #REF!
B27: VII – TRIBUTOS | D27: =C40/C27 -> #DIV/0! | I27: 144000 | J27: =I27/F3 -> #DIV/0!
B28: VIII – LUCRO | D28: =C42/C28 -> #DIV/0!
B30: VALOR GLOBAL | C30: ='1 - Proposta Comercial'!H17 -> 0 | D30: 1

Sheet 3 - Equipamentos e mobiliarios
A2: ITEM | B2: DESCRIÇÃO DO5 EQUIPAMENTOS E MOBILIÁRIOS | C2: QUANT. | D2: VALORES
D3: CUSTO UNITÁRIO | E3: CUSTO TOTAL
A4: 1 | B4: MESA MULTIUSO COZINHA INDUSTRIAL - MODELO: MESA COM 02 (DUAS) CUBAS - DIMENSAO: 2100 X 700 X 850MM (L X P X A), COM 02 CUBAS DE 500 X 400 X 300 MM, MATERIAL TAMPO: ACO INOX 304 AISI LIGA 18.8, MATERIAL ARMACAO: ACO INOX AISI 304, LIGA 18.8, PRATELEIRA: N/A, FORMA FORNECIMENTO: UNIDADE | C4: 2 | E4: =C4*D4 -> 0
A5: 2 | B5: MESA MULTIUSO COZINHA INDUSTRIAL - MODELO: MESA COM 1 CUBA, 1200 X 700 X 850 MM (L X P X A), MATERIAL TAMPO: ACO INOX AISI 304, MATERIAL ARMACAO: PES TUBULARES E ESTRUTURA INFERIOR EM ACO INOXIDAVEL, SAPATAS NIVELADORAS REGULÁVEIS, PRATELEIRA: N/A, FORMA FORNECIMENTO: UNIDADE | C5: 5 | E5: =C5*D5 -> 0
A6: 3 | B6: TRAY REST (PRATELEIRA TUBULAR) - FABRICADO EM AÇO INOXIDÁVEL, LIGA 18.8, AISI 304, BITOLA # 18, ESPESSURA TUBOS 25 MM; FIXADOS POR MEIO DE MÃOS FRANCESAS FORMA FORNECIMENTO: UNIDADE | C6: 1 | E6: =C6*D6 -> 0
A7: 4 | B7: ESTANTE COZINHA INDUSTRIAL - MATERIAL: ACO INOX 304 18.8 BITOLA 16, BASE: 04 NÍVEIS COM PLANOS PLANOS GRADEADOS, ALTURA: 1600 MM, PROFUNDIDADE: 500 MM, LARGURA: 1400 MM - UNIDADE | C7: 7 | E7: =C7*D7 -> 0
A8: 5 | B8: ESTANTE COZINHA INDUSTRIAL - MATERIAL: AÇO INOX 304 18.8 BITOLA 16, BASE: 04 NÍVEIS COM PLANOS LISOS, ALTURA: 1600 MM, PROFUNDIDADE: 500 MM, LARGURA: 1400 MM | C8: 3 | E8: =C8*D8 -> 0
A9: 6 | B9: MAQUINA LAVADORA LOUÇA - MODELO: CARGA FRONTAL, MATERIAL: AÇO INOX AISI 304, CAPACIDADE: 150 GAVETAS/HORA, CONSUMO ÁGUA/CICLO: ATÉ 500 LITROS/HORA, POTÊNCIA BOMBA LAVAGEM: 2,0 CV, POTÊNCIA ENXAGUE: 0,5 CV, POTÊNCIA TOTAL: 3,0 CV, TENSÃO ALIMENTAÇÃO: 220 V, DIMENSÕES (L X P X A): 1100 X 805 X 1380 MM COMPLEMENTO: MESAS MULTIUSO COZINHA INDUSTRIAL - MODELO: RETANGULAR, PARA (01)UMA PARA ENTRADA E (01) UMA PARA SAÍDA DE LAVADORA DE LOUÇA, MATERIAL TAMPO: ACO INOX AISI 304, LIGA 18.8, BORDA EM 3 LADOS E ENCAIXE PARA APOIO, MATERIAL ARMAÇÃO: AÇO INOX AISI 304, LIGA 18.8, PRATELEIRA: SEM, FORMA FORNECIMENTO: 02 UNIDADES QUE ACOPLEM À MÁQUINA LAVADORA Especificação complementar: BOLLER QUE MANTENHA A TEMPERATURA DA ÁGUA LAVAGEM: 55 ~ 65ºC, E A TEMPERATURA DA ÁGUA ENXÁGUE: 80 ~ 90ºC | C9: 1 | E9: =C9*D9 -> 0
A10: 7 | B10: FOGÃO INDUSTRIAL - QUANTIDADE BOCA: 4 BOCAS, AÇO INOX, TUBULAÇÃO NOS DOIS LADOS, LARGURA: 800 ~ 1000 MM, QUEIMADOR: 02 DUPLOS E 02 SIMPLES, 300 X 300 MM COM GRELHAS EM MATERIAL FUNDIDO, ALTURA: 800 ~ 900 MM, FORNO: SEM, PROFUNDIDADE: 800 ~ 900 MM, FORMA FORNECIMENTO: UNIDADE | C10: 1 | E10: =C10*D10 -> 0
A11: 8 | B11: FORNO COMBINADO (SECO E VAPOR): - FORNO COZINHA INDUSTRIAL – VOLUME 200L MODELO, CAPACIDADE PARA 20 CUBAS PADRÃO GN (GASTRONORM) 1/1 X 65MM (530X325MM) DIGITAL, ALIMENTAÇÃO: ELÉTRICA, QUEIMADOR:N/D ISOLAMENTO: LÃ DE VIDRO, MATERIAL: ACO INOX, ACABAMENTO: ESCOVADO, COR: N/D, FUNÇÕES: ILUMINAÇÃO INTERNA, PORTA ABERTURA TOTAL, TERMOSTATO AJUSTE TEMPERATURA, DRENO, MODO AUTOMÁTICO (TIPOS DE FUNÇÕES PRÉ-PROGRAMADAS, DETERMINADAS PELA MEDIÇÃO DA SONDA – TERMÔMETRO), RESFRIAMENTO E FUNÇÃO DE LIMPEZA AUTOMÁTICA, TENSÃO: 220 V. DIMENSÃO EXTERNA: 1782 X 879 X 791 MM (AXLXP) DIMENSÃO INTERNA: N/D FORNECIMENTO-UNIDADE. Especificação complementar: RACK OU GAIOLA COM GRADES E RODÍZIOS/ RODAS QUE ESTEJAM DE ACORDO COM CAPACIDADE INTERNA DE 200L DO FORNO ADQUIRIDO PARA ACONDICIONAR 20 GNs CUBAS MODELO GASTRONORM 1/1 X 65MM) E HASTE DE INOX ACOPLÁVEL “TIPO GUIDON” | C11: 1 | E11: =C11*D11 -> 0
A12: 9 | B12: CAFETEIRA ELÉTRICA PROFISSIONAL 20L - SENDO 2 BOJOS DE 10L CADA. DIMENSÕES APROXIMADAS DE 41x37x84cm, 220V | C12: 1 | E12: =C12*D12 -> 0
A13: 10 | B13: BEBEDOURO - TIPO: INDUSTRIAL, CAPACIDADE: 200L, TENSÃO: 110 / 220V, GABINETE: AÇO INOX, TORNEIRA: 4 TORNEIRAS FRONTAIS , CARACTERÍSTICAS ADICIONAIS: TORNEIRAS EM LATÃO CROMADO, CONTROLE AUTOMÁTICO DE TEMPERATURA DA ÁGUA, APARADOR DE ÁGUA FRONTAL EM CHAPA DE AÇO INOX, FORMA FORNECIMENTO: UNIDADE | C13: 1 | E13: =C13*D13 -> 0
A14: 11 | B14: BEBEDOURO - TIPO: ELÉTRICO, CAPACIDADE: 20 L, TENSÃO: 127 / 220V, GABINETE: AÇO INOX, TORNEIRA: 1 GELADA E 1 NATURAL, CARACTERÍSTICAS ADICIONAIS: N/A, FORMA FORNECIMENTO: UNIDADE | C14: 2 | E14: =C14*D14 -> 0
A15: 12 | B15: PIA COZINHA - MODELO TAMPO: SOB MEDIDA, MATERIAL TAMPO: ACO INOX AISI 304, LIGA 18/8, ACABAMENTO TAMPO: ESCOVADO, COR TAMPO: N/A, DIMENSÃO TAMPO (L X P): 500 X 400 MM, ESPESSURA TAMPO: 18.8 MM, QUANTIDADE CUBA: 1, MATERIAL CUBA: AÇO INOX AISI 304, DIMENSÃO CUBA (L X P X H): 400 X 340 X 180 MM, ACCESORIO: VÁLVULA AMERICANA 3 1/2 X 1 1/2, FORMA FORNECIMENTO: UNIDADE | C15: 3 | E15: =C15*D15 -> 0
... A26: 23 | B26: REFRESQUEIRA REFRIGERADA - DISPENSER DE SUCO POR GRAVIDADE; SERPENTINA EM AÇO INOX 304; CAPACIDADE: 100L; AGITAÇÃO POR PÁS. | C26: 3 | E26: =C26*D26 -> 0
A27: Custo Total para o Período de 24 meses dos EQUIPAMENTOS E MOBILIÁRIOS: | E27: =SUM(E4:E26) -> 0
A28: Custo efetivo mensal dos EQUIPAMENTOS E MOBILIÁRIOS: | E28: =E27/24 -> 0

Sheet 4 - Utensílios
A2: DETALHAMENTO DE UTENSÍLIOS
A3: IITEM | B3: ESPECIFICAÇÃO DOS UTENSÍLIOS | C3: Tamanho | D3: QUANT. | E3: VALORES
E4: CUSTO UNITÁRIO | F4: CUSTO TOTAL
A5: 1 | B5: Bandejas lisas na cor laranja resistentes a alta temperatura | D5: 700 | F5: =D5*E5 -> 0
A6: 2 | B6: Pratos de louça na cor branca (diâmetro de 27 cm) | D6: 700 | F6: =D6*E6 -> 0
A7: 3 | B7: Caixas térmicas horizontal hot box - cubas GN 100L para transporte das refeições/preparações | D7: 62 | F7: =D7*E7 -> 0
A8: 4 | B8: Monoblocos de cor clara com capacidade de 100L | D8: 50 | F8: =D8*E8 -> 0
A9: 5 | B9: Estrados/paletes - em material plástico resistente 50 x 50 cm, altura maior ou igual a 13 cm | D9: 100 | F9: =D9*E9 -> 0
A10: 6 | B10: Recipientes térmicos para bebida quente com capacidade de 9L - COR VERMELHO (PARA CAFÉ) | D10: 6 | F10: =D10*E10 -> 0
A11: 7 | B11: Recipientes térmicos para bebida quente com capacidade de 9L - COR AZUL (PARA LEITE) | D11: 6 | F11: =D11*E11 -> 0
A12: 8 | B12: Cubas GNs 1/1 de inox tamanhos e volumes diversos a serem usadas para a distribuição das refeições do almoço e do jantar | C12: 65 mm | D12: 50 | F12: =D12*E12 -> 0
A13: 9 | C13: 100 mm | D13: 100 | F13: =D13*E13 -> 0
A14: 10 | C14: 150 mm | D14: 50 | F14: =D14*E14 -> 0
A15: 11 | C15: 200 mm | D15: 10 | F15: =D15*E15 -> 0
A16: 12 | B16: Termômetros de espeto | D16: 2 | F16: =D16*E16 -> 0
A17: 13 | B17: Pegador para saladas | D17: 8 | F17: =D17*E17 -> 0
A18: 14 | B18: Colher de servir para arroz | D18: 4 | F18: =D18*E18 -> 0
A19: 15 | B19: Colher de servir para guarnição | D19: 4 | F19: =D19*E19 -> 0
A20: 16 | B20: Concha para feijão | D20: 4 | F20: =D20*E20 -> 0
A21: 17 | B21: Concha para molho | D21: 4 | F21: =D21*E21 -> 0
A22: 18 | B22: Lixeiras com tampa e acionamento por pedal - de 200 L para o refeitório | D22: 4 | F22: =D22*E22 -> 0
A23: 19 | B23: Lixeiras com tampa e acionamento por pedal - de 20 L em cada cabine sanitária | D23: 10 | F23: =D23*E23 -> 0
A24: 20 | B24: Lixeiras com tampa e acionamento por pedal - de 200 L fora das cabines, nos vestiários e sanitários | D24: 4 | F24: =D24*E24 -> 0
A25: 21 | B25: Lixeiras com tampa e acionamento por pedal - de 40 L em cada sala administrativa | D25: 2 | F25: =D25*E25 -> 0
A26: 22 | B26: Lixeiras com tampa e acionamento por pedal - de 240 L para o depósito temporário de resíduos | D26: 4 | F26: =D26*E26 -> 0
A27: 23 | B27: Dispenser de sabão líquido. | D27: 15 | F27: =D27*E27 -> 0
... A30: 26 | B30: Dispenser de papel higiênico | D30: 15 | F30: =D30*E30 -> 0
A31: DESCARTÁVEIS
C32: DIÁRIO | D32: 528 DIAS / UNIDADES
A33: 27 | B33: Copos descartáveis 250ml material resistente | C33: 3300 | D33: =C33*528 -> 1742400 | F33: =D33*E33 -> 0
A34: 28 | B34: Mexedor descartável 11 cm | C34: 3300 | D34: =C34*528 -> 1742400 | F34: =D34*E34 -> 0
A35: 29 | B35: Faca de mesa descartável de material resistente | C35: 3300 | D35: =C35*528 -> 1742400 | F35: =D35*E35 -> 0
A36: 30 | B36: Garfo de mesa descartável de material resistente | C36: 3300 | D36: =C36*528 -> 1742400 | F36: =D36*E36 -> 0
A37: 31 | B37: Colher de mesa descartável de material resistente | C37: 3300 | D37: =C37*528 -> 1742400 | F37: =D37*E37 -> 0
A38: 32 | B38: Colher de sobremesa descartável de material resistente | C38: 3300 | D38: =C38*528 -> 1742400 | F38: =D38*E38 -> 0
A40: Custo Total para o Período de 24 meses dos UTENSÍLIOS | F40: =SUM(F5:F38) -> 0
A41: Custo efetivo mensal dos UTENSÍLIOS | F41: =F40/24 -> 0

Sheet 5 - mobiliario de refeitório
A2: ITEM | B2: ESPECIFICAÇÃO DOS MOBILIÁRIOS REFEITÓRIO | C2: QUANT. | D2: VALORES
D3: CUSTO UNITÁRIO | E3: CUSTO TOTAL
A4: 1 | B4: Mesa refeitório. para 4 lugares; material tampo: mdp; Revestimento tampo: fórmica ou melamina de alta pressão; Cor: branco; Formato: retangular; Dimensão proximada (c x l x a): 1,20m x 0,80m x 0,75m Material estrutura: tubular em aço; Revestimento estrutura: pintura epóxi; Cor estrutura: preto; Fornecimento: unidade. (revestimento melamínico de alta pressão na superfície superior, inferior e laterais da mesa). As mesas devem atender aos cadeirantes e obesos, conforme Decreto nº 9.404, de 11 de junho de 2018. A altura pode girar entre 0,75 m e 0,85 m do piso com altura livre inferior para encaixe de cadeira de rodas e de obesos no mínimo 0,73m do piso, possuindo um módulo de referência posicionado para a aproximação frontal, possibilitando avançar sob as mesas até no máximo 0,50 m. | C4: 50 | E4: =C4*D4 -> 0
A5: 2 | B5: Cadeira para refeitório empilhável, assento e encosto em polipropileno. Estrutura em aço carbono tubular. Cor do encosto/assento da cadeira: preto. Cor da estrutura da cadeira: preto | C5: 196 | E5: =C5*D5 -> 0
A6: 3 | B6: Cadeiras para pessoas obesas (2% das cadeiras disponíveis - DECRETO Nº 9.404, DE 11 DE JUNHO DE 2018) com capacidade para até 250 kg, largura do assento equivalente a dois assentos comuns, desde que superior a 0,75 m; apoios de braços, com altura entre 0,23 m e 0,27 m em relação ao assento; profundidade do assento mínima de 0,47m e máxima de 0,51m, medida entre sua frontal do encosto tomado no eixo de simetria; altura parte frontal e o ponto mais do assento mínima de 0,41 m e máxima de 0,45 m, medida na sua parte mais alta e frontal; ângulo de inclinação do assento em relação ao plano horizontal, de 2°a 5°; ângulo entre assento e encosto de 100° a 105°. cor branca ou ovo. | C6: 4 | E6: =C6*D6 -> 0
A7: 4 | B7: Armário escritório - material: aço carbono, revestimento: aço 22, cor: branco, material puxador: metalico nao ferroso, dimensão (a/axlxp): 1600mm x 900mm x 450mm, prateleira: 3 prateleiras removíveis e ajustáveis em cada compartimento, características adicionais: duas portas dividido verticalmente e compartimentos independentes. | C7: 1 | E7: =C7*D7 -> 0
A8: 5 | B8: Cadeira - tipo: secretária, base: giratória - rodízio, ajuste altura assento: gás, reclinação: ajustável com desbloqueio, material estrutura: aço carbono e polipropileno, braço: regulável, encosto: ajuste inclinação, revestimento assento-encosto: tecido, cor: preto, porta livro: sem, prancheta: sem. | C8: 6 | E8: =C8*D8 -> 0
A9: 6 | B9: Mesa escritório - material: mdp, revestimento: laminado melamínico brilhante alta pressão, material estrutura: aço, revestimento estrutura: pintura epoxi, dimensões: 140 x 74 x 60 cm, modelo: mesa reta | C9: 4 | E9: =C9*D9 -> 0
A10: 7 | B10: Armário em aço para vestiário - com 16 portas. | C10: 2 | E10: =C10*D10 -> 0
A11: 8 | B11: Computador de mesa | C11: 5 | E11: =C11*D11 -> 0
A12: 9 | B12: Impressora Multifuncional | C12: 1 | E12: =C12*D12 -> 0
A13: 10 | B13: Impressora Térmica para cupom fiscal | C13: 2 | E13: =C13*D13 -> 0
A14: 11 | B14: Ar condicionado split 9000 btus | C14: 2 | E14: =C14*D14 -> 0
A15: Custo Total para o Período de 24 meses dos MOBILIÁRIOS REFEITÓRIO: | E15: =SUM(E4:E14) -> 0
A16: Custo efetivo mensal dos MOBILIÁRIOS REFEITÓRIO: | E16: =E15/24 -> 0

Sheet 6 - Resumo RH
A2: CARGO | B2: Qtd. Colaboradores Posto | C2: Salário Proposto Qtd. Total (convensa•_Lei) | D2: Valor Unitário Mensal por profissional | E2: Valor Total Mensal | F2: TOTAL DE 24 MESES
A3: ADMINISTRAÇÃO
A4: Auxiliar administrativo - CBO: 4110-05 | B4: 1
A5: GERÊNCIA/SERVIÇO DE NUTRIÇÃO
A6: Nutricionista (Responsável Técnico) Gerente do Restaurante - CBO: 2237-10 | B6: 1
A7: Nutricionista (Quadro técnico de Produção) - CBO: 2237-10 | B7: 2
A8: Técnico de Nutrição - CBO: 3252-10 | B8: 2
A9: ESTOQUE DE PRODUTOS
A10: Estoquista - CBO: 4141-25 | B10: 2
A11: Auxiliar de estoque - CBO: 4141-25 | B11: 2
A12: AÇOUGUE
A13: Magarefe - CBO: 8485-20 | B13: 1
A14: Auxiliar de Magarefe - CBO: 8485-20 | B14: 1
A15: PRÉ-PREPARO
A16: Copeiro - CBO: 5134-25 | B16: 4
A17: PREPARO/COCÇAO
A18: Cozinheiro líder - CBO: 5132-15 | B18: 1
A19: Cozinheiro - CBO: 5132-15 | B19: 2
A20: Ajudante de cozinha CBO: 5135-05 | B20: 4
A21: DISTRIBUIÇAO DE REFEIÇÕES
A22: Copeiro - CBO: 5134-25 | B22: 10
A23: HIGIENIZAÇÃO E SANITIZAÇAO DA UNIDADE
A24: Auxiliar de Limpeza para o Restaurante - CBO: 5143-20 | B24: 8
A25: Auxiliar de Limpeza para a UAN - CBO: 5143-20 | B25: 6
A26: CAIXA/CONTROLE DE ACESSO
A27: Caixa - CBO: 4211-25 | B27: 3
A28: RECEPÇÃO DOS USUÁRIOS AO REFEITÓRIO E ORGANIZAÇÃO DE FILAS
A29: Recepcionista atendente - CBO: 4221-05 | B29: 4
A30: TRANSPORTE DAS REFEIÇÕES
A31: Motorista - CBO: 7825-10 | B31: 1
A32: Ajudante de Motorista - CBO: 7832-25 | B32: 2
A33: SEGURANÇA PATRIMONIAL
A34: Vigilante Diurno - CBO: 5173-30 | B34: 6
A35: Vigilante Noturno - CBO: 5173-30 | B35: 4
B36: =SUM(B4:B35) -> 67 | E36: =SUM(E4:E35) -> 0 | F36: =SUM(F4:F35) -> 0

Sheet AUX. ADM
A1: Anexo II.a
A2: Planilha detalhada de mão de obra - IN 05 e IN 07/2018 (Portal de Compras do Governo Federal)
A4: PLANILHA DE CUSTOS E FORMAÇÃO DE PREÇOS
A6: Nº do Processo
A7: Pregão Eletrônico nº
A9: DISCRIMINAÇÃO DOS SERVIÇOS (DADOS REFERENTES À CONTRATAÇÃO)
A10: A | B10: Data de apresentação da proposta (dia/mês/ano)
A11: B | B11: Município/UF
A12: C | B12: Ano do acordo coletivo, convenção coletiva ou sentença normativa em dissídio coletivo
A13: D | B13: Número de meses de execução contratual
A15: IDENTIFICAÇÃO DO SERVIÇO
A16: Tipo de Serviço | C16: Unidade de Medida | F16: Postos de Trabalho
A17: Contratação de empresa especializada na prestação de serviço contínuo de preparo, transporte e distribuição diária de refeições (café da manhã, almoço e jantar). | C17: Funcionário | F17: Auxiliar administrativo - CBO: 4110-05
A18: Quantidade Total | F18: 1
A19: MÃO DE OBRA
A20: 1 | B20: Tipo de serviço (mesmo serviço com características distintas)
A21: 2 | B21: Classificação Brasileira de Ocupações (CBO)
A22: 3 | B22: Salário Normativo da Categoria Profissional | F22: 0
A23: 4 | B23: Categoria profissional (vinculada à execução contratual)
A24: 5 | B24: Data base da categoria (dia/mês/ano):
A27: Módulo 1: Composição da Remuneração
A28: 1 | B28: Composição da Remuneração | F28: Valor (R$)
A29: A | B29: Salário base (valor unitário) | F29: =F22 -> 0
A30: B | B30: Adicional de Periculosidade
A31: C | B31: Adicional de Insalubridade
A32: D | B32: Adicional noturno
A33: E | B33: Adicional de Hora Noturna Reduzida
A34: F | B34: Adicional de Hora Extra no Feriado Trabalhado
A35: G | B35: Outros (especificar) (EX: 12 X 36 sem intervalo intrajornada)
A36: TOTAL | F36: =SUM(F29:F35) -> 0
A38: Módulo 2: Encargos e Benefícios Anuais, Mensais e Diários
A39: 2.1 | B39: 13º (décimo terceiro) Salário, Férias e Adicional de Férias (1/12) | F39: Valor (R$)
A40: A | B40: 13º (décimo terceiro) salário | F40: =F36/12 -> 0
A41: B | B41: Adicional de Férias | F41: =((F36/3)/12) -> 0
A42: TOTAL | F42: =SUM(F40:F41) -> 0
A44: 2.2 | B44: RGPS, FGTS e Outras Contribuições | D44: Percentual (%) | F44: Valor (R$)
A45: A | B45: INSS | D45: 0.2 | F45: =D45*F36 -> 0
A46: B | B46: Salário Educação | D46: 0.025 | F46: =D46*F36 -> 0
A47: C | B47: SAT (1%, 2%, 3%) | D47: 0.01 | F47: =D47*F36 -> 0
A48: D | B48: SESC ou SESI | D48: 0.015 | F48: =D48*F36 -> 0
...

Sheet NUTRICIONISTA - RT
A1: Anexo II.a
A2: Planilha detalhada de mão de obra - IN 05 e IN 07/2018 (Portal de Compras do Governo Federal)
A4: PLANILHA DE CUSTOS E FORMAÇÃO DE PREÇOS
A6: Nº do Processo
A7: Pregão Eletrônico nº
A9: DISCRIMINAÇÃO DOS SERVIÇOS (DADOS REFERENTES À CONTRATAÇÃO)
A10: A | B10: Data de apresentação da proposta (dia/mês/ano)
A11: B | B11: Município/UF
A12: C | B12: Ano do acordo coletivo, convenção coletiva ou sentença normativa em dissídio coletivo
A13: D | B13: Número de meses de execução contratual
A15: IDENTIFICAÇÃO DO SERVIÇO
A16: Tipo de Serviço | C16: Unidade de Medida | F16: Postos de Trabalho
A17: Contratação de empresa especializada na prestação de serviço contínuo de preparo, transporte e distribuição diária de refeições (café da manhã, almoço e jantar). | C17: Funcionário | F17: Nutricionista (Responsável Técnico) - Gerente de Restaurante Popular CBO: 2237-10
A18: Quantidade Total | F18: 1
A19: MÃO DE OBRA
A20: 1 | B20: Tipo de serviço (mesmo serviço com características distintas)
A21: 2 | B21: Classificação Brasileira de Ocupações (CBO)
A22: 3 | B22: Salário Normativo da Categoria Profissional | F22: 0
A23: 4 | B23: Categoria profissional (vinculada à execução contratual)
A24: 5 | B24: Data base da categoria (dia/mês/ano):
A27: Módulo 1: Composição da Remuneração
A28: 1 | B28: Composição da Remuneração | F28: Valor (R$)
A29: A | B29: Salário base (valor unitário) | F29: =F22 -> 0
A30: B | B30: Adicional de Periculosidade
A31: C | B31: Adicional de Insalubridade
A32: D | B32: Adicional noturno
A33: E | B33: Adicional de Hora Noturna Reduzida
A34: F | B34: Adicional de Hora Extra no Feriado Trabalhado
A35: G | B35: Outros (especificar) (EX: 12 X 36 sem intervalo intrajornada)
A36: TOTAL | F36: =SUM(F29:F35) -> 0
A38: Módulo 2: Encargos e Benefícios Anuais, Mensais e Diários
A39: 2.1 | B39: 13º (décimo terceiro) Salário, Férias e Adicional de Férias (1/12) | F39: Valor (R$)
A40: A | B40: 13º (décimo terceiro) salário | F40: =F36/12 -> 0
A41: B | B41: Adicional de Férias | F41: =((F36/3)/12) -> 0
A42: TOTAL | F42: =SUM(F40:F41) -> 0
A44: 2.2 | B44: RGPS, FGTS e Outras Contribuições | D44: Percentual (%) | F44: Valor (R$)
A45: A | B45: INSS | D45: 0.2 | F45: =D45*F36 -> 0
A46: B | B46: Salário Educação | D46: 0.025 | F46: =D46*F36 -> 0
A47: C | B47: SAT (1%, 2%, 3%) | D47: 0.01 | F47: =D47*F36 -> 0
A48: D | B48: SESC ou SESI | D48: 0.015 | F48: =D48*F36 -> 0
...

Sheet NUTRICIONISTA - QUADRO TÉCNICO
A1: Anexo II.a
A2: Planilha detalhada de mão de obra - IN 05 e IN 07/2018 (Portal de Compras do Governo Federal)
A4: PLANILHA DE CUSTOS E FORMAÇÃO DE PREÇOS
A6: Nº do Processo
A7: Pregão Eletrônico nº
A9: DISCRIMINAÇÃO DOS SERVIÇOS (DADOS REFERENTES À CONTRATAÇÃO)
A10: A | B10: Data de apresentação da proposta (dia/mês/ano)
A11: B | B11: Município/UF
A12: C | B12: Ano do acordo coletivo, convenção coletiva ou sentença normativa em dissídio coletivo
A13: D | B13: Número de meses de execução contratual
A15: IDENTIFICAÇÃO DO SERVIÇO
A16: Tipo de Serviço | C16: Unidade de Medida | F16: Postos de Trabalho
A17: Contratação de empresa especializada na prestação de serviço contínuo de preparo, transporte e distribuição diária de refeições (café da manhã, almoço e jantar). | C17: Funcionário | F17: Nutricionista (Quadro Técnico de Produção) CBO: 2237-10
A18: Quantidade Total | F18: 2
A19: MÃO DE OBRA
A20: 1 | B20: Tipo de serviço (mesmo serviço com características distintas)
A21: 2 | B21: Classificação Brasileira de Ocupações (CBO)
A22: 3 | B22: Salário Normativo da Categoria Profissional | F22: 0
A23: 4 | B23: Categoria profissional (vinculada à execução contratual)
A24: 5 | B24: Data base da categoria (dia/mês/ano):
A27: Módulo 1: Composição da Remuneração
A28: 1 | B28: Composição da Remuneração | F28: Valor (R$)
A29: A | B29: Salário base (valor unitário) | F29: =F22 -> 0
A30: B | B30: Adicional de Periculosidade
A31: C | B31: Adicional de Insalubridade
A32: D | B32: Adicional noturno
A33: E | B33: Adicional de Hora Noturna Reduzida
A34: F | B34: Adicional de Hora Extra no Feriado Trabalhado
A35: G | B35: Outros (especificar) (EX: 12 X 36 sem intervalo intrajornada)
A36: TOTAL | F36: =SUM(F29:F35) -> 0
A38: Módulo 2: Encargos e Benefícios Anuais, Mensais e Diários
A39: 2.1 | B39: 13º (décimo terceiro) Salário, Férias e Adicional de Férias (1/12) | F39: Valor (R$)
A40: A | B40: 13º (décimo terceiro) salário | F40: =F36/12 -> 0
A41: B | B41: Adicional de Férias | F41: =((F36/3)/12) -> 0
A42: TOTAL | F42: =SUM(F40:F41) -> 0
A44: 2.2 | B44: RGPS, FGTS e Outras Contribuições | D44: Percentual (%) | F44: Valor (R$)
A45: A | B45: INSS | D45: 0.2 | F45: =D45*F36 -> 0
A46: B | B46: Salário Educação | D46: 0.025 | F46: =D46*F36 -> 0
A47: C | B47: SAT (1%, 2%, 3%) | D47: 0.01 | F47: =D47*F36 -> 0
A48: D | B48: SESC ou SESI | D48: 0.015 | F48: =D48*F36 -> 0
...

Sheet TÉCNICO DE NUTRIÇÃO
A1: Anexo II.a
A2: Planilha detalhada de mão de obra - IN 05 e IN 07/2018 (Portal de Compras do Governo Federal)
A4: PLANILHA DE CUSTOS E FORMAÇÃO DE PREÇOS
A6: Nº do Processo
A7: Pregão Eletrônico nº
A9: DISCRIMINAÇÃO DOS SERVIÇOS (DADOS REFERENTES À CONTRATAÇÃO)
A10: A | B10: Data de apresentação da proposta (dia/mês/ano)
A11: B | B11: Município/UF
A12: C | B12: Ano do acordo coletivo, convenção coletiva ou sentença normativa em dissídio coletivo
A13: D | B13: Número de meses de execução contratual
A15: IDENTIFICAÇÃO DO SERVIÇO
A16: Tipo de Serviço | C16: Unidade de Medida | F16: Postos de Trabalho
A17: Contratação de empresa especializada na prestação de serviço contínuo de preparo, transporte e distribuição diária de refeições (café da manhã, almoço e jantar). | C17: Funcionário | F17: Técnico de Nutrição CBO:3252-10
A18: Quantidade Total | F18: 2
A19: MÃO DE OBRA
A20: 1 | B20: Tipo de serviço (mesmo serviço com características distintas)
A21: 2 | B21: Classificação Brasileira de Ocupações (CBO)
A22: 3 | B22: Salário Normativo da Categoria Profissional | F22: 0
A23: 4 | B23: Categoria profissional (vinculada à execução contratual)
A24: 5 | B24: Data base da categoria (dia/mês/ano):
A27: Módulo 1: Composição da Remuneração
A28: 1 | B28: Composição da Remuneração | F28: Valor (R$)
A29: A | B29: Salário base (valor unitário) | F29: =F22 -> 0
A30: B | B30: Adicional de Periculosidade
A31: C | B31: Adicional de Insalubridade
A32: D | B32: Adicional noturno
A33: E | B33: Adicional de Hora Noturna Reduzida
A34: F | B34: Adicional de Hora Extra no Feriado Trabalhado
A35: G | B35: Outros (especificar) (EX: 12 X 36 sem intervalo intrajornada)
A36: TOTAL | F36: =SUM(F29:F35) -> 0
A38: Módulo 2: Encargos e Benefícios Anuais, Mensais e Diários
A39: 2.1 | B39: 13º (décimo terceiro) Salário, Férias e Adicional de Férias (1/12) | F39: Valor (R$)
A40: A | B40: 13º (décimo terceiro) salário | F40: =F36/12 -> 0
A41: B | B41: Adicional de Férias | F41: =((F36/3)/12) -> 0
A42: TOTAL | F42: =SUM(F40:F41) -> 0
A44: 2.2 | B44: RGPS, FGTS e Outras Contribuições | D44: Percentual (%) | F44: Valor (R$)
A45: A | B45: INSS | D45: 0.2 | F45: =D45*F36 -> 0
A46: B | B46: Salário Educação | D46: 0.025 | F46: =D46*F36 -> 0
A47: C | B47: SAT (1%, 2%, 3%) | D47: 0.01 | F47: =D47*F36 -> 0
A48: D | B48: SESC ou SESI | D48: 0.015 | F48: =D48*F36 -> 0
...

Sheet ESTOQUISTA
A1: Anexo II.a
A2: Planilha detalhada de mão de obra - IN 05 e IN 07/2018 (Portal de Compras do Governo Federal)
A4: PLANILHA DE CUSTOS E FORMAÇÃO DE PREÇOS
A6: Nº do Processo
A7: Pregão Eletrônico nº
A9: DISCRIMINAÇÃO DOS SERVIÇOS (DADOS REFERENTES À CONTRATAÇÃO)
A10: A | B10: Data de apresentação da proposta (dia/mês/ano)
A11: B | B11: Município/UF
A12: C | B12: Ano do acordo coletivo, convenção coletiva ou sentença normativa em dissídio coletivo
A13: D | B13: Número de meses de execução contratual
A15: IDENTIFICAÇÃO DO SERVIÇO
A16: Tipo de Serviço | C16: Unidade de Medida | F16: Postos de Trabalho
A17: Contratação de empresa especializada na prestação de serviço contínuo de preparo, transporte e distribuição diária de refeições (café da manhã, almoço e jantar). | C17: Funcionário | F17: Estoquista CBO: 4141-05
A18: Quantidade Total | F18: 2
A19: MÃO DE OBRA
A20: 1 | B20: Tipo de serviço (mesmo serviço com características distintas)
A21: 2 | B21: Classificação Brasileira de Ocupações (CBO)
A22: 3 | B22: Salário Normativo da Categoria Profissional | F22: 0
A23: 4 | B23: Categoria profissional (vinculada à execução contratual)
A24: 5 | B24: Data base da categoria (dia/mês/ano):
A27: Módulo 1: Composição da Remuneração
A28: 1 | B28: Composição da Remuneração | F28: Valor (R$)
A29: A | B29: Salário base (valor unitário) | F29: =F22 -> 0
A30: B | B30: Adicional de Periculosidade
A31: C | B31: Adicional de Insalubridade
A32: D | B32: Adicional noturno
A33: E | B33: Adicional de Hora Noturna Reduzida
A34: F | B34: Adicional de Hora Extra no Feriado Trabalhado
A35: G | B35: Outros (especificar) (EX: 12 X 36 sem intervalo intrajornada)
A36: TOTAL | F36: =SUM(F29:F35) -> 0
A38: Módulo 2: Encargos e Benefícios Anuais, Mensais e Diários
A39: 2.1 | B39: 13º (décimo terceiro) Salário, Férias e Adicional de Férias (1/12) | F39: Valor (R$)
A40: A | B40: 13º (décimo terceiro) salário | F40: =F36/12 -> 0
A41: B | B41: Adicional de Férias | F41: =((F36/3)/12) -> 0
A42: TOTAL | F42: =SUM(F40:F41) -> 0
A44: 2.2 | B44: RGPS, FGTS e Outras Contribuições | D44: Percentual (%) | F44: Valor (R$)
A45: A | B45: INSS | D45: 0.2 | F45: =D45*F36 -> 0
A46: B | B46: Salário Educação | D46: 0.025 | F46: =D46*F36 -> 0
A47: C | B47: SAT (1%, 2%, 3%) | D47: 0.01 | F47: =D47*F36 -> 0
A48: D | B48: SESC ou SESI | D48: 0.015 | F48: =D48*F36 -> 0
...

Sheet AUXILIAR ESTOQUE
A1: Anexo II.a
A2: Planilha detalhada de mão de obra - IN 05 e IN 07/2018 (Portal de Compras do Governo Federal)
A4: PLANILHA DE CUSTOS E FORMAÇÃO DE PREÇOS
A6: Nº do Processo
A7: Pregão Eletrônico nº
A9: DISCRIMINAÇÃO DOS SERVIÇOS (DADOS REFERENTES À CONTRATAÇÃO)
A10: A | B10: Data de apresentação da proposta (dia/mês/ano)
A11: B | B11: Município/UF
A12: C | B12: Ano do acordo coletivo, convenção coletiva ou sentença normativa em dissídio coletivo
A13: D | B13: Número de meses de execução contratual
A15: IDENTIFICAÇÃO DO SERVIÇO
A16: Tipo de Serviço | C16: Unidade de Medida | F16: Postos de Trabalho
A17: Contratação de empresa especializada na prestação de serviço contínuo de preparo, transporte e distribuição diária de refeições (café da manhã, almoço e jantar). | C17: Funcionário | F17: Auxiliar de estoque/Conferente de mercadoria CBO: 4141-05
A18: Quantidade Total | F18: 2
A19: MÃO DE OBRA
A20: 1 | B20: Tipo de serviço (mesmo serviço com características distintas)
A21: 2 | B21: Classificação Brasileira de Ocupações (CBO)
A22: 3 | B22: Salário Normativo da Categoria Profissional | F22: 0
A23: 4 | B23: Categoria profissional (vinculada à execução contratual)
A24: 5 | B24: Data base da categoria (dia/mês/ano):
A27: Módulo 1: Composição da Remuneração
A28: 1 | B28: Composição da Remuneração | F28: Valor (R$)
A29: A | B29: Salário base (valor unitário) | F29: =F22 -> 0
A30: B | B30: Adicional de Periculosidade
A31: C | B31: Adicional de Insalubridade
A32: D | B32: Adicional noturno
A33: E | B33: Adicional de Hora Noturna Reduzida
A34: F | B34: Adicional de Hora Extra no Feriado Trabalhado
A35: G | B35: Outros (especificar) (EX: 12 X 36 sem intervalo intrajornada)
A36: TOTAL | F36: =SUM(F29:F35) -> 0
A38: Módulo 2: Encargos e Benefícios Anuais, Mensais e Diários
A39: 2.1 | B39: 13º (décimo terceiro) Salário, Férias e Adicional de Férias (1/12) | F39: Valor (R$)
A40: A | B40: 13º (décimo terceiro) salário | F40: =F36/12 -> 0
A41: B | B41: Adicional de Férias | F41: =((F36/3)/12) -> 0
A42: TOTAL | F42: =SUM(F40:F41) -> 0
A44: 2.2 | B44: RGPS, FGTS e Outras Contribuições | D44: Percentual (%) | F44: Valor (R$)
A45: A | B45: INSS | D45: 0.2 | F45: =D45*F36 -> 0
A46: B | B46: Salário Educação | D46: 0.025 | F46: =D46*F36 -> 0
A47: C | B47: SAT (1%, 2%, 3%) | D47: 0.01 | F47: =D47*F36 -> 0
A48: D | B48: SESC ou SESI | D48: 0.015 | F48: =D48*F36 -> 0
...

Sheet MAGAREFE
A1: Anexo II.a
A2: Planilha detalhada de mão de obra - IN 05 e IN 07/2018 (Portal de Compras do Governo Federal)
A4: PLANILHA DE CUSTOS E FORMAÇÃO DE PREÇOS
A6: Nº do Processo
A7: Pregão Eletrônico nº
A9: DISCRIMINAÇÃO DOS SERVIÇOS (DADOS REFERENTES À CONTRATAÇÃO)
A10: A | B10: Data de apresentação da proposta (dia/mês/ano)
A11: B | B11: Município/UF
A12: C | B12: Ano do acordo coletivo, convenção coletiva ou sentença normativa em dissídio coletivo
A13: D | B13: Número de meses de execução contratual
A15: IDENTIFICAÇÃO DO SERVIÇO
A16: Tipo de Serviço | C16: Unidade de Medida | F16: Postos de Trabalho
A17: Contratação de empresa especializada na prestação de serviço contínuo de preparo, transporte e distribuição diária de refeições (café da manhã, almoço e jantar). | C17: Funcionário | F17: Magarefe CBO: 8485-20
A18: Quantidade Total | F18: 1
A19: MÃO DE OBRA
A20: 1 | B20: Tipo de serviço (mesmo serviço com características distintas)
A21: 2 | B21: Classificação Brasileira de Ocupações (CBO)
A22: 3 | B22: Salário Normativo da Categoria Profissional | F22: 0
A23: 4 | B23: Categoria profissional (vinculada à execução contratual)
A24: 5 | B24: Data base da categoria (dia/mês/ano):
A27: Módulo 1: Composição da Remuneração
A28: 1 | B28: Composição da Remuneração | F28: Valor (R$)
A29: A | B29: Salário base (valor unitário) | F29: =F22 -> 0
A30: B | B30: Adicional de Periculosidade
A31: C | B31: Adicional de Insalubridade
A32: D | B32: Adicional noturno
A33: E | B33: Adicional de Hora Noturna Reduzida
A34: F | B34: Adicional de Hora Extra no Feriado Trabalhado
A35: G | B35: Outros (especificar) (EX: 12 X 36 sem intervalo intrajornada)
A36: TOTAL | F36: =SUM(F29:F35) -> 0
A38: Módulo 2: Encargos e Benefícios Anuais, Mensais e Diários
A39: 2.1 | B39: 13º (décimo terceiro) Salário, Férias e Adicional de Férias (1/12) | F39: Valor (R$)
A40: A | B40: 13º (décimo terceiro) salário | F40: =F36/12 -> 0
A41: B | B41: Adicional de Férias | F41: =((F36/3)/12) -> 0
A42: TOTAL | F42: =SUM(F40:F41) -> 0
A44: 2.2 | B44: RGPS, FGTS e Outras Contribuições | D44: Percentual (%) | F44: Valor (R$)
A45: A | B45: INSS | D45: 0.2 | F45: =D45*F36 -> 0
A46: B | B46: Salário Educação | D46: 0.025 | F46: =D46*F36 -> 0
A47: C | B47: SAT (1%, 2%, 3%) | D47: 0.01 | F47: =D47*F36 -> 0
A48: D | B48: SESC ou SESI | D48: 0.015 | F48: =D48*F36 -> 0
...

Sheet AUXILIAR MAGAREFE
A1: Anexo II.a
A2: Planilha detalhada de mão de obra - IN 05 e IN 07/2018 (Portal de Compras do Governo Federal)
A4: PLANILHA DE CUSTOS E FORMAÇÃO DE PREÇOS
A6: Nº do Processo
A7: Pregão Eletrônico nº
A9: DISCRIMINAÇÃO DOS SERVIÇOS (DADOS REFERENTES À CONTRATAÇÃO)
A10: A | B10: Data de apresentação da proposta (dia/mês/ano)
A11: B | B11: Município/UF
A12: C | B12: Ano do acordo coletivo, convenção coletiva ou sentença normativa em dissídio coletivo
A13: D | B13: Número de meses de execução contratual
A15: IDENTIFICAÇÃO DO SERVIÇO
A16: Tipo de Serviço | C16: Unidade de Medida | F16: Postos de Trabalho
A17: Contratação de empresa especializada na prestação de serviço contínuo de preparo, transporte e distribuição diária de refeições (café da manhã, almoço e jantar). | C17: Funcionário | F17: Auxiliar de Magarefe CBO: 8485-20
A18: Quantidade Total | F18: 1
A19: MÃO DE OBRA
A20: 1 | B20: Tipo de serviço (mesmo serviço com características distintas)
A21: 2 | B21: Classificação Brasileira de Ocupações (CBO)
A22: 3 | B22: Salário Normativo da Categoria Profissional | F22: 0
A23: 4 | B23: Categoria profissional (vinculada à execução contratual)
A24: 5 | B24: Data base da categoria (dia/mês/ano):
A27: Módulo 1: Composição da Remuneração
A28: 1 | B28: Composição da Remuneração | F28: Valor (R$)
A29: A | B29: Salário base (valor unitário) | F29: =F22 -> 0
A30: B | B30: Adicional de Periculosidade
A31: C | B31: Adicional de Insalubridade
A32: D | B32: Adicional noturno
A33: E | B33: Adicional de Hora Noturna Reduzida
A34: F | B34: Adicional de Hora Extra no Feriado Trabalhado
A35: G | B35: Outros (especificar) (EX: 12 X 36 sem intervalo intrajornada)
A36: TOTAL | F36: =SUM(F29:F35) -> 0
A38: Módulo 2: Encargos e Benefícios Anuais, Mensais e Diários
A39: 2.1 | B39: 13º (décimo terceiro) Salário, Férias e Adicional de Férias (1/12) | F39: Valor (R$)
A40: A | B40: 13º (décimo terceiro) salário | F40: =F36/12 -> 0
A41: B | B41: Adicional de Férias | F41: =((F36/3)/12) -> 0
A42: TOTAL | F42: =SUM(F40:F41) -> 0
A44: 2.2 | B44: RGPS, FGTS e Outras Contribuições | D44: Percentual (%) | F44: Valor (R$)
A45: A | B45: INSS | D45: 0.2 | F45: =D45*F36 -> 0
A46: B | B46: Salário Educação | D46: 0.025 | F46: =D46*F36 -> 0
A47: C | B47: SAT (1%, 2%, 3%) | D47: 0.01 | F47: =D47*F36 -> 0
A48: D | B48: SESC ou SESI | D48: 0.015 | F48: =D48*F36 -> 0
...

Sheet COPEIRO-PRE PREPARO
A1: Anexo II.a
A2: Planilha detalhada de mão de obra - IN 05 e IN 07/2018 (Portal de Compras do Governo Federal)
A4: PLANILHA DE CUSTOS E FORMAÇÃO DE PREÇOS
A6: Nº do Processo
A7: Pregão Eletrônico nº
A9: DISCRIMINAÇÃO DOS SERVIÇOS (DADOS REFERENTES À CONTRATAÇÃO)
A10: A | B10: Data de apresentação da proposta (dia/mês/ano)
A11: B | B11: Município/UF
A12: C | B12: Ano do acordo coletivo, convenção coletiva ou sentença normativa em dissídio coletivo
A13: D | B13: Número de meses de execução contratual
A15: IDENTIFICAÇÃO DO SERVIÇO
A16: Tipo de Serviço | C16: Unidade de Medida | F16: Postos de Trabalho
A17: Contratação de empresa especializada na prestação de serviço contínuo de preparo, transporte e distribuição diária de refeições (café da manhã, almoço e jantar). | C17: Funcionário | F17: Auxiliar de copa/cozinha CBO: 5134-25
A18: Quantidade Total | F18: 4
A19: MÃO DE OBRA
A20: 1 | B20: Tipo de serviço (mesmo serviço com características distintas)
A21: 2 | B21: Classificação Brasileira de Ocupações (CBO)
A22: 3 | B22: Salário Normativo da Categoria Profissional | F22: 0
A23: 4 | B23: Categoria profissional (vinculada à execução contratual)
A24: 5 | B24: Data base da categoria (dia/mês/ano):
A27: Módulo 1: Composição da Remuneração
A28: 1 | B28: Composição da Remuneração | F28: Valor (R$)
A29: A | B29: Salário base (valor unitário) | F29: =F22 -> 0
A30: B | B30: Adicional de Periculosidade
A31: C | B31: Adicional de Insalubridade
A32: D | B32: Adicional noturno
A33: E | B33: Adicional de Hora Noturna Reduzida
A34: F | B34: Adicional de Hora Extra no Feriado Trabalhado
A35: G | B35: Outros (especificar) (EX: 12 X 36 sem intervalo intrajornada)
A36: TOTAL | F36: =SUM(F29:F35) -> 0
A38: Módulo 2: Encargos e Benefícios Anuais, Mensais e Diários
A39: 2.1 | B39: 13º (décimo terceiro) Salário, Férias e Adicional de Férias (1/12) | F39: Valor (R$)
A40: A | B40: 13º (décimo terceiro) salário | F40: =F36/12 -> 0
A41: B | B41: Adicional de Férias | F41: =((F36/3)/12) -> 0
A42: TOTAL | F42: =SUM(F40:F41) -> 0
A44: 2.2 | B44: RGPS, FGTS e Outras Contribuições | D44: Percentual (%) | F44: Valor (R$)
A45: A | B45: INSS | D45: 0.2 | F45: =D45*F36 -> 0
A46: B | B46: Salário Educação | D46: 0.025 | F46: =D46*F36 -> 0
A47: C | B47: SAT (1%, 2%, 3%) | D47: 0.01 | F47: =D47*F36 -> 0
A48: D | B48: SESC ou SESI | D48: 0.015 | F48: =D48*F36 -> 0
...

Sheet COZINHEIRO LIDER
A1: Anexo II.a
A2: Planilha detalhada de mão de obra - IN 05 e IN 07/2018 (Portal de Compras do Governo Federal)
A4: PLANILHA DE CUSTOS E FORMAÇÃO DE PREÇOS
A6: Nº do Processo
A7: Pregão Eletrônico nº
A9: DISCRIMINAÇÃO DOS SERVIÇOS (DADOS REFERENTES À CONTRATAÇÃO)
A10: A | B10: Data de apresentação da proposta (dia/mês/ano)
A11: B | B11: Município/UF
A12: C | B12: Ano do acordo coletivo, convenção coletiva ou sentença normativa em dissídio coletivo
A13: D | B13: Número de meses de execução contratual
A15: IDENTIFICAÇÃO DO SERVIÇO
A16: Tipo de Serviço | C16: Unidade de Medida | F16: Postos de Trabalho
A17: Contratação de empresa especializada na prestação de serviço contínuo de preparo, transporte e distribuição diária de refeições (café da manhã, almoço e jantar). | C17: Funcionário | F17: Cozinheiro líder CBO: 5132-15
A18: Quantidade Total | F18: 1
A19: MÃO DE OBRA
A20: 1 | B20: Tipo de serviço (mesmo serviço com características distintas)
A21: 2 | B21: Classificação Brasileira de Ocupações (CBO)
A22: 3 | B22: Salário Normativo da Categoria Profissional | F22: 0
A23: 4 | B23: Categoria profissional (vinculada à execução contratual)
A24: 5 | B24: Data base da categoria (dia/mês/ano):
A27: Módulo 1: Composição da Remuneração
A28: 1 | B28: Composição da Remuneração | F28: Valor (R$)
A29: A | B29: Salário base (valor unitário) | F29: =F22 -> 0
A30: B | B30: Adicional de Periculosidade
A31: C | B31: Adicional de Insalubridade
A32: D | B32: Adicional noturno
A33: E | B33: Adicional de Hora Noturna Reduzida
A34: F | B34: Adicional de Hora Extra no Feriado Trabalhado
A35: G | B35: Outros (especificar) (EX: 12 X 36 sem intervalo intrajornada)
A36: TOTAL | F36: =SUM(F29:F35) -> 0
A38: Módulo 2: Encargos e Benefícios Anuais, Mensais e Diários
A39: 2.1 | B39: 13º (décimo terceiro) Salário, Férias e Adicional de Férias (1/12) | F39: Valor (R$)
A40: A | B40: 13º (décimo terceiro) salário | F40: =F36/12 -> 0
A41: B | B41: Adicional de Férias | F41: =((F36/3)/12) -> 0
A42: TOTAL | F42: =SUM(F40:F41) -> 0
A44: 2.2 | B44: RGPS, FGTS e Outras Contribuições | D44: Percentual (%) | F44: Valor (R$)
A45: A | B45: INSS | D45: 0.2 | F45: =D45*F36 -> 0
A46: B | B46: Salário Educação | D46: 0.025 | F46: =D46*F36 -> 0
A47: C | B47: SAT (1%, 2%, 3%) | D47: 0.01 | F47: =D47*F36 -> 0
A48: D | B48: SESC ou SESI | D48: 0.015 | F48: =D48*F36 -> 0
...

Sheet COZINHEIRO
A1: Anexo II.a
A2: Planilha detalhada de mão de obra - IN 05 e IN 07/2018 (Portal de Compras do Governo Federal)
A4: PLANILHA DE CUSTOS E FORMAÇÃO DE PREÇOS
A6: Nº do Processo
A7: Pregão Eletrônico nº
A9: DISCRIMINAÇÃO DOS SERVIÇOS (DADOS REFERENTES À CONTRATAÇÃO)
A10: A | B10: Data de apresentação da proposta (dia/mês/ano)
A11: B | B11: Município/UF
A12: C | B12: Ano do acordo coletivo, convenção coletiva ou sentença normativa em dissídio coletivo
A13: D | B13: Número de meses de execução contratual
A15: IDENTIFICAÇÃO DO SERVIÇO
A16: Tipo de Serviço | C16: Unidade de Medida | F16: Postos de Trabalho
A17: Contratação de empresa especializada na prestação de serviço contínuo de preparo, transporte e distribuição diária de refeições (café da manhã, almoço e jantar). | C17: Funcionário | F17: Cozinheiro (a) CBO: 5132-15
A18: Quantidade Total | F18: 2
A19: MÃO DE OBRA
A20: 1 | B20: Tipo de serviço (mesmo serviço com características distintas)
A21: 2 | B21: Classificação Brasileira de Ocupações (CBO)
A22: 3 | B22: Salário Normativo da Categoria Profissional | F22: 0
A23: 4 | B23: Categoria profissional (vinculada à execução contratual)
A24: 5 | B24: Data base da categoria (dia/mês/ano):
A27: Módulo 1: Composição da Remuneração
A28: 1 | B28: Composição da Remuneração | F28: Valor (R$)
A29: A | B29: Salário base (valor unitário) | F29: =F22 -> 0
A30: B | B30: Adicional de Periculosidade
A31: C | B31: Adicional de Insalubridade
A32: D | B32: Adicional noturno
A33: E | B33: Adicional de Hora Noturna Reduzida
A34: F | B34: Adicional de Hora Extra no Feriado Trabalhado
A35: G | B35: Outros (especificar) (EX: 12 X 36 sem intervalo intrajornada)
A36: TOTAL | F36: =SUM(F29:F35) -> 0
A38: Módulo 2: Encargos e Benefícios Anuais, Mensais e Diários
A39: 2.1 | B39: 13º (décimo terceiro) Salário, Férias e Adicional de Férias (1/12) | F39: Valor (R$)
A40: A | B40: 13º (décimo terceiro) salário | F40: =F36/12 -> 0
A41: B | B41: Adicional de Férias | F41: =((F36/3)/12) -> 0
A42: TOTAL | F42: =SUM(F40:F41) -> 0
A44: 2.2 | B44: RGPS, FGTS e Outras Contribuições | D44: Percentual (%) | F44: Valor (R$)
A45: A | B45: INSS | D45: 0.2 | F45: =D45*F36 -> 0
A46: B | B46: Salário Educação | D46: 0.025 | F46: =D46*F36 -> 0
A47: C | B47: SAT (1%, 2%, 3%) | D47: 0.01 | F47: =D47*F36 -> 0
A48: D | B48: SESC ou SESI | D48: 0.015 | F48: =D48*F36 -> 0
...

Sheet AJUDANTE DE COZINHA
A1: Anexo II.a
A2: Planilha detalhada de mão de obra - IN 05 e IN 07/2018 (Portal de Compras do Governo Federal)
A4: PLANILHA DE CUSTOS E FORMAÇÃO DE PREÇOS
A6: Nº do Processo
A7: Pregão Eletrônico nº
A9: DISCRIMINAÇÃO DOS SERVIÇOS (DADOS REFERENTES À CONTRATAÇÃO)
A10: A | B10: Data de apresentação da proposta (dia/mês/ano)
A11: B | B11: Município/UF
A12: C | B12: Ano do acordo coletivo, convenção coletiva ou sentença normativa em dissídio coletivo
A13: D | B13: Número de meses de execução contratual
A15: IDENTIFICAÇÃO DO SERVIÇO
A16: Tipo de Serviço | C16: Unidade de Medida | F16: Postos de Trabalho
A17: Contratação de empresa especializada na prestação de serviço contínuo de preparo, transporte e distribuição diária de refeições (café da manhã, almoço e jantar). | C17: Funcionário | F17: Ajudante de cozinha CBO: 5135-05
A18: Quantidade Total | F18: 4
A19: MÃO DE OBRA
A20: 1 | B20: Tipo de serviço (mesmo serviço com características distintas)
A21: 2 | B21: Classificação Brasileira de Ocupações (CBO)
A22: 3 | B22: Salário Normativo da Categoria Profissional | F22: 0
A23: 4 | B23: Categoria profissional (vinculada à execução contratual)
A24: 5 | B24: Data base da categoria (dia/mês/ano):
A27: Módulo 1: Composição da Remuneração
A28: 1 | B28: Composição da Remuneração | F28: Valor (R$)
A29: A | B29: Salário base (valor unitário) | F29: =F22 -> 0
A30: B | B30: Adicional de Periculosidade
A31: C | B31: Adicional de Insalubridade
A32: D | B32: Adicional noturno
A33: E | B33: Adicional de Hora Noturna Reduzida
A34: F | B34: Adicional de Hora Extra no Feriado Trabalhado
A35: G | B35: Outros (especificar) (EX: 12 X 36 sem intervalo intrajornada)
A36: TOTAL | F36: =SUM(F29:F35) -> 0
A38: Módulo 2: Encargos e Benefícios Anuais, Mensais e Diários
A39: 2.1 | B39: 13º (décimo terceiro) Salário, Férias e Adicional de Férias (1/12) | F39: Valor (R$)
A40: A | B40: 13º (décimo terceiro) salário | F40: =F36/12 -> 0
A41: B | B41: Adicional de Férias | F41: =((F36/3)/12) -> 0
A42: TOTAL | F42: =SUM(F40:F41) -> 0
A44: 2.2 | B44: RGPS, FGTS e Outras Contribuições | D44: Percentual (%) | F44: Valor (R$)
A45: A | B45: INSS | D45: 0.2 | F45: =D45*F36 -> 0
A46: B | B46: Salário Educação | D46: 0.025 | F46: =D46*F36 -> 0
A47: C | B47: SAT (1%, 2%, 3%) | D47: 0.01 | F47: =D47*F36 -> 0
A48: D | B48: SESC ou SESI | D48: 0.015 | F48: =D48*F36 -> 0
...

Sheet COPEIRO - DISTRIBUIÇÃO
A1: Anexo II.a
A2: Planilha detalhada de mão de obra - IN 05 e IN 07/2018 (Portal de Compras do Governo Federal)
A4: PLANILHA DE CUSTOS E FORMAÇÃO DE PREÇOS
A6: Nº do Processo
A7: Pregão Eletrônico nº
A9: DISCRIMINAÇÃO DOS SERVIÇOS (DADOS REFERENTES À CONTRATAÇÃO)
A10: A | B10: Data de apresentação da proposta (dia/mês/ano)
A11: B | B11: Município/UF
A12: C | B12: Ano do acordo coletivo, convenção coletiva ou sentença normativa em dissídio coletivo
A13: D | B13: Número de meses de execução contratual
A15: IDENTIFICAÇÃO DO SERVIÇO
A16: Tipo de Serviço | C16: Unidade de Medida | F16: Postos de Trabalho
A17: Contratação de empresa especializada na prestação de serviço contínuo de preparo, transporte e distribuição diária de refeições (café da manhã, almoço e jantar). | C17: Funcionário | F17: Copeiro (a) CBO: 5134-2
A18: Quantidade Total | F18: 10
A19: MÃO DE OBRA
A20: 1 | B20: Tipo de serviço (mesmo serviço com características distintas)
A21: 2 | B21: Classificação Brasileira de Ocupações (CBO)
A22: 3 | B22: Salário Normativo da Categoria Profissional | F22: 0
A23: 4 | B23: Categoria profissional (vinculada à execução contratual)
A24: 5 | B24: Data base da categoria (dia/mês/ano):
A27: Módulo 1: Composição da Remuneração
A28: 1 | B28: Composição da Remuneração | F28: Valor (R$)
A29: A | B29: Salário base (valor unitário) | F29: =F22 -> 0
A30: B | B30: Adicional de Periculosidade
A31: C | B31: Adicional de Insalubridade
A32: D | B32: Adicional noturno
A33: E | B33: Adicional de Hora Noturna Reduzida
A34: F | B34: Adicional de Hora Extra no Feriado Trabalhado
A35: G | B35: Outros (especificar) (EX: 12 X 36 sem intervalo intrajornada)
A36: TOTAL | F36: =SUM(F29:F35) -> 0
A38: Módulo 2: Encargos e Benefícios Anuais, Mensais e Diários
A39: 2.1 | B39: 13º (décimo terceiro) Salário, Férias e Adicional de Férias (1/12) | F39: Valor (R$)
A40: A | B40: 13º (décimo terceiro) salário | F40: =F36/12 -> 0
A41: B | B41: Adicional de Férias | F41: =((F36/3)/12) -> 0
A42: TOTAL | F42: =SUM(F40:F41) -> 0
A44: 2.2 | B44: RGPS, FGTS e Outras Contribuições | D44: Percentual (%) | F44: Valor (R$)
A45: A | B45: INSS | D45: 0.2 | F45: =D45*F36 -> 0
A46: B | B46: Salário Educação | D46: 0.025 | F46: =D46*F36 -> 0
A47: C | B47: SAT (1%, 2%, 3%) | D47: 0.01 | F47: =D47*F36 -> 0
A48: D | B48: SESC ou SESI | D48: 0.015 | F48: =D48*F36 -> 0
...

Sheet AUXILIAR DE LIMPEZA
A1: Anexo II.a
A2: Planilha detalhada de mão de obra - IN 05 e IN 07/2018 (Portal de Compras do Governo Federal)
A4: PLANILHA DE CUSTOS E FORMAÇÃO DE PREÇOS
A6: Nº do Processo
A7: Pregão Eletrônico nº
A9: DISCRIMINAÇÃO DOS SERVIÇOS (DADOS REFERENTES À CONTRATAÇÃO)
A10: A | B10: Data de apresentação da proposta (dia/mês/ano)
A11: B | B11: Município/UF
A12: C | B12: Ano do acordo coletivo, convenção coletiva ou sentença normativa em dissídio coletivo
A13: D | B13: Número de meses de execução contratual
A15: IDENTIFICAÇÃO DO SERVIÇO
A16: Tipo de Serviço | C16: Unidade de Medida | F16: Postos de Trabalho
A17: Contratação de empresa especializada na prestação de serviço contínuo de preparo, transporte e distribuição diária de refeições (café da manhã, almoço e jantar). | C17: Funcionário | F17: Auxiliar de serviços gerais CBO: 5143-20
A18: Quantidade Total | F18: 14
A19: MÃO DE OBRA
A20: 1 | B20: Tipo de serviço (mesmo serviço com características distintas)
A21: 2 | B21: Classificação Brasileira de Ocupações (CBO)
A22: 3 | B22: Salário Normativo da Categoria Profissional | F22: 0
A23: 4 | B23: Categoria profissional (vinculada à execução contratual)
A24: 5 | B24: Data base da categoria (dia/mês/ano):
A27: Módulo 1: Composição da Remuneração
A28: 1 | B28: Composição da Remuneração | F28: Valor (R$)
A29: A | B29: Salário base (valor unitário) | F29: =F22 -> 0
A30: B | B30: Adicional de Periculosidade
A31: C | B31: Adicional de Insalubridade
A32: D | B32: Adicional noturno
A33: E | B33: Adicional de Hora Noturna Reduzida
A34: F | B34: Adicional de Hora Extra no Feriado Trabalhado
A35: G | B35: Outros (especificar) (EX: 12 X 36 sem intervalo intrajornada)
A36: TOTAL | F36: =SUM(F29:F35) -> 0
A38: Módulo 2: Encargos e Benefícios Anuais, Mensais e Diários
A39: 2.1 | B39: 13º (décimo terceiro) Salário, Férias e Adicional de Férias (1/12) | F39: Valor (R$)
A40: A | B40: 13º (décimo terceiro) salário | F40: =F36/12 -> 0
A41: B | B41: Adicional de Férias | F41: =((F36/3)/12) -> 0
A42: TOTAL | F42: =SUM(F40:F41) -> 0
A44: 2.2 | B44: RGPS, FGTS e Outras Contribuições | D44: Percentual (%) | F44: Valor (R$)
A45: A | B45: INSS | D45: 0.2 | F45: =D45*F36 -> 0
A46: B | B46: Salário Educação | D46: 0.025 | F46: =D46*F36 -> 0
A47: C | B47: SAT (1%, 2%, 3%) | D47: 0.01 | F47: =D47*F36 -> 0
A48: D | B48: SESC ou SESI | D48: 0.015 | F48: =D48*F36 -> 0
...

Sheet CAIXA
A1: Anexo II.a
A2: Planilha detalhada de mão de obra - IN 05 e IN 07/2018 (Portal de Compras do Governo Federal)
A4: PLANILHA DE CUSTOS E FORMAÇÃO DE PREÇOS
A6: Nº do Processo
A7: Pregão Eletrônico nº
A9: DISCRIMINAÇÃO DOS SERVIÇOS (DADOS REFERENTES À CONTRATAÇÃO)
A10: A | B10: Data de apresentação da proposta (dia/mês/ano)
A11: B | B11: Município/UF
A12: C | B12: Ano do acordo coletivo, convenção coletiva ou sentença normativa em dissídio coletivo
A13: D | B13: Número de meses de execução contratual
A15: IDENTIFICAÇÃO DO SERVIÇO
A16: Tipo de Serviço | C16: Unidade de Medida | F16: Postos de Trabalho
A17: Contratação de empresa especializada na prestação de serviço contínuo de preparo, transporte e distribuição diária de refeições (café da manhã, almoço e jantar). | C17: Funcionário | F17: Caixa CBO:4211-25
A18: Quantidade Total | F18: 3
A19: MÃO DE OBRA
A20: 1 | B20: Tipo de serviço (mesmo serviço com características distintas)
A21: 2 | B21: Classificação Brasileira de Ocupações (CBO)
A22: 3 | B22: Salário Normativo da Categoria Profissional | F22: 0
A23: 4 | B23: Categoria profissional (vinculada à execução contratual)
A24: 5 | B24: Data base da categoria (dia/mês/ano):
A27: Módulo 1: Composição da Remuneração
A28: 1 | B28: Composição da Remuneração | F28: Valor (R$)
A29: A | B29: Salário base (valor unitário) | F29: =F22 -> 0
A30: B | B30: Adicional de Periculosidade
A31: C | B31: Adicional de Insalubridade
A32: D | B32: Adicional noturno
A33: E | B33: Adicional de Hora Noturna Reduzida
A34: F | B34: Adicional de Hora Extra no Feriado Trabalhado
A35: G | B35: Outros (especificar) (EX: 12 X 36 sem intervalo intrajornada)
A36: TOTAL | F36: =SUM(F29:F35) -> 0
A38: Módulo 2: Encargos e Benefícios Anuais, Mensais e Diários
A39: 2.1 | B39: 13º (décimo terceiro) Salário, Férias e Adicional de Férias (1/12) | F39: Valor (R$)
A40: A | B40: 13º (décimo terceiro) salário | F40: =F36/12 -> 0
A41: B | B41: Adicional de Férias | F41: =((F36/3)/12) -> 0
A42: TOTAL | F42: =SUM(F40:F41) -> 0
A44: 2.2 | B44: RGPS, FGTS e Outras Contribuições | D44: Percentual (%) | F44: Valor (R$)
A45: A | B45: INSS | D45: 0.2 | F45: =D45*F36 -> 0
A46: B | B46: Salário Educação | D46: 0.025 | F46: =D46*F36 -> 0
A47: C | B47: SAT (1%, 2%, 3%) | D47: 0.01 | F47: =D47*F36 -> 0
A48: D | B48: SESC ou SESI | D48: 0.015 | F48: =D48*F36 -> 0
...

Sheet ORDENADOR DE FILA
A1: Anexo II.a
A2: Planilha detalhada de mão de obra - IN 05 e IN 07/2018 (Portal de Compras do Governo Federal)
A4: PLANILHA DE CUSTOS E FORMAÇÃO DE PREÇOS
A6: Nº do Processo
A7: Pregão Eletrônico nº
A9: DISCRIMINAÇÃO DOS SERVIÇOS (DADOS REFERENTES À CONTRATAÇÃO)
A10: A | B10: Data de apresentação da proposta (dia/mês/ano)
A11: B | B11: Município/UF
A12: C | B12: Ano do acordo coletivo, convenção coletiva ou sentença normativa em dissídio coletivo
A13: D | B13: Número de meses de execução contratual
A15: IDENTIFICAÇÃO DO SERVIÇO
A16: Tipo de Serviço | C16: Unidade de Medida | F16: Postos de Trabalho
A17: Contratação de empresa especializada na prestação de serviço contínuo de preparo, transporte e distribuição diária de refeições (café da manhã, almoço e jantar). | C17: Funcionário | F17: Recepcionista atendente - (CBO: 4221-05) recepção
A18: Quantidade Total | F18: 4
A19: MÃO DE OBRA
A20: 1 | B20: Tipo de serviço (mesmo serviço com características distintas)
A21: 2 | B21: Classificação Brasileira de Ocupações (CBO)
A22: 3 | B22: Salário Normativo da Categoria Profissional | F22: 0
A23: 4 | B23: Categoria profissional (vinculada à execução contratual)
A24: 5 | B24: Data base da categoria (dia/mês/ano):
A27: Módulo 1: Composição da Remuneração
A28: 1 | B28: Composição da Remuneração | F28: Valor (R$)
A29: A | B29: Salário base (valor unitário) | F29: =F22 -> 0
A30: B | B30: Adicional de Periculosidade
A31: C | B31: Adicional de Insalubridade
A32: D | B32: Adicional noturno
A33: E | B33: Adicional de Hora Noturna Reduzida
A34: F | B34: Adicional de Hora Extra no Feriado Trabalhado
A35: G | B35: Outros (especificar) (EX: 12 X 36 sem intervalo intrajornada)
A36: TOTAL | F36: =SUM(F29:F35) -> 0
A38: Módulo 2: Encargos e Benefícios Anuais, Mensais e Diários
A39: 2.1 | B39: 13º (décimo terceiro) Salário, Férias e Adicional de Férias (1/12) | F39: Valor (R$)
A40: A | B40: 13º (décimo terceiro) salário | F40: =F36/12 -> 0
A41: B | B41: Adicional de Férias | F41: =((F36/3)/12) -> 0
A42: TOTAL | F42: =SUM(F40:F41) -> 0
A44: 2.2 | B44: RGPS, FGTS e Outras Contribuições | D44: Percentual (%) | F44: Valor (R$)
A45: A | B45: INSS | D45: 0.2 | F45: =D45*F36 -> 0
A46: B | B46: Salário Educação | D46: 0.025 | F46: =D46*F36 -> 0
A47: C | B47: SAT (1%, 2%, 3%) | D47: 0.01 | F47: =D47*F36 -> 0
A48: D | B48: SESC ou SESI | D48: 0.015 | F48: =D48*F36 -> 0
...

Sheet MOTORISTA
A1: Anexo II.a
A2: Planilha detalhada de mão de obra - IN 05 e IN 07/2018 (Portal de Compras do Governo Federal)
A4: PLANILHA DE CUSTOS E FORMAÇÃO DE PREÇOS
A6: Nº do Processo
A7: Pregão Eletrônico nº
A9: DISCRIMINAÇÃO DOS SERVIÇOS (DADOS REFERENTES À CONTRATAÇÃO)
A10: A | B10: Data de apresentação da proposta (dia/mês/ano)
A11: B | B11: Município/UF
A12: C | B12: Ano do acordo coletivo, convenção coletiva ou sentença normativa em dissídio coletivo
A13: D | B13: Número de meses de execução contratual
A15: IDENTIFICAÇÃO DO SERVIÇO
A16: Tipo de Serviço | C16: Unidade de Medida | F16: Postos de Trabalho
A17: Contratação de empresa especializada na prestação de serviço contínuo de preparo, transporte e distribuição diária de refeições (café da manhã, almoço e jantar). | C17: Funcionário | F17: Motorista CBO: 7825-10
A18: Quantidade Total | F18: 1
A19: MÃO DE OBRA
A20: 1 | B20: Tipo de serviço (mesmo serviço com características distintas)
A21: 2 | B21: Classificação Brasileira de Ocupações (CBO)
A22: 3 | B22: Salário Normativo da Categoria Profissional | F22: 0
A23: 4 | B23: Categoria profissional (vinculada à execução contratual)
A24: 5 | B24: Data base da categoria (dia/mês/ano):
A27: Módulo 1: Composição da Remuneração
A28: 1 | B28: Composição da Remuneração | F28: Valor (R$)
A29: A | B29: Salário base (valor unitário) | F29: =F22 -> 0
A30: B | B30: Adicional de Periculosidade
A31: C | B31: Adicional de Insalubridade
A32: D | B32: Adicional noturno
A33: E | B33: Adicional de Hora Noturna Reduzida
A34: F | B34: Adicional de Hora Extra no Feriado Trabalhado
A35: G | B35: Outros (especificar) (EX: 12 X 36 sem intervalo intrajornada)
A36: TOTAL | F36: =SUM(F29:F35) -> 0
A38: Módulo 2: Encargos e Benefícios Anuais, Mensais e Diários
A39: 2.1 | B39: 13º (décimo terceiro) Salário, Férias e Adicional de Férias (1/12) | F39: Valor (R$)
A40: A | B40: 13º (décimo terceiro) salário | F40: =F36/12 -> 0
A41: B | B41: Adicional de Férias | F41: =((F36/3)/12) -> 0
A42: TOTAL | F42: =SUM(F40:F41) -> 0
A44: 2.2 | B44: RGPS, FGTS e Outras Contribuições | D44: Percentual (%) | F44: Valor (R$)
A45: A | B45: INSS | D45: 0.2 | F45: =D45*F36 -> 0
A46: B | B46: Salário Educação | D46: 0.025 | F46: =D46*F36 -> 0
A47: C | B47: SAT (1%, 2%, 3%) | D47: 0.01 | F47: =D47*F36 -> 0
A48: D | B48: SESC ou SESI | D48: 0.015 | F48: =D48*F36 -> 0
...

Sheet AJUDANTE DE MOTORISTA
A1: Anexo II.a
A2: Planilha detalhada de mão de obra - IN 05 e IN 07/2018 (Portal de Compras do Governo Federal)
A4: PLANILHA DE CUSTOS E FORMAÇÃO DE PREÇOS
A6: Nº do Processo
A7: Pregão Eletrônico nº
