Workbook
Name AreaTeste: #REF!
Name AreaTeste: #REF!
Name AreaTeste2: #REF!
Name AreaTeste2: #REF!
Name bloco: #REF!
Name bloco: #REF!
Name CélulaInicioPlanilha: #REF!
Name CélulaInicioPlanilha: #REF!
Name CélulaResumo: #REF!
Name CélulaResumo: #REF!
Name COMPOS: [1]Sinapi!$A$3:$D$4139
Name FONTES: [2]Orçamento!$V$2:$V$11
Name FONTES: [3]Orçamento!$V$2:$V$11
Name ITENS: [2]Orçamento!$S$2:$S$5
Name ITENS: [3]Orçamento!$S$2:$S$5
Name NCOMPOSICOES: 15
Name NCOTACOES: 15
Name Print_Area: 'CRONOGRAMA FF'!$A$1:$O$225
Name Print_Titles: 'CRONOGRAMA FF'!$A:$D,'CRONOGRAMA FF'!$1:$10
Name Sub_Total_B: #REF!
Name Sub_Total_B: #REF!
Name Sub_Total_C: #REF!
Name Sub_Total_C: #REF!
Name Sub_Total_D: #REF!
Name Sub_Total_D: #REF!
Name Sub_Total_E: #REF!
Name Sub_Total_E: #REF!
Name Sub_Total_F: #REF!
Name Sub_Total_F: #REF!
Name Sub_Total_G: #REF!
Name Sub_Total_G: #REF!

Sheet PLANILHA ORÇAMENTÁRIA
A1: INSERIR LOGO DA EMPRESA | B1: PREENCHER - NOME DA EMPRESA
B2: PREENCHER - CNPJ
B3: PREENCHER - ENDEREÇO / TELEFONE / E-MAIL
A6: =[3]Orçamento!G26 -> LOCAL: DIVERSOS LOCAIS DO MUNICÍPIO DE AMPARO-SP
A7: =[3]Orçamento!G27 -> ENDEREÇO: MUNICÍPIO DE AMPARO-SP
A8: =[3]Orçamento!G28 -> OBRA: RECUPERAÇÃO ESTRUTURAL E REFORMA DE EQUIPAMENTOS DE ABASTECIMENTO DE ÁGUA
A11: ITEM | B11: INSUMOS / MATERIAIS / SERVIÇOS | C11: UNID. | D11: QUANTIDADE | E11: PREÇO UNITÁRIO LICITAÇÃO | F11: PREÇO UNITÁRIO | G11: PREÇO TOTAL | H11: APLICAR DESCONTO GLOBAL (%)
A12: 1 | B12: RECALQUE MOREIRINHA | E12: 22746.24 | F12: =IF(D12="","",ROUND(IF(#REF!<>0,E12*(1-#REF!),IF(E12="","",E12*(1-$H$12))),2)) | G12: =E12*(1-$H$12) -> 22746.24 | H12: 0
B13: SERVIÇOS PRELIMINARES
A14: 1.1 | B14: REMOÇÃO DE ENTULHO DE OBRA COM CAÇAMBA METÁLICA - MATERIAL VOLUMOSO E MISTURADO POR ALVENARIA, TERRA, MADEIRA, PAPEL, PLÁSTICO E METAL | C14: M3 | D14: 12 | E14: 164.71 | F14: =E14*(1-$H$12) -> 164.71 | G14: =D14*F14 -> 1976.52
B15: GRADIL E PORTÃO | F15: =E15*(1-$H$12) -> #VALUE!
A16: 1.2 | B16: REMOÇÃO DE TELA DE ARAME GALVANIZADO DE ALAMBRADOS PARA QUADRAS POLIESPORTIVAS, DE FORMA MANUAL, SEM REMOÇÃO DA ESTRUTURA DE SUSTENTAÇÃO, SEM REAPROVEITAMENTO. AF_09/2023 | C16: M2 | D16: 23.85 | E16: 16.24 | F16: =E16*(1-$H$12) -> 16.24 | G16: =D16*F16 -> 387.324
A17: 1.3 | B17: RETIRADA DE POSTE OU SISTEMA DE SUSTENTAÇÃO PARA ALAMBRADO OU FECHAMENTO | C17: UN | D17: 8 | E17: 36.9 | F17: =E17*(1-$H$12) -> 36.9 | G17: =D17*F17 -> 295.2
A18: 1.4 | B18: CERCA EM TELA DE AÇO GALVANIZADO DE 2´, MONTANTES EM MOURÕES DE CONCRETO COM PONTA INCLINADA E ARAME FARPADO | C18: M | D18: 10.85 | E18: 271.03 | F18: =E18*(1-$H$12) -> 271.03 | G18: =D18*F18 -> 2940.6755
A19: 1.5 | B19: REMOÇÃO DE PORTAS, DE FORMA MANUAL, SEM REAPROVEITAMENTO. AF_09/2023 | C19: M2 | D19: 6 | E19: 16.68 | F19: =E19*(1-$H$12) -> 16.68 | G19: =D19*F19 -> 100.08
A20: 1.6 | B20: PORTÃO TUBULAR EM TELA DE AÇO GALVANIZADO ATÉ 2,50 M DE ALTURA, COMPLETO | C20: M2 | D20: 8.36 | E20: 1312.83 | F20: =E20*(1-$H$12) -> 1312.83 | G20: =D20*F20 -> 10975.259
A21: 1.7 | B21: PINTURA LÁTEX ACRÍLICA PREMIUM, APLICAÇÃO MANUAL EM PAREDES, DUAS DEMÃOS. AF_04/2023 | C21: M2 | D21: 10 | E21: 18.96 | F21: =E21*(1-$H$12) -> 18.96 | G21: =D21*F21 -> 189.6
B22: ESQUADRIAS | F22: =E22*(1-$H$12) -> #VALUE!
A23: 1.8 | B23: LIMPEZA DE JANELA DE VIDRO COM CAIXILHO EM AÇO/ALUMÍNIO/PVC. AF_04/2019 | C23: M2 | D23: 1.26 | E23: 5 | F23: =E23*(1-$H$12) -> 5 | G23: =D23*F23 -> 6.3
A24: 1.9 | B24: INSTALAÇÃO DE VIDRO LISO INCOLOR, E = 4 MM, EM ESQUADRIA DE ALUMÍNIO OU PVC, FIXADO COM BAGUETE. AF_01/2021_PS | C24: M2 | D24: 0.16 | E24: 431.48 | F24: =E24*(1-$H$12) -> 431.48 | G24: =D24*F24 -> 69.0368
A25: 1.10 | B25: PINTURA COM TINTA ALQUÍDICA DE ACABAMENTO (ESMALTE SINTÉTICO FOSCO) APLICADA A ROLO OU PINCEL SOBRE SUPERFÍCIES METÁLICAS (EXCETO PERFIL) EXECUTADO EM OBRA (02 DEMÃOS). AF_01/2020 | C25: M2 | D25: 3.52 | E25: 78.74 | F25: =E25*(1-$H$12) -> 78.74 | G25: =D25*F25 -> 277.1648
B26: PAREDES E TETO - INTERNO | F26: =E26*(1-$H$12) -> #VALUE!
A27: 1.11 | B27: PINTURA LÁTEX ACRÍLICA PREMIUM, APLICAÇÃO MANUAL EM PAREDES, DUAS DEMÃOS. AF_04/2023 | C27: M2 | D27: 88.77 | E27: 18.96 | F27: =E27*(1-$H$12) -> 18.96 | G27: =D27*F27 -> 1683.0792
B28: PISO INTERNO | F28: =E28*(1-$H$12) -> #VALUE!
A29: 1.12 | B29: LIMPEZA DE PISO CERÂMICO OU PORCELANATO UTILIZANDO DETERGENTE NEUTRO E ESCOVAÇÃO MANUAL. AF_04/2019 | C29: M2 | D29: 19.04 | E29: 9.65 | F29: =E29*(1-$H$12) -> 9.65 | G29: =D29*F29 -> 183.736
B30: PAREDES EXTERNAS | F30: =E30*(1-$H$12) -> #VALUE!
A31: 1.13 | B31: PINTURA LÁTEX ACRÍLICA PREMIUM, APLICAÇÃO MANUAL EM PAREDES, DUAS DEMÃOS. AF_04/2023 | C31: M2 | D31: 59.22 | E31: 18.96 | F31: =E31*(1-$H$12) -> 18.96 | G31: =D31*F31 -> 1122.8112
A32: 1.14 | B32: SINALIZAÇÃO COM PICTOGRAMA EM TINTA ACRÍLICA | C32: UN | D32: 2 | E32: 94.75 | F32: =E32*(1-$H$12) -> 94.75 | G32: =D32*F32 -> 189.5
B33: SUPORTE RESERVATÓRIO 10M³ | F33: =E33*(1-$H$12) -> #VALUE!
A34: 1.15 | B34: CHAPISCO APLICADO EM ALVENARIA (SEM PRESENÇA DE VÃOS) E ESTRUTURAS DE CONCRETO DE FACHADA, COM COLHER DE PEDREIRO. ARGAMASSA TRAÇO 1:3 COM PREPARO EM BETONEIRA 400L. AF_10/2022 | C34: M2 | D34: 6.02 | E34: 10.3 | F34: =E34*(1-$H$12) -> 10.3 | G34: =D34*F34 -> 62.006
A35: 1.16 | B35: EMBOÇO OU MASSA ÚNICA EM ARGAMASSA TRAÇO 1:2:8, PREPARO MECÂNICO COM BETONEIRA 400 L, APLICADA MANUALMENTE EM PANOS CEGOS DE FACHADA (SEM PRESENÇA DE VÃOS), ESPESSURA DE 25 MM. AF_08/2022 | C35: M2 | D35: 6.02 | E35: 56.75 | F35: =E35*(1-$H$12) -> 56.75 | G35: =D35*F35 -> 341.635
A36: 1.17 | B36: APLICAÇÃO MANUAL DE FUNDO SELADOR ACRÍLICO EM PAREDES EXTERNAS DE CASAS. AF_03/2024 | C36: M2 | D36: 6.02 | E36: 7.41 | F36: =E36*(1-$H$12) -> 7.41 | G36: =D36*F36 -> 44.6082
A37: 1.18 | B37: PINTURA LÁTEX ACRÍLICA PREMIUM, APLICAÇÃO MANUAL EM PAREDES, DUAS DEMÃOS. AF_04/2023 | C37: M2 | D37: 6.02 | E37: 18.96 | F37: =E37*(1-$H$12) -> 18.96 | G37: =D37*F37 -> 114.1392
A38: 1.19 | B38: LIMPEZA E DESOBSTRUÇÃO DE CANALETAS OU TUBULAÇÕES DE ÁGUAS PLUVIAIS | C38: M | D38: 3.68 | E38: 15.74 | F38: =E38*(1-$H$12) -> 15.74 | G38: =D38*F38 -> 57.9232
A39: 1.20 | B39: REGULARIZAÇÃO DE PISO COM NATA DE CIMENTO | C39: M2 | D39: 36.8 | E39: 39.96 | F39: =E39*(1-$H$12) -> 39.96 | G39: =D39*F39 -> 1470.528
B40: SERVIÇOS FINAIS | F40: =E40*(1-$H$12) -> #VALUE!
A41: 1.21 | B41: PLACA DE IDENTIFICAÇÃO EM PVC COM TEXTO EM VINIL | C41: M2 | D41: 0.48 | E41: 433.05 | F41: =E41*(1-$H$12) -> 433.05 | G41: =D41*F41 -> 207.864
A42: 1.22 | B42: NUMERO / ALGARISMO PARA RESIDENCIA (FACHADA), EM ZAMAC, COM ALTURA DE APROX 125 MM, INCLUSIVE PARAFUSOS | C42: UN | D42: 3 | E42: 17.08 | F42: =E42*(1-$H$12) -> 17.08 | G42: =D42*F42 -> 51.24
A43: 2 | B43: RECALQUE JARDIM DAS AVES | G43: =SUM(G44:G83) -> 26601.207
B44: SERVIÇOS PRELIMINARES
...

Sheet CRONOGRAMA FF
A1: INSERIR LOGO DA EMPRESA | B1: PREENCHER - NOME DA EMPRESA
B2: PREENCHER - CNPJ
B3: PREENCHER - ENDEREÇO / TELEFONE / E-MAIL
A6: LOCAL: DIVERSOS LOCAIS DO MUNICÍPIO DE AMPARO-SP
A7: =[3]Orçamento!G27 -> ENDEREÇO: MUNICÍPIO DE AMPARO-SP
A8: =[3]Orçamento!G28 -> OBRA: RECUPERAÇÃO ESTRUTURAL E REFORMA DE EQUIPAMENTOS DE ABASTECIMENTO DE ÁGUA
A10: ITEM | B10: INSUMOS / MATERIAIS / SERVIÇOS | C10: PREÇO TOTAL | D10: UNID. | E10: 1º MÊS | F10: 2º MÊS | G10: 3º MÊS | H10: 4º MÊS | I10: 5º MÊS | J10: 6º MÊS | K10: 7º MÊS | L10: 8º MÊS | M10: 9º MÊS | N10: 10º MÊS | O10: 11º MÊS | P10: 12º MÊS
A12: 1 | B12: =VLOOKUP($A12,[3]Orçamento!$G:$R,4,FALSE) -> RECALQUE MOREIRINHA | C12: ='PLANILHA ORÇAMENTÁRIA'!G12 -> 22746.24 | D12: VALOR | E12: =IF(E14="","",($C12*E14)) -> 22746.24 | F12: =IF(F14="","",($C12*F14)) | G12: =IF(G14="","",($C12*G14)) | H12: =IF(H14="","",($C12*H14)) | I12: =IF(I14="","",($C12*I14)) | J12: =IF(J14="","",($C12*J14)) | K12: =IF(K14="","",($C12*K14)) | L12: =IF(L14="","",($C12*L14)) | M12: =IF(M14="","",($C12*M14)) | O12: =IF(O14="","",($C12*O14)) | P12: =IF(P14="","",($C12*P14))
E13: =E14 -> 1 | F13: =F14 -> 0 | G13: =G14 -> 0 | H13: =H14 -> 0 | I13: =I14 -> 0 | J13: =J14 -> 0 | K13: =K14 -> 0 | L13: =L14 -> 0 | M13: =M14 -> 0 | O13: =O14 -> 0 | P13: =P14 -> 0
D14: % | E14: 1
A16: 2 | B16: =VLOOKUP($A16,[3]Orçamento!$G:$R,4,FALSE) -> RECALQUE JARDIM DAS AVES | C16: ='PLANILHA ORÇAMENTÁRIA'!G43 -> 26601.207 | D16: VALOR | E16: =IF(E18="","",($C16*E18)) -> 14178.443 | F16: =IF(F18="","",($C16*F18)) -> 12422.764 | G16: =IF(G18="","",($C16*G18)) | H16: =IF(H18="","",($C16*H18)) | I16: =IF(I18="","",($C16*I18)) | J16: =IF(J18="","",($C16*J18)) | K16: =IF(K18="","",($C16*K18)) | L16: =IF(L18="","",($C16*L18)) | ... P16: =IF(P18="","",($C16*P18))
E17: =E18 -> 0.533 | F17: =F18 -> 0.467 | G17: =G18 -> 0 | H17: =H18 -> 0 | I17: =I18 -> 0 | J17: =J18 -> 0 | K17: =K18 -> 0 | L17: =L18 -> 0 | ... P17: =P18 -> 0
D18: % | E18: 0.533 | F18: 0.467
A20: 3 | B20: =VLOOKUP($A20,[3]Orçamento!$G:$R,4,FALSE) -> RESERVATÓRIO PINHEIRINHO CIRCULAR | C20: ='PLANILHA ORÇAMENTÁRIA'!G84 -> 122329.23 | D20: VALOR | E20: =IF(E22="","",($C20*E22)) -> 43793.864 | F20: =IF(F22="","",($C20*F22)) -> 78535.366 | G20: =IF(G22="","",($C20*G22)) | H20: =IF(H22="","",($C20*H22)) | I20: =IF(I22="","",($C20*I22)) | J20: =IF(J22="","",($C20*J22)) | N20: =IF(N22="","",($C20*N22)) | O20: =IF(O22="","",($C20*O22)) | P20: =IF(P22="","",($C20*P22))
E21: =E22 -> 0.358 | F21: =F22 -> 0.642 | G21: =G22 -> 0 | H21: =H22 -> 0 | I21: =I22 -> 0 | J21: =J22 -> 0 | N21: =N22 -> 0 | O21: =O22 -> 0 | P21: =P22 -> 0
D22: % | E22: 0.358 | F22: 0.642
A24: 4 | B24: =VLOOKUP($A24,[3]Orçamento!$G:$R,4,FALSE) -> RESERVATÓRIO PINHEIRINHO RETANGULAR | C24: ='PLANILHA ORÇAMENTÁRIA'!G112 -> 169718.03 | D24: VALOR | E24: =IF(E26="","",($C24*E26)) -> 54140.052 | F24: =IF(F26="","",($C24*F26)) -> 115577.98 | G24: =IF(G26="","",($C24*G26)) | H24: =IF(H26="","",($C24*H26)) | I24: =IF(I26="","",($C24*I26)) | J24: =IF(J26="","",($C24*J26)) | N24: =IF(N26="","",($C24*N26)) | O24: =IF(O26="","",($C24*O26)) | P24: =IF(P26="","",($C24*P26))
E25: =E26 -> 0.319 | F25: =F26 -> 0.681 | G25: =G26 -> 0 | H25: =H26 -> 0 | I25: =I26 -> 0 | J25: =J26 -> 0 | N25: =N26 -> 0 | O25: =O26 -> 0 | P25: =P26 -> 0
D26: % | E26: 0.319 | F26: 0.681
A28: 5 | B28: =VLOOKUP($A28,[3]Orçamento!$G:$R,4,FALSE) -> RECALQUE PINHEIRINHO | C28: ='PLANILHA ORÇAMENTÁRIA'!G133 -> 210826.21 | D28: VALOR | E28: =IF(E30="","",($C28*E30)) -> 54393.162 | F28: =IF(F30="","",($C28*F30)) -> 75686.609 | G28: =IF(G30="","",($C28*G30)) -> 80746.438 | H28: =IF(H30="","",($C28*H30)) | I28: =IF(I30="","",($C28*I30)) | J28: =IF(J30="","",($C28*J30)) | K28: =IF(K30="","",($C28*K30)) | L28: =IF(L30="","",($C28*L30)) | ... P28: =IF(P30="","",($C28*P30))
E29: =E30 -> 0.258 | F29: =F30 -> 0.359 | G29: =G30 -> 0.383 | H29: =H30 -> 0 | I29: =I30 -> 0 | J29: =J30 -> 0 | K29: =K30 -> 0 | L29: =L30 -> 0 | ... P29: =P30 -> 0
D30: % | E30: 0.258 | F30: 0.359 | G30: 0.383
A32: 6 | B32: =VLOOKUP($A32,[3]Orçamento!$G:$R,4,FALSE) -> RESERVATÓRIOS JARDIM SILMARA (2 UND) | C32: ='PLANILHA ORÇAMENTÁRIA'!G191 -> 284883.01 | D32: VALOR | E32: =IF(E34="","",($C32*E34)) | F32: =IF(F34="","",($C32*F34)) | G32: =IF(G34="","",($C32*G34)) -> 138738.02 | H32: =IF(H34="","",($C32*H34)) -> 48145.228 | I32: =IF(I34="","",($C32*I34)) -> 97999.754 | J32: =IF(J34="","",($C32*J34)) | N32: =IF(N34="","",($C32*N34)) | O32: =IF(O34="","",($C32*O34)) | P32: =IF(P34="","",($C32*P34))
E33: =E34 -> 0 | F33: =F34 -> 0 | G33: =G34 -> 0.487 | H33: =H34 -> 0.169 | I33: =I34 -> 0.344 | J33: =J34 -> 0 | N33: =N34 -> 0 | O33: =O34 -> 0 | P33: =P34 -> 0
D34: % | G34: 0.487 | H34: 0.169 | I34: 0.344
A36: 7 | B36: =VLOOKUP($A36,[3]Orçamento!$G:$R,4,FALSE) -> RESERVATÓRIOS NOVO AMPARO (2 UND) | C36: ='PLANILHA ORÇAMENTÁRIA'!G239 -> 271696.03 | D36: VALOR | E36: =IF(E38="","",($C36*E38)) | F36: =IF(F38="","",($C36*F38)) | G36: =IF(G38="","",($C36*G38)) -> 120361.34 | H36: =IF(H38="","",($C36*H38)) -> 110308.59 | I36: =IF(I38="","",($C36*I38)) -> 41026.101 | J36: =IF(J38="","",($C36*J38)) | K36: =IF(K38="","",($C36*K38)) | L36: =IF(L38="","",($C36*L38)) | ... P36: =IF(P38="","",($C36*P38))
E37: =E38 -> 0 | F37: =F38 -> 0 | G37: =G38 -> 0.443 | H37: =H38 -> 0.406 | I37: =I38 -> 0.151 | J37: =J38 -> 0 | K37: =K38 -> 0 | L37: =L38 -> 0 | ... P37: =P38 -> 0
D38: % | G38: 0.443 | H38: 0.406 | I38: 0.151
A40: 8 | B40: =VLOOKUP($A40,[3]Orçamento!$G:$R,4,FALSE) -> RESERVATÓRIO CIRCULAR JARDIM BRASIL | C40: ='PLANILHA ORÇAMENTÁRIA'!G319 -> 118911.22 | D40: VALOR | E40: =IF(E42="","",($C40*E42)) | F40: =IF(F42="","",($C40*F42)) | G40: =IF(G42="","",($C40*G42)) | H40: =IF(H42="","",($C40*H42)) -> 44234.974 | I40: =IF(I42="","",($C40*I42)) -> 74676.246 | J40: =IF(J42="","",($C40*J42)) | K40: =IF(K42="","",($C40*K42)) | L40: =IF(L42="","",($C40*L42)) | N40: =IF(N42="","",($C40*N42)) | O40: =IF(O42="","",($C40*O42)) | P40: =IF(P42="","",($C40*P42))
E41: =E42 -> 0 | F41: =F42 -> 0 | G41: =G42 -> 0 | H41: =H42 -> 0.372 | I41: =I42 -> 0.628 | J41: =J42 -> 0 | K41: =K42 -> 0 | L41: =L42 -> 0 | N41: =N42 -> 0 | O41: =O42 -> 0 | P41: =P42 -> 0
D42: % | H42: 0.372 | I42: 0.628
A44: 9 | B44: =VLOOKUP($A44,[3]Orçamento!$G:$R,4,FALSE) -> RESERVATÓRIO RETANGULAR JARDIM BRASIL | C44: ='PLANILHA ORÇAMENTÁRIA'!G340 -> 244668.81 | D44: VALOR | E44: =IF(E46="","",($C44*E46)) | F44: =IF(F46="","",($C44*F46)) | G44: =IF(G46="","",($C44*G46)) | H44: =IF(H46="","",($C44*H46)) -> 115728.35 | I44: =IF(I46="","",($C44*I46)) -> 42817.042 | J44: =IF(J46="","",($C44*J46)) -> 86123.421 | K44: =IF(K46="","",($C44*K46)) | L44: =IF(L46="","",($C44*L46)) | ... P44: =IF(P46="","",($C44*P46))
E45: =E46 -> 0 | F45: =F46 -> 0 | G45: =G46 -> 0 | H45: =H46 -> 0.473 | I45: =I46 -> 0.175 | J45: =J46 -> 0.352 | K45: =K46 -> 0 | L45: =L46 -> 0 | ... P45: =P46 -> 0
D46: % | H46: 0.473 | I46: 0.175 | J46: 0.352
A48: 10 | B48: =VLOOKUP($A48,[3]Orçamento!$G:$R,4,FALSE) -> POÇO ESTÂNCIA SEABRA | C48: ='PLANILHA ORÇAMENTÁRIA'!G382 -> 26505.51 | D48: VALOR | E48: =IF(E50="","",($C48*E50)) | F48: =IF(F50="","",($C48*F50)) | G48: =IF(G50="","",($C48*G50)) | H48: =IF(H50="","",($C48*H50)) | I48: =IF(I50="","",($C48*I50)) | J48: =IF(J50="","",($C48*J50)) -> 14763.569 | K48: =IF(K50="","",($C48*K50)) -> 11741.941 | L48: =IF(L50="","",($C48*L50)) | N48: =IF(N50="","",($C48*N50)) | O48: =IF(O50="","",($C48*O50)) | P48: =IF(P50="","",($C48*P50))
E49: =E50 -> 0 | F49: =F50 -> 0 | G49: =G50 -> 0 | H49: =H50 -> 0 | I49: =I50 -> 0 | J49: =J50 -> 0.557 | K49: =K50 -> 0.443 | L49: =L50 -> 0 | N49: =N50 -> 0 | O49: =O50 -> 0 | P49: =P50 -> 0
D50: % | J50: 0.557 | K50: 0.443
A52: 11 | B52: =VLOOKUP($A52,[3]Orçamento!$G:$R,4,FALSE) -> RECALQUE E POÇO BEIRA RIO | C52: ='PLANILHA ORÇAMENTÁRIA'!G427 -> 20775.209 | D52: VALOR | E52: =IF(E54="","",($C52*E54)) | F52: =IF(F54="","",($C52*F54)) | G52: =IF(G54="","",($C52*G54)) | H52: =IF(H54="","",($C52*H54)) | I52: =IF(I54="","",($C52*I54)) | J52: =IF(J54="","",($C52*J54)) -> 10408.38 | K52: =IF(K54="","",($C52*K54)) -> 10366.829 | L52: =IF(L54="","",($C52*L54)) | ... P52: =IF(P54="","",($C52*P54))
E53: =E54 -> 0 | F53: =F54 -> 0 | G53: =G54 -> 0 | H53: =H54 -> 0 | I53: =I54 -> 0 | J53: =J54 -> 0.501 | K53: =K54 -> 0.499 | L53: =L54 -> 0 | ... P53: =P54 -> 0
D54: % | J54: 0.501 | K54: 0.499
...

Sheet BDI
A1: INSERIR LOGO DA EMPRESA | B1: PREENCHER - NOME DA EMPRESA
B2: PREENCHER - CNPJ
B3: PREENCHER - ENDEREÇO / TELEFONE / E-MAIL
A5: DETALHAMENTO DO BDI
A7: SIGLAS | B7: ITENS | D7: VALORES
A8: AC | B8: TAXA DE ADMINISTRAÇÃO CENTRAL
A9: DF | B9: TAXA DE DESPESAS FINANCEIRAS
A10: R | B10: TAXA DE RISCO
A11: S + G | B11: TAXA DE SEGURO E GARANTIA
A12: I | B12: TAXA DE TRIBUTOS | C12: PIS
C13: COFINS
C14: ISS
C15: CPRB (INSS)
A16: L | B16: TAXA DE LUCRO
B18: Benefícios e Despesas Indiretas (BDI): | D18: =ROUND((((1+$D$8+$D$10+$D$11)*(1+$D$9)*(1+$D$16))/(1-SUM($D$12:$D$15)))-1,4) -> 0
A20: Fórmula utilizada:
A31: ______________________________________
A32: RESPONSÁVEL TÉCNICO
A33: CARGO NA EMPRESA
A34: CPF
