Workbook

Sheet RESUMO
A2: Prefeitura Municipal de Indaiatuba
A3: SECRETARIA MUNICIPAL DE PLANEJAMENTO URBANO E ENGENHARIA
A5: Estado de São Paulo
A7: OBRA: REFORMA E AMPLIAÇÃO DA UBS 7
A8: ='CRONOG. AMPLIAÇÃO'!A8 -> Local: R. José de Campos, 709 - Jardim Morada do Sol, Indaiatuba - SP
A10: RESUMO GERAL
C12: orçamento sintético | D12: valor ( R$ ) | E12: percentual ( % )
A14: AMPLIAÇÃO | C14: Material | D14: 848307.59 | E14: =D14/D16 -> 0.59199295
C15: Mão de obra | D15: 584661.49 | E15: =D15/D16 -> 0.40800705
C16: Total | D16: =D14+D15 -> 1432969.1 | E16: =SUM(E14:E15) -> 1
A18: REFORMA | C18: Material | D18: 506037.96 | E18: =D18/D20 -> 0.72707495
C19: Mão de obra | D19: 189953.51 | E19: =D19/D20 -> 0.27292505
C20: Total | D20: =D18+D19 -> 695991.47 | E20: =SUM(E18:E19) -> 1
A22: GERAL | C22: Material | D22: =D14+D18 -> 1354345.6 | E22: =D22/D24 -> 0.63615343
C23: Mão de obra | D23: =D15+D19 -> 774615 | E23: =D23/D24 -> 0.36384657
C24: Total | D24: =D16+D20 -> 2128960.5 | E24: =SUM(E22:E23) -> 1
A29: Indaiatuba, 17 de abril de 2026

Sheet ORÇAM AMPLIAÇÃO
K1: Data: 17/04/2026
B2: PREFEITURA MUNICIPAL DE INDAIATUBA
B3: SECRETARIA MUNICIPAL DE PLANEJAMENTO URBANO E ENGENHARIA
B4: Estado de São Paulo
H5: TAXAS: BDI= 21,00% |LS= 115,01%
B6: OBRA : | C6: REFORMA E AMPLIAÇÃO DA UBS 7
B7: ORÇAMENTO : | C7: AMPLIAÇÃO DA UBS 7
B8: LOCAL : | C8: R. José de Campos, 709 - Jardim Morada do Sol, Indaiatuba - SP
B9: CÓDIGO | C9: FONTE | D9: DATA BASE | E9: DESCRIÇÃO | F9: UNID | G9: QUANT. | H9: PREÇO UNITÁRIO SEM BDI (R$) | I9: PREÇO TOTAL SEM BDI (R$) | J9: PREÇO UNITÁRIO COM BDI (R$) | K9: PREÇO TOTAL COM BDI (R$)
B10: 1 | C10: SERVIÇOS INICIAIS
B11: 01.01 | C11: ADMINISTRAÇÃO DE OBRA
A12: =LEN(B12) -> 4 | B12: CPU5 | C12: =IFERROR(VLOOKUP(A12,$B$418:D433,2,FALSE),"") -> COMPOSICAO | D12: =IFERROR(VLOOKUP(A12,$B$418:E433,3,FALSE),"") -> 2026/01 | E12: ADMNISTRAÇÃO LOCAL DE OBRA | F12: UN | G12: 1 | H12: =ROUND(J12/1.21,2) -> 344628.74 | I12: =ROUND(H12*G12,2) -> 344628.74 | J12: 417000.77 | K12: =ROUND(G12*J12,2) -> 417000.77 | L12: 8 MESES
A13: =LEN(B13) -> 15 | B13: 01.17.031/CDHUU | C13: =IFERROR(VLOOKUP(A13,$B$418:D434,2,FALSE),"") -> CPOS | D13: =IFERROR(VLOOKUP(A13,$B$418:E434,3,FALSE),"") -> 2025/11 | E13: Projeto executivo de arquitetura em formato A1 | F13: UN | G13: 4 | H13: =ROUND(J13/1.21,2) -> 3844.02 | I13: =ROUND(H13*G13,2) -> 15376.08 | J13: 4651.27 | K13: =ROUND(G13*J13,2) -> 18605.08
A14: =LEN(B14) -> 5 | B14: 01.02 | C14: SONDAGEM DO TERRENO
A15: =LEN(B15) -> 14 | B15: 01.21.110/CDHU | C15: =IFERROR(VLOOKUP(A15,$B$418:D436,2,FALSE),"") -> CPOS | D15: =IFERROR(VLOOKUP(A15,$B$418:E436,3,FALSE),"") -> 2025/11 | E15: Sondagem do terreno à percussão (mínimo de 30 m) | F15: M | G15: 60 | H15: =ROUND(J15/1.21,2) -> 91.32 | I15: =ROUND(H15*G15,2) -> 5479.2 | J15: 110.5 | K15: =ROUND(G15*J15,2) -> 6630
B16: SUBTOTAL (ETAPA) | K16: =SUM(K12:K15) -> 442235.85
A17: =LEN(B17) -> 1 | B17: 2 | C17: INSTALAÇÃO DO CANTEIRO DE OBRA
A18: =LEN(B18) -> 5 | B18: 02.01 | C18: TAPUMES E ALOJAMENTOS
A19: =LEN(B19) -> 6 | B19: 97063U | C19: =IFERROR(VLOOKUP(A19,$B$418:D438,2,FALSE),"") -> SINAPI | D19: =IFERROR(VLOOKUP(A19,$B$418:E438,3,FALSE),"") -> 2026/01 | E19: MONTAGEM E DESMONTAGEM DE ANDAIME MODULAR FACHADEIRO, COM PISO METÁLICO, PARA EDIFICAÇÕES COM MÚLTIPLOS PAVIMENTOS (EXCLUSIVE ANDAIME E LIMPEZA). AF_11/2017 | F19: M2 | G19: 100 | H19: =ROUND(J19/1.21,2) -> 25.8 | I19: =ROUND(H19*G19,2) -> 2580 | J19: 31.22 | K19: =ROUND(G19*J19,2) -> 3122
A20: =LEN(B20) -> 6 | B20: 98459U | C20: =IFERROR(VLOOKUP(A20,$B$418:D440,2,FALSE),"") -> SINAPI | D20: =IFERROR(VLOOKUP(A20,$B$418:E440,3,FALSE),"") -> 2026/01 | E20: TAPUME COM TELHA METÁLICA. AF_05/2018 | F20: M2 | G20: 106.74 | H20: =ROUND(J20/1.21,2) -> 96.36 | I20: =ROUND(H20*G20,2) -> 10285.47 | J20: 116.6 | K20: =ROUND(G20*J20,2) -> 12445.88
A21: =LEN(B21) -> 7 | B21: 103689U | C21: =IFERROR(VLOOKUP(A21,$B$418:D442,2,FALSE),"") -> SINAPI | D21: =IFERROR(VLOOKUP(A21,$B$418:E442,3,FALSE),"") -> 2026/01 | E21: FORNECIMENTO E INSTALAÇÃO DE PLACA DE OBRA COM CHAPA GALVANIZADA E ESTRUTURA DE MADEIRA. AF_03/2022_PS | F21: M2 | G21: 12 | H21: =ROUND(J21/1.21,2) -> 474.47 | I21: =ROUND(H21*G21,2) -> 5693.64 | J21: 574.11 | K21: =ROUND(G21*J21,2) -> 6889.32 | L21: PLACA NOVA PARA A OBRA
A22: =LEN(B22) -> 15 | B22: 02.02.140/CDHUU | C22: =IFERROR(VLOOKUP(A22,$B$418:D442,2,FALSE),"") -> CPOS | D22: =IFERROR(VLOOKUP(A22,$B$418:E442,3,FALSE),"") -> 2025/11 | E22: Locação de container tipo sanitário com 2 vasos sanitários, 2 lavatórios, 2 mictórios e 4 pontos para chuveiro - área mínima de 13,80 m² | F22: unmes | G22: 8 | H22: =ROUND(J22/1.21,2) -> 1563.31 | I22: =ROUND(H22*G22,2) -> 12506.48 | J22: 1891.61 | K22: =ROUND(G22*J22,2) -> 15132.88
A23: =LEN(B23) -> 15 | B23: 02.02.150/CDHUU | C23: =IFERROR(VLOOKUP(A23,$B$418:D443,2,FALSE),"") -> CPOS | D23: =IFERROR(VLOOKUP(A23,$B$418:E443,3,FALSE),"") -> 2025/11 | E23: Locação de container tipo depósito - área mínima de 13,80 m² | F23: unmes | G23: 8 | H23: =ROUND(J23/1.21,2) -> 1019.25 | I23: =ROUND(H23*G23,2) -> 8154 | J23: 1233.29 | K23: =ROUND(G23*J23,2) -> 9866.32
A24: =LEN(B24) -> 15 | B24: 02.05.212/CDHUU | C24: =IFERROR(VLOOKUP(A24,$B$418:D444,2,FALSE),"") -> CPOS | D24: =IFERROR(VLOOKUP(A24,$B$418:E444,3,FALSE),"") -> 2025/11 | E24: Andaime tubular fachadeiro com piso metálico e sapatas ajustáveis | F24: m2xmes | G24: 300 | H24: =ROUND(J24/1.21,2) -> 27.4 | I24: =ROUND(H24*G24,2) -> 8220 | J24: 33.16 | K24: =ROUND(G24*J24,2) -> 9948
A25: =LEN(B25) -> 15 | B25: 05.07.040/CDHUU | C25: =IFERROR(VLOOKUP(A25,$B$418:D445,2,FALSE),"") -> CPOS | D25: =IFERROR(VLOOKUP(A25,$B$418:E445,3,FALSE),"") -> 2025/11 | E25: Remoção de entulho separado de obra com caçamba metálica - terra, alvenaria, concreto, argamassa, madeira, papel, plástico ou metal | F25: M3 | G25: 20 | H25: =ROUND(J25/1.21,2) -> 117.21 | I25: =ROUND(H25*G25,2) -> 2344.2 | J25: 141.83 | K25: =ROUND(G25*J25,2) -> 2836.6 | L25: REMOÇÃO DO ENTULHO
A26: =LEN(B26) -> 5 | B26: 02.02 | C26: LOCAÇÃO DE OBRA
A27: =LEN(B27) -> 6 | B27: 99059U | C27: =IFERROR(VLOOKUP(A27,$B$418:D447,2,FALSE),"") -> SINAPI | D27: =IFERROR(VLOOKUP(A27,$B$418:E447,3,FALSE),"") -> 2026/01 | E27: LOCACAO CONVENCIONAL DE OBRA, UTILIZANDO GABARITO DE TÁBUAS CORRIDAS PONTALETADAS A CADA 2,00M - 2 UTILIZAÇÕES. AF_10/2018 | F27: M | G27: 36.52 | H27: =ROUND(J27/1.21,2) -> 80.07 | I27: =ROUND(H27*G27,2) -> 2924.16 | J27: 96.89 | K27: =ROUND(G27*J27,2) -> 3538.42 | L27: LOCAÇÃO DA OBRA DE AMPLIAÇÃO DA COBERTURA ATIVIDADES COLETIVAS
A28: =LEN(B28) -> 5 | B28: 02.05 | C28: LIMPEZA DO TERRENO
A29: =LEN(B29) -> 6 | B29: 97914U | C29: =IFERROR(VLOOKUP(A29,$B$418:D449,2,FALSE),"") -> SINAPI | D29: =IFERROR(VLOOKUP(A29,$B$418:E449,3,FALSE),"") -> 2026/01 | E29: TRANSPORTE COM CAMINHÃO BASCULANTE DE 6 M³, EM VIA URBANA PAVIMENTADA, DMT ATÉ 30 KM (UNIDADE: M3XKM). AF_07/2020 | F29: M3XKM | G29: 67.5 | H29: =ROUND(J29/1.21,2) -> 3.25 | I29: =ROUND(H29*G29,2) -> 219.38 | J29: 3.93 | K29: =ROUND(G29*J29,2) -> 265.28 | L29: TRANSPORTE DE CAMADA VEGETAL RETIRADO DA LIMPEZA DO TERRENO
A30: =LEN(B30) -> 6 | B30: 98525U | C30: =IFERROR(VLOOKUP(A30,$B$418:D450,2,FALSE),"") -> SINAPI | D30: =IFERROR(VLOOKUP(A30,$B$418:E450,3,FALSE),"") -> 2026/01 | E30: LIMPEZA MECANIZADA DE CAMADA VEGETAL, VEGETAÇÃO E PEQUENAS ÁRVORES (DIÂMETRO DE TRONCO MENOR QUE 0,20 M), COM TRATOR DE ESTEIRAS.AF_05/2018 | F30: M2 | G30: 90 | H30: =ROUND(J30/1.21,2) -> 0.76 | I30: =ROUND(H30*G30,2) -> 68.4 | J30: 0.92 | K30: =ROUND(G30*J30,2) -> 82.8 | L30: LIMPEZA DO TERRRENO
A31: =LEN(B31) -> 7 | B31: 100981U | C31: =IFERROR(VLOOKUP(A31,$B$418:D451,2,FALSE),"") -> SINAPI | D31: =IFERROR(VLOOKUP(A31,$B$418:E451,3,FALSE),"") -> 2026/01 | E31: CARGA, MANOBRA E DESCARGA DE ENTULHO EM CAMINHÃO BASCULANTE 6 M³ - CARGA COM ESCAVADEIRA HIDRÁULICA (CAÇAMBA DE 0,80 M³ / 111 HP) E DESCARGA LIVRE (UNIDADE: M3). AF_07/2020 | F31: M3 | G31: 27 | H31: =ROUND(J31/1.21,2) -> 10.44 | I31: =ROUND(H31*G31,2) -> 281.88 | J31: 12.63 | K31: =ROUND(G31*J31,2) -> 341.01 | L31: CARGA DE CAMADA VEGETAL
A32: =LEN(B32) -> 5 | B32: 02.06 | C32: LIGAÇÕES PROVISÓRIAS E POÇOS DE ÁGUA
A33: =LEN(B33) -> 18 | B33: 02.101.000040.SERU | C33: =IFERROR(VLOOKUP(A33,$B$418:D453,2,FALSE),"") -> PINI-N | D33: =IFERROR(VLOOKUP(A33,$B$418:E453,3,FALSE),"") -> 2026/02 | E33: Ligação provisória de água para obra e instalação sanitária provisória, pequenas obras - instalação mínima | F33: UN | G33: 1 | H33: =ROUND(J33/1.21,2) -> 4295.88 | I33: =ROUND(H33*G33,2) -> 4295.88 | J33: 5198.02 | K33: =ROUND(G33*J33,2) -> 5198.02 | L33: LIGAÇÃO DE ÁGUA PARA OBRA
A34: =LEN(B34) -> 21 | B34: 02.101.000045.SER/CPU | C34: COMPOSICAO | D34: 2025/08 | E34: Ligação provisória de luz e força com poste padrão de concreto CPFL para obra - instalação mínima | F34: UN | G34: 1 | H34: =ROUND(J34/1.21,2) -> 4461.17 | I34: =ROUND(H34*G34,2) -> 4461.17 | J34: 5398.01 | K34: =ROUND(G34*J34,2) -> 5398.01 | L34: LIGUAÇÃO DE LUZ PARA OBRA
B35: SUBTOTAL (ETAPA) | K35: =SUM(K19:K34) -> 75064.54
A36: =LEN(B36) -> 1 | B36: 3 | C36: MOVIMENTO DE TERRA
A37: =LEN(B37) -> 5 | B37: 03.01 | C37: ESCAVAÇÕES, CARGAS E TRANSPORTES
A38: =LEN(B38) -> 6 | B38: 97914U | C38: =IFERROR(VLOOKUP(A38,$B$418:D457,2,FALSE),"") -> SINAPI | D38: =IFERROR(VLOOKUP(A38,$B$418:E457,3,FALSE),"") -> 2026/01 | E38: TRANSPORTE COM CAMINHÃO BASCULANTE DE 6 M³, EM VIA URBANA PAVIMENTADA, DMT ATÉ 30 KM (UNIDADE: M3XKM). AF_07/2020 | F38: M3XKM | G38: 97.5 | H38: =ROUND(J38/1.21,2) -> 3.25 | I38: =ROUND(H38*G38,2) -> 316.88 | J38: 3.93 | K38: =ROUND(G38*J38,2) -> 383.18 | L38: TRANSPORTE DO CORTE DO TERRENO
A39: =LEN(B39) -> 7 | B39: 100973U | C39: =IFERROR(VLOOKUP(A39,$B$418:D458,2,FALSE),"") -> SINAPI | D39: =IFERROR(VLOOKUP(A39,$B$418:E458,3,FALSE),"") -> 2026/01 | E39: CARGA, MANOBRA E DESCARGA DE SOLOS E MATERIAIS GRANULARES EM CAMINHÃO BASCULANTE 6 M³ - CARGA COM PÁ CARREGADEIRA (CAÇAMBA DE 1,7 A 2,8 M³ / 128 HP) E DESCARGA LIVRE (UNIDADE: M3). AF_07/2020 | F39: M3 | G39: 39 | H39: =ROUND(J39/1.21,2) -> 9.64 | I39: =ROUND(H39*G39,2) -> 375.96 | J39: 11.66 | K39: =ROUND(G39*J39,2) -> 454.74 | L39: CARGA DO CORTE DO TERRENO
A40: =LEN(B40) -> 7 | B40: 101219U | C40: =IFERROR(VLOOKUP(A40,$B$418:D459,2,FALSE),"") -> SINAPI | D40: =IFERROR(VLOOKUP(A40,$B$418:E459,3,FALSE),"") -> 2026/01 | E40: ESCAVAÇÃO VERTICAL PARA EDIFICAÇÃO, COM CARGA, DESCARGA E TRANSPORTE DE SOLO DE 1ª CATEGORIA, COM ESCAVADEIRA HIDRÁULICA (CAÇAMBA: 0,8 M³ / 111 HP), FROTA DE 6 CAMINHÕES BASCULANTES DE 18 M³, DMT DE 6 KM E VELOCIDADE MÉDIA 22 KM/H. AF_05/2020 | F40: M3 | G40: 30 | H40: =ROUND(J40/1.21,2) -> 28.18 | I40: =ROUND(H40*G40,2) -> 845.4 | J40: 34.1 | K40: =ROUND(G40*J40,2) -> 1023 | L40: CORTE DO TERRENO
...

Sheet CRONOG. AMPLIAÇÃO
A1: PREFETURA MUNICIPAL DE INDAIATUBA
A2: SECRETARIA MUNICIPAL DE PLANEJAMENTO URBANO E ENGENHARIA
A3: Estado de São Paulo
A5: CRONOGRAMA FÍSICO - FINANCEIRO
A6: Obra: REFORMA E AMPLIAÇÃO DA UBS 7
A7: Orçamento: AMPLIAÇÃO DA UBS 7
A8: Local: R. José de Campos, 709 - Jardim Morada do Sol, Indaiatuba - SP
A9: ETAPAS | B9: V. dos Serv. | C9: % | D9: Mês 01 | E9: Mês 02 | F9: Mês 03 | G9: Mês 04 | H9: Mês 05 | I9: Mês 06 | J9: Mês 07 | K9: Mês 08
B10: R$ | D10: R$ | E10: R$ | F10: R$ | G10: R$ | H10: R$ | I10: R$ | J10: R$ | K10: R$
A11: ='ORÇAM AMPLIAÇÃO'!C10 -> SERVIÇOS INICIAIS | B11: ='ORÇAM AMPLIAÇÃO'!K16 -> 442235.85 | C11: =B11/$B$30 -> 0.30861507 | D11: =$B$11/8 -> 55279.481 | E11: =$B$11/8 -> 55279.481 | F11: =$B$11/8 -> 55279.481 | G11: =$B$11/8 -> 55279.481 | H11: =$B$11/8 -> 55279.481 | I11: =$B$11/8 -> 55279.481 | J11: =$B$11/8 -> 55279.481 | K11: =$B$11/8 -> 55279.481 | L11: =SUM(D11:K11) -> 442235.85
A12: ='ORÇAM AMPLIAÇÃO'!C17 -> INSTALAÇÃO DO CANTEIRO DE OBRA | B12: ='ORÇAM AMPLIAÇÃO'!K35 -> 75064.54 | C12: =B12/$B$30 -> 0.052383922 | D12: =$B$12/3 -> 25021.513 | E12: =$B$12/3 -> 25021.513 | F12: =$B$12/3 -> 25021.513 | L12: =SUM(D12:K12) -> 75064.54
A13: ='ORÇAM AMPLIAÇÃO'!C36 -> MOVIMENTO DE TERRA | B13: ='ORÇAM AMPLIAÇÃO'!K45 -> 3444.11 | C13: =B13/$B$30 -> 0.0024034782 | E13: =B13 -> 3444.11 | L13: =SUM(D13:K13) -> 3444.11
A14: ='ORÇAM AMPLIAÇÃO'!C46 -> INFRAESTRUTURA-COBERTURA | B14: ='ORÇAM AMPLIAÇÃO'!K88 -> 164372.93 | C14: =B14/$B$30 -> 0.11470794 | F14: =$B$14/2 -> 82186.465 | G14: =$B$14/2 -> 82186.465 | L14: =SUM(D14:K14) -> 164372.93
A15: ='ORÇAM AMPLIAÇÃO'!C89 -> PAREDES E PAINÉIS | B15: ='ORÇAM AMPLIAÇÃO'!K103 -> 44453.34 | C15: =B15/$B$30 -> 0.031021842 | H15: =B15 -> 44453.34 | L15: =SUM(D15:K15) -> 44453.34
A16: ='ORÇAM AMPLIAÇÃO'!C104 -> ESQUADRIAS DE MADEIRA | B16: ='ORÇAM AMPLIAÇÃO'!K109 -> 15759.61 | C16: =B16/$B$30 -> 0.010997872 | H16: =$B$16/2 -> 7879.805 | I16: =$B$16/2 -> 7879.805 | L16: =SUM(D16:K16) -> 15759.61
A17: ='ORÇAM AMPLIAÇÃO'!C110 -> ESQUADRIAS METÁLICAS | B17: ='ORÇAM AMPLIAÇÃO'!K118 -> 29954.85 | C17: =B17/$B$30 -> 0.020904045 | H17: =$B$17/2 -> 14977.425 | I17: =$B$17/2 -> 14977.425 | L17: =SUM(D17:K17) -> 29954.85
A18: ='ORÇAM AMPLIAÇÃO'!C119 -> VIDROS | B18: ='ORÇAM AMPLIAÇÃO'!K123 -> 5173.29 | C18: =B18/$B$30 -> 0.0036101896 | H18: =B18 -> 5173.29 | L18: =SUM(D18:K18) -> 5173.29
A19: ='ORÇAM AMPLIAÇÃO'!C124 -> COBERTURA | B19: ='ORÇAM AMPLIAÇÃO'!K130 -> 149858.52 | C19: =B19/$B$30 -> 0.10457903 | G19: =$B$19/3 -> 49952.84 | H19: =$B$19/3 -> 49952.84 | I19: =$B$19/3 -> 49952.84 | L19: =SUM(D19:K19) -> 149858.52
A20: ='ORÇAM AMPLIAÇÃO'!C131 -> IMPERMEABILIZAÇÃO | B20: ='ORÇAM AMPLIAÇÃO'!K134 -> 14629.92 | C20: =B20/$B$30 -> 0.010209515 | F20: =B20 -> 14629.92 | L20: =SUM(D20:K20) -> 14629.92
A21: ='ORÇAM AMPLIAÇÃO'!C135 -> FORRO | B21: ='ORÇAM AMPLIAÇÃO'!K139 -> 11057.73 | C21: =B21/$B$30 -> 0.0077166564 | I21: =B21 -> 11057.73 | L21: =SUM(D21:K21) -> 11057.73
A22: ='ORÇAM AMPLIAÇÃO'!C140 -> REVESTIMENTO DE PAREDES INTERNAS | B22: ='ORÇAM AMPLIAÇÃO'!K149 -> 20560.66 | C22: =B22/$B$30 -> 0.014348293 | H22: =B22 -> 20560.66 | L22: =SUM(D22:K22) -> 20560.66
A23: ='ORÇAM AMPLIAÇÃO'!C150 -> REVESTIMENTO DE PAREDES EXTERNAS | B23: ='ORÇAM AMPLIAÇÃO'!K155 -> 11926.68 | C23: =B23/$B$30 -> 0.0083230547 | H23: =B23 -> 11926.68 | L23: =SUM(D23:K23) -> 11926.68
A24: ='ORÇAM AMPLIAÇÃO'!C156 -> PISOS INTERNOS | B24: ='ORÇAM AMPLIAÇÃO'!K171 -> 27437.98 | C24: =B24/$B$30 -> 0.019147643 | J24: =B24 -> 27437.98 | L24: =SUM(D24:K24) -> 27437.98
A25: ='ORÇAM AMPLIAÇÃO'!C172 -> INSTALAÇÕES HIDRÁULICAS | B25: ='ORÇAM AMPLIAÇÃO'!K291 -> 171461.45 | C25: =B25/$B$30 -> 0.11965468 | H25: =$B$25/2 -> 85730.725 | I25: =$B$25/2 -> 85730.725 | L25: =SUM(D25:K25) -> 171461.45
A26: ='ORÇAM AMPLIAÇÃO'!C292 -> INSTALAÇÕES ELÉTRICAS | B26: ='ORÇAM AMPLIAÇÃO'!K374 -> 139587.29 | C26: =B26/$B$30 -> 0.097411237 | H26: =$B$26/2 -> 69793.645 | I26: =$B$26/2 -> 69793.645 | L26: =SUM(D26:K26) -> 139587.29
A27: ='ORÇAM AMPLIAÇÃO'!C375 -> PINTURA | B27: ='ORÇAM AMPLIAÇÃO'!K396 -> 43416.07 | C27: =B27/$B$30 -> 0.030297981 | J27: =B27 -> 43416.07 | L27: =SUM(D27:K27) -> 43416.07
A28: ='ORÇAM AMPLIAÇÃO'!C397 -> SERVIÇOS COMPLEMENTARES EXTERNOS | B28: ='ORÇAM AMPLIAÇÃO'!K413 -> 62574.26 | C28: =B28/$B$30 -> 0.043667558 | K28: =B28 -> 62574.26 | L28: =SUM(D28:K28) -> 62574.26
A29: Sub Total Mensal | D29: =SUM(D11:D28) -> 80300.995 | E29: =SUM(E11:E28) -> 83745.105 | F29: =SUM(F11:F28) -> 177117.38 | G29: =SUM(G11:G28) -> 187418.79 | H29: =SUM(H11:H28) -> 365727.89 | I29: =SUM(I11:I28) -> 294671.65 | J29: =SUM(J11:J28) -> 126133.53 | K29: =SUM(K11:K28) -> 117853.74 | L29: =SUM(D29:K29) -> 1432969.1
A30: Total Acumulado | B30: =SUM(B11:B28) -> 1432969.1 | C30: =SUM(C11:C28) -> 1 | D30: =D29 -> 80300.995 | E30: =D30+E29 -> 164046.1 | F30: =E30+F29 -> 341163.48 | G30: =F30+G29 -> 528582.27 | H30: =G30+H29 -> 894310.16 | I30: =H30+I29 -> 1188981.8 | J30: =I30+J29 -> 1315115.3 | K30: =J30+K29 -> 1432969.1
A32: % Físico Mês | D32: =D29/$B$30 -> 0.056038191 | E32: =E29/$B$30 -> 0.058441669 | F32: =F29/$B$30 -> 0.12360168 | G32: =G29/$B$30 -> 0.13079053 | H32: =H29/$B$30 -> 0.25522385 | I32: =I29/$B$30 -> 0.20563713 | J32: =J29/$B$30 -> 0.088022507 | K32: =K29/$B$30 -> 0.082244441
A33: % Físico Acumulado | D33: =D30/B30 -> 0.056038191 | E33: =D33+E32 -> 0.11447986 | F33: =E33+F32 -> 0.23808154 | G33: =F33+G32 -> 0.36887207 | H33: =G33+H32 -> 0.62409592 | I33: =H33+I32 -> 0.82973305 | J33: =I33+J32 -> 0.91775556 | K33: =J33+K32 -> 1
A34: % Financeiro Mês | D34: =D32 -> 0.056038191 | E34: =E32 -> 0.058441669 | F34: =F32 -> 0.12360168 | G34: =G32 -> 0.13079053 | H34: =H32 -> 0.25522385 | I34: =I32 -> 0.20563713 | J34: =J32 -> 0.088022507 | K34: =K32 -> 0.082244441
A35: % Financeiro Acumulado | D35: =D33 -> 0.056038191 | E35: =E33 -> 0.11447986 | F35: =F33 -> 0.23808154 | G35: =G33 -> 0.36887207 | H35: =H33 -> 0.62409592 | I35: =I33 -> 0.82973305 | J35: =J33 -> 0.91775556 | K35: =K33 -> 1
A38: Indaiatuba, 17 de abril de 2026

Sheet ORÇAM. REFORMA
K1: Data: 17/04/2026
B2: PREFEITURA MUNICIPAL DE INDAIATUBA
B3: SECRETARIA MUNICIPAL DE PLANEJAMENTO URBANO E ENGENHARIA
B4: Estado de São Paulo
H5: TAXAS: BDI= 21,00% |LS= 115,01%
B6: OBRA : | C6: REFORMA E AMPLIAÇÃO DA UBS 7
B7: ORÇAMENTO : | C7: REFORMA DA UBS 7
B8: LOCAL : | C8: R. José de Campos, 709 - Jardim Morada do Sol, Indaiatuba - SP
B9: CÓDIGO | C9: FONTE | D9: DATA BASE | E9: DESCRIÇÃO | F9: UNID | G9: QUANT. | H9: PREÇO UNITÁRIO SEM BDI (R$) | I9: PREÇO TOTAL SEM BDI (R$) | J9: PREÇO UNITÁRIO COM BDI (R$) | K9: PREÇO TOTAL COM BDI (R$)
A10: =LEN(B10) -> 1 | B10: 2 | C10: INSTALAÇÃO DO CANTEIRO DE OBRA
A11: =LEN(B11) -> 5 | B11: 02.01 | C11: TAPUMES E ALOJAMENTOS
A12: =LEN(B12) -> 6 | B12: 98459U | C12: =IFERROR(VLOOKUP(A12,$B$217:$D$231,2,FALSE),"") -> SINAPI | D12: =IFERROR(VLOOKUP(A12,$B$217:$D$231,3,FALSE),"") -> 2026/01 | E12: TAPUME COM TELHA METÁLICA. AF_05/2018 | F12: M2 | G12: 133.91 | H12: =ROUND(J12/1.21,2) -> 96.36 | I12: =ROUND(G12*H12,2) -> 12903.57 | J12: 116.6 | K12: =ROUND(G12*J12,2) -> 15613.91
A13: =LEN(B13) -> 15 | B13: 05.07.040/CDHUU | C13: =IFERROR(VLOOKUP(A13,$B$217:$D$231,2,FALSE),"") -> CPOS | D13: =IFERROR(VLOOKUP(A13,$B$217:$D$231,3,FALSE),"") -> 2025/11 | E13: Remoção de entulho separado de obra com caçamba metálica - terra, alvenaria, concreto, argamassa, madeira, papel, plástico ou metal | F13: M3 | G13: 88 | H13: =ROUND(J13/1.21,2) -> 117.21 | I13: =ROUND(G13*H13,2) -> 10314.48 | J13: 141.83 | K13: =ROUND(G13*J13,2) -> 12481.04 | L13: RETIRADA DO ENTULHO
A14: =LEN(B14) -> 5 | B14: 02.02 | C14: LOCAÇÃO DE OBRA
A15: =LEN(B15) -> 6 | B15: 99059U | C15: =IFERROR(VLOOKUP(A15,$B$217:$D$231,2,FALSE),"") -> SINAPI | D15: =IFERROR(VLOOKUP(A15,$B$217:$D$231,3,FALSE),"") -> 2026/01 | E15: LOCACAO CONVENCIONAL DE OBRA, UTILIZANDO GABARITO DE TÁBUAS CORRIDAS PONTALETADAS A CADA 2,00M - 2 UTILIZAÇÕES. AF_10/2018 | F15: M | G15: 23.81 | H15: =ROUND(J15/1.21,2) -> 80.07 | I15: =ROUND(G15*H15,2) -> 1906.47 | J15: 96.89 | K15: =ROUND(G15*J15,2) -> 2306.95 | L15: COBERTURAS ENTRADA AMBULANCIA E PEDESTRES
A16: =LEN(B16) -> 5 | B16: 02.04 | C16: DEMOLIÇÕES E RETIRADAS
A17: =LEN(B17) -> 6 | B17: 90446U | C17: =IFERROR(VLOOKUP(A17,$B$217:$D$231,2,FALSE),"") -> SINAPI | D17: =IFERROR(VLOOKUP(A17,$B$217:$D$231,3,FALSE),"") -> 2026/01 | E17: RASGO LINEAR MECANIZADO EM CONTRAPISO, PARA RAMAIS/ DISTRIBUIÇÃO DE INSTALAÇÕES HIDRÁULICAS, DIÂMETROS MAIORES QUE 75 MM E MENORES OU IGUAIS A 100 MM. AF_09/2023_PS | F17: M | G17: 61.21 | H17: =ROUND(J17/1.21,2) -> 18.43 | I17: =ROUND(G17*H17,2) -> 1128.1 | J17: 22.3 | K17: =ROUND(G17*J17,2) -> 1364.98 | L17: RASGOS PARA PASSAGEM DA HIDRAULICA, ELÉTRICA, LÓGICA, GÁS E ÁGUAS PLUVIAIS
A18: =LEN(B18) -> 6 | B18: 97622U | C18: =IFERROR(VLOOKUP(A18,$B$217:$D$231,2,FALSE),"") -> SINAPI | D18: =IFERROR(VLOOKUP(A18,$B$217:$D$231,3,FALSE),"") -> 2026/01 | E18: DEMOLIÇÃO DE ALVENARIA DE BLOCO FURADO, DE FORMA MANUAL, SEM REAPROVEITAMENTO. AF_09/2023 | F18: M3 | G18: 5.6 | H18: =ROUND(J18/1.21,2) -> 81.12 | I18: =ROUND(G18*H18,2) -> 454.27 | J18: 98.15 | K18: =ROUND(G18*J18,2) -> 549.64 | L18: ABRIGO DE GÁS/COPA/BANCADA COPA/MURETA ACESSO OBRA/JANELAS SALA ESPERA/CLIMATIZADOR SALA ESPERA/PASSAGEM CIRCULAÇÃO
A19: =LEN(B19) -> 6 | B19: 97634U | C19: =IFERROR(VLOOKUP(A19,$B$217:$D$231,2,FALSE),"") -> SINAPI | D19: =IFERROR(VLOOKUP(A19,$B$217:$D$231,3,FALSE),"") -> 2026/01 | E19: DEMOLIÇÃO DE REVESTIMENTO CERÂMICO, DE FORMA MECANIZADA COM MARTELETE, SEM REAPROVEITAMENTO. AF_09/2023 | F19: M2 | G19: 95 | H19: =ROUND(J19/1.21,2) -> 4.83 | I19: =ROUND(G19*H19,2) -> 458.85 | J19: 5.85 | K19: =ROUND(G19*J19,2) -> 555.75 | L19: GUIMA/COPA/ESTERELIZAÇÃO
A20: =LEN(B20) -> 6 | B20: 97647U | C20: =IFERROR(VLOOKUP(A20,$B$217:$D$231,2,FALSE),"") -> SINAPI | D20: =IFERROR(VLOOKUP(A20,$B$217:$D$231,3,FALSE),"") -> 2026/01 | E20: REMOÇÃO DE TELHAS DE FIBROCIMENTO METÁLICA E CERÂMICA, DE FORMA MANUAL, SEM REAPROVEITAMENTO. AF_09/2023 | F20: M2 | G20: 40 | H20: =ROUND(J20/1.21,2) -> 5.02 | I20: =ROUND(G20*H20,2) -> 200.8 | J20: 6.08 | K20: =ROUND(G20*J20,2) -> 243.2 | L20: REMOÇÃO TELHAS DA COBERTURA ENTRADA AMBULANCIA E PEDESTRES
A21: =LEN(B21) -> 6 | B21: 97914U | C21: =IFERROR(VLOOKUP(A21,$B$217:$D$231,2,FALSE),"") -> SINAPI | D21: =IFERROR(VLOOKUP(A21,$B$217:$D$231,3,FALSE),"") -> 2026/01 | E21: TRANSPORTE COM CAMINHÃO BASCULANTE DE 6 M³, EM VIA URBANA PAVIMENTADA, DMT ATÉ 30 KM (UNIDADE: M3XKM). AF_07/2020 | F21: M3XKM | G21: 205.85 | H21: =ROUND(J21/1.21,2) -> 3.25 | I21: =ROUND(G21*H21,2) -> 669.01 | J21: 3.93 | K21: =ROUND(G21*J21,2) -> 808.99 | L21: TRANSPORTE DE ENTULHO
A22: =LEN(B22) -> 7 | B22: 100981U | C22: =IFERROR(VLOOKUP(A22,$B$217:$D$231,2,FALSE),"") -> SINAPI | D22: =IFERROR(VLOOKUP(A22,$B$217:$D$231,3,FALSE),"") -> 2026/01 | E22: CARGA, MANOBRA E DESCARGA DE ENTULHO EM CAMINHÃO BASCULANTE 6 M³ - CARGA COM ESCAVADEIRA HIDRÁULICA (CAÇAMBA DE 0,80 M³ / 111 HP) E DESCARGA LIVRE (UNIDADE: M3). AF_07/2020 | F22: M3 | G22: 85.77 | H22: =ROUND(J22/1.21,2) -> 10.44 | I22: =ROUND(G22*H22,2) -> 895.44 | J22: 12.63 | K22: =ROUND(G22*J22,2) -> 1083.28 | L22: CARGA DE ENTULHO
A23: =LEN(B23) -> 7 | B23: 104790U | C23: =IFERROR(VLOOKUP(A23,$B$217:$D$231,2,FALSE),"") -> SINAPI | D23: =IFERROR(VLOOKUP(A23,$B$217:$D$231,3,FALSE),"") -> 2026/01 | E23: DEMOLIÇÃO DE PISO DE CONCRETO SIMPLES, DE FORMA MECANIZADA COM MARTELETE, SEM REAPROVEITAMENTO. AF_09/2023 | F23: M3 | G23: 6 | H23: =ROUND(J23/1.21,2) -> 132.89 | I23: =ROUND(G23*H23,2) -> 797.34 | J23: 160.8 | K23: =ROUND(G23*J23,2) -> 964.8 | L23: DEMOLIÇÃO DE PASSEIO EM MÁS CONDIÇÕES
A24: =LEN(B24) -> 7 | B24: CPU 001 | C24: =IFERROR(VLOOKUP(A24,$B$217:$D$231,2,FALSE),"") -> SINAPI | D24: =IFERROR(VLOOKUP(A24,$B$217:$D$231,3,FALSE),"") -> 2026/01 | E24: Desinstalação de aparelho climatizador evaporativo 1,03 x 1,12. | F24: UN | G24: 1 | H24: =ROUND(J24/1.21,2) -> 316.7 | I24: =ROUND(G24*H24,2) -> 316.7 | J24: 383.21 | K24: =ROUND(G24*J24,2) -> 383.21 | L24: REMOÇÃO DO CLIMATIZADOE SALA DE ESPERA
A25: =LEN(B25) -> 7 | B25: CPU 004 | C25: =IFERROR(VLOOKUP(A25,$B$217:$D$231,2,FALSE),"") -> SINAPI | D25: =IFERROR(VLOOKUP(A25,$B$217:$D$231,3,FALSE),"") -> 2026/01 | E25: RETIRADA DE PLACA DE OBRA | F25: UN | G25: 16.8 | H25: =ROUND(J25/1.21,2) -> 273.12 | I25: =ROUND(G25*H25,2) -> 4588.42 | J25: 330.48 | K25: =ROUND(G25*J25,2) -> 5552.06 | L25: RETIRADA DA PLACA ANTIGA P/ SUBSTITUIÇÃO
A26: =LEN(B26) -> 15 | B26: 03.08.200/CDHUU | C26: =IFERROR(VLOOKUP(A26,$B$217:$D$231,2,FALSE),"") -> CPOS | D26: =IFERROR(VLOOKUP(A26,$B$217:$D$231,3,FALSE),"") -> 2025/11 | E26: Demolição manual de painéis divisórias, inclusive montantes metálicos | F26: M2 | G26: 4.3 | H26: =ROUND(J26/1.21,2) -> 10.28 | I26: =ROUND(G26*H26,2) -> 44.2 | J26: 12.44 | K26: =ROUND(G26*J26,2) -> 53.49 | L26: REMOÇÃO DA DIVISÓRIA EXISTENTE DO DML
A27: =LEN(B27) -> 15 | B27: 03.10.100/CDHUU | C27: =IFERROR(VLOOKUP(A27,$B$217:$D$231,2,FALSE),"") -> CPOS | D27: =IFERROR(VLOOKUP(A27,$B$217:$D$231,3,FALSE),"") -> 2025/11 | E27: Remoção de pintura em superfícies de madeira e/ou metálicas com lixamento | F27: M2 | G27: 204.9 | H27: =ROUND(J27/1.21,2) -> 11.92 | I27: =ROUND(G27*H27,2) -> 2442.41 | J27: 14.42 | K27: =ROUND(G27*J27,2) -> 2954.66 | L27: REMOÇÃO DE TINTA DAS PORTAS SE NECESSÁRIO
A28: =LEN(B28) -> 15 | B28: 03.10.140/CDHUU | C28: =IFERROR(VLOOKUP(A28,$B$217:$D$231,2,FALSE),"") -> CPOS | D28: =IFERROR(VLOOKUP(A28,$B$217:$D$231,3,FALSE),"") -> 2025/11 | E28: Remoção de pintura em massa com lixamento | F28: M2 | G28: 2606.87 | H28: =ROUND(J28/1.21,2) -> 8.17 | I28: =ROUND(G28*H28,2) -> 21298.13 | J28: 9.88 | K28: =ROUND(G28*J28,2) -> 25755.88 | L28: REMOÇÃO DE TINTA DAS PAREDES E TETO EM GERAL
... A31: =LEN(B31) -> 15 | B31: 04.09.020/CDHUU | C31: =IFERROR(VLOOKUP(A31,$B$217:$D$231,2,FALSE),"") -> CPOS | D31: =IFERROR(VLOOKUP(A31,$B$217:$D$231,3,FALSE),"") -> 2025/11 | E31: Retirada de esquadria metálica em geral | F31: M2 | G31: 122.8 | H31: =ROUND(J31/1.21,2) -> 46.93 | I31: =ROUND(G31*H31,2) -> 5763 | J31: 56.78 | K31: =ROUND(G31*J31,2) -> 6972.58 | L31: remoção de janelas, portas, toldos, telas, grades metálicas
A32: =LEN(B32) -> 15 | B32: 04.09.100/CDHUU | C32: =IFERROR(VLOOKUP(A32,$B$217:$D$231,2,FALSE),"") -> CPOS | D32: =IFERROR(VLOOKUP(A32,$B$217:$D$231,3,FALSE),"") -> 2025/11 | E32: Retirada de guarda-corpo ou gradil em geral | F32: M2 | G32: 28.5 | H32: =ROUND(J32/1.21,2) -> 46.93 | I32: =ROUND(G32*H32,2) -> 1337.51 | J32: 56.78 | K32: =ROUND(G32*J32,2) -> 1618.23
A33: =LEN(B33) -> 15 | B33: 04.11.030/CDHUU | C33: =IFERROR(VLOOKUP(A33,$B$217:$D$231,2,FALSE),"") -> CPOS | D33: =IFERROR(VLOOKUP(A33,$B$217:$D$231,3,FALSE),"") -> 2025/11 | E33: Retirada de bancada incluindo pertences | F33: M2 | G33: 2.8 | H33: =ROUND(J33/1.21,2) -> 93.85 | I33: =ROUND(G33*H33,2) -> 262.78 | J33: 113.56 | K33: =ROUND(G33*J33,2) -> 317.97 | L33: SALA VACINAS, COPA, CONSULT. PEDIATRIA 03
A34: =LEN(B34) -> 15 | B34: 04.11.110/CDHUU | C34: =IFERROR(VLOOKUP(A34,$B$217:$D$231,2,FALSE),"") -> CPOS | D34: =IFERROR(VLOOKUP(A34,$B$217:$D$231,3,FALSE),"") -> 2025/11 | E34: Retirada de purificador/bebedouro | F34: UN | G34: 1 | H34: =ROUND(J34/1.21,2) -> 44.6 | I34: =ROUND(G34*H34,2) -> 44.6 | J34: 53.96 | K34: =ROUND(G34*J34,2) -> 53.96
A35: =LEN(B35) -> 15 | B35: 04.30.040/CDHUU | C35: =IFERROR(VLOOKUP(A35,$B$217:$D$231,2,FALSE),"") -> CPOS | D35: =IFERROR(VLOOKUP(A35,$B$217:$D$231,3,FALSE),"") -> 2025/11 | E35: Remoção de condutor aparente | F35: M | G35: 4 | H35: =ROUND(J35/1.21,2) -> 4.67 | I35: =ROUND(G35*H35,2) -> 18.68 | J35: 5.65 | K35: =ROUND(G35*J35,2) -> 22.6 | L35: CONDUTOR PLUVIAL
A36: =LEN(B36) -> 15 | B36: 34.13.021/CDHUU | C36: =IFERROR(VLOOKUP(A36,$B$217:$D$231,2,FALSE),"") -> CPOS | D36: =IFERROR(VLOOKUP(A36,$B$217:$D$231,3,FALSE),"") -> 2025/11 | E36: Corte, recorte e remoção de árvore inclusive as raízes - diâmetro (DAP)>15cm < 30cm | F36: UN | G36: 9 | H36: =ROUND(J36/1.21,2) -> 791.96 | I36: =ROUND(G36*H36,2) -> 7127.64 | J36: 958.27 | K36: =ROUND(G36*J36,2) -> 8624.43 | L36: RETIRADA DAS PALMEIRAS DOS FUNDOS
A37: =LEN(B37) -> 18 | B37: 02.102.000022.SERU | C37: =IFERROR(VLOOKUP(A37,$B$217:$D$231,2,FALSE),"") -> PINI-N | D37: =IFERROR(VLOOKUP(A37,$B$217:$D$231,3,FALSE),"") -> 2026/02 | E37: Demolição de piso revestido com granilite | F37: M2 | G37: 50 | H37: =ROUND(J37/1.21,2) -> 48.64 | I37: =ROUND(G37*H37,2) -> 2432 | J37: 58.86 | K37: =ROUND(G37*J37,2) -> 2943 | L37: EXPUGO 01 E 02, SALA DOS AGENTES, COPA E DEMAIS REPAROS NECESSÁRIOS
A38: =LEN(B38) -> 18 | B38: 05.109.000060.SERU | C38: =IFERROR(VLOOKUP(A38,$B$217:$D$231,2,FALSE),"") -> PINI-N | D38: =IFERROR(VLOOKUP(A38,$B$217:$D$231,3,FALSE),"") -> 2026/02 | E38: Enchimento de rasgo em concreto com argamassa mista traço 1:4, para tubulação com Ø 65 mm a 100 mm | F38: M | G38: 61.21 | H38: =ROUND(J38/1.21,2) -> 19.07 | I38: =ROUND(G38*H38,2) -> 1167.27 | J38: 23.08 | K38: =ROUND(G38*J38,2) -> 1412.73 | L38: ENCHIMENTO DOS RASGOS MENCIONADOS ACIMA
A39: =LEN(B39) -> 16 | B39: SUBTOTAL (ETAPA) | K39: =SUM(K12:K38) -> 93985.42
A40: =LEN(B40) -> 1 | B40: 4 | C40: =IFERROR(VLOOKUP(A40,$B$217:$D$231,2,FALSE),"") | D40: =IFERROR(VLOOKUP(A40,$B$217:$D$231,3,FALSE),"") | E40: INFRAESTRUTURA
A41: =LEN(B41) -> 5 | B41: 04.03 | E41: SERVIÇOS GERAIS DE FUNDAÇÃO-COBERTURAS
A42: =LEN(B42) -> 6 | B42: 93382U | C42: =IFERROR(VLOOKUP(A42,$B$217:$D$231,2,FALSE),"") -> SINAPI | D42: =IFERROR(VLOOKUP(A42,$B$217:$D$231,3,FALSE),"") -> 2026/01 | E42: REATERRO MANUAL DE VALAS, COM COMPACTADOR DE SOLOS DE PERCUSSÃO. AF_08/2023 | F42: M3 | G42: 3.15 | H42: =ROUND(J42/1.21,2) -> 35.72 | I42: =ROUND(G42*H42,2) -> 112.52 | J42: 43.22 | K42: =ROUND(G42*J42,2) -> 136.14
...

Sheet COMPOSIÇÕES AMPLIAÇÃO
F1: Data: 17/04/2026
A2: PREFEITURA MUNICIPAL DE INDAIATUBA
A3: SECRETARIA MUNICIPAL DE PLANEJAMENTO URBANO E ENGENHARIA
A4: Estado de São Paulo
E5: TAXAS: BDI= 21,00% |LS= 115,01%
A6: OBRA : | B6: REFORMA E AMPLIAÇÃO DA UBS 7
A7: ORÇAMENTO : | B7: AMPLIAÇÃO DA UBS 7
A8: LOCAL : | B8: ='ORÇAM AMPLIAÇÃO'!C8 -> R. José de Campos, 709 - Jardim Morada do Sol, Indaiatuba - SP
A9: CÓDIGO | B9: DESCRIÇÃO | C9: CLASS | D9: UNIDADE | E9: COEF. | F9: PREÇO(R$) | G9: PREÇO TOTAL (R$)
A10: 1 | B10: SERVIÇOS INICIAIS
A11: 01.01 | B11: ADMINISTRAÇÃO DE OBRA
A12: CPU5 | B12: ADMNISTRAÇÃO LOCAL DE OBRA | C12: SER.CG | D12: UN
A13: 90778U | B13: ENGENHEIRO CIVIL DE OBRA PLENO COM ENCARGOS COMPLEMENTARES | C13: SER.CG | D13: H | E13: 704 | F13: 62.83 | G13: =E13*F13 -> 44232.32
A14: 90780U | B14: MESTRE DE OBRAS COM ENCARGOS COMPLEMENTARES | C14: SER.CG | D14: H | E14: 1408 | F14: 38.51 | G14: 6777.74
A15: CPU2 | B15: VIGIA NOTURNO COM ENCARGOS COMPLEMENTARES | C15: SER.CG | D15: H | E15: 2880 | F15: 24.2 | G15: 8710.59
A16: PREÇO (mão-de-obra): | G16: 17124.78
A17: PREÇO (material): | G17: 3892.64
A18: PREÇO TOTAL (unit.): | G18: 21017.42
A19: LS(%): 115,48 | G19: 19775.7
A20: BDI(%): 21,00 | G20: 8566.55
A21: ADM(%): 0,00 | G21: 0
A22: TOTAL TAXA: | G22: 28342.25
A23: PREÇO TOTAL UNIT. (c/ taxa): | G23: =ROUND(G18+G22,2) -> 49359.67
A24: QUANTIDADE: | G24: 8
A25: PREÇO TOTAL (c/ taxa): | G25: =ROUND(G23*G24,2) -> 394877.36
A27: 01.17.031/CDHUU | B27: Projeto executivo de arquitetura em formato A1 | C27: SER.CG | D27: UN
A28: 90768U | B28: ARQUITETO DE OBRA JUNIOR COM ENCARGOS COMPLEMENTARES | C28: SER.CG | D28: H | E28: 3 | F28: 59.57 | G28: 178.72
A29: 90770U | B29: ARQUITETO DE OBRA SENIOR COM ENCARGOS COMPLEMENTARES | C29: SER.CG | D29: H | E29: 2.2 | F29: 66.9 | G29: 147.19
A30: 90775U | B30: DESENHISTA PROJETISTA COM ENCARGOS COMPLEMENTARES | C30: SER.CG | D30: H | E30: 18 | F30: 31.26 | G30: 562.62
A31: B.01.000.020112/CDHU | B31: Coordenador de projetos | C31: M.O. | D31: H | E31: 1.4 | F31: 165.81 | G31: 232.13
A32: B.01.000.020121/CDHU | B32: Projetista pleno - nível técnico | C32: M.O. | D32: H | E32: 11 | F32: 53.93 | G32: 593.23
A33: PREÇO (mão-de-obra): | G33: 1660.58
A34: PREÇO (material): | G34: 53.31
A35: PREÇO TOTAL (unit.): | G35: 1713.89
A36: LS(%): 115,48 | G36: 1917.63
A37: BDI(%): 21,00 | G37: 762.62
A38: ADM(%): 0,00 | G38: 0
A39: TOTAL TAXA: | G39: 2680.25
A40: PREÇO TOTAL UNIT. (c/ taxa): | G40: =ROUND(G35+G39,2) -> 4394.14
A41: QUANTIDADE: | G41: 4
...

Sheet CRONOG. REFORMA
A1: PREFETURA MUNICIPAL DE INDAIATUBA
A2: SECRETARIA MUNICIPAL DE PLANEJAMENTO URBANO E ENGENHARIA
A3: Estado de São Paulo
A5: CRONOGRAMA FÍSICO - FINANCEIRO
A6: Obra: REFORMA E AMPLIAÇÃO DA UBS 7
A7: Orçamento: REFORMA DA UBS 7
A8: Local: R. José de Campos, 709 - Jardim Morada do Sol, Indaiatuba - SP
A9: ETAPAS | B9: V. dos Serv. | C9: % | D9: Mês 01 | E9: Mês 02 | F9: Mês 03 | G9: Mês 04 | H9: Mês 05 | I9: Mês 06 | J9: Mês 07 | K9: Mês 08
B10: R$ | D10: R$ | E10: R$ | F10: R$ | G10: R$ | H10: R$ | I10: R$ | J10: R$ | K10: R$
A11: INSTALAÇÃO DO CANTEIRO DE OBRA | B11: ='ORÇAM. REFORMA'!K39 -> 93985.42 | C11: =B11*100/$B$27 -> 13.503818 | D11: =$B$11/3 -> 31328.473 | E11: =$B$11/3 -> 31328.473 | F11: =$B$11/3 -> 31328.473 | L11: =SUM(D11:K11) -> 93985.42
A12: INFRAESTRUTURA | B12: ='ORÇAM. REFORMA'!K62 -> 10221.56 | D12: =B12*0.2 -> 2044.312 | E12: =B12*0.8 -> 8177.248
A13: PAREDES E PAINÉIS | B13: ='ORÇAM. REFORMA'!K70 -> 2312.45 | C13: =B13*100/$B$27 -> 0.33225264 | D13: =B13 -> 2312.45 | L13: =SUM(D13:K13) -> 2312.45
A14: ESQUADRIAS DE MADEIRA | B14: ='ORÇAM. REFORMA'!K74 -> 1800.95 | C14: =B14*100/$B$27 -> 0.25876036 | E14: =B14/2 -> 900.475 | F14: =B14/2 -> 900.475 | L14: =SUM(D14:K14) -> 1800.95
A15: ESQUADRIAS METÁLICAS | B15: ='ORÇAM. REFORMA'!K83 -> 133116.19 | C15: =B15*100/$B$27 -> 19.126124 | E15: =B15/2 -> 66558.095 | F15: =B15/2 -> 66558.095 | L15: =SUM(D15:K15) -> 133116.19
A16: VIDROS | B16: ='ORÇAM. REFORMA'!K87 -> 2800.98 | C16: =B16*100/$B$27 -> 0.40244459 | F16: =B16 -> 2800.98 | L16: =SUM(D16:K16) -> 2800.98
A17: COBERTURA | B17: ='ORÇAM. REFORMA'!K93 -> 60229.22 | C17: =B17*100/$B$27 -> 8.6537296 | E17: =$B$17/2 -> 30114.61 | F17: =$B$17/2 -> 30114.61 | L17: =SUM(D17:K17) -> 60229.22
A18: IMPERMEABILIZAÇÃO | B18: ='ORÇAM. REFORMA'!K100 -> 6718.55 | C18: =B18*100/$B$27 -> 0.96532074 | E18: 1258.33 | F18: =+B18-E18 -> 5460.22 | L18: =SUM(D18:K18) -> 6718.55
A19: FORRO | B19: ='ORÇAM. REFORMA'!K106 -> 3576.16 | C19: =B19*100/$B$27 -> 0.51382239 | G19: =B19 -> 3576.16 | L19: =SUM(D19:K19) -> 3576.16
A20: REVESTIMENTO DE PAREDES INTERNAS | B20: ='ORÇAM. REFORMA'!K116 -> 19015.11 | C20: =B20*100/$B$27 -> 2.7320895 | G20: =B20 -> 19015.11 | L20: =SUM(D20:K20) -> 19015.11
A21: REVESTIMENTO DE PAREDES EXTERNAS | B21: ='ORÇAM. REFORMA'!K122 -> 24312.6 | C21: =B21*100/$B$27 -> 3.4932325 | G21: =B21 -> 24312.6 | L21: =SUM(D21:K21) -> 24312.6
A22: PISOS INTERNOS | B22: ='ORÇAM. REFORMA'!K140 -> 22480.01 | C22: =B22*100/$B$27 -> 3.2299261 | H22: =B22 -> 22480.01 | L22: =SUM(D22:K22) -> 22480.01
A23: INSTALAÇÕES HIDRÁULICAS | B23: ='ORÇAM. REFORMA'!K152 -> 10660.15 | C23: =B23*100/$B$27 -> 1.5316495 | G23: =B23 -> 10660.15 | L23: =SUM(D23:K23) -> 10660.15
A24: PINTURA | B24: ='ORÇAM. REFORMA'!K176 -> 128461.58 | C24: =B24*100/$B$27 -> 18.45735 | H24: =$B$24/2 -> 64230.79 | I24: =$B$24/2 -> 64230.79 | L24: =SUM(D24:K24) -> 128461.58
A25: SERVIÇOS COMPLEMENTARES EXTERNOS | B25: ='ORÇAM. REFORMA'!K208 -> 176300.54 | C25: =B25*100/$B$27 -> 25.330848 | G25: =B25*0.2 -> 35260.108 | H25: =B25*0.2 -> 35260.108 | I25: =B25*0.2 -> 35260.108 | J25: =B25*0.2 -> 35260.108 | K25: =B25*0.2 -> 35260.108 | L25: =SUM(D25:K25) -> 176300.54
A26: Sub Total Mensal | D26: =SUM(D11:D25) -> 35685.235 | E26: =SUM(E11:E25) -> 138337.23 | F26: =SUM(F11:F25) -> 137162.85 | G26: =SUM(G11:G25) -> 92824.128 | H26: =SUM(H11:H25) -> 121970.91 | I26: =SUM(I11:I25) -> 99490.898 | J26: =SUM(J11:J25) -> 35260.108 | K26: =SUM(K11:K25) -> 35260.108 | L26: =SUM(L11:L25) -> 685769.91
A27: Total Acumulado | B27: =SUM(B11:B25) -> 695991.47 | C27: =SUM(C11:C25) -> 98.531367 | D27: =D26 -> 35685.235 | E27: =D27+E26 -> 174022.47 | F27: =E27+F26 -> 311185.32 | G27: =F27+G26 -> 404009.45 | H27: =G27+H26 -> 525980.36 | I27: =H27+I26 -> 625471.25 | J27: =I27+J26 -> 660731.36 | K27: =J27+K26 -> 695991.47
A29: % Físico Mês | D29: =D26/$B$27 -> 0.051272518 | E29: =E26/$B$27 -> 0.19876283 | F29: =F26/$B$27 -> 0.19707548 | G29: =G26/$B$27 -> 0.13336963 | H29: =H26/$B$27 -> 0.17524771 | I29: =I26/$B$27 -> 0.14294844 | J29: =J26/$B$27 -> 0.050661696 | K29: =K26/$B$27 -> 0.050661696
A30: % Físico Acumulado | D30: =D27/B27 -> 0.051272518 | E30: =D30+E29 -> 0.25003534 | F30: =E30+F29 -> 0.44711082 | G30: =F30+G29 -> 0.58048046 | H30: =G30+H29 -> 0.75572816 | I30: =H30+I29 -> 0.89867661 | J30: =I30+J29 -> 0.9493383 | K30: =J30+K29 -> 1
A31: % Financeiro Mês | D31: =D29 -> 0.051272518 | E31: =E29 -> 0.19876283 | F31: =F29 -> 0.19707548 | G31: =G29 -> 0.13336963 | H31: =H29 -> 0.17524771 | I31: =I29 -> 0.14294844 | J31: =J29 -> 0.050661696 | K31: =K29 -> 0.050661696
A32: % Financeiro Acumulado | D32: =D30 -> 0.051272518 | E32: =E30 -> 0.25003534 | F32: =F30 -> 0.44711082 | G32: =G30 -> 0.58048046 | H32: =H30 -> 0.75572816 | I32: =I30 -> 0.89867661 | J32: =J30 -> 0.9493383 | K32: =K30 -> 1
A35: Indaiatuba, 17 de abril de 2026

Sheet COMPOSIÇÕES REFORMA
F1: Data: 17/04/2026
A2: PREFEITURA MUNICIPAL DE INDAIATUBA
A3: SECRETARIA MUNICIPAL DE PLANEJAMENTO URBANO E ENGENHARIA
A4: Estado de São Paulo
E5: TAXAS: BDI= 21,00% |LS= 115,01%
A6: OBRA : | B6: REFORMA E AMPLIAÇÃO DA UBS 7
A7: ORÇAMENTO : | B7: REFORMA DA UBS 7
A8: LOCAL : | B8: R. José de Campos, 709 - Jardim Morada do Sol, Indaiatuba - SP
A9: CÓDIGO | B9: DESCRIÇÃO | C9: CLASS | D9: UNIDADE | E9: COEF. | F9: PREÇO(R$) | G9: PREÇO TOTAL (R$)
A10: 2 | B10: INSTALAÇÃO DO CANTEIRO DE OBRA
A11: 02.01 | B11: TAPUMES E ALOJAMENTOS
A12: 98459U | B12: TAPUME COM TELHA METÁLICA. AF_05/2018 | C12: SER.CG | D12: M2
A13: 4491 | B13: PONTALETE *7,5 X 7,5* CM EM PINUS, MISTA OU EQUIVALENTE DA REGIAO - BRUTA | C13: MAT. | D13: M | E13: 1.2273 | F13: 8.14 | G13: 9.99
A14: 5061 | B14: PREGO DE ACO POLIDO COM CABECA 18 X 27 (2 1/2 X 10) | C14: MAT. | D14: KG | E14: 0.068 | F14: 11.13 | G14: 0.76
A15: 6194 | B15: TABUA *2,5 X 15 CM EM PINUS, MISTA OU EQUIVALENTE DA REGIAO - BRUTA | C15: MAT. | D15: M | E15: 2 | F15: 5.81 | G15: 11.62
A16: 7243 | B16: TELHA TRAPEZOIDAL EM ACO ZINCADO, SEM PINTURA, ALTURA DE APROXIMADAMENTE 40 MM, ESPESSURA DE 0,50 MM E LARGURA UTIL DE 980 MM | C16: MAT. | D16: M2 | E16: 0.5853 | F16: 47.39 | G16: 27.74
A17: 88239U | B17: AJUDANTE DE CARPINTEIRO COM ENCARGOS COMPLEMENTARES | C17: SER.CG | D17: H | E17: 0.492 | F17: 20.12 | G17: 9.9
A18: 88262U | B18: CARPINTEIRO DE FORMAS COM ENCARGOS COMPLEMENTARES | C18: SER.CG | D18: H | E18: 0.735 | F18: 21.08 | G18: 15.49
A19: 91692U | B19: SERRA CIRCULAR DE BANCADA COM MOTOR ELÉTRICO POTÊNCIA DE 5HP, COM COIFA PARA DISCO 10" - CHP DIURNO. AF_08/2015 | C19: SER.CG | D19: CHP | E19: 0.0066 | F19: 23.82 | G19: 0.16
A20: 91693U | B20: SERRA CIRCULAR DE BANCADA COM MOTOR ELÉTRICO POTÊNCIA DE 5HP, COM COIFA PARA DISCO 10" - CHI DIURNO. AF_08/2015 | C20: SER.CG | D20: CHI | E20: 0.0264 | F20: 22.57 | G20: 0.6
A21: 94974U | B21: CONCRETO MAGRO PARA LASTRO, TRAÇO 1:4,5:4,5 (EM MASSA SECA DE CIMENTO/ AREIA MÉDIA/ BRITA 1) - PREPARO MANUAL. AF_05/2021 | C21: SER.CG | D21: M3 | E21: 0.0061 | F21: 387.72 | G21: 2.37
A22: PREÇO (mão-de-obra): | G22: 15.43
A23: PREÇO (material): | G23: 63.19
A24: PREÇO TOTAL (unit.): | G24: 78.62
A25: LS(%): 115,01 | G25: 17.74
A26: BDI(%): 21,00 | G26: 20.24
A27: ADM(%): 0,00 | G27: 0
A28: TOTAL TAXA: | G28: 37.98
A29: PREÇO TOTAL UNIT. (c/ taxa): | G29: =ROUND(G24+G28,2) -> 116.6
A30: QUANTIDADE: | G30: 133.91
A31: PREÇO TOTAL (c/ taxa): | G31: =ROUND(G29*G30,2) -> 15613.91
A33: 05.07.040/CDHUU | B33: Remoção de entulho separado de obra com caçamba metálica - terra, alvenaria, concreto, argamassa, madeira, papel, plástico ou metal | C33: SER.CG | D33: M3
A34: 88316U | B34: SERVENTE COM ENCARGOS COMPLEMENTARES | C34: SER.CG | D34: H | E34: 0.6 | F34: 19.41 | G34: 11.65
A35: A.05.000.020358/CDHU | B35: Remoção de entulho de obra, terra, alvenaria, concreto, argamassa, madeira, papel, plástico, metal, capacidade de 4m³ | C35: SER.MO | D35: M3 | E35: 1 | F35: 98.52 | G35: 98.52
A36: PREÇO (mão-de-obra): | G36: 6.13
A37: PREÇO (material): | G37: 104.04
A38: PREÇO TOTAL (unit.): | G38: 110.17
A39: LS(%): 115,01 | G39: 7.05
A40: BDI(%): 21,00 | G40: 24.61
A41: ADM(%): 0,00 | G41: 0
...

Sheet CRONOGRAMA GERAL
A1: PREFETURA MUNICIPAL DE INDAIATUBA
A2: SECRETARIA MUNICIPAL DE PLANEJAMENTO URBANO E ENGENHARIA
A3: Estado de São Paulo
A5: CRONOGRAMA FÍSICO - FINANCEIRO
A6: Obra: REFORMA E AMPLIAÇÃO DA UBS 7
A7: Orçamento: Geral
A8: Local: R. José de Campos, 709 - Jardim Morada do Sol, Indaiatuba - SP
A9: ETAPAS | B9: V. dos Serv. | C9: % | D9: Mês 01 | E9: Mês 02 | F9: Mês 03 | G9: Mês 04 | H9: Mês 05 | I9: Mês 06 | J9: Mês 07 | K9: Mês 08
B10: R$ | D10: R$ | E10: R$ | F10: R$ | G10: R$ | H10: R$ | I10: R$ | J10: R$ | K10: R$
A11: SERVIÇOS INICIAIS | B11: ='CRONOG. AMPLIAÇÃO'!B11 -> 442235.85 | C11: =B11*100/$B$30 -> 20.772383 | D11: =$B$11/8 -> 55279.481 | E11: =$B$11/8 -> 55279.481 | F11: =$B$11/8 -> 55279.481 | G11: =$B$11/8 -> 55279.481 | H11: =$B$11/8 -> 55279.481 | I11: =$B$11/8 -> 55279.481 | J11: =$B$11/8 -> 55279.481 | K11: =$B$11/8 -> 55279.481 | L11: =SUM(D11:K11) -> 442235.85
A12: INSTALAÇÃO DO CANTEIRO DE OBRA | B12: ='CRONOG. REFORMA'!B11+'CRONOG. AMPLIAÇÃO'!B12 -> 169049.96 | C12: =B12*100/$B$30 -> 7.9404928 | D12: ='CRONOG. REFORMA'!D11+'CRONOG. AMPLIAÇÃO'!D12 -> 56349.987 | E12: ='CRONOG. REFORMA'!D11+'CRONOG. AMPLIAÇÃO'!E12 -> 56349.987 | F12: ='CRONOG. REFORMA'!F11+'CRONOG. AMPLIAÇÃO'!F12 -> 56349.987 | L12: =SUM(D12:K12) -> 169049.96
A13: MOVIMENTO DE TERRA | B13: ='CRONOG. AMPLIAÇÃO'!B13 -> 3444.11 | C13: =B13*100/$B$30 -> 0.16177425 | E13: ='CRONOG. AMPLIAÇÃO'!E13 -> 3444.11 | L13: =SUM(D13:K13) -> 3444.11
A14: INFRAESTRUTURA | B14: ='CRONOG. REFORMA'!B12+'CRONOG. AMPLIAÇÃO'!B14 -> 174594.49 | C14: =B14*100/$B$30 -> 8.2009265 | D14: ='CRONOG. REFORMA'!D12 -> 2044.312 | E14: ='CRONOG. REFORMA'!E12 -> 8177.248 | F14: ='CRONOG. AMPLIAÇÃO'!F14 -> 82186.465 | G14: ='CRONOG. AMPLIAÇÃO'!G14 -> 82186.465 | L14: =SUM(D14:K14) -> 174594.49
A15: PAREDES E PAINÉIS | B15: ='CRONOG. REFORMA'!B13+'CRONOG. AMPLIAÇÃO'!B15 -> 46765.79 | C15: =B15*100/$B$30 -> 2.196649 | D15: ='CRONOG. REFORMA'!D13 -> 2312.45 | H15: ='CRONOG. AMPLIAÇÃO'!H15 -> 44453.34 | L15: =SUM(D15:K15) -> 46765.79
A16: ESQUADRIAS DE MADEIRA | B16: ='CRONOG. REFORMA'!B14+'CRONOG. AMPLIAÇÃO'!B16 -> 17560.56 | C16: =B16*100/$B$30 -> 0.82484196 | E16: ='CRONOG. REFORMA'!E14 -> 900.475 | F16: ='CRONOG. REFORMA'!F14 -> 900.475 | H16: ='CRONOG. AMPLIAÇÃO'!H16 -> 7879.805 | I16: ='CRONOG. AMPLIAÇÃO'!I16 -> 7879.805 | L16: =SUM(D16:K16) -> 17560.56
A17: ESQUADRIAS METÁLICAS | B17: ='CRONOG. REFORMA'!B15+'CRONOG. AMPLIAÇÃO'!B17 -> 163071.04 | C17: =B17*100/$B$30 -> 7.6596553 | E17: ='CRONOG. REFORMA'!E15 -> 66558.095 | F17: ='CRONOG. REFORMA'!F15 -> 66558.095 | H17: ='CRONOG. AMPLIAÇÃO'!H17 -> 14977.425 | I17: ='CRONOG. AMPLIAÇÃO'!I17 -> 14977.425 | L17: =SUM(D17:K17) -> 163071.04
A18: VIDROS | B18: ='CRONOG. REFORMA'!B16+'CRONOG. AMPLIAÇÃO'!B18 -> 7974.27 | C18: =B18*100/$B$30 -> 0.37456166 | F18: ='CRONOG. REFORMA'!F16 -> 2800.98 | H18: ='CRONOG. AMPLIAÇÃO'!H18 -> 5173.29 | L18: =SUM(D18:K18) -> 7974.27
A19: COBERTURA | B19: ='CRONOG. REFORMA'!B17+'CRONOG. AMPLIAÇÃO'!B19 -> 210087.74 | C19: =B19*100/$B$30 -> 9.8680899 | D19: ='CRONOG. REFORMA'!D17+'CRONOG. AMPLIAÇÃO'!D19 -> 0 | E19: ='CRONOG. REFORMA'!E17+'CRONOG. AMPLIAÇÃO'!E19 -> 30114.61 | F19: ='CRONOG. REFORMA'!F17+'CRONOG. AMPLIAÇÃO'!F19 -> 30114.61 | G19: ='CRONOG. REFORMA'!G17+'CRONOG. AMPLIAÇÃO'!G19 -> 49952.84 | H19: ='CRONOG. REFORMA'!H17+'CRONOG. AMPLIAÇÃO'!H19 -> 49952.84 | I19: ='CRONOG. REFORMA'!I17+'CRONOG. AMPLIAÇÃO'!I19 -> 49952.84 | J19: ='CRONOG. REFORMA'!J17+'CRONOG. AMPLIAÇÃO'!J19 -> 0 | K19: ='CRONOG. REFORMA'!K17+'CRONOG. AMPLIAÇÃO'!K19 -> 0 | L19: =SUM(D19:K19) -> 210087.74
A20: IMPERMEABILIZAÇÃO | B20: ='CRONOG. REFORMA'!B18+'CRONOG. AMPLIAÇÃO'!B20 -> 21348.47 | C20: =B20*100/$B$30 -> 1.0027649 | E20: ='CRONOG. REFORMA'!E18 -> 1258.33 | F20: ='CRONOG. REFORMA'!F18+'CRONOG. AMPLIAÇÃO'!F20 -> 20090.14 | L20: =SUM(D20:K20) -> 21348.47
A21: FORRO | B21: ='CRONOG. REFORMA'!B19+'CRONOG. AMPLIAÇÃO'!B21 -> 14633.89 | C21: =B21*100/$B$30 -> 0.68737253 | G21: ='CRONOG. REFORMA'!G19 -> 3576.16 | I21: ='CRONOG. AMPLIAÇÃO'!I21 -> 11057.73 | L21: =SUM(D21:K21) -> 14633.89
A22: REVESTIMENTO DE PAREDES INTERNAS | B22: ='CRONOG. REFORMA'!B20+'CRONOG. AMPLIAÇÃO'!B22 -> 39575.77 | C22: =B22*100/$B$30 -> 1.8589245 | G22: ='CRONOG. REFORMA'!G20 -> 19015.11 | H22: ='CRONOG. AMPLIAÇÃO'!H22 -> 20560.66 | L22: =SUM(D22:K22) -> 39575.77
A23: REVESTIMENTO DE PAREDES EXTERNAS | B23: ='CRONOG. REFORMA'!B21+'CRONOG. AMPLIAÇÃO'!B23 -> 36239.28 | C23: =B23*100/$B$30 -> 1.7022053 | G23: ='CRONOG. REFORMA'!G21 -> 24312.6 | H23: ='CRONOG. AMPLIAÇÃO'!H23 -> 11926.68 | L23: =SUM(D23:K23) -> 36239.28
A24: PISOS INTERNOS | B24: ='CRONOG. REFORMA'!B22+'CRONOG. AMPLIAÇÃO'!B24 -> 49917.99 | C24: =B24*100/$B$30 -> 2.3447118 | H24: ='CRONOG. REFORMA'!H22 -> 22480.01 | J24: ='CRONOG. AMPLIAÇÃO'!J24 -> 27437.98 | L24: =SUM(D24:K24) -> 49917.99
A25: INSTALAÇÕES HIDRÁULICAS | B25: ='CRONOG. REFORMA'!B23+'CRONOG. AMPLIAÇÃO'!B25 -> 182121.6 | C25: =B25*100/$B$30 -> 8.5544845 | G25: ='CRONOG. REFORMA'!G23 -> 10660.15 | H25: ='CRONOG. AMPLIAÇÃO'!H25 -> 85730.725 | I25: ='CRONOG. AMPLIAÇÃO'!I25 -> 85730.725 | L25: =SUM(D25:K25) -> 182121.6
A26: INSTALAÇÕES ELÉTRICAS | B26: ='CRONOG. AMPLIAÇÃO'!B26 -> 139587.29 | C26: =B26*100/$B$30 -> 6.5565935 | H26: ='CRONOG. AMPLIAÇÃO'!H26 -> 69793.645 | I26: ='CRONOG. AMPLIAÇÃO'!I26 -> 69793.645 | L26: =SUM(D26:K26) -> 139587.29
A27: PINTURA | B27: ='CRONOG. REFORMA'!B24+'CRONOG. AMPLIAÇÃO'!B27 -> 171877.65 | C27: =B27*100/$B$30 -> 8.0733131 | H27: ='CRONOG. REFORMA'!H24 -> 64230.79 | I27: ='CRONOG. REFORMA'!I24 -> 64230.79 | J27: ='CRONOG. AMPLIAÇÃO'!J27 -> 43416.07 | L27: =SUM(D27:K27) -> 171877.65
A28: SERVIÇOS COMPLEMENTARES EXTERNOS | B28: ='CRONOG. REFORMA'!B25+'CRONOG. AMPLIAÇÃO'!B28 -> 238874.8 | C28: =B28*100/$B$30 -> 11.220255 | D28: ='CRONOG. REFORMA'!D25+'CRONOG. AMPLIAÇÃO'!D28 -> 0 | E28: ='CRONOG. REFORMA'!E25+'CRONOG. AMPLIAÇÃO'!E28 -> 0 | F28: ='CRONOG. REFORMA'!F25+'CRONOG. AMPLIAÇÃO'!F28 -> 0 | G28: ='CRONOG. REFORMA'!G25+'CRONOG. AMPLIAÇÃO'!G28 -> 35260.108 | H28: ='CRONOG. REFORMA'!H25+'CRONOG. AMPLIAÇÃO'!H28 -> 35260.108 | I28: ='CRONOG. REFORMA'!I25+'CRONOG. AMPLIAÇÃO'!I28 -> 35260.108 | J28: ='CRONOG. REFORMA'!J25+'CRONOG. AMPLIAÇÃO'!J28 -> 35260.108 | K28: ='CRONOG. REFORMA'!K25+'CRONOG. AMPLIAÇÃO'!K28 -> 97834.368 | L28: =SUM(D28:K28) -> 238874.8
A29: Sub Total Mensal | D29: =SUM(D11:D28) -> 115986.23 | E29: =SUM(E11:E28) -> 222082.34 | F29: =SUM(F11:F28) -> 314280.23 | G29: =SUM(G11:G28) -> 280242.91 | H29: =SUM(H11:H28) -> 487698.8 | I29: =SUM(I11:I28) -> 394162.55 | J29: =SUM(J11:J28) -> 161393.64 | K29: =SUM(K11:K28) -> 153113.85 | L29: =SUM(D29:K29) -> 2128960.5
A30: Total Acumulado | B30: =SUM(B11:B28) -> 2128960.5 | C30: =SUM(C11:C28) -> 100 | D30: =D29 -> 115986.23 | E30: =D30+E29 -> 338068.57 | F30: =E30+F29 -> 652348.8 | G30: =F30+G29 -> 932591.71 | H30: =G30+H29 -> 1420290.5 | I30: =H30+I29 -> 1814453.1 | J30: =I30+J29 -> 1975846.7 | K30: =J30+K29 -> 2128960.5
A32: % Físico Mês | D32: =D29/$B$30 -> 0.054480216 | E32: =E29/$B$30 -> 0.10431491 | F32: =F29/$B$30 -> 0.14762145 | G32: =G29/$B$30 -> 0.13163368 | H32: =H29/$B$30 -> 0.22907836 | I32: =I29/$B$30 -> 0.18514319 | J32: =J29/$B$30 -> 0.075808657 | K32: =K29/$B$30 -> 0.071919533
A33: % Físico Acumulado | D33: =D30/B30 -> 0.054480216 | E33: =D33+E32 -> 0.15879513 | F33: =E33+F32 -> 0.30641657 | G33: =F33+G32 -> 0.43805026 | H33: =G33+H32 -> 0.66712862 | I33: =H33+I32 -> 0.85227181 | J33: =I33+J32 -> 0.92808047 | K33: =J33+K32 -> 1
A34: % Financeiro Mês | D34: =D32 -> 0.054480216 | E34: =E32 -> 0.10431491 | F34: =F32 -> 0.14762145 | G34: =G32 -> 0.13163368 | H34: =H32 -> 0.22907836 | I34: =I32 -> 0.18514319 | J34: =J32 -> 0.075808657 | K34: =K32 -> 0.071919533
A35: % Financeiro Acumulado | D35: =D33 -> 0.054480216 | E35: =E33 -> 0.15879513 | F35: =F33 -> 0.30641657 | G35: =G33 -> 0.43805026 | H35: =H33 -> 0.66712862 | I35: =I33 -> 0.85227181 | J35: =J33 -> 0.92808047 | K35: =K33 -> 1
A38: Indaiatuba, 17 de abril de 2026

Sheet COTAÇÕES
A1: COT3 | B1: RESERVATÓRIO METÁLICO TIPO TAÇA, COLUNA SECA, 5000 LITROS - FORNECIMENTO E INSTALAÇÃO
A2: EMPRESA | B2: CNPJ | C2: VENDEDOR | D2: CONTATO | E2: DATA | F2: PREÇO TOTAL
A3: ALFA RESERVATÓRIOS | E3: 26/03/2026 | F3: 40000
A4: SZ CONSTRUÇÕES | E4: 30/03/2026 | F4: 36000
A5: MULTMETALICA | E5: 27/03/2026 | F5: 57900
A6: FERLOC FERRAGEBS | E6: 26/03/2026 | F6: 49900
A7: STOCK CAIXAS | E7: 26/03/2026 | F7: 33136
A8: PREÇO ADOTADO | F8: =MEDIAN(F3:F7) -> 40000
A10: COT5 | B10: EXAUSTOR SICFLUX MAXX 150
A11: EMPRESA | B11: CNPJ | C11: VENDEDOR | D11: CONTATO | E11: DATA | F11: PREÇO TOTAL
A12: NOVA EXAUSTORES | E12: 11/03/2026 | F12: =823.6+41.51 -> 865.11
A13: AMERICANVEK | E13: 11/03/2026 | F13: =757.36+10.88 -> 768.24
A14: AR TECH | E14: 24/03/2026 | F14: =903+25.09 -> 928.09
A16: PREÇO ADOTADO | F16: =MEDIAN(F12:F15) -> 865.11
A18: COT4 | B18: INTERRUPTOR DIFERENCIAL RESIDUAL 4 POLOS 25A 30MA
A19: EMPRESA | B19: CNPJ | C19: VENDEDOR | D19: CONTATO | E19: DATA | F19: PREÇO TOTAL
A20: LEROY MERLIN | E20: 11/03/2026 | F20: =196.7+19.9 -> 216.6
A21: ANDRA | E21: 11/03/2026 | F21: =169.95+20.24 -> 190.19
A22: COPAFER | E22: 11/03/2026 | F22: =224.9+9.61 -> 234.51
A23: PREÇO ADOTADO | F23: =MEDIAN(F19:F22) -> 216.6
A25: COT 001 | B25: LUVA DE EMENDA PARA ELETRODUTO, EM ALUMINIO SEM ROSCA, DIMENSÃO DE 25 MM 1"
A26: EMPRESA | B26: CNPJ | C26: VENDEDOR | D26: CONTATO | E26: DATA | F26: PREÇO TOTAL
A27: LEROY MERLIN | E27: 11/03/2026 | F27: =5.41+21.97 -> 27.38
A28: TELHANORTE | E28: 11/03/2026 | F28: =8.5+8.91 -> 17.41
A29: OBRAMAX | E29: 11/03/2026 | F29: =4.19+19.24 -> 23.43
A30: PREÇO ADOTADO | F30: =MEDIAN(F26:F29) -> 23.43

Sheet CURVA ABC
A1: CÓDIGO | B1: FONTE | C1: DATA BASE | D1: DESCRIÇÃO | E1: UNID | F1: QUANT. | G1: PREÇO UNITÁRIO SEM BDI (R$) | H1: PREÇO TOTAL SEM BDI (R$) | I1: PREÇO UNITÁRIO COM BDI (R$) | J1: PREÇO TOTAL COM BDI (R$) | K1: ACUMULADO | L1: PART (%) | M1: PART ACUM (%
A2: CPU5 | B2: COMPOSICAO | C2: 2026/01 | D2: ADMNISTRAÇÃO LOCAL DE OBRA | E2: UN | F2: 1 | G2: 344628.74 | H2: 344628.74 | I2: 417000.77 | J2: 417000.77 | K2: =SUMIF($A$2:$A$429,A2,$J$2:$J$429) -> 417000.77 | L2: =J2/$J$430 -> 0.1958706 | M2: =L2 -> 0.1958706
A3: 15.03.030/CDHUU | B3: CPOS | C3: 2025/11 | D3: Fornecimento e montagem de estrutura em aço ASTM-A36, sem pintura | E3: KG | F3: 1369.65 | G3: 28.72 | H3: 39336.35 | I3: 34.75 | J3: 47595.34 | K3: =SUMIF($A$2:$A$429,A3,$J$2:$J$429) -> 164991.96 | L3: =J3/$J$430 -> 0.02235614 | M3: =L3+M2 -> 0.21822674
A4: 15.03.030/CDHUU | B4: CPOS | C4: 2025/11 | D4: Fornecimento e montagem de estrutura em aço ASTM-A36, sem pintura | E4: KG | F4: 3378.32 | G4: 28.72 | H4: 97025.35 | I4: 34.75 | J4: 117396.62 | K4: =SUMIF($A$2:$A$429,A4,$J$2:$J$429) -> 164991.96 | L4: =J4/$J$430 -> 0.055142694 | M4: =L4+M3 -> 0.27336943
A5: 22.06.240/CDHUU | B5: CPOS | C5: 2025/11 | D5: Brise metálico fixo em chapa lisa aluzinc pré-pintada, formato ogiva, lâmina frontal de 200mm | E5: M2 | F5: 117.5 | G5: 827.02 | H5: 97174.85 | I5: 1000.69 | J5: 117581.08 | K5: =SUMIF($A$2:$A$429,A5,$J$2:$J$429) -> 117581.08 | L5: =J5/$J$430 -> 0.055229337 | M5: =L5+M4 -> 0.32859877
A6: 21.03.151/CDHUU | B6: CPOS | C6: 2025/11 | D6: Revestimento em placa de alumínio composto "ACM", espessura de 4 mm e acabamento em PVDF | E6: M2 | F6: 8.02 | G6: 987.96 | H6: 7923.44 | I6: 1195.43 | J6: 9587.35 | K6: =SUMIF($A$2:$A$429,A6,$J$2:$J$429) -> 74810.01 | L6: =J6/$J$430 -> 0.0045033009 | M6: =L6+M5 -> 0.33310207
A7: 21.03.151/CDHUU | B7: CPOS | C7: 2025/11 | D7: Revestimento em placa de alumínio composto "ACM", espessura de 4 mm e acabamento em PVDF | E7: M2 | F7: 54.56 | G7: 987.96 | H7: 53903.1 | I7: 1195.43 | J7: 65222.66 | K7: =SUMIF($A$2:$A$429,A7,$J$2:$J$429) -> 74810.01 | L7: =J7/$J$430 -> 0.030635918 | M7: =L7+M6 -> 0.36373798
A8: 12.12.010/CDHU | B8: CPOS | C8: 2025/11 | D8: Taxa de mobilização e desmobilização de equipamentos para execução de estaca tipo hélice contínua em solo | E8: TX | F8: 1 | G8: 43530.57 | H8: 43530.57 | I8: 52671.99 | J8: 52671.99 | K8: =SUMIF($A$2:$A$429,A8,$J$2:$J$429) -> 52671.99 | L8: =J8/$J$430 -> 0.024740707 | M8: =L8+M7 -> 0.38847869
A9: CPU6 | B9: COMPOSICAO | C9: 2026/01 | D9: RESERVATÓRIO CILÍNDRICO METÁLICO 30000L-FORNECIMENTO E INSTALAÇÃO | E9: UN | F9: 1 | G9: 40000 | H9: 40000 | I9: 48400 | J9: 48400 | K9: =SUMIF($A$2:$A$429,A9,$J$2:$J$429) -> 48400 | L9: =J9/$J$430 -> 0.022734099 | M9: =L9+M8 -> 0.41121279
A10: 88489U | B10: SINAPI | C10: 2026/01 | D10: PINTURA LÁTEX ACRÍLICA PREMIUM, APLICAÇÃO MANUAL EM PAREDES, DUAS DEMÃOS. AF_04/2023 | E10: M2 | F10: 8 | G10: 15.48 | H10: 123.84 | I10: 18.73 | J10: 149.84 | K10: =SUMIF($A$2:$A$429,A10,$J$2:$J$429) -> 45064.38 | L10: =J10/$J$430 -> 7.0381764e-05 | M10: =L10+M9 -> 0.41128317
A11: 88489U | B11: SINAPI | C11: 2026/01 | D11: PINTURA LÁTEX ACRÍLICA PREMIUM, APLICAÇÃO MANUAL EM PAREDES, DUAS DEMÃOS. AF_04/2023 | E11: M2 | F11: 12.3 | G11: 15.48 | H11: 190.4 | I11: 18.73 | J11: 230.38 | K11: =SUMIF($A$2:$A$429,A11,$J$2:$J$429) -> 45064.38 | L11: =J11/$J$430 -> 0.00010821243 | M11: =L11+M10 -> 0.41139139
A12: 88489U | B12: SINAPI | C12: 2026/01 | D12: PINTURA LÁTEX ACRÍLICA PREMIUM, APLICAÇÃO MANUAL EM PAREDES, DUAS DEMÃOS. AF_04/2023 | E12: M2 | F12: 88.3 | G12: 15.48 | H12: 1366.88 | I12: 18.73 | J12: 1653.86 | K12: =SUMIF($A$2:$A$429,A12,$J$2:$J$429) -> 45064.38 | L12: =J12/$J$430 -> 0.0007768392 | M12: =L12+M11 -> 0.41216822
A13: 88489U | B13: SINAPI | C13: 2026/01 | D13: PINTURA LÁTEX ACRÍLICA PREMIUM, APLICAÇÃO MANUAL EM PAREDES, DUAS DEMÃOS. AF_04/2023 | E13: M2 | F13: 241.8 | G13: 15.48 | H13: 3743.06 | I13: 18.73 | J13: 4528.91 | K13: =SUMIF($A$2:$A$429,A13,$J$2:$J$429) -> 45064.38 | L13: =J13/$J$430 -> 0.002127287 | M13: =L13+M12 -> 0.41429551
A14: 88489U | B14: SINAPI | C14: 2026/01 | D14: PINTURA LÁTEX ACRÍLICA PREMIUM, APLICAÇÃO MANUAL EM PAREDES, DUAS DEMÃOS. AF_04/2023 | E14: M2 | F14: 882 | G14: 15.48 | H14: 13653.36 | I14: 18.73 | J14: 16519.86 | K14: =SUMIF($A$2:$A$429,A14,$J$2:$J$429) -> 45064.38 | L14: =J14/$J$430 -> 0.0077595895 | M14: =L14+M13 -> 0.4220551
... A41: 87530U | B41: SINAPI | C41: 2026/01 | D41: MASSA ÚNICA, PARA RECEBIMENTO DE PINTURA, EM ARGAMASSA TRAÇO 1:2:8, PREPARO MANUAL, APLICADA MANUALMENTE EM FACES INTERNAS DE PAREDES, ESPESSURA DE 20MM, COM EXECUÇÃO DE TALISCAS. AF_06/2014 | E41: M2 | F41: 33 | G41: 47.62 | H41: 1571.46 | I41: 57.62 | J41: 1901.46 | K41: =SUMIF($A$2:$A$429,A41,$J$2:$J$429) -> 19521.66 | L41: =J41/$J$430 -> 0.00089314008 | M41: =L41+M40 -> 0.59576892
A42: 87530U | D42: MASSA ÚNICA, PARA RECEBIMENTO DE PINTURA, EM ARGAMASSA TRAÇO 1:2:8, PREPARO MANUAL, APLICADA MANUALMENTE EM FACES INTERNAS DE PAREDES, ESPESSURA DE 20MM, COM EXECUÇÃO DE TALISCAS. AF_06/2014 | E42: M2 | F42: 56 | G42: 47.62 | H42: 2666.72 | I42: 57.62 | J42: 3226.72 | K42: =SUMIF($A$2:$A$429,A42,$J$2:$J$429) -> 19521.66 | L42: =J42/$J$430 -> 0.0015156317 | M42: =L42+M41 -> 0.59728455
A43: 87530U | B43: SINAPI | C43: 2026/01 | D43: MASSA ÚNICA, PARA RECEBIMENTO DE PINTURA, EM ARGAMASSA TRAÇO 1:2:8, PREPARO MANUAL, APLICADA MANUALMENTE EM FACES INTERNAS DE PAREDES, ESPESSURA DE 20MM, COM EXECUÇÃO DE TALISCAS. AF_06/2014 | E43: M2 | F43: 241.8 | G43: 47.62 | H43: 11514.52 | I43: 57.62 | J43: 13932.52 | K43: =SUMIF($A$2:$A$429,A43,$J$2:$J$429) -> 19521.66 | L43: =J43/$J$430 -> 0.0065442828 | M43: =L43+M42 -> 0.60382884
A44: 17-001-080/SIURB-EDIFU | B44: SIURB-E | C44: 2025/07 | D44: FV.12/14 - MURETA DE ARRIMO EM BLOCOS DE CONCRETO, H=1,00 M | E44: M | F44: 12.3 | G44: 1264.97 | H44: 15559.13 | I44: 1530.61 | J44: 18826.5 | K44: =SUMIF($A$2:$A$429,A44,$J$2:$J$429) -> 18826.5 | L44: =J44/$J$430 -> 0.0088430478 | M44: =L44+M43 -> 0.61267188
A45: 01.17.031/CDHUU | B45: CPOS | C45: 2025/11 | D45: Projeto executivo de arquitetura em formato A1 | E45: UN | F45: 4 | G45: 3844.02 | H45: 15376.08 | I45: 4651.27 | J45: 18605.08 | K45: =SUMIF($A$2:$A$429,A45,$J$2:$J$429) -> 18605.08 | L45: =J45/$J$430 -> 0.008739044 | M45: =L45+M44 -> 0.62141093
A46: 34.05.290/CDHUU | B46: CPOS | C46: 2025/11 | D46: Portão de abrir em grade de aço galvanizado eletrofundida, malha 65 x 132 mm, e pintura eletrostática | E46: M2 | F46: 8.4 | G46: 1670.78 | H46: 14034.55 | I46: 2021.64 | J46: 16981.78 | K46: =SUMIF($A$2:$A$429,A46,$J$2:$J$429) -> 16981.78 | L46: =J46/$J$430 -> 0.0079765593 | M46: =L46+M45 -> 0.62938749
A47: 104162U | B47: SINAPI | C47: 2026/01 | D47: PISO EM GRANILITE, MARMORITE OU GRANITINA EM AMBIENTES INTERNOS, COM ESPESSURA DE 8 MM, INCLUSO MISTURA EM BETONEIRA, COLOCAÇÃO DAS JUNTAS, APLICAÇÃO DO PISO, 4 POLIMENTOS COM POLITRIZ, ESTUCAMENTO, SELADOR E CERA. AF_06/2022 | E47: M2 | F47: 50 | G47: 110.18 | H47: 5509 | I47: 133.32 | J47: 6666 | K47: =SUMIF($A$2:$A$429,A47,$J$2:$J$429) -> 16731.66 | L47: =J47/$J$430 -> 0.0031311055 | M47: =L47+M46 -> 0.63251859
A48: 104162U | B48: SINAPI | C48: 2026/01 | D48: PISO EM GRANILITE, MARMORITE OU GRANITINA EM AMBIENTES INTERNOS, COM ESPESSURA DE 8 MM, INCLUSO MISTURA EM BETONEIRA, COLOCAÇÃO DAS JUNTAS, APLICAÇÃO DO PISO, 4 POLIMENTOS COM POLITRIZ, ESTUCAMENTO, SELADOR E CERA. AF_06/2022 | E48: M2 | F48: 75.5 | G48: 110.18 | H48: 8318.59 | I48: 133.32 | J48: 10065.66 | K48: =SUMIF($A$2:$A$429,A48,$J$2:$J$429) -> 16731.66 | L48: =J48/$J$430 -> 0.0047279692 | M48: =L48+M47 -> 0.63724656
A49: 103689U | B49: SINAPI | C49: 2026/01 | D49: FORNECIMENTO E INSTALAÇÃO DE PLACA DE OBRA COM CHAPA GALVANIZADA E ESTRUTURA DE MADEIRA. AF_03/2022_PS | E49: M2 | F49: 12 | G49: 474.47 | H49: 5693.64 | I49: 574.11 | J49: 6889.32 | K49: =SUMIF($A$2:$A$429,A49,$J$2:$J$429) -> 16534.37 | L49: =J49/$J$430 -> 0.0032360017 | M49: =L49+M48 -> 0.64048256
A50: 103689U | B50: SINAPI | C50: 2026/01 | D50: FORNECIMENTO E INSTALAÇÃO DE PLACA DE OBRA COM CHAPA GALVANIZADA E ESTRUTURA DE MADEIRA. AF_03/2022_PS | E50: M2 | F50: 16.8 | G50: 474.47 | H50: 7971.1 | I50: 574.11 | J50: 9645.05 | K50: =SUMIF($A$2:$A$429,A50,$J$2:$J$429) -> 16534.37 | L50: =J50/$J$430 -> 0.0045304033 | M50: =L50+M49 -> 0.64501297
A51: 98546U | B51: SINAPI | C51: 2026/01 | D51: IMPERMEABILIZAÇÃO DE SUPERFÍCIE COM MANTA ASFÁLTICA, UMA CAMADA, INCLUSIVE APLICAÇÃO DE PRIMER ASFÁLTICO, E=4MM. AF_09/2023 | E51: M2 | F51: 7.04 | G51: 131.69 | H51: 927.1 | I51: 159.35 | J51: 1121.82 | K51: =SUMIF($A$2:$A$429,A51,$J$2:$J$429) -> 15751.74 | L51: =J51/$J$430 -> 0.0005269332 | M51: =L51+M50 -> 0.6455399
A52: 98546U | B52: SINAPI | C52: 2026/01 | D52: IMPERMEABILIZAÇÃO DE SUPERFÍCIE COM MANTA ASFÁLTICA, UMA CAMADA, INCLUSIVE APLICAÇÃO DE PRIMER ASFÁLTICO, E=4MM. AF_09/2023 | E52: M2 | F52: 91.81 | G52: 131.69 | H52: 12090.46 | I52: 159.35 | J52: 14629.92 | K52: =SUMIF($A$2:$A$429,A52,$J$2:$J$429) -> 15751.74 | L52: =J52/$J$430 -> 0.0068718605 | M52: =L52+M51 -> 0.65241176
A53: 88485U | B53: SINAPI | C53: 2026/01 | D53: FUNDO SELADOR ACRÍLICO, APLICAÇÃO MANUAL EM PAREDE, UMA DEMÃO. AF_04/2023 | E53: M2 | F53: 8 | G53: 5.27 | H53: 42.16 | I53: 6.38 | J53: 51.04 | K53: =SUMIF($A$2:$A$429,A53,$J$2:$J$429) -> 15350.27 | L53: =J53/$J$430 -> 2.3974141e-05 | M53: =L53+M52 -> 0.65243573
A54: 88485U | B54: SINAPI | C54: 2026/01 | D54: FUNDO SELADOR ACRÍLICO, APLICAÇÃO MANUAL EM PAREDE, UMA DEMÃO. AF_04/2023 | E54: M2 | F54: 12.3 | G54: 5.27 | H54: 64.82 | I54: 6.38 | J54: 78.47 | K54: =SUMIF($A$2:$A$429,A54,$J$2:$J$429) -> 15350.27 | L54: =J54/$J$430 -> 3.6858363e-05 | M54: =L54+M53 -> 0.65247259
... A134: 102162U | B134: SINAPI | C134: 2026/01 | D134: INSTALAÇÃO DE VIDRO LISO INCOLOR, E = 4 MM, EM ESQUADRIA DE ALUMÍNIO OU PVC, FIXADO COM BAGUETE. AF_01/2021_PS | E134: M2 | F134: 11.7 | G134: 346.07 | H134: 4049.02 | I134: 418.75 | J134: 4899.38 | K134: =SUMIF($A$2:$A$429,A134,$J$2:$J$429) -> 4899.38 | L134: =J134/$J$430 -> 0.0023013014 | M134: =L134+M133 -> 0.87754547
A135: 86941U/CPU | D135: LAVATÓRIO LOUÇA BRANCA COM COLUNA, 45 X 55CM OU EQUIVALENTE, PADRÃO MÉDIO, INCLUSO SIFÃO TIPO GARRAFA, VÁLVULA E ENGATE FLEXÍVEL DE 40CM EM METAL CROMADO, PADRÃO MÉDIO - FORNECIMENTO E INSTALAÇÃO. AF_01/2020 | E135: UN | F135: 6 | G135: 673.33 | H135: 4039.98 | I135: 814.73 | J135: 4888.38 | K135: =SUMIF($A$2:$A$429,A135,$J$2:$J$429) -> 4888.38 | L135: =J135/$J$430 -> 0.0022961346 | M135: =L135+M134 -> 0.8798416
A136: 16.109.000103.SERU | B136: PINI-N | C136: 2026/02 | D136: Disjuntor tripolar compacto > 63 A até 100 A com acionamento na porta do quadro de distribuição | E136: UN | F136: 4 | G136: 994.02 | H136: 3976.08 | I136: 1202.77 | J136: 4811.08 | K136: =SUMIF($A$2:$A$429,A136,$J$2:$J$429) -> 4811.08 | L136: =J136/$J$430 -> 0.0022598258 | M136: =L136+M135 -> 0.88210143
