Workbook

Sheet RESUMO
A2: Prefeitura Municipal de Indaiatuba
A3: SECRETARIA MUNICIPAL DE PLANEJAMENTO URBANO E ENGENHARIA
A5: Estado de São Paulo
A7: OBRA: FECHAMENTO LATERAL DA PISCINA DO CENTRO ESPORTIVO JARDIM MORADA DO SOL REI PELÉ
A8: =CRONOGRAMA!A8 -> Endereço: Estrada General Motors, 320 - Caldeira, Indaiatuba - SP
A10: RESUMO GERAL
C12: orçamento sintético | D12: valor ( R$ ) | E12: percentual ( % )
A15: REFORMA | C15: Material | D15: 1599056 | E15: =D15/D17 -> 0.76509458
C16: Mão de obra | D16: 490954.89 | E16: =D16/D17 -> 0.23490542
C17: Total | D17: =SUM(D15:D16) -> 2090010.9 | E17: =SUM(E15:E16) -> 1
A22: Indaiatuba, 02 de abril de 2026

Sheet ORÇAMENTO
K1: Data: 02/04/2026
B2: PREFEITURA MUNICIPAL DE INDAIATUBA
B3: SECRETARIA MUNICIPAL DE PLANEJAMENTO URBANO E ENGENHARIA
B4: Estado de São Paulo
H5: TAXAS: BDI= 21,00% |LS= 115,01%
B6: OBRA : | C6: FECHAMENTO LATERAL DA PISCINA DO CENTRO ESPORTIVO JARDIM MORADA DO SOL REI PELÉ
B7: ORÇAMENTO : | C7: FECHAMENTO LATERAL DA PISCINA DO CENTRO ESPORTIVO JARDIM MORADA DO SOL REI PELÉ
B8: LOCAL : | C8: Estrada General Motors, 320 - Caldeira, Indaiatuba - SP
B9: CÓDIGO | C9: FONTE | D9: DATA BASE | E9: DESCRIÇÃO | F9: UNID | G9: QUANT. | H9: PREÇO UNITÁRIO SEM BDI (R$) | I9: PREÇO TOTAL SEM BDI (R$) | J9: PREÇO UNITÁRIO COM BDI (R$) | K9: PREÇO TOTAL COM BDI (R$)
B10: 1 | C10: SERVIÇOS INICIAIS
B11: 01.01 | C11: ADMINISTRAÇÃO DE OBRA
A12: =LEN(B12) -> 5 | B12: CPU01 | C12: =IFERROR(VLOOKUP(A12,$B$237:$D$252,2,FALSE),"") -> COMPOSICAO | D12: =IFERROR(VLOOKUP(A12,$B$237:$D$252,3,FALSE),"") -> 2026/01 | E12: ADMINISTRAÇÃO LOCAL | F12: UN | G12: 1 | H12: =ROUND(J12/1.21,2) -> 247661.9 | I12: =ROUND(G12*H12,2) -> 247661.9 | J12: 299670.9 | K12: =ROUND(G12*J12,2) -> 299670.9 | L12: VIGIA NOTURNO TODOS OS DIAS DA SEMANA E VIGIA DIURNO E NOTURNO NOS FINAIS DE SEMANA PARA 6 MESES DE OBRA
A13: =LEN(B13) -> 15 | B13: 01.17.031/CDHUU | C13: =IFERROR(VLOOKUP(A13,$B$237:$D$252,2,FALSE),"") -> CPOS | D13: =IFERROR(VLOOKUP(A13,$B$237:$D$252,3,FALSE),"") -> 2025/11 | E13: Projeto executivo de arquitetura em formato A1 | F13: UN | G13: 4 | H13: =ROUND(J13/1.21,2) -> 3844.02 | I13: =ROUND(G13*H13,2) -> 15376.08 | J13: 4651.27 | K13: =ROUND(G13*J13,2) -> 18605.08 | L13: AS BUILT
A14: =LEN(B14) -> 15 | B14: 01.17.051/CDHUU | C14: =IFERROR(VLOOKUP(A14,$B$237:$D$252,2,FALSE),"") -> CPOS | D14: =IFERROR(VLOOKUP(A14,$B$237:$D$252,3,FALSE),"") -> 2025/11 | E14: Projeto executivo de estrutura em formato A1 | F14: UN | G14: 4 | H14: =ROUND(J14/1.21,2) -> 2772.01 | I14: =ROUND(G14*H14,2) -> 11088.04 | J14: 3354.13 | K14: =ROUND(G14*J14,2) -> 13416.52 | L14: ESTRUTURA METÁLICA DA COBERTURA E REFORÇO DA PLATIBANDA
A15: =LEN(B15) -> 16 | B15: SUBTOTAL (ETAPA) | K15: =SUM(K12:K14) -> 331692.5
A16: =LEN(B16) -> 1 | B16: 2 | C16: INSTALAÇÃO DO CANTEIRO DE OBRA
A17: =LEN(B17) -> 5 | B17: 02.01 | C17: DEMOLIÇÕES E RETIRADAS
A18: =LEN(B18) -> 6 | B18: 90444U | C18: =IFERROR(VLOOKUP(A18,$B$237:$D$252,2,FALSE),"") -> SINAPI | D18: =IFERROR(VLOOKUP(A18,$B$237:$D$252,3,FALSE),"") -> 2026/01 | E18: RASGO LINEAR MECANIZADO EM CONTRAPISO, PARA RAMAIS/ DISTRIBUIÇÃO DE INSTALAÇÕES HIDRÁULICAS, DIÂMETROS MENORES OU IGUAIS A 40 MM. AF_09/2023_PS | F18: M | G18: 90 | H18: =ROUND(J18/1.21,2) -> 10.46 | I18: =ROUND(G18*H18,2) -> 941.4 | J18: 12.66 | K18: =ROUND(G18*J18,2) -> 1139.4 | L18: VALA PARA PASSAGEM DA TUBULAÇÃO DE HIDRÁULICA 25 MM
A19: =LEN(B19) -> 6 | B19: 93358U | C19: =IFERROR(VLOOKUP(A19,$B$237:$D$252,2,FALSE),"") -> SINAPI | D19: =IFERROR(VLOOKUP(A19,$B$237:$D$252,3,FALSE),"") -> 2026/01 | E19: ESCAVAÇÃO MANUAL DE VALA. AF_09/2024 | F19: M3 | G19: 2.3 | H19: =ROUND(J19/1.21,2) -> 123.25 | I19: =ROUND(G19*H19,2) -> 283.48 | J19: 149.13 | K19: =ROUND(G19*J19,2) -> 343 | L19: VALA PARA PASSAGEM DAS TUBULAÇÕES DE ESGOTO E ÁGUAS PLUVIAIS
A20: =LEN(B20) -> 6 | B20: 97631U | C20: =IFERROR(VLOOKUP(A20,$B$237:$D$252,2,FALSE),"") -> SINAPI | D20: =IFERROR(VLOOKUP(A20,$B$237:$D$252,3,FALSE),"") -> 2026/01 | E20: DEMOLIÇÃO DE ARGAMASSAS, DE FORMA MANUAL, SEM REAPROVEITAMENTO. AF_09/2023 | F20: M2 | G20: 26 | H20: =ROUND(J20/1.21,2) -> 16.19 | I20: =ROUND(G20*H20,2) -> 420.94 | J20: 19.59 | K20: =ROUND(G20*J20,2) -> 509.34 | L20: DEMOLIÇÃO DO REVESTIMENTO DA PAREDE DA ESCADA DA CASA DE MAQUINAS
A21: =LEN(B21) -> 6 | B21: 97914U | C21: =IFERROR(VLOOKUP(A21,$B$237:$D$252,2,FALSE),"") -> SINAPI | D21: =IFERROR(VLOOKUP(A21,$B$237:$D$252,3,FALSE),"") -> 2026/01 | E21: TRANSPORTE COM CAMINHÃO BASCULANTE DE 6 M³, EM VIA URBANA PAVIMENTADA, DMT ATÉ 30 KM (UNIDADE: M3XKM). AF_07/2020 | F21: M3XKM | G21: 101.4 | H21: =ROUND(J21/1.21,2) -> 3.25 | I21: =ROUND(G21*H21,2) -> 329.55 | J21: 3.93 | K21: =ROUND(G21*J21,2) -> 398.5 | L21: TRANSPORTE DOS GRADIS RETIRADOS ATÉ A SEMOP
A22: =LEN(B22) -> 6 | B22: 98525U | C22: =IFERROR(VLOOKUP(A22,$B$237:$D$252,2,FALSE),"") -> SINAPI | D22: =IFERROR(VLOOKUP(A22,$B$237:$D$252,3,FALSE),"") -> 2026/01 | E22: LIMPEZA MECANIZADA DE CAMADA VEGETAL, VEGETAÇÃO E PEQUENAS ÁRVORES (DIÂMETRO DE TRONCO MENOR QUE 0,20 M), COM TRATOR DE ESTEIRAS. AF_03/2024 | F22: M2 | G22: 50 | H22: =ROUND(J22/1.21,2) -> 0.76 | I22: =ROUND(G22*H22,2) -> 38 | J22: 0.92 | K22: =ROUND(G22*J22,2) -> 46 | L22: LIMPEZA DA GRAMA ONDE SERÁ FEITA A COBERTURA
A23: =LEN(B23) -> 7 | B23: 100981U | C23: =IFERROR(VLOOKUP(A23,$B$237:$D$252,2,FALSE),"") -> SINAPI | D23: =IFERROR(VLOOKUP(A23,$B$237:$D$252,3,FALSE),"") -> 2026/01 | E23: CARGA, MANOBRA E DESCARGA DE ENTULHO EM CAMINHÃO BASCULANTE 6 M³ - CARGA COM ESCAVADEIRA HIDRÁULICA (CAÇAMBA DE 0,80 M³ / 111 HP) E DESCARGA LIVRE (UNIDADE: M3). AF_07/2020 | F23: M3 | G23: 9.57 | H23: =ROUND(J23/1.21,2) -> 10.44 | I23: =ROUND(G23*H23,2) -> 99.91 | J23: 12.63 | K23: =ROUND(G23*J23,2) -> 120.87 | L23: CARGA DOS GRADIS RETIRADOS
A24: =LEN(B24) -> 7 | B24: 104790U | C24: =IFERROR(VLOOKUP(A24,$B$237:$D$252,2,FALSE),"") -> SINAPI | D24: =IFERROR(VLOOKUP(A24,$B$237:$D$252,3,FALSE),"") -> 2026/01 | E24: DEMOLIÇÃO DE PISO DE CONCRETO SIMPLES, DE FORMA MECANIZADA COM MARTELETE, SEM REAPROVEITAMENTO. AF_09/2023 | F24: M3 | G24: 3.5 | H24: =ROUND(J24/1.21,2) -> 132.89 | I24: =ROUND(G24*H24,2) -> 465.12 | J24: 160.8 | K24: =ROUND(G24*J24,2) -> 562.8 | L24: DEMOLIÇÃO DE PISO DA PISCINA P/ PISO DUCHA, BALDRAME, SAPATAS E PILARES DE REFORÇO DA PLATIBANDA
A25: =LEN(B25) -> 15 | B25: 04.09.100/CDHUU | C25: =IFERROR(VLOOKUP(A25,$B$237:$D$252,2,FALSE),"") -> CPOS | D25: =IFERROR(VLOOKUP(A25,$B$237:$D$252,3,FALSE),"") -> 2025/11 | E25: Retirada de guarda-corpo ou gradil em geral | F25: M2 | G25: 147.17 | H25: =ROUND(J25/1.21,2) -> 46.93 | I25: =ROUND(G25*H25,2) -> 6906.69 | J25: 56.78 | K25: =ROUND(G25*J25,2) -> 8356.31 | L25: RETIRADA DOS GRADIS LATERAIS CONFORME PLANTA QUANTITATIVO
A26: =LEN(B26) -> 15 | B26: 05.07.040/CDHUU | C26: =IFERROR(VLOOKUP(A26,$B$237:$D$252,2,FALSE),"") -> CPOS | D26: =IFERROR(VLOOKUP(A26,$B$237:$D$252,3,FALSE),"") -> 2025/11 | E26: Remoção de entulho separado de obra com caçamba metálica - terra, alvenaria, concreto, argamassa, madeira, papel, plástico ou metal | F26: M3 | G26: 20 | H26: =ROUND(J26/1.21,2) -> 117.21 | I26: =ROUND(G26*H26,2) -> 2344.2 | J26: 141.83 | K26: =ROUND(G26*J26,2) -> 2836.6 | L26: REMOÇÃO DO ENTULHO GERAL DA OBRA
A27: =LEN(B27) -> 5 | B27: 02.02 | C27: TAPUMES E ALOJAMENTOS
A28: =LEN(B28) -> 6 | B28: 104896 | C28: SINAPI | D28: 2025/11 | E28: COMPOSIÇÃO PARAMÉTRICA DE EXECUÇÃO DE REFEITÓRIO EM CANTEIRO DE OBRAS, FORA DA PROJEÇÃO DA LAJE, EM CHAPA DE MADEIRA COMPENSADA, NÃO INCLUSO MOBILIÁRIO E EQUIPAMENTOS | F28: M2 | G28: 20 | H28: =ROUND(J28/1.21,2) -> 805.87 | I28: =ROUND(G28*H28,2) -> 16117.4 | J28: 975.1 | K28: =ROUND(G28*J28,2) -> 19502 | L28: REFEITÓRIO PARA OS FUNCIONÁRIOS
A29: =LEN(B29) -> 6 | B29: 98459U | C29: =IFERROR(VLOOKUP(A29,$B$237:$D$252,2,FALSE),"") -> SINAPI | D29: =IFERROR(VLOOKUP(A29,$B$237:$D$252,3,FALSE),"") -> 2026/01 | E29: TAPUME COM TELHA METÁLICA. AF_03/2024 | F29: M2 | G29: 180.5 | H29: =ROUND(J29/1.21,2) -> 96.36 | I29: =ROUND(G29*H29,2) -> 17392.98 | J29: 116.6 | K29: =ROUND(G29*J29,2) -> 21046.3 | L29: TAPUME NO ENTORNO DE TODA OBRA CONFORME PLANTA QUANTITATIVO
A30: =LEN(B30) -> 7 | B30: 103689U | C30: =IFERROR(VLOOKUP(A30,$B$237:$D$252,2,FALSE),"") -> SINAPI | D30: =IFERROR(VLOOKUP(A30,$B$237:$D$252,3,FALSE),"") -> 2026/01 | E30: FORNECIMENTO E INSTALAÇÃO DE PLACA DE OBRA COM CHAPA GALVANIZADA E ESTRUTURA DE MADEIRA. AF_03/2022_PS | F30: M2 | G30: 6 | H30: =ROUND(J30/1.21,2) -> 474.47 | I30: =ROUND(G30*H30,2) -> 2846.82 | J30: 574.11 | K30: =ROUND(G30*J30,2) -> 3444.66 | L30: PLACA DE OBRA
A31: =LEN(B31) -> 15 | B31: 02.02.140/CDHUU | C31: =IFERROR(VLOOKUP(A31,$B$237:$D$252,2,FALSE),"") -> CPOS | D31: =IFERROR(VLOOKUP(A31,$B$237:$D$252,3,FALSE),"") -> 2025/11 | E31: Locação de container tipo sanitário com 2 vasos sanitários, 2 lavatórios, 2 mictórios e 4 pontos para chuveiro - área mínima de 13,80 m² | F31: unmes | G31: 6 | H31: =ROUND(J31/1.21,2) -> 1563.31 | I31: =ROUND(G31*H31,2) -> 9379.86 | J31: 1891.61 | K31: =ROUND(G31*J31,2) -> 11349.66 | L31: BANHEIRO PARA UTILIZAÇÃO DOS FUNCIONÁRIOS DA OBRA
A32: =LEN(B32) -> 15 | B32: 02.02.150/CDHUU | C32: =IFERROR(VLOOKUP(A32,$B$237:$D$252,2,FALSE),"") -> CPOS | D32: =IFERROR(VLOOKUP(A32,$B$237:$D$252,3,FALSE),"") -> 2025/11 | E32: Locação de container tipo depósito - área mínima de 13,80 m² | F32: unmes | G32: 6 | H32: =ROUND(J32/1.21,2) -> 1019.25 | I32: =ROUND(G32*H32,2) -> 6115.5 | J32: 1233.29 | K32: =ROUND(G32*J32,2) -> 7399.74 | L32: CONTAINER PARA ARMAZENADMENTO DE FERRAMENTAS E MATERIAIS
A33: =LEN(B33) -> 15 | B33: 02.05.060/CDHUU | C33: =IFERROR(VLOOKUP(A33,$B$237:$D$252,2,FALSE),"") -> CPOS | D33: =IFERROR(VLOOKUP(A33,$B$237:$D$252,3,FALSE),"") -> 2025/11 | E33: Montagem e desmontagem de andaime torre metálica com altura até 10 m | F33: M | G33: 100 | H33: =ROUND(J33/1.21,2) -> 15.71 | I33: =ROUND(G33*H33,2) -> 1571 | J33: 19.01 | K33: =ROUND(G33*J33,2) -> 1901 | L33: ANDAIME PARA PINTURA, MONTAGEM DA PELE DE VIDRO E ACM
A34: =LEN(B34) -> 15 | B34: 02.05.202/CDHUU | C34: =IFERROR(VLOOKUP(A34,$B$237:$D$252,2,FALSE),"") -> CPOS | D34: =IFERROR(VLOOKUP(A34,$B$237:$D$252,3,FALSE),"") -> 2025/11 | E34: Andaime torre metálico (1,5 x 1,5 m) com piso metálico | F34: MXMES | G34: 100 | H34: =ROUND(J34/1.21,2) -> 30.87 | I34: =ROUND(G34*H34,2) -> 3087 | J34: 37.35 | K34: =ROUND(G34*J34,2) -> 3735 | L34: ANDAIME PARA PINTURA, MONTAGEM DA PELE DE VIDRO E ACM
A35: =LEN(B35) -> 5 | B35: 02.03 | C35: LOCAÇÃO DE OBRA
A36: =LEN(B36) -> 15 | B36: 02.10.020/CDHUU | C36: =IFERROR(VLOOKUP(A36,$B$237:$D$252,2,FALSE),"") -> CPOS | D36: =IFERROR(VLOOKUP(A36,$B$237:$D$252,3,FALSE),"") -> 2025/11 | E36: Locação de obra de edificação | F36: M2 | G36: 60.22 | H36: =ROUND(J36/1.21,2) -> 19.38 | I36: =ROUND(G36*H36,2) -> 1167.06 | J36: 23.45 | K36: =ROUND(G36*J36,2) -> 1412.16 | L36: LOCAÇÃO DO LOCAL ONDE SERÁ REALIZADA A COBERTURA LATERAL NOVA
A37: =LEN(B37) -> 16 | B37: SUBTOTAL (ETAPA) | K37: =SUM(K18:K36) -> 84103.34
A38: =LEN(B38) -> 1 | B38: 3 | C38: INFRAESTRUTURA
A39: =LEN(B39) -> 5 | B39: 03.01 | C39: SERVIÇOS GERAIS DE FUNDAÇÃO - COBERTURA LATERAL
A40: =LEN(B40) -> 6 | B40: 93382U | C40: =IFERROR(VLOOKUP(A40,$B$237:$D$252,2,FALSE),"") -> SINAPI | D40: =IFERROR(VLOOKUP(A40,$B$237:$D$252,3,FALSE),"") -> 2026/01 | E40: REATERRO MANUAL DE VALAS, COM COMPACTADOR DE SOLOS DE PERCUSSÃO. AF_08/2023 | F40: M3 | G40: 13.4 | H40: =ROUND(J40/1.21,2) -> 35.72 | I40: =ROUND(G40*H40,2) -> 478.65 | J40: 43.22 | K40: =ROUND(G40*J40,2) -> 579.15 | L40: REATERRO DAS VALAS DAS SAPATAS
...

Sheet CRONOGRAMA
A1: PREFETURA MUNICIPAL DE INDAIATUBA
A2: SECRETARIA MUNICIPAL DE PLANEJAMENTO URBANO E ENGENHARIA
A3: Estado de São Paulo
A5: CRONOGRAMA FÍSICO - FINANCEIRO
A6: Obra: FECHAMENTO DA PISCINA DO CENTRO ESPORTIVO JARDIM MORADA DO SOL REI PELÉ
A7: Orçamento: FECHAMENTO DA PISCINA DO CENTRO ESPORTIVO JARDIM MORADA DO SOL REI PELÉ
A8: Endereço: Estrada General Motors, 320 - Caldeira, Indaiatuba - SP
A9: ETAPAS | B9: V. dos Serv. | C9: % | D9: Mês 01 | E9: Mês 02 | F9: Mês 03 | G9: Mês 04 | H9: Mês 05 | I9: Mês 06
B10: R$ | D10: R$ | E10: R$ | F10: R$ | G10: R$ | H10: R$ | I10: R$
A11: =ORÇAMENTO!C10 -> SERVIÇOS INICIAIS | B11: =ORÇAMENTO!K15 -> 331692.5 | C11: =B11*100/$B$27 -> 15.870372 | D11: =$B$11/6 -> 55282.083 | E11: =D11 -> 55282.083 | F11: =E11 -> 55282.083 | G11: =F11 -> 55282.083 | H11: =G11 -> 55282.083 | I11: =H11 -> 55282.083 | J11: =SUM(D11:I11) -> 331692.5
A12: =ORÇAMENTO!C16 -> INSTALAÇÃO DO CANTEIRO DE OBRA | B12: =ORÇAMENTO!K37 -> 84103.34 | C12: =B12*100/$B$27 -> 4.0240623 | D12: =B12 -> 84103.34 | J12: =SUM(D12:I12) -> 84103.34
A13: =ORÇAMENTO!C38 -> INFRAESTRUTURA | B13: =ORÇAMENTO!K73 -> 54580.52 | C13: =B13*100/$B$27 -> 2.6114945 | D13: =B13*0.4 -> 21832.208 | E13: =B13*0.6 -> 32748.312 | J13: =SUM(D13:I13) -> 54580.52
A14: =ORÇAMENTO!C74 -> PAREDES E PAINÉIS | B14: =ORÇAMENTO!K77 -> 7932.98 | C14: =B14*100/$B$27 -> 0.37956644 | F14: =B14 -> 7932.98 | J14: =SUM(D14:I14) -> 7932.98
A15: =ORÇAMENTO!C78 -> ESQUADRIAS METÁLICAS | B15: =ORÇAMENTO!K88 -> 136153.37 | C15: =B15*100/$B$27 -> 6.5144813 | E15: =B15/2 -> 68076.685 | F15: =B15/2 -> 68076.685 | J15: =SUM(D15:I15) -> 136153.37
A16: =ORÇAMENTO!C89 -> COBERTURA | B16: =ORÇAMENTO!K104 -> 61681.4 | C16: =B16*100/$B$27 -> 2.9512478 | E16: =B16 -> 61681.4 | J16: =SUM(D16:I16) -> 61681.4
A17: =ORÇAMENTO!C105 -> REVESTIMENTO DE PAREDES INTERNAS | B17: =ORÇAMENTO!K111 -> 12868.46 | C17: =B17*100/$B$27 -> 0.61571258 | G17: =B17 -> 12868.46 | J17: =SUM(D17:I17) -> 12868.46
A18: =ORÇAMENTO!C112 -> IMPERMEABILIZAÇÃO | B18: =ORÇAMENTO!K119 -> 16393.56 | C18: =B18*100/$B$27 -> 0.78437677 | G18: =B18 -> 16393.56 | J18: =SUM(D18:I18) -> 16393.56
A19: =ORÇAMENTO!C120 -> PAINÉIS DE FECHAMENTO | B19: =ORÇAMENTO!K135 -> 1211580.5 | C19: =B19*100/$B$27 -> 57.970058 | F19: =B19/3 -> 403860.18 | G19: =B19/3 -> 403860.18 | H19: =B19/3 -> 403860.18 | J19: =SUM(D19:I19) -> 1211580.5
A20: =ORÇAMENTO!C136 -> PISOS INTERNOS | B20: =ORÇAMENTO!K146 -> 27820.11 | C20: =B20*100/$B$27 -> 1.3310988 | H20: =B20 -> 27820.11 | J20: =SUM(D20:I20) -> 27820.11
A21: =ORÇAMENTO!C147 -> INSTALAÇÕES HIDRÁULICAS | B21: =ORÇAMENTO!K169 -> 21875.69 | C21: =B21*100/$B$27 -> 1.0466783 | D21: =B21/2 -> 10937.845 | E21: =B21/2 -> 10937.845 | J21: =SUM(D21:I21) -> 21875.69
A22: =ORÇAMENTO!C170 -> INSTALAÇÕES ELÉTRICAS | B22: =ORÇAMENTO!K201 -> 40048.14 | C22: =B22*100/$B$27 -> 1.916169 | E22: =B22/2 -> 20024.07 | F22: =B22/2 -> 20024.07 | J22: =SUM(D22:I22) -> 40048.14
A23: =ORÇAMENTO!C202 -> PINTURA | B23: =ORÇAMENTO!K212 -> 34583.9 | C23: =B23*100/$B$27 -> 1.6547234 | G23: =B23 -> 34583.9 | J23: =SUM(D23:I23) -> 34583.9
A24: =ORÇAMENTO!C213 -> SERVIÇOS EXTERNOS | B24: =ORÇAMENTO!K228 -> 23074.74 | C24: =B24*100/$B$27 -> 1.1040488 | H24: =B24/2 -> 11537.37 | I24: =B24/2 -> 11537.37 | J24: =SUM(D24:I24) -> 23074.74
A25: =ORÇAMENTO!C229 -> LIMPEZA DE OBRA | B25: =ORÇAMENTO!K233 -> 25621.65 | C25: =B25*100/$B$27 -> 1.2259099 | I25: =B25 -> 25621.65 | J25: =SUM(D25:I25) -> 25621.65
A26: Sub Total Mensal | B26: =IFERROR(VLOOKUP(#REF!,ORÇAMENTO!$B$10:$K$235,3,FALSE),"") | D26: =SUM(D11:D25) -> 172155.48 | E26: =SUM(E11:E25) -> 248750.4 | F26: =SUM(F11:F25) -> 555176 | G26: =SUM(G11:G25) -> 522988.18 | H26: =SUM(H11:H25) -> 498499.74 | I26: =SUM(I11:I25) -> 92441.103 | J26: =SUM(D26:I26) -> 2090010.9
A27: Total Acumulado | B27: =SUM(B11:B25) -> 2090010.9 | C27: =SUM(C11:C25) -> 100 | D27: =D26 -> 172155.48 | E27: =D27+E26 -> 420905.87 | F27: =E27+F26 -> 976081.87 | G27: =F27+G26 -> 1499070.1 | H27: =G27+H26 -> 1997569.8 | I27: =H27+I26 -> 2090010.9
B28: =IFERROR(VLOOKUP(SUBTOTAL (ETAPA),ORÇAMENTO!$B$10:$K$235,10,FALSE),"")
A29: % Físico Mês | B29: =IFERROR(VLOOKUP(SUBTOTAL (ETAPA),ORÇAMENTO!$B$10:$K$235,10,FALSE),"") | D29: =D26/$B$27 -> 0.082370612 | E29: =E26/$B$27 -> 0.11901871 | F29: =F26/$B$27 -> 0.26563306 | G29: =G26/$B$27 -> 0.25023228 | H29: =H26/$B$27 -> 0.23851538 | I29: =I26/$B$27 -> 0.044229962
A30: % Físico Acumulado | B30: =IFERROR(VLOOKUP(SUBTOTAL (ETAPA),ORÇAMENTO!$B$10:$K$235,10,FALSE),"") | D30: =D27/B27 -> 0.082370612 | E30: =D30+E29 -> 0.20138932 | F30: =E30+F29 -> 0.46702238 | G30: =F30+G29 -> 0.71725466 | H30: =G30+H29 -> 0.95577004 | I30: =H30+I29 -> 1
A31: % Financeiro Mês | B31: =IFERROR(VLOOKUP(SUBTOTAL (ETAPA),ORÇAMENTO!$B$10:$K$235,10,FALSE),"") | D31: =D29 -> 0.082370612 | E31: =E29 -> 0.11901871 | F31: =F29 -> 0.26563306 | G31: =G29 -> 0.25023228 | H31: =H29 -> 0.23851538 | I31: =I29 -> 0.044229962
A32: % Financeiro Acumulado | B32: =IFERROR(VLOOKUP(SUBTOTAL (ETAPA),ORÇAMENTO!$B$10:$K$235,10,FALSE),"") | D32: =D30 -> 0.082370612 | E32: =E30 -> 0.20138932 | F32: =F30 -> 0.46702238 | G32: =G30 -> 0.71725466 | H32: =H30 -> 0.95577004 | I32: =I30 -> 1
A35: Indaiatuba, 02 de abril de 2026

Sheet COMPOSIÇÕES
F1: Data: 02/04/2026
A2: PREFEITURA MUNICIPAL DE INDAIATUBA
A3: SECRETARIA MUNICIPAL DE PLANEJAMENTO URBANO E ENGENHARIA
A4: Estado de São Paulo
E5: TAXAS: BDI= 21,00% |LS= 115,48%
A6: OBRA : | B6: FECHAMENTO DA PISCINA DO CENTRO ESPORTIVO JARDIM MORADA DO SOL REI PELÉ
A7: ORÇAMENTO : | B7: FECHAMENTO DA PISCINA DO CENTRO ESPORTIVO JARDIM MORADA DO SOL REI PELÉ
A8: LOCAL : | B8: =ORÇAMENTO!C8 -> Estrada General Motors, 320 - Caldeira, Indaiatuba - SP
A9: CÓDIGO | B9: DESCRIÇÃO | C9: CLASS | D9: UNIDADE | E9: COEF. | F9: PREÇO(R$) | G9: PREÇO TOTAL (R$)
A10: 1 | B10: SERVIÇOS INICIAIS
A11: 01.01 | B11: ADMINISTRAÇÃO DE OBRA
A12: CPU01 | B12: ADMINISTRAÇÃO LOCAL | C12: SER.CG | D12: UN
A13: 100289U | B13: VIGIA DIURNO COM ENCARGOS COMPLEMENTARES | C13: SER.CG | D13: H | E13: 576 | F13: 20.45 | G13: 11777.45
A14: 90778U | B14: ENGENHEIRO CIVIL DE OBRA PLENO COM ENCARGOS COMPLEMENTARES | C14: SER.CG | D14: H | E14: 132 | F14: 71.61 | G14: 9452.57
A15: 90780U | B15: MESTRE DE OBRAS COM ENCARGOS COMPLEMENTARES | C15: SER.CG | D15: H | E15: 1056 | F15: 44.12 | G15: 46590.59
A16: CPU4 | B16: VIGIA NOTURNO COM ENCARGOS COMPLEMENTARES (H) | C16: SER.CG | D16: H | E16: 2160 | F16: 37.39 | G16: 80767.45
A17: PREÇO (mão-de-obra): | G17: 86143.67
A18: PREÇO (material): | G18: 62444.39
A19: PREÇO TOTAL (unit.): | G19: 148588.06
A20: LS(%): 115,01 | G20: 99073.84
A21: BDI(%): 21,00 | G21: 52009
A22: ADM(%): 0,00 | G22: 0
A23: TOTAL TAXA: | G23: 151082.84
A24: PREÇO TOTAL UNIT. (c/ taxa): | G24: =ROUND(G19+G23,2) -> 299670.9
A25: QUANTIDADE: | G25: 1
A26: PREÇO TOTAL (c/ taxa): | G26: =ROUND(G24*G25,2) -> 299670.9
A28: 01.17.031/CDHUU | B28: Projeto executivo de arquitetura em formato A1 | C28: SER.CG | D28: UN
A29: 90768U | B29: ARQUITETO DE OBRA JUNIOR COM ENCARGOS COMPLEMENTARES | C29: SER.CG | D29: H | E29: 3 | F29: 68.13 | G29: 204.4
A30: 90770U | B30: ARQUITETO DE OBRA SENIOR COM ENCARGOS COMPLEMENTARES | C30: SER.CG | D30: H | E30: 2.2 | F30: 75.96 | G30: 167.11
A31: 90775U | B31: DESENHISTA PROJETISTA COM ENCARGOS COMPLEMENTARES | C31: SER.CG | D31: H | E31: 18 | F31: 38.14 | G31: 686.58
A32: B.01.000.020112/CDHU | B32: Coordenador de projetos | C32: M.O. | D32: H | E32: 1.4 | F32: 165.81 | G32: 232.13
A33: B.01.000.020121/CDHU | B33: Projetista pleno - nível técnico | C33: M.O. | D33: H | E33: 11 | F33: 53.93 | G33: 593.23
A34: PREÇO (mão-de-obra): | G34: 1704.7
A35: PREÇO (material): | G35: 178.75
A36: PREÇO TOTAL (unit.): | G36: 1883.45
A37: LS(%): 115,01 | G37: 1960.57
A38: BDI(%): 21,00 | G38: 807.25
A39: ADM(%): 0,00 | G39: 0
A40: TOTAL TAXA: | G40: 2767.82
A41: PREÇO TOTAL UNIT. (c/ taxa): | G41: =ROUND(G36+G40,2) -> 4651.27
...

Sheet COTAÇÕES
A1: COT01 | B1: VÁLVULA REDUTORA DE PRESSÃO 3/4 EXTREMIDADES COM ROSCA
A2: EMPRESA | B2: CNPJ | C2: VENDEDOR | D2: CONTATO | E2: DATA | F2: PREÇO TOTAL
A3: LEROY MERLIN | F3: =216.77+18.3 -> 235.07
A4: AMAZON | F4: 216.77
A5: ELETROHIDRO | F5: =152.9+20.51 -> 173.41
A6: PREÇO ADOTADO | F6: =MEDIAN(F3:F5) -> 216.77

Sheet CURVA ABC
A1: CÓDIGO | B1: DESCRIÇÃO | C1: CLASS | D1: UNIDADE | E1: QUANT. | F1: PR.UNIT(R$) | G1: PR.TOTAL(R$) | H1: PART.(%) | I1: PART.ACUM.(%)
A2: 25.01.450/CDHUU | B2: Caixilho em alumínio para pele de vidro, tipo fachada | C2: SER.CG | D2: M2 | E2: 419.75 | F2: 1733.32 | G2: 727562.91 | H2: 34.4459 | I2: 34.4459 | J2: =E2/2 -> 209.875
A3: CPU01 | B3: ADMINISTRAÇÃO LOCAL | C3: SER.CG | D3: UN | E3: 1 | F3: 322984.39 | G3: 322984.39 | H3: 15.2914 | I3: 49.7373
A4: 21.03.151/CDHUU | B4: Revestimento em placa de alumínio composto "ACM", espessura de 4 mm e acabamento em PVDF | C4: SER.CG | D4: M2 | E4: 174.77 | F4: 1194.92 | G4: 208836.53 | H4: 9.8872 | I4: 59.6245
A5: 26.01.169/CDHUU | B5: Vidro liso laminado incolor de 8 mm | C5: SER.CG | D5: M2 | E5: 495.7 | F5: 345.95 | G5: 171485.78 | H5: 8.1189 | I5: 67.7433
A6: 25.01.060/CDHUU | B6: Caixilho em alumínio maxim-ar, sob medida | C6: SER.CG | D6: M2 | E6: 49.1 | F6: 1266.36 | G6: 62178.5 | H6: 2.9438 | I6: 70.6871
A7: 32.06.231/CDHUU | B7: Película de controle solar refletiva na cor prata, aplicado em vidros | C7: SER.CG | D7: M2 | E7: 419.75 | F7: 96.79 | G7: 40626.72 | H7: 1.9234 | I7: 72.6105
A8: 15.03.030/CDHUU | B8: Fornecimento e montagem de estrutura em aço ASTM-A36, sem pintura | C8: SER.CG | D8: KG | E8: 1088 | F8: 34.75 | G8: 37809.31 | H8: 1.7901 | I8: 74.4006
A9: 34.05.260/CDHUU | B9: Gradil em aço galvanizado eletrofundido, malha 65 x 132 mm e pintura eletrostática | C9: SER.CG | D9: M2 | E9: 57.79 | F9: 597.83 | G9: 34548.31 | H9: 1.6357 | I9: 76.0363
A10: 25.01.120/CDHUU | B10: Caixilho tipo veneziana industrial com montantes em alumínio e aletas em fibra de vidro | C10: SER.CG | D10: M2 | E10: 56.7 | F10: 607.93 | G10: 34469.53 | H10: 1.6319 | I10: 77.6682
A11: 15.03.131/CDHUU | B11: Fornecimento e montagem de estrutura em aço ASTM-A572 Grau 50, sem pintura | C11: SER.CG | D11: KG | E11: 852 | F11: 37.67 | G11: 32092.54 | H11: 1.5194 | I11: 79.1876
A12: 25.02.020/CDHUU | B12: Porta de entrada de abrir em alumínio, sob medida | C12: SER.CG | D12: M2 | E12: 20.25 | F12: 1375.12 | G12: 27846.2 | H12: 1.3184 | I12: 80.5059
A13: 98459U | B13: TAPUME COM TELHA METÁLICA. AF_03/2024 | C13: SER.CG | D13: M2 | E13: 180.5 | F13: 116.6 | G13: 21045.82 | H13: 0.9964 | I13: 81.5023
A14: 104896 | B14: COMPOSIÇÃO PARAMÉTRICA DE EXECUÇÃO DE REFEITÓRIO EM CANTEIRO DE OBRAS, FORA DA PROJEÇÃO DA LAJE, EM CHAPA DE MADEIRA COMPENSADA, NÃO INCLUSO MOBILIÁRIO E EQUIPAMENTOS | C14: SER.CG | D14: M2 | E14: 20 | F14: 975.1 | G14: 19501.99 | H14: 0.9233 | I14: 82.4256
A15: 101731U | B15: PISO EM PEDRA ASSENTADO SOBRE ARGAMASSA 1:3 (CIMENTO E AREIA). AF_09/2020 | C15: SER.CG | D15: M2 | E15: 44.5 | F15: 437.9 | G15: 19486.35 | H15: 0.9226 | I15: 83.3482
A16: 01.17.031/CDHUU | B16: Projeto executivo de arquitetura em formato A1 | C16: SER.CG | D16: UN | E16: 4 | F16: 4651.27 | G16: 18605.08 | H16: 0.8808 | I16: 84.229
A17: 34.05.300/CDHUU | B17: Portão de correr em grade de aço galvanizado eletrofundida, malha 65 x 132 mm, e pintura eletrostática | C17: SER.CG | D17: M2 | E17: 10.08 | F17: 1427.99 | G17: 14394.18 | H17: 0.6815 | I17: 84.9105
A18: 49.06.560/CDHUU | B18: Grelha com calha e cesto coletor para piso em aço inoxidável, largura de 20 cm | C18: SER.CG | D18: M | E18: 11 | F18: 1284.83 | G18: 14133.13 | H18: 0.6691 | I18: 85.5796
A19: 01.17.051/CDHUU | B19: Projeto executivo de estrutura em formato A1 | C19: SER.CG | D19: UN | E19: 4 | F19: 3354.13 | G19: 13416.54 | H19: 0.6352 | I19: 86.2148
A20: 88489U | B20: PINTURA LÁTEX ACRÍLICA PREMIUM, APLICAÇÃO MANUAL EM PAREDES, DUAS DEMÃOS. AF_04/2023 | C20: SER.CG | D20: M2 | E20: 708 | F20: 18.73 | G20: 13261.67 | H20: 0.6279 | I20: 86.8427
A21: 55.01.100/CDHUU | B21: Limpeza complementar e especial de vidros | C21: SER.CG | D21: M2 | E21: 457.54 | F21: 28.27 | G21: 12936.86 | H21: 0.6125 | I21: 87.4552
A22: 55.01.020/CDHUU | B22: Limpeza final da obra | C22: SER.CG | D22: M2 | E22: 480.75 | F22: 26.39 | G22: 12686.91 | H22: 0.6007 | I22: 88.0558
A23: 02.02.140/CDHUU | B23: Locação de container tipo sanitário com 2 vasos sanitários, 2 lavatórios, 2 mictórios e 4 pontos para chuveiro - área mínima de 13,80 m² | C23: SER.CG | D23: unmes | E23: 6 | F23: 1891.61 | G23: 11349.68 | H23: 0.5373 | I23: 88.5932
A24: 16.113.000906.SERU | B24: Perfilado liso em chapa de aço galvanizado # 22, largura 38 mm x altura 19 mm, com tampa, instalação superior, inclusive conexões | C24: SER.CG | D24: M | E24: 100 | F24: 102.58 | G24: 10258.45 | H24: 0.4857 | I24: 89.0788
A25: 16.13.130/CDHUU | B25: Telhamento em chapa de aço com pintura poliéster, tipo sanduíche, espessura de 0,50 mm, com poliestireno expandido | C25: SER.CG | D25: M2 | E25: 54.4 | F25: 184.49 | G25: 10036.51 | H25: 0.4752 | I25: 89.554
A26: 100725U | B26: PINTURA COM TINTA ALQUÍDICA DE FUNDO E ACABAMENTO (ESMALTE SINTÉTICO GRAFITE) PULVERIZADA SOBRE SUPERFÍCIES METÁLICAS (EXCETO PERFIL) EXECUTADO EM OBRA (POR DEMÃO). AF_01/2020_PE | C26: SER.CG | D26: M2 | E26: 259.56 | F26: 38.59 | G26: 10017.67 | H26: 0.4743 | I26: 90.0283
... A132: 93653U | B132: DISJUNTOR MONOPOLAR TIPO DIN, CORRENTE NOMINAL DE 10A - FORNECIMENTO E INSTALAÇÃO. AF_07/2025 | C132: SER.CG | D132: UN | E132: 1 | F132: 14.5 | G132: 14.5 | H132: 0.0007 | I132: 100
A133: TOTAL GERAL: | H133: 2140081
