Workbook
Name \0: #REF!
Name \0: #REF!
Name \0: #REF!
Name \c: [1]ORCCONTRATO!#REF!
Name \c: [1]ORCCONTRATO!#REF!
Name \c: [1]ORCCONTRATO!#REF!
Name \CC: #REF!
Name \CC: #REF!
Name \CC: #REF!
Name \d: '[2]tabsiurb-jul01'!#REF!
Name \d: '[2]tabsiurb-jul01'!#REF!
Name \d: '[2]tabsiurb-jul01'!#REF!
Name \i: #REF!
Name \i: #REF!
Name \i: #REF!
Name \m: #REF!
Name \m: #REF!
Name \m: #REF!
Name \M1: [3]MEDIÇÃO!#REF!
Name \M1: [3]MEDIÇÃO!#REF!
Name \M1: [3]MEDIÇÃO!#REF!
Name \M10: #REF!
Name \M10: #REF!
Name \M10: #REF!
Name \M11: #REF!
Name \M11: #REF!
Name \M11: #REF!
Name \M12: #REF!
Name \M12: #REF!
Name \M12: #REF!
Name \M13: #REF!
Name \M13: #REF!
Name \M2: #REF!
Name \M2: #REF!
Name \M3: #REF!
Name \M3: #REF!
Name \M4: #REF!
Name \M4: #REF!
Name \M5: #REF!
Name \M5: #REF!
Name \M6: #REF!
Name \M6: #REF!
Name \M7: #REF!
Name \M7: #REF!
Name \M8: #REF!
Name \M8: #REF!
Name \M9: #REF!
Name \M9: #REF!
Name \MM: #REF!
Name \MM: #REF!
Name \O: #REF!
Name \O: #REF!
Name \p: #REF!
Name \p: #REF!
Name \PP: #REF!
Name \PP: #REF!
Name \q: #REF!
Name \q: #REF!
Name \s: '[2]tabsiurb-jul01'!#REF!
Name \s: '[2]tabsiurb-jul01'!#REF!

Sheet CRONOGRAMA
D4: Objeto: Reforma e adequação da Praça Capinzal
D5: Recurso: Emenda Impositiva
B8: CRONOGRAMA FÍSICO FINANCEIRO
B9: ITEM | C9: DESCRIÇÃO DOS SERVIÇOS | D9: VALOR (R$) | F9: MÊS 1 | H9: MÊS 2
F10: PROJETADO | G10: REALIZADO | H10: PROJETADO | I10: REALIZADO
B11: 1 | C11: =ORÇAMENTO!D9 -> SERVIÇOS PRELIMINARES | F11: =F12 -> 12089.39 | H11: =H12 -> 2302.74
D12: =VLOOKUP(B11,ORÇAMENTO!A9:H68,8,0) -> 14392.139 | E12: =D12/$D$24 -> 0.1031808 | F12: 12089.39 | H12: 2302.74
F13: =F12/$D$12 -> 0.83999954 | H13: =H12/$D$12 -> 0.15999985
B14: 2 | C14: =ORÇAMENTO!D15 -> DEMOLIÇÕES E REMOÇÕES | F14: =F15 -> 4395.279 | H14: =H15 -> 1883.691
D15: =VLOOKUP(B14,ORÇAMENTO!A12:H71,8,0) -> 6278.9704 | E15: =D15/$D$24 -> 0.045015491 | F15: 4395.279 | H15: 1883.691
F16: =F15/$D$15 -> 0.69999995 | H16: =H15/$D$15 -> 0.29999998
B17: 3 | C17: =ORÇAMENTO!D24 -> REFORMA E ADEQUAÇÃO | F17: =F18 -> 44523.548 | H17: =H18 -> 66785.322
D18: =VLOOKUP(B17,ORÇAMENTO!A15:H73,8,0) -> 111308.87 | E18: =D18/$D$24 -> 0.79800076 | F18: 44523.548 | H18: 66785.322
F19: =F18/$D$18 -> 0.40000001 | H19: =H18/$D$18 -> 0.60000002
B20: 4 | C20: =ORÇAMENTO!D63 -> SERVIÇOS COMPLEMENTARES | F20: =F21 -> 0 | H20: =H21 -> 7504.69
D21: =VLOOKUP(B20,ORÇAMENTO!A18:H73,8,0) -> 7504.6856 | E21: =D21/$D$24 -> 0.053802945 | H21: 7504.69
H22: =H21/$D$21 -> 1.0000006
B24: Valores totais S/BDI | D24: =SUM(D11:D22) -> 139484.66 | F24: =SUM(F12,F15,F18,F21) -> 61008.217 | H24: =SUM(H12,H15,H18,H21) -> 78476.443
B25: Valores totais C/BDI | D25: =D24*1.2338 -> 172096.17 | F25: =F24*1.2338 -> 75271.938 | H25: =H24*1.2338 -> 96824.235
B26: Valores acumulados C/BDI | F26: =F25 -> 75271.938 | H26: =F26+H25 -> 172096.17
B27: % | F27: =F25/$D$25 -> 0.43738298 | H27: =H25/$D$25 -> 0.56261701
B28: %acumulado | F28: =F27 -> 0.43738298 | H28: =H27+F28 -> 0.99999999
B30: Legenda:
C31: Projetado
C32: Realizado
B35: Kaio Cezar Mariano
B36: Engenheiro civil
B37: CREA-SP 5070869525

Sheet abc
D4: Objeto: REFORMA E ADEQUAÇÃO PRAÇA CAPINZAL
D5: Recurso: Emenda Impositiva
A7: PLANILHA ORÇAMENTÁRIA | J7: % | K7: % ACUMULADO
A8: ITEM | B8: REFERÊNCIA | C8: CÓDIGO | D8: DESCRIÇÃO | E8: UN | F8: QTD | G8: CUSTO UNIT. | H8: CUSTO DO SERVIÇO
A9: 3.1.3 | B9: SINAPI | C9: 94993 | D9: =IF($B9="SINAPI",VLOOKUP($C9,SINAPI08!$A$1:$D$15741,2,0),IF($B9="CDHU",VLOOKUP($C9,CDHU203!$A$8:$F$4122,2,0),IF($B9="SIURB EDIF",VLOOKUP($C9,EDIFJUL26!$A$1:$D$2751,2,0),IF($B9="siurb infra",VLOOKUP($C9,INFRAJUL26!$A$1:$D$935,2,0))))) -> EXECUÇÃO DE PASSEIO (CALÇADA) OU PISO DE CONCRETO COM CONCRETO MOLDADO IN LOCO, USINADO, ACABAMENTO CONVENCIONAL, ESPESSURA 6 CM, ARMADO. AF_08/2022 | E9: =IF($B9="SINAPI",VLOOKUP($C9,SINAPI08!$A$1:$D$15741,3,0),IF($B9="CDHU",VLOOKUP($C9,CDHU203!$A$8:$F$4122,3,0),IF($B9="SIURB EDIF",VLOOKUP($C9,EDIFJUL26!$A$1:$D$2751,3,0),IF($B9="siurb infra",VLOOKUP($C9,INFRAJUL26!$A$1:$D$935,3,0))))) -> M2 | F9: =VLOOKUP(A9,'MEMORIA DE CALCULO'!$A$6:$N$274,14,0) -> 322.6 | G9: =IF($B9="SINAPI",VLOOKUP($C9,SINAPI08!$A$1:$D$15741,4,0),IF($B9="CDHU",VLOOKUP($C9,CDHU203!$A$8:$F$4122,6,0),IF($B9="SIURB EDIF",VLOOKUP($C9,EDIFJUL26!$A$1:$D$2751,4,0),IF($B9="siurb infra",VLOOKUP($C9,INFRAJUL26!$A$1:$D$935,4,0))))) -> 73.71 | H9: =G9*F9 -> 23778.846 | J9: =H9/$H$55 -> 0.17047551 | K9: =J9 -> 0.17047551
A10: 3.1.23 | B10: SIURB EDIF | C10: 18101001 | D10: =IF($B10="SINAPI",VLOOKUP($C10,SINAPI08!$A$1:$D$15741,2,0),IF($B10="CDHU",VLOOKUP($C10,CDHU203!$A$8:$F$4122,2,0),IF($B10="SIURB EDIF",VLOOKUP($C10,EDIFJUL26!$A$1:$D$2751,2,0),IF($B10="siurb infra",VLOOKUP($C10,INFRAJUL26!$A$1:$D$935,2,0))))) -> RV.12 - PISO EMBORRACHADO PARA AMORTECIMENTO DE IMPACTO, ESPESSURA 2,5 CM OU SIMILAR QUE ATENDA ABSORÇÃO DE IMPACTO A QUEDA DE ALTURA DE 1,20M CONFORME NBR 16071 | E10: =IF($B10="SINAPI",VLOOKUP($C10,SINAPI08!$A$1:$D$15741,3,0),IF($B10="CDHU",VLOOKUP($C10,CDHU203!$A$8:$F$4122,3,0),IF($B10="SIURB EDIF",VLOOKUP($C10,EDIFJUL26!$A$1:$D$2751,3,0),IF($B10="siurb infra",VLOOKUP($C10,INFRAJUL26!$A$1:$D$935,3,0))))) -> M2 | F10: =VLOOKUP(A10,'MEMORIA DE CALCULO'!$A$6:$N$274,14,0) -> 35.64 | G10: =IF($B10="SINAPI",VLOOKUP($C10,SINAPI08!$A$1:$D$15741,4,0),IF($B10="CDHU",VLOOKUP($C10,CDHU203!$A$8:$F$4122,6,0),IF($B10="SIURB EDIF",VLOOKUP($C10,EDIFJUL26!$A$1:$D$2751,4,0),IF($B10="siurb infra",VLOOKUP($C10,INFRAJUL26!$A$1:$D$935,4,0))))) -> 359.36 | H10: =G10*F10 -> 12807.59 | J10: =H10/$H$55 -> 0.091820291 | K10: =J10+K9 -> 0.26229581
A11: 3.1.21 | B11: SIURB EDIF | C11: 17001033 | D11: =IF($B11="SINAPI",VLOOKUP($C11,SINAPI08!$A$1:$D$15741,2,0),IF($B11="CDHU",VLOOKUP($C11,CDHU203!$A$8:$F$4122,2,0),IF($B11="SIURB EDIF",VLOOKUP($C11,EDIFJUL26!$A$1:$D$2751,2,0),IF($B11="siurb infra",VLOOKUP($C11,INFRAJUL26!$A$1:$D$935,2,0))))) -> FP.06 - GRADIL/PEITORIL DE FERRO PERFILADO H=1,00M | E11: =IF($B11="SINAPI",VLOOKUP($C11,SINAPI08!$A$1:$D$15741,3,0),IF($B11="CDHU",VLOOKUP($C11,CDHU203!$A$8:$F$4122,3,0),IF($B11="SIURB EDIF",VLOOKUP($C11,EDIFJUL26!$A$1:$D$2751,3,0),IF($B11="siurb infra",VLOOKUP($C11,INFRAJUL26!$A$1:$D$935,3,0))))) -> M | F11: =VLOOKUP(A11,'MEMORIA DE CALCULO'!$A$6:$N$274,14,0) -> 27 | G11: =IF($B11="SINAPI",VLOOKUP($C11,SINAPI08!$A$1:$D$15741,4,0),IF($B11="CDHU",VLOOKUP($C11,CDHU203!$A$8:$F$4122,6,0),IF($B11="SIURB EDIF",VLOOKUP($C11,EDIFJUL26!$A$1:$D$2751,4,0),IF($B11="siurb infra",VLOOKUP($C11,INFRAJUL26!$A$1:$D$935,4,0))))) -> 368.11 | H11: =G11*F11 -> 9938.97 | J11: =H11/$H$55 -> 0.071254552 | K11: =J11+K10 -> 0.33355036
A12: 1.1 | B12: SINAPI | C12: 103689 | D12: =IF($B12="SINAPI",VLOOKUP($C12,SINAPI08!$A$1:$D$15741,2,0),IF($B12="CDHU",VLOOKUP($C12,CDHU203!$A$8:$F$4122,2,0),IF($B12="SIURB EDIF",VLOOKUP($C12,EDIFJUL26!$A$1:$D$2751,2,0),IF($B12="siurb infra",VLOOKUP($C12,INFRAJUL26!$A$1:$D$935,2,0))))) -> FORNECIMENTO E INSTALAÇÃO DE PLACA DE OBRA COM CHAPA GALVANIZADA E ESTRUTURA DE MADEIRA. AF_03/2022_PS | E12: =IF($B12="SINAPI",VLOOKUP($C12,SINAPI08!$A$1:$D$15741,3,0),IF($B12="CDHU",VLOOKUP($C12,CDHU203!$A$8:$F$4122,3,0),IF($B12="SIURB EDIF",VLOOKUP($C12,EDIFJUL26!$A$1:$D$2751,3,0),IF($B12="siurb infra",VLOOKUP($C12,INFRAJUL26!$A$1:$D$935,3,0))))) -> M2 | F12: =VLOOKUP(A12,'MEMORIA DE CALCULO'!$A$6:$N$274,14,0) -> 18 | G12: =IF($B12="SINAPI",VLOOKUP($C12,SINAPI08!$A$1:$D$15741,4,0),IF($B12="CDHU",VLOOKUP($C12,CDHU203!$A$8:$F$4122,6,0),IF($B12="SIURB EDIF",VLOOKUP($C12,EDIFJUL26!$A$1:$D$2751,4,0),IF($B12="siurb infra",VLOOKUP($C12,INFRAJUL26!$A$1:$D$935,4,0))))) -> 502.1 | H12: =G12*F12 -> 9037.8 | J12: =H12/$H$55 -> 0.064793876 | K12: =J12+K11 -> 0.39834423
A13: 3.1.22 | B13: SINAPI | C13: 105005 | D13: =IF($B13="SINAPI",VLOOKUP($C13,SINAPI08!$A$1:$D$15741,2,0),IF($B13="CDHU",VLOOKUP($C13,CDHU203!$A$8:$F$4122,2,0),IF($B13="SIURB EDIF",VLOOKUP($C13,EDIFJUL26!$A$1:$D$2751,2,0),IF($B13="siurb infra",VLOOKUP($C13,INFRAJUL26!$A$1:$D$935,2,0))))) -> RAMPA DE ACESSIBILIDADE EM CONCRETO MOLDADO IN LOCO, EM CALÇADA PRÉ EXISTENTE COM LARGURA MENOR À 3,00 M, FCK 25MPA, COM PISO PODOTÁTIL. AF_03/2024 | E13: =IF($B13="SINAPI",VLOOKUP($C13,SINAPI08!$A$1:$D$15741,3,0),IF($B13="CDHU",VLOOKUP($C13,CDHU203!$A$8:$F$4122,3,0),IF($B13="SIURB EDIF",VLOOKUP($C13,EDIFJUL26!$A$1:$D$2751,3,0),IF($B13="siurb infra",VLOOKUP($C13,INFRAJUL26!$A$1:$D$935,3,0))))) -> M2 | F13: =VLOOKUP(A13,'MEMORIA DE CALCULO'!$A$6:$N$274,14,0) -> 28.8 | G13: =IF($B13="SINAPI",VLOOKUP($C13,SINAPI08!$A$1:$D$15741,4,0),IF($B13="CDHU",VLOOKUP($C13,CDHU203!$A$8:$F$4122,6,0),IF($B13="SIURB EDIF",VLOOKUP($C13,EDIFJUL26!$A$1:$D$2751,4,0),IF($B13="siurb infra",VLOOKUP($C13,INFRAJUL26!$A$1:$D$935,4,0))))) -> 288.14 | H13: =G13*F13 -> 8298.432 | J13: =H13/$H$55 -> 0.059493193 | K13: =J13+K12 -> 0.45783743
A14: 4.1 | B14: SIURB EDIF | C14: 17004001 | D14: =IF($B14="SINAPI",VLOOKUP($C14,SINAPI08!$A$1:$D$15741,2,0),IF($B14="CDHU",VLOOKUP($C14,CDHU203!$A$8:$F$4122,2,0),IF($B14="SIURB EDIF",VLOOKUP($C14,EDIFJUL26!$A$1:$D$2751,2,0),IF($B14="siurb infra",VLOOKUP($C14,INFRAJUL26!$A$1:$D$935,2,0))))) -> LIMPEZA GERAL DA OBRA | E14: =IF($B14="SINAPI",VLOOKUP($C14,SINAPI08!$A$1:$D$15741,3,0),IF($B14="CDHU",VLOOKUP($C14,CDHU203!$A$8:$F$4122,3,0),IF($B14="SIURB EDIF",VLOOKUP($C14,EDIFJUL26!$A$1:$D$2751,3,0),IF($B14="siurb infra",VLOOKUP($C14,INFRAJUL26!$A$1:$D$935,3,0))))) -> M2 | F14: =VLOOKUP(A14,'MEMORIA DE CALCULO'!$A$6:$N$274,14,0) -> 419.02 | G14: =IF($B14="SINAPI",VLOOKUP($C14,SINAPI08!$A$1:$D$15741,4,0),IF($B14="CDHU",VLOOKUP($C14,CDHU203!$A$8:$F$4122,6,0),IF($B14="SIURB EDIF",VLOOKUP($C14,EDIFJUL26!$A$1:$D$2751,4,0),IF($B14="siurb infra",VLOOKUP($C14,INFRAJUL26!$A$1:$D$935,4,0))))) -> 16.28 | H14: =G14*F14 -> 6821.6456 | J14: =H14/$H$55 -> 0.048905802 | K14: =J14+K13 -> 0.50674323
A15: 3.1.5 | B15: SINAPI | C15: 94279 | D15: =IF($B15="SINAPI",VLOOKUP($C15,SINAPI08!$A$1:$D$15741,2,0),IF($B15="CDHU",VLOOKUP($C15,CDHU203!$A$8:$F$4122,2,0),IF($B15="SIURB EDIF",VLOOKUP($C15,EDIFJUL26!$A$1:$D$2751,2,0),IF($B15="siurb infra",VLOOKUP($C15,INFRAJUL26!$A$1:$D$935,2,0))))) -> ASSENTAMENTO DE GUIA (MEIO-FIO) EM TRECHO RETO, CONFECCIONADA EM CONCRETO PRÉ-FABRICADO, DIMENSÕES 39X6,5X6,5X19 CM (COMPRIMENTO X BASE INFERIOR X BASE SUPERIOR X ALTURA), PARA DELIMITAÇÃO DE JARDINS, PRAÇAS OU PASSEIOS. AF_01/2024 | E15: =IF($B15="SINAPI",VLOOKUP($C15,SINAPI08!$A$1:$D$15741,3,0),IF($B15="CDHU",VLOOKUP($C15,CDHU203!$A$8:$F$4122,3,0),IF($B15="SIURB EDIF",VLOOKUP($C15,EDIFJUL26!$A$1:$D$2751,3,0),IF($B15="siurb infra",VLOOKUP($C15,INFRAJUL26!$A$1:$D$935,3,0))))) -> M | F15: =VLOOKUP(A15,'MEMORIA DE CALCULO'!$A$6:$N$274,14,0) -> 95.85 | G15: =IF($B15="SINAPI",VLOOKUP($C15,SINAPI08!$A$1:$D$15741,4,0),IF($B15="CDHU",VLOOKUP($C15,CDHU203!$A$8:$F$4122,6,0),IF($B15="SIURB EDIF",VLOOKUP($C15,EDIFJUL26!$A$1:$D$2751,4,0),IF($B15="siurb infra",VLOOKUP($C15,INFRAJUL26!$A$1:$D$935,4,0))))) -> 62.28 | H15: =G15*F15 -> 5969.538 | J15: =H15/$H$55 -> 0.042796865 | K15: =J15+K14 -> 0.54954009 | L15: A
A16: 3.1.2 | B16: SIURB EDIF | C16: 17002030 | D16: =IF($B16="SINAPI",VLOOKUP($C16,SINAPI08!$A$1:$D$15741,2,0),IF($B16="CDHU",VLOOKUP($C16,CDHU203!$A$8:$F$4122,2,0),IF($B16="SIURB EDIF",VLOOKUP($C16,EDIFJUL26!$A$1:$D$2751,2,0),IF($B16="siurb infra",VLOOKUP($C16,INFRAJUL26!$A$1:$D$935,2,0))))) -> PEDRISCO COM COMPACTAÇÃO MANUAL - ESPESSURA 5CM | E16: =IF($B16="SINAPI",VLOOKUP($C16,SINAPI08!$A$1:$D$15741,3,0),IF($B16="CDHU",VLOOKUP($C16,CDHU203!$A$8:$F$4122,3,0),IF($B16="SIURB EDIF",VLOOKUP($C16,EDIFJUL26!$A$1:$D$2751,3,0),IF($B16="siurb infra",VLOOKUP($C16,INFRAJUL26!$A$1:$D$935,3,0))))) -> M2 | F16: =VLOOKUP(A16,'MEMORIA DE CALCULO'!$A$6:$N$274,14,0) -> 322.6 | G16: =IF($B16="SINAPI",VLOOKUP($C16,SINAPI08!$A$1:$D$15741,4,0),IF($B16="CDHU",VLOOKUP($C16,CDHU203!$A$8:$F$4122,6,0),IF($B16="SIURB EDIF",VLOOKUP($C16,EDIFJUL26!$A$1:$D$2751,4,0),IF($B16="siurb infra",VLOOKUP($C16,INFRAJUL26!$A$1:$D$935,4,0))))) -> 16.33 | H16: =G16*F16 -> 5268.058 | J16: =H16/$H$55 -> 0.037767808 | K16: =J16+K15 -> 0.5873079
A17: 3.1.4 | B17: CDHU | C17: 11.20.050 | D17: =IF($B17="SINAPI",VLOOKUP($C17,SINAPI08!$A$1:$D$15741,2,0),IF($B17="CDHU",VLOOKUP($C17,CDHU203!$A$8:$F$4122,2,0),IF($B17="SIURB EDIF",VLOOKUP($C17,EDIFJUL26!$A$1:$D$2751,2,0),IF($B17="siurb infra",VLOOKUP($C17,INFRAJUL26!$A$1:$D$935,2,0))))) -> Corte de junta de dilatação, com serra de disco diamantado para pisos | E17: =IF($B17="SINAPI",VLOOKUP($C17,SINAPI08!$A$1:$D$15741,3,0),IF($B17="CDHU",VLOOKUP($C17,CDHU203!$A$8:$F$4122,3,0),IF($B17="SIURB EDIF",VLOOKUP($C17,EDIFJUL26!$A$1:$D$2751,3,0),IF($B17="siurb infra",VLOOKUP($C17,INFRAJUL26!$A$1:$D$935,3,0))))) -> M | F17: =VLOOKUP(A17,'MEMORIA DE CALCULO'!$A$6:$N$274,14,0) -> 393.41463 | G17: =IF($B17="SINAPI",VLOOKUP($C17,SINAPI08!$A$1:$D$15741,4,0),IF($B17="CDHU",VLOOKUP($C17,CDHU203!$A$8:$F$4122,6,0),IF($B17="SIURB EDIF",VLOOKUP($C17,EDIFJUL26!$A$1:$D$2751,4,0),IF($B17="siurb infra",VLOOKUP($C17,INFRAJUL26!$A$1:$D$935,4,0))))) -> 12.12 | H17: =G17*F17 -> 4768.1854 | J17: =H17/$H$55 -> 0.034184117 | K17: =J17+K16 -> 0.62149202
A18: 3.2.1 | B18: CDHU | C18: 34.03.120 | D18: =IF($B18="SINAPI",VLOOKUP($C18,SINAPI08!$A$1:$D$15741,2,0),IF($B18="CDHU",VLOOKUP($C18,CDHU203!$A$8:$F$4122,2,0),IF($B18="SIURB EDIF",VLOOKUP($C18,EDIFJUL26!$A$1:$D$2751,2,0),IF($B18="siurb infra",VLOOKUP($C18,INFRAJUL26!$A$1:$D$935,2,0))))) -> Arbusto Moréia - h= 0,50 m | E18: =IF($B18="SINAPI",VLOOKUP($C18,SINAPI08!$A$1:$D$15741,3,0),IF($B18="CDHU",VLOOKUP($C18,CDHU203!$A$8:$F$4122,3,0),IF($B18="SIURB EDIF",VLOOKUP($C18,EDIFJUL26!$A$1:$D$2751,3,0),IF($B18="siurb infra",VLOOKUP($C18,INFRAJUL26!$A$1:$D$935,3,0))))) -> UN | F18: =VLOOKUP(A18,'MEMORIA DE CALCULO'!$A$6:$N$274,14,0) -> 96 | G18: =IF($B18="SINAPI",VLOOKUP($C18,SINAPI08!$A$1:$D$15741,4,0),IF($B18="CDHU",VLOOKUP($C18,CDHU203!$A$8:$F$4122,6,0),IF($B18="SIURB EDIF",VLOOKUP($C18,EDIFJUL26!$A$1:$D$2751,4,0),IF($B18="siurb infra",VLOOKUP($C18,INFRAJUL26!$A$1:$D$935,4,0))))) -> 49.44 | H18: =G18*F18 -> 4746.24 | I18: FAZER COMPARATIVO DE RETIRADA DE ENTULHO | J18: =H18/$H$55 -> 0.034026786 | K18: =J18+K17 -> 0.65551881
A19: 3.4.1 | B19: CDHU | C19: 35.05.240 | D19: =IF($B19="SINAPI",VLOOKUP($C19,SINAPI08!$A$1:$D$15741,2,0),IF($B19="CDHU",VLOOKUP($C19,CDHU203!$A$8:$F$4122,2,0),IF($B19="SIURB EDIF",VLOOKUP($C19,EDIFJUL26!$A$1:$D$2751,2,0),IF($B19="siurb infra",VLOOKUP($C19,INFRAJUL26!$A$1:$D$935,2,0))))) -> Gira-gira metálico com assento de madeira (8 lugares) | E19: =IF($B19="SINAPI",VLOOKUP($C19,SINAPI08!$A$1:$D$15741,3,0),IF($B19="CDHU",VLOOKUP($C19,CDHU203!$A$8:$F$4122,3,0),IF($B19="SIURB EDIF",VLOOKUP($C19,EDIFJUL26!$A$1:$D$2751,3,0),IF($B19="siurb infra",VLOOKUP($C19,INFRAJUL26!$A$1:$D$935,3,0))))) -> CJ | F19: =VLOOKUP(A19,'MEMORIA DE CALCULO'!$A$6:$N$274,14,0) -> 1 | G19: =IF($B19="SINAPI",VLOOKUP($C19,SINAPI08!$A$1:$D$15741,4,0),IF($B19="CDHU",VLOOKUP($C19,CDHU203!$A$8:$F$4122,6,0),IF($B19="SIURB EDIF",VLOOKUP($C19,EDIFJUL26!$A$1:$D$2751,4,0),IF($B19="siurb infra",VLOOKUP($C19,INFRAJUL26!$A$1:$D$935,4,0))))) -> 4215.87 | H19: =G19*F19 -> 4215.87 | J19: =H19/$H$55 -> 0.030224453 | K19: =J19+K18 -> 0.68574326
A20: 3.1.13 | B20: SIURB EDIF | C20: 4001002 | D20: =IF($B20="SINAPI",VLOOKUP($C20,SINAPI08!$A$1:$D$15741,2,0),IF($B20="CDHU",VLOOKUP($C20,CDHU203!$A$8:$F$4122,2,0),IF($B20="SIURB EDIF",VLOOKUP($C20,EDIFJUL26!$A$1:$D$2751,2,0),IF($B20="siurb infra",VLOOKUP($C20,INFRAJUL26!$A$1:$D$935,2,0))))) -> ALVENARIA EM TIJOLOS MACIÇOS COMUNS - 1/2 TIJOLO | E20: =IF($B20="SINAPI",VLOOKUP($C20,SINAPI08!$A$1:$D$15741,3,0),IF($B20="CDHU",VLOOKUP($C20,CDHU203!$A$8:$F$4122,3,0),IF($B20="SIURB EDIF",VLOOKUP($C20,EDIFJUL26!$A$1:$D$2751,3,0),IF($B20="siurb infra",VLOOKUP($C20,INFRAJUL26!$A$1:$D$935,3,0))))) -> M2 | F20: =VLOOKUP(A20,'MEMORIA DE CALCULO'!$A$6:$N$274,14,0) -> 23.55 | G20: =IF($B20="SINAPI",VLOOKUP($C20,SINAPI08!$A$1:$D$15741,4,0),IF($B20="CDHU",VLOOKUP($C20,CDHU203!$A$8:$F$4122,6,0),IF($B20="SIURB EDIF",VLOOKUP($C20,EDIFJUL26!$A$1:$D$2751,4,0),IF($B20="siurb infra",VLOOKUP($C20,INFRAJUL26!$A$1:$D$935,4,0))))) -> 176.76 | H20: =G20*F20 -> 4162.698 | I20: considerar a area dos canteiros A1 | J20: =H20/$H$55 -> 0.029843252 | K20: =J20+K19 -> 0.71558651
A21: 2.6 | B21: SIURB EDIF | C21: 1001007 | D21: =IF($B21="SINAPI",VLOOKUP($C21,SINAPI08!$A$1:$D$15741,2,0),IF($B21="CDHU",VLOOKUP($C21,CDHU203!$A$8:$F$4122,2,0),IF($B21="SIURB EDIF",VLOOKUP($C21,EDIFJUL26!$A$1:$D$2751,2,0),IF($B21="siurb infra",VLOOKUP($C21,INFRAJUL26!$A$1:$D$935,2,0))))) -> REMOÇÃO DE ENTULHO COM CAÇAMBA METÁLICA, INCLUSIVE CARGA MANUAL E DESCARGA EM BOTA-FORA | E21: =IF($B21="SINAPI",VLOOKUP($C21,SINAPI08!$A$1:$D$15741,3,0),IF($B21="CDHU",VLOOKUP($C21,CDHU203!$A$8:$F$4122,3,0),IF($B21="SIURB EDIF",VLOOKUP($C21,EDIFJUL26!$A$1:$D$2751,3,0),IF($B21="siurb infra",VLOOKUP($C21,INFRAJUL26!$A$1:$D$935,3,0))))) -> M3 | F21: 20.43 | G21: =IF($B21="SINAPI",VLOOKUP($C21,SINAPI08!$A$1:$D$15741,4,0),IF($B21="CDHU",VLOOKUP($C21,CDHU203!$A$8:$F$4122,6,0),IF($B21="SIURB EDIF",VLOOKUP($C21,EDIFJUL26!$A$1:$D$2751,4,0),IF($B21="siurb infra",VLOOKUP($C21,INFRAJUL26!$A$1:$D$935,4,0))))) -> 170.76 | H21: =G21*F21 -> 3488.6268 | J21: =H21/$H$55 -> 0.025010694 | K21: =J21+K20 -> 0.74059721
A22: 3.1.20 | B22: SINAPI | C22: 98557 | D22: =IF($B22="SINAPI",VLOOKUP($C22,SINAPI08!$A$1:$D$15741,2,0),IF($B22="CDHU",VLOOKUP($C22,CDHU203!$A$8:$F$4122,2,0),IF($B22="SIURB EDIF",VLOOKUP($C22,EDIFJUL26!$A$1:$D$2751,2,0),IF($B22="siurb infra",VLOOKUP($C22,INFRAJUL26!$A$1:$D$935,2,0))))) -> IMPERMEABILIZAÇÃO DE SUPERFÍCIE COM EMULSÃO ASFÁLTICA, 2 DEMÃOS. AF_09/2023 | E22: =IF($B22="SINAPI",VLOOKUP($C22,SINAPI08!$A$1:$D$15741,3,0),IF($B22="CDHU",VLOOKUP($C22,CDHU203!$A$8:$F$4122,3,0),IF($B22="SIURB EDIF",VLOOKUP($C22,EDIFJUL26!$A$1:$D$2751,3,0),IF($B22="siurb infra",VLOOKUP($C22,INFRAJUL26!$A$1:$D$935,3,0))))) -> M2 | F22: =VLOOKUP(A22,'MEMORIA DE CALCULO'!$A$6:$N$274,14,0) -> 47.1 | G22: =IF($B22="SINAPI",VLOOKUP($C22,SINAPI08!$A$1:$D$15741,4,0),IF($B22="CDHU",VLOOKUP($C22,CDHU203!$A$8:$F$4122,6,0),IF($B22="SIURB EDIF",VLOOKUP($C22,EDIFJUL26!$A$1:$D$2751,4,0),IF($B22="siurb infra",VLOOKUP($C22,INFRAJUL26!$A$1:$D$935,4,0))))) -> 71.17 | H22: =G22*F22 -> 3352.107 | J22: =H22/$H$55 -> 0.024031955 | K22: =J22+K21 -> 0.76462916
A23: 3.1.27 | B23: CDHU | C23: 33.11.050 | D23: =IF($B23="SINAPI",VLOOKUP($C23,SINAPI08!$A$1:$D$15741,2,0),IF($B23="CDHU",VLOOKUP($C23,CDHU203!$A$8:$F$4122,2,0),IF($B23="SIURB EDIF",VLOOKUP($C23,EDIFJUL26!$A$1:$D$2751,2,0),IF($B23="siurb infra",VLOOKUP($C23,INFRAJUL26!$A$1:$D$935,2,0))))) -> Esmalte à base água em superfície metálica, inclusive preparo | E23: =IF($B23="SINAPI",VLOOKUP($C23,SINAPI08!$A$1:$D$15741,3,0),IF($B23="CDHU",VLOOKUP($C23,CDHU203!$A$8:$F$4122,3,0),IF($B23="SIURB EDIF",VLOOKUP($C23,EDIFJUL26!$A$1:$D$2751,3,0),IF($B23="siurb infra",VLOOKUP($C23,INFRAJUL26!$A$1:$D$935,3,0))))) -> M2 | F23: =VLOOKUP(A23,'MEMORIA DE CALCULO'!$A$6:$N$274,14,0) -> 54 | G23: =IF($B23="SINAPI",VLOOKUP($C23,SINAPI08!$A$1:$D$15741,4,0),IF($B23="CDHU",VLOOKUP($C23,CDHU203!$A$8:$F$4122,6,0),IF($B23="SIURB EDIF",VLOOKUP($C23,EDIFJUL26!$A$1:$D$2751,4,0),IF($B23="siurb infra",VLOOKUP($C23,INFRAJUL26!$A$1:$D$935,4,0))))) -> 55.3 | H23: =G23*F23 -> 2986.2 | J23: =H23/$H$55 -> 0.021408692 | K23: =J23+K22 -> 0.78603785
A24: 3.1.15 | B24: SINAPI | C24: 87794 | D24: =IF($B24="SINAPI",VLOOKUP($C24,SINAPI08!$A$1:$D$15741,2,0),IF($B24="CDHU",VLOOKUP($C24,CDHU203!$A$8:$F$4122,2,0),IF($B24="SIURB EDIF",VLOOKUP($C24,EDIFJUL26!$A$1:$D$2751,2,0),IF($B24="siurb infra",VLOOKUP($C24,INFRAJUL26!$A$1:$D$935,2,0))))) -> EMBOÇO OU MASSA ÚNICA EM ARGAMASSA TRAÇO 1:2:8, PREPARO MANUAL, APLICADA MANUALMENTE EM PANOS CEGOS DE FACHADA (SEM PRESENÇA DE VÃOS), ESPESSURA DE 25 MM. AF_09/2022 | E24: =IF($B24="SINAPI",VLOOKUP($C24,SINAPI08!$A$1:$D$15741,3,0),IF($B24="CDHU",VLOOKUP($C24,CDHU203!$A$8:$F$4122,3,0),IF($B24="SIURB EDIF",VLOOKUP($C24,EDIFJUL26!$A$1:$D$2751,3,0),IF($B24="siurb infra",VLOOKUP($C24,INFRAJUL26!$A$1:$D$935,3,0))))) -> M2 | F24: =VLOOKUP(A24,'MEMORIA DE CALCULO'!$A$6:$N$274,14,0) -> 47.1 | G24: =IF($B24="SINAPI",VLOOKUP($C24,SINAPI08!$A$1:$D$15741,4,0),IF($B24="CDHU",VLOOKUP($C24,CDHU203!$A$8:$F$4122,6,0),IF($B24="SIURB EDIF",VLOOKUP($C24,EDIFJUL26!$A$1:$D$2751,4,0),IF($B24="siurb infra",VLOOKUP($C24,INFRAJUL26!$A$1:$D$935,4,0))))) -> 61.26 | H24: =G24*F24 -> 2885.346 | J24: =H24/$H$55 -> 0.020685648 | K24: =J24+K23 -> 0.8067235
A25: 3.4.4 | B25: SIURB EDIF | C25: 18012004 | D25: =IF($B25="SINAPI",VLOOKUP($C25,SINAPI08!$A$1:$D$15741,2,0),IF($B25="CDHU",VLOOKUP($C25,CDHU203!$A$8:$F$4122,2,0),IF($B25="SIURB EDIF",VLOOKUP($C25,EDIFJUL26!$A$1:$D$2751,2,0),IF($B25="siurb infra",VLOOKUP($C25,INFRAJUL26!$A$1:$D$935,2,0))))) -> IC.04 - BANCO EM CONCRETO APARENTE - L=50CM | E25: =IF($B25="SINAPI",VLOOKUP($C25,SINAPI08!$A$1:$D$15741,3,0),IF($B25="CDHU",VLOOKUP($C25,CDHU203!$A$8:$F$4122,3,0),IF($B25="SIURB EDIF",VLOOKUP($C25,EDIFJUL26!$A$1:$D$2751,3,0),IF($B25="siurb infra",VLOOKUP($C25,INFRAJUL26!$A$1:$D$935,3,0))))) -> M | F25: =VLOOKUP(A25,'MEMORIA DE CALCULO'!$A$6:$N$274,14,0) -> 8 | G25: =IF($B25="SINAPI",VLOOKUP($C25,SINAPI08!$A$1:$D$15741,4,0),IF($B25="CDHU",VLOOKUP($C25,CDHU203!$A$8:$F$4122,6,0),IF($B25="SIURB EDIF",VLOOKUP($C25,EDIFJUL26!$A$1:$D$2751,4,0),IF($B25="siurb infra",VLOOKUP($C25,INFRAJUL26!$A$1:$D$935,4,0))))) -> 356.23 | H25: =G25*F25 -> 2849.84 | J25: =H25/$H$55 -> 0.020431098 | K25: =J25+K24 -> 0.8271546
A26: 3.1.10 | B26: SINAPI | C26: 103946 | D26: =IF($B26="SINAPI",VLOOKUP($C26,SINAPI08!$A$1:$D$15741,2,0),IF($B26="CDHU",VLOOKUP($C26,CDHU203!$A$8:$F$4122,2,0),IF($B26="SIURB EDIF",VLOOKUP($C26,EDIFJUL26!$A$1:$D$2751,2,0),IF($B26="siurb infra",VLOOKUP($C26,INFRAJUL26!$A$1:$D$935,2,0))))) -> PLANTIO DE GRAMA ESMERALDA OU SÃO CARLOS OU CURITIBANA, EM PLACAS. AF_07/2024 | E26: =IF($B26="SINAPI",VLOOKUP($C26,SINAPI08!$A$1:$D$15741,3,0),IF($B26="CDHU",VLOOKUP($C26,CDHU203!$A$8:$F$4122,3,0),IF($B26="SIURB EDIF",VLOOKUP($C26,EDIFJUL26!$A$1:$D$2751,3,0),IF($B26="siurb infra",VLOOKUP($C26,INFRAJUL26!$A$1:$D$935,3,0))))) -> M2 | F26: =VLOOKUP(A26,'MEMORIA DE CALCULO'!$A$6:$N$274,14,0) -> 96.42 | G26: =IF($B26="SINAPI",VLOOKUP($C26,SINAPI08!$A$1:$D$15741,4,0),IF($B26="CDHU",VLOOKUP($C26,CDHU203!$A$8:$F$4122,6,0),IF($B26="SIURB EDIF",VLOOKUP($C26,EDIFJUL26!$A$1:$D$2751,4,0),IF($B26="siurb infra",VLOOKUP($C26,INFRAJUL26!$A$1:$D$935,4,0))))) -> 29.16 | H26: =G26*F26 -> 2811.6072 | J26: =H26/$H$55 -> 0.020156999 | K26: =J26+K25 -> 0.8473116
A27: 3.4.2 | B27: SIURB EDIF | C27: 18014015 | D27: =IF($B27="SINAPI",VLOOKUP($C27,SINAPI08!$A$1:$D$15741,2,0),IF($B27="CDHU",VLOOKUP($C27,CDHU203!$A$8:$F$4122,2,0),IF($B27="SIURB EDIF",VLOOKUP($C27,EDIFJUL26!$A$1:$D$2751,2,0),IF($B27="siurb infra",VLOOKUP($C27,INFRAJUL26!$A$1:$D$935,2,0))))) -> BALANÇO DE 3 LUGARES COM PNEUS COMPR=4,50M H=2,50M - ESTRUTURA METÁLICA | E27: =IF($B27="SINAPI",VLOOKUP($C27,SINAPI08!$A$1:$D$15741,3,0),IF($B27="CDHU",VLOOKUP($C27,CDHU203!$A$8:$F$4122,3,0),IF($B27="SIURB EDIF",VLOOKUP($C27,EDIFJUL26!$A$1:$D$2751,3,0),IF($B27="siurb infra",VLOOKUP($C27,INFRAJUL26!$A$1:$D$935,3,0))))) -> UN | F27: =VLOOKUP(A27,'MEMORIA DE CALCULO'!$A$6:$N$274,14,0) -> 1 | G27: =IF($B27="SINAPI",VLOOKUP($C27,SINAPI08!$A$1:$D$15741,4,0),IF($B27="CDHU",VLOOKUP($C27,CDHU203!$A$8:$F$4122,6,0),IF($B27="SIURB EDIF",VLOOKUP($C27,EDIFJUL26!$A$1:$D$2751,4,0),IF($B27="siurb infra",VLOOKUP($C27,INFRAJUL26!$A$1:$D$935,4,0))))) -> 2715.42 | H27: =G27*F27 -> 2715.42 | I27: considerar a area dos canteiros A1 | J27: =H27/$H$55 -> 0.019467413 | K27: =J27+K26 -> 0.86677901
A28: 2.1 | B28: SIURB EDIF | C28: 17060046 | D28: =IF($B28="SINAPI",VLOOKUP($C28,SINAPI08!$A$1:$D$15741,2,0),IF($B28="CDHU",VLOOKUP($C28,CDHU203!$A$8:$F$4122,2,0),IF($B28="SIURB EDIF",VLOOKUP($C28,EDIFJUL26!$A$1:$D$2751,2,0),IF($B28="siurb infra",VLOOKUP($C28,INFRAJUL26!$A$1:$D$935,2,0))))) -> RETIRADA DE PISO INTERTRAVADO | E28: =IF($B28="SINAPI",VLOOKUP($C28,SINAPI08!$A$1:$D$15741,3,0),IF($B28="CDHU",VLOOKUP($C28,CDHU203!$A$8:$F$4122,3,0),IF($B28="SIURB EDIF",VLOOKUP($C28,EDIFJUL26!$A$1:$D$2751,3,0),IF($B28="siurb infra",VLOOKUP($C28,INFRAJUL26!$A$1:$D$935,3,0))))) -> M2 | F28: =VLOOKUP(A28,'MEMORIA DE CALCULO'!$A$6:$N$274,14,0) -> 142.7 | G28: =IF($B28="SINAPI",VLOOKUP($C28,SINAPI08!$A$1:$D$15741,4,0),IF($B28="CDHU",VLOOKUP($C28,CDHU203!$A$8:$F$4122,6,0),IF($B28="SIURB EDIF",VLOOKUP($C28,EDIFJUL26!$A$1:$D$2751,4,0),IF($B28="siurb infra",VLOOKUP($C28,INFRAJUL26!$A$1:$D$935,4,0))))) -> 18.99 | H28: =G28*F28 -> 2709.873 | J28: =H28/$H$55 -> 0.019427646 | K28: =J28+K27 -> 0.88620666
A29: 1.3 | B29: CDHU | C29: 02.01.180 | D29: =IF($B29="SINAPI",VLOOKUP($C29,SINAPI08!$A$1:$D$15741,2,0),IF($B29="CDHU",VLOOKUP($C29,CDHU203!$A$8:$F$4122,2,0),IF($B29="SIURB EDIF",VLOOKUP($C29,EDIFJUL26!$A$1:$D$2751,2,0),IF($B29="siurb infra",VLOOKUP($C29,INFRAJUL26!$A$1:$D$935,2,0))))) -> Banheiro químico modelo Standard, com manutenção conforme exigências da CETESB | E29: =IF($B29="SINAPI",VLOOKUP($C29,SINAPI08!$A$1:$D$15741,3,0),IF($B29="CDHU",VLOOKUP($C29,CDHU203!$A$8:$F$4122,3,0),IF($B29="SIURB EDIF",VLOOKUP($C29,EDIFJUL26!$A$1:$D$2751,3,0),IF($B29="siurb infra",VLOOKUP($C29,INFRAJUL26!$A$1:$D$935,3,0))))) -> UNMES | F29: =VLOOKUP(A29,'MEMORIA DE CALCULO'!$A$6:$N$274,14,0) -> 2 | G29: =IF($B29="SINAPI",VLOOKUP($C29,SINAPI08!$A$1:$D$15741,4,0),IF($B29="CDHU",VLOOKUP($C29,CDHU203!$A$8:$F$4122,6,0),IF($B29="SIURB EDIF",VLOOKUP($C29,EDIFJUL26!$A$1:$D$2751,4,0),IF($B29="siurb infra",VLOOKUP($C29,INFRAJUL26!$A$1:$D$935,4,0))))) -> 1259.83 | H29: =G29*F29 -> 2519.66 | J29: =H29/$H$55 -> 0.018063969 | K29: =J29+K28 -> 0.90427063
A30: 1.2 | B30: CDHU | C30: 02.02.150 | D30: =IF($B30="SINAPI",VLOOKUP($C30,SINAPI08!$A$1:$D$15741,2,0),IF($B30="CDHU",VLOOKUP($C30,CDHU203!$A$8:$F$4122,2,0),IF($B30="SIURB EDIF",VLOOKUP($C30,EDIFJUL26!$A$1:$D$2751,2,0),IF($B30="siurb infra",VLOOKUP($C30,INFRAJUL26!$A$1:$D$935,2,0))))) -> Locação de container tipo depósito - área mínima de 13,80 m² | E30: =IF($B30="SINAPI",VLOOKUP($C30,SINAPI08!$A$1:$D$15741,3,0),IF($B30="CDHU",VLOOKUP($C30,CDHU203!$A$8:$F$4122,3,0),IF($B30="SIURB EDIF",VLOOKUP($C30,EDIFJUL26!$A$1:$D$2751,3,0),IF($B30="siurb infra",VLOOKUP($C30,INFRAJUL26!$A$1:$D$935,3,0))))) -> UNMES | F30: =VLOOKUP(A30,'MEMORIA DE CALCULO'!$A$6:$N$274,14,0) -> 2 | G30: =IF($B30="SINAPI",VLOOKUP($C30,SINAPI08!$A$1:$D$15741,4,0),IF($B30="CDHU",VLOOKUP($C30,CDHU203!$A$8:$F$4122,6,0),IF($B30="SIURB EDIF",VLOOKUP($C30,EDIFJUL26!$A$1:$D$2751,4,0),IF($B30="siurb infra",VLOOKUP($C30,INFRAJUL26!$A$1:$D$935,4,0))))) -> 1010.89 | H30: =G30*F30 -> 2021.78 | J30: =H30/$H$55 -> 0.014494563 | K30: =J30+K29 -> 0.91876519
A31: 3.1.12 | B31: SIURB EDIF | C31: 2006002 | D31: =IF($B31="SINAPI",VLOOKUP($C31,SINAPI08!$A$1:$D$15741,2,0),IF($B31="CDHU",VLOOKUP($C31,CDHU203!$A$8:$F$4122,2,0),IF($B31="SIURB EDIF",VLOOKUP($C31,EDIFJUL26!$A$1:$D$2751,2,0),IF($B31="siurb infra",VLOOKUP($C31,INFRAJUL26!$A$1:$D$935,2,0))))) -> ALVENARIA DE EMBASAMENTO - BLOCOS VAZADO DE CONCRETO ESTRUTURAL - 14CM - 10MPA | E31: =IF($B31="SINAPI",VLOOKUP($C31,SINAPI08!$A$1:$D$15741,3,0),IF($B31="CDHU",VLOOKUP($C31,CDHU203!$A$8:$F$4122,3,0),IF($B31="SIURB EDIF",VLOOKUP($C31,EDIFJUL26!$A$1:$D$2751,3,0),IF($B31="siurb infra",VLOOKUP($C31,INFRAJUL26!$A$1:$D$935,3,0))))) -> M2 | F31: =VLOOKUP(A31,'MEMORIA DE CALCULO'!$A$6:$N$274,14,0) -> 9.42 | G31: =IF($B31="SINAPI",VLOOKUP($C31,SINAPI08!$A$1:$D$15741,4,0),IF($B31="CDHU",VLOOKUP($C31,CDHU203!$A$8:$F$4122,6,0),IF($B31="SIURB EDIF",VLOOKUP($C31,EDIFJUL26!$A$1:$D$2751,4,0),IF($B31="siurb infra",VLOOKUP($C31,INFRAJUL26!$A$1:$D$935,4,0))))) -> 173.85 | H31: =G31*F31 -> 1637.667 | J31: =H31/$H$55 -> 0.011740777 | K31: =J31+K30 -> 0.93050597
A32: 3.4.3 | B32: CDHU | C32: 35.20.050 | D32: =IF($B32="SINAPI",VLOOKUP($C32,SINAPI08!$A$1:$D$15741,2,0),IF($B32="CDHU",VLOOKUP($C32,CDHU203!$A$8:$F$4122,2,0),IF($B32="SIURB EDIF",VLOOKUP($C32,EDIFJUL26!$A$1:$D$2751,2,0),IF($B32="siurb infra",VLOOKUP($C32,INFRAJUL26!$A$1:$D$935,2,0))))) -> Conjunto de 4 lixeiras para coleta seletiva, com tampa basculante, capacidade 50 litros | E32: =IF($B32="SINAPI",VLOOKUP($C32,SINAPI08!$A$1:$D$15741,3,0),IF($B32="CDHU",VLOOKUP($C32,CDHU203!$A$8:$F$4122,3,0),IF($B32="SIURB EDIF",VLOOKUP($C32,EDIFJUL26!$A$1:$D$2751,3,0),IF($B32="siurb infra",VLOOKUP($C32,INFRAJUL26!$A$1:$D$935,3,0))))) -> UN | F32: =VLOOKUP(A32,'MEMORIA DE CALCULO'!$A$6:$N$274,14,0) -> 1 | G32: =IF($B32="SINAPI",VLOOKUP($C32,SINAPI08!$A$1:$D$15741,4,0),IF($B32="CDHU",VLOOKUP($C32,CDHU203!$A$8:$F$4122,6,0),IF($B32="SIURB EDIF",VLOOKUP($C32,EDIFJUL26!$A$1:$D$2751,4,0),IF($B32="siurb infra",VLOOKUP($C32,INFRAJUL26!$A$1:$D$935,4,0))))) -> 1416.02 | H32: =G32*F32 -> 1416.02 | J32: =H32/$H$55 -> 0.010151743 | K32: =J32+K31 -> 0.94065771
A33: 3.1.6 | B33: SINAPI | C33: 94280 | D33: =IF($B33="SINAPI",VLOOKUP($C33,SINAPI08!$A$1:$D$15741,2,0),IF($B33="CDHU",VLOOKUP($C33,CDHU203!$A$8:$F$4122,2,0),IF($B33="SIURB EDIF",VLOOKUP($C33,EDIFJUL26!$A$1:$D$2751,2,0),IF($B33="siurb infra",VLOOKUP($C33,INFRAJUL26!$A$1:$D$935,2,0))))) -> ASSENTAMENTO DE GUIA (MEIO-FIO) EM TRECHO CURVO, CONFECCIONADA EM CONCRETO PRÉ-FABRICADO, DIMENSÕES 39X6,5X6,5X19 CM (COMPRIMENTO X BASE INFERIOR X BASE SUPERIOR X ALTURA), PARA DELIMITAÇÃO DE JARDINS, PRAÇAS OU PASSEIOS. AF_01/2024 | E33: =IF($B33="SINAPI",VLOOKUP($C33,SINAPI08!$A$1:$D$15741,3,0),IF($B33="CDHU",VLOOKUP($C33,CDHU203!$A$8:$F$4122,3,0),IF($B33="SIURB EDIF",VLOOKUP($C33,EDIFJUL26!$A$1:$D$2751,3,0),IF($B33="siurb infra",VLOOKUP($C33,INFRAJUL26!$A$1:$D$935,3,0))))) -> M | F33: =VLOOKUP(A33,'MEMORIA DE CALCULO'!$A$6:$N$274,14,0) -> 16.23 | G33: =IF($B33="SINAPI",VLOOKUP($C33,SINAPI08!$A$1:$D$15741,4,0),IF($B33="CDHU",VLOOKUP($C33,CDHU203!$A$8:$F$4122,6,0),IF($B33="SIURB EDIF",VLOOKUP($C33,EDIFJUL26!$A$1:$D$2751,4,0),IF($B33="siurb infra",VLOOKUP($C33,INFRAJUL26!$A$1:$D$935,4,0))))) -> 65.55 | H33: =G33*F33 -> 1063.8765 | J33: =H33/$H$55 -> 0.0076271529 | K33: =J33+K32 -> 0.94828486
A34: 1.4 | B34: CDHU | C34: 02.10.060 | D34: =IF($B34="SINAPI",VLOOKUP($C34,SINAPI08!$A$1:$D$15741,2,0),IF($B34="CDHU",VLOOKUP($C34,CDHU203!$A$8:$F$4122,2,0),IF($B34="SIURB EDIF",VLOOKUP($C34,EDIFJUL26!$A$1:$D$2751,2,0),IF($B34="siurb infra",VLOOKUP($C34,INFRAJUL26!$A$1:$D$935,2,0))))) -> Locação de vias, calçadas, tanques e lagoas | E34: =IF($B34="SINAPI",VLOOKUP($C34,SINAPI08!$A$1:$D$15741,3,0),IF($B34="CDHU",VLOOKUP($C34,CDHU203!$A$8:$F$4122,3,0),IF($B34="SIURB EDIF",VLOOKUP($C34,EDIFJUL26!$A$1:$D$2751,3,0),IF($B34="siurb infra",VLOOKUP($C34,INFRAJUL26!$A$1:$D$935,3,0))))) -> M2 | F34: =VLOOKUP(A34,'MEMORIA DE CALCULO'!$A$6:$N$274,14,0) -> 419.02 | G34: =IF($B34="SINAPI",VLOOKUP($C34,SINAPI08!$A$1:$D$15741,4,0),IF($B34="CDHU",VLOOKUP($C34,CDHU203!$A$8:$F$4122,6,0),IF($B34="SIURB EDIF",VLOOKUP($C34,EDIFJUL26!$A$1:$D$2751,4,0),IF($B34="siurb infra",VLOOKUP($C34,INFRAJUL26!$A$1:$D$935,4,0))))) -> 1.94 | H34: =G34*F34 -> 812.8988 | J34: =H34/$H$55 -> 0.0058278413 | K34: =J34+K33 -> 0.9541127
A35: 3.1.8 | B35: SINAPI | C35: 98520 | D35: =IF($B35="SINAPI",VLOOKUP($C35,SINAPI08!$A$1:$D$15741,2,0),IF($B35="CDHU",VLOOKUP($C35,CDHU203!$A$8:$F$4122,2,0),IF($B35="SIURB EDIF",VLOOKUP($C35,EDIFJUL26!$A$1:$D$2751,2,0),IF($B35="siurb infra",VLOOKUP($C35,INFRAJUL26!$A$1:$D$935,2,0))))) -> APLICAÇÃO DE ADUBO EM SOLO. AF_07/2024 | E35: =IF($B35="SINAPI",VLOOKUP($C35,SINAPI08!$A$1:$D$15741,3,0),IF($B35="CDHU",VLOOKUP($C35,CDHU203!$A$8:$F$4122,3,0),IF($B35="SIURB EDIF",VLOOKUP($C35,EDIFJUL26!$A$1:$D$2751,3,0),IF($B35="siurb infra",VLOOKUP($C35,INFRAJUL26!$A$1:$D$935,3,0))))) -> M2 | F35: =VLOOKUP(A35,'MEMORIA DE CALCULO'!$A$6:$N$274,14,0) -> 96.42 | G35: =IF($B35="SINAPI",VLOOKUP($C35,SINAPI08!$A$1:$D$15741,4,0),IF($B35="CDHU",VLOOKUP($C35,CDHU203!$A$8:$F$4122,6,0),IF($B35="SIURB EDIF",VLOOKUP($C35,EDIFJUL26!$A$1:$D$2751,4,0),IF($B35="siurb infra",VLOOKUP($C35,INFRAJUL26!$A$1:$D$935,4,0))))) -> 7.5 | H35: =G35*F35 -> 723.15 | J35: =H35/$H$55 -> 0.0051844134 | K35: =J35+K34 -> 0.95929712
A36: 3.1.17 | B36: SINAPI | C36: 94319 | D36: =IF($B36="SINAPI",VLOOKUP($C36,SINAPI08!$A$1:$D$15741,2,0),IF($B36="CDHU",VLOOKUP($C36,CDHU203!$A$8:$F$4122,2,0),IF($B36="SIURB EDIF",VLOOKUP($C36,EDIFJUL26!$A$1:$D$2751,2,0),IF($B36="siurb infra",VLOOKUP($C36,INFRAJUL26!$A$1:$D$935,2,0))))) -> ATERRO MANUAL DE VALAS COM SOLO ARGILO-ARENOSO. AF_08/2023 | E36: =IF($B36="SINAPI",VLOOKUP($C36,SINAPI08!$A$1:$D$15741,3,0),IF($B36="CDHU",VLOOKUP($C36,CDHU203!$A$8:$F$4122,3,0),IF($B36="SIURB EDIF",VLOOKUP($C36,EDIFJUL26!$A$1:$D$2751,3,0),IF($B36="siurb infra",VLOOKUP($C36,INFRAJUL26!$A$1:$D$935,3,0))))) -> M3 | F36: =VLOOKUP(A36,'MEMORIA DE CALCULO'!$A$6:$N$274,14,0) -> 7.6375 | G36: =IF($B36="SINAPI",VLOOKUP($C36,SINAPI08!$A$1:$D$15741,4,0),IF($B36="CDHU",VLOOKUP($C36,CDHU203!$A$8:$F$4122,6,0),IF($B36="SIURB EDIF",VLOOKUP($C36,EDIFJUL26!$A$1:$D$2751,4,0),IF($B36="siurb infra",VLOOKUP($C36,INFRAJUL26!$A$1:$D$935,4,0))))) -> 87.78 | H36: =G36*F36 -> 670.41975 | J36: =H36/$H$55 -> 0.0048063792 | K36: =J36+K35 -> 0.9641035
A37: 3.1.18 | B37: SINAPI | C37: 97088 | D37: =IF($B37="SINAPI",VLOOKUP($C37,SINAPI08!$A$1:$D$15741,2,0),IF($B37="CDHU",VLOOKUP($C37,CDHU203!$A$8:$F$4122,2,0),IF($B37="SIURB EDIF",VLOOKUP($C37,EDIFJUL26!$A$1:$D$2751,2,0),IF($B37="siurb infra",VLOOKUP($C37,INFRAJUL26!$A$1:$D$935,2,0))))) -> ARMAÇÃO PARA EXECUÇÃO DE RADIER, PISO DE CONCRETO OU LAJE SOBRE SOLO, COM USO DE TELA Q-92. AF_07/2026 | E37: =IF($B37="SINAPI",VLOOKUP($C37,SINAPI08!$A$1:$D$15741,3,0),IF($B37="CDHU",VLOOKUP($C37,CDHU203!$A$8:$F$4122,3,0),IF($B37="SIURB EDIF",VLOOKUP($C37,EDIFJUL26!$A$1:$D$2751,3,0),IF($B37="siurb infra",VLOOKUP($C37,INFRAJUL26!$A$1:$D$935,3,0))))) -> KG | F37: =VLOOKUP(A37,'MEMORIA DE CALCULO'!$A$6:$N$274,14,0) -> 38.1875 | G37: =IF($B37="SINAPI",VLOOKUP($C37,SINAPI08!$A$1:$D$15741,4,0),IF($B37="CDHU",VLOOKUP($C37,CDHU203!$A$8:$F$4122,6,0),IF($B37="SIURB EDIF",VLOOKUP($C37,EDIFJUL26!$A$1:$D$2751,4,0),IF($B37="siurb infra",VLOOKUP($C37,INFRAJUL26!$A$1:$D$935,4,0))))) -> 17.05 | H37: =G37*F37 -> 651.09688 | J37: =H37/$H$55 -> 0.0046678495 | K37: =J37+K36 -> 0.96877135
A38: 2.2 | B38: SINAPI | C38: 104790 | D38: =IF($B38="SINAPI",VLOOKUP($C38,SINAPI08!$A$1:$D$15741,2,0),IF($B38="CDHU",VLOOKUP($C38,CDHU203!$A$8:$F$4122,2,0),IF($B38="SIURB EDIF",VLOOKUP($C38,EDIFJUL26!$A$1:$D$2751,2,0),IF($B38="siurb infra",VLOOKUP($C38,INFRAJUL26!$A$1:$D$935,2,0))))) -> DEMOLIÇÃO DE PISO DE CONCRETO SIMPLES, DE FORMA MECANIZADA COM MARTELETE, SEM REAPROVEITAMENTO. AF_09/2023 | E38: =IF($B38="SINAPI",VLOOKUP($C38,SINAPI08!$A$1:$D$15741,3,0),IF($B38="CDHU",VLOOKUP($C38,CDHU203!$A$8:$F$4122,3,0),IF($B38="SIURB EDIF",VLOOKUP($C38,EDIFJUL26!$A$1:$D$2751,3,0),IF($B38="siurb infra",VLOOKUP($C38,INFRAJUL26!$A$1:$D$935,3,0))))) -> M3 | F38: =VLOOKUP(A38,'MEMORIA DE CALCULO'!$A$6:$N$274,14,0) -> 4.8388 | G38: =IF($B38="SINAPI",VLOOKUP($C38,SINAPI08!$A$1:$D$15741,4,0),IF($B38="CDHU",VLOOKUP($C38,CDHU203!$A$8:$F$4122,6,0),IF($B38="SIURB EDIF",VLOOKUP($C38,EDIFJUL26!$A$1:$D$2751,4,0),IF($B38="siurb infra",VLOOKUP($C38,INFRAJUL26!$A$1:$D$935,4,0))))) -> 127.66 | H38: =G38*F38 -> 617.72121 | J38: =H38/$H$55 -> 0.0044285724 | K38: =J38+K37 -> 0.97319992
A39: 3.1.26 | B39: SINAPI | C39: 100719 | D39: =IF($B39="SINAPI",VLOOKUP($C39,SINAPI08!$A$1:$D$15741,2,0),IF($B39="CDHU",VLOOKUP($C39,CDHU203!$A$8:$F$4122,2,0),IF($B39="SIURB EDIF",VLOOKUP($C39,EDIFJUL26!$A$1:$D$2751,2,0),IF($B39="siurb infra",VLOOKUP($C39,INFRAJUL26!$A$1:$D$935,2,0))))) -> PINTURA COM TINTA ALQUIDICA DE FUNDO (TIPO ZARCAO) PULVERIZADA SOBRE PERFIL METALICO EXECUTADO EM FABRICA (POR DEMAO). AF_01/2020 | E39: =IF($B39="SINAPI",VLOOKUP($C39,SINAPI08!$A$1:$D$15741,3,0),IF($B39="CDHU",VLOOKUP($C39,CDHU203!$A$8:$F$4122,3,0),IF($B39="SIURB EDIF",VLOOKUP($C39,EDIFJUL26!$A$1:$D$2751,3,0),IF($B39="siurb infra",VLOOKUP($C39,INFRAJUL26!$A$1:$D$935,3,0))))) -> M2 | F39: =VLOOKUP(A39,'MEMORIA DE CALCULO'!$A$6:$N$274,14,0) -> 54 | G39: =IF($B39="SINAPI",VLOOKUP($C39,SINAPI08!$A$1:$D$15741,4,0),IF($B39="CDHU",VLOOKUP($C39,CDHU203!$A$8:$F$4122,6,0),IF($B39="SIURB EDIF",VLOOKUP($C39,EDIFJUL26!$A$1:$D$2751,4,0),IF($B39="siurb infra",VLOOKUP($C39,INFRAJUL26!$A$1:$D$935,4,0))))) -> 11.1 | H39: =G39*F39 -> 599.4 | J39: =H39/$H$55 -> 0.0042972238 | K39: =J39+K38 -> 0.97749714
A40: 3.1.14 | B40: SINAPI | C40: 87905 | D40: =IF($B40="SINAPI",VLOOKUP($C40,SINAPI08!$A$1:$D$15741,2,0),IF($B40="CDHU",VLOOKUP($C40,CDHU203!$A$8:$F$4122,2,0),IF($B40="SIURB EDIF",VLOOKUP($C40,EDIFJUL26!$A$1:$D$2751,2,0),IF($B40="siurb infra",VLOOKUP($C40,INFRAJUL26!$A$1:$D$935,2,0))))) -> CHAPISCO APLICADO EM ALVENARIA (COM PRESENÇA DE VÃOS) E ESTRUTURAS DE CONCRETO DE FACHADA, COM COLHER DE PEDREIRO. ARGAMASSA TRAÇO 1:3 COM PREPARO EM BETONEIRA 400L. AF_10/2022 | E40: =IF($B40="SINAPI",VLOOKUP($C40,SINAPI08!$A$1:$D$15741,3,0),IF($B40="CDHU",VLOOKUP($C40,CDHU203!$A$8:$F$4122,3,0),IF($B40="SIURB EDIF",VLOOKUP($C40,EDIFJUL26!$A$1:$D$2751,3,0),IF($B40="siurb infra",VLOOKUP($C40,INFRAJUL26!$A$1:$D$935,3,0))))) -> M2 | F40: =VLOOKUP(A40,'MEMORIA DE CALCULO'!$A$6:$N$274,14,0) -> 47.1 | G40: =IF($B40="SINAPI",VLOOKUP($C40,SINAPI08!$A$1:$D$15741,4,0),IF($B40="CDHU",VLOOKUP($C40,CDHU203!$A$8:$F$4122,6,0),IF($B40="SIURB EDIF",VLOOKUP($C40,EDIFJUL26!$A$1:$D$2751,4,0),IF($B40="siurb infra",VLOOKUP($C40,INFRAJUL26!$A$1:$D$935,4,0))))) -> 10.24 | H40: =G40*F40 -> 482.304 | J40: =H40/$H$55 -> 0.0034577381 | K40: =J40+K39 -> 0.98095488
A41: 3.1.9 | B41: SINAPI | C41: 105521 | D41: =IF($B41="SINAPI",VLOOKUP($C41,SINAPI08!$A$1:$D$15741,2,0),IF($B41="CDHU",VLOOKUP($C41,CDHU203!$A$8:$F$4122,2,0),IF($B41="SIURB EDIF",VLOOKUP($C41,EDIFJUL26!$A$1:$D$2751,2,0),IF($B41="siurb infra",VLOOKUP($C41,INFRAJUL26!$A$1:$D$935,2,0))))) -> ESPALHAMENTO DE TERRA VEGETAL PARA O PLANTIO. AF_07/2024 | E41: =IF($B41="SINAPI",VLOOKUP($C41,SINAPI08!$A$1:$D$15741,3,0),IF($B41="CDHU",VLOOKUP($C41,CDHU203!$A$8:$F$4122,3,0),IF($B41="SIURB EDIF",VLOOKUP($C41,EDIFJUL26!$A$1:$D$2751,3,0),IF($B41="siurb infra",VLOOKUP($C41,INFRAJUL26!$A$1:$D$935,3,0))))) -> M2 | F41: =VLOOKUP(A41,'MEMORIA DE CALCULO'!$A$6:$N$274,14,0) -> 96.42 | G41: =IF($B41="SINAPI",VLOOKUP($C41,SINAPI08!$A$1:$D$15741,4,0),IF($B41="CDHU",VLOOKUP($C41,CDHU203!$A$8:$F$4122,6,0),IF($B41="SIURB EDIF",VLOOKUP($C41,EDIFJUL26!$A$1:$D$2751,4,0),IF($B41="siurb infra",VLOOKUP($C41,INFRAJUL26!$A$1:$D$935,4,0))))) -> 4.94 | H41: =G41*F41 -> 476.3148 | J41: =H41/$H$55 -> 0.0034148003 | K41: =J41+K40 -> 0.98436968
A42: 3.1.7 | B42: SINAPI | C42: 98519 | D42: =IF($B42="SINAPI",VLOOKUP($C42,SINAPI08!$A$1:$D$15741,2,0),IF($B42="CDHU",VLOOKUP($C42,CDHU203!$A$8:$F$4122,2,0),IF($B42="SIURB EDIF",VLOOKUP($C42,EDIFJUL26!$A$1:$D$2751,2,0),IF($B42="siurb infra",VLOOKUP($C42,INFRAJUL26!$A$1:$D$935,2,0))))) -> REVOLVIMENTO E LIMPEZA MANUAL DE SOLO. AF_07/2024 | E42: =IF($B42="SINAPI",VLOOKUP($C42,SINAPI08!$A$1:$D$15741,3,0),IF($B42="CDHU",VLOOKUP($C42,CDHU203!$A$8:$F$4122,3,0),IF($B42="SIURB EDIF",VLOOKUP($C42,EDIFJUL26!$A$1:$D$2751,3,0),IF($B42="siurb infra",VLOOKUP($C42,INFRAJUL26!$A$1:$D$935,3,0))))) -> M2 | F42: =VLOOKUP(A42,'MEMORIA DE CALCULO'!$A$6:$N$274,14,0) -> 96.42 | G42: =IF($B42="SINAPI",VLOOKUP($C42,SINAPI08!$A$1:$D$15741,4,0),IF($B42="CDHU",VLOOKUP($C42,CDHU203!$A$8:$F$4122,6,0),IF($B42="SIURB EDIF",VLOOKUP($C42,EDIFJUL26!$A$1:$D$2751,4,0),IF($B42="siurb infra",VLOOKUP($C42,INFRAJUL26!$A$1:$D$935,4,0))))) -> 4.2 | H42: =G42*F42 -> 404.964 | J42: =H42/$H$55 -> 0.0029032715 | K42: =J42+K41 -> 0.98727295
A43: 3.1.19 | B43: SIURB EDIF | C43: 3003017 | D43: =IF($B43="SINAPI",VLOOKUP($C43,SINAPI08!$A$1:$D$15741,2,0),IF($B43="CDHU",VLOOKUP($C43,CDHU203!$A$8:$F$4122,2,0),IF($B43="SIURB EDIF",VLOOKUP($C43,EDIFJUL26!$A$1:$D$2751,2,0),IF($B43="siurb infra",VLOOKUP($C43,INFRAJUL26!$A$1:$D$935,2,0))))) -> CONCRETO FCK = 25,0MPA - USINADO | E43: =IF($B43="SINAPI",VLOOKUP($C43,SINAPI08!$A$1:$D$15741,3,0),IF($B43="CDHU",VLOOKUP($C43,CDHU203!$A$8:$F$4122,3,0),IF($B43="SIURB EDIF",VLOOKUP($C43,EDIFJUL26!$A$1:$D$2751,3,0),IF($B43="siurb infra",VLOOKUP($C43,INFRAJUL26!$A$1:$D$935,3,0))))) -> M3 | F43: =VLOOKUP(A43,'MEMORIA DE CALCULO'!$A$6:$N$274,14,0) -> 0.5875 | G43: =IF($B43="SINAPI",VLOOKUP($C43,SINAPI08!$A$1:$D$15741,4,0),IF($B43="CDHU",VLOOKUP($C43,CDHU203!$A$8:$F$4122,6,0),IF($B43="SIURB EDIF",VLOOKUP($C43,EDIFJUL26!$A$1:$D$2751,4,0),IF($B43="siurb infra",VLOOKUP($C43,INFRAJUL26!$A$1:$D$935,4,0))))) -> 589.49 | H43: =G43*F43 -> 346.32538 | J43: =H43/$H$55 -> 0.002482879 | K43: =J43+K42 -> 0.98975583
A44: 3.1.16 | B44: SINAPI | C44: 104642 | D44: =IF($B44="SINAPI",VLOOKUP($C44,SINAPI08!$A$1:$D$15741,2,0),IF($B44="CDHU",VLOOKUP($C44,CDHU203!$A$8:$F$4122,2,0),IF($B44="SIURB EDIF",VLOOKUP($C44,EDIFJUL26!$A$1:$D$2751,2,0),IF($B44="siurb infra",VLOOKUP($C44,INFRAJUL26!$A$1:$D$935,2,0))))) -> PINTURA LÁTEX ACRÍLICA STANDARD, APLICAÇÃO MANUAL EM PAREDES, DUAS DEMÃOS. AF_04/2023 | E44: =IF($B44="SINAPI",VLOOKUP($C44,SINAPI08!$A$1:$D$15741,3,0),IF($B44="CDHU",VLOOKUP($C44,CDHU203!$A$8:$F$4122,3,0),IF($B44="SIURB EDIF",VLOOKUP($C44,EDIFJUL26!$A$1:$D$2751,3,0),IF($B44="siurb infra",VLOOKUP($C44,INFRAJUL26!$A$1:$D$935,3,0))))) -> M2 | F44: =VLOOKUP(A44,'MEMORIA DE CALCULO'!$A$6:$N$274,14,0) -> 23.55 | G44: =IF($B44="SINAPI",VLOOKUP($C44,SINAPI08!$A$1:$D$15741,4,0),IF($B44="CDHU",VLOOKUP($C44,CDHU203!$A$8:$F$4122,6,0),IF($B44="SIURB EDIF",VLOOKUP($C44,EDIFJUL26!$A$1:$D$2751,4,0),IF($B44="siurb infra",VLOOKUP($C44,INFRAJUL26!$A$1:$D$935,4,0))))) -> 13.19 | H44: =G44*F44 -> 310.6245 | J44: =H44/$H$55 -> 0.0022269319 | K44: =J44+K43 -> 0.99198276
...

Sheet ORÇAMENTO
D4: Objeto: REFORMA E ADEQUAÇÃO PRAÇA CAPINZAL
D5: Recurso: Emenda Impositiva
A7: PLANILHA ORÇAMENTÁRIA
A8: ITEM | B8: REFERÊNCIA | C8: CÓDIGO | D8: DESCRIÇÃO | E8: UN | F8: QTD | G8: CUSTO UNIT. | H8: CUSTO DO SERVIÇO
A9: 1 | D9: SERVIÇOS PRELIMINARES | G9: TOTAL ITEM | H9: =SUM(H10:H13) -> 14392.139
A10: 1.1 | B10: SINAPI | C10: 103689 | D10: =IF($B10="SINAPI",VLOOKUP($C10,SINAPI08!$A$1:$D$15741,2,0),IF($B10="CDHU",VLOOKUP($C10,CDHU203!$A$8:$F$4122,2,0),IF($B10="SIURB EDIF",VLOOKUP($C10,EDIFJUL26!$A$1:$D$2751,2,0),IF($B10="siurb infra",VLOOKUP($C10,INFRAJUL26!$A$1:$D$935,2,0))))) -> FORNECIMENTO E INSTALAÇÃO DE PLACA DE OBRA COM CHAPA GALVANIZADA E ESTRUTURA DE MADEIRA. AF_03/2022_PS | E10: =IF($B10="SINAPI",VLOOKUP($C10,SINAPI08!$A$1:$D$15741,3,0),IF($B10="CDHU",VLOOKUP($C10,CDHU203!$A$8:$F$4122,3,0),IF($B10="SIURB EDIF",VLOOKUP($C10,EDIFJUL26!$A$1:$D$2751,3,0),IF($B10="siurb infra",VLOOKUP($C10,INFRAJUL26!$A$1:$D$935,3,0))))) -> M2 | F10: =VLOOKUP(A10,'MEMORIA DE CALCULO'!$A$6:$N$274,14,0) -> 18 | G10: =IF($B10="SINAPI",VLOOKUP($C10,SINAPI08!$A$1:$D$15741,4,0),IF($B10="CDHU",VLOOKUP($C10,CDHU203!$A$8:$F$4122,6,0),IF($B10="SIURB EDIF",VLOOKUP($C10,EDIFJUL26!$A$1:$D$2751,4,0),IF($B10="siurb infra",VLOOKUP($C10,INFRAJUL26!$A$1:$D$935,4,0))))) -> 502.1 | H10: =G10*F10 -> 9037.8
A11: 1.2 | B11: CDHU | C11: 02.02.150 | D11: =IF($B11="SINAPI",VLOOKUP($C11,SINAPI08!$A$1:$D$15741,2,0),IF($B11="CDHU",VLOOKUP($C11,CDHU203!$A$8:$F$4122,2,0),IF($B11="SIURB EDIF",VLOOKUP($C11,EDIFJUL26!$A$1:$D$2751,2,0),IF($B11="siurb infra",VLOOKUP($C11,INFRAJUL26!$A$1:$D$935,2,0))))) -> Locação de container tipo depósito - área mínima de 13,80 m² | E11: =IF($B11="SINAPI",VLOOKUP($C11,SINAPI08!$A$1:$D$15741,3,0),IF($B11="CDHU",VLOOKUP($C11,CDHU203!$A$8:$F$4122,3,0),IF($B11="SIURB EDIF",VLOOKUP($C11,EDIFJUL26!$A$1:$D$2751,3,0),IF($B11="siurb infra",VLOOKUP($C11,INFRAJUL26!$A$1:$D$935,3,0))))) -> UNMES | F11: =VLOOKUP(A11,'MEMORIA DE CALCULO'!$A$6:$N$274,14,0) -> 2 | G11: =IF($B11="SINAPI",VLOOKUP($C11,SINAPI08!$A$1:$D$15741,4,0),IF($B11="CDHU",VLOOKUP($C11,CDHU203!$A$8:$F$4122,6,0),IF($B11="SIURB EDIF",VLOOKUP($C11,EDIFJUL26!$A$1:$D$2751,4,0),IF($B11="siurb infra",VLOOKUP($C11,INFRAJUL26!$A$1:$D$935,4,0))))) -> 1010.89 | H11: =G11*F11 -> 2021.78
A12: 1.3 | B12: CDHU | C12: 02.01.180 | D12: =IF($B12="SINAPI",VLOOKUP($C12,SINAPI08!$A$1:$D$15741,2,0),IF($B12="CDHU",VLOOKUP($C12,CDHU203!$A$8:$F$4122,2,0),IF($B12="SIURB EDIF",VLOOKUP($C12,EDIFJUL26!$A$1:$D$2751,2,0),IF($B12="siurb infra",VLOOKUP($C12,INFRAJUL26!$A$1:$D$935,2,0))))) -> Banheiro químico modelo Standard, com manutenção conforme exigências da CETESB | E12: =IF($B12="SINAPI",VLOOKUP($C12,SINAPI08!$A$1:$D$15741,3,0),IF($B12="CDHU",VLOOKUP($C12,CDHU203!$A$8:$F$4122,3,0),IF($B12="SIURB EDIF",VLOOKUP($C12,EDIFJUL26!$A$1:$D$2751,3,0),IF($B12="siurb infra",VLOOKUP($C12,INFRAJUL26!$A$1:$D$935,3,0))))) -> UNMES | F12: =VLOOKUP(A12,'MEMORIA DE CALCULO'!$A$6:$N$274,14,0) -> 2 | G12: =IF($B12="SINAPI",VLOOKUP($C12,SINAPI08!$A$1:$D$15741,4,0),IF($B12="CDHU",VLOOKUP($C12,CDHU203!$A$8:$F$4122,6,0),IF($B12="SIURB EDIF",VLOOKUP($C12,EDIFJUL26!$A$1:$D$2751,4,0),IF($B12="siurb infra",VLOOKUP($C12,INFRAJUL26!$A$1:$D$935,4,0))))) -> 1259.83 | H12: =G12*F12 -> 2519.66
A13: 1.4 | B13: CDHU | C13: 02.10.060 | D13: =IF($B13="SINAPI",VLOOKUP($C13,SINAPI08!$A$1:$D$15741,2,0),IF($B13="CDHU",VLOOKUP($C13,CDHU203!$A$8:$F$4122,2,0),IF($B13="SIURB EDIF",VLOOKUP($C13,EDIFJUL26!$A$1:$D$2751,2,0),IF($B13="siurb infra",VLOOKUP($C13,INFRAJUL26!$A$1:$D$935,2,0))))) -> Locação de vias, calçadas, tanques e lagoas | E13: =IF($B13="SINAPI",VLOOKUP($C13,SINAPI08!$A$1:$D$15741,3,0),IF($B13="CDHU",VLOOKUP($C13,CDHU203!$A$8:$F$4122,3,0),IF($B13="SIURB EDIF",VLOOKUP($C13,EDIFJUL26!$A$1:$D$2751,3,0),IF($B13="siurb infra",VLOOKUP($C13,INFRAJUL26!$A$1:$D$935,3,0))))) -> M2 | F13: =VLOOKUP(A13,'MEMORIA DE CALCULO'!$A$6:$N$274,14,0) -> 419.02 | G13: =IF($B13="SINAPI",VLOOKUP($C13,SINAPI08!$A$1:$D$15741,4,0),IF($B13="CDHU",VLOOKUP($C13,CDHU203!$A$8:$F$4122,6,0),IF($B13="SIURB EDIF",VLOOKUP($C13,EDIFJUL26!$A$1:$D$2751,4,0),IF($B13="siurb infra",VLOOKUP($C13,INFRAJUL26!$A$1:$D$935,4,0))))) -> 1.94 | H13: =G13*F13 -> 812.8988
A15: 2 | D15: DEMOLIÇÕES E REMOÇÕES | G15: TOTAL ITEM | H15: =SUM(H17:H22) -> 6278.9704
A17: 2.1 | B17: SIURB EDIF | C17: 17060046 | D17: =IF($B17="SINAPI",VLOOKUP($C17,SINAPI08!$A$1:$D$15741,2,0),IF($B17="CDHU",VLOOKUP($C17,CDHU203!$A$8:$F$4122,2,0),IF($B17="SIURB EDIF",VLOOKUP($C17,EDIFJUL26!$A$1:$D$2751,2,0),IF($B17="siurb infra",VLOOKUP($C17,INFRAJUL26!$A$1:$D$935,2,0))))) -> RETIRADA DE PISO INTERTRAVADO | E17: =IF($B17="SINAPI",VLOOKUP($C17,SINAPI08!$A$1:$D$15741,3,0),IF($B17="CDHU",VLOOKUP($C17,CDHU203!$A$8:$F$4122,3,0),IF($B17="SIURB EDIF",VLOOKUP($C17,EDIFJUL26!$A$1:$D$2751,3,0),IF($B17="siurb infra",VLOOKUP($C17,INFRAJUL26!$A$1:$D$935,3,0))))) -> M2 | F17: =VLOOKUP(A17,'MEMORIA DE CALCULO'!$A$6:$N$274,14,0) -> 142.7 | G17: =IF($B17="SINAPI",VLOOKUP($C17,SINAPI08!$A$1:$D$15741,4,0),IF($B17="CDHU",VLOOKUP($C17,CDHU203!$A$8:$F$4122,6,0),IF($B17="SIURB EDIF",VLOOKUP($C17,EDIFJUL26!$A$1:$D$2751,4,0),IF($B17="siurb infra",VLOOKUP($C17,INFRAJUL26!$A$1:$D$935,4,0))))) -> 18.99 | H17: =G17*F17 -> 2709.873
A18: 2.2 | B18: SINAPI | C18: 104790 | D18: =IF($B18="SINAPI",VLOOKUP($C18,SINAPI08!$A$1:$D$15741,2,0),IF($B18="CDHU",VLOOKUP($C18,CDHU203!$A$8:$F$4122,2,0),IF($B18="SIURB EDIF",VLOOKUP($C18,EDIFJUL26!$A$1:$D$2751,2,0),IF($B18="siurb infra",VLOOKUP($C18,INFRAJUL26!$A$1:$D$935,2,0))))) -> DEMOLIÇÃO DE PISO DE CONCRETO SIMPLES, DE FORMA MECANIZADA COM MARTELETE, SEM REAPROVEITAMENTO. AF_09/2023 | E18: =IF($B18="SINAPI",VLOOKUP($C18,SINAPI08!$A$1:$D$15741,3,0),IF($B18="CDHU",VLOOKUP($C18,CDHU203!$A$8:$F$4122,3,0),IF($B18="SIURB EDIF",VLOOKUP($C18,EDIFJUL26!$A$1:$D$2751,3,0),IF($B18="siurb infra",VLOOKUP($C18,INFRAJUL26!$A$1:$D$935,3,0))))) -> M3 | F18: =VLOOKUP(A18,'MEMORIA DE CALCULO'!$A$6:$N$274,14,0) -> 4.8388 | G18: =IF($B18="SINAPI",VLOOKUP($C18,SINAPI08!$A$1:$D$15741,4,0),IF($B18="CDHU",VLOOKUP($C18,CDHU203!$A$8:$F$4122,6,0),IF($B18="SIURB EDIF",VLOOKUP($C18,EDIFJUL26!$A$1:$D$2751,4,0),IF($B18="siurb infra",VLOOKUP($C18,INFRAJUL26!$A$1:$D$935,4,0))))) -> 127.66 | H18: =G18*F18 -> 617.72121
A19: 2.3 | B19: CDHU | C19: 04.02.020 | D19: =IF($B19="SINAPI",VLOOKUP($C19,SINAPI08!$A$1:$D$15741,2,0),IF($B19="CDHU",VLOOKUP($C19,CDHU203!$A$8:$F$4122,2,0),IF($B19="SIURB EDIF",VLOOKUP($C19,EDIFJUL26!$A$1:$D$2751,2,0),IF($B19="siurb infra",VLOOKUP($C19,INFRAJUL26!$A$1:$D$935,2,0))))) -> Retirada de peças lineares em madeira com seção até 60 cm² | E19: =IF($B19="SINAPI",VLOOKUP($C19,SINAPI08!$A$1:$D$15741,3,0),IF($B19="CDHU",VLOOKUP($C19,CDHU203!$A$8:$F$4122,3,0),IF($B19="SIURB EDIF",VLOOKUP($C19,EDIFJUL26!$A$1:$D$2751,3,0),IF($B19="siurb infra",VLOOKUP($C19,INFRAJUL26!$A$1:$D$935,3,0))))) -> M | F19: =VLOOKUP(A19,'MEMORIA DE CALCULO'!$A$6:$N$274,14,0) -> 12 | G19: =IF($B19="SINAPI",VLOOKUP($C19,SINAPI08!$A$1:$D$15741,4,0),IF($B19="CDHU",VLOOKUP($C19,CDHU203!$A$8:$F$4122,6,0),IF($B19="SIURB EDIF",VLOOKUP($C19,EDIFJUL26!$A$1:$D$2751,4,0),IF($B19="siurb infra",VLOOKUP($C19,INFRAJUL26!$A$1:$D$935,4,0))))) -> 1.59 | H19: =G19*F19 -> 19.08
A20: 2.4 | B20: CDHU | C20: 03.01.020 | D20: =IF($B20="SINAPI",VLOOKUP($C20,SINAPI08!$A$1:$D$15741,2,0),IF($B20="CDHU",VLOOKUP($C20,CDHU203!$A$8:$F$4122,2,0),IF($B20="SIURB EDIF",VLOOKUP($C20,EDIFJUL26!$A$1:$D$2751,2,0),IF($B20="siurb infra",VLOOKUP($C20,INFRAJUL26!$A$1:$D$935,2,0))))) -> Demolição manual de concreto simples | E20: =IF($B20="SINAPI",VLOOKUP($C20,SINAPI08!$A$1:$D$15741,3,0),IF($B20="CDHU",VLOOKUP($C20,CDHU203!$A$8:$F$4122,3,0),IF($B20="SIURB EDIF",VLOOKUP($C20,EDIFJUL26!$A$1:$D$2751,3,0),IF($B20="siurb infra",VLOOKUP($C20,INFRAJUL26!$A$1:$D$935,3,0))))) -> M3 | F20: =VLOOKUP(A20,'MEMORIA DE CALCULO'!$A$6:$N$274,14,0) -> 0.42 | G20: =IF($B20="SINAPI",VLOOKUP($C20,SINAPI08!$A$1:$D$15741,4,0),IF($B20="CDHU",VLOOKUP($C20,CDHU203!$A$8:$F$4122,6,0),IF($B20="SIURB EDIF",VLOOKUP($C20,EDIFJUL26!$A$1:$D$2751,4,0),IF($B20="siurb infra",VLOOKUP($C20,INFRAJUL26!$A$1:$D$935,4,0))))) -> 262.9 | H20: =G20*F20 -> 110.418
A21: 2.5 | B21: SIURB EDIF | C21: 17050023 | D21: =IF($B21="SINAPI",VLOOKUP($C21,SINAPI08!$A$1:$D$15741,2,0),IF($B21="CDHU",VLOOKUP($C21,CDHU203!$A$8:$F$4122,2,0),IF($B21="SIURB EDIF",VLOOKUP($C21,EDIFJUL26!$A$1:$D$2751,2,0),IF($B21="siurb infra",VLOOKUP($C21,INFRAJUL26!$A$1:$D$935,2,0))))) -> DEMOLIÇÃO MECANIZADA DE CONCRETO ARMADO | E21: =IF($B21="SINAPI",VLOOKUP($C21,SINAPI08!$A$1:$D$15741,3,0),IF($B21="CDHU",VLOOKUP($C21,CDHU203!$A$8:$F$4122,3,0),IF($B21="SIURB EDIF",VLOOKUP($C21,EDIFJUL26!$A$1:$D$2751,3,0),IF($B21="siurb infra",VLOOKUP($C21,INFRAJUL26!$A$1:$D$935,3,0))))) -> M3 | F21: =VLOOKUP(A21,'MEMORIA DE CALCULO'!$A$6:$N$274,14,0) -> 0.03625 | G21: =IF($B21="SINAPI",VLOOKUP($C21,SINAPI08!$A$1:$D$15741,4,0),IF($B21="CDHU",VLOOKUP($C21,CDHU203!$A$8:$F$4122,6,0),IF($B21="SIURB EDIF",VLOOKUP($C21,EDIFJUL26!$A$1:$D$2751,4,0),IF($B21="siurb infra",VLOOKUP($C21,INFRAJUL26!$A$1:$D$935,4,0))))) -> 469.91 | H21: =G21*F21 -> 17.034238
A22: 2.6 | B22: SIURB EDIF | C22: 1001007 | D22: =IF($B22="SINAPI",VLOOKUP($C22,SINAPI08!$A$1:$D$15741,2,0),IF($B22="CDHU",VLOOKUP($C22,CDHU203!$A$8:$F$4122,2,0),IF($B22="SIURB EDIF",VLOOKUP($C22,EDIFJUL26!$A$1:$D$2751,2,0),IF($B22="siurb infra",VLOOKUP($C22,INFRAJUL26!$A$1:$D$935,2,0))))) -> REMOÇÃO DE ENTULHO COM CAÇAMBA METÁLICA, INCLUSIVE CARGA MANUAL E DESCARGA EM BOTA-FORA | E22: =IF($B22="SINAPI",VLOOKUP($C22,SINAPI08!$A$1:$D$15741,3,0),IF($B22="CDHU",VLOOKUP($C22,CDHU203!$A$8:$F$4122,3,0),IF($B22="SIURB EDIF",VLOOKUP($C22,EDIFJUL26!$A$1:$D$2751,3,0),IF($B22="siurb infra",VLOOKUP($C22,INFRAJUL26!$A$1:$D$935,3,0))))) -> M3 | F22: =VLOOKUP(A22,'MEMORIA DE CALCULO'!$A$6:$N$274,14,0) -> 16.42565 | G22: =IF($B22="SINAPI",VLOOKUP($C22,SINAPI08!$A$1:$D$15741,4,0),IF($B22="CDHU",VLOOKUP($C22,CDHU203!$A$8:$F$4122,6,0),IF($B22="SIURB EDIF",VLOOKUP($C22,EDIFJUL26!$A$1:$D$2751,4,0),IF($B22="siurb infra",VLOOKUP($C22,INFRAJUL26!$A$1:$D$935,4,0))))) -> 170.76 | H22: =G22*F22 -> 2804.844 | I22: FAZER COMPARATIVO DE RETIRADA DE ENTULHO
A24: 3 | D24: REFORMA E ADEQUAÇÃO | G24: TOTAL ITEM | H24: =SUM(H26,H55,H57) -> 111308.87
A26: 3.1 | D26: Execução Piso e Canteiros | H26: =SUM(H27:H53) -> 95365.476
A27: 3.1.1 | B27: SINAPI | C27: 100575 | D27: =IF($B27="SINAPI",VLOOKUP($C27,SINAPI08!$A$1:$D$15741,2,0),IF($B27="CDHU",VLOOKUP($C27,CDHU203!$A$8:$F$4122,2,0),IF($B27="SIURB EDIF",VLOOKUP($C27,EDIFJUL26!$A$1:$D$2751,2,0),IF($B27="siurb infra",VLOOKUP($C27,INFRAJUL26!$A$1:$D$935,2,0))))) -> REGULARIZAÇÃO DE SUPERFÍCIES COM MOTONIVELADORA. AF_09/2024 | E27: =IF($B27="SINAPI",VLOOKUP($C27,SINAPI08!$A$1:$D$15741,3,0),IF($B27="CDHU",VLOOKUP($C27,CDHU203!$A$8:$F$4122,3,0),IF($B27="SIURB EDIF",VLOOKUP($C27,EDIFJUL26!$A$1:$D$2751,3,0),IF($B27="siurb infra",VLOOKUP($C27,INFRAJUL26!$A$1:$D$935,3,0))))) -> M2 | F27: =VLOOKUP(A27,'MEMORIA DE CALCULO'!$A$6:$N$274,14,0) -> 322.6 | G27: =IF($B27="SINAPI",VLOOKUP($C27,SINAPI08!$A$1:$D$15741,4,0),IF($B27="CDHU",VLOOKUP($C27,CDHU203!$A$8:$F$4122,6,0),IF($B27="SIURB EDIF",VLOOKUP($C27,EDIFJUL26!$A$1:$D$2751,4,0),IF($B27="siurb infra",VLOOKUP($C27,INFRAJUL26!$A$1:$D$935,4,0))))) -> 0.62 | H27: =G27*F27 -> 200.012
A28: 3.1.2 | B28: SIURB EDIF | C28: 17002030 | D28: =IF($B28="SINAPI",VLOOKUP($C28,SINAPI08!$A$1:$D$15741,2,0),IF($B28="CDHU",VLOOKUP($C28,CDHU203!$A$8:$F$4122,2,0),IF($B28="SIURB EDIF",VLOOKUP($C28,EDIFJUL26!$A$1:$D$2751,2,0),IF($B28="siurb infra",VLOOKUP($C28,INFRAJUL26!$A$1:$D$935,2,0))))) -> PEDRISCO COM COMPACTAÇÃO MANUAL - ESPESSURA 5CM | E28: =IF($B28="SINAPI",VLOOKUP($C28,SINAPI08!$A$1:$D$15741,3,0),IF($B28="CDHU",VLOOKUP($C28,CDHU203!$A$8:$F$4122,3,0),IF($B28="SIURB EDIF",VLOOKUP($C28,EDIFJUL26!$A$1:$D$2751,3,0),IF($B28="siurb infra",VLOOKUP($C28,INFRAJUL26!$A$1:$D$935,3,0))))) -> M2 | F28: =VLOOKUP(A28,'MEMORIA DE CALCULO'!$A$6:$N$274,14,0) -> 322.6 | G28: =IF($B28="SINAPI",VLOOKUP($C28,SINAPI08!$A$1:$D$15741,4,0),IF($B28="CDHU",VLOOKUP($C28,CDHU203!$A$8:$F$4122,6,0),IF($B28="SIURB EDIF",VLOOKUP($C28,EDIFJUL26!$A$1:$D$2751,4,0),IF($B28="siurb infra",VLOOKUP($C28,INFRAJUL26!$A$1:$D$935,4,0))))) -> 16.33 | H28: =G28*F28 -> 5268.058 | I28: considerar a area dos canteiros A1
A29: 3.1.3 | B29: SINAPI | C29: 94993 | D29: =IF($B29="SINAPI",VLOOKUP($C29,SINAPI08!$A$1:$D$15741,2,0),IF($B29="CDHU",VLOOKUP($C29,CDHU203!$A$8:$F$4122,2,0),IF($B29="SIURB EDIF",VLOOKUP($C29,EDIFJUL26!$A$1:$D$2751,2,0),IF($B29="siurb infra",VLOOKUP($C29,INFRAJUL26!$A$1:$D$935,2,0))))) -> EXECUÇÃO DE PASSEIO (CALÇADA) OU PISO DE CONCRETO COM CONCRETO MOLDADO IN LOCO, USINADO, ACABAMENTO CONVENCIONAL, ESPESSURA 6 CM, ARMADO. AF_08/2022 | E29: =IF($B29="SINAPI",VLOOKUP($C29,SINAPI08!$A$1:$D$15741,3,0),IF($B29="CDHU",VLOOKUP($C29,CDHU203!$A$8:$F$4122,3,0),IF($B29="SIURB EDIF",VLOOKUP($C29,EDIFJUL26!$A$1:$D$2751,3,0),IF($B29="siurb infra",VLOOKUP($C29,INFRAJUL26!$A$1:$D$935,3,0))))) -> M2 | F29: =VLOOKUP(A29,'MEMORIA DE CALCULO'!$A$6:$N$274,14,0) -> 322.6 | G29: =IF($B29="SINAPI",VLOOKUP($C29,SINAPI08!$A$1:$D$15741,4,0),IF($B29="CDHU",VLOOKUP($C29,CDHU203!$A$8:$F$4122,6,0),IF($B29="SIURB EDIF",VLOOKUP($C29,EDIFJUL26!$A$1:$D$2751,4,0),IF($B29="siurb infra",VLOOKUP($C29,INFRAJUL26!$A$1:$D$935,4,0))))) -> 73.71 | H29: =G29*F29 -> 23778.846
A30: 3.1.4 | B30: CDHU | C30: 11.20.050 | D30: =IF($B30="SINAPI",VLOOKUP($C30,SINAPI08!$A$1:$D$15741,2,0),IF($B30="CDHU",VLOOKUP($C30,CDHU203!$A$8:$F$4122,2,0),IF($B30="SIURB EDIF",VLOOKUP($C30,EDIFJUL26!$A$1:$D$2751,2,0),IF($B30="siurb infra",VLOOKUP($C30,INFRAJUL26!$A$1:$D$935,2,0))))) -> Corte de junta de dilatação, com serra de disco diamantado para pisos | E30: =IF($B30="SINAPI",VLOOKUP($C30,SINAPI08!$A$1:$D$15741,3,0),IF($B30="CDHU",VLOOKUP($C30,CDHU203!$A$8:$F$4122,3,0),IF($B30="SIURB EDIF",VLOOKUP($C30,EDIFJUL26!$A$1:$D$2751,3,0),IF($B30="siurb infra",VLOOKUP($C30,INFRAJUL26!$A$1:$D$935,3,0))))) -> M | F30: =VLOOKUP(A30,'MEMORIA DE CALCULO'!$A$6:$N$274,14,0) -> 393.41463 | G30: =IF($B30="SINAPI",VLOOKUP($C30,SINAPI08!$A$1:$D$15741,4,0),IF($B30="CDHU",VLOOKUP($C30,CDHU203!$A$8:$F$4122,6,0),IF($B30="SIURB EDIF",VLOOKUP($C30,EDIFJUL26!$A$1:$D$2751,4,0),IF($B30="siurb infra",VLOOKUP($C30,INFRAJUL26!$A$1:$D$935,4,0))))) -> 12.12 | H30: =G30*F30 -> 4768.1854
A31: 3.1.5 | B31: SINAPI | C31: 94279 | D31: =IF($B31="SINAPI",VLOOKUP($C31,SINAPI08!$A$1:$D$15741,2,0),IF($B31="CDHU",VLOOKUP($C31,CDHU203!$A$8:$F$4122,2,0),IF($B31="SIURB EDIF",VLOOKUP($C31,EDIFJUL26!$A$1:$D$2751,2,0),IF($B31="siurb infra",VLOOKUP($C31,INFRAJUL26!$A$1:$D$935,2,0))))) -> ASSENTAMENTO DE GUIA (MEIO-FIO) EM TRECHO RETO, CONFECCIONADA EM CONCRETO PRÉ-FABRICADO, DIMENSÕES 39X6,5X6,5X19 CM (COMPRIMENTO X BASE INFERIOR X BASE SUPERIOR X ALTURA), PARA DELIMITAÇÃO DE JARDINS, PRAÇAS OU PASSEIOS. AF_01/2024 | E31: =IF($B31="SINAPI",VLOOKUP($C31,SINAPI08!$A$1:$D$15741,3,0),IF($B31="CDHU",VLOOKUP($C31,CDHU203!$A$8:$F$4122,3,0),IF($B31="SIURB EDIF",VLOOKUP($C31,EDIFJUL26!$A$1:$D$2751,3,0),IF($B31="siurb infra",VLOOKUP($C31,INFRAJUL26!$A$1:$D$935,3,0))))) -> M | F31: =VLOOKUP(A31,'MEMORIA DE CALCULO'!$A$6:$N$274,14,0) -> 95.85 | G31: =IF($B31="SINAPI",VLOOKUP($C31,SINAPI08!$A$1:$D$15741,4,0),IF($B31="CDHU",VLOOKUP($C31,CDHU203!$A$8:$F$4122,6,0),IF($B31="SIURB EDIF",VLOOKUP($C31,EDIFJUL26!$A$1:$D$2751,4,0),IF($B31="siurb infra",VLOOKUP($C31,INFRAJUL26!$A$1:$D$935,4,0))))) -> 62.28 | H31: =G31*F31 -> 5969.538
A32: 3.1.6 | B32: SINAPI | C32: 94280 | D32: =IF($B32="SINAPI",VLOOKUP($C32,SINAPI08!$A$1:$D$15741,2,0),IF($B32="CDHU",VLOOKUP($C32,CDHU203!$A$8:$F$4122,2,0),IF($B32="SIURB EDIF",VLOOKUP($C32,EDIFJUL26!$A$1:$D$2751,2,0),IF($B32="siurb infra",VLOOKUP($C32,INFRAJUL26!$A$1:$D$935,2,0))))) -> ASSENTAMENTO DE GUIA (MEIO-FIO) EM TRECHO CURVO, CONFECCIONADA EM CONCRETO PRÉ-FABRICADO, DIMENSÕES 39X6,5X6,5X19 CM (COMPRIMENTO X BASE INFERIOR X BASE SUPERIOR X ALTURA), PARA DELIMITAÇÃO DE JARDINS, PRAÇAS OU PASSEIOS. AF_01/2024 | E32: =IF($B32="SINAPI",VLOOKUP($C32,SINAPI08!$A$1:$D$15741,3,0),IF($B32="CDHU",VLOOKUP($C32,CDHU203!$A$8:$F$4122,3,0),IF($B32="SIURB EDIF",VLOOKUP($C32,EDIFJUL26!$A$1:$D$2751,3,0),IF($B32="siurb infra",VLOOKUP($C32,INFRAJUL26!$A$1:$D$935,3,0))))) -> M | F32: =VLOOKUP(A32,'MEMORIA DE CALCULO'!$A$6:$N$274,14,0) -> 16.23 | G32: =IF($B32="SINAPI",VLOOKUP($C32,SINAPI08!$A$1:$D$15741,4,0),IF($B32="CDHU",VLOOKUP($C32,CDHU203!$A$8:$F$4122,6,0),IF($B32="SIURB EDIF",VLOOKUP($C32,EDIFJUL26!$A$1:$D$2751,4,0),IF($B32="siurb infra",VLOOKUP($C32,INFRAJUL26!$A$1:$D$935,4,0))))) -> 65.55 | H32: =G32*F32 -> 1063.8765
A33: 3.1.7 | B33: SINAPI | C33: 98519 | D33: =IF($B33="SINAPI",VLOOKUP($C33,SINAPI08!$A$1:$D$15741,2,0),IF($B33="CDHU",VLOOKUP($C33,CDHU203!$A$8:$F$4122,2,0),IF($B33="SIURB EDIF",VLOOKUP($C33,EDIFJUL26!$A$1:$D$2751,2,0),IF($B33="siurb infra",VLOOKUP($C33,INFRAJUL26!$A$1:$D$935,2,0))))) -> REVOLVIMENTO E LIMPEZA MANUAL DE SOLO. AF_07/2024 | E33: =IF($B33="SINAPI",VLOOKUP($C33,SINAPI08!$A$1:$D$15741,3,0),IF($B33="CDHU",VLOOKUP($C33,CDHU203!$A$8:$F$4122,3,0),IF($B33="SIURB EDIF",VLOOKUP($C33,EDIFJUL26!$A$1:$D$2751,3,0),IF($B33="siurb infra",VLOOKUP($C33,INFRAJUL26!$A$1:$D$935,3,0))))) -> M2 | F33: =VLOOKUP(A33,'MEMORIA DE CALCULO'!$A$6:$N$274,14,0) -> 96.42 | G33: =IF($B33="SINAPI",VLOOKUP($C33,SINAPI08!$A$1:$D$15741,4,0),IF($B33="CDHU",VLOOKUP($C33,CDHU203!$A$8:$F$4122,6,0),IF($B33="SIURB EDIF",VLOOKUP($C33,EDIFJUL26!$A$1:$D$2751,4,0),IF($B33="siurb infra",VLOOKUP($C33,INFRAJUL26!$A$1:$D$935,4,0))))) -> 4.2 | H33: =G33*F33 -> 404.964
A34: 3.1.8 | B34: SINAPI | C34: 98520 | D34: =IF($B34="SINAPI",VLOOKUP($C34,SINAPI08!$A$1:$D$15741,2,0),IF($B34="CDHU",VLOOKUP($C34,CDHU203!$A$8:$F$4122,2,0),IF($B34="SIURB EDIF",VLOOKUP($C34,EDIFJUL26!$A$1:$D$2751,2,0),IF($B34="siurb infra",VLOOKUP($C34,INFRAJUL26!$A$1:$D$935,2,0))))) -> APLICAÇÃO DE ADUBO EM SOLO. AF_07/2024 | E34: =IF($B34="SINAPI",VLOOKUP($C34,SINAPI08!$A$1:$D$15741,3,0),IF($B34="CDHU",VLOOKUP($C34,CDHU203!$A$8:$F$4122,3,0),IF($B34="SIURB EDIF",VLOOKUP($C34,EDIFJUL26!$A$1:$D$2751,3,0),IF($B34="siurb infra",VLOOKUP($C34,INFRAJUL26!$A$1:$D$935,3,0))))) -> M2 | F34: =VLOOKUP(A34,'MEMORIA DE CALCULO'!$A$6:$N$274,14,0) -> 96.42 | G34: =IF($B34="SINAPI",VLOOKUP($C34,SINAPI08!$A$1:$D$15741,4,0),IF($B34="CDHU",VLOOKUP($C34,CDHU203!$A$8:$F$4122,6,0),IF($B34="SIURB EDIF",VLOOKUP($C34,EDIFJUL26!$A$1:$D$2751,4,0),IF($B34="siurb infra",VLOOKUP($C34,INFRAJUL26!$A$1:$D$935,4,0))))) -> 7.5 | H34: =G34*F34 -> 723.15
