Workbook
Name \z: #REF!
Name \z: #REF!
Name Arial: #REF!
Name Arial: #REF!
Name Arial: #REF!
Name Arial: #REF!
Name Arial: #REF!
Name Aut_original: #REF!
Name Aut_original: #REF!
Name Aut_resumo: #REF!
Name Aut_resumo: #REF!
Name CC: éformula
Name CC: éformula
Name CC: éformula
Name CC: éformula
Name COMP: #REF!
Name COMP: #REF!
Name COT.3: #REF!
Name COT.3: #REF!
Name COT.4: #REF!
Name COT.4: #REF!
Name CRONOGRAMA: #REF!
Name CRONOGRAMA: #REF!
Name CRONOGRAMA: #REF!
Name DDDDD: #REF!
Name DEZEMBRO2021: #REF!
Name ff: #REF!
Name ff: #REF!
Name flavio: #REF!
Name flavio: #REF!
Name formato.formula: CELL(48,INDIRECT("rc",FALSE))
Name formatoformula: éformula
Name formatoformula: éformula
Name formatoformula: éformula
Name formatoformula: éformula
Name formatoformula: éformula
Name GGGG: #REF!
Name GGGG: #REF!
Name HHH: #REF!
Name HHH: #REF!
Name iiiiiiiiiiii: #REF!
Name iiiiiiiiiiii: #REF!
Name JR_PAGE_ANCHOR_0_1: #REF!
Name JR_PAGE_ANCHOR_0_1: #REF!
Name JR_PAGE_ANCHOR_0_1: #REF!
Name KKKKKK: #REF!
Name LLLLL: #REF!
Name ORÇAMENTO: #REF!
Name peso: #REF!
Name Print: #REF!
Name Print: #REF!
Name Print_Area: ATESTADOS!$A$9:$J$23
Name Print_Area: 'Cronograma Físico-Financeiro'!$A$1:$BY$148
Name Print_Area: 'MEMORIA CALCULO'!$B$2:$Q$955
Name Print_Area: 'Plan. Orçamentária'!$D$1:$L$316
Name Print_Area: RESUMO!$A$1:$E$46
Name Print_Area_MI: #REF!
Name Print_Area_MI: #REF!
Name Print_Titles: ATESTADOS!$1:$12
Name Print_Titles: 'Cronograma Físico-Financeiro'!$A:$E

Sheet RESUMO
A1: Dados da Obra
A2: Objeto | B2: ='Plan. Orçamentária'!E2 -> AMPLIAÇÃO DO CEI RITA DE CÁSSIA GOMES DENIG
A3: Local | B3: ='Plan. Orçamentária'!E3 -> RUA DR. LOURENÇO DE SÁ ALBUQUERQUE, 70 - JARDIM BRASIL - ATIBAIA SP
A4: Base | B4: ='Plan. Orçamentária'!E4 -> SINAPI - MAR.2025, CDHU - FEV.2025 (197), SIURB EDIFICAÇÕES - JAN. 2025, SIURB INFRAESTRUTURA URBANA - JAN. 2025, FDE -JAN.2025, SICRO NOVO - JAN. 2025 - TODOS ONERADOS
B5: ='Plan. Orçamentária'!E5 -> LEIS SOCIAIS SINAPI - 115,54% - CDHU 128,23% - FDE 122% - SIURB EDIF - 156,70%
A6: BDI | B6: ='Plan. Orçamentária'!E6 -> 0.2247 | C6: ='Plan. Orçamentária'!F6 -> ONERADO
A7: BDI FDE | B7: 0.23
B8: RESUMO
E10: CONTRATADO - ORIGINAL
E11: =E48 -> 1484077.4
A13: Item | B13: Descrição dos Serviços | E13: Preço Total | G13: % TOTAL | H13: % PARCIAL
A15: SERVIÇOS PRELIMINARES | E15: =SUM(E16:E18) -> 335278.26 | G15: =IFERROR(E15/$E$11,0) -> 0.2259
A16: 1 | B16: =IF(A16<>0,INDEX('Plan. Orçamentária'!$D$1:$M$306,MATCH(A16,'Plan. Orçamentária'!$D$1:$D$306,0),2),0) -> EQUIPE TÉCNICA | E16: =IF(A16<>0,INDEX('Plan. Orçamentária'!$D$1:$M$2000,MATCH(A16,'Plan. Orçamentária'!$D$1:$D$2000,0),9),0) -> 107793.84 | G16: =IFERROR(E16/$E$11,0) -> 0.0726 | H16: =IFERROR(E16/$E$15,0) -> 0.322
A17: 2 | B17: =IF(A17<>0,INDEX('Plan. Orçamentária'!$D$1:$M$306,MATCH(A17,'Plan. Orçamentária'!$D$1:$D$306,0),2),0) -> CANTEIRO DE OBRAS | E17: =IF(A17<>0,INDEX('Plan. Orçamentária'!$D$1:$M$2000,MATCH(A17,'Plan. Orçamentária'!$D$1:$D$2000,0),9),0) -> 95159.28 | G17: =IFERROR(E17/$E$11,0) -> 0.0641 | H17: =IFERROR(E17/$E$15,0) -> 0.284
A18: 3 | B18: =IF(A18<>0,INDEX('Plan. Orçamentária'!$D$1:$M$306,MATCH(A18,'Plan. Orçamentária'!$D$1:$D$306,0),2),0) -> INFRAESTRUTURA | E18: =IF(A18<>0,INDEX('Plan. Orçamentária'!$D$1:$M$2000,MATCH(A18,'Plan. Orçamentária'!$D$1:$D$2000,0),9),0) -> 132325.14 | G18: =IFERROR(E18/$E$11,0) -> 0.0892 | H18: =IFERROR(E18/$E$15,0) -> 0.395
A19: BLOCO AMPLIAÇÃO | E19: =SUM(E20:E37) -> 941304.41 | G19: =IFERROR(E19/$E$11,0) -> 0.6343
A20: 4 | B20: =IF(A20<>0,INDEX('Plan. Orçamentária'!$D$1:$M$306,MATCH(A20,'Plan. Orçamentária'!$D$1:$D$306,0),2),0) -> FUNDAÇÃO | E20: =IF(A20<>0,INDEX('Plan. Orçamentária'!$D$1:$M$2000,MATCH(A20,'Plan. Orçamentária'!$D$1:$D$2000,0),9),0) -> 162876.03 | G20: =IFERROR(E20/$E$11,0) -> 0.1097 | H20: =IFERROR(E20/$E$19,0) -> 0.173
A21: 5 | B21: =IF(A21<>0,INDEX('Plan. Orçamentária'!$D$1:$M$306,MATCH(A21,'Plan. Orçamentária'!$D$1:$D$306,0),2),0) -> ESTRUTURAS | E21: =IF(A21<>0,INDEX('Plan. Orçamentária'!$D$1:$M$2000,MATCH(A21,'Plan. Orçamentária'!$D$1:$D$2000,0),9),0) -> 290546.82 | G21: =IFERROR(E21/$E$11,0) -> 0.1958 | H21: =IFERROR(E21/$E$19,0) -> 0.309
A22: 6 | B22: =IF(A22<>0,INDEX('Plan. Orçamentária'!$D$1:$M$306,MATCH(A22,'Plan. Orçamentária'!$D$1:$D$306,0),2),0) -> COBERTURA NOVA | E22: =IF(A22<>0,INDEX('Plan. Orçamentária'!$D$1:$M$2000,MATCH(A22,'Plan. Orçamentária'!$D$1:$D$2000,0),9),0) -> 75241.18 | G22: =IFERROR(E22/$E$11,0) -> 0.0507 | H22: =IFERROR(E22/$E$19,0) -> 0.08
A23: 7 | B23: =IF(A23<>0,INDEX('Plan. Orçamentária'!$D$1:$M$306,MATCH(A23,'Plan. Orçamentária'!$D$1:$D$306,0),2),0) -> IMPERMEABILIZAÇÕES | E23: =IF(A23<>0,INDEX('Plan. Orçamentária'!$D$1:$M$2000,MATCH(A23,'Plan. Orçamentária'!$D$1:$D$2000,0),9),0) -> 72331.2 | G23: =IFERROR(E23/$E$11,0) -> 0.0487 | H23: =IFERROR(E23/$E$19,0) -> 0.077
A24: 8 | B24: =IF(A24<>0,INDEX('Plan. Orçamentária'!$D$1:$M$306,MATCH(A24,'Plan. Orçamentária'!$D$1:$D$306,0),2),0) -> FECHAMENTOS EM ALVENARIA | E24: =IF(A24<>0,INDEX('Plan. Orçamentária'!$D$1:$M$2000,MATCH(A24,'Plan. Orçamentária'!$D$1:$D$2000,0),9),0) -> 65554.81 | G24: =IFERROR(E24/$E$11,0) -> 0.0442 | H24: =IFERROR(E24/$E$19,0) -> 0.07
A25: 9 | B25: =IF(A25<>0,INDEX('Plan. Orçamentária'!$D$1:$M$306,MATCH(A25,'Plan. Orçamentária'!$D$1:$D$306,0),2),0) -> INSTALAÇÕES ELÉTRICAS | E25: =IF(A25<>0,INDEX('Plan. Orçamentária'!$D$1:$M$2000,MATCH(A25,'Plan. Orçamentária'!$D$1:$D$2000,0),9),0) -> 35569.91 | G25: =IFERROR(E25/$E$11,0) -> 0.024 | H25: =IFERROR(E25/$E$19,0) -> 0.038
A26: 10 | B26: =IF(A26<>0,INDEX('Plan. Orçamentária'!$D$1:$M$306,MATCH(A26,'Plan. Orçamentária'!$D$1:$D$306,0),2),0) -> CLIMATIZAÇÃO | E26: =IF(A26<>0,INDEX('Plan. Orçamentária'!$D$1:$M$2000,MATCH(A26,'Plan. Orçamentária'!$D$1:$D$2000,0),9),0) -> 6263.1 | G26: =IFERROR(E26/$E$11,0) -> 0.0042 | H26: =IFERROR(E26/$E$19,0) -> 0.007
A27: 11 | B27: =IF(A27<>0,INDEX('Plan. Orçamentária'!$D$1:$M$306,MATCH(A27,'Plan. Orçamentária'!$D$1:$D$306,0),2),0) -> REDE DE DADOS | E27: =IF(A27<>0,INDEX('Plan. Orçamentária'!$D$1:$M$2000,MATCH(A27,'Plan. Orçamentária'!$D$1:$D$2000,0),9),0) -> 19567.93 | G27: =IFERROR(E27/$E$11,0) -> 0.0132 | H27: =IFERROR(E27/$E$19,0) -> 0.021
A28: 12 | B28: =IF(A28<>0,INDEX('Plan. Orçamentária'!$D$1:$M$306,MATCH(A28,'Plan. Orçamentária'!$D$1:$D$306,0),2),0) -> SPDA | E28: =IF(A28<>0,INDEX('Plan. Orçamentária'!$D$1:$M$2000,MATCH(A28,'Plan. Orçamentária'!$D$1:$D$2000,0),9),0) -> 15503.22 | G28: =IFERROR(E28/$E$11,0) -> 0.0104 | H28: =IFERROR(E28/$E$19,0) -> 0.016
A29: 13 | B29: =IF(A29<>0,INDEX('Plan. Orçamentária'!$D$1:$M$306,MATCH(A29,'Plan. Orçamentária'!$D$1:$D$306,0),2),0) -> ENERGIA SOLAR | E29: =IF(A29<>0,INDEX('Plan. Orçamentária'!$D$1:$M$2000,MATCH(A29,'Plan. Orçamentária'!$D$1:$D$2000,0),9),0) -> 50000.19 | G29: =IFERROR(E29/$E$11,0) -> 0.0337 | H29: =IFERROR(E29/$E$19,0) -> 0.053
A30: 14 | B30: =IF(A30<>0,INDEX('Plan. Orçamentária'!$D$1:$M$306,MATCH(A30,'Plan. Orçamentária'!$D$1:$D$306,0),2),0) -> INSTALAÇÕES HIDRÁULICAS - REDE DE ÁGUA FRIA | E30: =IF(A30<>0,INDEX('Plan. Orçamentária'!$D$1:$M$2000,MATCH(A30,'Plan. Orçamentária'!$D$1:$D$2000,0),9),0) -> 8406.61 | G30: =IFERROR(E30/$E$11,0) -> 0.0057 | H30: =IFERROR(E30/$E$19,0) -> 0.009
A31: 15 | B31: =IF(A31<>0,INDEX('Plan. Orçamentária'!$D$1:$M$306,MATCH(A31,'Plan. Orçamentária'!$D$1:$D$306,0),2),0) -> INSTALAÇÕES HIDRÁULICAS - REDE DE ESGOTO | E31: =IF(A31<>0,INDEX('Plan. Orçamentária'!$D$1:$M$2000,MATCH(A31,'Plan. Orçamentária'!$D$1:$D$2000,0),9),0) -> 13273.51 | G31: =IFERROR(E31/$E$11,0) -> 0.0089 | H31: =IFERROR(E31/$E$19,0) -> 0.014
... A37: 21 | B37: =IF(A37<>0,INDEX('Plan. Orçamentária'!$D$1:$M$306,MATCH(A37,'Plan. Orçamentária'!$D$1:$D$306,0),2),0) -> LIMPEZA FINAL | E37: =IF(A37<>0,INDEX('Plan. Orçamentária'!$D$1:$M$2000,MATCH(A37,'Plan. Orçamentária'!$D$1:$D$2000,0),9),0) -> 809.2 | G37: =IFERROR(E37/$E$11,0) -> 0.0005 | H37: =IFERROR(E37/$E$19,0) -> 0.001
A38: IMPLANTAÇÃO | E38: =SUM(E39:E46) -> 207494.69 | G38: =IFERROR(E38/$E$11,0) -> 0.1398
A39: 22 | B39: =IF(A39<>0,INDEX('Plan. Orçamentária'!$D$1:$M$306,MATCH(A39,'Plan. Orçamentária'!$D$1:$D$306,0),2),0) -> INSTALAÇÕES ELÉTRICAS | E39: =IF(A39<>0,INDEX('Plan. Orçamentária'!$D$1:$M$2000,MATCH(A39,'Plan. Orçamentária'!$D$1:$D$2000,0),9),0) -> 12528.6 | G39: =IFERROR(E39/$E$11,0) -> 0.0084 | H39: =IFERROR(E39/$E$38,0) -> 0.06
A40: 23 | B40: =IF(A40<>0,INDEX('Plan. Orçamentária'!$D$1:$M$306,MATCH(A40,'Plan. Orçamentária'!$D$1:$D$306,0),2),0) -> SPDA | E40: =IF(A40<>0,INDEX('Plan. Orçamentária'!$D$1:$M$2000,MATCH(A40,'Plan. Orçamentária'!$D$1:$D$2000,0),9),0) -> 2699.56 | G40: =IFERROR(E40/$E$11,0) -> 0.0018 | H40: =IFERROR(E40/$E$38,0) -> 0.013
A41: 24 | B41: =IF(A41<>0,INDEX('Plan. Orçamentária'!$D$1:$M$306,MATCH(A41,'Plan. Orçamentária'!$D$1:$D$306,0),2),0) -> PASSEIOS | E41: =IF(A41<>0,INDEX('Plan. Orçamentária'!$D$1:$M$2000,MATCH(A41,'Plan. Orçamentária'!$D$1:$D$2000,0),9),0) -> 7190.27 | G41: =IFERROR(E41/$E$11,0) -> 0.0048 | H41: =IFERROR(E41/$E$38,0) -> 0.035
A42: 25 | B42: =IF(A42<>0,INDEX('Plan. Orçamentária'!$D$1:$M$306,MATCH(A42,'Plan. Orçamentária'!$D$1:$D$306,0),2),0) -> PAISAGISMO | E42: =IF(A42<>0,INDEX('Plan. Orçamentária'!$D$1:$M$2000,MATCH(A42,'Plan. Orçamentária'!$D$1:$D$2000,0),9),0) -> 18569.44 | G42: =IFERROR(E42/$E$11,0) -> 0.0125 | H42: =IFERROR(E42/$E$38,0) -> 0.089
A43: 26 | B43: =IF(A43<>0,INDEX('Plan. Orçamentária'!$D$1:$M$306,MATCH(A43,'Plan. Orçamentária'!$D$1:$D$306,0),2),0) -> PLAYGROUND | E43: =IF(A43<>0,INDEX('Plan. Orçamentária'!$D$1:$M$2000,MATCH(A43,'Plan. Orçamentária'!$D$1:$D$2000,0),9),0) -> 103590.2 | G43: =IFERROR(E43/$E$11,0) -> 0.0698 | H43: =IFERROR(E43/$E$38,0) -> 0.499
A44: 27 | B44: =IF(A44<>0,INDEX('Plan. Orçamentária'!$D$1:$M$306,MATCH(A44,'Plan. Orçamentária'!$D$1:$D$306,0),2),0) -> CORRIMÃO | E44: =IF(A44<>0,INDEX('Plan. Orçamentária'!$D$1:$M$2000,MATCH(A44,'Plan. Orçamentária'!$D$1:$D$2000,0),9),0) -> 58335.21 | G44: =IFERROR(E44/$E$11,0) -> 0.0393 | H44: =IFERROR(E44/$E$38,0) -> 0.281
A45: 28 | B45: =IF(A45<>0,INDEX('Plan. Orçamentária'!$D$1:$M$306,MATCH(A45,'Plan. Orçamentária'!$D$1:$D$306,0),2),0) -> PORTÃO | E45: =IF(A45<>0,INDEX('Plan. Orçamentária'!$D$1:$M$2000,MATCH(A45,'Plan. Orçamentária'!$D$1:$D$2000,0),9),0) -> 3203.66 | G45: =IFERROR(E45/$E$11,0) -> 0.0022 | H45: =IFERROR(E45/$E$38,0) -> 0.015
A46: 29 | B46: =IF(A46<>0,INDEX('Plan. Orçamentária'!$D$1:$M$306,MATCH(A46,'Plan. Orçamentária'!$D$1:$D$306,0),2),0) -> LIMPEZA FINAL | E46: =IF(A46<>0,INDEX('Plan. Orçamentária'!$D$1:$M$2000,MATCH(A46,'Plan. Orçamentária'!$D$1:$D$2000,0),9),0) -> 1377.75 | G46: =IFERROR(E46/$E$11,0) -> 0.0009 | H46: =IFERROR(E46/$E$38,0) -> 0.007
E48: =SUMIF(A16:A46,">0,9",E16:E46) -> 1484077.4
A50: =TODAY() -> 45782
...

Sheet Plan. Orçamentária
D1: Dados da Obra | Q1: RESUMO | T1: ESCOLHIDO
D2: Objeto | E2: AMPLIAÇÃO DO CEI RITA DE CÁSSIA GOMES DENIG | R2: DESONERADO | S2: ONERADO | T2: =F6 -> ONERADO
D3: Local | E3: RUA DR. LOURENÇO DE SÁ ALBUQUERQUE, 70 - JARDIM BRASIL - ATIBAIA SP | Q3: BDI Geral | R3: =BDI!G27 -> 0.2882 | S3: =BDI!G26 -> 0.2247 | T3: =IF($T$2="Onerado",S3,R3) -> 0.2247
D4: Base | E4: SINAPI - MAR.2025, CDHU - FEV.2025 (197), SIURB EDIFICAÇÕES - JAN. 2025, SIURB INFRAESTRUTURA URBANA - JAN. 2025, FDE -JAN.2025, SICRO NOVO - JAN. 2025 - TODOS ONERADOS | Q4: BDI Diferen. | R4: 0 | S4: 0 | T4: =IF($T$2="Desonerado",R4,S4) -> 0
E5: LEIS SOCIAIS SINAPI - 115,54% - CDHU 128,23% - FDE 122% - SIURB EDIF - 156,70% | Q5: Valor Global | R5: 0 | S5: 0 | T5: x
D6: BDI | E6: =T3 -> 0.2247 | F6: ONERADO | Q6: Diferença | R6: 0
D7: BDI FDE | E7: 0.23
D8: PLANILHA ORÇAMENTÁRIA | Q8: TABELAS DE CUSTOS COM BDI INCLUÍDO | T8: ESCOLHIDO
Q9: SICRO | R9: 0.3432 | S9: 0.267 | T9: 0.3432 | U9: (Só temos Onerada)
I10: CONTRATADO - ORIGINAL | T10: 0
I11: VALOR GLOBAL | L11: =L307 -> 1484077.4 | Q11: DER/SP | R11: 0.4179 | S11: 0.35 | T11: 0.4179
T12: 0
D13: Item | E13: Fonte | F13: Código | G13: Descrição dos Serviços | H13: Unid. | I13: Quant. | J13: Custo Unitário | K13: Preço Unitário | L13: Preço Total | Q13: FDE | R13: 0.195 | T13: =R13 -> 0.195 | U13: (Só temos Desonerada)
Q14: SABESP | R14: 0.3481 | S14: 0.28 | T14: 0.3481 | U14: (Só temos Onerada)
E15: SERVIÇOS PRELIMINARES
A16: =LEFT(D16,1) -> 1 | B16: =D16 -> 1 | C16: =IF(D16="",0,B16) -> 1 | D16: 1 | E16: EQUIPE TÉCNICA | K16: SUBTOTAL | L16: =SUMIF(C17:C306,D16,L17:L306) -> 107793.84 | O16: =IFERROR(L16/$L$11,0) -> 0.0726
A17: =LEFT(D17,1) -> 1 | B17: =B16 -> 1 | C17: =IF(D17="",0,B17) -> 1 | D17: =(D16*1000)+1 -> 1001 | E17: SINAPI | F17: 90778 | G17: =IF($E17="SINAPI",VLOOKUP($F17,'SINAPI_ONERADO-03.25'!$B$14:$E$10000,2,FALSE),IF($E17="CDHU",VLOOKUP($F17,'CDHU_Onerado-02.25 (197)'!$A$9:$F$4114,2,FALSE),IF($E17="FDE",VLOOKUP($F17,'FDE-01.25'!$A$3:$D$4000,2,FALSE),IF($E17="SIURB (E)",VLOOKUP($F17,'EDIF SEM Des JAN25'!$A$3:$D$3000,2,FALSE),IF($E17="SIURB (I)",VLOOKUP($F17,'INFRA SEM Des JAN25'!$A$2:$D$1000,2,FALSE),IF($E17="SICRO NOVO",VLOOKUP($F17,'SICRO.DNIT ONERADA 01.25'!$A$4:$D$7000,2,FALSE),0)))))) -> ENGENHEIRO CIVIL DE OBRA PLENO COM ENCARGOS COMPLEMENTARES | H17: =IF($E17="SINAPI",VLOOKUP($F17,'SINAPI_ONERADO-03.25'!$B$2:$E$10000,3,FALSE),IF($E17="CDHU",VLOOKUP($F17,'CDHU_Onerado-02.25 (197)'!$A$9:$F$4114,3,FALSE),IF($E17="FDE",VLOOKUP($F17,'FDE-01.25'!$A$3:$D$4000,3,FALSE),IF($E17="SIURB (E)",VLOOKUP($F17,'EDIF SEM Des JAN25'!$A$3:$D$3000,3,FALSE),IF($E17="SIURB (I)",VLOOKUP($F17,'INFRA SEM Des JAN25'!$A$2:$D$1000,3,FALSE),IF($E17="SICRO NOVO",VLOOKUP($F17,'SICRO.DNIT ONERADA 01.25'!$A$4:$D$7000,3,FALSE),0)))))) -> H | I17: =IF(D17<>0,INDEX('MEMORIA CALCULO'!$A$1:$Q$2429,MATCH(D17,'MEMORIA CALCULO'!$A$1:$A$2429,0),17),0) -> 264 | J17: =IF($E17="SINAPI",VLOOKUP($F17,'SINAPI_ONERADO-03.25'!$B$14:$E$10000,4,FALSE),IF($E17="CDHU",VLOOKUP($F17,'CDHU_Onerado-02.25 (197)'!$A$9:$F$4114,6,FALSE),IF($E17="FDE",VLOOKUP($F17,'FDE-01.25'!$A$3:$E$4000,5,FALSE),IF($E17="SIURB (E)",VLOOKUP($F17,'EDIF SEM Des JAN25'!$A$3:$D$3000,4,FALSE),IF($E17="SIURB (I)",VLOOKUP($F17,'INFRA SEM Des JAN25'!$A$2:$D$1000,4,FALSE),IF($E17="SICRO NOVO",VLOOKUP($F17,'SICRO.DNIT ONERADA 01.25'!$A$4:$D$7000,4,FALSE),0)))))) -> 132.73 | K17: =J17*(1+IF(N17="x",$T$4,$T$3)) -> 162.55 | L17: =ROUND(ROUND(I17,2)*ROUND(K17,2),2) -> 42913.2 | O17: =IFERROR(L17/$L$11,0) -> 0.0289
A18: =LEFT(D18,1) -> 1 | B18: =B17 -> 1 | C18: =IF(D18="",0,B18) -> 1 | D18: =D17+1 -> 1002 | E18: SINAPI | F18: 90776 | G18: =IF($E18="SINAPI",VLOOKUP($F18,'SINAPI_ONERADO-03.25'!$B$14:$E$10000,2,FALSE),IF($E18="CDHU",VLOOKUP($F18,'CDHU_Onerado-02.25 (197)'!$A$9:$F$4114,2,FALSE),IF($E18="FDE",VLOOKUP($F18,'FDE-01.25'!$A$3:$D$4000,2,FALSE),IF($E18="SIURB (E)",VLOOKUP($F18,'EDIF SEM Des JAN25'!$A$3:$D$3000,2,FALSE),IF($E18="SIURB (I)",VLOOKUP($F18,'INFRA SEM Des JAN25'!$A$2:$D$1000,2,FALSE),IF($E18="SICRO NOVO",VLOOKUP($F18,'SICRO.DNIT ONERADA 01.25'!$A$4:$D$7000,2,FALSE),0)))))) -> ENCARREGADO GERAL COM ENCARGOS COMPLEMENTARES | H18: =IF($E18="SINAPI",VLOOKUP($F18,'SINAPI_ONERADO-03.25'!$B$2:$E$10000,3,FALSE),IF($E18="CDHU",VLOOKUP($F18,'CDHU_Onerado-02.25 (197)'!$A$9:$F$4114,3,FALSE),IF($E18="FDE",VLOOKUP($F18,'FDE-01.25'!$A$3:$D$4000,3,FALSE),IF($E18="SIURB (E)",VLOOKUP($F18,'EDIF SEM Des JAN25'!$A$3:$D$3000,3,FALSE),IF($E18="SIURB (I)",VLOOKUP($F18,'INFRA SEM Des JAN25'!$A$2:$D$1000,3,FALSE),IF($E18="SICRO NOVO",VLOOKUP($F18,'SICRO.DNIT ONERADA 01.25'!$A$4:$D$7000,3,FALSE),0)))))) -> H | I18: =IF(D18<>0,INDEX('MEMORIA CALCULO'!$A$1:$Q$2429,MATCH(D18,'MEMORIA CALCULO'!$A$1:$A$2429,0),17),0) -> 1056 | J18: =IF($E18="SINAPI",VLOOKUP($F18,'SINAPI_ONERADO-03.25'!$B$14:$E$10000,4,FALSE),IF($E18="CDHU",VLOOKUP($F18,'CDHU_Onerado-02.25 (197)'!$A$9:$F$4114,6,FALSE),IF($E18="FDE",VLOOKUP($F18,'FDE-01.25'!$A$3:$E$4000,5,FALSE),IF($E18="SIURB (E)",VLOOKUP($F18,'EDIF SEM Des JAN25'!$A$3:$D$3000,4,FALSE),IF($E18="SIURB (I)",VLOOKUP($F18,'INFRA SEM Des JAN25'!$A$2:$D$1000,4,FALSE),IF($E18="SICRO NOVO",VLOOKUP($F18,'SICRO.DNIT ONERADA 01.25'!$A$4:$D$7000,4,FALSE),0)))))) -> 50.17 | K18: =J18*(1+IF(N18="x",$T$4,$T$3)) -> 61.44 | L18: =ROUND(ROUND(I18,2)*ROUND(K18,2),2) -> 64880.64 | O18: =IFERROR(L18/$L$11,0) -> 0.0437
A20: =LEFT(D20,1) -> 2 | B20: =D20 -> 2 | C20: =IF(D20="",0,B20) -> 2 | D20: =D16+1 -> 2 | E20: CANTEIRO DE OBRAS | K20: SUBTOTAL | L20: =SUMIF(C21:C312,D20,L21:L312) -> 95159.28 | O20: =IFERROR(L20/$L$11,0) -> 0.0641
A21: =LEFT(D21,1) -> 2 | B21: =B20 -> 2 | C21: =IF(D21="",0,B21) -> 2 | D21: =(D20*1000)+1 -> 2001 | E21: CDHU | F21: 02.10.020 | G21: =IF($E21="SINAPI",VLOOKUP($F21,'SINAPI_ONERADO-03.25'!G22:K7574,2,FALSE),IF($E21="CDHU",VLOOKUP($F21,'CDHU_Onerado-02.25 (197)'!$A$9:$F$4114,2,FALSE),IF($E21="FDE",VLOOKUP($F21,'FDE-01.25'!$A$3:$D$4000,2,FALSE),IF($E21="SIURB (E)",VLOOKUP($F21,'EDIF SEM Des JAN25'!$A$3:$D$3000,2,FALSE),IF($E21="SIURB (I)",VLOOKUP($F21,'INFRA SEM Des JAN25'!$A$2:$D$1000,2,FALSE),IF($E21="SICRO NOVO",VLOOKUP($F21,'SICRO.DNIT ONERADA 01.25'!$A$4:$D$7000,2,FALSE),0)))))) -> Locação de obra de edificação | H21: =IF($E21="SINAPI",VLOOKUP($F21,'SINAPI_ONERADO-03.25'!$G$2:$K$7540,3,FALSE),IF($E21="CDHU",VLOOKUP($F21,'CDHU_Onerado-02.25 (197)'!$A$9:$F$4114,3,FALSE),IF($E21="FDE",VLOOKUP($F21,'FDE-01.25'!$A$3:$D$4000,3,FALSE),IF($E21="SIURB (E)",VLOOKUP($F21,'EDIF SEM Des JAN25'!$A$3:$D$3000,3,FALSE),IF($E21="SIURB (I)",VLOOKUP($F21,'INFRA SEM Des JAN25'!$A$2:$D$1000,3,FALSE),IF($E21="SICRO NOVO",VLOOKUP($F21,'SICRO.DNIT ONERADA 01.25'!$A$4:$D$7000,3,FALSE),0)))))) -> M2 | I21: =IF(D21<>0,INDEX('MEMORIA CALCULO'!$A$1:$Q$2429,MATCH(D21,'MEMORIA CALCULO'!$A$1:$A$2429,0),17),0) -> 428 | J21: =IF($E21="SINAPI",VLOOKUP($F21,'SINAPI_ONERADO-03.25'!$G$2:$K$7540,5,FALSE),IF($E21="CDHU",VLOOKUP($F21,'CDHU_Onerado-02.25 (197)'!$A$9:$F$4114,6,FALSE),IF($E21="FDE",VLOOKUP($F21,'FDE-01.25'!$A$3:$E$4000,5,FALSE),IF($E21="SIURB (E)",VLOOKUP($F21,'EDIF SEM Des JAN25'!$A$3:$D$3000,4,FALSE),IF($E21="SIURB (I)",VLOOKUP($F21,'INFRA SEM Des JAN25'!$A$2:$D$1000,4,FALSE),IF($E21="SICRO NOVO",VLOOKUP($F21,'SICRO.DNIT ONERADA 01.25'!$A$4:$D$7000,4,FALSE),0)))))) -> 17.82 | K21: =J21*(1+IF(N21="x",$T$4,$T$3)) -> 21.82 | L21: =ROUND(ROUND(I21,2)*ROUND(K21,2),2) -> 9338.96 | O21: =IFERROR(L21/$L$11,0) -> 0.0063
A22: =LEFT(D22,1) -> 2 | B22: =B21 -> 2 | C22: =IF(D22="",0,B22) -> 2 | D22: =D21+1 -> 2002 | E22: CDHU | F22: 02.02.150 | G22: =IF($E22="SINAPI",VLOOKUP($F22,'SINAPI_ONERADO-03.25'!G23:K7575,2,FALSE),IF($E22="CDHU",VLOOKUP($F22,'CDHU_Onerado-02.25 (197)'!$A$9:$F$4114,2,FALSE),IF($E22="FDE",VLOOKUP($F22,'FDE-01.25'!$A$3:$D$4000,2,FALSE),IF($E22="SIURB (E)",VLOOKUP($F22,'EDIF SEM Des JAN25'!$A$3:$D$3000,2,FALSE),IF($E22="SIURB (I)",VLOOKUP($F22,'INFRA SEM Des JAN25'!$A$2:$D$1000,2,FALSE),IF($E22="SICRO NOVO",VLOOKUP($F22,'SICRO.DNIT ONERADA 01.25'!$A$4:$D$7000,2,FALSE),0)))))) -> Locação de container tipo depósito - área mínima de 13,80 m² | H22: =IF($E22="SINAPI",VLOOKUP($F22,'SINAPI_ONERADO-03.25'!$G$2:$K$7540,3,FALSE),IF($E22="CDHU",VLOOKUP($F22,'CDHU_Onerado-02.25 (197)'!$A$9:$F$4114,3,FALSE),IF($E22="FDE",VLOOKUP($F22,'FDE-01.25'!$A$3:$D$4000,3,FALSE),IF($E22="SIURB (E)",VLOOKUP($F22,'EDIF SEM Des JAN25'!$A$3:$D$3000,3,FALSE),IF($E22="SIURB (I)",VLOOKUP($F22,'INFRA SEM Des JAN25'!$A$2:$D$1000,3,FALSE),IF($E22="SICRO NOVO",VLOOKUP($F22,'SICRO.DNIT ONERADA 01.25'!$A$4:$D$7000,3,FALSE),0)))))) -> UNMES | I22: =IF(D22<>0,INDEX('MEMORIA CALCULO'!$A$1:$Q$2429,MATCH(D22,'MEMORIA CALCULO'!$A$1:$A$2429,0),17),0) -> 6 | J22: =IF($E22="SINAPI",VLOOKUP($F22,'SINAPI_ONERADO-03.25'!$G$2:$K$7540,5,FALSE),IF($E22="CDHU",VLOOKUP($F22,'CDHU_Onerado-02.25 (197)'!$A$9:$F$4114,6,FALSE),IF($E22="FDE",VLOOKUP($F22,'FDE-01.25'!$A$3:$E$4000,5,FALSE),IF($E22="SIURB (E)",VLOOKUP($F22,'EDIF SEM Des JAN25'!$A$3:$D$3000,4,FALSE),IF($E22="SIURB (I)",VLOOKUP($F22,'INFRA SEM Des JAN25'!$A$2:$D$1000,4,FALSE),IF($E22="SICRO NOVO",VLOOKUP($F22,'SICRO.DNIT ONERADA 01.25'!$A$4:$D$7000,4,FALSE),0)))))) -> 952.59 | K22: =J22*(1+IF(N22="x",$T$4,$T$3)) -> 1166.64 | L22: =ROUND(ROUND(I22,2)*ROUND(K22,2),2) -> 6999.84 | O22: =IFERROR(L22/$L$11,0) -> 0.0047
A23: =LEFT(D23,1) -> 2 | B23: =B22 -> 2 | C23: =IF(D23="",0,B23) -> 2 | D23: =D22+1 -> 2003 | E23: CDHU | F23: 02.02.140 | G23: =IF($E23="SINAPI",VLOOKUP($F23,'SINAPI_ONERADO-03.25'!G24:K7576,2,FALSE),IF($E23="CDHU",VLOOKUP($F23,'CDHU_Onerado-02.25 (197)'!$A$9:$F$4114,2,FALSE),IF($E23="FDE",VLOOKUP($F23,'FDE-01.25'!$A$3:$D$4000,2,FALSE),IF($E23="SIURB (E)",VLOOKUP($F23,'EDIF SEM Des JAN25'!$A$3:$D$3000,2,FALSE),IF($E23="SIURB (I)",VLOOKUP($F23,'INFRA SEM Des JAN25'!$A$2:$D$1000,2,FALSE),IF($E23="SICRO NOVO",VLOOKUP($F23,'SICRO.DNIT ONERADA 01.25'!$A$4:$D$7000,2,FALSE),0)))))) -> Locação de container tipo sanitário com 2 vasos sanitários, 2 lavatórios, 2 mictórios e 4 pontos para chuveiro - área mínima de 13,80 m² | H23: =IF($E23="SINAPI",VLOOKUP($F23,'SINAPI_ONERADO-03.25'!$G$2:$K$7540,3,FALSE),IF($E23="CDHU",VLOOKUP($F23,'CDHU_Onerado-02.25 (197)'!$A$9:$F$4114,3,FALSE),IF($E23="FDE",VLOOKUP($F23,'FDE-01.25'!$A$3:$D$4000,3,FALSE),IF($E23="SIURB (E)",VLOOKUP($F23,'EDIF SEM Des JAN25'!$A$3:$D$3000,3,FALSE),IF($E23="SIURB (I)",VLOOKUP($F23,'INFRA SEM Des JAN25'!$A$2:$D$1000,3,FALSE),IF($E23="SICRO NOVO",VLOOKUP($F23,'SICRO.DNIT ONERADA 01.25'!$A$4:$D$7000,3,FALSE),0)))))) -> UNMES | I23: =IF(D23<>0,INDEX('MEMORIA CALCULO'!$A$1:$Q$2429,MATCH(D23,'MEMORIA CALCULO'!$A$1:$A$2429,0),17),0) -> 6 | J23: =IF($E23="SINAPI",VLOOKUP($F23,'SINAPI_ONERADO-03.25'!$G$2:$K$7540,5,FALSE),IF($E23="CDHU",VLOOKUP($F23,'CDHU_Onerado-02.25 (197)'!$A$9:$F$4114,6,FALSE),IF($E23="FDE",VLOOKUP($F23,'FDE-01.25'!$A$3:$E$4000,5,FALSE),IF($E23="SIURB (E)",VLOOKUP($F23,'EDIF SEM Des JAN25'!$A$3:$D$3000,4,FALSE),IF($E23="SIURB (I)",VLOOKUP($F23,'INFRA SEM Des JAN25'!$A$2:$D$1000,4,FALSE),IF($E23="SICRO NOVO",VLOOKUP($F23,'SICRO.DNIT ONERADA 01.25'!$A$4:$D$7000,4,FALSE),0)))))) -> 1435.92 | K23: =J23*(1+IF(N23="x",$T$4,$T$3)) -> 1758.57 | L23: =ROUND(ROUND(I23,2)*ROUND(K23,2),2) -> 10551.42 | O23: =IFERROR(L23/$L$11,0) -> 0.0071
A24: =LEFT(D24,1) -> 2 | B24: =B23 -> 2 | C24: =IF(D24="",0,B24) -> 2 | D24: =D23+1 -> 2004 | E24: CDHU | F24: 02.02.130 | G24: =IF($E24="SINAPI",VLOOKUP($F24,'SINAPI_ONERADO-03.25'!G25:K7577,2,FALSE),IF($E24="CDHU",VLOOKUP($F24,'CDHU_Onerado-02.25 (197)'!$A$9:$F$4114,2,FALSE),IF($E24="FDE",VLOOKUP($F24,'FDE-01.25'!$A$3:$D$4000,2,FALSE),IF($E24="SIURB (E)",VLOOKUP($F24,'EDIF SEM Des JAN25'!$A$3:$D$3000,2,FALSE),IF($E24="SIURB (I)",VLOOKUP($F24,'INFRA SEM Des JAN25'!$A$2:$D$1000,2,FALSE),IF($E24="SICRO NOVO",VLOOKUP($F24,'SICRO.DNIT ONERADA 01.25'!$A$4:$D$7000,2,FALSE),0)))))) -> Locação de container tipo escritório com 1 vaso sanitário, 1 lavatório e 1 ponto para chuveiro - área mínima de 13,80 m² | H24: =IF($E24="SINAPI",VLOOKUP($F24,'SINAPI_ONERADO-03.25'!$G$2:$K$7540,3,FALSE),IF($E24="CDHU",VLOOKUP($F24,'CDHU_Onerado-02.25 (197)'!$A$9:$F$4114,3,FALSE),IF($E24="FDE",VLOOKUP($F24,'FDE-01.25'!$A$3:$D$4000,3,FALSE),IF($E24="SIURB (E)",VLOOKUP($F24,'EDIF SEM Des JAN25'!$A$3:$D$3000,3,FALSE),IF($E24="SIURB (I)",VLOOKUP($F24,'INFRA SEM Des JAN25'!$A$2:$D$1000,3,FALSE),IF($E24="SICRO NOVO",VLOOKUP($F24,'SICRO.DNIT ONERADA 01.25'!$A$4:$D$7000,3,FALSE),0)))))) -> UNMES | I24: =IF(D24<>0,INDEX('MEMORIA CALCULO'!$A$1:$Q$2429,MATCH(D24,'MEMORIA CALCULO'!$A$1:$A$2429,0),17),0) -> 12 | J24: =IF($E24="SINAPI",VLOOKUP($F24,'SINAPI_ONERADO-03.25'!$G$2:$K$7540,5,FALSE),IF($E24="CDHU",VLOOKUP($F24,'CDHU_Onerado-02.25 (197)'!$A$9:$F$4114,6,FALSE),IF($E24="FDE",VLOOKUP($F24,'FDE-01.25'!$A$3:$E$4000,5,FALSE),IF($E24="SIURB (E)",VLOOKUP($F24,'EDIF SEM Des JAN25'!$A$3:$D$3000,4,FALSE),IF($E24="SIURB (I)",VLOOKUP($F24,'INFRA SEM Des JAN25'!$A$2:$D$1000,4,FALSE),IF($E24="SICRO NOVO",VLOOKUP($F24,'SICRO.DNIT ONERADA 01.25'!$A$4:$D$7000,4,FALSE),0)))))) -> 1556.92 | K24: =J24*(1+IF(N24="x",$T$4,$T$3)) -> 1906.76 | L24: =ROUND(ROUND(I24,2)*ROUND(K24,2),2) -> 22881.12 | O24: =IFERROR(L24/$L$11,0) -> 0.0154
A25: =LEFT(D25,1) -> 2 | B25: =B24 -> 2 | C25: =IF(D25="",0,B25) -> 2 | D25: =D24+1 -> 2005 | E25: SINAPI | F25: 98459 | G25: =IF($E25="SINAPI",VLOOKUP($F25,'SINAPI_ONERADO-03.25'!$B$14:$E$10000,2,FALSE),IF($E25="CDHU",VLOOKUP($F25,'CDHU_Onerado-02.25 (197)'!$A$9:$F$4114,2,FALSE),IF($E25="FDE",VLOOKUP($F25,'FDE-01.25'!$A$3:$D$4000,2,FALSE),IF($E25="SIURB (E)",VLOOKUP($F25,'EDIF SEM Des JAN25'!$A$3:$D$3000,2,FALSE),IF($E25="SIURB (I)",VLOOKUP($F25,'INFRA SEM Des JAN25'!$A$2:$D$1000,2,FALSE),IF($E25="SICRO NOVO",VLOOKUP($F25,'SICRO.DNIT ONERADA 01.25'!$A$4:$D$7000,2,FALSE),0)))))) -> TAPUME COM TELHA METÁLICA. AF_03/2024 | H25: =IF($E25="SINAPI",VLOOKUP($F25,'SINAPI_ONERADO-03.25'!$B$2:$E$10000,3,FALSE),IF($E25="CDHU",VLOOKUP($F25,'CDHU_Onerado-02.25 (197)'!$A$9:$F$4114,3,FALSE),IF($E25="FDE",VLOOKUP($F25,'FDE-01.25'!$A$3:$D$4000,3,FALSE),IF($E25="SIURB (E)",VLOOKUP($F25,'EDIF SEM Des JAN25'!$A$3:$D$3000,3,FALSE),IF($E25="SIURB (I)",VLOOKUP($F25,'INFRA SEM Des JAN25'!$A$2:$D$1000,3,FALSE),IF($E25="SICRO NOVO",VLOOKUP($F25,'SICRO.DNIT ONERADA 01.25'!$A$4:$D$7000,3,FALSE),0)))))) -> M2 | I25: =IF(D25<>0,INDEX('MEMORIA CALCULO'!$A$1:$Q$2429,MATCH(D25,'MEMORIA CALCULO'!$A$1:$A$2429,0),17),0) -> 182.6 | J25: =IF($E25="SINAPI",VLOOKUP($F25,'SINAPI_ONERADO-03.25'!$B$14:$E$10000,4,FALSE),IF($E25="CDHU",VLOOKUP($F25,'CDHU_Onerado-02.25 (197)'!$A$9:$F$4114,6,FALSE),IF($E25="FDE",VLOOKUP($F25,'FDE-01.25'!$A$3:$E$4000,5,FALSE),IF($E25="SIURB (E)",VLOOKUP($F25,'EDIF SEM Des JAN25'!$A$3:$D$3000,4,FALSE),IF($E25="SIURB (I)",VLOOKUP($F25,'INFRA SEM Des JAN25'!$A$2:$D$1000,4,FALSE),IF($E25="SICRO NOVO",VLOOKUP($F25,'SICRO.DNIT ONERADA 01.25'!$A$4:$D$7000,4,FALSE),0)))))) -> 95.12 | K25: =J25*(1+IF(N25="x",$T$4,$T$3)) -> 116.49 | L25: =ROUND(ROUND(I25,2)*ROUND(K25,2),2) -> 21271.07 | O25: =IFERROR(L25/$L$11,0) -> 0.0143
A26: =LEFT(D26,1) -> 2 | B26: =B25 -> 2 | C26: =IF(D26="",0,B26) -> 2 | D26: =D25+1 -> 2006 | E26: SIURB (E) | F26: 1005007 | G26: =IF($E26="SINAPI",VLOOKUP($F26,'SINAPI_ONERADO-03.25'!G27:K7579,2,FALSE),IF($E26="CDHU",VLOOKUP($F26,'CDHU_Onerado-02.25 (197)'!$A$9:$F$4114,2,FALSE),IF($E26="FDE",VLOOKUP($F26,'FDE-01.25'!$A$3:$D$4000,2,FALSE),IF($E26="SIURB (E)",VLOOKUP($F26,'EDIF SEM Des JAN25'!$A$3:$D$3000,2,FALSE),IF($E26="SIURB (I)",VLOOKUP($F26,'INFRA SEM Des JAN25'!$A$2:$D$1000,2,FALSE),IF($E26="SICRO NOVO",VLOOKUP($F26,'SICRO.DNIT ONERADA 01.25'!$A$4:$D$7000,2,FALSE),0)))))) -> PORTÃO DE PEDESTRES - 1,15M, PARA TAPUME | H26: =IF($E26="SINAPI",VLOOKUP($F26,'SINAPI_ONERADO-03.25'!$G$2:$K$7540,3,FALSE),IF($E26="CDHU",VLOOKUP($F26,'CDHU_Onerado-02.25 (197)'!$A$9:$F$4114,3,FALSE),IF($E26="FDE",VLOOKUP($F26,'FDE-01.25'!$A$3:$D$4000,3,FALSE),IF($E26="SIURB (E)",VLOOKUP($F26,'EDIF SEM Des JAN25'!$A$3:$D$3000,3,FALSE),IF($E26="SIURB (I)",VLOOKUP($F26,'INFRA SEM Des JAN25'!$A$2:$D$1000,3,FALSE),IF($E26="SICRO NOVO",VLOOKUP($F26,'SICRO.DNIT ONERADA 01.25'!$A$4:$D$7000,3,FALSE),0)))))) -> M2 | I26: =IF(D26<>0,INDEX('MEMORIA CALCULO'!$A$1:$Q$2429,MATCH(D26,'MEMORIA CALCULO'!$A$1:$A$2429,0),17),0) -> 1.89 | J26: =IF($E26="SINAPI",VLOOKUP($F26,'SINAPI_ONERADO-03.25'!$G$2:$K$7540,5,FALSE),IF($E26="CDHU",VLOOKUP($F26,'CDHU_Onerado-02.25 (197)'!$A$9:$F$4114,6,FALSE),IF($E26="FDE",VLOOKUP($F26,'FDE-01.25'!$A$3:$E$4000,5,FALSE),IF($E26="SIURB (E)",VLOOKUP($F26,'EDIF SEM Des JAN25'!$A$3:$D$3000,4,FALSE),IF($E26="SIURB (I)",VLOOKUP($F26,'INFRA SEM Des JAN25'!$A$2:$D$1000,4,FALSE),IF($E26="SICRO NOVO",VLOOKUP($F26,'SICRO.DNIT ONERADA 01.25'!$A$4:$D$7000,4,FALSE),0)))))) -> 277.23 | K26: =J26*(1+IF(N26="x",$T$4,$T$3)) -> 339.52 | L26: =ROUND(ROUND(I26,2)*ROUND(K26,2),2) -> 641.69 | O26: =IFERROR(L26/$L$11,0) -> 0.0004
A27: =LEFT(D27,1) -> 2 | B27: =B26 -> 2 | C27: =IF(D27="",0,B27) -> 2 | D27: =D26+1 -> 2007 | E27: SIURB (E) | F27: 1005006 | G27: =IF($E27="SINAPI",VLOOKUP($F27,'SINAPI_ONERADO-03.25'!G28:K7580,2,FALSE),IF($E27="CDHU",VLOOKUP($F27,'CDHU_Onerado-02.25 (197)'!$A$9:$F$4114,2,FALSE),IF($E27="FDE",VLOOKUP($F27,'FDE-01.25'!$A$3:$D$4000,2,FALSE),IF($E27="SIURB (E)",VLOOKUP($F27,'EDIF SEM Des JAN25'!$A$3:$D$3000,2,FALSE),IF($E27="SIURB (I)",VLOOKUP($F27,'INFRA SEM Des JAN25'!$A$2:$D$1000,2,FALSE),IF($E27="SICRO NOVO",VLOOKUP($F27,'SICRO.DNIT ONERADA 01.25'!$A$4:$D$7000,2,FALSE),0)))))) -> PORTÃO METÁLICO DE OBRA - 5M, PIVOTANTE, 2 FOLHAS, PARA TAPUME | H27: =IF($E27="SINAPI",VLOOKUP($F27,'SINAPI_ONERADO-03.25'!$G$2:$K$7540,3,FALSE),IF($E27="CDHU",VLOOKUP($F27,'CDHU_Onerado-02.25 (197)'!$A$9:$F$4114,3,FALSE),IF($E27="FDE",VLOOKUP($F27,'FDE-01.25'!$A$3:$D$4000,3,FALSE),IF($E27="SIURB (E)",VLOOKUP($F27,'EDIF SEM Des JAN25'!$A$3:$D$3000,3,FALSE),IF($E27="SIURB (I)",VLOOKUP($F27,'INFRA SEM Des JAN25'!$A$2:$D$1000,3,FALSE),IF($E27="SICRO NOVO",VLOOKUP($F27,'SICRO.DNIT ONERADA 01.25'!$A$4:$D$7000,3,FALSE),0)))))) -> M2 | I27: =IF(D27<>0,INDEX('MEMORIA CALCULO'!$A$1:$Q$2429,MATCH(D27,'MEMORIA CALCULO'!$A$1:$A$2429,0),17),0) -> 11 | J27: =IF($E27="SINAPI",VLOOKUP($F27,'SINAPI_ONERADO-03.25'!$G$2:$K$7540,5,FALSE),IF($E27="CDHU",VLOOKUP($F27,'CDHU_Onerado-02.25 (197)'!$A$9:$F$4114,6,FALSE),IF($E27="FDE",VLOOKUP($F27,'FDE-01.25'!$A$3:$E$4000,5,FALSE),IF($E27="SIURB (E)",VLOOKUP($F27,'EDIF SEM Des JAN25'!$A$3:$D$3000,4,FALSE),IF($E27="SIURB (I)",VLOOKUP($F27,'INFRA SEM Des JAN25'!$A$2:$D$1000,4,FALSE),IF($E27="SICRO NOVO",VLOOKUP($F27,'SICRO.DNIT ONERADA 01.25'!$A$4:$D$7000,4,FALSE),0)))))) -> 292.07 | K27: =J27*(1+IF(N27="x",$T$4,$T$3)) -> 357.7 | L27: =ROUND(ROUND(I27,2)*ROUND(K27,2),2) -> 3934.7 | O27: =IFERROR(L27/$L$11,0) -> 0.0027
A28: =LEFT(D28,1) -> 2 | B28: =B27 -> 2 | C28: =IF(D28="",0,B28) -> 2 | D28: =D27+1 -> 2008 | E28: SIURB (E) | F28: 17030002 | G28: =IF($E28="SINAPI",VLOOKUP($F28,'SINAPI_ONERADO-03.25'!G29:K7581,2,FALSE),IF($E28="CDHU",VLOOKUP($F28,'CDHU_Onerado-02.25 (197)'!$A$9:$F$4114,2,FALSE),IF($E28="FDE",VLOOKUP($F28,'FDE-01.25'!$A$3:$D$4000,2,FALSE),IF($E28="SIURB (E)",VLOOKUP($F28,'EDIF SEM Des JAN25'!$A$3:$D$3000,2,FALSE),IF($E28="SIURB (I)",VLOOKUP($F28,'INFRA SEM Des JAN25'!$A$2:$D$1000,2,FALSE),IF($E28="SICRO NOVO",VLOOKUP($F28,'SICRO.DNIT ONERADA 01.25'!$A$4:$D$7000,2,FALSE),0)))))) -> PLACA DE OBRA EM CHAPA DE AÇO GALVANIZADO | H28: =IF($E28="SINAPI",VLOOKUP($F28,'SINAPI_ONERADO-03.25'!$G$2:$K$7540,3,FALSE),IF($E28="CDHU",VLOOKUP($F28,'CDHU_Onerado-02.25 (197)'!$A$9:$F$4114,3,FALSE),IF($E28="FDE",VLOOKUP($F28,'FDE-01.25'!$A$3:$D$4000,3,FALSE),IF($E28="SIURB (E)",VLOOKUP($F28,'EDIF SEM Des JAN25'!$A$3:$D$3000,3,FALSE),IF($E28="SIURB (I)",VLOOKUP($F28,'INFRA SEM Des JAN25'!$A$2:$D$1000,3,FALSE),IF($E28="SICRO NOVO",VLOOKUP($F28,'SICRO.DNIT ONERADA 01.25'!$A$4:$D$7000,3,FALSE),0)))))) -> M2 | I28: =IF(D28<>0,INDEX('MEMORIA CALCULO'!$A$1:$Q$2429,MATCH(D28,'MEMORIA CALCULO'!$A$1:$A$2429,0),17),0) -> 10.5 | J28: =IF($E28="SINAPI",VLOOKUP($F28,'SINAPI_ONERADO-03.25'!$G$2:$K$7540,5,FALSE),IF($E28="CDHU",VLOOKUP($F28,'CDHU_Onerado-02.25 (197)'!$A$9:$F$4114,6,FALSE),IF($E28="FDE",VLOOKUP($F28,'FDE-01.25'!$A$3:$E$4000,5,FALSE),IF($E28="SIURB (E)",VLOOKUP($F28,'EDIF SEM Des JAN25'!$A$3:$D$3000,4,FALSE),IF($E28="SIURB (I)",VLOOKUP($F28,'INFRA SEM Des JAN25'!$A$2:$D$1000,4,FALSE),IF($E28="SICRO NOVO",VLOOKUP($F28,'SICRO.DNIT ONERADA 01.25'!$A$4:$D$7000,4,FALSE),0)))))) -> 400.96 | K28: =J28*(1+IF(N28="x",$T$4,$T$3)) -> 491.06 | L28: =ROUND(ROUND(I28,2)*ROUND(K28,2),2) -> 5156.13 | O28: =IFERROR(L28/$L$11,0) -> 0.0035
A29: =LEFT(D29,1) -> 2 | B29: =B28 -> 2 | C29: =IF(D29="",0,B29) -> 2 | D29: =D28+1 -> 2009 | E29: SINAPI | F29: 98462 | G29: =IF($E29="SINAPI",VLOOKUP($F29,'SINAPI_ONERADO-03.25'!$B$14:$E$10000,2,FALSE),IF($E29="CDHU",VLOOKUP($F29,'CDHU_Onerado-02.25 (197)'!$A$9:$F$4114,2,FALSE),IF($E29="FDE",VLOOKUP($F29,'FDE-01.25'!$A$3:$D$4000,2,FALSE),IF($E29="SIURB (E)",VLOOKUP($F29,'EDIF SEM Des JAN25'!$A$3:$D$3000,2,FALSE),IF($E29="SIURB (I)",VLOOKUP($F29,'INFRA SEM Des JAN25'!$A$2:$D$1000,2,FALSE),IF($E29="SICRO NOVO",VLOOKUP($F29,'SICRO.DNIT ONERADA 01.25'!$A$4:$D$7000,2,FALSE),0)))))) -> ESTRUTURA DE MADEIRA PROVISÓRIA PARA SUPORTE DE CAIXA DÁGUA ELEVADA DE 3000 LITROS. AF_03/2024 | H29: =IF($E29="SINAPI",VLOOKUP($F29,'SINAPI_ONERADO-03.25'!$B$2:$E$10000,3,FALSE),IF($E29="CDHU",VLOOKUP($F29,'CDHU_Onerado-02.25 (197)'!$A$9:$F$4114,3,FALSE),IF($E29="FDE",VLOOKUP($F29,'FDE-01.25'!$A$3:$D$4000,3,FALSE),IF($E29="SIURB (E)",VLOOKUP($F29,'EDIF SEM Des JAN25'!$A$3:$D$3000,3,FALSE),IF($E29="SIURB (I)",VLOOKUP($F29,'INFRA SEM Des JAN25'!$A$2:$D$1000,3,FALSE),IF($E29="SICRO NOVO",VLOOKUP($F29,'SICRO.DNIT ONERADA 01.25'!$A$4:$D$7000,3,FALSE),0)))))) -> UN | I29: =IF(D29<>0,INDEX('MEMORIA CALCULO'!$A$1:$Q$2429,MATCH(D29,'MEMORIA CALCULO'!$A$1:$A$2429,0),17),0) -> 1 | J29: =IF($E29="SINAPI",VLOOKUP($F29,'SINAPI_ONERADO-03.25'!$B$14:$E$10000,4,FALSE),IF($E29="CDHU",VLOOKUP($F29,'CDHU_Onerado-02.25 (197)'!$A$9:$F$4114,6,FALSE),IF($E29="FDE",VLOOKUP($F29,'FDE-01.25'!$A$3:$E$4000,5,FALSE),IF($E29="SIURB (E)",VLOOKUP($F29,'EDIF SEM Des JAN25'!$A$3:$D$3000,4,FALSE),IF($E29="SIURB (I)",VLOOKUP($F29,'INFRA SEM Des JAN25'!$A$2:$D$1000,4,FALSE),IF($E29="SICRO NOVO",VLOOKUP($F29,'SICRO.DNIT ONERADA 01.25'!$A$4:$D$7000,4,FALSE),0)))))) -> 9908.72 | K29: =J29*(1+IF(N29="x",$T$4,$T$3)) -> 12135.21 | L29: =ROUND(ROUND(I29,2)*ROUND(K29,2),2) -> 12135.21 | O29: =IFERROR(L29/$L$11,0) -> 0.0082
A30: =LEFT(D30,1) -> 2 | B30: =B29 -> 2 | C30: =IF(D30="",0,B30) -> 2 | D30: =D29+1 -> 2010 | E30: SINAPI | F30: 102616 | G30: =IF($E30="SINAPI",VLOOKUP($F30,'SINAPI_ONERADO-03.25'!$B$14:$E$10000,2,FALSE),IF($E30="CDHU",VLOOKUP($F30,'CDHU_Onerado-02.25 (197)'!$A$9:$F$4114,2,FALSE),IF($E30="FDE",VLOOKUP($F30,'FDE-01.25'!$A$3:$D$4000,2,FALSE),IF($E30="SIURB (E)",VLOOKUP($F30,'EDIF SEM Des JAN25'!$A$3:$D$3000,2,FALSE),IF($E30="SIURB (I)",VLOOKUP($F30,'INFRA SEM Des JAN25'!$A$2:$D$1000,2,FALSE),IF($E30="SICRO NOVO",VLOOKUP($F30,'SICRO.DNIT ONERADA 01.25'!$A$4:$D$7000,2,FALSE),0)))))) -> CAIXA D´ÁGUA EM POLIÉSTER REFORÇADO COM FIBRA DE VIDRO, 3000 LITROS - FORNECIMENTO E INSTALAÇÃO. AF_06/2021 | H30: =IF($E30="SINAPI",VLOOKUP($F30,'SINAPI_ONERADO-03.25'!$B$2:$E$10000,3,FALSE),IF($E30="CDHU",VLOOKUP($F30,'CDHU_Onerado-02.25 (197)'!$A$9:$F$4114,3,FALSE),IF($E30="FDE",VLOOKUP($F30,'FDE-01.25'!$A$3:$D$4000,3,FALSE),IF($E30="SIURB (E)",VLOOKUP($F30,'EDIF SEM Des JAN25'!$A$3:$D$3000,3,FALSE),IF($E30="SIURB (I)",VLOOKUP($F30,'INFRA SEM Des JAN25'!$A$2:$D$1000,3,FALSE),IF($E30="SICRO NOVO",VLOOKUP($F30,'SICRO.DNIT ONERADA 01.25'!$A$4:$D$7000,3,FALSE),0)))))) -> UN | I30: =IF(D30<>0,INDEX('MEMORIA CALCULO'!$A$1:$Q$2429,MATCH(D30,'MEMORIA CALCULO'!$A$1:$A$2429,0),17),0) -> 1 | J30: =IF($E30="SINAPI",VLOOKUP($F30,'SINAPI_ONERADO-03.25'!$B$14:$E$10000,4,FALSE),IF($E30="CDHU",VLOOKUP($F30,'CDHU_Onerado-02.25 (197)'!$A$9:$F$4114,6,FALSE),IF($E30="FDE",VLOOKUP($F30,'FDE-01.25'!$A$3:$E$4000,5,FALSE),IF($E30="SIURB (E)",VLOOKUP($F30,'EDIF SEM Des JAN25'!$A$3:$D$3000,4,FALSE),IF($E30="SIURB (I)",VLOOKUP($F30,'INFRA SEM Des JAN25'!$A$2:$D$1000,4,FALSE),IF($E30="SICRO NOVO",VLOOKUP($F30,'SICRO.DNIT ONERADA 01.25'!$A$4:$D$7000,4,FALSE),0)))))) -> 1836.48 | K30: =J30*(1+IF(N30="x",$T$4,$T$3)) -> 2249.14 | L30: =ROUND(ROUND(I30,2)*ROUND(K30,2),2) -> 2249.14 | O30: =IFERROR(L30/$L$11,0) -> 0.0015
A32: =LEFT(D32,1) -> 3 | B32: =D32 -> 3 | C32: =IF(D32="",0,B32) -> 3 | D32: =D20+1 -> 3 | E32: INFRAESTRUTURA | K32: SUBTOTAL | L32: =SUM(L34:L54) -> 132325.14 | O32: =IFERROR(L32/$L$11,0) -> 0.0892
E33: MOVIMENTAÇÃO DE TERRA
A34: =LEFT(D34,1) -> 3 | B34: =B32 -> 3 | C34: =IF(D34="",0,B34) -> 3 | D34: =(D32*1000)+1 -> 3001 | E34: CDHU | F34: 07.01.020 | G34: =IF($E34="SINAPI",VLOOKUP($F34,'SINAPI_ONERADO-03.25'!G27:K7579,2,FALSE),IF($E34="CDHU",VLOOKUP($F34,'CDHU_Onerado-02.25 (197)'!$A$9:$F$4114,2,FALSE),IF($E34="FDE",VLOOKUP($F34,'FDE-01.25'!$A$3:$D$4000,2,FALSE),IF($E34="SIURB (E)",VLOOKUP($F34,'EDIF SEM Des JAN25'!$A$3:$D$3000,2,FALSE),IF($E34="SIURB (I)",VLOOKUP($F34,'INFRA SEM Des JAN25'!$A$2:$D$1000,2,FALSE),IF($E34="SICRO NOVO",VLOOKUP($F34,'SICRO.DNIT ONERADA 01.25'!$A$4:$D$7000,2,FALSE),0)))))) -> Escavação e carga mecanizada em solo de 1ª categoria, em campo aberto | H34: =IF($E34="SINAPI",VLOOKUP($F34,'SINAPI_ONERADO-03.25'!$G$2:$K$7540,3,FALSE),IF($E34="CDHU",VLOOKUP($F34,'CDHU_Onerado-02.25 (197)'!$A$9:$F$4114,3,FALSE),IF($E34="FDE",VLOOKUP($F34,'FDE-01.25'!$A$3:$D$4000,3,FALSE),IF($E34="SIURB (E)",VLOOKUP($F34,'EDIF SEM Des JAN25'!$A$3:$D$3000,3,FALSE),IF($E34="SIURB (I)",VLOOKUP($F34,'INFRA SEM Des JAN25'!$A$2:$D$1000,3,FALSE),IF($E34="SICRO NOVO",VLOOKUP($F34,'SICRO.DNIT ONERADA 01.25'!$A$4:$D$7000,3,FALSE),0)))))) -> M3 | I34: =IF(D34<>0,INDEX('MEMORIA CALCULO'!$A$1:$Q$2429,MATCH(D34,'MEMORIA CALCULO'!$A$1:$A$2429,0),17),0) -> 91.66 | J34: =IF($E34="SINAPI",VLOOKUP($F34,'SINAPI_ONERADO-03.25'!$G$2:$K$7540,5,FALSE),IF($E34="CDHU",VLOOKUP($F34,'CDHU_Onerado-02.25 (197)'!$A$9:$F$4114,6,FALSE),IF($E34="FDE",VLOOKUP($F34,'FDE-01.25'!$A$3:$E$4000,5,FALSE),IF($E34="SIURB (E)",VLOOKUP($F34,'EDIF SEM Des JAN25'!$A$3:$D$3000,4,FALSE),IF($E34="SIURB (I)",VLOOKUP($F34,'INFRA SEM Des JAN25'!$A$2:$D$1000,4,FALSE),IF($E34="SICRO NOVO",VLOOKUP($F34,'SICRO.DNIT ONERADA 01.25'!$A$4:$D$7000,4,FALSE),0)))))) -> 16.42 | K34: =J34*(1+IF(N34="x",$T$4,$T$3)) -> 20.11 | L34: =ROUND(ROUND(I34,2)*ROUND(K34,2),2) -> 1843.28 | O34: =IFERROR(L34/$L$11,0) -> 0.0012
A35: =LEFT(D35,1) -> 3 | B35: =B34 -> 3 | C35: =IF(D35="",0,B35) -> 3 | D35: =D34+1 -> 3002 | E35: CDHU | F35: 05.10.025 | G35: =IF($E35="SINAPI",VLOOKUP($F35,'SINAPI_ONERADO-03.25'!G28:K7580,2,FALSE),IF($E35="CDHU",VLOOKUP($F35,'CDHU_Onerado-02.25 (197)'!$A$9:$F$4114,2,FALSE),IF($E35="FDE",VLOOKUP($F35,'FDE-01.25'!$A$3:$D$4000,2,FALSE),IF($E35="SIURB (E)",VLOOKUP($F35,'EDIF SEM Des JAN25'!$A$3:$D$3000,2,FALSE),IF($E35="SIURB (I)",VLOOKUP($F35,'INFRA SEM Des JAN25'!$A$2:$D$1000,2,FALSE),IF($E35="SICRO NOVO",VLOOKUP($F35,'SICRO.DNIT ONERADA 01.25'!$A$4:$D$7000,2,FALSE),0)))))) -> Transporte de solo de 1ª e 2ª categoria por caminhão para distâncias superiores ao 15° km até o 20° km | H35: =IF($E35="SINAPI",VLOOKUP($F35,'SINAPI_ONERADO-03.25'!$G$2:$K$7540,3,FALSE),IF($E35="CDHU",VLOOKUP($F35,'CDHU_Onerado-02.25 (197)'!$A$9:$F$4114,3,FALSE),IF($E35="FDE",VLOOKUP($F35,'FDE-01.25'!$A$3:$D$4000,3,FALSE),IF($E35="SIURB (E)",VLOOKUP($F35,'EDIF SEM Des JAN25'!$A$3:$D$3000,3,FALSE),IF($E35="SIURB (I)",VLOOKUP($F35,'INFRA SEM Des JAN25'!$A$2:$D$1000,3,FALSE),IF($E35="SICRO NOVO",VLOOKUP($F35,'SICRO.DNIT ONERADA 01.25'!$A$4:$D$7000,3,FALSE),0)))))) -> M3 | I35: =IF(D35<>0,INDEX('MEMORIA CALCULO'!$A$1:$Q$2429,MATCH(D35,'MEMORIA CALCULO'!$A$1:$A$2429,0),17),0) -> 119.16 | J35: =IF($E35="SINAPI",VLOOKUP($F35,'SINAPI_ONERADO-03.25'!$G$2:$K$7540,5,FALSE),IF($E35="CDHU",VLOOKUP($F35,'CDHU_Onerado-02.25 (197)'!$A$9:$F$4114,6,FALSE),IF($E35="FDE",VLOOKUP($F35,'FDE-01.25'!$A$3:$E$4000,5,FALSE),IF($E35="SIURB (E)",VLOOKUP($F35,'EDIF SEM Des JAN25'!$A$3:$D$3000,4,FALSE),IF($E35="SIURB (I)",VLOOKUP($F35,'INFRA SEM Des JAN25'!$A$2:$D$1000,4,FALSE),IF($E35="SICRO NOVO",VLOOKUP($F35,'SICRO.DNIT ONERADA 01.25'!$A$4:$D$7000,4,FALSE),0)))))) -> 37.68 | K35: =J35*(1+IF(N35="x",$T$4,$T$3)) -> 46.15 | L35: =ROUND(ROUND(I35,2)*ROUND(K35,2),2) -> 5499.23 | O35: =IFERROR(L35/$L$11,0) -> 0.0037
A36: =LEFT(D36,1) -> 3 | B36: =B35 -> 3 | C36: =IF(D36="",0,B36) -> 3 | D36: =D35+1 -> 3003 | E36: CDHU | F36: 05.09.007 | G36: =IF($E36="SINAPI",VLOOKUP($F36,'SINAPI_ONERADO-03.25'!G55:K7607,2,FALSE),IF($E36="CDHU",VLOOKUP($F36,'CDHU_Onerado-02.25 (197)'!$A$9:$F$4114,2,FALSE),IF($E36="FDE",VLOOKUP($F36,'FDE-01.25'!$A$3:$D$4000,2,FALSE),IF($E36="SIURB (E)",VLOOKUP($F36,'EDIF SEM Des JAN25'!$A$3:$D$3000,2,FALSE),IF($E36="SIURB (I)",VLOOKUP($F36,'INFRA SEM Des JAN25'!$A$2:$D$1000,2,FALSE),IF($E36="SICRO NOVO",VLOOKUP($F36,'SICRO.DNIT ONERADA 01.25'!$A$4:$D$7000,2,FALSE),0)))))) -> Taxa de destinação de resíduo sólido em aterro, tipo solo/terra | H36: =IF($E36="SINAPI",VLOOKUP($F36,'SINAPI_ONERADO-03.25'!$G$2:$K$7540,3,FALSE),IF($E36="CDHU",VLOOKUP($F36,'CDHU_Onerado-02.25 (197)'!$A$9:$F$4114,3,FALSE),IF($E36="FDE",VLOOKUP($F36,'FDE-01.25'!$A$3:$D$4000,3,FALSE),IF($E36="SIURB (E)",VLOOKUP($F36,'EDIF SEM Des JAN25'!$A$3:$D$3000,3,FALSE),IF($E36="SIURB (I)",VLOOKUP($F36,'INFRA SEM Des JAN25'!$A$2:$D$1000,3,FALSE),IF($E36="SICRO NOVO",VLOOKUP($F36,'SICRO.DNIT ONERADA 01.25'!$A$4:$D$7000,3,FALSE),0)))))) -> M3 | I36: =IF(D36<>0,INDEX('MEMORIA CALCULO'!$A$1:$Q$2429,MATCH(D36,'MEMORIA CALCULO'!$A$1:$A$2429,0),17),0) -> 119.16 | J36: =IF($E36="SINAPI",VLOOKUP($F36,'SINAPI_ONERADO-03.25'!$G$2:$K$7540,5,FALSE),IF($E36="CDHU",VLOOKUP($F36,'CDHU_Onerado-02.25 (197)'!$A$9:$F$4114,6,FALSE),IF($E36="FDE",VLOOKUP($F36,'FDE-01.25'!$A$3:$E$4000,5,FALSE),IF($E36="SIURB (E)",VLOOKUP($F36,'EDIF SEM Des JAN25'!$A$3:$D$3000,4,FALSE),IF($E36="SIURB (I)",VLOOKUP($F36,'INFRA SEM Des JAN25'!$A$2:$D$1000,4,FALSE),IF($E36="SICRO NOVO",VLOOKUP($F36,'SICRO.DNIT ONERADA 01.25'!$A$4:$D$7000,4,FALSE),0)))))) -> 30.62 | K36: =J36*(1+IF(N36="x",$T$4,$T$3)) -> 37.5 | L36: =ROUND(ROUND(I36,2)*ROUND(K36,2),2) -> 4468.5 | O36: =IFERROR(L36/$L$11,0) -> 0.003
B37: =B36 -> 3 | C37: =IF(D37="",0,B37) -> 0 | E37: MURO DE CONTENÇÃO
A38: =LEFT(D38,1) -> 3 | B38: =B37 -> 3 | C38: =IF(D38="",0,B38) -> 3 | D38: =D36+1 -> 3004 | E38: FDE | F38: 02.02.103 | G38: =IF($E38="SINAPI",VLOOKUP($F38,'SINAPI_ONERADO-03.25'!G56:K7608,2,FALSE),IF($E38="CDHU",VLOOKUP($F38,'CDHU_Onerado-02.25 (197)'!$A$9:$F$4114,2,FALSE),IF($E38="FDE",VLOOKUP($F38,'FDE-01.25'!$A$3:$D$4000,2,FALSE),IF($E38="SIURB (E)",VLOOKUP($F38,'EDIF SEM Des JAN25'!$A$3:$D$3000,2,FALSE),IF($E38="SIURB (I)",VLOOKUP($F38,'INFRA SEM Des JAN25'!$A$2:$D$1000,2,FALSE),IF($E38="SICRO NOVO",VLOOKUP($F38,'SICRO.DNIT ONERADA 01.25'!$A$4:$D$7000,2,FALSE),0)))))) -> ESTACA ESCAVADA MECANICAMENTE DIAM 40CM | H38: =IF($E38="SINAPI",VLOOKUP($F38,'SINAPI_ONERADO-03.25'!$G$2:$K$7540,3,FALSE),IF($E38="CDHU",VLOOKUP($F38,'CDHU_Onerado-02.25 (197)'!$A$9:$F$4114,3,FALSE),IF($E38="FDE",VLOOKUP($F38,'FDE-01.25'!$A$3:$D$4000,3,FALSE),IF($E38="SIURB (E)",VLOOKUP($F38,'EDIF SEM Des JAN25'!$A$3:$D$3000,3,FALSE),IF($E38="SIURB (I)",VLOOKUP($F38,'INFRA SEM Des JAN25'!$A$2:$D$1000,3,FALSE),IF($E38="SICRO NOVO",VLOOKUP($F38,'SICRO.DNIT ONERADA 01.25'!$A$4:$D$7000,3,FALSE),0)))))) -> M | I38: =IF(D38<>0,INDEX('MEMORIA CALCULO'!$A$1:$Q$2429,MATCH(D38,'MEMORIA CALCULO'!$A$1:$A$2429,0),17),0) -> 120 | J38: =IF($E38="SINAPI",VLOOKUP($F38,'SINAPI_ONERADO-03.25'!$G$2:$K$7540,5,FALSE),IF($E38="CDHU",VLOOKUP($F38,'CDHU_Onerado-02.25 (197)'!$A$9:$F$4114,6,FALSE),IF($E38="FDE",VLOOKUP($F38,'FDE-01.25'!$A$3:$E$4000,5,FALSE),IF($E38="SIURB (E)",VLOOKUP($F38,'EDIF SEM Des JAN25'!$A$3:$D$3000,4,FALSE),IF($E38="SIURB (I)",VLOOKUP($F38,'INFRA SEM Des JAN25'!$A$2:$D$1000,4,FALSE),IF($E38="SICRO NOVO",VLOOKUP($F38,'SICRO.DNIT ONERADA 01.25'!$A$4:$D$7000,4,FALSE),0)))))) -> 125.58 | K38: =J38 -> 125.58 | L38: =ROUND(ROUND(I38,2)*ROUND(K38,2),2) -> 15069.6 | O38: =IFERROR(L38/$L$11,0) -> 0.0102
A39: =LEFT(D39,1) -> 3 | B39: =B38 -> 3 | C39: =IF(D39="",0,B39) -> 3 | D39: =D38+1 -> 3005 | E39: SINAPI | F39: 95584 | G39: =IF($E39="SINAPI",VLOOKUP($F39,'SINAPI_ONERADO-03.25'!$B$14:$E$10000,2,FALSE),IF($E39="CDHU",VLOOKUP($F39,'CDHU_Onerado-02.25 (197)'!$A$9:$F$4114,2,FALSE),IF($E39="FDE",VLOOKUP($F39,'FDE-01.25'!$A$3:$D$4000,2,FALSE),IF($E39="SIURB (E)",VLOOKUP($F39,'EDIF SEM Des JAN25'!$A$3:$D$3000,2,FALSE),IF($E39="SIURB (I)",VLOOKUP($F39,'INFRA SEM Des JAN25'!$A$2:$D$1000,2,FALSE),IF($E39="SICRO NOVO",VLOOKUP($F39,'SICRO.DNIT ONERADA 01.25'!$A$4:$D$7000,2,FALSE),0)))))) -> MONTAGEM DE ARMADURA TRANSVERSAL DE ESTACAS DE SEÇÃO CIRCULAR, DIÂMETRO = 6,30 MM. AF_09/2021_PS | H39: =IF($E39="SINAPI",VLOOKUP($F39,'SINAPI_ONERADO-03.25'!$B$2:$E$10000,3,FALSE),IF($E39="CDHU",VLOOKUP($F39,'CDHU_Onerado-02.25 (197)'!$A$9:$F$4114,3,FALSE),IF($E39="FDE",VLOOKUP($F39,'FDE-01.25'!$A$3:$D$4000,3,FALSE),IF($E39="SIURB (E)",VLOOKUP($F39,'EDIF SEM Des JAN25'!$A$3:$D$3000,3,FALSE),IF($E39="SIURB (I)",VLOOKUP($F39,'INFRA SEM Des JAN25'!$A$2:$D$1000,3,FALSE),IF($E39="SICRO NOVO",VLOOKUP($F39,'SICRO.DNIT ONERADA 01.25'!$A$4:$D$7000,3,FALSE),0)))))) -> KG | I39: =IF(D39<>0,INDEX('MEMORIA CALCULO'!$A$1:$Q$2429,MATCH(D39,'MEMORIA CALCULO'!$A$1:$A$2429,0),17),0) -> 96 | J39: =IF($E39="SINAPI",VLOOKUP($F39,'SINAPI_ONERADO-03.25'!$B$14:$E$10000,4,FALSE),IF($E39="CDHU",VLOOKUP($F39,'CDHU_Onerado-02.25 (197)'!$A$9:$F$4114,6,FALSE),IF($E39="FDE",VLOOKUP($F39,'FDE-01.25'!$A$3:$E$4000,5,FALSE),IF($E39="SIURB (E)",VLOOKUP($F39,'EDIF SEM Des JAN25'!$A$3:$D$3000,4,FALSE),IF($E39="SIURB (I)",VLOOKUP($F39,'INFRA SEM Des JAN25'!$A$2:$D$1000,4,FALSE),IF($E39="SICRO NOVO",VLOOKUP($F39,'SICRO.DNIT ONERADA 01.25'!$A$4:$D$7000,4,FALSE),0)))))) -> 14.83 | K39: =J39*(1+IF(N39="x",$T$4,$T$3)) -> 18.16 | L39: =ROUND(ROUND(I39,2)*ROUND(K39,2),2) -> 1743.36 | O39: =IFERROR(L39/$L$11,0) -> 0.0012
A40: =LEFT(D40,1) -> 3 | B40: =B39 -> 3 | C40: =IF(D40="",0,B40) -> 3 | D40: =D39+1 -> 3006 | E40: SINAPI | F40: 95577 | G40: =IF($E40="SINAPI",VLOOKUP($F40,'SINAPI_ONERADO-03.25'!$B$14:$E$10000,2,FALSE),IF($E40="CDHU",VLOOKUP($F40,'CDHU_Onerado-02.25 (197)'!$A$9:$F$4114,2,FALSE),IF($E40="FDE",VLOOKUP($F40,'FDE-01.25'!$A$3:$D$4000,2,FALSE),IF($E40="SIURB (E)",VLOOKUP($F40,'EDIF SEM Des JAN25'!$A$3:$D$3000,2,FALSE),IF($E40="SIURB (I)",VLOOKUP($F40,'INFRA SEM Des JAN25'!$A$2:$D$1000,2,FALSE),IF($E40="SICRO NOVO",VLOOKUP($F40,'SICRO.DNIT ONERADA 01.25'!$A$4:$D$7000,2,FALSE),0)))))) -> MONTAGEM DE ARMADURA DE ESTACAS, DIÂMETRO = 10,0 MM. AF_09/2021_PS | H40: =IF($E40="SINAPI",VLOOKUP($F40,'SINAPI_ONERADO-03.25'!$B$2:$E$10000,3,FALSE),IF($E40="CDHU",VLOOKUP($F40,'CDHU_Onerado-02.25 (197)'!$A$9:$F$4114,3,FALSE),IF($E40="FDE",VLOOKUP($F40,'FDE-01.25'!$A$3:$D$4000,3,FALSE),IF($E40="SIURB (E)",VLOOKUP($F40,'EDIF SEM Des JAN25'!$A$3:$D$3000,3,FALSE),IF($E40="SIURB (I)",VLOOKUP($F40,'INFRA SEM Des JAN25'!$A$2:$D$1000,3,FALSE),IF($E40="SICRO NOVO",VLOOKUP($F40,'SICRO.DNIT ONERADA 01.25'!$A$4:$D$7000,3,FALSE),0)))))) -> KG | I40: =IF(D40<>0,INDEX('MEMORIA CALCULO'!$A$1:$Q$2429,MATCH(D40,'MEMORIA CALCULO'!$A$1:$A$2429,0),17),0) -> 272 | J40: =IF($E40="SINAPI",VLOOKUP($F40,'SINAPI_ONERADO-03.25'!$B$14:$E$10000,4,FALSE),IF($E40="CDHU",VLOOKUP($F40,'CDHU_Onerado-02.25 (197)'!$A$9:$F$4114,6,FALSE),IF($E40="FDE",VLOOKUP($F40,'FDE-01.25'!$A$3:$E$4000,5,FALSE),IF($E40="SIURB (E)",VLOOKUP($F40,'EDIF SEM Des JAN25'!$A$3:$D$3000,4,FALSE),IF($E40="SIURB (I)",VLOOKUP($F40,'INFRA SEM Des JAN25'!$A$2:$D$1000,4,FALSE),IF($E40="SICRO NOVO",VLOOKUP($F40,'SICRO.DNIT ONERADA 01.25'!$A$4:$D$7000,4,FALSE),0)))))) -> 10.77 | K40: =J40*(1+IF(N40="x",$T$4,$T$3)) -> 13.19 | L40: =ROUND(ROUND(I40,2)*ROUND(K40,2),2) -> 3587.68 | O40: =IFERROR(L40/$L$11,0) -> 0.0024
A41: =LEFT(D41,1) -> 3 | B41: =B40 -> 3 | C41: =IF(D41="",0,B41) -> 3 | D41: =D40+1 -> 3007 | E41: CDHU | F41: 12.12.010 | G41: =IF($E41="SINAPI",VLOOKUP($F41,'SINAPI_ONERADO-03.25'!G59:K7611,2,FALSE),IF($E41="CDHU",VLOOKUP($F41,'CDHU_Onerado-02.25 (197)'!$A$9:$F$4114,2,FALSE),IF($E41="FDE",VLOOKUP($F41,'FDE-01.25'!$A$3:$D$4000,2,FALSE),IF($E41="SIURB (E)",VLOOKUP($F41,'EDIF SEM Des JAN25'!$A$3:$D$3000,2,FALSE),IF($E41="SIURB (I)",VLOOKUP($F41,'INFRA SEM Des JAN25'!$A$2:$D$1000,2,FALSE),IF($E41="SICRO NOVO",VLOOKUP($F41,'SICRO.DNIT ONERADA 01.25'!$A$4:$D$7000,2,FALSE),0)))))) -> Taxa de mobilização e desmobilização de equipamentos para execução de estaca tipo hélice contínua em solo | H41: =IF($E41="SINAPI",VLOOKUP($F41,'SINAPI_ONERADO-03.25'!$G$2:$K$7540,3,FALSE),IF($E41="CDHU",VLOOKUP($F41,'CDHU_Onerado-02.25 (197)'!$A$9:$F$4114,3,FALSE),IF($E41="FDE",VLOOKUP($F41,'FDE-01.25'!$A$3:$D$4000,3,FALSE),IF($E41="SIURB (E)",VLOOKUP($F41,'EDIF SEM Des JAN25'!$A$3:$D$3000,3,FALSE),IF($E41="SIURB (I)",VLOOKUP($F41,'INFRA SEM Des JAN25'!$A$2:$D$1000,3,FALSE),IF($E41="SICRO NOVO",VLOOKUP($F41,'SICRO.DNIT ONERADA 01.25'!$A$4:$D$7000,3,FALSE),0)))))) -> TX | I41: =IF(D41<>0,INDEX('MEMORIA CALCULO'!$A$1:$Q$2429,MATCH(D41,'MEMORIA CALCULO'!$A$1:$A$2429,0),17),0) -> 1 | J41: =IF($E41="SINAPI",VLOOKUP($F41,'SINAPI_ONERADO-03.25'!$G$2:$K$7540,5,FALSE),IF($E41="CDHU",VLOOKUP($F41,'CDHU_Onerado-02.25 (197)'!$A$9:$F$4114,6,FALSE),IF($E41="FDE",VLOOKUP($F41,'FDE-01.25'!$A$3:$E$4000,5,FALSE),IF($E41="SIURB (E)",VLOOKUP($F41,'EDIF SEM Des JAN25'!$A$3:$D$3000,4,FALSE),IF($E41="SIURB (I)",VLOOKUP($F41,'INFRA SEM Des JAN25'!$A$2:$D$1000,4,FALSE),IF($E41="SICRO NOVO",VLOOKUP($F41,'SICRO.DNIT ONERADA 01.25'!$A$4:$D$7000,4,FALSE),0)))))) -> 39754.76 | K41: =J41*(1+IF(N41="x",$T$4,$T$3)) -> 48687.65 | L41: =ROUND(ROUND(I41,2)*ROUND(K41,2),2) -> 48687.65 | O41: =IFERROR(L41/$L$11,0) -> 0.0328
A42: =LEFT(D42,1) -> 3 | B42: =B41 -> 3 | C42: =IF(D42="",0,B42) -> 3 | D42: =D41+1 -> 3008 | E42: SIURB (E) | F42: 1004010 | G42: =IF($E42="SINAPI",VLOOKUP($F42,'SINAPI_ONERADO-03.25'!G60:K7612,2,FALSE),IF($E42="CDHU",VLOOKUP($F42,'CDHU_Onerado-02.25 (197)'!$A$9:$F$4114,2,FALSE),IF($E42="FDE",VLOOKUP($F42,'FDE-01.25'!$A$3:$D$4000,2,FALSE),IF($E42="SIURB (E)",VLOOKUP($F42,'EDIF SEM Des JAN25'!$A$3:$D$3000,2,FALSE),IF($E42="SIURB (I)",VLOOKUP($F42,'INFRA SEM Des JAN25'!$A$2:$D$1000,2,FALSE),IF($E42="SICRO NOVO",VLOOKUP($F42,'SICRO.DNIT ONERADA 01.25'!$A$4:$D$7000,2,FALSE),0)))))) -> APILOAMENTO DO FUNDO DE VALAS, PARA SIMPLES REGULARIZAÇÃO | H42: =IF($E42="SINAPI",VLOOKUP($F42,'SINAPI_ONERADO-03.25'!$G$2:$K$7540,3,FALSE),IF($E42="CDHU",VLOOKUP($F42,'CDHU_Onerado-02.25 (197)'!$A$9:$F$4114,3,FALSE),IF($E42="FDE",VLOOKUP($F42,'FDE-01.25'!$A$3:$D$4000,3,FALSE),IF($E42="SIURB (E)",VLOOKUP($F42,'EDIF SEM Des JAN25'!$A$3:$D$3000,3,FALSE),IF($E42="SIURB (I)",VLOOKUP($F42,'INFRA SEM Des JAN25'!$A$2:$D$1000,3,FALSE),IF($E42="SICRO NOVO",VLOOKUP($F42,'SICRO.DNIT ONERADA 01.25'!$A$4:$D$7000,3,FALSE),0)))))) -> M2 | I42: =IF(D42<>0,INDEX('MEMORIA CALCULO'!$A$1:$Q$2429,MATCH(D42,'MEMORIA CALCULO'!$A$1:$A$2429,0),17),0) -> 20.24 | J42: =IF($E42="SINAPI",VLOOKUP($F42,'SINAPI_ONERADO-03.25'!$G$2:$K$7540,5,FALSE),IF($E42="CDHU",VLOOKUP($F42,'CDHU_Onerado-02.25 (197)'!$A$9:$F$4114,6,FALSE),IF($E42="FDE",VLOOKUP($F42,'FDE-01.25'!$A$3:$E$4000,5,FALSE),IF($E42="SIURB (E)",VLOOKUP($F42,'EDIF SEM Des JAN25'!$A$3:$D$3000,4,FALSE),IF($E42="SIURB (I)",VLOOKUP($F42,'INFRA SEM Des JAN25'!$A$2:$D$1000,4,FALSE),IF($E42="SICRO NOVO",VLOOKUP($F42,'SICRO.DNIT ONERADA 01.25'!$A$4:$D$7000,4,FALSE),0)))))) -> 6.03 | K42: =J42*(1+IF(N42="x",$T$4,$T$3)) -> 7.38 | L42: =ROUND(ROUND(I42,2)*ROUND(K42,2),2) -> 149.37 | O42: =IFERROR(L42/$L$11,0) -> 0.0001
...

Sheet MEMORIA CALCULO
B2: OBJETO | C2: ='Plan. Orçamentária'!E2 -> AMPLIAÇÃO DO CEI RITA DE CÁSSIA GOMES DENIG
B3: LOCAL: | C3: ='Plan. Orçamentária'!E3 -> RUA DR. LOURENÇO DE SÁ ALBUQUERQUE, 70 - JARDIM BRASIL - ATIBAIA SP | P3: DATA: | Q3: =TODAY() -> 45782
B5: MEMÓRIA DE CÁLCULO
B6: ITEM | C6: DISCRIMINAÇÃO DE CÁLCULO | P6: QUANTIDADE
P7: UNID. | Q7: TOTAL
C9: ='Plan. Orçamentária'!$E$15 -> SERVIÇOS PRELIMINARES
B10: 1 | C10: ='Plan. Orçamentária'!$E$16 -> EQUIPE TÉCNICA
A11: ='Plan. Orçamentária'!D17 -> 1001 | B11: =IF(A11<>0,INDEX('Plan. Orçamentária'!$D$16:$K$306,MATCH(A11,'Plan. Orçamentária'!$D$16:$D$306,0),3),0) -> 90778 | C11: =IF(A11<>0,INDEX('Plan. Orçamentária'!$D$16:$K$306,MATCH(A11,'Plan. Orçamentária'!$D$16:$D$306,0),4),0) -> ENGENHEIRO CIVIL DE OBRA PLENO COM ENCARGOS COMPLEMENTARES | P11: =IF(A11<>0,INDEX('Plan. Orçamentária'!$D$16:$K$306,MATCH(A11,'Plan. Orçamentária'!$D$16:$D$306,0),5),0) -> H | Q11: =TRUNC(SUM(O13),2) -> 264
L12: HORAS | N12: MÊS | O12: TOTAL
L13: =22*2 -> 44 | M13: X | N13: 6 | O13: =L13*N13 -> 264
A15: =A11+1 -> 1002 | B15: =IF(A15<>0,INDEX('Plan. Orçamentária'!$D$16:$K$306,MATCH(A15,'Plan. Orçamentária'!$D$16:$D$306,0),3),0) -> 90776 | C15: =IF(A15<>0,INDEX('Plan. Orçamentária'!$D$16:$K$306,MATCH(A15,'Plan. Orçamentária'!$D$16:$D$306,0),4),0) -> ENCARREGADO GERAL COM ENCARGOS COMPLEMENTARES | P15: =IF(A15<>0,INDEX('Plan. Orçamentária'!$D$16:$K$306,MATCH(A15,'Plan. Orçamentária'!$D$16:$D$306,0),5),0) -> H | Q15: =TRUNC(SUM(O17),2) -> 1056
L16: HORAS | N16: MÊS | O16: TOTAL
L17: =22*8 -> 176 | M17: X | N17: =$N$13 -> 6 | O17: =L17*N17 -> 1056
B19: 2 | C19: ='Plan. Orçamentária'!$E$20 -> CANTEIRO DE OBRAS
A20: ='Plan. Orçamentária'!D21 -> 2001 | B20: =IF(A20<>0,INDEX('Plan. Orçamentária'!$D$16:$K$306,MATCH(A20,'Plan. Orçamentária'!$D$16:$D$306,0),3),0) -> 02.10.020 | C20: =IF(A20<>0,INDEX('Plan. Orçamentária'!$D$16:$K$306,MATCH(A20,'Plan. Orçamentária'!$D$16:$D$306,0),4),0) -> Locação de obra de edificação | P20: =IF(A20<>0,INDEX('Plan. Orçamentária'!$D$16:$K$306,MATCH(A20,'Plan. Orçamentária'!$D$16:$D$306,0),5),0) -> M2 | Q20: =TRUNC(SUM(O22),2) -> 428
O21: TOTAL
O22: 428
A24: =A20+1 -> 2002 | B24: =IF(A24<>0,INDEX('Plan. Orçamentária'!$D$16:$K$306,MATCH(A24,'Plan. Orçamentária'!$D$16:$D$306,0),3),0) -> 02.02.150 | C24: =IF(A24<>0,INDEX('Plan. Orçamentária'!$D$16:$K$306,MATCH(A24,'Plan. Orçamentária'!$D$16:$D$306,0),4),0) -> Locação de container tipo depósito - área mínima de 13,80 m² | P24: =IF(A24<>0,INDEX('Plan. Orçamentária'!$D$16:$K$306,MATCH(A24,'Plan. Orçamentária'!$D$16:$D$306,0),5),0) -> UNMES | Q24: =TRUNC(SUM(O26),2) -> 6
L25: UNID. | N25: MÊS | O25: TOTAL
L26: 1 | M26: X | N26: =$N$13 -> 6 | O26: =L26*N26 -> 6
A28: =A24+1 -> 2003 | B28: =IF(A28<>0,INDEX('Plan. Orçamentária'!$D$16:$K$306,MATCH(A28,'Plan. Orçamentária'!$D$16:$D$306,0),3),0) -> 02.02.140 | C28: =IF(A28<>0,INDEX('Plan. Orçamentária'!$D$16:$K$306,MATCH(A28,'Plan. Orçamentária'!$D$16:$D$306,0),4),0) -> Locação de container tipo sanitário com 2 vasos sanitários, 2 lavatórios, 2 mictórios e 4 pontos para chuveiro - área mínima de 13,80 m² | P28: =IF(A28<>0,INDEX('Plan. Orçamentária'!$D$16:$K$306,MATCH(A28,'Plan. Orçamentária'!$D$16:$D$306,0),5),0) -> UNMES | Q28: =TRUNC(SUM(O30),2) -> 6
L29: UNID. | N29: MÊS | O29: TOTAL
L30: 1 | M30: X | N30: =$N$13 -> 6 | O30: =L30*N30 -> 6
A32: =A28+1 -> 2004 | B32: =IF(A32<>0,INDEX('Plan. Orçamentária'!$D$16:$K$306,MATCH(A32,'Plan. Orçamentária'!$D$16:$D$306,0),3),0) -> 02.02.130 | C32: =IF(A32<>0,INDEX('Plan. Orçamentária'!$D$16:$K$306,MATCH(A32,'Plan. Orçamentária'!$D$16:$D$306,0),4),0) -> Locação de container tipo escritório com 1 vaso sanitário, 1 lavatório e 1 ponto para chuveiro - área mínima de 13,80 m² | P32: =IF(A32<>0,INDEX('Plan. Orçamentária'!$D$16:$K$306,MATCH(A32,'Plan. Orçamentária'!$D$16:$D$306,0),5),0) -> UNMES | Q32: =TRUNC(SUM(O34),2) -> 12
L33: UNID. | N33: MÊS | O33: TOTAL
L34: 2 | M34: X | N34: =$N$13 -> 6 | O34: =L34*N34 -> 12
A36: =A32+1 -> 2005 | B36: =IF(A36<>0,INDEX('Plan. Orçamentária'!$D$16:$K$306,MATCH(A36,'Plan. Orçamentária'!$D$16:$D$306,0),3),0) -> 98459 | C36: =IF(A36<>0,INDEX('Plan. Orçamentária'!$D$16:$K$306,MATCH(A36,'Plan. Orçamentária'!$D$16:$D$306,0),4),0) -> TAPUME COM TELHA METÁLICA. AF_03/2024 | P36: =IF(A36<>0,INDEX('Plan. Orçamentária'!$D$16:$K$306,MATCH(A36,'Plan. Orçamentária'!$D$16:$D$306,0),5),0) -> M2 | Q36: =TRUNC(SUM(O38:O39),2) -> 182.6
L37: COMP. | N37: H | O37: TOTAL
L38: 83 | M38: X | N38: 2.2 | O38: =L38*N38 -> 182.6
A40: =A36+1 -> 2006 | B40: =IF(A40<>0,INDEX('Plan. Orçamentária'!$D$16:$K$306,MATCH(A40,'Plan. Orçamentária'!$D$16:$D$306,0),3),0) -> 1005007 | C40: =IF(A40<>0,INDEX('Plan. Orçamentária'!$D$16:$K$306,MATCH(A40,'Plan. Orçamentária'!$D$16:$D$306,0),4),0) -> PORTÃO DE PEDESTRES - 1,15M, PARA TAPUME | P40: =IF(A40<>0,INDEX('Plan. Orçamentária'!$D$16:$K$306,MATCH(A40,'Plan. Orçamentária'!$D$16:$D$306,0),5),0) -> M2 | Q40: =TRUNC(SUM(O42:O43),2) -> 1.89
O41: TOTAL
O42: 1.89
A44: =A40+1 -> 2007 | B44: =IF(A44<>0,INDEX('Plan. Orçamentária'!$D$16:$K$306,MATCH(A44,'Plan. Orçamentária'!$D$16:$D$306,0),3),0) -> 1005006 | C44: =IF(A44<>0,INDEX('Plan. Orçamentária'!$D$16:$K$306,MATCH(A44,'Plan. Orçamentária'!$D$16:$D$306,0),4),0) -> PORTÃO METÁLICO DE OBRA - 5M, PIVOTANTE, 2 FOLHAS, PARA TAPUME | P44: =IF(A44<>0,INDEX('Plan. Orçamentária'!$D$16:$K$306,MATCH(A44,'Plan. Orçamentária'!$D$16:$D$306,0),5),0) -> M2 | Q44: =TRUNC(SUM(O46:O47),2) -> 11
L45: COMP. | N45: H | O45: TOTAL
L46: 5 | M46: X | N46: 2.2 | O46: =L46*N46 -> 11
A48: =A44+1 -> 2008 | B48: =IF(A48<>0,INDEX('Plan. Orçamentária'!$D$16:$K$306,MATCH(A48,'Plan. Orçamentária'!$D$16:$D$306,0),3),0) -> 17030002 | C48: =IF(A48<>0,INDEX('Plan. Orçamentária'!$D$16:$K$306,MATCH(A48,'Plan. Orçamentária'!$D$16:$D$306,0),4),0) -> PLACA DE OBRA EM CHAPA DE AÇO GALVANIZADO | P48: =IF(A48<>0,INDEX('Plan. Orçamentária'!$D$16:$K$306,MATCH(A48,'Plan. Orçamentária'!$D$16:$D$306,0),5),0) -> M2 | Q48: =TRUNC(SUM(O50:O51),2) -> 10.5
O49: TOTAL
O50: 10.5
A52: =A48+1 -> 2009 | B52: =IF(A52<>0,INDEX('Plan. Orçamentária'!$D$16:$K$306,MATCH(A52,'Plan. Orçamentária'!$D$16:$D$306,0),3),0) -> 98462 | C52: =IF(A52<>0,INDEX('Plan. Orçamentária'!$D$16:$K$306,MATCH(A52,'Plan. Orçamentária'!$D$16:$D$306,0),4),0) -> ESTRUTURA DE MADEIRA PROVISÓRIA PARA SUPORTE DE CAIXA DÁGUA ELEVADA DE 3000 LITROS. AF_03/2024 | P52: =IF(A52<>0,INDEX('Plan. Orçamentária'!$D$16:$K$306,MATCH(A52,'Plan. Orçamentária'!$D$16:$D$306,0),5),0) -> UN | Q52: =TRUNC(SUM(O54:O55),2) -> 1
O53: TOTAL
...

Sheet Cronograma Físico-Financeiro
A1: Dados da Obra
A2: Objeto | B2: ='Plan. Orçamentária'!E2 -> AMPLIAÇÃO DO CEI RITA DE CÁSSIA GOMES DENIG
A3: Local | B3: ='Plan. Orçamentária'!E3 -> RUA DR. LOURENÇO DE SÁ ALBUQUERQUE, 70 - JARDIM BRASIL - ATIBAIA SP
A5: CRONOGRAMA FÍSICO - FINANCEIRO
A7: Item | B7: Descrição dos Serviços | C7: TOTAL | D7: (%) TOTAL | E7: (%) PARCIAL | F7: MÊS 01 | J7: MÊS 02 | N7: MÊS 03 | R7: MÊS 04 | V7: MÊS 05 | Z7: MÊS 06 | AD7: MÊS 07 | AH7: MÊS 08 | AL7: MÊS 09 | AP7: MÊS 10 | AT7: MÊS 11 | AX7: MÊS 12 | BB7: MÊS 07 | BF7: MÊS 08 | BJ7: MÊS 09 | BN7: MÊS 10 | BR7: MÊS 11 | BV7: MÊS 12 | BZ7: MÊS 13 | CD7: MÊS 14 | CH7: MÊS 15 | CL7: MÊS 16 | CP7: MÊS 17 | CT7: MÊS 18 | CX7: MÊS 19 | DB7: MÊS 20 | DF7: MÊS 21 | DJ7: MÊS 22 | DN7: MÊS 23 | DR7: MÊS 24 | DV7: MÊS 25 | DZ7: MÊS 26 | ED7: MÊS 27 | EH7: MÊS 28 | EL7: MÊS 29 | EP7: MÊS 30 | ET7: MÊS 31 | EX7: MÊS 32 | FB7: MÊS 33 | FF7: MÊS 34 | FJ7: MÊS 35 | FN7: MÊS 36 | FS7: VERIFICAÇÃO% TOTAL
F8: 1 | G8: 2 | H8: 3 | I8: 4 | J8: 1 | K8: 2 | L8: 3 | M8: 4 | N8: 1 | O8: 2 | P8: 3 | Q8: 4 | R8: 1 | S8: 2 | T8: 3 | U8: 4 | V8: 1 | W8: 2 | X8: 3 | Y8: 4 | Z8: 1 | AA8: 2 | AB8: 3 | AC8: 4 | AD8: 1 | AE8: 2 | AF8: 3 | AG8: 4 | AH8: 1 | AI8: 2 | AJ8: 3 | AK8: 4 | AL8: 1 | AM8: 2 | AN8: 3 | AO8: 4 | AP8: 1 | AQ8: 2 | AR8: 3 | AS8: 4 | AT8: 1 | AU8: 2 | AV8: 3 | AW8: 4 | AX8: 1 | AY8: 2 | AZ8: 3 | BA8: 4 | BB8: 1 | BC8: 2 | BD8: 3 | BE8: 4 | BF8: 1 | BG8: 2 | BH8: 3 | BI8: 4 | BJ8: 1 | BK8: 2 | BL8: 3 | BM8: 4 | BN8: 1 | BO8: 2 | BP8: 3 | BQ8: 4 | BR8: 1 | BS8: 2 | BT8: 3 | BU8: 4 | BV8: 1 | BW8: 2 | BX8: 3 | BY8: 4 | BZ8: 1 | CA8: 2 | CB8: 3 | CC8: 4 | CD8: 1 | CE8: 2 | CF8: 3 | CG8: 4 | CH8: 1 | CI8: 2 | CJ8: 3 | CK8: 4 | CL8: 1 | CM8: 2 | CN8: 3 | CO8: 4 | CP8: 1 | CQ8: 2 | CR8: 3 | CS8: 4 | CT8: 1 | CU8: 2 | CV8: 3 | CW8: 4 | CX8: 1 | CY8: 2 | CZ8: 3 | DA8: 4 | DB8: 1 | DC8: 2 | DD8: 3 | DE8: 4 | DF8: 1 | DG8: 2 | DH8: 3 | DI8: 4 | DJ8: 1 | DK8: 2 | DL8: 3 | DM8: 4 | DN8: 1 | DO8: 2 | DP8: 3 | DQ8: 4 | DR8: 1 | DS8: 2 | DT8: 3 | DU8: 4 | DV8: 1 | DW8: 2 | DX8: 3 | DY8: 4 | DZ8: 1 | EA8: 2 | EB8: 3 | EC8: 4 | ED8: 1 | EE8: 2 | EF8: 3 | EG8: 4 | EH8: 1 | EI8: 2 | EJ8: 3 | EK8: 4 | EL8: 1 | EM8: 2 | EN8: 3 | EO8: 4 | EP8: 1 | EQ8: 2 | ER8: 3 | ES8: 4 | ET8: 1 | EU8: 2 | EV8: 3 | EW8: 4 | EX8: 1 | EY8: 2 | EZ8: 3 | FA8: 4 | FB8: 1 | FC8: 2 | FD8: 3 | FE8: 4 | FF8: 1 | FG8: 2 | FH8: 3 | FI8: 4 | FJ8: 1 | FK8: 2 | FL8: 3 | FM8: 4 | FN8: 1 | FO8: 2 | FP8: 3 | FQ8: 4
A10: 1 | B10: =IF(A10<>0,INDEX(RESUMO!$A$10:$H$486,MATCH(A10,RESUMO!$A$10:$A$486,0),2),0) -> EQUIPE TÉCNICA | C10: =IF(A10<>0,INDEX(RESUMO!$A$10:$H$486,MATCH(A10,RESUMO!$A$10:$A$486,0),5),0) -> 107793.84 | D10: =IF(A10<>0,INDEX(RESUMO!$A$10:$H$486,MATCH(A10,RESUMO!$A$10:$A$486,0),8),0) -> 0.322 | E10: =IF(A10<>0,INDEX(RESUMO!$A$10:$I$486,MATCH(A10,RESUMO!$A$10:$A$486,0),8),0) -> 0.322 | F10: 0.05 | H10: 0.05 | J10: 0.085 | N10: 0.0825 | R10: 0.0825 | V10: 0.0825 | Z10: 0.0825 | AD10: 0.0825 | AH10: 0.0825 | AL10: 0.08 | AP10: 0.08 | AT10: 0.08 | AX10: 0.08 | FS10: =SUM(F10:FQ10) -> 1
