Workbook
Name __xlfn_ANCHORARRAY: #N/A
Name Excel_BuiltIn_Print_Area: 'Planilha Modelo'!$A$1:$J$107
Name Excel_BuiltIn_Print_Area_1_1: '[1]Planilha Modelo - D.P.O.O.P.'!$A$1:$J$349
Name Excel_BuiltIn_Print_Area_1_1: 'Planilha Modelo'!$A$1:$J$107
Name Excel_BuiltIn_Print_Area_1_1_1: '[1]Planilha Modelo - D.P.O.O.P.'!$A$1:$J$354
Name Excel_BuiltIn_Print_Area_1_1_1: 'Planilha Modelo'!$A$1:$J$107
Name Excel_BuiltIn_Print_Area_1_1_1_1: 'Planilha Modelo'!$A$1:$J$107
Name Excel_BuiltIn_Print_Area_2_1: #REF!
Name Excel_BuiltIn_Print_Area_2_1: #REF!
Name Excel_BuiltIn_Print_Area_3_1: #REF!
Name Excel_BuiltIn_Print_Titles: 'Planilha Modelo'!$1:$11
Name Print_Area: CRONOGRAMA!$A$1:$Y$30
Name Print_Area: 'Planilha Modelo'!$A$1:$J$107

Sheet Planilha Modelo
J4: Memorial Físico-Financeiro
D6: Obra: | E6: Construção de Pátio Coberto da EMEIF Rosiris Stopa | I6: Valor Final | J6: =J107 -> 0
D7: Local: | E7: Rua Anna Mathias Vairo, 75 – Campos de Atibaia
D8: Área de intervenção (m²): | E8: 199.32 | H8: BDI:
A10: Item | B10: Subitem | C10: Fonte | D10: Código | E10: Descrição dos Serviços | F10: Unid | G10: Qtde | H10: V. Unitário (s/ BDI) | I10: V. Unitário (R$) | J10: Valor Total
A12: 1 | B12: =J12/$J$107 -> #DIV/0! | E12: SERVIÇOS PRELIMINARES | J12: =SUM(J14:J28) -> 0
E13: CANTEIRO DE OBRAS
B14: 1.1 | C14: FDE | D14: 1606078 | E14: FORNECIMENTO E INSTALAÇAO DE PLACA DE IDENTIFICAÇAO DE OBRA INCLUSO SUPORTE ESTRUTURA DE MADEIRA. | F14: M2 | G14: 4.7 | J14: =G14*I14 -> 0
B15: 1.2 | C15: FDE | D15: 1606059 | E15: TAPUME H=225CM ENGASTADO NO TERRENO E PINTURA LATEX FACE EXTERNA CO LOGOTIPO | F15: M | G15: 98 | J15: =G15*I15 -> 0
B16: 1.3 | C16: FDE | D16: 1606050 | E16: CANTEIRO DE OBRAS - LARG 2,20M | F16: M2 | G16: 7.26 | J16: =G16*I16 -> 0
B17: 1.4 | C17: FDE | D17: 110001 | E17: GABARITO DE MADEIRA ESQUADRADO E NIVELADO PARA LOCAÇÃO DE OBRA | F17: M | G17: 68 | J17: =G17*I17 -> 0
E18: SONDAGEM E PROJETOS EXECUTIVOS
B19: 1.5 | C19: CDHU | D19: 121100 | E19: SONDAGEM DO TERRENO A TRADO | F19: M | G19: 20 | J19: =G19*I19 -> 0
B20: 1.6 | C20: CDHU | D20: 117051 | E20: PROJETO EXECUTIVO DE ESTRUTURA EM FORMATO A1 | F20: UN | G20: 2 | J20: =G20*I20 -> 0
B21: 1.7 | C21: CDHU | D21: 117111 | E21: PROJETO EXECUTIVO DE INSTALAÇÕES ELÉTRICAS EM FORMATO A1 | F21: UN | G21: 1 | J21: =G21*I21 -> 0
B22: 1.8 | C22: CDHU | D22: 117071 | E22: PROJETO EXECUTIVO DE INSTALAÇÕES HIDRÁULICAS EM FORMATO A1 | F22: UN | G22: 1 | J22: =G22*I22 -> 0
E23: DEMOLIÇÕES E RETIRADAS
B24: 1.9 | C24: CDHU | D24: 409140 | E24: RETIRADA DE POSTE OU SISTEMA DE SUSTENTAÇÃO PARA ALAMBRADO OU FECHAMENTO | F24: UN | G24: 11 | J24: =G24*I24 -> 0
B25: 1.10 | C25: CDHU | D25: 409160 | E25: RETIRADA DE ENTELAMENTO METÁLICO EM GERAL | F25: M2 | G25: 15 | J25: =G25*I25 -> 0
B26: 1.11 | C26: CDHU | D26: 302040 | E26: DEMOLIÇÃO MANUAL DE ALVENARIA DE ELEVAÇÃO OU ELEMENTO VAZADO, INCLUINDO REVESTIMENTO | F26: M3 | G26: 0.92 | J26: =G26*I26 -> 0
B27: 1.12 | C27: FDE | D27: 101001 | E27: RETIRANDO A VEGETACAO, TRONCOS ATE 5CM DE DIAMETRO E RASPAGEM. | F27: M2 | G27: 25 | J27: =G27*I27 -> 0
B28: 1.13 | C28: FDE | D28: 1680097 | E28: CAÇAMBA DE 4M3 PARA RETIRADA DE ENTULHO | F28: UN | G28: 2 | J28: =G28*I28 -> 0
A29: 2 | B29: =J29/$J$107 -> #DIV/0! | E29: FUNDAÇÃO E ESTRUTURA | J29: =SUM(J30:J51) -> 0
E30: FUNDAÇÃO
B31: 2.1 | C31: FDE | D31: 105001 | E31: ESCAVACAO MANUAL - PROFUNDIDADE ATE 1.80 M | F31: M3 | G31: 37.4 | J31: =G31*I31 -> 0
B32: 2.2 | C32: FDE | D32: 202026 | E32: BROCA DE CONCRETO DE DIAMETRO 25CM - INCL ARRANQUES | F32: M | G32: 84 | J32: =G32*I32 -> 0
B33: 2.3 | C33: FDE | D33: 1301006 | E33: LASTRO DE PEDRA BRITADA - 5CM | F33: M2 | G33: 16.4 | J33: =G33*I33 -> 0
B34: 2.4 | C34: FDE | D34: 203001 | E34: FORMA DE MADEIRA MACICA | F34: M2 | G34: 93.78 | J34: =G34*I34 -> 0
B35: 2.5 | C35: FDE | D35: 204002 | E35: ACO CA 50 (A OU B) FYK= 500 M PA | F35: KG | G35: 165.2 | J35: =G35*I35 -> 0
B36: 2.6 | C36: FDE | D36: 204003 | E36: ACO CA 60 (A OU B) FYK= 600 M PA | F36: KG | G36: 124.74 | J36: =G36*I36 -> 0
B37: 2.7 | C37: FDE | D37: 205028 | E37: CONCRETO DOSADO,BOMBEADO E LANCADO FCK=25MPA | F37: M3 | G37: 8.55 | J37: =G37*I37 -> 0
B38: 2.8 | C38: FDE | D38: 206020 | E38: ALVENARIA EMBASAMENTO BLOCO CONCRETO ESTRUTURAL 14X19X39CM CLASSE A | F38: M2 | G38: 6.07 | J38: =G38*I38 -> 0
B39: 2.9 | C39: SIURB-E | D39: 17001070 | E39: MURO DE ARRIMO H=1,40M, COM DRENAGEM | F39: M | G39: 18.35 | J39: =G39*I39 -> 0
B40: 2.10 | C40: FDE | D40: 106005 | E40: REATERRO INTERNO APILOADO | F40: M3 | G40: 37.4 | J40: =G40*I40 -> 0
E41: ESTRUTURA
B42: 2.11 | C42: FDE | D42: 301002 | E42: FORMAS PLANAS PLASTIFICADA PARA CONCRETO APARENTE | F42: M2 | G42: 129.42 | J42: =G42*I42 -> 0
B43: 2.12 | C43: FDE | D43: 302002 | E43: ACO CA 50 (A OU B) FYK= 500 M PA | F43: KG | G43: 517.9 | J43: =G43*I43 -> 0
B44: 2.13 | C44: FDE | D44: 302003 | E44: ACO CA 60 (A OU B) FYK= 600 M PA | F44: KG | G44: 141.15 | J44: =G44*I44 -> 0
B45: 2.14 | C45: FDE | D45: 303026 | E45: CONCRETO DOSADO,BOMBEADO E LANCADO FCK 25 MPA | F45: M3 | G45: 8.53 | J45: =G45*I45 -> 0
B46: 2.15 | C46: FDE | D46: 207002 | E46: IMPERM RESP ALV EMBAS C/ CIM-AREIA 1-3 HIDROFUGO/TINTA BETUMINOSA | F46: M2 | G46: 10.45 | J46: =G46*I46 -> 0
...

Sheet CRONOGRAMA
O5: Cronograma Físico-Financeiro
A6: Obra: | C6: ='Planilha Modelo'!E6 -> Construção de Pátio Coberto da EMEIF Rosiris Stopa | Y6: =Y30 -> 0
A7: Local: | C7: ='Planilha Modelo'!E7 -> Rua Anna Mathias Vairo, 75 – Campos de Atibaia
A10: Item | B10: % | C10: Descrição dos Serviços | E10: MÊS 01 | I10: MÊS 02 | M10: MÊS 03 | Q10: MÊS 04 | U10: MÊS 05 | Y10: VALOR DA ETAPA COM BDI
A13: 1 | B13: ='Planilha Modelo'!B12 -> #DIV/0! | C13: ='Planilha Modelo'!E12 -> SERVIÇOS PRELIMINARES | E13: =$Y13*E14 -> 0 | Y13: ='Planilha Modelo'!J12 -> 0
E14: 1 | Y14: =SUM(E14:X14) -> 1
A15: 2 | B15: ='Planilha Modelo'!B29 -> #DIV/0! | C15: ='Planilha Modelo'!E29 -> FUNDAÇÃO E ESTRUTURA | E15: =$Y15*E16 -> 0 | I15: =$Y15*I16 -> 0 | M15: =$Y15*M16 -> 0 | Y15: ='Planilha Modelo'!J29 -> 0
E16: 0.1 | I16: 0.5 | M16: 0.4 | Y16: =SUM(E16:X16) -> 1
A17: 3 | B17: ='Planilha Modelo'!B52 -> #DIV/0! | C17: ='Planilha Modelo'!E52 -> COBERTURA | M17: =$Y17*M18 -> 0 | Q17: =$Y17*Q18 -> 0 | Y17: ='Planilha Modelo'!J52 -> 0
M18: 0.5 | Q18: 0.5 | Y18: =SUM(E18:X18) -> 1
A19: 4 | B19: ='Planilha Modelo'!B64 -> #DIV/0! | C19: ='Planilha Modelo'!E64 -> ALVENARIAS E FECHAMENTOS | M19: =$Y19*M20 -> 0 | Y19: ='Planilha Modelo'!J64 -> 0
M20: 1 | Y20: =SUM(E20:X20) -> 1
A21: 5 | B21: ='Planilha Modelo'!B69 -> #DIV/0! | C21: ='Planilha Modelo'!E69 -> REVESTIMENTOS - PISOS E PAREDES | Q21: =$Y21*Q22 -> 0 | U21: =$Y21*U22 -> 0 | Y21: ='Planilha Modelo'!J69 -> 0
Q22: 0.7 | U22: 0.3 | Y22: =SUM(E22:X22) -> 1
A23: 6 | B23: ='Planilha Modelo'!B85 -> #DIV/0! | C23: ='Planilha Modelo'!E85 -> PINTURA | Q23: =$Y23*Q24 -> 0 | U23: =$Y23*U24 -> 0 | Y23: ='Planilha Modelo'!J85 -> 0
Q24: 0.3 | U24: 0.7 | Y24: =SUM(E24:X24) -> 1
A25: 7 | B25: ='Planilha Modelo'!B89 -> #DIV/0! | C25: ='Planilha Modelo'!E89 -> INSTALAÇÕES ELÉTRICAS | U25: =$Y25*U26 -> 0 | Y25: ='Planilha Modelo'!J89 -> 0
U26: 1 | Y26: =SUM(E26:X26) -> 1
A27: 8 | B27: ='Planilha Modelo'!B97 -> #DIV/0! | C27: ='Planilha Modelo'!E97 -> SERVIÇOS COMPLEMENTARES | U27: =$Y27*U28 -> 0 | Y27: ='Planilha Modelo'!J97 -> 0
U28: 1 | Y28: =SUM(E28:X28) -> 1
D29: PORCENTAGEM NO MÊS | E29: =E30/$Y30 -> #DIV/0! | I29: =I30/$Y30 -> #DIV/0! | M29: =M30/$Y30 -> #DIV/0! | Q29: =Q30/$Y30 -> #DIV/0! | U29: =U30/$Y30 -> #DIV/0! | Y29: TOTAL GERAL
B30: Total por mês com BDI | E30: =E13+E15+E17+E19+E21+E23+E25+E27 -> 0 | I30: =I13+I15+I17+I19+I21+I23+I25+I27 -> 0 | M30: =M13+M15+M17+M19+M21+M23+M25+M27 -> 0 | Q30: =Q13+Q15+Q17+Q19+Q21+Q23+Q25+Q27 -> 0 | U30: =U13+U15+U17+U19+U21+U23+U25+U27 -> 0 | Y30: =Y13+Y15+Y17+Y19+Y21+Y23+Y25+Y27 -> 0
