Workbook
Name __xlfn_ANCHORARRAY: #N/A
Name Excel_BuiltIn_Print_Area: 'Planilha Modelo'!$A$1:$J$107
Name Excel_BuiltIn_Print_Area_1_1: '[1]Planilha Modelo - D.P.O.O.P.'!$A$1:$J$349
Name Excel_BuiltIn_Print_Area_1_1: 'Planilha Modelo'!$A$1:$J$107
Name Excel_BuiltIn_Print_Area_1_1_1: '[1]Planilha Modelo - D.P.O.O.P.'!$A$1:$J$354
Name Excel_BuiltIn_Print_Area_1_1_1: 'Planilha Modelo'!$A$1:$J$107
Name Excel_BuiltIn_Print_Area_1_1_1_1: 'Planilha Modelo'!$A$1:$J$107
Name Excel_BuiltIn_Print_Area_2_1: #REF!
Name Excel_BuiltIn_Print_Area_2_1: #REF!
Name Excel_BuiltIn_Print_Area_3_1: #REF!
Name Excel_BuiltIn_Print_Titles: 'Planilha Modelo'!$1:$11
Name Print_Area: CRONOGRAMA!$A$1:$Y$30
Name Print_Area: 'Planilha Modelo'!$A$1:$J$107

Sheet Planilha Modelo
J4: Memorial Físico-Financeiro
D6: Obra: | E6: Construção de Pátio Coberto da EMEIF Rosiris Stopa | I6: Valor Final | J6: =J107 -> 0
D7: Local: | E7: Rua Anna Mathias Vairo, 75 – Campos de Atibaia
D8: Área de intervenção (m²): | E8: 199.32 | H8: BDI:
A10: Item | B10: Subitem | C10: Fonte | D10: Código | E10: Descrição dos Serviços | F10: Unid | G10: Qtde | H10: V. Unitário (s/ BDI) | I10: V. Unitário (R$) | J10: Valor Total
A12: 1 | B12: =J12/$J$107 -> #DIV/0! | E12: SERVIÇOS PRELIMINARES | J12: =SUM(J14:J28) -> 0
E13: CANTEIRO DE OBRAS
B14: 1.1 | C14: FDE | D14: 1606078 | E14: FORNECIMENTO E INSTALAÇAO DE PLACA DE IDENTIFICAÇAO DE OBRA INCLUSO SUPORTE ESTRUTURA DE MADEIRA. | F14: M2 | G14: 4.7 | J14: =G14*I14 -> 0
B15: 1.2 | C15: FDE | D15: 1606059 | E15: TAPUME H=225CM ENGASTADO NO TERRENO E PINTURA LATEX FACE EXTERNA CO LOGOTIPO | F15: M | G15: 98 | J15: =G15*I15 -> 0
B16: 1.3 | C16: FDE | D16: 1606050 | E16: CANTEIRO DE OBRAS - LARG 2,20M | F16: M2 | G16: 7.26 | J16: =G16*I16 -> 0
B17: 1.4 | C17: FDE | D17: 110001 | E17: GABARITO DE MADEIRA ESQUADRADO E NIVELADO PARA LOCAÇÃO DE OBRA | F17: M | G17: 68 | J17: =G17*I17 -> 0
E18: SONDAGEM E PROJETOS EXECUTIVOS
B19: 1.5 | C19: CDHU | D19: 121100 | E19: SONDAGEM DO TERRENO A TRADO | F19: M | G19: 20 | J19: =G19*I19 -> 0
B20: 1.6 | C20: CDHU | D20: 117051 | E20: PROJETO EXECUTIVO DE ESTRUTURA EM FORMATO A1 | F20: UN | G20: 2 | J20: =G20*I20 -> 0
B21: 1.7 | C21: CDHU | D21: 117111 | E21: PROJETO EXECUTIVO DE INSTALAÇÕES ELÉTRICAS EM FORMATO A1 | F21: UN | G21: 1 | J21: =G21*I21 -> 0
B22: 1.8 | C22: CDHU | D22: 117071 | E22: PROJETO EXECUTIVO DE INSTALAÇÕES HIDRÁULICAS EM FORMATO A1 | F22: UN | G22: 1 | J22: =G22*I22 -> 0
E23: DEMOLIÇÕES E RETIRADAS
B24: 1.9 | C24: CDHU | D24: 409140 | E24: RETIRADA DE POSTE OU SISTEMA DE SUSTENTAÇÃO PARA ALAMBRADO OU FECHAMENTO | F24: UN | G24: 11 | J24: =G24*I24 -> 0
B25: 1.10 | C25: CDHU | D25: 409160 | E25: RETIRADA DE ENTELAMENTO METÁLICO EM GERAL | F25: M2 | G25: 15 | J25: =G25*I25 -> 0
B26: 1.11 | C26: CDHU | D26: 302040 | E26: DEMOLIÇÃO MANUAL DE ALVENARIA DE ELEVAÇÃO OU ELEMENTO VAZADO, INCLUINDO REVESTIMENTO | F26: M3 | G26: 0.92 | J26: =G26*I26 -> 0
B27: 1.12 | C27: FDE | D27: 101001 | E27: RETIRANDO A VEGETACAO, TRONCOS ATE 5CM DE DIAMETRO E RASPAGEM. | F27: M2 | G27: 25 | J27: =G27*I27 -> 0
B28: 1.13 | C28: FDE | D28: 1680097 | E28: CAÇAMBA DE 4M3 PARA RETIRADA DE ENTULHO | F28: UN | G28: 2 | J28: =G28*I28 -> 0
A29: 2 | B29: =J29/$J$107 -> #DIV/0! | E29: FUNDAÇÃO E ESTRUTURA | J29: =SUM(J30:J51) -> 0
E30: FUNDAÇÃO
B31: 2.1 | C31: FDE | D31: 105001 | E31: ESCAVACAO MANUAL - PROFUNDIDADE ATE 1.80 M | F31: M3 | G31: 37.4 | J31: =G31*I31 -> 0
B32: 2.2 | C32: FDE | D32: 202026 | E32: BROCA DE CONCRETO DE DIAMETRO 25CM - INCL ARRANQUES | F32: M | G32: 84 | J32: =G32*I32 -> 0
B33: 2.3 | C33: FDE | D33: 1301006 | E33: LASTRO DE PEDRA BRITADA - 5CM | F33: M2 | G33: 16.4 | J33: =G33*I33 -> 0
B34: 2.4 | C34: FDE | D34: 203001 | E34: FORMA DE MADEIRA MACICA | F34: M2 | G34: 93.78 | J34: =G34*I34 -> 0
B35: 2.5 | C35: FDE | D35: 204002 | E35: ACO CA 50 (A OU B) FYK= 500 M PA | F35: KG | G35: 165.2 | J35: =G35*I35 -> 0
B36: 2.6 | C36: FDE | D36: 204003 | E36: ACO CA 60 (A OU B) FYK= 600 M PA | F36: KG | G36: 124.74 | J36: =G36*I36 -> 0
B37: 2.7 | C37: FDE | D37: 205028 | E37: CONCRETO DOSADO,BOMBEADO E LANCADO FCK=25MPA | F37: M3 | G37: 8.55 | J37: =G37*I37 -> 0
B38: 2.8 | C38: FDE | D38: 206020 | E38: ALVENARIA EMBASAMENTO BLOCO CONCRETO ESTRUTURAL 14X19X39CM CLASSE A | F38: M2 | G38: 6.07 | J38: =G38*I38 -> 0
B39: 2.9 | C39: SIURB-E | D39: 17001070 | E39: MURO DE ARRIMO H=1,40M, COM DRENAGEM | F39: M | G39: 18.35 | J39: =G39*I39 -> 0
B40: 2.10 | C40: FDE | D40: 106005 | E40: REATERRO INTERNO APILOADO | F40: M3 | G40: 37.4 | J40: =G40*I40 -> 0
E41: ESTRUTURA
B42: 2.11 | C42: FDE | D42: 301002 | E42: FORMAS PLANAS PLASTIFICADA PARA CONCRETO APARENTE | F42: M2 | G42: 129.42 | J42: =G42*I42 -> 0
B43: 2.12 | C43: FDE | D43: 302002 | E43: ACO CA 50 (A OU B) FYK= 500 M PA | F43: KG | G43: 517.9 | J43: =G43*I43 -> 0
B44: 2.13 | C44: FDE | D44: 302003 | E44: ACO CA 60 (A OU B) FYK= 600 M PA | F44: KG | G44: 141.15 | J44: =G44*I44 -> 0
B45: 2.14 | C45: FDE | D45: 303026 | E45: CONCRETO DOSADO,BOMBEADO E LANCADO FCK 25 MPA | F45: M3 | G45: 8.53 | J45: =G45*I45 -> 0
B46: 2.15 | C46: FDE | D46: 207002 | E46: IMPERM RESP ALV EMBAS C/ CIM-AREIA 1-3 HIDROFUGO/TINTA BETUMINOSA | F46: M2 | G46: 10.45 | J46: =G46*I46 -> 0
E47: ARQUIBANCADA
B48: 2.16 | C48: FDE | D48: 301001 | E48: FORMAS DE MADEIRA MACICA | F48: M2 | G48: 103.9 | J48: =G48*I48 -> 0
B49: 2.17 | C49: FDE | D49: 302002 | E49: ACO CA 50 (A OU B) FYK= 500 M PA | F49: KG | G49: 592.9 | J49: =G49*I49 -> 0
B50: 2.18 | C50: FDE | D50: 302003 | E50: ACO CA 60 (A OU B) FYK= 600 M PA | F50: KG | G50: 59.29 | J50: =G50*I50 -> 0
B51: 2.19 | C51: FDE | D51: 303026 | E51: CONCRETO DOSADO,BOMBEADO E LANCADO FCK 25 MPA | F51: M3 | G51: 8.47 | J51: =G51*I51 -> 0
A52: 3 | B52: =J52/$J$107 -> #DIV/0! | E52: COBERTURA | J52: =SUM(J53:J63) -> 0
B53: 3.1 | C53: CDHU | D53: 1501020 | E53: ESTRUTURA DE MADEIRA TESOURADA PARA TELHA DE BARRO - VÃOS DE 7,01 A 10,00 M | F53: M2 | G53: 239.87 | J53: =G53*I53 -> 0
B54: 3.2 | C54: FDE | D54: 703110 | E54: TELHA CERAMICA TIPO ROMANA | F54: M2 | G54: 259.06 | J54: =G54*I54 -> 0
B55: 3.3 | C55: FDE | D55: 704001 | E55: CUMEEIRA E ESPIGAO EMBOCADOS PARA TELHA CERAMICA | F55: M | G55: 21.06 | J55: =G55*I55 -> 0
B56: 3.4 | C56: FDE | D56: 780091 | E56: EMBOCAMENTO DE BEIRAL EM TELHA CERAMICA | F56: M | G56: 24.44 | J56: =G56*I56 -> 0
B57: 3.5 | C57: CDHU | D57: 2201210 | E57: TESTEIRA EM TÁBUA APARELHADA, LARGURA ATÉ 20CM | F57: M | G57: 66.56 | J57: =G57*I57 -> 0
B58: 3.6 | C58: FDE | D58: 812008 | E58: LIGACAO CALHA CONDUTOR DE CHAPA ACO GALVANIZADO N.24 DIAMETRO DE 4" | F58: UN | G58: 6 | J58: =G58*I58 -> 0
B59: 3.7 | C59: FDE | D59: 812016 | E59: CALHA OU AGUA FURTADA EM CHAPA GALV. N 24 - CORTE 0,50M | F59: M | G59: 42.12 | J59: =G59*I59 -> 0
B60: 3.8 | C60: FDE | D60: 811053 | E60: TUBO DE PVC REFORÇADO "SR" JUNTA ELÁSTICA DN 100 INCL CONEXÕES | F60: M | G60: 36 | J60: =G60*I60 -> 0
B61: 3.9 | C61: FDE | D61: 1102066 | E61: REGULARIZACAO DE SUPERFICIE P/ PREPARO IMPERM 1:3 E=2,5CM | F61: M2 | G61: 5.6 | J61: =G61*I61 -> 0
B62: 3.10 | C62: FDE | D62: 1102067 | E62: ARGAMASSA PARA PROTEÇAO MECANICA SOBRE SUPERFICIE IMPERMEABILIZADA TRAÇO 1:4 ESPESSURA 3CM | F62: M2 | G62: 5.6 | J62: =G62*I62 -> 0
B63: 3.11 | C63: FDE | D63: 1102026 | E63: IMPERM C/ EMULSAO ACRILICA ESTRUT C/ VEU DE POLIESTER-6 DEMAOS / 2 EST | F63: M2 | G63: 5.6 | J63: =G63*I63 -> 0
A64: 4 | B64: =J64/$J$107 -> #DIV/0! | E64: ALVENARIAS E FECHAMENTOS | J64: =SUM(J65:J68) -> 0
B65: 4.1 | C65: FDE | D65: 401033 | E65: ALVENARIA DE BLOCO DE CONCRETO 14X19X39 CM CLASSE C | F65: M2 | G65: 29.32 | J65: =G65*I65 -> 0
B66: 4.2 | C66: FDE | D66: 401058 | E66: VERGA/CINTA EM BLOCO DE CONCRETO CANALETA - 14 CM | F66: M | G66: 30.75 | J66: =G66*I66 -> 0
B67: 4.3 | C67: CDHU | D67: 1401020 | E67: ALVENARIA DE EMBASAMENTO EM TIJOLO MACIÇO COMUM | F67: M3 | G67: 0.28 | J67: =G67*I67 -> 0
B68: 4.4 | C68: SINAPI | D68: 98522 | E68: ALAMBRADO EM MOURÕES DE CONCRETO, COM TELA DE ARAME GALVANIZADO (INCLUSIVE MURETA EM CONCRETO). AF_05/2018 | F68: M | G68: 7.6 | J68: =G68*I68 -> 0
A69: 5 | B69: =J69/$J$107 -> #DIV/0! | E69: REVESTIMENTOS - PISOS E PAREDES | J69: =SUM(J70:J84) -> 0
E70: PISOS E MÁRMORE
B71: 5.1 | C71: FDE | D71: 1301004 | E71: LASTRO DE CONCRETO C/ HIDROFUGO E=5CM | F71: M2 | G71: 156.16 | J71: =G71*I71 -> 0
B72: 5.2 | C72: FDE | D72: 1301006 | E72: LASTRO DE PEDRA BRITADA - 5CM | F72: M2 | G72: 156.16 | J72: =G72*I72 -> 0
B73: 5.3 | C73: FDE | D73: 1301017 | E73: ARGAMASSA DE REGULARIZACAO CIM/AREIA 1:3 ESP=2,50CM | F73: M2 | G73: 32.31 | J73: =G73*I73 -> 0
B74: 5.4 | C74: CDHU | D74: 1807020 | E74: PLACA CERÂMICA NÃO ESMALTADA EXTRUDADA DE ALTA RESISTÊNCIA QUÍMICA E MECÂNICA, ESPESSURA DE 9 MM, USO INDUSTRIAL, ASSENTADO COM ARGAMASSA QUÍMICA BICOMPONENTE | F74: M2 | G74: 32.31 | J74: =G74*I74 -> 0
B75: 5.5 | C75: FDE | D75: 1302005 | E75: CIMENTADO DESEMPENADO ALISADO E=3,50CM INCL ARG REG | F75: M2 | G75: 156.16 | J75: =G75*I75 -> 0
B76: 5.6 | C76: CDHU | D76: 1902250 | E76: RODAPÉ EM MÁRMORE BRANCO, ESPESSURA DE 2 CM E ALTURA DE 7 CM | F76: M | G76: 38.28 | J76: =G76*I76 -> 0
B77: 5.7 | C77: CDHU | D77: 1902020 | E77: REVESTIMENTO EM MÁRMORE BRANCO, ESPESSURA DE 2 CM, ASSENTE COM MASSA | F77: M2 | G77: 11.35 | J77: =G77*I77 -> 0
B78: 5.8 | C78: CDHU | D78: 1901064 | E78: PEITORIL E/OU SOLEIRA EM GRANITO, ESPESSURA DE 2 CM E LARGURA DE 21 CM ATÉ 30 CM, ACABAMENTO POLIDO | F78: M | G78: 26.22 | J78: =G78*I78 -> 0
B79: 5.9 | C79: FDE | D79: 1304001 | E79: DEGRAUS EM ARGAMASSA DE CIMENTO E AREIA 1:3 ESPESSURA DE 2 CM | F79: M | G79: 4.68 | J79: =G79*I79 -> 0
B80: 5.10 | C80: CDHU | D80: 1705100 | E80: PISO COM REQUADRO EM CONCRETO SIMPLES COM CONTROLE DE FCK= 25 MPA | F80: M3 | G80: 4 | J80: =G80*I80 -> 0
E81: PAREDE
B82: 5.11 | C82: FDE | D82: 1202002 | E82: CHAPISCO | F82: M2 | G82: 62.01 | J82: =G82*I82 -> 0
B83: 5.12 | C83: FDE | D83: 1202006 | E83: EMBOCO DESEMPENADO | F83: M2 | G83: 62.01 | J83: =G83*I83 -> 0
B84: 5.13 | C84: FDE | D84: 1204050 | E84: CERAMICA ESMALTADA 10X10CM - BRANCO,AREIA,BEGE,OCRE,CINZA | F84: M2 | G84: 62.01 | J84: =G84*I84 -> 0
A85: 6 | B85: =J85/$J$107 -> #DIV/0! | E85: PINTURA | J85: =SUM(J86:J88) -> 0
B86: 6.1 | C86: CDHU | D86: 3301050 | E86: ESTUCAMENTO E LIXAMENTO DE CONCRETO | F86: M2 | G86: 116.62 | J86: =G86*I86 -> 0
B87: 6.2 | C87: CDHU | D87: 3303750 | E87: VERNIZ ACRÍLICO | F87: M2 | G87: 116.62 | J87: =G87*I87 -> 0
B88: 6.3 | C88: FDE | D88: 1503064 | E88: FACE EXTERNA DE CALHAS/CONDUTORES COM ESMALTE A BASE DE AGUA | F88: M | G88: 42.12 | J88: =G88*I88 -> 0
A89: 7 | B89: =J89/$J$107 -> #DIV/0! | E89: INSTALAÇÕES ELÉTRICAS | J89: =SUM(J90:J96) -> 0
B90: 7.1 | C90: FDE | D90: 904091 | E90: DISJUNTOR BIPOLAR TERMOMAGNETICO 2X10A A 2X50A | F90: UN | G90: 1 | J90: =G90*I90 -> 0
B91: 7.2 | C91: FDE | D91: 908060 | E91: INTERRUPTOR 2 TECLAS SIMPLES CAIXA DE 4"X2"-ELETR PVC RIGIDO | F91: UN | G91: 1 | J91: =G91*I91 -> 0
B92: 7.3 | C92: FDE | D92: 903046 | E92: ELETRODUTO DE PVC RIGIDO ROSCAVEL DE 25MM - INCL CONEXOES | F92: M | G92: 15 | J92: =G92*I92 -> 0
B93: 7.4 | C93: FDE | D93: 907004 | E93: FIO DE 2,50 MM2 750V (ISOLAÇAO NAO HALOGENADO) | F93: M | G93: 90 | J93: =G93*I93 -> 0
B94: 7.5 | C94: FDE | D94: 910011 | E94: CENTRO DE LUZ EM CONDULETE-ELETRODUTO DE PVC | F94: UN | G94: 10 | J94: =G94*I94 -> 0
B95: 7.6 | C95: CDHU | D95: 4114390 | E95: LUMINÁRIA RETANGULAR DE SOBREPOR TIPO CALHA ABERTA, COM REFLETOR EM ALUMÍNIO DE ALTO BRILHO, PARA 2 LÂMPADAS TUBULARES 32 W/36 W | F95: UN | G95: 10 | J95: =G95*I95 -> 0
B96: 7.7 | C96: FDE | D96: 985089 | E96: LAMPADA LED TUBULAR POLICARBONATO DE 18W C/TEMPERATURA DE COR 4000° K | F96: UN | G96: 20 | J96: =G96*I96 -> 0
A97: 8 | B97: =J97/$J$107 -> #DIV/0! | E97: SERVIÇOS COMPLEMENTARES | J97: =SUM(J98:J106) -> 0
B98: 8.1 | C98: FDE | D98: 603082 | E98: CO-31 CORRIMÃO SIMPLES AÇO INOX FORNECIDO E INSTALADO | F98: M | G98: 30.75 | J98: =G98*I98 -> 0
B99: 8.2 | C99: FDE | D99: 603062 | E99: CO-28 CORRIMÃO DUPLO COM MONTANTE VERTICAL AÇO INOX FORNECIDO E INSTALADO | F99: M | G99: 4.2 | J99: =G99*I99 -> 0
B100: 8.3 | C100: CDHU | D100: 3401020 | E100: LIMPEZA E REGULARIZAÇÃO DE ÁREAS PARA AJARDINAMENTO (JARDINS E CANTEIROS) | F100: M2 | G100: 24.54 | J100: =G100*I100 -> 0
B101: 8.4 | C101: FDE | D101: 1603002 | E101: GRAMA ESMERALDA EM PLACAS | F101: M2 | G101: 24.54 | J101: =G101*I101 -> 0
E102: limpeza
B103: 8.5 | C103: SINAPI | D103: 99803 | E103: LIMPEZA DE PISO CERÂMICO OU PORCELANATO COM PANO ÚMIDO. AF_04/2019 | F103: M2 | G103: 188.47 | J103: =G103*I103 -> 0
B104: 8.6 | C104: SINAPI | D104: 99806 | E104: LIMPEZA DE REVESTIMENTO CERÂMICO EM PAREDE COM PANO ÚMIDO AF_04/2019 | F104: M2 | G104: 62.01 | J104: =G104*I104 -> 0
B105: 8.7 | C105: SINAPI | D105: 99813 | E105: LIMPEZA DE MÁRMORE/GRANITO EM PAREDE UTILIZANDO DETERGENTE NEUTRO E ESCOVAÇÃO MANUAL. AF_04/2019 | F105: M2 | G105: 20.58 | J105: =G105*I105 -> 0
B106: 8.8 | C106: FDE | D106: 1680097 | E106: CAÇAMBA DE 4M3 PARA RETIRADA DE ENTULHO | F106: UN | G106: 3 | J106: =G106*I106 -> 0
...

Sheet CRONOGRAMA
O5: Cronograma Físico-Financeiro
A6: Obra: | C6: ='Planilha Modelo'!E6 -> Construção de Pátio Coberto da EMEIF Rosiris Stopa | Y6: =Y30 -> 0
A7: Local: | C7: ='Planilha Modelo'!E7 -> Rua Anna Mathias Vairo, 75 – Campos de Atibaia
A10: Item | B10: % | C10: Descrição dos Serviços | E10: MÊS 01 | I10: MÊS 02 | M10: MÊS 03 | Q10: MÊS 04 | U10: MÊS 05 | Y10: VALOR DA ETAPA COM BDI
A13: 1 | B13: ='Planilha Modelo'!B12 -> #DIV/0! | C13: ='Planilha Modelo'!E12 -> SERVIÇOS PRELIMINARES | E13: =$Y13*E14 -> 0 | Y13: ='Planilha Modelo'!J12 -> 0
E14: 1 | Y14: =SUM(E14:X14) -> 1
A15: 2 | B15: ='Planilha Modelo'!B29 -> #DIV/0! | C15: ='Planilha Modelo'!E29 -> FUNDAÇÃO E ESTRUTURA | E15: =$Y15*E16 -> 0 | I15: =$Y15*I16 -> 0 | M15: =$Y15*M16 -> 0 | Y15: ='Planilha Modelo'!J29 -> 0
E16: 0.1 | I16: 0.5 | M16: 0.4 | Y16: =SUM(E16:X16) -> 1
A17: 3 | B17: ='Planilha Modelo'!B52 -> #DIV/0! | C17: ='Planilha Modelo'!E52 -> COBERTURA | M17: =$Y17*M18 -> 0 | Q17: =$Y17*Q18 -> 0 | Y17: ='Planilha Modelo'!J52 -> 0
M18: 0.5 | Q18: 0.5 | Y18: =SUM(E18:X18) -> 1
A19: 4 | B19: ='Planilha Modelo'!B64 -> #DIV/0! | C19: ='Planilha Modelo'!E64 -> ALVENARIAS E FECHAMENTOS | M19: =$Y19*M20 -> 0 | Y19: ='Planilha Modelo'!J64 -> 0
M20: 1 | Y20: =SUM(E20:X20) -> 1
A21: 5 | B21: ='Planilha Modelo'!B69 -> #DIV/0! | C21: ='Planilha Modelo'!E69 -> REVESTIMENTOS - PISOS E PAREDES | Q21: =$Y21*Q22 -> 0 | U21: =$Y21*U22 -> 0 | Y21: ='Planilha Modelo'!J69 -> 0
Q22: 0.7 | U22: 0.3 | Y22: =SUM(E22:X22) -> 1
A23: 6 | B23: ='Planilha Modelo'!B85 -> #DIV/0! | C23: ='Planilha Modelo'!E85 -> PINTURA | Q23: =$Y23*Q24 -> 0 | U23: =$Y23*U24 -> 0 | Y23: ='Planilha Modelo'!J85 -> 0
Q24: 0.3 | U24: 0.7 | Y24: =SUM(E24:X24) -> 1
A25: 7 | B25: ='Planilha Modelo'!B89 -> #DIV/0! | C25: ='Planilha Modelo'!E89 -> INSTALAÇÕES ELÉTRICAS | U25: =$Y25*U26 -> 0 | Y25: ='Planilha Modelo'!J89 -> 0
U26: 1 | Y26: =SUM(E26:X26) -> 1
A27: 8 | B27: ='Planilha Modelo'!B97 -> #DIV/0! | C27: ='Planilha Modelo'!E97 -> SERVIÇOS COMPLEMENTARES | U27: =$Y27*U28 -> 0 | Y27: ='Planilha Modelo'!J97 -> 0
U28: 1 | Y28: =SUM(E28:X28) -> 1
D29: PORCENTAGEM NO MÊS | E29: =E30/$Y30 -> #DIV/0! | I29: =I30/$Y30 -> #DIV/0! | M29: =M30/$Y30 -> #DIV/0! | Q29: =Q30/$Y30 -> #DIV/0! | U29: =U30/$Y30 -> #DIV/0! | Y29: TOTAL GERAL
B30: Total por mês com BDI | E30: =E13+E15+E17+E19+E21+E23+E25+E27 -> 0 | I30: =I13+I15+I17+I19+I21+I23+I25+I27 -> 0 | M30: =M13+M15+M17+M19+M21+M23+M25+M27 -> 0 | Q30: =Q13+Q15+Q17+Q19+Q21+Q23+Q25+Q27 -> 0 | U30: =U13+U15+U17+U19+U21+U23+U25+U27 -> 0 | Y30: =Y13+Y15+Y17+Y19+Y21+Y23+Y25+Y27 -> 0
