Workbook

Sheet CRONOGRAMA 
A1: CRONOGRAMA FÍSICO- FINANCEIRO
B2: PREFEITURA MUNICIPAL DE SANTO ANTONIO DE POSSE | C2: CLIENTE: PREFEITURA MUNICIPAL DE SANTO ANTONIO DE POSSE
B3: Estado de São Paulo | C3: OBRA: ACESSO COMERCIAL NA SP 340 KM 142 PISTA SUL
C4: LOCAL: SANTO ANTONIO DE POSSE - SP
A5: ITEM | B5: DESCRIÇÃO DAS ATIVIDADES | C5: VALOR COM BDI | D5: PRAZO DE EXECUÇÃO DA OBRA
C6: (R$) | D6: (180 DIAS)
D7: 1º MÊS | E7: 2º MÊS | F7: 3º MÊS | G7: 4º MÊS
B8: SERVIÇOS GERAIS MATERIAIS + MÃO DE OBRA
A9: 1 | B9: =Planilha1!A6 -> DEMOLIÇÃO | C9: =Planilha1!#REF! -> #REF! | D9: =C9 -> #REF!
A11: 2 | B11: =Planilha1!A20 -> TERRAPLENAGEM | C11: =Planilha1!#REF! -> #REF! | D11: =C11 -> #REF!
A13: 3 | B13: =Planilha1!A29 -> PAVIMENTAÇÃO ASFÁLTICA | C13: =Planilha1!#REF! -> #REF! | F13: =C13 -> #REF!
A15: 4 | B15: =Planilha1!A43 -> DRENAGEM DE ÁGUAS PLUVIAIS | C15: =Planilha1!#REF! -> #REF! | E15: =C15/2 -> #REF! | F15: =C15/2 -> #REF!
A17: 5 | B17: =Planilha1!A58 -> SINALIZAÇÃO HORIZONTAL - VERTICAL | C17: =Planilha1!#REF! -> #REF! | F17: =C17/2 -> #REF! | G17: =C17/2 -> #REF!
A19: 6 | B19: =Planilha1!A64 -> SINALIZAÇÃO PROVISÓRIA DE OBRA | C19: =Planilha1!#REF! -> #REF! | F19: =C19/2 -> #REF! | G19: =C19/2 -> #REF!
A21: 7 | B21: =Planilha1!A68 -> SERVIÇOS COMPLEMENTARES | C21: =Planilha1!#REF! -> #REF! | E21: =C21/3 -> #REF! | F21: =C21/3 -> #REF! | G21: =C21/3 -> #REF!
A24: TOTAL COM BDI (R$) | C24: =SUM(C9:C22) -> #REF! | D24: =SUM(D9:D23) -> #REF! | E24: =SUM(E9:E23) -> #REF! | F24: =SUM(F9:F22) -> #REF! | G24: =SUM(G9:G22) -> #REF!
A30: ______________________________________
A31: ARQ° CRISTIANO DIAS MARCHIORI
A32: SECRETÁRIO DE DESENVOLVIMENTO URBANO
A33: PREFEITURA MUNICIPAL DE SANTO ANTÔNIO DE POSSE

Sheet CRONOGRAMA  (2)
A1: CRONOGRAMA FÍSICO- FINANCEIRO
B2: PREFEITURA MUNICIPAL DE SANTO ANTONIO DE POSSE | C2: CLIENTE: PREFEITURA MUNICIPAL DE SANTO ANTONIO DE POSSE
B3: Estado de São Paulo | C3: OBRA: ACESSO COMERCIAL NA SP 340 KM 141 + 745 PISTA SUL
C4: LOCAL: SANTO ANTONIO DE POSSE - SP
A5: ITEM | B5: DESCRIÇÃO DAS ATIVIDADES | C5: VALOR COM BDI | D5: PRAZO DE EXECUÇÃO DA OBRA
C7: (R$) | D7: 1º MÊS | E7: 2º MÊS | F7: 3º MÊS | G7: 4º MÊS | H7: 5º MÊS
A8: SERVIÇOS GERAIS MATERIAIS + MÃO DE OBRA
A9: 1 | B9: =Planilha1!A6 -> DEMOLIÇÃO | C9: =Planilha1!I19 -> 246294.91 | D9: =C9 -> 246294.91
A11: 2 | B11: =Planilha1!A20 -> TERRAPLENAGEM | C11: =Planilha1!I28 -> 123843.14 | D11: =C11 -> 123843.14
A13: 3 | B13: =Planilha1!A29 -> PAVIMENTAÇÃO ASFÁLTICA | C13: =Planilha1!I42 -> 2031029.9 | F13: =C13/2 -> 1015515 | G13: =C13/2 -> 1015515
A15: 4 | B15: =Planilha1!A43 -> DRENAGEM DE ÁGUAS PLUVIAIS | C15: =Planilha1!I57 -> 376645.72 | D15: =C15/2 -> 188322.86 | E15: =C15/2 -> 188322.86
A17: 5 | B17: =Planilha1!A58 -> SINALIZAÇÃO HORIZONTAL - VERTICAL | C17: =Planilha1!I63 -> 44192.338 | G17: =C17/2 -> 22096.169 | H17: =C17/2 -> 22096.169
A19: 6 | B19: =Planilha1!A64 -> SINALIZAÇÃO PROVISÓRIA DE OBRA | C19: =Planilha1!I67 -> 31286.164 | D19: =C19/2 -> 15643.082 | E19: =C19/2 -> 15643.082
A21: 7 | B21: =Planilha1!A68 -> SERVIÇOS COMPLEMENTARES | C21: =Planilha1!I73 -> 38183.388 | F21: =C21/3 -> 12727.796 | G21: =C21/3 -> 12727.796 | H21: =C21/3 -> 12727.796
A24: TOTAL COM BDI (R$) | C24: =SUM(C9:C22) -> 2891475.6 | D24: =SUM(D9:D23) -> 574104 | E24: =SUM(E9:E23) -> 203965.94 | F24: =SUM(F9:F23) -> 1028242.8 | G24: =SUM(G9:G23) -> 1050338.9 | H24: =SUM(H9:H23) -> 34823.965
A26: Santo Antônio de Posse, 15 de junho de 2026
A30: ______________________________________
A31: ARQ° CRISTIANO DIAS MARCHIORI
A32: SECRETÁRIO DE DESENVOLVIMENTO URBANO
A33: PREFEITURA MUNICIPAL DE SANTO ANTÔNIO DE POSSE

Sheet Planilha1
D1: PREFEITURA MUNICIPAL DE SANTO ANTÔNIO DE POSSE - SP
D2: Obra: ACESSO COMERCIAL NA SP 340 KM 142 PISTA SUL
D3: Planilha Orçamentária
A4: Boletins: CDHU 201 - SINAPI 03/2026 - SABESP 01/2026 - DER 01/2026 - SICRO - 01/2026
A5: Item | B5: Boletim | C5: Código | D5: Descrição dos Serviços | E5: Quant | F5: unid | G5: Valor unit. | H5: Total SEM BDI (R$) | I5: Total com BDI de 19,60% (R$) | J5: Memória Uso interno da Secretaria (apagar para licitar)
A6: DEMOLIÇÃO
A7: 1.1 | B7: CDHU | C7: 04.01.100 | D7: =VLOOKUP(C7,boletins!$3:$35837,2,FALSE) -> Retirada de cerca | E7: 54 | F7: =VLOOKUP(C7,boletins!$3:$35837,3,FALSE) -> M | G7: =VLOOKUP(C7,boletins!$3:$35837,6,FALSE) -> 14.08 | H7: =E7*G7 -> 760.32 | I7: =H7*1.196 -> 909.34272 | J7: retirada de cerca: 54,00m lineares conforme planilha de levantamento do autor do projeto
A8: 1.2 | B8: CDHU | C8: 04.30.060 | D8: =VLOOKUP(C8,boletins!$3:$35837,2,FALSE) -> Remoção de tubulação hidráulica em geral, incluindo conexões, caixas e ralos | E8: 60 | F8: =VLOOKUP(C8,boletins!$3:$35837,3,FALSE) -> M | G8: =VLOOKUP(C8,boletins!$3:$35837,6,FALSE) -> 9.08 | H8: =E8*G8 -> 544.8 | I8: =H8*1.196 -> 651.5808 | J8: canalização d>= 0,60m conforme planilha de levantamento do autor do projeto
A9: 1.3 | B9: CDHU | C9: 34.05.030 | D9: =VLOOKUP(C9,boletins!$3:$35837,2,FALSE) -> Cerca em arame farpado com mourões de concreto, com ponta inclinada | E9: 10 | F9: =VLOOKUP(C9,boletins!$3:$35837,3,FALSE) -> M | G9: =VLOOKUP(C9,boletins!$3:$35837,6,FALSE) -> 77.2 | H9: =E9*G9 -> 772 | I9: =H9*1.196 -> 923.312 | J9: execução de cerca de 10,00m lineares conforme planilha de levantamento do autor do projeto
A10: 1.4 | B10: CDHU | C10: 34.13.031 | D10: =VLOOKUP(C10,boletins!$3:$35837,2,FALSE) -> Corte, recorte e remoção de árvore inclusive as raízes - diâmetro (DAP)>30cm<45cm | E10: 23 | F10: =VLOOKUP(C10,boletins!$3:$35837,3,FALSE) -> UN | G10: =VLOOKUP(C10,boletins!$3:$35837,6,FALSE) -> 2720.7 | H10: =E10*G10 -> 62576.1 | I10: =H10*1.196 -> 74841.016 | J10: Considerada 23 palmeiras conforme planilha de levantamento do autor do projeto
A11: 1.5 | B11: CDHU | C11: 03.01.220 | D11: =VLOOKUP(C11,boletins!$3:$35837,2,FALSE) -> Demolição mecanizada de concreto simples, inclusive fragmentação, carregamento, transporte até 1 quilômetro e descarregamento | E11: 65.75 | F11: =VLOOKUP(C11,boletins!$3:$35837,3,FALSE) -> M3 | G11: =VLOOKUP(C11,boletins!$3:$35837,6,FALSE) -> 296.97 | H11: =E11*G11 -> 19525.778 | I11: =H11*1.196 -> 23352.83 | J11: meio-fios, valeta, caixas conforme planilha de levantamento do autor do projeto
A12: 1.6 | B12: CDHU | C12: 03.07.030 | D12: =VLOOKUP(C12,boletins!$3:$35837,2,FALSE) -> Demolição (levantamento) mecanizada de pavimento asfáltico, inclusive fragmentação e acomodação do material | E12: 2829 | F12: =VLOOKUP(C12,boletins!$3:$35837,3,FALSE) -> M2 | G12: =VLOOKUP(C12,boletins!$3:$35837,6,FALSE) -> 23.02 | H12: =E12*G12 -> 65123.58 | I12: =H12*1.196 -> 77887.802 | J12: 2829,00 m² x 0,03m espessura = 84,87 m³ conforme planilha de levantamento do autor do projeto
A13: 1.7 | B13: SINAPI | C13: 100984 | D13: =VLOOKUP(C13,boletins!$3:$35837,2,FALSE) -> CARGA, MANOBRA E DESCARGA DE ENTULHO EM CAMINHÃO BASCULANTE 18 M³ - CARGA COM ESCAVADEIRA HIDRÁULICA (CAÇAMBA DE 0,80 M³ / 111 HP) E DESCARGA LIVRE (UNIDADE: M3). AF_02/2026 | E13: 1717.19 | F13: =VLOOKUP(C13,boletins!$3:$35837,3,FALSE) -> M3 | G13: =VLOOKUP(C13,boletins!$3:$35837,6,FALSE) -> 10.13 | H13: =E13*G13 -> 17395.135 | I13: =H13*1.196 -> 20804.581 | J13: conforme planilha de levantamento do autor do projeto no item de espalhamento no local: 1717,19m³
A14: 1.8 | B14: SINAPI | C14: 95877 | D14: =VLOOKUP(C14,boletins!$3:$35837,2,FALSE) -> TRANSPORTE COM CAMINHÃO BASCULANTE DE 18 M³, EM VIA URBANA PAVIMENTADA, DMT ATÉ 30 KM (UNIDADE: M3XKM). AF_02/2026 | E14: 12020.33 | F14: =VLOOKUP(C14,boletins!$3:$35837,3,FALSE) -> M3XKM | G14: =VLOOKUP(C14,boletins!$3:$35837,6,FALSE) -> 2.21 | H14: =E14*G14 -> 26564.929 | I14: =H14*1.196 -> 31771.655 | J14: Considerado levantamento do autor do projeto no item de espalhamento no local: 1717,19m³ x 7,00 km de distância até o bota-fora de RCC (junto à ETE) = 12020,33M³XKM
A15: 1.9 | B15: SINAPI | C15: 100574 | D15: =VLOOKUP(C15,boletins!$3:$35837,2,FALSE) -> ESPALHAMENTO DE MATERIAL COM TRATOR DE ESTEIRAS. AF_09/2024 | E15: 1717.19 | F15: =VLOOKUP(C15,boletins!$3:$35837,3,FALSE) -> M3 | G15: =VLOOKUP(C15,boletins!$3:$35837,6,FALSE) -> 1.64 | H15: =E15*G15 -> 2816.1916 | I15: =H15*1.196 -> 3368.1652 | J15: Considerado volume levantado na planilha anterior no item de espalhamento no local: 1717,19m³
A16: 1.10 | B16: CDHU | C16: 02.01.180 | D16: =VLOOKUP(C16,boletins!$3:$35837,2,FALSE) -> Banheiro químico modelo Standard, com manutenção conforme exigências da CETESB | E16: 5 | F16: =VLOOKUP(C16,boletins!$3:$35837,3,FALSE) -> UNMES | G16: =VLOOKUP(C16,boletins!$3:$35837,6,FALSE) -> 1213.99 | H16: =E16*G16 -> 6069.95 | I16: =H16*1.196 -> 7259.6602 | J16: Banheiro de obra. 5 meses de cronograma conforme estabelecido pelo secretário
A17: 1.11 | B17: SINAPI | C17: 105115 | D17: =VLOOKUP(C17,boletins!$3:$35837,2,FALSE) -> INSTALAÇÃO E DESINSTALAÇÃO MECANIZADA DE CONTÊINER OU MÓDULO HABITÁVEL DE USOS DIVERSOS. AF_03/2024 | E17: 1 | F17: =VLOOKUP(C17,boletins!$3:$35837,3,FALSE) -> UN | G17: =VLOOKUP(C17,boletins!$3:$35837,6,FALSE) -> 155.52 | H17: =E17*G17 -> 155.52 | I17: =H17*1.196 -> 186.00192
A18: 1.12 | B18: SINAPI | C18: 10776 | D18: =VLOOKUP(C18,boletins!$3:$35837,2,FALSE) -> LOCACAO DE CONTAINER 2,30 X 6,00 M, ALT. 2,50 M, PARA ESCRITORIO, SEM DIVISORIAS INTERNAS E SEM SANITARIO (NAO INCLUI MOBILIZACAO/DESMOBILIZACAO) | E18: =E16 -> 5 | F18: =VLOOKUP(C18,boletins!$3:$35837,3,FALSE) -> MES | G18: =VLOOKUP(C18,boletins!$3:$35837,6,FALSE) -> 725.58 | H18: =E18*G18 -> 3627.9 | I18: =H18*1.196 -> 4338.9684
A19: Subtotal | H19: =SUM(H7:H18) -> 205932.2 | I19: =SUM(I7:I18) -> 246294.91
A20: TERRAPLENAGEM
A21: 2.1 | B21: CDHU | C21: 02.09.130 | D21: =VLOOKUP(C21,boletins!$3:$35837,2,FALSE) -> Limpeza mecanizada do terreno, inclusive troncos com diâmetro acima de 15 cm até 50 cm, com caminhão à disposição dentro da obra, até o raio de 1 km | E21: 4076 | F21: =VLOOKUP(C21,boletins!$3:$35837,3,FALSE) -> M2 | G21: =VLOOKUP(C21,boletins!$3:$35837,6,FALSE) -> 5.9 | H21: =E21*G21 -> 24048.4 | I21: =H21*1.196 -> 28761.886 | J21: conforme planilha de levantamento do autor do projeto
A22: 2.2 | B22: SINAPI | C22: 95877 | D22: =VLOOKUP(C22,boletins!$3:$35837,2,FALSE) -> TRANSPORTE COM CAMINHÃO BASCULANTE DE 18 M³, EM VIA URBANA PAVIMENTADA, DMT ATÉ 30 KM (UNIDADE: M3XKM). AF_02/2026 | E22: 8967.09 | F22: =VLOOKUP(C22,boletins!$3:$35837,3,FALSE) -> M3XKM | G22: =VLOOKUP(C22,boletins!$3:$35837,6,FALSE) -> 2.21 | H22: =E22*G22 -> 19817.269 | I22: =H22*1.196 -> 23701.454 | J22: conforme planilha de levantamento do autor do projeto, correspondia a 34238,40m³xkm considerando distância de 42km. 34238/42 = 815,19 m³. 815,19m³ x 11km até o RCC DE solos = 8967,09m³xkm
A23: 2.3 | B23: CDHU | C23: 07.01.020 | D23: =VLOOKUP(C23,boletins!$3:$35837,2,FALSE) -> Escavação e carga mecanizada em solo de 1ª categoria, em campo aberto | E23: 1450 | F23: =VLOOKUP(C23,boletins!$3:$35837,3,FALSE) -> M3 | G23: =VLOOKUP(C23,boletins!$3:$35837,6,FALSE) -> 16.03 | H23: =E23*G23 -> 23243.5 | I23: =H23*1.196 -> 27799.226 | J23: conforme planilha de levantamento do autor do projeto
A24: 2.4 | B24: CDHU | C24: 05.10.020 | D24: =VLOOKUP(C24,boletins!$3:$35837,2,FALSE) -> Transporte de solo de 1ª e 2ª categoria por caminhão até o 2° km | E24: 332.61 | F24: =VLOOKUP(C24,boletins!$3:$35837,3,FALSE) -> M3 | G24: =VLOOKUP(C24,boletins!$3:$35837,6,FALSE) -> 8.71 | H24: =E24*G24 -> 2897.0331 | I24: =H24*1.196 -> 3464.8516 | J24: conforme planilha de levantamento do autor do projeto
A25: 2.5 | B25: SINAPI | C25: 95877 | D25: =VLOOKUP(C25,boletins!$3:$35837,2,FALSE) -> TRANSPORTE COM CAMINHÃO BASCULANTE DE 18 M³, EM VIA URBANA PAVIMENTADA, DMT ATÉ 30 KM (UNIDADE: M3XKM). AF_02/2026 | E25: 12291.29 | F25: =VLOOKUP(C25,boletins!$3:$35837,3,FALSE) -> M3XKM | G25: =VLOOKUP(C25,boletins!$3:$35837,6,FALSE) -> 2.21 | H25: =E25*G25 -> 27163.751 | I25: =H25*1.196 -> 32487.846 | J25: conforme planilha de levantamento do autor do projeto, correspondia a 46930,59m³xkm considerando distância de 42km. 46930,59/42 =1117,39m³ x 11km de distância até o bota-fora de solo = 12.291,29m³\km
A26: 2.6 | B26: CDHU | C26: 07.12.020 | D26: =VLOOKUP(C26,boletins!$3:$35837,2,FALSE) -> Compactação de aterro mecanizado mínimo de 95% PN, sem fornecimento de solo em campo aberto | E26: 255.85 | F26: =VLOOKUP(C26,boletins!$3:$35837,3,FALSE) -> M3 | G26: =VLOOKUP(C26,boletins!$3:$35837,6,FALSE) -> 12.54 | H26: =E26*G26 -> 3208.359 | I26: =H26*1.196 -> 3837.1974 | J26: conforme planilha de levantamento do autor do projeto
A27: 2.7 | B27: SINAPI | C27: 100574 | D27: =VLOOKUP(C27,boletins!$3:$35837,2,FALSE) -> ESPALHAMENTO DE MATERIAL COM TRATOR DE ESTEIRAS. AF_09/2024 | E27: 1932.6 | F27: =VLOOKUP(C27,boletins!$3:$35837,3,FALSE) -> M3 | G27: =VLOOKUP(C27,boletins!$3:$35837,6,FALSE) -> 1.64 | H27: =E27*G27 -> 3169.464 | I27: =H27*1.196 -> 3790.6789 | J27: conforme planilha de levantamento do autor do projeto
A28: Subtotal | H28: =SUM(H21:H27) -> 103547.78 | I28: =SUM(I21:I27) -> 123843.14
A29: PAVIMENTAÇÃO ASFÁLTICA
A30: 3.1 | B30: SINAPI | C30: 101144 | D30: =VLOOKUP(C30,boletins!$3:$35837,2,FALSE) -> ESCAVAÇÃO HORIZONTAL, INCLUINDO CARGA, DESCARGA E TRANSPORTE EM SOLO DE 1A CATEGORIA COM TRATOR DE ESTEIRAS (100HP/LÂMINA: 2,19M3) E CAMINHÃO BASCULANTE DE 14M3, DMT ATÉ 200M. AF_07/2020 | E30: 2797.2 | F30: =VLOOKUP(C30,boletins!$3:$35837,3,FALSE) -> M3 | G30: =VLOOKUP(C30,boletins!$3:$35837,6,FALSE) -> 17.15 | H30: =E30*G30 -> 47971.98 | I30: =H30*1.196 -> 57374.488 | J30: considerado 6993,00m² da planilha de levantamento do autor do projeto do item "abertura de caixa e preparo de subleito até 40cm" 6993,00 x 0,40m = 2797,20m³ Considerado 2797,20m³ devido ao item ser em m³ em vez de m²
A31: 3.2 | B31: SINAPI | C31: 96396 | D31: =VLOOKUP(C31,boletins!$3:$35837,2,FALSE) -> CONSTRUÇÃO DE BASE E SUB-BASE PARA PAVIMENTAÇÃO DE BRITA GRADUADA SIMPLES, COM ESPESSURA DE 15 CM - EXCLUSIVE CARGA E TRANSPORTE. AF_09/2024 | E31: 1000.28 | F31: =VLOOKUP(C31,boletins!$3:$35837,3,FALSE) -> M3 | G31: =VLOOKUP(C31,boletins!$3:$35837,6,FALSE) -> 158.61 | H31: =E31*G31 -> 158654.41 | I31: =H31*1.196 -> 189750.68 | J31: conforme planilha de levantamento do autor do projeto
A32: 3.3 | B32: SINAPI | C32: 105754 | D32: =VLOOKUP(C32,boletins!$3:$35837,2,FALSE) -> CONSTRUÇÃO DE BASE E SUB-BASE PARA PAVIMENTAÇÃO DE MACADAME SECO, COM ESPESSURA DE 25 CM - EXCLUSIVE CARGA E TRANSPORTE. AF_09/2024 | E32: 1701.33 | F32: =VLOOKUP(C32,boletins!$3:$35837,3,FALSE) -> M3 | G32: =VLOOKUP(C32,boletins!$3:$35837,6,FALSE) -> 141.19 | H32: =E32*G32 -> 240210.78 | I32: =H32*1.196 -> 287292.1 | J32: conforme planilha de levantamento do autor do projeto
A33: 3.4 | B33: SINAPI | C33: 100980 | D33: =VLOOKUP(C33,boletins!$3:$35837,2,FALSE) -> CARGA, MANOBRA E DESCARGA DE SOLOS E MATERIAIS GRANULARES EM CAMINHÃO BASCULANTE 18 M³ - CARGA COM ESCAVADEIRA HIDRÁULICA (CAÇAMBA DE 1,20 M³ / 155 HP) E DESCARGA LIVRE (UNIDADE: M3). AF_02/2026 | E33: 2701.61 | F33: =VLOOKUP(C33,boletins!$3:$35837,3,FALSE) -> M3 | G33: =VLOOKUP(C33,boletins!$3:$35837,6,FALSE) -> 7.17 | H33: =E33*G33 -> 19370.544 | I33: =H33*1.196 -> 23167.17 | J33: Carga para base de brita e base macadame. Considerando: 1000,28m³ base brita graduada 1701,33m³ base macadame seco total = 2701,61m³
A34: 3.5 | B34: SINAPI | C34: 95877 | D34: =VLOOKUP(C34,boletins!$3:$35837,2,FALSE) -> TRANSPORTE COM CAMINHÃO BASCULANTE DE 18 M³, EM VIA URBANA PAVIMENTADA, DMT ATÉ 30 KM (UNIDADE: M3XKM). AF_02/2026 | E34: 45927.37 | F34: =VLOOKUP(C34,boletins!$3:$35837,3,FALSE) -> M3XKM | G34: =VLOOKUP(C34,boletins!$3:$35837,6,FALSE) -> 2.21 | H34: =E34*G34 -> 101499.49 | I34: =H34*1.196 -> 121393.39 | J34: Transporte para base de brita e base macadame. Considerando: 1000,28m³ base brita graduada 1701,33m³ base macadame seco total = 2701,61m³ 2701,61m³ x 17km de distância média de usinas = 45927,37M³xKM
A35: 3.6 | B35: CDHU | C35: 54.03.240 | D35: =VLOOKUP(C35,boletins!$3:$35837,2,FALSE) -> Imprimação betuminosa impermeabilizante | E35: 6668.51 | F35: =VLOOKUP(C35,boletins!$3:$35837,3,FALSE) -> M2 | G35: =VLOOKUP(C35,boletins!$3:$35837,6,FALSE) -> 13 | H35: =E35*G35 -> 86690.63 | I35: =H35*1.196 -> 103681.99 | J35: conforme planilha de levantamento do autor do projeto
A36: 3.7 | B36: CDHU | C36: 54.03.230 | D36: =VLOOKUP(C36,boletins!$3:$35837,2,FALSE) -> Imprimação betuminosa ligante | E36: 13337.02 | F36: =VLOOKUP(C36,boletins!$3:$35837,3,FALSE) -> M2 | G36: =VLOOKUP(C36,boletins!$3:$35837,6,FALSE) -> 6.54 | H36: =E36*G36 -> 87224.111 | I36: =H36*1.196 -> 104320.04 | J36: conforme planilha de levantamento do autor do projeto
A37: 3.8 | B37: CDHU | C37: 54.03.200 | D37: =VLOOKUP(C37,boletins!$3:$35837,2,FALSE) -> Concreto asfáltico usinado a quente - Binder | E37: 328.3 | F37: =VLOOKUP(C37,boletins!$3:$35837,3,FALSE) -> M3 | G37: =VLOOKUP(C37,boletins!$3:$35837,6,FALSE) -> 1206.8 | H37: =E37*G37 -> 396192.44 | I37: =H37*1.196 -> 473846.16 | J37: conforme planilha de levantamento do autor do projeto
A38: 3.9 | B38: CDHU | C38: 54.03.210 | D38: =VLOOKUP(C38,boletins!$3:$35837,2,FALSE) -> Camada de rolamento em concreto betuminoso usinado quente - CBUQ | E38: 334.43 | F38: =VLOOKUP(C38,boletins!$3:$35837,3,FALSE) -> M3 | G38: =VLOOKUP(C38,boletins!$3:$35837,6,FALSE) -> 1539.32 | H38: =E38*G38 -> 514794.79 | I38: =H38*1.196 -> 615694.57 | J38: conforme planilha de levantamento do autor do projeto | M38: 382
A39: 3.10 | B39: CDHU | C39: 03.07.050 | D39: =VLOOKUP(C39,boletins!$3:$35837,2,FALSE) -> Fresagem de pavimento asfáltico com espessura até 5 cm, inclusive carregamento, transporte até 1 quilômetro e descarregamento | E39: 382 | F39: =VLOOKUP(C39,boletins!$3:$35837,3,FALSE) -> M2 | G39: =VLOOKUP(C39,boletins!$3:$35837,6,FALSE) -> 13.59 | H39: =E39*G39 -> 5191.38 | I39: =H39*1.196 -> 6208.8905 | J39: conforme planilha de levantamento do autor do projeto | M39: =M38*0.05 -> 19.1 | O39: 401
A40: 3.11 | B40: SINAPI | C40: 95877 | D40: =VLOOKUP(C40,boletins!$3:$35837,2,FALSE) -> TRANSPORTE COM CAMINHÃO BASCULANTE DE 18 M³, EM VIA URBANA PAVIMENTADA, DMT ATÉ 30 KM (UNIDADE: M3XKM). AF_02/2026 | E40: 401 | F40: =VLOOKUP(C40,boletins!$3:$35837,3,FALSE) -> M3XKM | G40: =VLOOKUP(C40,boletins!$3:$35837,6,FALSE) -> 2.21 | H40: =E40*G40 -> 886.21 | I40: =H40*1.196 -> 1059.9072 | J40: conforme planilha de levantamento do autor do projeto. Entendido que seja o transporte de fresagem, sendo: 382m² de fresagem x 0,05m espessura x 21Km = 401,10m³xkm | L40: =382*0.05*21 -> 401.1 | N40: =O39/M39 -> 20.994764
...

Sheet boletins
A1: CDHU 201 | I1: CDHU - VERDE CDHU-I - AZUL CLARO SABESP-I VERMELHO CLARO SINAPI - ROXO SINAPI-I - AMARELO DER - LARANJA CLARO SICRO - PRETO
A2: Referência | B2: Descrição | C2: Un | D2: Material | E2: Mão de Obra | F2: Custo Total
A3: 01 | B3: SERVICO TECNICO ESPECIALIZADO
A4: 01.02 | B4: Parecer técnico
A5: 01.02.071 | B5: Parecer técnico de fundações, contenções e recomendações gerais, para empreendimentos com área construída até 1.000 m² | C5: UN | E5: 7204.93 | F5: 7204.93
A6: 01.02.081 | B6: Parecer técnico de fundações, contenções e recomendações gerais, para empreendimentos com área construída de 1.001 a 2.000 m² | C6: UN | E6: 9581.15 | F6: 9581.15
A7: 01.02.091 | B7: Parecer técnico de fundações, contenções e recomendações gerais, para empreendimentos com área construída de 2.001 a 5.000 m² | C7: UN | E7: 16366.75 | F7: 16366.75
A8: 01.02.101 | B8: Parecer técnico de fundações, contenções e recomendações gerais, para empreendimentos com área construída de 5.001 a 10.000 m² | C8: UN | E8: 22440.73 | F8: 22440.73
A9: 01.02.111 | B9: Parecer técnico de fundações, contenções e recomendações gerais, para empreendimentos com área construída acima de 10.000 m² | C9: UN | E9: 26151.21 | F9: 26151.21
A10: 01.06 | B10: Projeto de instalações elétricas
A11: 01.06.021 | B11: Elaboração de projeto de adequação de entrada de energia elétrica junto a concessionária, com medição em baixa tensão e demanda até 75 kVA | C11: UN | E11: 9202.36 | F11: 9202.36
A12: 01.06.031 | B12: Elaboração de projeto de adequação de entrada de energia elétrica junto a concessionária, com medição em média tensão, subestação simplificada e demanda de 75 kVA a 300 kVA | C12: UN | E12: 15587.22 | F12: 15587.22
A13: 01.06.032 | B13: Elaboração de projeto de adequação de entrada de energia elétrica junto a concessionária, com medição em média tensão e demanda de 75 kVA a 300 kVA | C13: UN | E13: 21092.24 | F13: 21092.24
A14: 01.06.041 | B14: Elaboração de projeto de adequação de entrada de energia elétrica junto a concessionária, com medição em média tensão e demanda acima de 300 kVA a 2 MVA | C14: UN | E14: 28055 | F14: 28055
A15: 01.17 | B15: Projeto executivo
A16: 01.17.031 | B16: Projeto executivo de arquitetura em formato A1 | C16: UN | E16: 3624.6 | F16: 3624.6
A17: 01.17.041 | B17: Projeto executivo de arquitetura em formato A0 | C17: UN | E17: 4900.14 | F17: 4900.14
A18: 01.17.051 | B18: Projeto executivo de estrutura em formato A1 | C18: UN | E18: 2658.26 | F18: 2658.26
A19: 01.17.061 | B19: Projeto executivo de estrutura em formato A0 | C19: UN | E19: 3637.02 | F19: 3637.02
A20: 01.17.071 | B20: Projeto executivo de instalações hidráulicas em formato A1 | C20: UN | E20: 1141.18 | F20: 1141.18
A21: 01.17.081 | B21: Projeto executivo de instalações hidráulicas em formato A0 | C21: UN | E21: 1519.09 | F21: 1519.09
A22: 01.17.111 | B22: Projeto executivo de instalações elétricas em formato A1 | C22: UN | E22: 1267.26 | F22: 1267.26
A23: 01.17.121 | B23: Projeto executivo de instalações elétricas em formato A0 | C23: UN | E23: 1757.15 | F23: 1757.15
A24: 01.17.151 | B24: Projeto executivo de climatização em formato A1 | C24: UN | E24: 2439.23 | F24: 2439.23
A25: 01.17.161 | B25: Projeto executivo de climatização em formato A0 | C25: UN | E25: 3324.97 | F25: 3324.97
A26: 01.17.171 | B26: Projeto executivo de chuveiros automáticos em formato A1 | C26: UN | E26: 2105.98 | F26: 2105.98
A27: 01.17.181 | B27: Projeto executivo de chuveiros automáticos em formato A0 | C27: UN | E27: 2722.06 | F27: 2722.06
A28: 01.20 | B28: Levantamento topográfico e geofísico
A29: 01.20.010 | B29: Taxa de mobilização e desmobilização de equipamentos para execução de levantamento topográfico | C29: TX | D29: 1120.06 | F29: 1120.06
A30: 01.20.280 | B30: Levantamento planimétrico de área pavimentada para veículo e pedestre | C30: M2 | D30: 0.07 | E30: 0.18 | F30: 0.25
A31: 01.20.691 | B31: Levantamento planimétrico cadastral com áreas ocupadas predominantemente por comunidades - área até 20.000 m² (mínimo de 3.500 m²) | C31: M2 | D31: 0.43 | E31: 0.59 | F31: 1.02
A32: 01.20.701 | B32: Levantamento planimétrico cadastral com áreas ocupadas predominantemente por comunidades - área acima de 20.000 m² até 200.000 m² | C32: M2 | D32: 0.34 | E32: 0.46 | F32: 0.8
A33: 01.20.711 | B33: Levantamento planimétrico cadastral com áreas ocupadas predominantemente por comunidades - área acima de 200.000 m² | C33: M2 | D33: 0.28 | E33: 0.37 | F33: 0.65
A34: 01.20.721 | B34: Levantamento planimétrico cadastral com áreas até 50% de ocupação - área até 20.000 m² (mínimo de 3.500 m²) | C34: M2 | D34: 0.38 | E34: 0.51 | F34: 0.89
A35: 01.20.731 | B35: Levantamento planimétrico cadastral com áreas até 50% de ocupação - área acima de 20.000 m² até 200.000 m² | C35: M2 | D35: 0.18 | E35: 0.57 | F35: 0.75
A36: 01.20.741 | B36: Levantamento planimétrico cadastral com áreas até 50% de ocupação - área acima de 200.000 m² | C36: M2 | D36: 0.24 | E36: 0.32 | F36: 0.56
A37: 01.20.751 | B37: Levantamento planimétrico cadastral com áreas acima de 50% de ocupação - área até 20.000 m² (mínimo de 4.000 m²) | C37: M2 | D37: 0.33 | E37: 0.46 | F37: 0.79
A38: 01.20.761 | B38: Levantamento planimétrico cadastral com áreas acima de 50% de ocupação - área acima de 20.000 m² até 200.000 m² | C38: M2 | D38: 0.29 | E38: 0.4 | F38: 0.69
A39: 01.20.771 | B39: Levantamento planimétrico cadastral com áreas acima de 50% de ocupação - área acima de 200.000 m² | C39: M2 | D39: 0.28 | E39: 0.38 | F39: 0.66
A40: 01.20.781 | B40: Levantamento planialtimétrico cadastral com áreas ocupadas predominantemente por comunidades - área até 20.000 m² (mínimo de 3.500 m²) | C40: M2 | D40: 0.45 | E40: 0.63 | F40: 1.08
...
