Workbook
Name _0: [1]habitação!#REF!
Name _1_EDIF: #REF!
Name _1_TER: #REF!
Name _2_EDIF: #REF!
Name _2_INFR: #REF!
Name _2_TAB_DESEMB: #REF!
Name _3_ESTACA: #REF!
Name _4_E.C.: #REF!
Name _5_INFR: #REF!
Name _a: #REF!
Name _ATU_ANT: #REF!
Name _CALC_DIF: #REF!
Name _CC: '[2]med-cond1'!#REF!
Name _CO: #REF!
Name _CRON_: #REF!
Name _f: #REF!
Name _GO: #REF!
Name _i: '[2]med-cond1'!#REF!
Name _I_PF: #REF!
Name _j: #REF!
Name _m: '[2]med-cond1'!#REF!
Name _M_R_AUX: #REF!
Name _M10: '[2]med-cond1'!#REF!
Name _M11: '[2]med-cond1'!#REF!
Name _M12: #REF!
Name _M13: #REF!
Name _M2: '[2]med-cond1'!#REF!
Name _M3: '[2]med-cond1'!#REF!
Name _M4: '[2]med-cond1'!#REF!
Name _M5: '[2]med-cond1'!#REF!
Name _M6: '[2]med-cond1'!#REF!
Name _M7: '[2]med-cond1'!#REF!
Name _M8: '[2]med-cond1'!#REF!
Name _M9: '[2]med-cond1'!#REF!
Name _med2: #REF!
Name _MENSAG_I: #REF!
Name _MENSAG_I2: #REF!
Name _MENSAG_SALV: #REF!
Name _MENSAGEM_R: #REF!
Name _MM: '[2]med-cond1'!#REF!
Name _MUDA_NMED_ANT: #REF!
Name _n: #REF!
Name _O: #REF!
Name _p: #REF!
Name _PP: '[2]med-cond1'!#REF!
Name _q: '[2]med-cond1'!#REF!
Name _s: #REF!
Name _t: #REF!
Name _TOTAL_: #REF!
Name _v: #REF!
Name _w: #REF!
Name _x: #REF!
Name _y: #REF!
Name _z: #REF!
Name asd: #REF!
Name ASSIN_CRT: #REF!
Name AUX_REL_MED: #REF!
Name BASE: #REF!
Name BASE_ORIG: #REF!
Name BB: {#N/A,#N/A,FALSE,"RESUMO";#N/A,#N/A,FALSE,"EXTR-CRONO";#N/A,#N/A,FALSE,"REAJUSTE";#N/A,#N/A,FALSE,"ACOMP-OBRA";#N/A,#N/A,FALSE,"MEDIÇÃO";#N/A,#N/A,FALSE,"POSIÇÃO FÍSICA";#N/A,#N/A,FALSE,"GRÁFICO"}

Sheet ORÇ ATUAL MEMÓRIA
B1: PREFEITURA DE PORTO FERREIRA “A CAPITAL NACIONAL DA CERÂMICA ARTÍSTICA E DA DECORAÇÃO” SECRETARIA DE OBRAS E DESENVOLVIMENTO URBANO
B4: Objeto | D4: REMANESCENTE DE OBRA PARA CONSTRUÇÃO DA ESCOLA ESTADUAL DO PARQUE RESIDENCIAL PORTO BELO
B5: Endereço: | D5: RUA JOSÉ GOMES, PARQUE RESIDENCIAL PORTO BELO
B6: Local e Data da Elaboração: | D6: PORTO FERREIRA – SP
B7: Fonte: | D7: FDE OUTUBRO 2023
B8: BDI: | D8: 0.23
B10: ITEM | C10: FONTE | D10: CÓD. | E10: REFORMA E REPAROS EM PONTES DO MUNICÍPIO | F10: UNID | G10: QUANT. | H10: P UNIT S/ BDI | I10: BDI | J10: P UNIT C/ BDI | K10: PREÇO TOTAL COM BDI | L10: 0.23
B11: 1 | D11: 01.00.000 | E11: SERVICOS PRELIMINARES | K11: =SUBTOTAL(9,K12:K17) -> 0
B12: 1.1 | D12: 01.01.000 | E12: LIMPEZA DO TERRENO | K12: =SUBTOTAL(9,K13) -> 0
B13: 1.1.1 | C13: FDE | D13: 01.01.001 | E13: =IFERROR(UPPER(IF(C13="CPU",VLOOKUP(D13,#REF!,2,0),IF(C13="SINAPI",VLOOKUP(D13,#REF!,2,0),IF(C13="EDIF",VLOOKUP(D13,#REF!,2,0),IF(C13="CDHU",VLOOKUP(D13,#REF!,2,0),IF(C13="FDE",VLOOKUP(D13,'FDE 10-23 '!$A$4:$E$3180,2,0),IF(C13="INFRA",VLOOKUP(D13,#REF!,2,0),""))))))),"") -> RETIRANDO A VEGETACAO, TRONCOS ATE 5CM DE DIAMETRO E RASPAGEM. | F13: =VLOOKUP(D13,'FDE 10-23 '!$A$4:$E$3180,3,0) -> M2 | G13: =VLOOKUP(B13,Planilha17!$A$8:$F$1259,6,0) -> 0 | H13: =VLOOKUP(D13,'FDE 10-23 '!$A$4:$E$3180,5,0) -> 3.07 | I13: =$L$10 -> 0.23 | J13: =ROUND(H13*(1+I13),2) -> 3.78 | K13: =SUM(G13*J13) -> 0
B14: 1.2 | D14: 01.03.000 | E14: MOVIMENTO DE TERRA MECANIZADO | K14: =SUBTOTAL(9,K15:K17) -> 0
B15: 1.2.1 | C15: FDE | D15: 01.03.001 | E15: =IFERROR(UPPER(IF(C15="CPU",VLOOKUP(D15,#REF!,2,0),IF(C15="SINAPI",VLOOKUP(D15,#REF!,2,0),IF(C15="EDIF",VLOOKUP(D15,#REF!,2,0),IF(C15="CDHU",VLOOKUP(D15,#REF!,2,0),IF(C15="FDE",VLOOKUP(D15,'FDE 10-23 '!$A$4:$E$3180,2,0),IF(C15="INFRA",VLOOKUP(D15,#REF!,2,0),""))))))),"") -> CORTE E ATERRO DENTRO DA OBRA COM TRANSPORTE INTERNO | F15: =VLOOKUP(D15,'FDE 10-23 '!$A$4:$E$3180,3,0) -> M3 | G15: =VLOOKUP(B15,Planilha17!$A$8:$F$1259,6,0) -> 0 | H15: =VLOOKUP(D15,'FDE 10-23 '!$A$4:$E$3180,5,0) -> 9.03 | I15: =$L$10 -> 0.23 | J15: =ROUND(H15*(1+I15),2) -> 11.11 | K15: =SUM(G15*J15) -> 0
B16: 1.2.2 | C16: FDE | D16: 01.03.002 | E16: =IFERROR(UPPER(IF(C16="CPU",VLOOKUP(D16,#REF!,2,0),IF(C16="SINAPI",VLOOKUP(D16,#REF!,2,0),IF(C16="EDIF",VLOOKUP(D16,#REF!,2,0),IF(C16="CDHU",VLOOKUP(D16,#REF!,2,0),IF(C16="FDE",VLOOKUP(D16,'FDE 10-23 '!$A$4:$E$3180,2,0),IF(C16="INFRA",VLOOKUP(D16,#REF!,2,0),""))))))),"") -> CORTE COM RETIRADA POR CAMINHAO NOS PRIMEIROS 100 M | F16: =VLOOKUP(D16,'FDE 10-23 '!$A$4:$E$3180,3,0) -> M3 | G16: =VLOOKUP(B16,Planilha17!$A$8:$F$1259,6,0) -> 0 | H16: =VLOOKUP(D16,'FDE 10-23 '!$A$4:$E$3180,5,0) -> 25.05 | I16: =$L$10 -> 0.23 | J16: =ROUND(H16*(1+I16),2) -> 30.81 | K16: =SUM(G16*J16) -> 0
B17: 1.2.3 | C17: FDE | D17: 01.03.005 | E17: =IFERROR(UPPER(IF(C17="CPU",VLOOKUP(D17,#REF!,2,0),IF(C17="SINAPI",VLOOKUP(D17,#REF!,2,0),IF(C17="EDIF",VLOOKUP(D17,#REF!,2,0),IF(C17="CDHU",VLOOKUP(D17,#REF!,2,0),IF(C17="FDE",VLOOKUP(D17,'FDE 10-23 '!$A$4:$E$3180,2,0),IF(C17="INFRA",VLOOKUP(D17,#REF!,2,0),""))))))),"") -> TRANSPORTE POR CAMINHAO M3X | F17: =VLOOKUP(D17,'FDE 10-23 '!$A$4:$E$3180,3,0) -> KM | G17: =VLOOKUP(B17,Planilha17!$A$8:$F$1259,6,0) -> 0 | H17: =VLOOKUP(D17,'FDE 10-23 '!$A$4:$E$3180,5,0) -> 2.69 | I17: =$L$10 -> 0.23 | J17: =ROUND(H17*(1+I17),2) -> 3.31 | K17: =SUM(G17*J17) -> 0
B18: 2 | D18: 02.00.000 | E18: INFRA ESTRUTURA | H18: =IFERROR(IF(#REF!="CPU",VLOOKUP(#REF!,#REF!,4,0),IF(#REF!="SINAPI",VLOOKUP(#REF!,#REF!,5,0),IF(#REF!="EDIF",VLOOKUP(#REF!,#REF!,4,0),IF(#REF!="CDHU",VLOOKUP(#REF!,#REF!,6,0),IF(#REF!="FDE",VLOOKUP(#REF!,#REF!,4,0),IF(#REF!="INFRA",VLOOKUP(#REF!,#REF!,4,0),"")))))),"") | K18: =SUBTOTAL(9,K19:K43) -> 103250.34
B19: 2.1 | D19: 02.01.000 | E19: ESCAVACAO | H19: =IFERROR(IF(#REF!="CPU",VLOOKUP(#REF!,#REF!,4,0),IF(#REF!="SINAPI",VLOOKUP(#REF!,#REF!,5,0),IF(#REF!="EDIF",VLOOKUP(#REF!,#REF!,4,0),IF(#REF!="CDHU",VLOOKUP(#REF!,#REF!,6,0),IF(#REF!="FDE",VLOOKUP(#REF!,#REF!,4,0),IF(#REF!="INFRA",VLOOKUP(#REF!,#REF!,4,0),"")))))),"") | K19: =SUBTOTAL(9,K20:K24) -> 9293.179
B20: 2.1.1 | C20: FDE | D20: 02.01.001 | E20: =IFERROR(UPPER(IF(C20="CPU",VLOOKUP(D20,#REF!,2,0),IF(C20="SINAPI",VLOOKUP(D20,#REF!,2,0),IF(C20="EDIF",VLOOKUP(D20,#REF!,2,0),IF(C20="CDHU",VLOOKUP(D20,#REF!,2,0),IF(C20="FDE",VLOOKUP(D20,'FDE 10-23 '!$A$4:$E$3180,2,0),IF(C20="INFRA",VLOOKUP(D20,#REF!,2,0),""))))))),"") -> ESCAVACAO MANUAL - PROFUNDIDADE ATE 1.80 M | F20: =VLOOKUP(D20,'FDE 10-23 '!$A$4:$E$3180,3,0) -> M3 | G20: =VLOOKUP(B20,Planilha17!$A$8:$F$1259,6,0) -> 65.144 | H20: =VLOOKUP(D20,'FDE 10-23 '!$A$4:$E$3180,5,0) -> 61.58 | I20: =$L$10 -> 0.23 | J20: =ROUND(H20*(1+I20),2) -> 75.74 | K20: =SUM(G20*J20) -> 4934.0066
B21: 2.1.2 | C21: FDE | D21: 02.01.010 | E21: =IFERROR(UPPER(IF(C21="CPU",VLOOKUP(D21,#REF!,2,0),IF(C21="SINAPI",VLOOKUP(D21,#REF!,2,0),IF(C21="EDIF",VLOOKUP(D21,#REF!,2,0),IF(C21="CDHU",VLOOKUP(D21,#REF!,2,0),IF(C21="FDE",VLOOKUP(D21,'FDE 10-23 '!$A$4:$E$3180,2,0),IF(C21="INFRA",VLOOKUP(D21,#REF!,2,0),""))))))),"") -> APILOAMENTO PARA SIMPLES REGULARIZACAO | F21: =VLOOKUP(D21,'FDE 10-23 '!$A$4:$E$3180,3,0) -> M2 | G21: =VLOOKUP(B21,Planilha17!$A$8:$F$1259,6,0) -> 35.96 | H21: =VLOOKUP(D21,'FDE 10-23 '!$A$4:$E$3180,5,0) -> 6.15 | I21: =$L$10 -> 0.23 | J21: =ROUND(H21*(1+I21),2) -> 7.56 | K21: =SUM(G21*J21) -> 271.8576
B22: 2.1.3 | C22: FDE | D22: 02.01.012 | E22: =IFERROR(UPPER(IF(C22="CPU",VLOOKUP(D22,#REF!,2,0),IF(C22="SINAPI",VLOOKUP(D22,#REF!,2,0),IF(C22="EDIF",VLOOKUP(D22,#REF!,2,0),IF(C22="CDHU",VLOOKUP(D22,#REF!,2,0),IF(C22="FDE",VLOOKUP(D22,'FDE 10-23 '!$A$4:$E$3180,2,0),IF(C22="INFRA",VLOOKUP(D22,#REF!,2,0),""))))))),"") -> LASTRO DE PEDRA BRITADA - 5CM | F22: =VLOOKUP(D22,'FDE 10-23 '!$A$4:$E$3180,3,0) -> M2 | G22: =VLOOKUP(B22,Planilha17!$A$8:$F$1259,6,0) -> 35.96 | H22: =VLOOKUP(D22,'FDE 10-23 '!$A$4:$E$3180,5,0) -> 9.71 | I22: =$L$10 -> 0.23 | J22: =ROUND(H22*(1+I22),2) -> 11.94 | K22: =SUM(G22*J22) -> 429.3624
B23: 2.1.4 | C23: FDE | D23: 02.01.015 | E23: =IFERROR(UPPER(IF(C23="CPU",VLOOKUP(D23,#REF!,2,0),IF(C23="SINAPI",VLOOKUP(D23,#REF!,2,0),IF(C23="EDIF",VLOOKUP(D23,#REF!,2,0),IF(C23="CDHU",VLOOKUP(D23,#REF!,2,0),IF(C23="FDE",VLOOKUP(D23,'FDE 10-23 '!$A$4:$E$3180,2,0),IF(C23="INFRA",VLOOKUP(D23,#REF!,2,0),""))))))),"") -> LASTRO DE CONCRETO - 5 CM | F23: =VLOOKUP(D23,'FDE 10-23 '!$A$4:$E$3180,3,0) -> M2 | G23: =VLOOKUP(B23,Planilha17!$A$8:$F$1259,6,0) -> 35.96 | H23: =VLOOKUP(D23,'FDE 10-23 '!$A$4:$E$3180,5,0) -> 33.81 | I23: =$L$10 -> 0.23 | J23: =ROUND(H23*(1+I23),2) -> 41.59 | K23: =SUM(G23*J23) -> 1495.5764
B24: 2.1.5 | C24: FDE | D24: 02.01.025 | E24: =IFERROR(UPPER(IF(C24="CPU",VLOOKUP(D24,#REF!,2,0),IF(C24="SINAPI",VLOOKUP(D24,#REF!,2,0),IF(C24="EDIF",VLOOKUP(D24,#REF!,2,0),IF(C24="CDHU",VLOOKUP(D24,#REF!,2,0),IF(C24="FDE",VLOOKUP(D24,'FDE 10-23 '!$A$4:$E$3180,2,0),IF(C24="INFRA",VLOOKUP(D24,#REF!,2,0),""))))))),"") -> REATERRO INTERNO APILOADO | F24: =VLOOKUP(D24,'FDE 10-23 '!$A$4:$E$3180,3,0) -> M3 | G24: =VLOOKUP(B24,Planilha17!$A$8:$F$1259,6,0) -> 38.07 | H24: =VLOOKUP(D24,'FDE 10-23 '!$A$4:$E$3180,5,0) -> 46.18 | I24: =$L$10 -> 0.23 | J24: =ROUND(H24*(1+I24),2) -> 56.8 | K24: =SUM(G24*J24) -> 2162.376
B25: 2.2 | D25: 02.02.000 | E25: FUNDACAO PROFUNDA | H25: =IFERROR(IF(#REF!="CPU",VLOOKUP(#REF!,#REF!,4,0),IF(#REF!="SINAPI",VLOOKUP(#REF!,#REF!,5,0),IF(#REF!="EDIF",VLOOKUP(#REF!,#REF!,4,0),IF(#REF!="CDHU",VLOOKUP(#REF!,#REF!,6,0),IF(#REF!="FDE",VLOOKUP(#REF!,#REF!,4,0),IF(#REF!="INFRA",VLOOKUP(#REF!,#REF!,4,0),"")))))),"") | K25: =SUBTOTAL(9,K26:K31) -> 0
B26: 2.2.1 | C26: FDE | D26: 02.02.021 | E26: =IFERROR(UPPER(IF(C26="CPU",VLOOKUP(D26,#REF!,2,0),IF(C26="SINAPI",VLOOKUP(D26,#REF!,2,0),IF(C26="EDIF",VLOOKUP(D26,#REF!,2,0),IF(C26="CDHU",VLOOKUP(D26,#REF!,2,0),IF(C26="FDE",VLOOKUP(D26,'FDE 10-23 '!$A$4:$E$3180,2,0),IF(C26="INFRA",VLOOKUP(D26,#REF!,2,0),""))))))),"") -> ACO CA-50 (A OU B) FYK = 500 MPA | F26: =VLOOKUP(D26,'FDE 10-23 '!$A$4:$E$3180,3,0) -> KG | G26: =VLOOKUP(B26,Planilha17!$A$8:$F$1259,6,0) -> 0 | H26: =VLOOKUP(D26,'FDE 10-23 '!$A$4:$E$3180,5,0) -> 12.18 | I26: =$L$10 -> 0.23 | J26: =ROUND(H26*(1+I26),2) -> 14.98 | K26: =SUM(G26*J26) -> 0
B27: 2.2.2 | C27: FDE | D27: 02.02.026 | E27: =IFERROR(UPPER(IF(C27="CPU",VLOOKUP(D27,#REF!,2,0),IF(C27="SINAPI",VLOOKUP(D27,#REF!,2,0),IF(C27="EDIF",VLOOKUP(D27,#REF!,2,0),IF(C27="CDHU",VLOOKUP(D27,#REF!,2,0),IF(C27="FDE",VLOOKUP(D27,'FDE 10-23 '!$A$4:$E$3180,2,0),IF(C27="INFRA",VLOOKUP(D27,#REF!,2,0),""))))))),"") -> BROCA DE CONCRETO DE DIAMETRO 25CM - INCL ARRANQUES | F27: =VLOOKUP(D27,'FDE 10-23 '!$A$4:$E$3180,3,0) -> M | G27: =VLOOKUP(B27,Planilha17!$A$8:$F$1259,6,0) -> 0 | H27: =VLOOKUP(D27,'FDE 10-23 '!$A$4:$E$3180,5,0) -> 71.07 | I27: =$L$10 -> 0.23 | J27: =ROUND(H27*(1+I27),2) -> 87.42 | K27: =SUM(G27*J27) -> 0
B28: 2.2.3 | C28: FDE | D28: 02.02.070 | E28: =IFERROR(UPPER(IF(C28="CPU",VLOOKUP(D28,#REF!,2,0),IF(C28="SINAPI",VLOOKUP(D28,#REF!,2,0),IF(C28="EDIF",VLOOKUP(D28,#REF!,2,0),IF(C28="CDHU",VLOOKUP(D28,#REF!,2,0),IF(C28="FDE",VLOOKUP(D28,'FDE 10-23 '!$A$4:$E$3180,2,0),IF(C28="INFRA",VLOOKUP(D28,#REF!,2,0),""))))))),"") -> ESTACA TIPO HELICE DN 25CM | F28: =VLOOKUP(D28,'FDE 10-23 '!$A$4:$E$3180,3,0) -> M | G28: =VLOOKUP(B28,Planilha17!$A$8:$F$1259,6,0) -> 0 | H28: =VLOOKUP(D28,'FDE 10-23 '!$A$4:$E$3180,5,0) -> 62.61 | I28: =$L$10 -> 0.23 | J28: =ROUND(H28*(1+I28),2) -> 77.01 | K28: =SUM(G28*J28) -> 0
B29: 2.2.4 | C29: FDE | D29: 02.02.071 | E29: =IFERROR(UPPER(IF(C29="CPU",VLOOKUP(D29,#REF!,2,0),IF(C29="SINAPI",VLOOKUP(D29,#REF!,2,0),IF(C29="EDIF",VLOOKUP(D29,#REF!,2,0),IF(C29="CDHU",VLOOKUP(D29,#REF!,2,0),IF(C29="FDE",VLOOKUP(D29,'FDE 10-23 '!$A$4:$E$3180,2,0),IF(C29="INFRA",VLOOKUP(D29,#REF!,2,0),""))))))),"") -> ESTACA TIPO HELICE DN 30CM | F29: =VLOOKUP(D29,'FDE 10-23 '!$A$4:$E$3180,3,0) -> M | G29: =VLOOKUP(B29,Planilha17!$A$8:$F$1259,6,0) -> 0 | H29: =VLOOKUP(D29,'FDE 10-23 '!$A$4:$E$3180,5,0) -> 80.69 | I29: =$L$10 -> 0.23 | J29: =ROUND(H29*(1+I29),2) -> 99.25 | K29: =SUM(G29*J29) -> 0
B30: 2.2.5 | C30: FDE | D30: 02.02.072 | E30: =IFERROR(UPPER(IF(C30="CPU",VLOOKUP(D30,#REF!,2,0),IF(C30="SINAPI",VLOOKUP(D30,#REF!,2,0),IF(C30="EDIF",VLOOKUP(D30,#REF!,2,0),IF(C30="CDHU",VLOOKUP(D30,#REF!,2,0),IF(C30="FDE",VLOOKUP(D30,'FDE 10-23 '!$A$4:$E$3180,2,0),IF(C30="INFRA",VLOOKUP(D30,#REF!,2,0),""))))))),"") -> ESTACA TIPO HELICE DN 35CM | F30: =VLOOKUP(D30,'FDE 10-23 '!$A$4:$E$3180,3,0) -> M | G30: =VLOOKUP(B30,Planilha17!$A$8:$F$1259,6,0) -> 0 | H30: =VLOOKUP(D30,'FDE 10-23 '!$A$4:$E$3180,5,0) -> 101.64 | I30: =$L$10 -> 0.23 | J30: =ROUND(H30*(1+I30),2) -> 125.02 | K30: =SUM(G30*J30) -> 0
B31: 2.2.6 | C31: FDE | D31: 02.02.085 | E31: =IFERROR(UPPER(IF(C31="CPU",VLOOKUP(D31,#REF!,2,0),IF(C31="SINAPI",VLOOKUP(D31,#REF!,2,0),IF(C31="EDIF",VLOOKUP(D31,#REF!,2,0),IF(C31="CDHU",VLOOKUP(D31,#REF!,2,0),IF(C31="FDE",VLOOKUP(D31,'FDE 10-23 '!$A$4:$E$3180,2,0),IF(C31="INFRA",VLOOKUP(D31,#REF!,2,0),""))))))),"") -> TRANSPORTE E ATERRO INTERNO DE MATERIAL ESCAVADO DE FUNDAÇÃO-ESTACA-TUBULÃO | F31: =VLOOKUP(D31,'FDE 10-23 '!$A$4:$E$3180,3,0) -> M3 | G31: =VLOOKUP(B31,Planilha17!$A$8:$F$1259,6,0) -> 0 | H31: =VLOOKUP(D31,'FDE 10-23 '!$A$4:$E$3180,5,0) -> 56.96 | I31: =$L$10 -> 0.23 | J31: =ROUND(H31*(1+I31),2) -> 70.06 | K31: =SUM(G31*J31) -> 0
B32: 2.3 | D32: 02.03.000 | E32: FORMA | H32: =IFERROR(IF(#REF!="CPU",VLOOKUP(#REF!,#REF!,4,0),IF(#REF!="SINAPI",VLOOKUP(#REF!,#REF!,5,0),IF(#REF!="EDIF",VLOOKUP(#REF!,#REF!,4,0),IF(#REF!="CDHU",VLOOKUP(#REF!,#REF!,6,0),IF(#REF!="FDE",VLOOKUP(#REF!,#REF!,4,0),IF(#REF!="INFRA",VLOOKUP(#REF!,#REF!,4,0),"")))))),"") | K32: =SUBTOTAL(9,K33) -> 25627.996
B33: 2.3.1 | C33: FDE | D33: 02.03.001 | E33: =IFERROR(UPPER(IF(C33="CPU",VLOOKUP(D33,#REF!,2,0),IF(C33="SINAPI",VLOOKUP(D33,#REF!,2,0),IF(C33="EDIF",VLOOKUP(D33,#REF!,2,0),IF(C33="CDHU",VLOOKUP(D33,#REF!,2,0),IF(C33="FDE",VLOOKUP(D33,'FDE 10-23 '!$A$4:$E$3180,2,0),IF(C33="INFRA",VLOOKUP(D33,#REF!,2,0),""))))))),"") -> FORMA DE MADEIRA MACICA | F33: =VLOOKUP(D33,'FDE 10-23 '!$A$4:$E$3180,3,0) -> M2 | G33: =VLOOKUP(B33,Planilha17!$A$8:$F$1259,6,0) -> 276.82 | H33: =VLOOKUP(D33,'FDE 10-23 '!$A$4:$E$3180,5,0) -> 75.27 | I33: =$L$10 -> 0.23 | J33: =ROUND(H33*(1+I33),2) -> 92.58 | K33: =SUM(G33*J33) -> 25627.996
B34: 2.4 | D34: 02.04.000 | E34: ARMADURA | H34: =IFERROR(IF(#REF!="CPU",VLOOKUP(#REF!,#REF!,4,0),IF(#REF!="SINAPI",VLOOKUP(#REF!,#REF!,5,0),IF(#REF!="EDIF",VLOOKUP(#REF!,#REF!,4,0),IF(#REF!="CDHU",VLOOKUP(#REF!,#REF!,6,0),IF(#REF!="FDE",VLOOKUP(#REF!,#REF!,4,0),IF(#REF!="INFRA",VLOOKUP(#REF!,#REF!,4,0),"")))))),"") | K34: =SUBTOTAL(9,K35:K36) -> 0
B35: 2.4.1 | C35: FDE | D35: 02.04.002 | E35: =IFERROR(UPPER(IF(C35="CPU",VLOOKUP(D35,#REF!,2,0),IF(C35="SINAPI",VLOOKUP(D35,#REF!,2,0),IF(C35="EDIF",VLOOKUP(D35,#REF!,2,0),IF(C35="CDHU",VLOOKUP(D35,#REF!,2,0),IF(C35="FDE",VLOOKUP(D35,'FDE 10-23 '!$A$4:$E$3180,2,0),IF(C35="INFRA",VLOOKUP(D35,#REF!,2,0),""))))))),"") -> ACO CA 50 (A OU B) FYK= 500 M PA | F35: =VLOOKUP(D35,'FDE 10-23 '!$A$4:$E$3180,3,0) -> KG | G35: =VLOOKUP(B35,Planilha17!$A$8:$F$1259,6,0) -> 0 | H35: =VLOOKUP(D35,'FDE 10-23 '!$A$4:$E$3180,5,0) -> 12.18 | I35: =$L$10 -> 0.23 | J35: =ROUND(H35*(1+I35),2) -> 14.98 | K35: =SUM(G35*J35) -> 0
B36: 2.4.2 | C36: FDE | D36: 02.04.003 | E36: =IFERROR(UPPER(IF(C36="CPU",VLOOKUP(D36,#REF!,2,0),IF(C36="SINAPI",VLOOKUP(D36,#REF!,2,0),IF(C36="EDIF",VLOOKUP(D36,#REF!,2,0),IF(C36="CDHU",VLOOKUP(D36,#REF!,2,0),IF(C36="FDE",VLOOKUP(D36,'FDE 10-23 '!$A$4:$E$3180,2,0),IF(C36="INFRA",VLOOKUP(D36,#REF!,2,0),""))))))),"") -> ACO CA 60 (A OU B) FYK= 600 M PA | F36: =VLOOKUP(D36,'FDE 10-23 '!$A$4:$E$3180,3,0) -> KG | G36: =VLOOKUP(B36,Planilha17!$A$8:$F$1259,6,0) -> 0 | H36: =VLOOKUP(D36,'FDE 10-23 '!$A$4:$E$3180,5,0) -> 12.58 | I36: =$L$10 -> 0.23 | J36: =ROUND(H36*(1+I36),2) -> 15.47 | K36: =SUM(G36*J36) -> 0
B37: 2.5 | D37: 02.05.000 | E37: CONCRETO | H37: =IFERROR(IF(#REF!="CPU",VLOOKUP(#REF!,#REF!,4,0),IF(#REF!="SINAPI",VLOOKUP(#REF!,#REF!,5,0),IF(#REF!="EDIF",VLOOKUP(#REF!,#REF!,4,0),IF(#REF!="CDHU",VLOOKUP(#REF!,#REF!,6,0),IF(#REF!="FDE",VLOOKUP(#REF!,#REF!,4,0),IF(#REF!="INFRA",VLOOKUP(#REF!,#REF!,4,0),"")))))),"") | K37: =SUBTOTAL(9,K38:K39) -> 23847.793
B38: 2.5.1 | C38: FDE | D38: 02.05.018 | E38: =IFERROR(UPPER(IF(C38="CPU",VLOOKUP(D38,#REF!,2,0),IF(C38="SINAPI",VLOOKUP(D38,#REF!,2,0),IF(C38="EDIF",VLOOKUP(D38,#REF!,2,0),IF(C38="CDHU",VLOOKUP(D38,#REF!,2,0),IF(C38="FDE",VLOOKUP(D38,'FDE 10-23 '!$A$4:$E$3180,2,0),IF(C38="INFRA",VLOOKUP(D38,#REF!,2,0),""))))))),"") -> CONCRETO DOSADO E LANCADO FCK=25MPA | F38: =VLOOKUP(D38,'FDE 10-23 '!$A$4:$E$3180,3,0) -> M3 | G38: =VLOOKUP(B38,Planilha17!$A$8:$F$1259,6,0) -> 27.074 | H38: =VLOOKUP(D38,'FDE 10-23 '!$A$4:$E$3180,5,0) -> 523.76 | I38: =$L$10 -> 0.23 | J38: =ROUND(H38*(1+I38),2) -> 644.22 | K38: =SUM(G38*J38) -> 17441.612
B39: 2.5.2 | C39: FDE | D39: 02.05.050 | E39: =IFERROR(UPPER(IF(C39="CPU",VLOOKUP(D39,#REF!,2,0),IF(C39="SINAPI",VLOOKUP(D39,#REF!,2,0),IF(C39="EDIF",VLOOKUP(D39,#REF!,2,0),IF(C39="CDHU",VLOOKUP(D39,#REF!,2,0),IF(C39="FDE",VLOOKUP(D39,'FDE 10-23 '!$A$4:$E$3180,2,0),IF(C39="INFRA",VLOOKUP(D39,#REF!,2,0),""))))))),"") -> CONCRETO GROUT, PREPARADO NO LOCAL, LANÇADO E ADENSADO | F39: =VLOOKUP(D39,'FDE 10-23 '!$A$4:$E$3180,3,0) -> M3 | G39: =VLOOKUP(B39,Planilha17!$A$8:$F$1259,6,0) -> 10.722 | H39: =VLOOKUP(D39,'FDE 10-23 '!$A$4:$E$3180,5,0) -> 485.76 | I39: =$L$10 -> 0.23 | J39: =ROUND(H39*(1+I39),2) -> 597.48 | K39: =SUM(G39*J39) -> 6406.1806
B40: 2.6 | D40: 02.06.000 | E40: EMBASAMENTO | H40: =IFERROR(IF(#REF!="CPU",VLOOKUP(#REF!,#REF!,4,0),IF(#REF!="SINAPI",VLOOKUP(#REF!,#REF!,5,0),IF(#REF!="EDIF",VLOOKUP(#REF!,#REF!,4,0),IF(#REF!="CDHU",VLOOKUP(#REF!,#REF!,6,0),IF(#REF!="FDE",VLOOKUP(#REF!,#REF!,4,0),IF(#REF!="INFRA",VLOOKUP(#REF!,#REF!,4,0),"")))))),"") | K40: =SUBTOTAL(9,K41) -> 26572.285
B41: 2.6.1 | C41: FDE | D41: 02.06.003 | E41: =IFERROR(UPPER(IF(C41="CPU",VLOOKUP(D41,#REF!,2,0),IF(C41="SINAPI",VLOOKUP(D41,#REF!,2,0),IF(C41="EDIF",VLOOKUP(D41,#REF!,2,0),IF(C41="CDHU",VLOOKUP(D41,#REF!,2,0),IF(C41="FDE",VLOOKUP(D41,'FDE 10-23 '!$A$4:$E$3180,2,0),IF(C41="INFRA",VLOOKUP(D41,#REF!,2,0),""))))))),"") -> ALVENARIA EMBASAMENTO TIJOLO BARRO MACIÇO E = 1 TIJOLO | F41: =VLOOKUP(D41,'FDE 10-23 '!$A$4:$E$3180,3,0) -> M2 | G41: =VLOOKUP(B41,Planilha17!$A$8:$F$1259,6,0) -> 114.255 | H41: =VLOOKUP(D41,'FDE 10-23 '!$A$4:$E$3180,5,0) -> 189.08 | I41: =$L$10 -> 0.23 | J41: =ROUND(H41*(1+I41),2) -> 232.57 | K41: =SUM(G41*J41) -> 26572.285
B42: 2.7 | D42: 02.07.000 | E42: IMPERMEABILIZACOES | H42: =IFERROR(IF(#REF!="CPU",VLOOKUP(#REF!,#REF!,4,0),IF(#REF!="SINAPI",VLOOKUP(#REF!,#REF!,5,0),IF(#REF!="EDIF",VLOOKUP(#REF!,#REF!,4,0),IF(#REF!="CDHU",VLOOKUP(#REF!,#REF!,6,0),IF(#REF!="FDE",VLOOKUP(#REF!,#REF!,4,0),IF(#REF!="INFRA",VLOOKUP(#REF!,#REF!,4,0),"")))))),"") | K42: =SUBTOTAL(9,K43) -> 17909.09
B43: 2.7.1 | C43: FDE | D43: 02.07.001 | E43: =IFERROR(UPPER(IF(C43="CPU",VLOOKUP(D43,#REF!,2,0),IF(C43="SINAPI",VLOOKUP(D43,#REF!,2,0),IF(C43="EDIF",VLOOKUP(D43,#REF!,2,0),IF(C43="CDHU",VLOOKUP(D43,#REF!,2,0),IF(C43="FDE",VLOOKUP(D43,'FDE 10-23 '!$A$4:$E$3180,2,0),IF(C43="INFRA",VLOOKUP(D43,#REF!,2,0),""))))))),"") -> IMPERM RESP ALV EMBAS COM ARGAM CIM-AREIA 1:3 CONTENDO HIDROFUGO | F43: =VLOOKUP(D43,'FDE 10-23 '!$A$4:$E$3180,3,0) -> M2 | G43: =VLOOKUP(B43,Planilha17!$A$8:$F$1259,6,0) -> 304.68 | H43: =VLOOKUP(D43,'FDE 10-23 '!$A$4:$E$3180,5,0) -> 47.79 | I43: =$L$10 -> 0.23 | J43: =ROUND(H43*(1+I43),2) -> 58.78 | K43: =SUM(G43*J43) -> 17909.09
...

Sheet ORÇ Atualizado
B1: PREFEITURA DE PORTO FERREIRA “A CAPITAL NACIONAL DA CERÂMICA ARTÍSTICA E DA DECORAÇÃO” SECRETARIA DE OBRAS E DESENVOLVIMENTO URBANO
B4: Objeto | D4: REMANESCENTE DE OBRA PARA CONSTRUÇÃO DA ESCOLA ESTADUAL DO PARQUE RESIDENCIAL PORTO BELO
B5: Endereço: | D5: RUA JOSÉ GOMES, PARQUE RESIDENCIAL PORTO BELO
B6: Local e Data da Elaboração: | D6: PORTO FERREIRA – SP
B7: Fonte: | D7: FDE OUTUBRO 2023
B8: BDI: | D8: 0.23
B10: ITEM | C10: FONTE | D10: CÓD. | E10: REFORMA E REPAROS EM PONTES DO MUNICÍPIO | F10: UNID | G10: QUANT. | H10: P UNIT S/ BDI | I10: BDI | J10: P UNIT C/ BDI | K10: PREÇO TOTAL COM BDI | L10: 0.23
B11: 1 | D11: 01.00.000 | E11: SERVICOS PRELIMINARES | K11: =SUBTOTAL(9,K12:K17) -> 0
B12: 1.1 | D12: 01.01.000 | E12: LIMPEZA DO TERRENO | K12: =SUBTOTAL(9,K13) -> 0
B13: 1.1.1 | C13: FDE | D13: 01.01.001 | E13: =IFERROR(UPPER(IF(C13="CPU",VLOOKUP(D13,#REF!,2,0),IF(C13="SINAPI",VLOOKUP(D13,#REF!,2,0),IF(C13="EDIF",VLOOKUP(D13,#REF!,2,0),IF(C13="CDHU",VLOOKUP(D13,#REF!,2,0),IF(C13="FDE",VLOOKUP(D13,'FDE 10-23 '!$A$4:$E$3180,2,0),IF(C13="INFRA",VLOOKUP(D13,#REF!,2,0),""))))))),"") -> RETIRANDO A VEGETACAO, TRONCOS ATE 5CM DE DIAMETRO E RASPAGEM. | F13: =VLOOKUP(D13,'FDE 10-23 '!$A$4:$E$3180,3,0) -> M2 | H13: =VLOOKUP(D13,'FDE 10-23 '!$A$4:$E$3180,5,0) -> 3.07 | I13: =$L$10 -> 0.23 | J13: =ROUND(H13*(1+I13),2) -> 3.78 | K13: =SUM(G13*J13) -> 0
B14: 1.2 | D14: 01.03.000 | E14: MOVIMENTO DE TERRA MECANIZADO | K14: =SUBTOTAL(9,K15:K17) -> 0
B15: 1.2.1 | C15: FDE | D15: 01.03.001 | E15: =IFERROR(UPPER(IF(C15="CPU",VLOOKUP(D15,#REF!,2,0),IF(C15="SINAPI",VLOOKUP(D15,#REF!,2,0),IF(C15="EDIF",VLOOKUP(D15,#REF!,2,0),IF(C15="CDHU",VLOOKUP(D15,#REF!,2,0),IF(C15="FDE",VLOOKUP(D15,'FDE 10-23 '!$A$4:$E$3180,2,0),IF(C15="INFRA",VLOOKUP(D15,#REF!,2,0),""))))))),"") -> CORTE E ATERRO DENTRO DA OBRA COM TRANSPORTE INTERNO | F15: =VLOOKUP(D15,'FDE 10-23 '!$A$4:$E$3180,3,0) -> M3 | H15: =VLOOKUP(D15,'FDE 10-23 '!$A$4:$E$3180,5,0) -> 9.03 | I15: =$L$10 -> 0.23 | J15: =ROUND(H15*(1+I15),2) -> 11.11 | K15: =SUM(G15*J15) -> 0
B16: 1.2.2 | C16: FDE | D16: 01.03.002 | E16: =IFERROR(UPPER(IF(C16="CPU",VLOOKUP(D16,#REF!,2,0),IF(C16="SINAPI",VLOOKUP(D16,#REF!,2,0),IF(C16="EDIF",VLOOKUP(D16,#REF!,2,0),IF(C16="CDHU",VLOOKUP(D16,#REF!,2,0),IF(C16="FDE",VLOOKUP(D16,'FDE 10-23 '!$A$4:$E$3180,2,0),IF(C16="INFRA",VLOOKUP(D16,#REF!,2,0),""))))))),"") -> CORTE COM RETIRADA POR CAMINHAO NOS PRIMEIROS 100 M | F16: =VLOOKUP(D16,'FDE 10-23 '!$A$4:$E$3180,3,0) -> M3 | H16: =VLOOKUP(D16,'FDE 10-23 '!$A$4:$E$3180,5,0) -> 25.05 | I16: =$L$10 -> 0.23 | J16: =ROUND(H16*(1+I16),2) -> 30.81 | K16: =SUM(G16*J16) -> 0
B17: 1.2.3 | C17: FDE | D17: 01.03.005 | E17: =IFERROR(UPPER(IF(C17="CPU",VLOOKUP(D17,#REF!,2,0),IF(C17="SINAPI",VLOOKUP(D17,#REF!,2,0),IF(C17="EDIF",VLOOKUP(D17,#REF!,2,0),IF(C17="CDHU",VLOOKUP(D17,#REF!,2,0),IF(C17="FDE",VLOOKUP(D17,'FDE 10-23 '!$A$4:$E$3180,2,0),IF(C17="INFRA",VLOOKUP(D17,#REF!,2,0),""))))))),"") -> TRANSPORTE POR CAMINHAO M3X | F17: =VLOOKUP(D17,'FDE 10-23 '!$A$4:$E$3180,3,0) -> KM | H17: =VLOOKUP(D17,'FDE 10-23 '!$A$4:$E$3180,5,0) -> 2.69 | I17: =$L$10 -> 0.23 | J17: =ROUND(H17*(1+I17),2) -> 3.31 | K17: =SUM(G17*J17) -> 0
B18: 2 | D18: 02.00.000 | E18: INFRA ESTRUTURA | H18: =IFERROR(IF(#REF!="CPU",VLOOKUP(#REF!,#REF!,4,0),IF(#REF!="SINAPI",VLOOKUP(#REF!,#REF!,5,0),IF(#REF!="EDIF",VLOOKUP(#REF!,#REF!,4,0),IF(#REF!="CDHU",VLOOKUP(#REF!,#REF!,6,0),IF(#REF!="FDE",VLOOKUP(#REF!,#REF!,4,0),IF(#REF!="INFRA",VLOOKUP(#REF!,#REF!,4,0),"")))))),"") | K18: =SUBTOTAL(9,K19:K43) -> 97651.561
B19: 2.1 | D19: 02.01.000 | E19: ESCAVACAO | H19: =IFERROR(IF(#REF!="CPU",VLOOKUP(#REF!,#REF!,4,0),IF(#REF!="SINAPI",VLOOKUP(#REF!,#REF!,5,0),IF(#REF!="EDIF",VLOOKUP(#REF!,#REF!,4,0),IF(#REF!="CDHU",VLOOKUP(#REF!,#REF!,6,0),IF(#REF!="FDE",VLOOKUP(#REF!,#REF!,4,0),IF(#REF!="INFRA",VLOOKUP(#REF!,#REF!,4,0),"")))))),"") | K19: =SUBTOTAL(9,K20:K24) -> 10948.634
B20: 2.1.1 | C20: FDE | D20: 02.01.001 | E20: =IFERROR(UPPER(IF(C20="CPU",VLOOKUP(D20,#REF!,2,0),IF(C20="SINAPI",VLOOKUP(D20,#REF!,2,0),IF(C20="EDIF",VLOOKUP(D20,#REF!,2,0),IF(C20="CDHU",VLOOKUP(D20,#REF!,2,0),IF(C20="FDE",VLOOKUP(D20,'FDE 10-23 '!$A$4:$E$3180,2,0),IF(C20="INFRA",VLOOKUP(D20,#REF!,2,0),""))))))),"") -> ESCAVACAO MANUAL - PROFUNDIDADE ATE 1.80 M | F20: =VLOOKUP(D20,'FDE 10-23 '!$A$4:$E$3180,3,0) -> M3 | G20: 15 | H20: =VLOOKUP(D20,'FDE 10-23 '!$A$4:$E$3180,5,0) -> 61.58 | I20: =$L$10 -> 0.23 | J20: =ROUND(H20*(1+I20),2) -> 75.74 | K20: =SUM(G20*J20) -> 1136.1
B21: 2.1.2 | C21: FDE | D21: 02.01.010 | E21: =IFERROR(UPPER(IF(C21="CPU",VLOOKUP(D21,#REF!,2,0),IF(C21="SINAPI",VLOOKUP(D21,#REF!,2,0),IF(C21="EDIF",VLOOKUP(D21,#REF!,2,0),IF(C21="CDHU",VLOOKUP(D21,#REF!,2,0),IF(C21="FDE",VLOOKUP(D21,'FDE 10-23 '!$A$4:$E$3180,2,0),IF(C21="INFRA",VLOOKUP(D21,#REF!,2,0),""))))))),"") -> APILOAMENTO PARA SIMPLES REGULARIZACAO | F21: =VLOOKUP(D21,'FDE 10-23 '!$A$4:$E$3180,3,0) -> M2 | G21: 20.6 | H21: =VLOOKUP(D21,'FDE 10-23 '!$A$4:$E$3180,5,0) -> 6.15 | I21: =$L$10 -> 0.23 | J21: =ROUND(H21*(1+I21),2) -> 7.56 | K21: =SUM(G21*J21) -> 155.736
B22: 2.1.3 | C22: FDE | D22: 02.01.012 | E22: =IFERROR(UPPER(IF(C22="CPU",VLOOKUP(D22,#REF!,2,0),IF(C22="SINAPI",VLOOKUP(D22,#REF!,2,0),IF(C22="EDIF",VLOOKUP(D22,#REF!,2,0),IF(C22="CDHU",VLOOKUP(D22,#REF!,2,0),IF(C22="FDE",VLOOKUP(D22,'FDE 10-23 '!$A$4:$E$3180,2,0),IF(C22="INFRA",VLOOKUP(D22,#REF!,2,0),""))))))),"") -> LASTRO DE PEDRA BRITADA - 5CM | F22: =VLOOKUP(D22,'FDE 10-23 '!$A$4:$E$3180,3,0) -> M2 | G22: 20.6 | H22: =VLOOKUP(D22,'FDE 10-23 '!$A$4:$E$3180,5,0) -> 9.71 | I22: =$L$10 -> 0.23 | J22: =ROUND(H22*(1+I22),2) -> 11.94 | K22: =SUM(G22*J22) -> 245.964
B23: 2.1.4 | C23: FDE | D23: 02.01.015 | E23: =IFERROR(UPPER(IF(C23="CPU",VLOOKUP(D23,#REF!,2,0),IF(C23="SINAPI",VLOOKUP(D23,#REF!,2,0),IF(C23="EDIF",VLOOKUP(D23,#REF!,2,0),IF(C23="CDHU",VLOOKUP(D23,#REF!,2,0),IF(C23="FDE",VLOOKUP(D23,'FDE 10-23 '!$A$4:$E$3180,2,0),IF(C23="INFRA",VLOOKUP(D23,#REF!,2,0),""))))))),"") -> LASTRO DE CONCRETO - 5 CM | F23: =VLOOKUP(D23,'FDE 10-23 '!$A$4:$E$3180,3,0) -> M2 | G23: 20.6 | H23: =VLOOKUP(D23,'FDE 10-23 '!$A$4:$E$3180,5,0) -> 33.81 | I23: =$L$10 -> 0.23 | J23: =ROUND(H23*(1+I23),2) -> 41.59 | K23: =SUM(G23*J23) -> 856.754
B24: 2.1.5 | C24: FDE | D24: 02.01.025 | E24: =IFERROR(UPPER(IF(C24="CPU",VLOOKUP(D24,#REF!,2,0),IF(C24="SINAPI",VLOOKUP(D24,#REF!,2,0),IF(C24="EDIF",VLOOKUP(D24,#REF!,2,0),IF(C24="CDHU",VLOOKUP(D24,#REF!,2,0),IF(C24="FDE",VLOOKUP(D24,'FDE 10-23 '!$A$4:$E$3180,2,0),IF(C24="INFRA",VLOOKUP(D24,#REF!,2,0),""))))))),"") -> REATERRO INTERNO APILOADO | F24: =VLOOKUP(D24,'FDE 10-23 '!$A$4:$E$3180,3,0) -> M3 | G24: 150.6 | H24: =VLOOKUP(D24,'FDE 10-23 '!$A$4:$E$3180,5,0) -> 46.18 | I24: =$L$10 -> 0.23 | J24: =ROUND(H24*(1+I24),2) -> 56.8 | K24: =SUM(G24*J24) -> 8554.08
B25: 2.2 | D25: 02.02.000 | E25: FUNDACAO PROFUNDA | H25: =IFERROR(IF(#REF!="CPU",VLOOKUP(#REF!,#REF!,4,0),IF(#REF!="SINAPI",VLOOKUP(#REF!,#REF!,5,0),IF(#REF!="EDIF",VLOOKUP(#REF!,#REF!,4,0),IF(#REF!="CDHU",VLOOKUP(#REF!,#REF!,6,0),IF(#REF!="FDE",VLOOKUP(#REF!,#REF!,4,0),IF(#REF!="INFRA",VLOOKUP(#REF!,#REF!,4,0),"")))))),"") | K25: =SUBTOTAL(9,K26:K31) -> 0
B26: 2.2.1 | C26: FDE | D26: 02.02.021 | E26: =IFERROR(UPPER(IF(C26="CPU",VLOOKUP(D26,#REF!,2,0),IF(C26="SINAPI",VLOOKUP(D26,#REF!,2,0),IF(C26="EDIF",VLOOKUP(D26,#REF!,2,0),IF(C26="CDHU",VLOOKUP(D26,#REF!,2,0),IF(C26="FDE",VLOOKUP(D26,'FDE 10-23 '!$A$4:$E$3180,2,0),IF(C26="INFRA",VLOOKUP(D26,#REF!,2,0),""))))))),"") -> ACO CA-50 (A OU B) FYK = 500 MPA | F26: =VLOOKUP(D26,'FDE 10-23 '!$A$4:$E$3180,3,0) -> KG | H26: =VLOOKUP(D26,'FDE 10-23 '!$A$4:$E$3180,5,0) -> 12.18 | I26: =$L$10 -> 0.23 | J26: =ROUND(H26*(1+I26),2) -> 14.98 | K26: =SUM(G26*J26) -> 0
B27: 2.2.2 | C27: FDE | D27: 02.02.026 | E27: =IFERROR(UPPER(IF(C27="CPU",VLOOKUP(D27,#REF!,2,0),IF(C27="SINAPI",VLOOKUP(D27,#REF!,2,0),IF(C27="EDIF",VLOOKUP(D27,#REF!,2,0),IF(C27="CDHU",VLOOKUP(D27,#REF!,2,0),IF(C27="FDE",VLOOKUP(D27,'FDE 10-23 '!$A$4:$E$3180,2,0),IF(C27="INFRA",VLOOKUP(D27,#REF!,2,0),""))))))),"") -> BROCA DE CONCRETO DE DIAMETRO 25CM - INCL ARRANQUES | F27: =VLOOKUP(D27,'FDE 10-23 '!$A$4:$E$3180,3,0) -> M | H27: =VLOOKUP(D27,'FDE 10-23 '!$A$4:$E$3180,5,0) -> 71.07 | I27: =$L$10 -> 0.23 | J27: =ROUND(H27*(1+I27),2) -> 87.42 | K27: =SUM(G27*J27) -> 0
B28: 2.2.3 | C28: FDE | D28: 02.02.070 | E28: =IFERROR(UPPER(IF(C28="CPU",VLOOKUP(D28,#REF!,2,0),IF(C28="SINAPI",VLOOKUP(D28,#REF!,2,0),IF(C28="EDIF",VLOOKUP(D28,#REF!,2,0),IF(C28="CDHU",VLOOKUP(D28,#REF!,2,0),IF(C28="FDE",VLOOKUP(D28,'FDE 10-23 '!$A$4:$E$3180,2,0),IF(C28="INFRA",VLOOKUP(D28,#REF!,2,0),""))))))),"") -> ESTACA TIPO HELICE DN 25CM | F28: =VLOOKUP(D28,'FDE 10-23 '!$A$4:$E$3180,3,0) -> M | H28: =VLOOKUP(D28,'FDE 10-23 '!$A$4:$E$3180,5,0) -> 62.61 | I28: =$L$10 -> 0.23 | J28: =ROUND(H28*(1+I28),2) -> 77.01 | K28: =SUM(G28*J28) -> 0
B29: 2.2.4 | C29: FDE | D29: 02.02.071 | E29: =IFERROR(UPPER(IF(C29="CPU",VLOOKUP(D29,#REF!,2,0),IF(C29="SINAPI",VLOOKUP(D29,#REF!,2,0),IF(C29="EDIF",VLOOKUP(D29,#REF!,2,0),IF(C29="CDHU",VLOOKUP(D29,#REF!,2,0),IF(C29="FDE",VLOOKUP(D29,'FDE 10-23 '!$A$4:$E$3180,2,0),IF(C29="INFRA",VLOOKUP(D29,#REF!,2,0),""))))))),"") -> ESTACA TIPO HELICE DN 30CM | F29: =VLOOKUP(D29,'FDE 10-23 '!$A$4:$E$3180,3,0) -> M | H29: =VLOOKUP(D29,'FDE 10-23 '!$A$4:$E$3180,5,0) -> 80.69 | I29: =$L$10 -> 0.23 | J29: =ROUND(H29*(1+I29),2) -> 99.25 | K29: =SUM(G29*J29) -> 0
B30: 2.2.5 | C30: FDE | D30: 02.02.072 | E30: =IFERROR(UPPER(IF(C30="CPU",VLOOKUP(D30,#REF!,2,0),IF(C30="SINAPI",VLOOKUP(D30,#REF!,2,0),IF(C30="EDIF",VLOOKUP(D30,#REF!,2,0),IF(C30="CDHU",VLOOKUP(D30,#REF!,2,0),IF(C30="FDE",VLOOKUP(D30,'FDE 10-23 '!$A$4:$E$3180,2,0),IF(C30="INFRA",VLOOKUP(D30,#REF!,2,0),""))))))),"") -> ESTACA TIPO HELICE DN 35CM | F30: =VLOOKUP(D30,'FDE 10-23 '!$A$4:$E$3180,3,0) -> M | H30: =VLOOKUP(D30,'FDE 10-23 '!$A$4:$E$3180,5,0) -> 101.64 | I30: =$L$10 -> 0.23 | J30: =ROUND(H30*(1+I30),2) -> 125.02 | K30: =SUM(G30*J30) -> 0
B31: 2.2.6 | C31: FDE | D31: 02.02.085 | E31: =IFERROR(UPPER(IF(C31="CPU",VLOOKUP(D31,#REF!,2,0),IF(C31="SINAPI",VLOOKUP(D31,#REF!,2,0),IF(C31="EDIF",VLOOKUP(D31,#REF!,2,0),IF(C31="CDHU",VLOOKUP(D31,#REF!,2,0),IF(C31="FDE",VLOOKUP(D31,'FDE 10-23 '!$A$4:$E$3180,2,0),IF(C31="INFRA",VLOOKUP(D31,#REF!,2,0),""))))))),"") -> TRANSPORTE E ATERRO INTERNO DE MATERIAL ESCAVADO DE FUNDAÇÃO-ESTACA-TUBULÃO | F31: =VLOOKUP(D31,'FDE 10-23 '!$A$4:$E$3180,3,0) -> M3 | H31: =VLOOKUP(D31,'FDE 10-23 '!$A$4:$E$3180,5,0) -> 56.96 | I31: =$L$10 -> 0.23 | J31: =ROUND(H31*(1+I31),2) -> 70.06 | K31: =SUM(G31*J31) -> 0
B32: 2.3 | D32: 02.03.000 | E32: FORMA | H32: =IFERROR(IF(#REF!="CPU",VLOOKUP(#REF!,#REF!,4,0),IF(#REF!="SINAPI",VLOOKUP(#REF!,#REF!,5,0),IF(#REF!="EDIF",VLOOKUP(#REF!,#REF!,4,0),IF(#REF!="CDHU",VLOOKUP(#REF!,#REF!,6,0),IF(#REF!="FDE",VLOOKUP(#REF!,#REF!,4,0),IF(#REF!="INFRA",VLOOKUP(#REF!,#REF!,4,0),"")))))),"") | K32: =SUBTOTAL(9,K33) -> 15146.088
B33: 2.3.1 | C33: FDE | D33: 02.03.001 | E33: =IFERROR(UPPER(IF(C33="CPU",VLOOKUP(D33,#REF!,2,0),IF(C33="SINAPI",VLOOKUP(D33,#REF!,2,0),IF(C33="EDIF",VLOOKUP(D33,#REF!,2,0),IF(C33="CDHU",VLOOKUP(D33,#REF!,2,0),IF(C33="FDE",VLOOKUP(D33,'FDE 10-23 '!$A$4:$E$3180,2,0),IF(C33="INFRA",VLOOKUP(D33,#REF!,2,0),""))))))),"") -> FORMA DE MADEIRA MACICA | F33: =VLOOKUP(D33,'FDE 10-23 '!$A$4:$E$3180,3,0) -> M2 | G33: 163.6 | H33: =VLOOKUP(D33,'FDE 10-23 '!$A$4:$E$3180,5,0) -> 75.27 | I33: =$L$10 -> 0.23 | J33: =ROUND(H33*(1+I33),2) -> 92.58 | K33: =SUM(G33*J33) -> 15146.088
B34: 2.4 | D34: 02.04.000 | E34: ARMADURA | H34: =IFERROR(IF(#REF!="CPU",VLOOKUP(#REF!,#REF!,4,0),IF(#REF!="SINAPI",VLOOKUP(#REF!,#REF!,5,0),IF(#REF!="EDIF",VLOOKUP(#REF!,#REF!,4,0),IF(#REF!="CDHU",VLOOKUP(#REF!,#REF!,6,0),IF(#REF!="FDE",VLOOKUP(#REF!,#REF!,4,0),IF(#REF!="INFRA",VLOOKUP(#REF!,#REF!,4,0),"")))))),"") | K34: =SUBTOTAL(9,K35:K36) -> 9229.808
B35: 2.4.1 | C35: FDE | D35: 02.04.002 | E35: =IFERROR(UPPER(IF(C35="CPU",VLOOKUP(D35,#REF!,2,0),IF(C35="SINAPI",VLOOKUP(D35,#REF!,2,0),IF(C35="EDIF",VLOOKUP(D35,#REF!,2,0),IF(C35="CDHU",VLOOKUP(D35,#REF!,2,0),IF(C35="FDE",VLOOKUP(D35,'FDE 10-23 '!$A$4:$E$3180,2,0),IF(C35="INFRA",VLOOKUP(D35,#REF!,2,0),""))))))),"") -> ACO CA 50 (A OU B) FYK= 500 M PA | F35: =VLOOKUP(D35,'FDE 10-23 '!$A$4:$E$3180,3,0) -> KG | G35: 520.1 | H35: =VLOOKUP(D35,'FDE 10-23 '!$A$4:$E$3180,5,0) -> 12.18 | I35: =$L$10 -> 0.23 | J35: =ROUND(H35*(1+I35),2) -> 14.98 | K35: =SUM(G35*J35) -> 7791.098
B36: 2.4.2 | C36: FDE | D36: 02.04.003 | E36: =IFERROR(UPPER(IF(C36="CPU",VLOOKUP(D36,#REF!,2,0),IF(C36="SINAPI",VLOOKUP(D36,#REF!,2,0),IF(C36="EDIF",VLOOKUP(D36,#REF!,2,0),IF(C36="CDHU",VLOOKUP(D36,#REF!,2,0),IF(C36="FDE",VLOOKUP(D36,'FDE 10-23 '!$A$4:$E$3180,2,0),IF(C36="INFRA",VLOOKUP(D36,#REF!,2,0),""))))))),"") -> ACO CA 60 (A OU B) FYK= 600 M PA | F36: =VLOOKUP(D36,'FDE 10-23 '!$A$4:$E$3180,3,0) -> KG | G36: 93 | H36: =VLOOKUP(D36,'FDE 10-23 '!$A$4:$E$3180,5,0) -> 12.58 | I36: =$L$10 -> 0.23 | J36: =ROUND(H36*(1+I36),2) -> 15.47 | K36: =SUM(G36*J36) -> 1438.71
B37: 2.5 | D37: 02.05.000 | E37: CONCRETO | H37: =IFERROR(IF(#REF!="CPU",VLOOKUP(#REF!,#REF!,4,0),IF(#REF!="SINAPI",VLOOKUP(#REF!,#REF!,5,0),IF(#REF!="EDIF",VLOOKUP(#REF!,#REF!,4,0),IF(#REF!="CDHU",VLOOKUP(#REF!,#REF!,6,0),IF(#REF!="FDE",VLOOKUP(#REF!,#REF!,4,0),IF(#REF!="INFRA",VLOOKUP(#REF!,#REF!,4,0),"")))))),"") | K37: =SUBTOTAL(9,K38:K39) -> 18225.342
B38: 2.5.1 | C38: FDE | D38: 02.05.018 | E38: =IFERROR(UPPER(IF(C38="CPU",VLOOKUP(D38,#REF!,2,0),IF(C38="SINAPI",VLOOKUP(D38,#REF!,2,0),IF(C38="EDIF",VLOOKUP(D38,#REF!,2,0),IF(C38="CDHU",VLOOKUP(D38,#REF!,2,0),IF(C38="FDE",VLOOKUP(D38,'FDE 10-23 '!$A$4:$E$3180,2,0),IF(C38="INFRA",VLOOKUP(D38,#REF!,2,0),""))))))),"") -> CONCRETO DOSADO E LANCADO FCK=25MPA | F38: =VLOOKUP(D38,'FDE 10-23 '!$A$4:$E$3180,3,0) -> M3 | G38: 20.5 | H38: =VLOOKUP(D38,'FDE 10-23 '!$A$4:$E$3180,5,0) -> 523.76 | I38: =$L$10 -> 0.23 | J38: =ROUND(H38*(1+I38),2) -> 644.22 | K38: =SUM(G38*J38) -> 13206.51
B39: 2.5.2 | C39: FDE | D39: 02.05.050 | E39: =IFERROR(UPPER(IF(C39="CPU",VLOOKUP(D39,#REF!,2,0),IF(C39="SINAPI",VLOOKUP(D39,#REF!,2,0),IF(C39="EDIF",VLOOKUP(D39,#REF!,2,0),IF(C39="CDHU",VLOOKUP(D39,#REF!,2,0),IF(C39="FDE",VLOOKUP(D39,'FDE 10-23 '!$A$4:$E$3180,2,0),IF(C39="INFRA",VLOOKUP(D39,#REF!,2,0),""))))))),"") -> CONCRETO GROUT, PREPARADO NO LOCAL, LANÇADO E ADENSADO | F39: =VLOOKUP(D39,'FDE 10-23 '!$A$4:$E$3180,3,0) -> M3 | G39: 8.4 | H39: =VLOOKUP(D39,'FDE 10-23 '!$A$4:$E$3180,5,0) -> 485.76 | I39: =$L$10 -> 0.23 | J39: =ROUND(H39*(1+I39),2) -> 597.48 | K39: =SUM(G39*J39) -> 5018.832
B40: 2.6 | D40: 02.06.000 | E40: EMBASAMENTO | H40: =IFERROR(IF(#REF!="CPU",VLOOKUP(#REF!,#REF!,4,0),IF(#REF!="SINAPI",VLOOKUP(#REF!,#REF!,5,0),IF(#REF!="EDIF",VLOOKUP(#REF!,#REF!,4,0),IF(#REF!="CDHU",VLOOKUP(#REF!,#REF!,6,0),IF(#REF!="FDE",VLOOKUP(#REF!,#REF!,4,0),IF(#REF!="INFRA",VLOOKUP(#REF!,#REF!,4,0),"")))))),"") | K40: =SUBTOTAL(9,K41) -> 24210.537
B41: 2.6.1 | C41: FDE | D41: 02.06.003 | E41: =IFERROR(UPPER(IF(C41="CPU",VLOOKUP(D41,#REF!,2,0),IF(C41="SINAPI",VLOOKUP(D41,#REF!,2,0),IF(C41="EDIF",VLOOKUP(D41,#REF!,2,0),IF(C41="CDHU",VLOOKUP(D41,#REF!,2,0),IF(C41="FDE",VLOOKUP(D41,'FDE 10-23 '!$A$4:$E$3180,2,0),IF(C41="INFRA",VLOOKUP(D41,#REF!,2,0),""))))))),"") -> ALVENARIA EMBASAMENTO TIJOLO BARRO MACIÇO E = 1 TIJOLO | F41: =VLOOKUP(D41,'FDE 10-23 '!$A$4:$E$3180,3,0) -> M2 | G41: 104.1 | H41: =VLOOKUP(D41,'FDE 10-23 '!$A$4:$E$3180,5,0) -> 189.08 | I41: =$L$10 -> 0.23 | J41: =ROUND(H41*(1+I41),2) -> 232.57 | K41: =SUM(G41*J41) -> 24210.537
B42: 2.7 | D42: 02.07.000 | E42: IMPERMEABILIZACOES | H42: =IFERROR(IF(#REF!="CPU",VLOOKUP(#REF!,#REF!,4,0),IF(#REF!="SINAPI",VLOOKUP(#REF!,#REF!,5,0),IF(#REF!="EDIF",VLOOKUP(#REF!,#REF!,4,0),IF(#REF!="CDHU",VLOOKUP(#REF!,#REF!,6,0),IF(#REF!="FDE",VLOOKUP(#REF!,#REF!,4,0),IF(#REF!="INFRA",VLOOKUP(#REF!,#REF!,4,0),"")))))),"") | K42: =SUBTOTAL(9,K43) -> 19891.152
B43: 2.7.1 | C43: FDE | D43: 02.07.001 | E43: =IFERROR(UPPER(IF(C43="CPU",VLOOKUP(D43,#REF!,2,0),IF(C43="SINAPI",VLOOKUP(D43,#REF!,2,0),IF(C43="EDIF",VLOOKUP(D43,#REF!,2,0),IF(C43="CDHU",VLOOKUP(D43,#REF!,2,0),IF(C43="FDE",VLOOKUP(D43,'FDE 10-23 '!$A$4:$E$3180,2,0),IF(C43="INFRA",VLOOKUP(D43,#REF!,2,0),""))))))),"") -> IMPERM RESP ALV EMBAS COM ARGAM CIM-AREIA 1:3 CONTENDO HIDROFUGO | F43: =VLOOKUP(D43,'FDE 10-23 '!$A$4:$E$3180,3,0) -> M2 | G43: 338.4 | H43: =VLOOKUP(D43,'FDE 10-23 '!$A$4:$E$3180,5,0) -> 47.79 | I43: =$L$10 -> 0.23 | J43: =ROUND(H43*(1+I43),2) -> 58.78 | K43: =SUM(G43*J43) -> 19891.152
...

Sheet ORÇAMENTO 
B1: PREFEITURA DE PORTO FERREIRA “A CAPITAL NACIONAL DA CERÂMICA ARTÍSTICA E DA DECORAÇÃO” SECRETARIA DE OBRAS E DESENVOLVIMENTO URBANO
B4: Objeto
B5: Endereço:
B6: Local e Data da Elaboração:
B7: Fonte:
B8: BDI:
B10: ITEM | C10: FONTE | D10: CÓD. | E10: REFORMA E REPAROS EM PONTES DO MUNICÍPIO | F10: UNID | G10: QUANT. | H10: P UNIT S/ BDI | I10: BDI | J10: P UNIT C/ BDI | K10: PREÇO TOTAL COM BDI | L10: 0.23
B11: 1 | D11: 01.00.000 | E11: SERVICOS PRELIMINARES | K11: =SUBTOTAL(9,K12:K17) -> 0
D12: 01.01.000 | E12: LIMPEZA DO TERRENO | K12: =SUBTOTAL(9,K13) -> 0
C13: FDE | D13: 01.01.001 | E13: =IFERROR(UPPER(IF(C13="CPU",VLOOKUP(D13,#REF!,2,0),IF(C13="SINAPI",VLOOKUP(D13,#REF!,2,0),IF(C13="EDIF",VLOOKUP(D13,#REF!,2,0),IF(C13="CDHU",VLOOKUP(D13,#REF!,2,0),IF(C13="FDE",VLOOKUP(D13,'FDE 10-23 '!$A$4:$E$3180,2,0),IF(C13="INFRA",VLOOKUP(D13,#REF!,2,0),""))))))),"") -> RETIRANDO A VEGETACAO, TRONCOS ATE 5CM DE DIAMETRO E RASPAGEM. | F13: =VLOOKUP(D13,'FDE 10-23 '!$A$4:$E$3180,3,0) -> M2 | H13: =VLOOKUP(D13,'FDE 10-23 '!$A$4:$E$3180,5,0) -> 3.07 | I13: =$L$10 -> 0.23 | J13: =ROUND(H13*(1+I13),2) -> 3.78 | K13: =SUM(G13*J13) -> 0
D14: 01.03.000 | E14: MOVIMENTO DE TERRA MECANIZADO | K14: =SUBTOTAL(9,K15:K17) -> 0
C15: FDE | D15: 01.03.001 | E15: =IFERROR(UPPER(IF(C15="CPU",VLOOKUP(D15,#REF!,2,0),IF(C15="SINAPI",VLOOKUP(D15,#REF!,2,0),IF(C15="EDIF",VLOOKUP(D15,#REF!,2,0),IF(C15="CDHU",VLOOKUP(D15,#REF!,2,0),IF(C15="FDE",VLOOKUP(D15,'FDE 10-23 '!$A$4:$E$3180,2,0),IF(C15="INFRA",VLOOKUP(D15,#REF!,2,0),""))))))),"") -> CORTE E ATERRO DENTRO DA OBRA COM TRANSPORTE INTERNO | F15: =VLOOKUP(D15,'FDE 10-23 '!$A$4:$E$3180,3,0) -> M3 | H15: =VLOOKUP(D15,'FDE 10-23 '!$A$4:$E$3180,5,0) -> 9.03 | I15: =$L$10 -> 0.23 | J15: =ROUND(H15*(1+I15),2) -> 11.11 | K15: =SUM(G15*J15) -> 0
C16: FDE | D16: 01.03.002 | E16: =IFERROR(UPPER(IF(C16="CPU",VLOOKUP(D16,#REF!,2,0),IF(C16="SINAPI",VLOOKUP(D16,#REF!,2,0),IF(C16="EDIF",VLOOKUP(D16,#REF!,2,0),IF(C16="CDHU",VLOOKUP(D16,#REF!,2,0),IF(C16="FDE",VLOOKUP(D16,'FDE 10-23 '!$A$4:$E$3180,2,0),IF(C16="INFRA",VLOOKUP(D16,#REF!,2,0),""))))))),"") -> CORTE COM RETIRADA POR CAMINHAO NOS PRIMEIROS 100 M | F16: =VLOOKUP(D16,'FDE 10-23 '!$A$4:$E$3180,3,0) -> M3 | H16: =VLOOKUP(D16,'FDE 10-23 '!$A$4:$E$3180,5,0) -> 25.05 | I16: =$L$10 -> 0.23 | J16: =ROUND(H16*(1+I16),2) -> 30.81 | K16: =SUM(G16*J16) -> 0
C17: FDE | D17: 01.03.005 | E17: =IFERROR(UPPER(IF(C17="CPU",VLOOKUP(D17,#REF!,2,0),IF(C17="SINAPI",VLOOKUP(D17,#REF!,2,0),IF(C17="EDIF",VLOOKUP(D17,#REF!,2,0),IF(C17="CDHU",VLOOKUP(D17,#REF!,2,0),IF(C17="FDE",VLOOKUP(D17,'FDE 10-23 '!$A$4:$E$3180,2,0),IF(C17="INFRA",VLOOKUP(D17,#REF!,2,0),""))))))),"") -> TRANSPORTE POR CAMINHAO M3X | F17: =VLOOKUP(D17,'FDE 10-23 '!$A$4:$E$3180,3,0) -> KM | H17: =VLOOKUP(D17,'FDE 10-23 '!$A$4:$E$3180,5,0) -> 2.69 | I17: =$L$10 -> 0.23 | J17: =ROUND(H17*(1+I17),2) -> 3.31 | K17: =SUM(G17*J17) -> 0
B18: 2 | D18: 02.00.000 | E18: INFRA ESTRUTURA | H18: =IFERROR(IF(#REF!="CPU",VLOOKUP(#REF!,#REF!,4,0),IF(#REF!="SINAPI",VLOOKUP(#REF!,#REF!,5,0),IF(#REF!="EDIF",VLOOKUP(#REF!,#REF!,4,0),IF(#REF!="CDHU",VLOOKUP(#REF!,#REF!,6,0),IF(#REF!="FDE",VLOOKUP(#REF!,#REF!,4,0),IF(#REF!="INFRA",VLOOKUP(#REF!,#REF!,4,0),"")))))),"") | K18: =SUBTOTAL(9,K19:K43) -> 97651.561
D19: 02.01.000 | E19: ESCAVACAO | H19: =IFERROR(IF(#REF!="CPU",VLOOKUP(#REF!,#REF!,4,0),IF(#REF!="SINAPI",VLOOKUP(#REF!,#REF!,5,0),IF(#REF!="EDIF",VLOOKUP(#REF!,#REF!,4,0),IF(#REF!="CDHU",VLOOKUP(#REF!,#REF!,6,0),IF(#REF!="FDE",VLOOKUP(#REF!,#REF!,4,0),IF(#REF!="INFRA",VLOOKUP(#REF!,#REF!,4,0),"")))))),"") | K19: =SUBTOTAL(9,K20:K24) -> 10948.634
C20: FDE | D20: 02.01.001 | E20: =IFERROR(UPPER(IF(C20="CPU",VLOOKUP(D20,#REF!,2,0),IF(C20="SINAPI",VLOOKUP(D20,#REF!,2,0),IF(C20="EDIF",VLOOKUP(D20,#REF!,2,0),IF(C20="CDHU",VLOOKUP(D20,#REF!,2,0),IF(C20="FDE",VLOOKUP(D20,'FDE 10-23 '!$A$4:$E$3180,2,0),IF(C20="INFRA",VLOOKUP(D20,#REF!,2,0),""))))))),"") -> ESCAVACAO MANUAL - PROFUNDIDADE ATE 1.80 M | F20: =VLOOKUP(D20,'FDE 10-23 '!$A$4:$E$3180,3,0) -> M3 | G20: 15 | H20: =VLOOKUP(D20,'FDE 10-23 '!$A$4:$E$3180,5,0) -> 61.58 | I20: =$L$10 -> 0.23 | J20: =ROUND(H20*(1+I20),2) -> 75.74 | K20: =SUM(G20*J20) -> 1136.1
C21: FDE | D21: 02.01.010 | E21: =IFERROR(UPPER(IF(C21="CPU",VLOOKUP(D21,#REF!,2,0),IF(C21="SINAPI",VLOOKUP(D21,#REF!,2,0),IF(C21="EDIF",VLOOKUP(D21,#REF!,2,0),IF(C21="CDHU",VLOOKUP(D21,#REF!,2,0),IF(C21="FDE",VLOOKUP(D21,'FDE 10-23 '!$A$4:$E$3180,2,0),IF(C21="INFRA",VLOOKUP(D21,#REF!,2,0),""))))))),"") -> APILOAMENTO PARA SIMPLES REGULARIZACAO | F21: =VLOOKUP(D21,'FDE 10-23 '!$A$4:$E$3180,3,0) -> M2 | G21: 20.6 | H21: =VLOOKUP(D21,'FDE 10-23 '!$A$4:$E$3180,5,0) -> 6.15 | I21: =$L$10 -> 0.23 | J21: =ROUND(H21*(1+I21),2) -> 7.56 | K21: =SUM(G21*J21) -> 155.736
C22: FDE | D22: 02.01.012 | E22: =IFERROR(UPPER(IF(C22="CPU",VLOOKUP(D22,#REF!,2,0),IF(C22="SINAPI",VLOOKUP(D22,#REF!,2,0),IF(C22="EDIF",VLOOKUP(D22,#REF!,2,0),IF(C22="CDHU",VLOOKUP(D22,#REF!,2,0),IF(C22="FDE",VLOOKUP(D22,'FDE 10-23 '!$A$4:$E$3180,2,0),IF(C22="INFRA",VLOOKUP(D22,#REF!,2,0),""))))))),"") -> LASTRO DE PEDRA BRITADA - 5CM | F22: =VLOOKUP(D22,'FDE 10-23 '!$A$4:$E$3180,3,0) -> M2 | G22: 20.6 | H22: =VLOOKUP(D22,'FDE 10-23 '!$A$4:$E$3180,5,0) -> 9.71 | I22: =$L$10 -> 0.23 | J22: =ROUND(H22*(1+I22),2) -> 11.94 | K22: =SUM(G22*J22) -> 245.964
C23: FDE | D23: 02.01.015 | E23: =IFERROR(UPPER(IF(C23="CPU",VLOOKUP(D23,#REF!,2,0),IF(C23="SINAPI",VLOOKUP(D23,#REF!,2,0),IF(C23="EDIF",VLOOKUP(D23,#REF!,2,0),IF(C23="CDHU",VLOOKUP(D23,#REF!,2,0),IF(C23="FDE",VLOOKUP(D23,'FDE 10-23 '!$A$4:$E$3180,2,0),IF(C23="INFRA",VLOOKUP(D23,#REF!,2,0),""))))))),"") -> LASTRO DE CONCRETO - 5 CM | F23: =VLOOKUP(D23,'FDE 10-23 '!$A$4:$E$3180,3,0) -> M2 | G23: 20.6 | H23: =VLOOKUP(D23,'FDE 10-23 '!$A$4:$E$3180,5,0) -> 33.81 | I23: =$L$10 -> 0.23 | J23: =ROUND(H23*(1+I23),2) -> 41.59 | K23: =SUM(G23*J23) -> 856.754
C24: FDE | D24: 02.01.025 | E24: =IFERROR(UPPER(IF(C24="CPU",VLOOKUP(D24,#REF!,2,0),IF(C24="SINAPI",VLOOKUP(D24,#REF!,2,0),IF(C24="EDIF",VLOOKUP(D24,#REF!,2,0),IF(C24="CDHU",VLOOKUP(D24,#REF!,2,0),IF(C24="FDE",VLOOKUP(D24,'FDE 10-23 '!$A$4:$E$3180,2,0),IF(C24="INFRA",VLOOKUP(D24,#REF!,2,0),""))))))),"") -> REATERRO INTERNO APILOADO | F24: =VLOOKUP(D24,'FDE 10-23 '!$A$4:$E$3180,3,0) -> M3 | G24: 150.6 | H24: =VLOOKUP(D24,'FDE 10-23 '!$A$4:$E$3180,5,0) -> 46.18 | I24: =$L$10 -> 0.23 | J24: =ROUND(H24*(1+I24),2) -> 56.8 | K24: =SUM(G24*J24) -> 8554.08
D25: 02.02.000 | E25: FUNDACAO PROFUNDA | H25: =IFERROR(IF(#REF!="CPU",VLOOKUP(#REF!,#REF!,4,0),IF(#REF!="SINAPI",VLOOKUP(#REF!,#REF!,5,0),IF(#REF!="EDIF",VLOOKUP(#REF!,#REF!,4,0),IF(#REF!="CDHU",VLOOKUP(#REF!,#REF!,6,0),IF(#REF!="FDE",VLOOKUP(#REF!,#REF!,4,0),IF(#REF!="INFRA",VLOOKUP(#REF!,#REF!,4,0),"")))))),"") | K25: =SUBTOTAL(9,K26:K31) -> 0
C26: FDE | D26: 02.02.021 | E26: =IFERROR(UPPER(IF(C26="CPU",VLOOKUP(D26,#REF!,2,0),IF(C26="SINAPI",VLOOKUP(D26,#REF!,2,0),IF(C26="EDIF",VLOOKUP(D26,#REF!,2,0),IF(C26="CDHU",VLOOKUP(D26,#REF!,2,0),IF(C26="FDE",VLOOKUP(D26,'FDE 10-23 '!$A$4:$E$3180,2,0),IF(C26="INFRA",VLOOKUP(D26,#REF!,2,0),""))))))),"") -> ACO CA-50 (A OU B) FYK = 500 MPA | F26: =VLOOKUP(D26,'FDE 10-23 '!$A$4:$E$3180,3,0) -> KG | H26: =VLOOKUP(D26,'FDE 10-23 '!$A$4:$E$3180,5,0) -> 12.18 | I26: =$L$10 -> 0.23 | J26: =ROUND(H26*(1+I26),2) -> 14.98 | K26: =SUM(G26*J26) -> 0
C27: FDE | D27: 02.02.026 | E27: =IFERROR(UPPER(IF(C27="CPU",VLOOKUP(D27,#REF!,2,0),IF(C27="SINAPI",VLOOKUP(D27,#REF!,2,0),IF(C27="EDIF",VLOOKUP(D27,#REF!,2,0),IF(C27="CDHU",VLOOKUP(D27,#REF!,2,0),IF(C27="FDE",VLOOKUP(D27,'FDE 10-23 '!$A$4:$E$3180,2,0),IF(C27="INFRA",VLOOKUP(D27,#REF!,2,0),""))))))),"") -> BROCA DE CONCRETO DE DIAMETRO 25CM - INCL ARRANQUES | F27: =VLOOKUP(D27,'FDE 10-23 '!$A$4:$E$3180,3,0) -> M | H27: =VLOOKUP(D27,'FDE 10-23 '!$A$4:$E$3180,5,0) -> 71.07 | I27: =$L$10 -> 0.23 | J27: =ROUND(H27*(1+I27),2) -> 87.42 | K27: =SUM(G27*J27) -> 0
C28: FDE | D28: 02.02.070 | E28: =IFERROR(UPPER(IF(C28="CPU",VLOOKUP(D28,#REF!,2,0),IF(C28="SINAPI",VLOOKUP(D28,#REF!,2,0),IF(C28="EDIF",VLOOKUP(D28,#REF!,2,0),IF(C28="CDHU",VLOOKUP(D28,#REF!,2,0),IF(C28="FDE",VLOOKUP(D28,'FDE 10-23 '!$A$4:$E$3180,2,0),IF(C28="INFRA",VLOOKUP(D28,#REF!,2,0),""))))))),"") -> ESTACA TIPO HELICE DN 25CM | F28: =VLOOKUP(D28,'FDE 10-23 '!$A$4:$E$3180,3,0) -> M | H28: =VLOOKUP(D28,'FDE 10-23 '!$A$4:$E$3180,5,0) -> 62.61 | I28: =$L$10 -> 0.23 | J28: =ROUND(H28*(1+I28),2) -> 77.01 | K28: =SUM(G28*J28) -> 0
C29: FDE | D29: 02.02.071 | E29: =IFERROR(UPPER(IF(C29="CPU",VLOOKUP(D29,#REF!,2,0),IF(C29="SINAPI",VLOOKUP(D29,#REF!,2,0),IF(C29="EDIF",VLOOKUP(D29,#REF!,2,0),IF(C29="CDHU",VLOOKUP(D29,#REF!,2,0),IF(C29="FDE",VLOOKUP(D29,'FDE 10-23 '!$A$4:$E$3180,2,0),IF(C29="INFRA",VLOOKUP(D29,#REF!,2,0),""))))))),"") -> ESTACA TIPO HELICE DN 30CM | F29: =VLOOKUP(D29,'FDE 10-23 '!$A$4:$E$3180,3,0) -> M | H29: =VLOOKUP(D29,'FDE 10-23 '!$A$4:$E$3180,5,0) -> 80.69 | I29: =$L$10 -> 0.23 | J29: =ROUND(H29*(1+I29),2) -> 99.25 | K29: =SUM(G29*J29) -> 0
C30: FDE | D30: 02.02.072 | E30: =IFERROR(UPPER(IF(C30="CPU",VLOOKUP(D30,#REF!,2,0),IF(C30="SINAPI",VLOOKUP(D30,#REF!,2,0),IF(C30="EDIF",VLOOKUP(D30,#REF!,2,0),IF(C30="CDHU",VLOOKUP(D30,#REF!,2,0),IF(C30="FDE",VLOOKUP(D30,'FDE 10-23 '!$A$4:$E$3180,2,0),IF(C30="INFRA",VLOOKUP(D30,#REF!,2,0),""))))))),"") -> ESTACA TIPO HELICE DN 35CM | F30: =VLOOKUP(D30,'FDE 10-23 '!$A$4:$E$3180,3,0) -> M | H30: =VLOOKUP(D30,'FDE 10-23 '!$A$4:$E$3180,5,0) -> 101.64 | I30: =$L$10 -> 0.23 | J30: =ROUND(H30*(1+I30),2) -> 125.02 | K30: =SUM(G30*J30) -> 0
C31: FDE | D31: 02.02.085 | E31: =IFERROR(UPPER(IF(C31="CPU",VLOOKUP(D31,#REF!,2,0),IF(C31="SINAPI",VLOOKUP(D31,#REF!,2,0),IF(C31="EDIF",VLOOKUP(D31,#REF!,2,0),IF(C31="CDHU",VLOOKUP(D31,#REF!,2,0),IF(C31="FDE",VLOOKUP(D31,'FDE 10-23 '!$A$4:$E$3180,2,0),IF(C31="INFRA",VLOOKUP(D31,#REF!,2,0),""))))))),"") -> TRANSPORTE E ATERRO INTERNO DE MATERIAL ESCAVADO DE FUNDAÇÃO-ESTACA-TUBULÃO | F31: =VLOOKUP(D31,'FDE 10-23 '!$A$4:$E$3180,3,0) -> M3 | H31: =VLOOKUP(D31,'FDE 10-23 '!$A$4:$E$3180,5,0) -> 56.96 | I31: =$L$10 -> 0.23 | J31: =ROUND(H31*(1+I31),2) -> 70.06 | K31: =SUM(G31*J31) -> 0
D32: 02.03.000 | E32: FORMA | H32: =IFERROR(IF(#REF!="CPU",VLOOKUP(#REF!,#REF!,4,0),IF(#REF!="SINAPI",VLOOKUP(#REF!,#REF!,5,0),IF(#REF!="EDIF",VLOOKUP(#REF!,#REF!,4,0),IF(#REF!="CDHU",VLOOKUP(#REF!,#REF!,6,0),IF(#REF!="FDE",VLOOKUP(#REF!,#REF!,4,0),IF(#REF!="INFRA",VLOOKUP(#REF!,#REF!,4,0),"")))))),"") | K32: =SUBTOTAL(9,K33) -> 15146.088
C33: FDE | D33: 02.03.001 | E33: =IFERROR(UPPER(IF(C33="CPU",VLOOKUP(D33,#REF!,2,0),IF(C33="SINAPI",VLOOKUP(D33,#REF!,2,0),IF(C33="EDIF",VLOOKUP(D33,#REF!,2,0),IF(C33="CDHU",VLOOKUP(D33,#REF!,2,0),IF(C33="FDE",VLOOKUP(D33,'FDE 10-23 '!$A$4:$E$3180,2,0),IF(C33="INFRA",VLOOKUP(D33,#REF!,2,0),""))))))),"") -> FORMA DE MADEIRA MACICA | F33: =VLOOKUP(D33,'FDE 10-23 '!$A$4:$E$3180,3,0) -> M2 | G33: 163.6 | H33: =VLOOKUP(D33,'FDE 10-23 '!$A$4:$E$3180,5,0) -> 75.27 | I33: =$L$10 -> 0.23 | J33: =ROUND(H33*(1+I33),2) -> 92.58 | K33: =SUM(G33*J33) -> 15146.088
D34: 02.04.000 | E34: ARMADURA | H34: =IFERROR(IF(#REF!="CPU",VLOOKUP(#REF!,#REF!,4,0),IF(#REF!="SINAPI",VLOOKUP(#REF!,#REF!,5,0),IF(#REF!="EDIF",VLOOKUP(#REF!,#REF!,4,0),IF(#REF!="CDHU",VLOOKUP(#REF!,#REF!,6,0),IF(#REF!="FDE",VLOOKUP(#REF!,#REF!,4,0),IF(#REF!="INFRA",VLOOKUP(#REF!,#REF!,4,0),"")))))),"") | K34: =SUBTOTAL(9,K35:K36) -> 9229.808
C35: FDE | D35: 02.04.002 | E35: =IFERROR(UPPER(IF(C35="CPU",VLOOKUP(D35,#REF!,2,0),IF(C35="SINAPI",VLOOKUP(D35,#REF!,2,0),IF(C35="EDIF",VLOOKUP(D35,#REF!,2,0),IF(C35="CDHU",VLOOKUP(D35,#REF!,2,0),IF(C35="FDE",VLOOKUP(D35,'FDE 10-23 '!$A$4:$E$3180,2,0),IF(C35="INFRA",VLOOKUP(D35,#REF!,2,0),""))))))),"") -> ACO CA 50 (A OU B) FYK= 500 M PA | F35: =VLOOKUP(D35,'FDE 10-23 '!$A$4:$E$3180,3,0) -> KG | G35: 520.1 | H35: =VLOOKUP(D35,'FDE 10-23 '!$A$4:$E$3180,5,0) -> 12.18 | I35: =$L$10 -> 0.23 | J35: =ROUND(H35*(1+I35),2) -> 14.98 | K35: =SUM(G35*J35) -> 7791.098
C36: FDE | D36: 02.04.003 | E36: =IFERROR(UPPER(IF(C36="CPU",VLOOKUP(D36,#REF!,2,0),IF(C36="SINAPI",VLOOKUP(D36,#REF!,2,0),IF(C36="EDIF",VLOOKUP(D36,#REF!,2,0),IF(C36="CDHU",VLOOKUP(D36,#REF!,2,0),IF(C36="FDE",VLOOKUP(D36,'FDE 10-23 '!$A$4:$E$3180,2,0),IF(C36="INFRA",VLOOKUP(D36,#REF!,2,0),""))))))),"") -> ACO CA 60 (A OU B) FYK= 600 M PA | F36: =VLOOKUP(D36,'FDE 10-23 '!$A$4:$E$3180,3,0) -> KG | G36: 93 | H36: =VLOOKUP(D36,'FDE 10-23 '!$A$4:$E$3180,5,0) -> 12.58 | I36: =$L$10 -> 0.23 | J36: =ROUND(H36*(1+I36),2) -> 15.47 | K36: =SUM(G36*J36) -> 1438.71
D37: 02.05.000 | E37: CONCRETO | H37: =IFERROR(IF(#REF!="CPU",VLOOKUP(#REF!,#REF!,4,0),IF(#REF!="SINAPI",VLOOKUP(#REF!,#REF!,5,0),IF(#REF!="EDIF",VLOOKUP(#REF!,#REF!,4,0),IF(#REF!="CDHU",VLOOKUP(#REF!,#REF!,6,0),IF(#REF!="FDE",VLOOKUP(#REF!,#REF!,4,0),IF(#REF!="INFRA",VLOOKUP(#REF!,#REF!,4,0),"")))))),"") | K37: =SUBTOTAL(9,K38:K39) -> 18225.342
C38: FDE | D38: 02.05.018 | E38: =IFERROR(UPPER(IF(C38="CPU",VLOOKUP(D38,#REF!,2,0),IF(C38="SINAPI",VLOOKUP(D38,#REF!,2,0),IF(C38="EDIF",VLOOKUP(D38,#REF!,2,0),IF(C38="CDHU",VLOOKUP(D38,#REF!,2,0),IF(C38="FDE",VLOOKUP(D38,'FDE 10-23 '!$A$4:$E$3180,2,0),IF(C38="INFRA",VLOOKUP(D38,#REF!,2,0),""))))))),"") -> CONCRETO DOSADO E LANCADO FCK=25MPA | F38: =VLOOKUP(D38,'FDE 10-23 '!$A$4:$E$3180,3,0) -> M3 | G38: 20.5 | H38: =VLOOKUP(D38,'FDE 10-23 '!$A$4:$E$3180,5,0) -> 523.76 | I38: =$L$10 -> 0.23 | J38: =ROUND(H38*(1+I38),2) -> 644.22 | K38: =SUM(G38*J38) -> 13206.51
C39: FDE | D39: 02.05.050 | E39: =IFERROR(UPPER(IF(C39="CPU",VLOOKUP(D39,#REF!,2,0),IF(C39="SINAPI",VLOOKUP(D39,#REF!,2,0),IF(C39="EDIF",VLOOKUP(D39,#REF!,2,0),IF(C39="CDHU",VLOOKUP(D39,#REF!,2,0),IF(C39="FDE",VLOOKUP(D39,'FDE 10-23 '!$A$4:$E$3180,2,0),IF(C39="INFRA",VLOOKUP(D39,#REF!,2,0),""))))))),"") -> CONCRETO GROUT, PREPARADO NO LOCAL, LANÇADO E ADENSADO | F39: =VLOOKUP(D39,'FDE 10-23 '!$A$4:$E$3180,3,0) -> M3 | G39: 8.4 | H39: =VLOOKUP(D39,'FDE 10-23 '!$A$4:$E$3180,5,0) -> 485.76 | I39: =$L$10 -> 0.23 | J39: =ROUND(H39*(1+I39),2) -> 597.48 | K39: =SUM(G39*J39) -> 5018.832
D40: 02.06.000 | E40: EMBASAMENTO | H40: =IFERROR(IF(#REF!="CPU",VLOOKUP(#REF!,#REF!,4,0),IF(#REF!="SINAPI",VLOOKUP(#REF!,#REF!,5,0),IF(#REF!="EDIF",VLOOKUP(#REF!,#REF!,4,0),IF(#REF!="CDHU",VLOOKUP(#REF!,#REF!,6,0),IF(#REF!="FDE",VLOOKUP(#REF!,#REF!,4,0),IF(#REF!="INFRA",VLOOKUP(#REF!,#REF!,4,0),"")))))),"") | K40: =SUBTOTAL(9,K41) -> 24210.537
C41: FDE | D41: 02.06.003 | E41: =IFERROR(UPPER(IF(C41="CPU",VLOOKUP(D41,#REF!,2,0),IF(C41="SINAPI",VLOOKUP(D41,#REF!,2,0),IF(C41="EDIF",VLOOKUP(D41,#REF!,2,0),IF(C41="CDHU",VLOOKUP(D41,#REF!,2,0),IF(C41="FDE",VLOOKUP(D41,'FDE 10-23 '!$A$4:$E$3180,2,0),IF(C41="INFRA",VLOOKUP(D41,#REF!,2,0),""))))))),"") -> ALVENARIA EMBASAMENTO TIJOLO BARRO MACIÇO E = 1 TIJOLO | F41: =VLOOKUP(D41,'FDE 10-23 '!$A$4:$E$3180,3,0) -> M2 | G41: 104.1 | H41: =VLOOKUP(D41,'FDE 10-23 '!$A$4:$E$3180,5,0) -> 189.08 | I41: =$L$10 -> 0.23 | J41: =ROUND(H41*(1+I41),2) -> 232.57 | K41: =SUM(G41*J41) -> 24210.537
D42: 02.07.000 | E42: IMPERMEABILIZACOES | H42: =IFERROR(IF(#REF!="CPU",VLOOKUP(#REF!,#REF!,4,0),IF(#REF!="SINAPI",VLOOKUP(#REF!,#REF!,5,0),IF(#REF!="EDIF",VLOOKUP(#REF!,#REF!,4,0),IF(#REF!="CDHU",VLOOKUP(#REF!,#REF!,6,0),IF(#REF!="FDE",VLOOKUP(#REF!,#REF!,4,0),IF(#REF!="INFRA",VLOOKUP(#REF!,#REF!,4,0),"")))))),"") | K42: =SUBTOTAL(9,K43) -> 19891.152
C43: FDE | D43: 02.07.001 | E43: =IFERROR(UPPER(IF(C43="CPU",VLOOKUP(D43,#REF!,2,0),IF(C43="SINAPI",VLOOKUP(D43,#REF!,2,0),IF(C43="EDIF",VLOOKUP(D43,#REF!,2,0),IF(C43="CDHU",VLOOKUP(D43,#REF!,2,0),IF(C43="FDE",VLOOKUP(D43,'FDE 10-23 '!$A$4:$E$3180,2,0),IF(C43="INFRA",VLOOKUP(D43,#REF!,2,0),""))))))),"") -> IMPERM RESP ALV EMBAS COM ARGAM CIM-AREIA 1:3 CONTENDO HIDROFUGO | F43: =VLOOKUP(D43,'FDE 10-23 '!$A$4:$E$3180,3,0) -> M2 | G43: 338.4 | H43: =VLOOKUP(D43,'FDE 10-23 '!$A$4:$E$3180,5,0) -> 47.79 | I43: =$L$10 -> 0.23 | J43: =ROUND(H43*(1+I43),2) -> 58.78 | K43: =SUM(G43*J43) -> 19891.152
...

Sheet CRONOGRAMA
B3: PREFEITURA DE PORTO FERREIRA “A CAPITAL NACIONAL DA CERÂMICA ARTÍSTICA E DA DECORAÇÃO” SECRETARIA DE OBRAS E DESENVOLVIMENTO URBANO
B6: OBJETO: | C6: ='ORÇ Atualizado'!D4 -> REMANESCENTE DE OBRA PARA CONSTRUÇÃO DA ESCOLA ESTADUAL DO PARQUE RESIDENCIAL PORTO BELO
B7: LOCAIS: | C7: ='ORÇ Atualizado'!D5 -> RUA JOSÉ GOMES, PARQUE RESIDENCIAL PORTO BELO
B8: BDI | C8: ='ORÇ Atualizado'!D8 -> 0.23
A11: CRONOGRAMA FÍSICO - FINANCEIRO
A13: ITEM | B13: DESCRIÇÃO DOS SERVIÇOS | C13: % | D13: CUSTO TOTAL | E13: Mês 1 | H13: Mês 2 | K13: Mês 3 | N13: Mês 4 | Q13: Mês 5 | T13: Mês 6 | W13: Mês 7 | Z13: Mês 8 | AC13: Mês 9 | AF13: Mês 10 | AI13: TOTAL
A16: 1 | B16: =VLOOKUP(A16,'ORÇ Atualizado'!$B$10:$K$531,4,1) -> SERVICOS PRELIMINARES | C16: =D16/$D$54 -> 0 | D16: =VLOOKUP(A16,'ORÇ ATUAL MEMÓRIA'!$B$11:$K$534,10,1) -> 0 | AJ16: =AI16-D16 -> 0
A18: 2 | B18: =VLOOKUP(A18,'ORÇ Atualizado'!B12:K533,4,1) -> INFRA ESTRUTURA | C18: =D18/$D$54 -> 0.0098565052 | D18: =VLOOKUP(A18,'ORÇ ATUAL MEMÓRIA'!$B$11:$K$531,10,1) -> 103250.34 | E18: =D18*0.4 -> 41300.137 | G18: =E18/$D18 -> 0.4 | H18: =$D18*0.6 -> 61950.206 | J18: =H18/$D18 -> 0.6 | M18: =K18/$D18 -> 0 | P18: =N18/$D18 -> 0 | S18: =Q18/$D18 -> 0 | V18: =T18/$D18 -> 0 | Y18: =W18/$D18 -> 0 | AB18: =Z18/$D18 -> 0 | AE18: =AC18/$D18 -> 0 | AH18: =AF18/$D18 -> 0 | AI18: =E18+H18+K18+N18+Q18+T18+W18+Z18+AC18+AF18 -> 103250.34 | AJ18: =AI18-D18 -> 0
AI19: =G18+J18+M18+P18+S18+AH18+V18+Y18+AB18+AE18 -> 1
A20: 3 | B20: =VLOOKUP(A20,'ORÇ Atualizado'!B14:K535,4,1) -> SUPER ESTRUTURA | C20: =D20/$D$54 -> 0.32683853 | D20: =VLOOKUP(A20,'ORÇ ATUAL MEMÓRIA'!$B$11:$K$531,10,1) -> 3423748 | G20: =E20/$D20 -> 0 | H20: =D20*0.1 -> 342374.8 | J20: =H20/$D20 -> 0.1 | K20: =D20*0.5 -> 1711874 | M20: =K20/$D20 -> 0.5 | N20: =D20*0.4 -> 1369499.2 | P20: =N20/$D20 -> 0.4 | S20: =Q20/$D20 -> 0 | V20: =T20/$D20 -> 0 | Y20: =W20/$D20 -> 0 | AB20: =Z20/$D20 -> 0 | AE20: =AC20/$D20 -> 0 | AH20: =AF20/$D20 -> 0 | AI20: =E20+H20+K20+N20+Q20+T20+W20+Z20+AC20+AF20 -> 3423748 | AJ20: =AI20-D20 -> 0
AI21: =G20+J20+M20+P20+S20+AH20+V20+Y20+AB20+AE20 -> 1
A22: 4 | B22: =VLOOKUP(A22,'ORÇ Atualizado'!B16:K537,4,1) -> ALVENARIA E OUTROS ELEMENTOS DIVISÓRIAS | C22: =D22/$D$54 -> 0.027634942 | D22: =VLOOKUP(A22,'ORÇ ATUAL MEMÓRIA'!$B$11:$K$531,10,1) -> 289485.69 | G22: =E22/$D22 -> 0 | J22: =H22/$D22 -> 0 | M22: =K22/$D22 -> 0 | P22: =N22/$D22 -> 0 | Q22: =$D22*0.15 -> 43422.854 | S22: =Q22/$D22 -> 0.15 | T22: =$D22*0.45 -> 130268.56 | V22: =T22/$D22 -> 0.45 | W22: =$D22*0.4 -> 115794.28 | Y22: =W22/$D22 -> 0.4 | AB22: =Z22/$D22 -> 0 | AE22: =AC22/$D22 -> 0 | AH22: =AF22/$D22 -> 0 | AI22: =E22+H22+K22+N22+Q22+T22+W22+Z22+AC22+AF22 -> 289485.69 | AJ22: =AI22-D22 -> 0
AI23: =G22+J22+M22+P22+S22+AH22+V22+Y22+AB22+AE22 -> 1
A24: 5 | B24: =VLOOKUP(A24,'ORÇ Atualizado'!B18:K539,4,1) -> ELEMENTOS DE MADEIRA/COMPONENTES ESPECIAIS | C24: =D24/$D$54 -> 0.022640886 | D24: =VLOOKUP(A24,'ORÇ ATUAL MEMÓRIA'!$B$11:$K$531,10,1) -> 237171.21 | G24: =E24/$D24 -> 0 | J24: =H24/$D24 -> 0 | M24: =K24/$D24 -> 0 | P24: =N24/$D24 -> 0 | S24: =Q24/$D24 -> 0 | V24: =T24/$D24 -> 0 | W24: =$D24*0.15 -> 35575.682 | Y24: =W24/$D24 -> 0.15 | Z24: =$D24*0.45 -> 106727.05 | AB24: =Z24/$D24 -> 0.45 | AC24: =$D24*0.4 -> 94868.485 | AE24: =AC24/$D24 -> 0.4 | AH24: =AF24/$D24 -> 0 | AI24: =E24+H24+K24+N24+Q24+T24+W24+Z24+AC24+AF24 -> 237171.21 | AJ24: =AI24-D24 -> 0
AI25: =G24+J24+M24+P24+S24+AH24+V24+Y24+AB24+AE24 -> 1
A26: 6 | B26: =VLOOKUP(A26,'ORÇ Atualizado'!B20:K541,4,1) -> ELEMENTOS METALICOS/COMPONENTES ESPECIAIS | C26: =D26/$D$54 -> 0.11823876 | D26: =VLOOKUP(A26,'ORÇ ATUAL MEMÓRIA'!$B$11:$K$531,10,1) -> 1238592.4 | G26: =E26/$D26 -> 0 | J26: =H26/$D26 -> 0 | M26: =K26/$D26 -> 0 | P26: =N26/$D26 -> 0 | S26: =Q26/$D26 -> 0 | V26: =T26/$D26 -> 0 | W26: =$D26*0.15 -> 185788.87 | Y26: =W26/$D26 -> 0.15 | Z26: =$D26*0.45 -> 557366.6 | AB26: =Z26/$D26 -> 0.45 | AC26: =$D26*0.4 -> 495436.98 | AE26: =AC26/$D26 -> 0.4 | AH26: =AF26/$D26 -> 0 | AI26: =E26+H26+K26+N26+Q26+T26+W26+Z26+AC26+AF26 -> 1238592.4 | AJ26: =AI26-D26 -> 0
AI27: =G26+J26+M26+P26+S26+AH26+V26+Y26+AB26+AE26 -> 1
A28: 7 | B28: =VLOOKUP(A28,'ORÇ Atualizado'!B22:K543,4,1) -> COBERTURA | C28: =D28/$D$54 -> 0.13593976 | D28: =VLOOKUP(A28,'ORÇ ATUAL MEMÓRIA'!$B$11:$K$531,10,1) -> 1424016.5 | G28: =E28/$D28 -> 0 | J28: =H28/$D28 -> 0 | M28: =K28/$D28 -> 0 | N28: =D28*0.2 -> 284803.31 | P28: =N28/$D28 -> 0.2 | Q28: =D28*0.5 -> 712008.27 | S28: =Q28/$D28 -> 0.5 | T28: =D28*0.3 -> 427204.96 | V28: =T28/$D28 -> 0.3 | Y28: =W28/$D28 -> 0 | AB28: =Z28/$D28 -> 0 | AE28: =AC28/$D28 -> 0 | AH28: =AF28/$D28 -> 0 | AI28: =E28+H28+K28+N28+Q28+T28+W28+Z28+AC28+AF28 -> 1424016.5 | AJ28: =AI28-D28 -> 0
AI29: =G28+J28+M28+P28+S28+AH28+V28+Y28+AB28+AE28 -> 1
A30: 8 | B30: =VLOOKUP(A30,'ORÇ Atualizado'!B24:K545,4,1) -> INSTALAÇÕES HIDRAULICAS | C30: =D30/$D$54 -> 0.096716205 | D30: =VLOOKUP(A30,'ORÇ ATUAL MEMÓRIA'!$B$11:$K$531,10,1) -> 1013136.1 | G30: =E30/$D30 -> 0 | J30: =H30/$D30 -> 0 | M30: =K30/$D30 -> 0 | P30: =N30/$D30 -> 0 | S30: =Q30/$D30 -> 0 | T30: =$D30*0.15 -> 151970.42 | V30: =T30/$D30 -> 0.15 | W30: =$D30*0.25 -> 253284.03 | Y30: =W30/$D30 -> 0.25 | Z30: =$D30*0.3 -> 303940.83 | AB30: =Z30/$D30 -> 0.3 | AC30: =$D30*0.2 -> 202627.22 | AE30: =AC30/$D30 -> 0.2 | AF30: =$D30*0.1 -> 101313.61 | AH30: =AF30/$D30 -> 0.1 | AI30: =E30+H30+K30+N30+Q30+T30+W30+Z30+AC30+AF30 -> 1013136.1 | AJ30: =AI30-D30 -> 0
AI31: =G30+J30+M30+P30+S30+AH30+V30+Y30+AB30+AE30 -> 1
A32: 9 | B32: =VLOOKUP(A32,'ORÇ Atualizado'!B26:K547,4,1) -> INSTALACOES ELETRICAS | C32: =D32/$D$54 -> 0.057851929 | D32: =VLOOKUP(A32,'ORÇ ATUAL MEMÓRIA'!$B$11:$K$531,10,1) -> 606019.21 | G32: =E32/$D32 -> 0 | J32: =H32/$D32 -> 0 | M32: =K32/$D32 -> 0 | P32: =N32/$D32 -> 0 | S32: =Q32/$D32 -> 0 | T32: =$D32*0.15 -> 90902.882 | V32: =T32/$D32 -> 0.15 | W32: =$D32*0.25 -> 151504.8 | Y32: =W32/$D32 -> 0.25 | Z32: =$D32*0.3 -> 181805.76 | AB32: =Z32/$D32 -> 0.3 | AC32: =$D32*0.2 -> 121203.84 | AE32: =AC32/$D32 -> 0.2 | AF32: =$D32*0.1 -> 60601.921 | AH32: =AF32/$D32 -> 0.1 | AI32: =E32+H32+K32+N32+Q32+T32+W32+Z32+AC32+AF32 -> 606019.21 | AJ32: =AI32-D32 -> 0
AI33: =G32+J32+M32+P32+S32+AH32+V32+Y32+AB32+AE32 -> 1
A34: 10 | B34: =VLOOKUP(A34,'ORÇ Atualizado'!B28:K549,4,1) -> FORRO | C34: =D34/$D$54 -> 0.014026003 | D34: =VLOOKUP(A34,'ORÇ ATUAL MEMÓRIA'!$B$11:$K$531,10,1) -> 146927.29 | G34: =E34/$D34 -> 0 | J34: =H34/$D34 -> 0 | M34: =K34/$D34 -> 0 | P34: =N34/$D34 -> 0 | S34: =Q34/$D34 -> 0 | V34: =T34/$D34 -> 0 | W34: =$D34*0.4 -> 58770.915 | Y34: =W34/$D34 -> 0.4 | Z34: =$D34*0.6 -> 88156.373 | AB34: =Z34/$D34 -> 0.6 | AE34: =AC34/$D34 -> 0 | AH34: =AF34/$D34 -> 0 | AI34: =E34+H34+K34+N34+Q34+T34+W34+Z34+AC34+AF34 -> 146927.29 | AJ34: =AI34-D34 -> 0
AI35: =G34+J34+M34+P34+S34+AH34+V34+Y34+AB34+AE34 -> 1
A36: 11 | B36: =VLOOKUP(A36,'ORÇ Atualizado'!B30:K551,4,1) -> IMPERMEABILIZACOES / JUNTAS DE DILATACAO | C36: =D36/$D$54 -> 0.0029528193 | D36: =VLOOKUP(A36,'ORÇ ATUAL MEMÓRIA'!$B$11:$K$531,10,1) -> 30931.816 | G36: =E36/$D36 -> 0 | J36: =H36/$D36 -> 0 | M36: =K36/$D36 -> 0 | P36: =N36/$D36 -> 0 | S36: =Q36/$D36 -> 0 | V36: =T36/$D36 -> 0 | W36: =$D36*0.7 -> 21652.271 | Y36: =W36/$D36 -> 0.7 | Z36: =$D36*0.3 -> 9279.5447 | AB36: =Z36/$D36 -> 0.3 | AE36: =AC36/$D36 -> 0 | AH36: =AF36/$D36 -> 0 | AI36: =E36+H36+K36+N36+Q36+T36+W36+Z36+AC36+AF36 -> 30931.816 | AJ36: =AI36-D36 -> 0
AI37: =G36+J36+M36+P36+S36+AH36+V36+Y36+AB36+AE36 -> 1
A38: 12 | B38: =VLOOKUP(A38,'ORÇ Atualizado'!B32:K553,4,1) -> REVESTIMENTOS: TETO E PAREDE | C38: =D38/$D$54 -> 0.018526016 | D38: =VLOOKUP(A38,'ORÇ ATUAL MEMÓRIA'!$B$11:$K$531,10,1) -> 194066.5 | G38: =E38/$D38 -> 0 | J38: =H38/$D38 -> 0 | M38: =K38/$D38 -> 0 | P38: =N38/$D38 -> 0 | S38: =Q38/$D38 -> 0 | T38: =$D38*0.15 -> 29109.975 | V38: =T38/$D38 -> 0.15 | W38: =$D38*0.45 -> 87329.926 | Y38: =W38/$D38 -> 0.45 | Z38: =$D38*0.4 -> 77626.601 | AB38: =Z38/$D38 -> 0.4 | AE38: =AC38/$D38 -> 0 | AH38: =AF38/$D38 -> 0 | AI38: =E38+H38+K38+N38+Q38+T38+W38+Z38+AC38+AF38 -> 194066.5 | AJ38: =AI38-D38 -> 0
AI39: =G38+J38+M38+P38+S38+AH38+V38+Y38+AB38+AE38 -> 1
