Workbook
Name CONCATENAR: CONCATENATE(#REF!," ",#REF!)
Name EMPRESAS: OFFSET([1]Cotações!$B$25,1,0):OFFSET([1]Cotações!$H$41,-1,0)
Name INDICES: OFFSET([1]Cotações!$B$20,1,0):OFFSET([1]Cotações!$I$24,-1,0)
Name NCOMPOSICOES: 15
Name NCOTACOES: 15
Name NEMPRESAS: 15
Name NINDICES: 3
Name NRELATORIOS: COUNTA([1]Relatórios!$A:$A)-2
Name NumerEmpresa: 15
Name NumerIndice: 3
Name Objeto: "Referência"
Name RelatoriosFontes: OFFSET([1]Relatórios!$A$5,1,0,NRELATORIOS)
Name RelatoriosFontes: OFFSET([1]Relatórios!$A$5,1,0,NRELATORIOS)
Name RelatoriosFontes: OFFSET([1]Relatórios!$A$5,1,0,NRELATORIOS)

Sheet CRONOGRAMA_Av
B1: MUNICIPIO DE IGUAPE
B2: ESTANCIA BALNEÁRIA
C3: OBRA: Serviço de instalação de pontos de ônibus
C5: LOCAL: Avenida Júlio Franco e Rua Itapema - ROCIO
C6: PLANILHA FÍSICO-FINANCEIRA | J6: =TODAY() -> 46140
B7: Item | C7: Descrição | D7: MESES | J7: Valor do Item | K7: Participação
D8: 1 | E8: 2 | F8: 3 | G8: 4 | H8: 5 | I8: 6
D9: 30 dias | E9: 60 dias | F9: 90 dias | G9: 120 dias | H9: 150 dias | I9: 180 dias
B10: 1 | C10: PONTO DE ÔNIBUS - AVENIDA JULIO FRANCO | D10: 0.5 | E10: 0.5 | F10: 0 | G10: 0 | H10: 0 | I10: 0 | J10: 31102.28 | K10: =IF($J$14=0,0,J10/$J$14) -> 0.5 | L10: =SUM(D10:E10) -> 1
D11: =$J$10*D10 -> 15551.14 | E11: =$J$10*E10 -> 15551.14 | F11: =$J$10*F10 -> 0 | G11: =$J$10*G10 -> 0 | H11: =$J$10*H10 -> 0 | I11: =$J$10*I10 -> 0
B12: 2 | C12: PONTO DE ÔNIBUS - RUA ITAPEMA | D12: 0 | E12: 0 | F12: 0.5 | G12: 0.5 | H12: 0 | I12: 0 | J12: 31102.28 | K12: =IF($J$14=0,0,J12/$J$14) -> 0.5 | L12: =SUM(D12:E12) -> 0
D13: =$J$12*D12 -> 0 | E13: =$J$12*E12 -> 0 | F13: =$J$12*F12 -> 15551.14 | G13: =$J$12*G12 -> 15551.14 | H13: =$J$12*H12 -> 0 | I13: =$J$12*I12 -> 0
C14: Total Mensal | D14: =SUM(D11+D13) -> 15551.14 | E14: =SUM(E11+E13) -> 15551.14 | F14: =SUM(F11+F13) -> 15551.14 | G14: =SUM(G11+G13) -> 15551.14 | H14: =SUM(H11+H13) -> 0 | I14: =SUM(I11+I13) -> 0 | J14: =SUM(J10:J13) -> 62204.56 | K14: =IF($J$14=0,0,J14/$J$14) -> 1
C15: Total Acumulado | D15: =D14 -> 15551.14 | E15: =E14+D15 -> 31102.28 | F15: =F14+E15 -> 46653.42 | G15: =G14+F15 -> 62204.56 | H15: =H14+G15 -> 62204.56 | I15: =I14+H15 -> 62204.56
C16: Percentual Mensal | D16: =IF($J$14=0,0,SUM((D14/$J$14))) -> 0.25 | E16: =IF($J$14=0,0,SUM((E14/$J$14))) -> 0.25 | F16: =IF($J$14=0,0,SUM((F14/$J$14))) -> 0.25 | G16: =IF($J$14=0,0,SUM((G14/$J$14))) -> 0.25 | H16: =IF($J$14=0,0,SUM((H14/$J$14))) -> 0 | I16: =IF($J$14=0,0,SUM((I14/$J$14))) -> 0 | J16: =SUM(D16:E16) -> 0.5
C17: Percentual Acumulado | D17: =D16 -> 0.25 | E17: =E16+D17 -> 0.5 | F17: =F16 -> 0.25 | G17: =G16+F17 -> 0.5 | H17: =H16 -> 0 | I17: =I16+H17 -> 0
J21: _________________________
J23: Secretaria Municipal de Infraestrutura Urbana e Obras

Sheet BDI
A1: GOVERNO DO MUNICIPIO DE IGUAPE
A2: ESTÂNCIA BALNEÁRIA - PRINCESA DO LITORAL SUL
B4: COMPOSIÇÃO DO BDI (acórdão 2622/2013-TCU-Plenário)
B5: ITENS | C5: DESCRIÇÃO | D5: %
B6: AC | C6: Administraçao central | D6: 0.038
B7: S + G | C7: Seguros e Garantias | D7: 0.0032
B8: R | C8: Riscos | D8: 0.005
B10: DF | C10: Despesas Financeiras | D10: 0.0102
B11: L | C11: Lucro/Remuneração | D11: 0.0664
B12: l | C12: Impostos/tributos | D12: =D13+D14+D15+D16 -> 0.1115
C13: PIS | D13: 0.0065
C14: COFINS | D14: 0.03
C15: ISS | D15: 0.03
C16: Contribuição Previdenciaria | D16: 0.045
B17: Taxa do BDI (%) | D17: =ROUND((((1+D6+D7+D8+D9)*(1+D10)*(1+D11))/(1-D12))-1,4) -> 0.2685
D18: =D17 -> 0.2685
B19: Fórmula usada no cálculo do BDI ou LDI (acórdão 2622/2013-TCU-Plenário):
B24: Onde:
B25: AC: taxa de administração central;
B26: S: taxa de seguros;
B27: R: taxa de riscos;
B28: G: taxa de garantias;
B29: DF: taxa de despesas financeiras;
B30: L: taxa de lucro/remuneração;
B31: I: taxa de incidência de impostos (PIS, COFINS, ISS e Contribuição Previdenciária).
A32: Obs.: | B32: Para orçamentos considerando a Desoneração Fiscal deverá ser somada a alíquota de 4,5% referente a Contibuição Previdenciária no item impostos.
D37: _________________________
D39: Secretaria de Infraestrutura Urbana e Obras

Sheet CDHU_200
B1: COMPANHIA DE DESENVOLVIMENTO HABITACIONAL E URBANO
A2: DO ESTADO DE SÃO PAULO
A3: BOLETIM REFERENCIAL DE CUSTOS - TABELA DE SERVIÇOS
A4: COM DESONERAÇÃO
F5: Versão 200
E6: Data Base: | F6: NOV/25
C7: BDI : | D7: 0 | E7: L.S.: | F7: 1.0539
A8: Referência | B8: Descrição | C8: Un | D8: Material | E8: Mão de Obra | F8: Custo Total
A9: 01 | B9: SERVICO TECNICO ESPECIALIZADO
A10: 01.02 | B10: Parecer técnico
A11: 01.02.071 | B11: Parecer técnico de fundações, contenções e recomendações gerais, para empreendimentos com área construída até 1.000 m² | C11: UN | E11: 6483.99 | F11: 6483.99 | G11: 15
A12: 01.02.081 | B12: Parecer técnico de fundações, contenções e recomendações gerais, para empreendimentos com área construída de 1.001 a 2.000 m² | C12: UN | E12: 8622.44 | F12: 8622.44 | G12: 15
A13: 01.02.091 | B13: Parecer técnico de fundações, contenções e recomendações gerais, para empreendimentos com área construída de 2.001 a 5.000 m² | C13: UN | E13: 14729.05 | F13: 14729.05 | G13: 15
A14: 01.02.101 | B14: Parecer técnico de fundações, contenções e recomendações gerais, para empreendimentos com área construída de 5.001 a 10.000 m² | C14: UN | E14: 20195.27 | F14: 20195.27 | G14: 15
A15: 01.02.111 | B15: Parecer técnico de fundações, contenções e recomendações gerais, para empreendimentos com área construída acima de 10.000 m² | C15: UN | E15: 23534.46 | F15: 23534.46 | G15: 15
A16: 01.06 | B16: Projeto de instalações elétricas
A17: 01.06.021 | B17: Elaboração de projeto de adequação de entrada de energia elétrica junto a concessionária, com medição em baixa tensão e demanda até 75 kVA | C17: UN | E17: 8281.6 | F17: 8281.6 | G17: 15
A18: 01.06.031 | B18: Elaboração de projeto de adequação de entrada de energia elétrica junto a concessionária, com medição em média tensão, subestação simplificada e demanda de 75 kVA a 300 kVA | C18: UN | E18: 14027.58 | F18: 14027.58 | G18: 15
A19: 01.06.032 | B19: Elaboração de projeto de adequação de entrada de energia elétrica junto a concessionária, com medição em média tensão e demanda de 75 kVA a 300 kVA | C19: UN | E19: 18981.8 | F19: 18981.8 | G19: 15
A20: 01.06.041 | B20: Elaboração de projeto de adequação de entrada de energia elétrica junto a concessionária, com medição em média tensão e demanda acima de 300 kVA a 2 MVA | C20: UN | E20: 25247.9 | F20: 25247.9 | G20: 15
A21: 01.17 | B21: Projeto executivo
A22: 01.17.031 | B22: Projeto executivo de arquitetura em formato A1 | C22: UN | E22: 3262 | F22: 3262 | G22: 15
A23: 01.17.041 | B23: Projeto executivo de arquitetura em formato A0 | C23: UN | E23: 4409.93 | F23: 4409.93 | G23: 15
A24: 01.17.051 | B24: Projeto executivo de estrutura em formato A1 | C24: UN | E24: 2392.32 | F24: 2392.32 | G24: 15
A25: 01.17.061 | B25: Projeto executivo de estrutura em formato A0 | C25: UN | E25: 3273.17 | F25: 3273.17 | G25: 15
A26: 01.17.071 | B26: Projeto executivo de instalações hidráulicas em formato A1 | C26: UN | E26: 1027.03 | F26: 1027.03 | G26: 15
A27: 01.17.081 | B27: Projeto executivo de instalações hidráulicas em formato A0 | C27: UN | E27: 1367.12 | F27: 1367.12 | G27: 15
A28: 01.17.111 | B28: Projeto executivo de instalações elétricas em formato A1 | C28: UN | E28: 1140.48 | F28: 1140.48 | G28: 15
A29: 01.17.121 | B29: Projeto executivo de instalações elétricas em formato A0 | C29: UN | E29: 1581.35 | F29: 1581.35 | G29: 15
A30: 01.17.151 | B30: Projeto executivo de climatização em formato A1 | C30: UN | E30: 2195.21 | F30: 2195.21 | G30: 15
A31: 01.17.161 | B31: Projeto executivo de climatização em formato A0 | C31: UN | E31: 2992.33 | F31: 2992.33 | G31: 15
A32: 01.17.171 | B32: Projeto executivo de chuveiros automáticos em formato A1 | C32: UN | E32: 1895.21 | F32: 1895.21 | G32: 15
A33: 01.17.181 | B33: Projeto executivo de chuveiros automáticos em formato A0 | C33: UN | E33: 2449.64 | F33: 2449.64 | G33: 15
A34: 01.20 | B34: Levantamento topográfico e geofísico
A35: 01.20.010 | B35: Taxa de mobilização e desmobilização de equipamentos para execução de levantamento topográfico | C35: TX | D35: 1150.83 | F35: 1150.83 | G35: 15
A36: 01.20.280 | B36: Levantamento planimétrico de área pavimentada para veículo e pedestre | C36: M2 | D36: 0.07 | E36: 0.16 | F36: 0.23 | G36: 15
A37: 01.20.691 | B37: Levantamento planimétrico cadastral com áreas ocupadas predominantemente por comunidades - área até 20.000 m² (mínimo de 3.500 m²) | C37: M2 | D37: 0.41 | E37: 0.53 | F37: 0.94 | G37: 15
A38: 01.20.701 | B38: Levantamento planimétrico cadastral com áreas ocupadas predominantemente por comunidades - área acima de 20.000 m² até 200.000 m² | C38: M2 | D38: 0.32 | E38: 0.42 | F38: 0.74 | G38: 15
A39: 01.20.711 | B39: Levantamento planimétrico cadastral com áreas ocupadas predominantemente por comunidades - área acima de 200.000 m² | C39: M2 | D39: 0.27 | E39: 0.35 | F39: 0.62 | G39: 15
A40: 01.20.721 | B40: Levantamento planimétrico cadastral com áreas até 50% de ocupação - área até 20.000 m² (mínimo de 3.500 m²) | C40: M2 | D40: 0.37 | E40: 0.46 | F40: 0.83 | G40: 15
...

Sheet SINAPI 02_2025
A1: SINAPI - Sistema Nacional de Pesquisa de Custos e Índices da Construção Civil | D1: Encargos sociais sobre a mão de obra:
A2: RELATÓRIO DE CUSTOS DE COMPOSIÇÕES - ENCARGOS SOCIAIS COM DESONERAÇÃO | D2: (COM DESONERAÇÃO)
A3: Mês de Referência: | B3: 01/2025
A4: Data de emissão: | B4: 11/02/2025 | C4: SP
C5: Localidade | D5: SP
A6: Observação: | B6: %AS (porcentagem Atribuído São Paulo) corresponde a porcentagem do custo total da composição que foi obtida utilizando preços de insumos de São Paulo por indisponibilidade dos preços de insumos necessários à composição no estado em questão. | C6: Horista | D6: 0.927
C7: Mensalista | D7: 0.5338
A10: Código da Composição | B10: Descrição | C10: Unidade | D10: Custo (R$)
A11: 104658 | B11: PISO PODOTÁTIL DE ALERTA OU DIRECIONAL, DE CONCRETO, ASSENTADO SOBRE ARGAMASSA. AF_03/2024 | C11: M2 | D11: 181.59
A12: 105002 | B12: RAMPA DE ACESSIBILIDADE EM CONCRETO MOLDADO IN LOCO, EM CALÇADA NOVA COM LARGURA MAIOR OU IGUAL À 3,00 M, FCK 25MPA, COM PISO PODOTÁTIL. AF_03/2024 | C12: UN | D12: 711.44
A13: 105004 | B13: RAMPA DE ACESSIBILIDADE EM CONCRETO MOLDADO IN LOCO, EM CALÇADA NOVA COM LARGURA MENOR À 3,00 M, FCK 25MPA, COM PISO PODOTÁTIL. AF_03/2024 | C13: M2 | D13: 120.41
A14: 105003 | B14: RAMPA DE ACESSIBILIDADE EM CONCRETO MOLDADO IN LOCO, EM CALÇADA PRÉ EXISTENTE COM LARGURA MAIOR OU IGUAL À 3,00 M, FCK 25MPA, COM PISO PODOTÁTIL. AF_03/2024 | C14: UN | D14: 1212.45
A15: 105005 | B15: RAMPA DE ACESSIBILIDADE EM CONCRETO MOLDADO IN LOCO, EM CALÇADA PRÉ EXISTENTE COM LARGURA MENOR À 3,00 M, FCK 25MPA, COM PISO PODOTÁTIL. AF_03/2024 | C15: M2 | D15: 213.18
A16: 105006 | B16: RAMPA DE ACESSIBILIDADE EM CONCRETO PRÉ MOLDADO, EM CALÇADA NOVA COM LARGURA MAIOR OU IGUAL À 3,00 M, FCK 25MPA, COM PISO PODOTÁTIL. AF_03/2024 | C16: UN | D16: 0
A17: 104999 | B17: RAMPA DE ACESSIBILIDADE EM CONCRETO PRÉ MOLDADO, EM CALÇADA PRÉ EXISTENTE COM LARGURA MAIOR OU IGUAL À 3,00 M, FCK 25MPA, COM PISO PODOTÁTIL. AF_03/2024 | C17: UN | D17: 0
A18: 105000 | B18: RAMPA DE ACESSIBILIDADE PARA ACESSO A EDIFICAÇÕES COM INCLINAÇÃO DE 8,33% EM CONCRETO MOLDADO IN LOCO, COM LARGURA DE 1,20M, FCK 25MPA, NÃO ARMADA, COM JUNTA A CADA 2M COM CORTE À SECO. AF_03/2024_PA | C18: M | D18: 1494.72
A19: 105001 | B19: RAMPA DE ACESSIBILIDADE PARA ACESSO A EDIFICAÇÕES COM INCLINAÇÃO DE 8,33% EM CONCRETO MOLDADO IN LOCO, COM LARGURA DE 1,50M, FCK 25MPA, NÃO ARMADA, COM JUNTA A CADA 2M COM CORTE À SECO. AF_03/2024_PA | C19: M | D19: 1523.82
A20: 89306 | B20: ALVENARIA ESTRUTURAL DE BLOCOS CERÂMICOS 14X19X29, (ESPESSURA DE 14 CM), UTILIZANDO COLHER DE PEDREIRO E ARGAMASSA DE ASSENTAMENTO COM PREPARO EM BETONEIRA. AF_03/2023 | C20: M2 | D20: 99.15
A21: 89307 | B21: ALVENARIA ESTRUTURAL DE BLOCOS CERÂMICOS 14X19X29, (ESPESSURA DE 14 CM), UTILIZANDO COLHER DE PEDREIRO E ARGAMASSA DE ASSENTAMENTO COM PREPARO MANUAL. AF_03/2023 | C21: M2 | D21: 102.35
A22: 89290 | B22: ALVENARIA ESTRUTURAL DE BLOCOS CERÂMICOS 14X19X29, (ESPESSURA DE 14 CM), UTILIZANDO PALHETA E ARGAMASSA DE ASSENTAMENTO COM PREPARO EM BETONEIRA. AF_03/2023 | C22: M2 | D22: 81.33
... A9678: 103548 | B9678: VÁLVULA REDUTORA DE PRESSÃO DE FERRO FUNDIDO PARA REDE DE ÁGUA, DN 80 MM, JUNTA FLANGEADA. AF_12/2021 | C9678: UN | D9678: 0

Sheet SINAPI SERVIÇO
A1: PCI.817.01 - CUSTO DE COMPOSIÇÕES - SINTÉTICO DATA DE EMISSÃO: 13/12/2024 00:08:45 DATA DE RT: 12/12/2024
A2: ENCARGOS SOCIAIS DESONERADOS: 85,80%(HORA) 47,74%(MÊS)
A3: ABRANGÊNCIA : NACIONAL LOCALIDADE : SAO PAULO DATA DE PREÇO : 11/2024 REFERÊNCIA COLETA : MEDIANO
A4: CODIGO DA COMPOSICAO | B4: DESCRICAO DA COMPOSICAO | C4: UNIDADE | D4: CUSTO TOTAL
A6: 97141 | B6: ASSENTAMENTO DE TUBO DE FERRO FUNDIDO PARA REDE DE ÁGUA, DN 80 MM, JUNTA ELÁSTICA, INSTALADO EM LOCAL COM NÍVEL ALTO DE INTERFERÊNCIAS (NÃO INCLUI FORNECIMENTO). AF_05/2024 | C6: M | D6: 5.02
A7: 97142 | B7: ASSENTAMENTO DE TUBO DE FERRO FUNDIDO PARA REDE DE ÁGUA, DN 100 MM, JUNTA ELÁSTICA, INSTALADO EM LOCAL COM NÍVEL ALTO DE INTERFERÊNCIAS (NÃO INCLUI FORNECIMENTO). AF_05/2024 | C7: M | D7: 5.83
A8: 97143 | B8: ASSENTAMENTO DE TUBO DE FERRO FUNDIDO PARA REDE DE ÁGUA, DN 150 MM, JUNTA ELÁSTICA, INSTALADO EM LOCAL COM NÍVEL ALTO DE INTERFERÊNCIAS (NÃO INCLUI FORNECIMENTO). AF_05/2024 | C8: M | D8: 7.79
A9: 97144 | B9: ASSENTAMENTO DE TUBO DE FERRO FUNDIDO PARA REDE DE ÁGUA, DN 200 MM, JUNTA ELÁSTICA, INSTALADO EM LOCAL COM NÍVEL ALTO DE INTERFERÊNCIAS (NÃO INCLUI FORNECIMENTO). AF_05/2024 | C9: M | D9: 9.73
A10: 97145 | B10: ASSENTAMENTO DE TUBO DE FERRO FUNDIDO PARA REDE DE ÁGUA, DN 250 MM, JUNTA ELÁSTICA, INSTALADO EM LOCAL COM NÍVEL ALTO DE INTERFERÊNCIAS (NÃO INCLUI FORNECIMENTO). AF_05/2024 | C10: M | D10: 11.7
A11: 97146 | B11: ASSENTAMENTO DE TUBO DE FERRO FUNDIDO PARA REDE DE ÁGUA, DN 300 MM, JUNTA ELÁSTICA, INSTALADO EM LOCAL COM NÍVEL ALTO DE INTERFERÊNCIAS (NÃO INCLUI FORNECIMENTO). AF_05/2024 | C11: M | D11: 13.68
A12: 97147 | B12: ASSENTAMENTO DE TUBO DE FERRO FUNDIDO PARA REDE DE ÁGUA, DN 350 MM, JUNTA ELÁSTICA, INSTALADO EM LOCAL COM NÍVEL ALTO DE INTERFERÊNCIAS (NÃO INCLUI FORNECIMENTO). AF_05/2024 | C12: M | D12: 15.64
A13: 97148 | B13: ASSENTAMENTO DE TUBO DE FERRO FUNDIDO PARA REDE DE ÁGUA, DN 400 MM, JUNTA ELÁSTICA, INSTALADO EM LOCAL COM NÍVEL ALTO DE INTERFERÊNCIAS (NÃO INCLUI FORNECIMENTO). AF_05/2024 | C13: M | D13: 17.61
A14: 97149 | B14: ASSENTAMENTO DE TUBO DE FERRO FUNDIDO PARA REDE DE ÁGUA, DN 450 MM, JUNTA ELÁSTICA, INSTALADO EM LOCAL COM NÍVEL ALTO DE INTERFERÊNCIAS (NÃO INCLUI FORNECIMENTO). AF_05/2024 | C14: M | D14: 19.61
A15: 97150 | B15: ASSENTAMENTO DE TUBO DE FERRO FUNDIDO PARA REDE DE ÁGUA, DN 500 MM, JUNTA ELÁSTICA, INSTALADO EM LOCAL COM NÍVEL ALTO DE INTERFERÊNCIAS (NÃO INCLUI FORNECIMENTO). AF_05/2024 | C15: M | D15: 24.91
A16: 97151 | B16: ASSENTAMENTO DE TUBO DE FERRO FUNDIDO PARA REDE DE ÁGUA, DN 600 MM, JUNTA ELÁSTICA, INSTALADO EM LOCAL COM NÍVEL ALTO DE INTERFERÊNCIAS (NÃO INCLUI FORNECIMENTO). AF_05/2024 | C16: M | D16: 29.37
A17: 97152 | B17: ASSENTAMENTO DE TUBO DE FERRO FUNDIDO PARA REDE DE ÁGUA, DN 700 MM, JUNTA ELÁSTICA, INSTALADO EM LOCAL COM NÍVEL ALTO DE INTERFERÊNCIAS (NÃO INCLUI FORNECIMENTO). AF_05/2024 | C17: M | D17: 33.63
... A7821: 101460 | B7821: VIGIA DIURNO COM ENCARGOS COMPLEMENTARES | C7821: MES | D7821: 5044.99

Sheet SINAP INSUMO
A1: PRECOS DE INSUMOS
A2: MES DE COLETA: 11/2024
A3: LOCALIDADE: 2840 - SAO PAULO
A4: ENCARGOS SOCIAIS (%) HORISTA 85,80 MENSALISTA 47,74
A6: CODIGO | B6: DESCRICAO DO INSUMO | C6: UNIDADE | D6: PRECO MEDIANO R$
A7: 38605 | B7: ABERTURA PARA ENCAIXE DE CUBA OU LAVATORIO EM BANCADA DE MARMORE/ GRANITO OU OUTRO TIPO DE PEDRA NATURAL | C7: UN | D7: 161.7
A8: 11270 | B8: ABRACADEIRA DE LATAO PARA FIXACAO DE CABO PARA-RAIO, DIMENSOES 32 X 24 X 24 MM | C8: UN | D8: 2.62
A9: 412 | B9: ABRACADEIRA DE NYLON PARA AMARRACAO DE CABOS, COMPRIMENTO DE *230* X *7,6* MM | C9: UN | D9: 1.08
A10: 414 | B10: ABRACADEIRA DE NYLON PARA AMARRACAO DE CABOS, COMPRIMENTO DE 100 X 2,5 MM | C10: UN | D10: 0.06
A11: 410 | B11: ABRACADEIRA DE NYLON PARA AMARRACAO DE CABOS, COMPRIMENTO DE 150 X *3,6* MM | C11: UN | D11: 0.16
A12: 411 | B12: ABRACADEIRA DE NYLON PARA AMARRACAO DE CABOS, COMPRIMENTO DE 200 X *4,6* MM | C12: UN | D12: 0.21
A13: 408 | B13: ABRACADEIRA DE NYLON PARA AMARRACAO DE CABOS, COMPRIMENTO DE 390 X *4,6* MM | C13: UN | D13: 1.04
A14: 39131 | B14: ABRACADEIRA EM ACO PARA AMARRACAO DE ELETRODUTOS, TIPO D, COM 1 1/2" E CUNHA DE FIXACAO | C14: UN | D14: 3.55
A15: 394 | B15: ABRACADEIRA EM ACO PARA AMARRACAO DE ELETRODUTOS, TIPO D, COM 1 1/2" E PARAFUSO DE FIXACAO | C15: UN | D15: 3.6
A16: 39130 | B16: ABRACADEIRA EM ACO PARA AMARRACAO DE ELETRODUTOS, TIPO D, COM 1 1/4" E CUNHA DE FIXACAO | C16: UN | D16: 3.24
A17: 395 | B17: ABRACADEIRA EM ACO PARA AMARRACAO DE ELETRODUTOS, TIPO D, COM 1 1/4" E PARAFUSO DE FIXACAO | C17: UN | D17: 3.46
A18: 39127 | B18: ABRACADEIRA EM ACO PARA AMARRACAO DE ELETRODUTOS, TIPO D, COM 1/2" E CUNHA DE FIXACAO | C18: UN | D18: 1.71
... A4846: 41096 | B4846: VIGIA DIURNO (MENSALISTA) | C4846: MES | D4846: 3459.9

Sheet SIURB
A1: CÓDIGO | B1: DESCRIÇÃO | C1: UNIDADE | D1: CUSTO UNIT R$
A2: 10000 | B2: SERVICOS PRELIMINARES
A3: 10100 | B3: LIMPEZA DO TERRENO | C3: . | D3: .
A4: 10101 | B4: LIMPEZA MECANIZADA GERAL, INCLUSIVE REMOÇÃO DA COBERTURA VEGETAL - TRONCOS COM DIÂMETRO ATÉ 10CM - SEM TRANSPORTE | C4: M2 | D4: 1.89
A5: 10102 | B5: DESTOCAMENTO, INCLUSIVE REMOÇÃO DAS RAÍZES - DIÂMETROS DE 10,01 À 30CM | C5: UN | D5: 61.06
A6: 10103 | B6: DESTOCAMENTO, INCLUSIVE REMOÇÃO DAS RAÍZES - DIÂMETRO 30,01 À 50 CM | C6: UN | D6: 169.75
A7: 10104 | B7: DESTOCAMENTO, INCLUSIVE REMOÇÃO DAS RAÍZES - DIÂMETROS MAIORES QUE 50 CM | C7: UN | D7: 202.23
A8: 10105 | B8: CARGA MECANIZADA E REMOÇÃO DE ENTULHO, INCLUSIVE TRANSPORTE ATÉ 1KM | C8: M3 | D8: 14.77
A9: 10106 | B9: CARGA MANUAL E REMOÇÃO DE ENTULHO, INCLUSIVE TRANSPORTE ATÉ 1 KM | C9: M3 | D9: 36.53
A10: 10107 | B10: REMOÇÃO DE ENTULHO COM CAÇAMBA METÁLICA, INCLUSIVE CARGA MANUAL E DESCARGA EM BOTA-FORA | C10: M3 | D10: 114.91
A11: 10108 | B11: LIMPEZA MANUAL GERAL INCLUSIVE REMOÇÃO DE COBERTURA VEGETAL - TRONCO ATÉ 10CM - SEM TRANSPORTE | C11: M2 | D11: 5.5
A12: 10109 | B12: DESTOCAMENTO MANUAL, INCLUSIVE REMOÇÃO DE RAÍZES - DIÂMETRO 10,01 À 30 CM | C12: UN | D12: 65.97
A13: 10110 | B13: TRANSPORTE DE ENTULHO POR CAMINHÃO BASCULANTE, A PARTIR DE 1KM | C13: M3XKM | D13: 2.52
A14: 10120 | B14: CORTE, RECORTE E REMOÇÃO DE ÁRVORES INCLUSIVE RAIZES DIÂM. > 5 E < 15CM | C14: UN | D14: 198.8
A15: 10121 | B15: CORTE, RECORTE E REMOÇÃO DE ÁRVORES INCLUSIVE RAIZES DIÂM. > 15 E < 30CM | C15: UN | D15: 589.49
... A18: 10124 | B18: CORTE, RECORTE E REMOÇÃO DE ÁRVORES INCLUSIVE RAIZES DIÂM. > 90CM | C18: UN | D18: 1031.61
A19: 10200 | B19: MOVIMENTO DE TERRA MANUAL | C19: . | D19: .
A20: 10201 | B20: CORTE | C20: M3 | D20: 43.98
A21: 10202 | B21: CORTE E ESPALHAMENTO DENTRO DA OBRA | C21: M3 | D21: 54.98
A22: 10205 | B22: ATERRO, INCLUSIVE COMPACTAÇÃO | C22: M3 | D22: 32.99
A23: 10210 | B23: CARGA MECANIZADA E REMOÇÃO DE TERRA, INCLUSIVE TRANSPORTE ATÉ 1KM | C23: M3 | D23: 18.15
A24: 10211 | B24: CARGA MANUAL E REMOÇÃO DE TERRA, INCLUSIVE TRANSPORTE ATÉ 1 KM | C24: M3 | D24: 38.99
A25: 10300 | B25: MOVIMENTO DE TERRA MECANIZADO | C25: . | D25: .
A26: 10301 | B26: CORTE E ESPALHAMENTO DENTRO DA OBRA | C26: M3 | D26: 19.53
A27: 10302 | B27: CORTE E ATERRO COMPACTADO | C27: M3 | D27: 22.47
A28: 10303 | B28: CORTE E CARREGAMENTO PARA BOTA-FORA, INCLUSIVE TRANSPORTE ATÉ 1KM | C28: M3 | D28: 30.11
A29: 10305 | B29: FORNECIMENTO DE TERRA, INCLUSIVE CORTE, CARGA, DESCARGA E TRANSPORTE ATÉ 1KM | C29: M3 | D29: 34.19
A30: 10306 | B30: ATERRO, INCLUSIVE COMPACTAÇÃO | C30: M3 | D30: 7.92
A31: 10310 | B31: TRANSPORTE DE TERRA POR CAMINHÃO BASCULANTE, A PARTIR DE 1KM | C31: M3XKM | D31: 3.24
A32: 10400 | B32: DRENAGEM DO TERRENO | C32: . | D32: .
A33: 10401 | B33: ESCAVAÇÃO MANUAL, PROFUNDIDADE IGUAL OU INFERIOR A 1,50M | C33: M3 | D33: 65.97
A34: 10402 | B34: ESCAVAÇÃO MANUAL, PROFUNDIDADE SUPERIOR A 1,50M | C34: M3 | D34: 76.97
A35: 10405 | B35: ESCORAMENTO DE VALAS, CONTINUO | C35: M2 | D35: 117.39
A36: 10406 | B36: ESCORAMENTO DE VALAS, DESCONTINUO | C36: M2 | D36: 68.52
A37: 10410 | B37: APILOAMENTO DO FUNDO DE VALAS, PARA SIMPLES REGULARIZAÇÃO | C37: M2 | D37: 5.5
A38: 10414 | B38: LASTRO DE AGREGADO RECICLADO | C38: M3 | D38: 117.83
A39: 10415 | B39: LASTRO DE BRITA | C39: M3 | D39: 183.68
A40: 10416 | B40: LASTRO DE CONCRETO, 150KG CIM/M3 | C40: M3 | D40: 478.71
A41: 10417 | B41: LASTRO DE CONCRETO COM AGREGADO RECICLADO, 150 KG CIM/M3 | C41: M3 | D41: 425.7
A42: 10420 | B42: TUBO DE PEAD CORRUGADO E PERFURADOPARA DRENAGEM - DIÂMETRO 2,5" (EM ACORDO COM AS NORMAS DNIT 093/06, NBR 15073 E NBR 14692) | C42: M | D42: 20.99
...

Sheet ponto de onibus rocio (3)
A1: GOVERNO DO MUNICIPIO DE IGUAPE
A2: Estância Balneária – Princesa do Litoral Sul
A3: OBRA: Serviço de instalação de pontos de ônibus
A4: LOCAL: Avenida Júlio Franco e Rua Itapema - ROCIO
A5: PLANILHA ORÇAMENTÁRIA
A9: ITEM | B9: FONTE | C9: CÓDIGO | D9: DESCRIÇÃO | E9: UNID. | F9: QUANT.
A10: 1 | D10: PONTO DE ÔNIBUS - AVENIDA JULIO FRANCO
A11: 1.1 | D11: SERVIÇOS PRELIMINARES
A12: 1.1.1 | B12: CDHU | C12: 02.08.020 | D12: =VLOOKUP(C12,CDHU_200!A:F,2,0) -> Placa de identificação para obra | E12: =VLOOKUP(C12,CDHU_200!A:F,3,0) -> M2 | F12: 2
A13: 1.1.2 | B13: CDHU | C13: 03.01.020 | D13: =VLOOKUP(C13,CDHU_200!A:F,2,0) -> Demolição manual de concreto simples | E13: =VLOOKUP(C13,CDHU_200!A:F,3,0) -> M3 | F13: 0.58
A14: 1.1.3 | B14: CDHU | C14: 05.07.040 | D14: =VLOOKUP(C14,CDHU_200!A:F,2,0) -> Remoção de entulho separado de obra com caçamba metálica - terra, alvenaria, concreto, argamassa, madeira, papel, plástico ou metal | E14: =VLOOKUP(C14,CDHU_200!A:F,3,0) -> M3 | F14: 3.31
A15: 1.1.4 | B15: CDHU | C15: 07.10.020 | D15: =VLOOKUP(C15,CDHU_200!A:F,2,0) -> Espalhamento de solo em bota-fora com compactação sem controle | E15: =VLOOKUP(C15,CDHU_200!A:F,3,0) -> M3 | F15: 0.58
A17: 1.2 | D17: FUNDAÇÃO
A18: 1.2.1 | B18: CDHU | C18: 06.01.020 | D18: =VLOOKUP(C18,CDHU_200!A:F,2,0) -> Escavação manual em solo de 1ª e 2ª categoria em campo aberto | E18: =VLOOKUP(C18,CDHU_200!A:F,3,0) -> M3 | F18: 2.73
A19: 1.2.2 | B19: CDHU | C19: 12.01.021 | D19: =VLOOKUP(C19,CDHU_200!A:F,2,0) -> Broca em concreto armado diâmetro de 20 cm - completa | E19: =VLOOKUP(C19,CDHU_200!A:F,3,0) -> M | F19: 8
A20: 1.2.3 | B20: CDHU | C20: 07.10.020 | D20: =VLOOKUP(C20,CDHU_200!A:F,2,0) -> Espalhamento de solo em bota-fora com compactação sem controle | E20: =VLOOKUP(C20,CDHU_200!A:F,3,0) -> M3 | F20: 2.73
A21: 1.2.4 | B21: CDHU | C21: 11.18.040 | D21: =VLOOKUP(C21,CDHU_200!A:F,2,0) -> Lastro de pedra britada | E21: =VLOOKUP(C21,CDHU_200!A:F,3,0) -> M3 | F21: 0.16
A22: 1.2.5 | B22: CDHU | C22: 09.01.020 | D22: =VLOOKUP(C22,CDHU_200!A:F,2,0) -> Forma em madeira comum para fundação | E22: =VLOOKUP(C22,CDHU_200!A:F,3,0) -> M2 | F22: 7.95
A23: 1.2.6 | B23: CDHU | C23: 10.01.040 | D23: =VLOOKUP(C23,CDHU_200!A:F,2,0) -> Armadura em barra de aço CA-50 (A ou B) fyk = 500 MPa | E23: =VLOOKUP(C23,CDHU_200!A:F,3,0) -> KG | F23: 42.64
A24: 1.2.7 | B24: CDHU | C24: 11.03.090 | D24: =VLOOKUP(C24,CDHU_200!A:F,2,0) -> Concreto preparado no local, fck = 20 MPa | E24: =VLOOKUP(C24,CDHU_200!A:F,3,0) -> M3 | F24: 0.71
A25: 1.2.8 | B25: CDHU | C25: 11.16.040 | D25: =VLOOKUP(C25,CDHU_200!A:F,2,0) -> Lançamento e adensamento de concreto ou massa em fundação | E25: =VLOOKUP(C25,CDHU_200!A:F,3,0) -> M3 | F25: 0.71
A27: 1.3 | D27: ESTRUTURA
A28: 1.3.1 | B28: CDHU | C28: 10.01.040 | D28: =VLOOKUP(C28,CDHU_200!A:F,2,0) -> Armadura em barra de aço CA-50 (A ou B) fyk = 500 MPa | E28: =VLOOKUP(C28,CDHU_200!A:F,3,0) -> KG | F28: 75.47
A29: 1.3.2 | B29: CDHU | C29: 09.02.040 | D29: =VLOOKUP(C29,CDHU_200!A:F,2,0) -> Forma plana em compensado para estrutura aparente | E29: =VLOOKUP(C29,CDHU_200!A:F,3,0) -> M2 | F29: 15.76
A30: 1.3.3 | B30: CDHU | C30: 11.03.090 | D30: =VLOOKUP(C30,CDHU_200!A:F,2,0) -> Concreto preparado no local, fck = 20 MPa | E30: =VLOOKUP(C30,CDHU_200!A:F,3,0) -> M3 | F30: 1.01
A31: 1.3.4 | B31: CDHU | C31: 11.16.060 | D31: =VLOOKUP(C31,CDHU_200!A:F,2,0) -> Lançamento e adensamento de concreto ou massa em estrutura | E31: =VLOOKUP(C31,CDHU_200!A:F,3,0) -> M3 | F31: 1.01
A33: 1.4 | D33: COBERTURA
A34: 1.4.1 | B34: CDHU | C34: 13.01.310 | D34: =VLOOKUP(C34,CDHU_200!A:F,2,0) -> Laje pré-fabricada unidirecional em viga treliçada/lajota em EPS LT 12 (8 + 4), com capa de concreto de 25 MPa | E34: =VLOOKUP(C34,CDHU_200!A:F,3,0) -> M2 | F34: 23.04
A35: 1.4.2 | B35: CDHU | C35: 09.01.030 | D35: =VLOOKUP(C35,CDHU_200!A:F,2,0) -> Forma em madeira comum para estrutura | E35: =VLOOKUP(C35,CDHU_200!A:F,3,0) -> M2 | F35: 5.88
A36: 1.4.3 | B36: CDHU | C36: 10.02.020 | D36: =VLOOKUP(C36,CDHU_200!A:F,2,0) -> Armadura em tela soldada de aço | E36: =VLOOKUP(C36,CDHU_200!A:F,3,0) -> KG | F36: 22.8
A37: 1.4.4 | B37: CDHU | C37: 10.01.040 | D37: =VLOOKUP(C37,CDHU_200!A:F,2,0) -> Armadura em barra de aço CA-50 (A ou B) fyk = 500 MPa | E37: =VLOOKUP(C37,CDHU_200!A:F,3,0) -> KG | F37: 130.32
A38: 1.4.5 | B38: CDHU | C38: 32.16.050 | D38: =VLOOKUP(C38,CDHU_200!A:F,2,0) -> Impermeabilização em membrana à base de polímeros acrílicos, na cor branca | E38: =VLOOKUP(C38,CDHU_200!A:F,3,0) -> M2 | F38: 23.04
A40: 1.5 | D40: BANCO E PASSEIO
A41: 1.5.1 | B41: CDHU | C41: 17.03.080 | D41: =VLOOKUP(C41,CDHU_200!A:F,2,0) -> Cimentado semi-áspero | E41: =VLOOKUP(C41,CDHU_200!A:F,3,0) -> M2 | F41: 23.04
A42: 1.5.2 | B42: CDHU | C42: 09.02.040 | D42: =VLOOKUP(C42,CDHU_200!A:F,2,0) -> Forma plana em compensado para estrutura aparente | E42: =VLOOKUP(C42,CDHU_200!A:F,3,0) -> M2 | F42: 6.21
A43: 1.5.3 | B43: CDHU | C43: 10.01.040 | D43: =VLOOKUP(C43,CDHU_200!A:F,2,0) -> Armadura em barra de aço CA-50 (A ou B) fyk = 500 MPa | E43: =VLOOKUP(C43,CDHU_200!A:F,3,0) -> KG | F43: 12.31
A44: 1.5.4 | B44: CDHU | C44: 11.03.090 | D44: =VLOOKUP(C44,CDHU_200!A:F,2,0) -> Concreto preparado no local, fck = 20 MPa | E44: =VLOOKUP(C44,CDHU_200!A:F,3,0) -> M3 | F44: 0.42
A45: 1.5.5 | B45: CDHU | C45: 11.16.060 | D45: =VLOOKUP(C45,CDHU_200!A:F,2,0) -> Lançamento e adensamento de concreto ou massa em estrutura | E45: =VLOOKUP(C45,CDHU_200!A:F,3,0) -> M3 | F45: 0.42
A47: 1.6 | D47: TRATAMENTO DE CONCRETO APARENTE
A48: 1.6.1 | B48: CDHU | C48: 33.01.050 | D48: =VLOOKUP(C48,CDHU_200!A:F,2,0) -> Estucamento e lixamento de concreto | E48: =VLOOKUP(C48,CDHU_200!A:F,3,0) -> M2 | F48: 38.8
...

Sheet SINAPI 052024
B1: BANCO DE CUSTOS - REFERÊNCIA 1.8
B2: DATA PREÇO / RT (SINAPI): | D2: LOCALIDADE / DATA EMISSÃO (SINAPI):
B3: 05/2024 | D3: SAO PAULO
B4: 13/06/2024 | D4: 27/06/2024
B5: FONTE | C5: CÓDIGO | D5: DESCRIÇÃO | E5: UNIDADE | F5: DESONERADO | G5: NÃO DESONERADO
A7: =CONCATENAR -> #REF! | B7: =OFFSET([1]Composições!$A$1,MATCH(COUNTIF($H$1:$H7,"Composições"),[1]Composições!$K$1:$K$65536,0)-1,COLUMN('[2]SINAPI 05_2024'!B$6)-1) -> #VALUE! | C7: =OFFSET([1]Composições!$A$1,MATCH(COUNTIF($H$1:$H7,"Composições"),[1]Composições!$K$1:$K$65536,0)-1,COLUMN('[2]SINAPI 05_2024'!C$6)-1) -> #VALUE! | D7: =IF(COUNTIF(OFFSET('[2]SINAPI 05_2024'!$A$6,1,0,NCOMPOSICOES),$A7)>1,"CÓDIGO REPETIDO",OFFSET([1]Composições!$A$1,MATCH(COUNTIF($H$1:$H7,"Composições"),[1]Composições!$K$1:$K$65536,0)-1,COLUMN('[2]SINAPI 05_2024'!D$6)-1)) -> #VALUE! | E7: =OFFSET([1]Composições!$A$1,MATCH(COUNTIF($H$1:$H7,"Composições"),[1]Composições!$K$1:$K$65536,0)-1,COLUMN('[2]SINAPI 05_2024'!E$6)-1) -> #VALUE! | F7: =OFFSET([1]Composições!$A$1,MATCH(COUNTIF($H$1:$H7,"Composições"),[1]Composições!$K$1:$K$65536,0)-1,COLUMN('[2]SINAPI 05_2024'!F$6)-1) -> #VALUE! | G7: =OFFSET([1]Composições!$A$1,MATCH(COUNTIF($H$1:$H7,"Composições"),[1]Composições!$K$1:$K$65536,0)-1,COLUMN('[2]SINAPI 05_2024'!G$6)-1) -> #VALUE! | H7: Composições
A8: =CONCATENAR -> #REF! | B8: =OFFSET([1]Composições!$A$1,MATCH(COUNTIF($H$1:$H8,"Composições"),[1]Composições!$K$1:$K$65536,0)-1,COLUMN('[2]SINAPI 05_2024'!B$6)-1) -> #VALUE! | C8: =OFFSET([1]Composições!$A$1,MATCH(COUNTIF($H$1:$H8,"Composições"),[1]Composições!$K$1:$K$65536,0)-1,COLUMN('[2]SINAPI 05_2024'!C$6)-1) -> #VALUE! | D8: =IF(COUNTIF(OFFSET('[2]SINAPI 05_2024'!$A$6,1,0,NCOMPOSICOES),$A8)>1,"CÓDIGO REPETIDO",OFFSET([1]Composições!$A$1,MATCH(COUNTIF($H$1:$H8,"Composições"),[1]Composições!$K$1:$K$65536,0)-1,COLUMN('[2]SINAPI 05_2024'!D$6)-1)) -> #VALUE! | E8: =OFFSET([1]Composições!$A$1,MATCH(COUNTIF($H$1:$H8,"Composições"),[1]Composições!$K$1:$K$65536,0)-1,COLUMN('[2]SINAPI 05_2024'!E$6)-1) -> #VALUE! | F8: =OFFSET([1]Composições!$A$1,MATCH(COUNTIF($H$1:$H8,"Composições"),[1]Composições!$K$1:$K$65536,0)-1,COLUMN('[2]SINAPI 05_2024'!F$6)-1) -> #VALUE! | G8: =OFFSET([1]Composições!$A$1,MATCH(COUNTIF($H$1:$H8,"Composições"),[1]Composições!$K$1:$K$65536,0)-1,COLUMN('[2]SINAPI 05_2024'!G$6)-1) -> #VALUE! | H8: Composições
A9: =CONCATENAR -> #REF! | B9: =OFFSET([1]Composições!$A$1,MATCH(COUNTIF($H$1:$H9,"Composições"),[1]Composições!$K$1:$K$65536,0)-1,COLUMN('[2]SINAPI 05_2024'!B$6)-1) -> #VALUE! | C9: =OFFSET([1]Composições!$A$1,MATCH(COUNTIF($H$1:$H9,"Composições"),[1]Composições!$K$1:$K$65536,0)-1,COLUMN('[2]SINAPI 05_2024'!C$6)-1) -> #VALUE! | D9: =IF(COUNTIF(OFFSET('[2]SINAPI 05_2024'!$A$6,1,0,NCOMPOSICOES),$A9)>1,"CÓDIGO REPETIDO",OFFSET([1]Composições!$A$1,MATCH(COUNTIF($H$1:$H9,"Composições"),[1]Composições!$K$1:$K$65536,0)-1,COLUMN('[2]SINAPI 05_2024'!D$6)-1)) -> #VALUE! | E9: =OFFSET([1]Composições!$A$1,MATCH(COUNTIF($H$1:$H9,"Composições"),[1]Composições!$K$1:$K$65536,0)-1,COLUMN('[2]SINAPI 05_2024'!E$6)-1) -> #VALUE! | F9: =OFFSET([1]Composições!$A$1,MATCH(COUNTIF($H$1:$H9,"Composições"),[1]Composições!$K$1:$K$65536,0)-1,COLUMN('[2]SINAPI 05_2024'!F$6)-1) -> #VALUE! | G9: =OFFSET([1]Composições!$A$1,MATCH(COUNTIF($H$1:$H9,"Composições"),[1]Composições!$K$1:$K$65536,0)-1,COLUMN('[2]SINAPI 05_2024'!G$6)-1) -> #VALUE! | H9: Composições
A10: =CONCATENAR -> #REF! | B10: =OFFSET([1]Composições!$A$1,MATCH(COUNTIF($H$1:$H10,"Composições"),[1]Composições!$K$1:$K$65536,0)-1,COLUMN('[2]SINAPI 05_2024'!B$6)-1) -> #VALUE! | C10: =OFFSET([1]Composições!$A$1,MATCH(COUNTIF($H$1:$H10,"Composições"),[1]Composições!$K$1:$K$65536,0)-1,COLUMN('[2]SINAPI 05_2024'!C$6)-1) -> #VALUE! | D10: =IF(COUNTIF(OFFSET('[2]SINAPI 05_2024'!$A$6,1,0,NCOMPOSICOES),$A10)>1,"CÓDIGO REPETIDO",OFFSET([1]Composições!$A$1,MATCH(COUNTIF($H$1:$H10,"Composições"),[1]Composições!$K$1:$K$65536,0)-1,COLUMN('[2]SINAPI 05_2024'!D$6)-1)) -> #VALUE! | E10: =OFFSET([1]Composições!$A$1,MATCH(COUNTIF($H$1:$H10,"Composições"),[1]Composições!$K$1:$K$65536,0)-1,COLUMN('[2]SINAPI 05_2024'!E$6)-1) -> #VALUE! | F10: =OFFSET([1]Composições!$A$1,MATCH(COUNTIF($H$1:$H10,"Composições"),[1]Composições!$K$1:$K$65536,0)-1,COLUMN('[2]SINAPI 05_2024'!F$6)-1) -> #VALUE! | G10: =OFFSET([1]Composições!$A$1,MATCH(COUNTIF($H$1:$H10,"Composições"),[1]Composições!$K$1:$K$65536,0)-1,COLUMN('[2]SINAPI 05_2024'!G$6)-1) -> #VALUE! | H10: Composições
A11: =CONCATENAR -> #REF! | B11: =OFFSET([1]Composições!$A$1,MATCH(COUNTIF($H$1:$H11,"Composições"),[1]Composições!$K$1:$K$65536,0)-1,COLUMN('[2]SINAPI 05_2024'!B$6)-1) -> #VALUE! | C11: =OFFSET([1]Composições!$A$1,MATCH(COUNTIF($H$1:$H11,"Composições"),[1]Composições!$K$1:$K$65536,0)-1,COLUMN('[2]SINAPI 05_2024'!C$6)-1) -> #VALUE! | D11: =IF(COUNTIF(OFFSET('[2]SINAPI 05_2024'!$A$6,1,0,NCOMPOSICOES),$A11)>1,"CÓDIGO REPETIDO",OFFSET([1]Composições!$A$1,MATCH(COUNTIF($H$1:$H11,"Composições"),[1]Composições!$K$1:$K$65536,0)-1,COLUMN('[2]SINAPI 05_2024'!D$6)-1)) -> #VALUE! | E11: =OFFSET([1]Composições!$A$1,MATCH(COUNTIF($H$1:$H11,"Composições"),[1]Composições!$K$1:$K$65536,0)-1,COLUMN('[2]SINAPI 05_2024'!E$6)-1) -> #VALUE! | F11: =OFFSET([1]Composições!$A$1,MATCH(COUNTIF($H$1:$H11,"Composições"),[1]Composições!$K$1:$K$65536,0)-1,COLUMN('[2]SINAPI 05_2024'!F$6)-1) -> #VALUE! | G11: =OFFSET([1]Composições!$A$1,MATCH(COUNTIF($H$1:$H11,"Composições"),[1]Composições!$K$1:$K$65536,0)-1,COLUMN('[2]SINAPI 05_2024'!G$6)-1) -> #VALUE! | H11: Composições
A12: =CONCATENAR -> #REF! | B12: =OFFSET([1]Composições!$A$1,MATCH(COUNTIF($H$1:$H12,"Composições"),[1]Composições!$K$1:$K$65536,0)-1,COLUMN('[2]SINAPI 05_2024'!B$6)-1) -> #VALUE! | C12: =OFFSET([1]Composições!$A$1,MATCH(COUNTIF($H$1:$H12,"Composições"),[1]Composições!$K$1:$K$65536,0)-1,COLUMN('[2]SINAPI 05_2024'!C$6)-1) -> #VALUE! | D12: =IF(COUNTIF(OFFSET('[2]SINAPI 05_2024'!$A$6,1,0,NCOMPOSICOES),$A12)>1,"CÓDIGO REPETIDO",OFFSET([1]Composições!$A$1,MATCH(COUNTIF($H$1:$H12,"Composições"),[1]Composições!$K$1:$K$65536,0)-1,COLUMN('[2]SINAPI 05_2024'!D$6)-1)) -> #VALUE! | E12: =OFFSET([1]Composições!$A$1,MATCH(COUNTIF($H$1:$H12,"Composições"),[1]Composições!$K$1:$K$65536,0)-1,COLUMN('[2]SINAPI 05_2024'!E$6)-1) -> #VALUE! | F12: =OFFSET([1]Composições!$A$1,MATCH(COUNTIF($H$1:$H12,"Composições"),[1]Composições!$K$1:$K$65536,0)-1,COLUMN('[2]SINAPI 05_2024'!F$6)-1) -> #VALUE! | G12: =OFFSET([1]Composições!$A$1,MATCH(COUNTIF($H$1:$H12,"Composições"),[1]Composições!$K$1:$K$65536,0)-1,COLUMN('[2]SINAPI 05_2024'!G$6)-1) -> #VALUE! | H12: Composições
A13: =CONCATENAR -> #REF! | B13: =OFFSET([1]Composições!$A$1,MATCH(COUNTIF($H$1:$H13,"Composições"),[1]Composições!$K$1:$K$65536,0)-1,COLUMN('[2]SINAPI 05_2024'!B$6)-1) -> #VALUE! | C13: =OFFSET([1]Composições!$A$1,MATCH(COUNTIF($H$1:$H13,"Composições"),[1]Composições!$K$1:$K$65536,0)-1,COLUMN('[2]SINAPI 05_2024'!C$6)-1) -> #VALUE! | D13: =IF(COUNTIF(OFFSET('[2]SINAPI 05_2024'!$A$6,1,0,NCOMPOSICOES),$A13)>1,"CÓDIGO REPETIDO",OFFSET([1]Composições!$A$1,MATCH(COUNTIF($H$1:$H13,"Composições"),[1]Composições!$K$1:$K$65536,0)-1,COLUMN('[2]SINAPI 05_2024'!D$6)-1)) -> #VALUE! | E13: =OFFSET([1]Composições!$A$1,MATCH(COUNTIF($H$1:$H13,"Composições"),[1]Composições!$K$1:$K$65536,0)-1,COLUMN('[2]SINAPI 05_2024'!E$6)-1) -> #VALUE! | F13: =OFFSET([1]Composições!$A$1,MATCH(COUNTIF($H$1:$H13,"Composições"),[1]Composições!$K$1:$K$65536,0)-1,COLUMN('[2]SINAPI 05_2024'!F$6)-1) -> #VALUE! | G13: =OFFSET([1]Composições!$A$1,MATCH(COUNTIF($H$1:$H13,"Composições"),[1]Composições!$K$1:$K$65536,0)-1,COLUMN('[2]SINAPI 05_2024'!G$6)-1) -> #VALUE! | H13: Composições
A14: =CONCATENAR -> #REF! | B14: =OFFSET([1]Composições!$A$1,MATCH(COUNTIF($H$1:$H14,"Composições"),[1]Composições!$K$1:$K$65536,0)-1,COLUMN('[2]SINAPI 05_2024'!B$6)-1) -> #VALUE! | C14: =OFFSET([1]Composições!$A$1,MATCH(COUNTIF($H$1:$H14,"Composições"),[1]Composições!$K$1:$K$65536,0)-1,COLUMN('[2]SINAPI 05_2024'!C$6)-1) -> #VALUE! | D14: =IF(COUNTIF(OFFSET('[2]SINAPI 05_2024'!$A$6,1,0,NCOMPOSICOES),$A14)>1,"CÓDIGO REPETIDO",OFFSET([1]Composições!$A$1,MATCH(COUNTIF($H$1:$H14,"Composições"),[1]Composições!$K$1:$K$65536,0)-1,COLUMN('[2]SINAPI 05_2024'!D$6)-1)) -> #VALUE! | E14: =OFFSET([1]Composições!$A$1,MATCH(COUNTIF($H$1:$H14,"Composições"),[1]Composições!$K$1:$K$65536,0)-1,COLUMN('[2]SINAPI 05_2024'!E$6)-1) -> #VALUE! | F14: =OFFSET([1]Composições!$A$1,MATCH(COUNTIF($H$1:$H14,"Composições"),[1]Composições!$K$1:$K$65536,0)-1,COLUMN('[2]SINAPI 05_2024'!F$6)-1) -> #VALUE! | G14: =OFFSET([1]Composições!$A$1,MATCH(COUNTIF($H$1:$H14,"Composições"),[1]Composições!$K$1:$K$65536,0)-1,COLUMN('[2]SINAPI 05_2024'!G$6)-1) -> #VALUE! | H14: Composições
A15: =CONCATENAR -> #REF! | B15: =OFFSET([1]Composições!$A$1,MATCH(COUNTIF($H$1:$H15,"Composições"),[1]Composições!$K$1:$K$65536,0)-1,COLUMN('[2]SINAPI 05_2024'!B$6)-1) -> #VALUE! | C15: =OFFSET([1]Composições!$A$1,MATCH(COUNTIF($H$1:$H15,"Composições"),[1]Composições!$K$1:$K$65536,0)-1,COLUMN('[2]SINAPI 05_2024'!C$6)-1) -> #VALUE! | D15: =IF(COUNTIF(OFFSET('[2]SINAPI 05_2024'!$A$6,1,0,NCOMPOSICOES),$A15)>1,"CÓDIGO REPETIDO",OFFSET([1]Composições!$A$1,MATCH(COUNTIF($H$1:$H15,"Composições"),[1]Composições!$K$1:$K$65536,0)-1,COLUMN('[2]SINAPI 05_2024'!D$6)-1)) -> #VALUE! | E15: =OFFSET([1]Composições!$A$1,MATCH(COUNTIF($H$1:$H15,"Composições"),[1]Composições!$K$1:$K$65536,0)-1,COLUMN('[2]SINAPI 05_2024'!E$6)-1) -> #VALUE! | F15: =OFFSET([1]Composições!$A$1,MATCH(COUNTIF($H$1:$H15,"Composições"),[1]Composições!$K$1:$K$65536,0)-1,COLUMN('[2]SINAPI 05_2024'!F$6)-1) -> #VALUE! | G15: =OFFSET([1]Composições!$A$1,MATCH(COUNTIF($H$1:$H15,"Composições"),[1]Composições!$K$1:$K$65536,0)-1,COLUMN('[2]SINAPI 05_2024'!G$6)-1) -> #VALUE! | H15: Composições
A16: =CONCATENAR -> #REF! | B16: =OFFSET([1]Composições!$A$1,MATCH(COUNTIF($H$1:$H16,"Composições"),[1]Composições!$K$1:$K$65536,0)-1,COLUMN('[2]SINAPI 05_2024'!B$6)-1) -> #VALUE! | C16: =OFFSET([1]Composições!$A$1,MATCH(COUNTIF($H$1:$H16,"Composições"),[1]Composições!$K$1:$K$65536,0)-1,COLUMN('[2]SINAPI 05_2024'!C$6)-1) -> #VALUE! | D16: =IF(COUNTIF(OFFSET('[2]SINAPI 05_2024'!$A$6,1,0,NCOMPOSICOES),$A16)>1,"CÓDIGO REPETIDO",OFFSET([1]Composições!$A$1,MATCH(COUNTIF($H$1:$H16,"Composições"),[1]Composições!$K$1:$K$65536,0)-1,COLUMN('[2]SINAPI 05_2024'!D$6)-1)) -> #VALUE! | E16: =OFFSET([1]Composições!$A$1,MATCH(COUNTIF($H$1:$H16,"Composições"),[1]Composições!$K$1:$K$65536,0)-1,COLUMN('[2]SINAPI 05_2024'!E$6)-1) -> #VALUE! | F16: =OFFSET([1]Composições!$A$1,MATCH(COUNTIF($H$1:$H16,"Composições"),[1]Composições!$K$1:$K$65536,0)-1,COLUMN('[2]SINAPI 05_2024'!F$6)-1) -> #VALUE! | G16: =OFFSET([1]Composições!$A$1,MATCH(COUNTIF($H$1:$H16,"Composições"),[1]Composições!$K$1:$K$65536,0)-1,COLUMN('[2]SINAPI 05_2024'!G$6)-1) -> #VALUE! | H16: Composições
A17: =CONCATENAR -> #REF! | B17: =OFFSET([1]Composições!$A$1,MATCH(COUNTIF($H$1:$H17,"Composições"),[1]Composições!$K$1:$K$65536,0)-1,COLUMN('[2]SINAPI 05_2024'!B$6)-1) -> #VALUE! | C17: =OFFSET([1]Composições!$A$1,MATCH(COUNTIF($H$1:$H17,"Composições"),[1]Composições!$K$1:$K$65536,0)-1,COLUMN('[2]SINAPI 05_2024'!C$6)-1) -> #VALUE! | D17: =IF(COUNTIF(OFFSET('[2]SINAPI 05_2024'!$A$6,1,0,NCOMPOSICOES),$A17)>1,"CÓDIGO REPETIDO",OFFSET([1]Composições!$A$1,MATCH(COUNTIF($H$1:$H17,"Composições"),[1]Composições!$K$1:$K$65536,0)-1,COLUMN('[2]SINAPI 05_2024'!D$6)-1)) -> #VALUE! | E17: =OFFSET([1]Composições!$A$1,MATCH(COUNTIF($H$1:$H17,"Composições"),[1]Composições!$K$1:$K$65536,0)-1,COLUMN('[2]SINAPI 05_2024'!E$6)-1) -> #VALUE! | F17: =OFFSET([1]Composições!$A$1,MATCH(COUNTIF($H$1:$H17,"Composições"),[1]Composições!$K$1:$K$65536,0)-1,COLUMN('[2]SINAPI 05_2024'!F$6)-1) -> #VALUE! | G17: =OFFSET([1]Composições!$A$1,MATCH(COUNTIF($H$1:$H17,"Composições"),[1]Composições!$K$1:$K$65536,0)-1,COLUMN('[2]SINAPI 05_2024'!G$6)-1) -> #VALUE! | H17: Composições
A18: =CONCATENAR -> #REF! | B18: =OFFSET([1]Composições!$A$1,MATCH(COUNTIF($H$1:$H18,"Composições"),[1]Composições!$K$1:$K$65536,0)-1,COLUMN('[2]SINAPI 05_2024'!B$6)-1) -> #VALUE! | C18: =OFFSET([1]Composições!$A$1,MATCH(COUNTIF($H$1:$H18,"Composições"),[1]Composições!$K$1:$K$65536,0)-1,COLUMN('[2]SINAPI 05_2024'!C$6)-1) -> #VALUE! | D18: =IF(COUNTIF(OFFSET('[2]SINAPI 05_2024'!$A$6,1,0,NCOMPOSICOES),$A18)>1,"CÓDIGO REPETIDO",OFFSET([1]Composições!$A$1,MATCH(COUNTIF($H$1:$H18,"Composições"),[1]Composições!$K$1:$K$65536,0)-1,COLUMN('[2]SINAPI 05_2024'!D$6)-1)) -> #VALUE! | E18: =OFFSET([1]Composições!$A$1,MATCH(COUNTIF($H$1:$H18,"Composições"),[1]Composições!$K$1:$K$65536,0)-1,COLUMN('[2]SINAPI 05_2024'!E$6)-1) -> #VALUE! | F18: =OFFSET([1]Composições!$A$1,MATCH(COUNTIF($H$1:$H18,"Composições"),[1]Composições!$K$1:$K$65536,0)-1,COLUMN('[2]SINAPI 05_2024'!F$6)-1) -> #VALUE! | G18: =OFFSET([1]Composições!$A$1,MATCH(COUNTIF($H$1:$H18,"Composições"),[1]Composições!$K$1:$K$65536,0)-1,COLUMN('[2]SINAPI 05_2024'!G$6)-1) -> #VALUE! | H18: Composições
... A21: =CONCATENAR -> #REF! | B21: =OFFSET([1]Composições!$A$1,MATCH(COUNTIF($H$1:$H21,"Composições"),[1]Composições!$K$1:$K$65536,0)-1,COLUMN('[2]SINAPI 05_2024'!B$6)-1) -> #VALUE! | C21: =OFFSET([1]Composições!$A$1,MATCH(COUNTIF($H$1:$H21,"Composições"),[1]Composições!$K$1:$K$65536,0)-1,COLUMN('[2]SINAPI 05_2024'!C$6)-1) -> #VALUE! | D21: =IF(COUNTIF(OFFSET('[2]SINAPI 05_2024'!$A$6,1,0,NCOMPOSICOES),$A21)>1,"CÓDIGO REPETIDO",OFFSET([1]Composições!$A$1,MATCH(COUNTIF($H$1:$H21,"Composições"),[1]Composições!$K$1:$K$65536,0)-1,COLUMN('[2]SINAPI 05_2024'!D$6)-1)) -> #VALUE! | E21: =OFFSET([1]Composições!$A$1,MATCH(COUNTIF($H$1:$H21,"Composições"),[1]Composições!$K$1:$K$65536,0)-1,COLUMN('[2]SINAPI 05_2024'!E$6)-1) -> #VALUE! | F21: =OFFSET([1]Composições!$A$1,MATCH(COUNTIF($H$1:$H21,"Composições"),[1]Composições!$K$1:$K$65536,0)-1,COLUMN('[2]SINAPI 05_2024'!F$6)-1) -> #VALUE! | G21: =OFFSET([1]Composições!$A$1,MATCH(COUNTIF($H$1:$H21,"Composições"),[1]Composições!$K$1:$K$65536,0)-1,COLUMN('[2]SINAPI 05_2024'!G$6)-1) -> #VALUE! | H21: Composições
A22: =CONCATENAR -> #REF! | B22: =OFFSET([1]Cotações!$A$1,MATCH(COUNTIF($H$1:$H22,"Cotações"),[1]Cotações!$J$1:$J$65536,0)-1,COLUMN('[2]SINAPI 05_2024'!B$6)-1) -> #VALUE! | C22: =OFFSET([1]Cotações!$A$1,MATCH(COUNTIF($H$1:$H22,"Cotações"),[1]Cotações!$J$1:$J$65536,0)-1,COLUMN('[2]SINAPI 05_2024'!C$6)-1) -> #VALUE! | D22: =IF(COUNTIF(OFFSET('[2]SINAPI 05_2024'!$A$6,1+NCOMPOSICOES,0,NCOTACOES),$A22)>1,"CÓDIGO REPETIDO",OFFSET([1]Cotações!$A$1,MATCH(COUNTIF($H$1:$H22,"Cotações"),[1]Cotações!$J$1:$J$65536,0)-1,COLUMN('[2]SINAPI 05_2024'!D$6)-1)) -> #VALUE! | E22: =OFFSET([1]Cotações!$A$1,MATCH(COUNTIF($H$1:$H22,"Cotações"),[1]Cotações!$J$1:$J$65536,0)-1,COLUMN('[2]SINAPI 05_2024'!E$6)-1) -> #VALUE! | F22: =OFFSET([1]Cotações!$A$1,MATCH(COUNTIF($H$1:$H22,"Cotações"),[1]Cotações!$J$1:$J$65536,0)-1,COLUMN('[2]SINAPI 05_2024'!F$6)-1) -> #VALUE! | G22: =OFFSET([1]Cotações!$A$1,MATCH(COUNTIF($H$1:$H22,"Cotações"),[1]Cotações!$J$1:$J$65536,0)-1,COLUMN('[2]SINAPI 05_2024'!F$6)-1) -> #VALUE! | H22: Cotações
A23: =CONCATENAR -> #REF! | B23: =OFFSET([1]Cotações!$A$1,MATCH(COUNTIF($H$1:$H23,"Cotações"),[1]Cotações!$J$1:$J$65536,0)-1,COLUMN('[2]SINAPI 05_2024'!B$6)-1) -> #VALUE! | C23: =OFFSET([1]Cotações!$A$1,MATCH(COUNTIF($H$1:$H23,"Cotações"),[1]Cotações!$J$1:$J$65536,0)-1,COLUMN('[2]SINAPI 05_2024'!C$6)-1) -> #VALUE! | D23: =IF(COUNTIF(OFFSET('[2]SINAPI 05_2024'!$A$6,1+NCOMPOSICOES,0,NCOTACOES),$A23)>1,"CÓDIGO REPETIDO",OFFSET([1]Cotações!$A$1,MATCH(COUNTIF($H$1:$H23,"Cotações"),[1]Cotações!$J$1:$J$65536,0)-1,COLUMN('[2]SINAPI 05_2024'!D$6)-1)) -> #VALUE! | E23: =OFFSET([1]Cotações!$A$1,MATCH(COUNTIF($H$1:$H23,"Cotações"),[1]Cotações!$J$1:$J$65536,0)-1,COLUMN('[2]SINAPI 05_2024'!E$6)-1) -> #VALUE! | F23: =OFFSET([1]Cotações!$A$1,MATCH(COUNTIF($H$1:$H23,"Cotações"),[1]Cotações!$J$1:$J$65536,0)-1,COLUMN('[2]SINAPI 05_2024'!F$6)-1) -> #VALUE! | G23: =OFFSET([1]Cotações!$A$1,MATCH(COUNTIF($H$1:$H23,"Cotações"),[1]Cotações!$J$1:$J$65536,0)-1,COLUMN('[2]SINAPI 05_2024'!F$6)-1) -> #VALUE! | H23: Cotações
A24: =CONCATENAR -> #REF! | B24: =OFFSET([1]Cotações!$A$1,MATCH(COUNTIF($H$1:$H24,"Cotações"),[1]Cotações!$J$1:$J$65536,0)-1,COLUMN('[2]SINAPI 05_2024'!B$6)-1) -> #VALUE! | C24: =OFFSET([1]Cotações!$A$1,MATCH(COUNTIF($H$1:$H24,"Cotações"),[1]Cotações!$J$1:$J$65536,0)-1,COLUMN('[2]SINAPI 05_2024'!C$6)-1) -> #VALUE! | D24: =IF(COUNTIF(OFFSET('[2]SINAPI 05_2024'!$A$6,1+NCOMPOSICOES,0,NCOTACOES),$A24)>1,"CÓDIGO REPETIDO",OFFSET([1]Cotações!$A$1,MATCH(COUNTIF($H$1:$H24,"Cotações"),[1]Cotações!$J$1:$J$65536,0)-1,COLUMN('[2]SINAPI 05_2024'!D$6)-1)) -> #VALUE! | E24: =OFFSET([1]Cotações!$A$1,MATCH(COUNTIF($H$1:$H24,"Cotações"),[1]Cotações!$J$1:$J$65536,0)-1,COLUMN('[2]SINAPI 05_2024'!E$6)-1) -> #VALUE! | F24: =OFFSET([1]Cotações!$A$1,MATCH(COUNTIF($H$1:$H24,"Cotações"),[1]Cotações!$J$1:$J$65536,0)-1,COLUMN('[2]SINAPI 05_2024'!F$6)-1) -> #VALUE! | G24: =OFFSET([1]Cotações!$A$1,MATCH(COUNTIF($H$1:$H24,"Cotações"),[1]Cotações!$J$1:$J$65536,0)-1,COLUMN('[2]SINAPI 05_2024'!F$6)-1) -> #VALUE! | H24: Cotações
A25: =CONCATENAR -> #REF! | B25: =OFFSET([1]Cotações!$A$1,MATCH(COUNTIF($H$1:$H25,"Cotações"),[1]Cotações!$J$1:$J$65536,0)-1,COLUMN('[2]SINAPI 05_2024'!B$6)-1) -> #VALUE! | C25: =OFFSET([1]Cotações!$A$1,MATCH(COUNTIF($H$1:$H25,"Cotações"),[1]Cotações!$J$1:$J$65536,0)-1,COLUMN('[2]SINAPI 05_2024'!C$6)-1) -> #VALUE! | D25: =IF(COUNTIF(OFFSET('[2]SINAPI 05_2024'!$A$6,1+NCOMPOSICOES,0,NCOTACOES),$A25)>1,"CÓDIGO REPETIDO",OFFSET([1]Cotações!$A$1,MATCH(COUNTIF($H$1:$H25,"Cotações"),[1]Cotações!$J$1:$J$65536,0)-1,COLUMN('[2]SINAPI 05_2024'!D$6)-1)) -> #VALUE! | E25: =OFFSET([1]Cotações!$A$1,MATCH(COUNTIF($H$1:$H25,"Cotações"),[1]Cotações!$J$1:$J$65536,0)-1,COLUMN('[2]SINAPI 05_2024'!E$6)-1) -> #VALUE! | F25: =OFFSET([1]Cotações!$A$1,MATCH(COUNTIF($H$1:$H25,"Cotações"),[1]Cotações!$J$1:$J$65536,0)-1,COLUMN('[2]SINAPI 05_2024'!F$6)-1) -> #VALUE! | G25: =OFFSET([1]Cotações!$A$1,MATCH(COUNTIF($H$1:$H25,"Cotações"),[1]Cotações!$J$1:$J$65536,0)-1,COLUMN('[2]SINAPI 05_2024'!F$6)-1) -> #VALUE! | H25: Cotações
A26: =CONCATENAR -> #REF! | B26: =OFFSET([1]Cotações!$A$1,MATCH(COUNTIF($H$1:$H26,"Cotações"),[1]Cotações!$J$1:$J$65536,0)-1,COLUMN('[2]SINAPI 05_2024'!B$6)-1) -> #VALUE! | C26: =OFFSET([1]Cotações!$A$1,MATCH(COUNTIF($H$1:$H26,"Cotações"),[1]Cotações!$J$1:$J$65536,0)-1,COLUMN('[2]SINAPI 05_2024'!C$6)-1) -> #VALUE! | D26: =IF(COUNTIF(OFFSET('[2]SINAPI 05_2024'!$A$6,1+NCOMPOSICOES,0,NCOTACOES),$A26)>1,"CÓDIGO REPETIDO",OFFSET([1]Cotações!$A$1,MATCH(COUNTIF($H$1:$H26,"Cotações"),[1]Cotações!$J$1:$J$65536,0)-1,COLUMN('[2]SINAPI 05_2024'!D$6)-1)) -> #VALUE! | E26: =OFFSET([1]Cotações!$A$1,MATCH(COUNTIF($H$1:$H26,"Cotações"),[1]Cotações!$J$1:$J$65536,0)-1,COLUMN('[2]SINAPI 05_2024'!E$6)-1) -> #VALUE! | F26: =OFFSET([1]Cotações!$A$1,MATCH(COUNTIF($H$1:$H26,"Cotações"),[1]Cotações!$J$1:$J$65536,0)-1,COLUMN('[2]SINAPI 05_2024'!F$6)-1) -> #VALUE! | G26: =OFFSET([1]Cotações!$A$1,MATCH(COUNTIF($H$1:$H26,"Cotações"),[1]Cotações!$J$1:$J$65536,0)-1,COLUMN('[2]SINAPI 05_2024'!F$6)-1) -> #VALUE! | H26: Cotações
A27: =CONCATENAR -> #REF! | B27: =OFFSET([1]Cotações!$A$1,MATCH(COUNTIF($H$1:$H27,"Cotações"),[1]Cotações!$J$1:$J$65536,0)-1,COLUMN('[2]SINAPI 05_2024'!B$6)-1) -> #VALUE! | C27: =OFFSET([1]Cotações!$A$1,MATCH(COUNTIF($H$1:$H27,"Cotações"),[1]Cotações!$J$1:$J$65536,0)-1,COLUMN('[2]SINAPI 05_2024'!C$6)-1) -> #VALUE! | D27: =IF(COUNTIF(OFFSET('[2]SINAPI 05_2024'!$A$6,1+NCOMPOSICOES,0,NCOTACOES),$A27)>1,"CÓDIGO REPETIDO",OFFSET([1]Cotações!$A$1,MATCH(COUNTIF($H$1:$H27,"Cotações"),[1]Cotações!$J$1:$J$65536,0)-1,COLUMN('[2]SINAPI 05_2024'!D$6)-1)) -> #VALUE! | E27: =OFFSET([1]Cotações!$A$1,MATCH(COUNTIF($H$1:$H27,"Cotações"),[1]Cotações!$J$1:$J$65536,0)-1,COLUMN('[2]SINAPI 05_2024'!E$6)-1) -> #VALUE! | F27: =OFFSET([1]Cotações!$A$1,MATCH(COUNTIF($H$1:$H27,"Cotações"),[1]Cotações!$J$1:$J$65536,0)-1,COLUMN('[2]SINAPI 05_2024'!F$6)-1) -> #VALUE! | G27: =OFFSET([1]Cotações!$A$1,MATCH(COUNTIF($H$1:$H27,"Cotações"),[1]Cotações!$J$1:$J$65536,0)-1,COLUMN('[2]SINAPI 05_2024'!F$6)-1) -> #VALUE! | H27: Cotações
A28: =CONCATENAR -> #REF! | B28: =OFFSET([1]Cotações!$A$1,MATCH(COUNTIF($H$1:$H28,"Cotações"),[1]Cotações!$J$1:$J$65536,0)-1,COLUMN('[2]SINAPI 05_2024'!B$6)-1) -> #VALUE! | C28: =OFFSET([1]Cotações!$A$1,MATCH(COUNTIF($H$1:$H28,"Cotações"),[1]Cotações!$J$1:$J$65536,0)-1,COLUMN('[2]SINAPI 05_2024'!C$6)-1) -> #VALUE! | D28: =IF(COUNTIF(OFFSET('[2]SINAPI 05_2024'!$A$6,1+NCOMPOSICOES,0,NCOTACOES),$A28)>1,"CÓDIGO REPETIDO",OFFSET([1]Cotações!$A$1,MATCH(COUNTIF($H$1:$H28,"Cotações"),[1]Cotações!$J$1:$J$65536,0)-1,COLUMN('[2]SINAPI 05_2024'!D$6)-1)) -> #VALUE! | E28: =OFFSET([1]Cotações!$A$1,MATCH(COUNTIF($H$1:$H28,"Cotações"),[1]Cotações!$J$1:$J$65536,0)-1,COLUMN('[2]SINAPI 05_2024'!E$6)-1) -> #VALUE! | F28: =OFFSET([1]Cotações!$A$1,MATCH(COUNTIF($H$1:$H28,"Cotações"),[1]Cotações!$J$1:$J$65536,0)-1,COLUMN('[2]SINAPI 05_2024'!F$6)-1) -> #VALUE! | G28: =OFFSET([1]Cotações!$A$1,MATCH(COUNTIF($H$1:$H28,"Cotações"),[1]Cotações!$J$1:$J$65536,0)-1,COLUMN('[2]SINAPI 05_2024'!F$6)-1) -> #VALUE! | H28: Cotações
A29: =CONCATENAR -> #REF! | B29: =OFFSET([1]Cotações!$A$1,MATCH(COUNTIF($H$1:$H29,"Cotações"),[1]Cotações!$J$1:$J$65536,0)-1,COLUMN('[2]SINAPI 05_2024'!B$6)-1) -> #VALUE! | C29: =OFFSET([1]Cotações!$A$1,MATCH(COUNTIF($H$1:$H29,"Cotações"),[1]Cotações!$J$1:$J$65536,0)-1,COLUMN('[2]SINAPI 05_2024'!C$6)-1) -> #VALUE! | D29: =IF(COUNTIF(OFFSET('[2]SINAPI 05_2024'!$A$6,1+NCOMPOSICOES,0,NCOTACOES),$A29)>1,"CÓDIGO REPETIDO",OFFSET([1]Cotações!$A$1,MATCH(COUNTIF($H$1:$H29,"Cotações"),[1]Cotações!$J$1:$J$65536,0)-1,COLUMN('[2]SINAPI 05_2024'!D$6)-1)) -> #VALUE! | E29: =OFFSET([1]Cotações!$A$1,MATCH(COUNTIF($H$1:$H29,"Cotações"),[1]Cotações!$J$1:$J$65536,0)-1,COLUMN('[2]SINAPI 05_2024'!E$6)-1) -> #VALUE! | F29: =OFFSET([1]Cotações!$A$1,MATCH(COUNTIF($H$1:$H29,"Cotações"),[1]Cotações!$J$1:$J$65536,0)-1,COLUMN('[2]SINAPI 05_2024'!F$6)-1) -> #VALUE! | G29: =OFFSET([1]Cotações!$A$1,MATCH(COUNTIF($H$1:$H29,"Cotações"),[1]Cotações!$J$1:$J$65536,0)-1,COLUMN('[2]SINAPI 05_2024'!F$6)-1) -> #VALUE! | H29: Cotações
A30: =CONCATENAR -> #REF! | B30: =OFFSET([1]Cotações!$A$1,MATCH(COUNTIF($H$1:$H30,"Cotações"),[1]Cotações!$J$1:$J$65536,0)-1,COLUMN('[2]SINAPI 05_2024'!B$6)-1) -> #VALUE! | C30: =OFFSET([1]Cotações!$A$1,MATCH(COUNTIF($H$1:$H30,"Cotações"),[1]Cotações!$J$1:$J$65536,0)-1,COLUMN('[2]SINAPI 05_2024'!C$6)-1) -> #VALUE! | D30: =IF(COUNTIF(OFFSET('[2]SINAPI 05_2024'!$A$6,1+NCOMPOSICOES,0,NCOTACOES),$A30)>1,"CÓDIGO REPETIDO",OFFSET([1]Cotações!$A$1,MATCH(COUNTIF($H$1:$H30,"Cotações"),[1]Cotações!$J$1:$J$65536,0)-1,COLUMN('[2]SINAPI 05_2024'!D$6)-1)) -> #VALUE! | E30: =OFFSET([1]Cotações!$A$1,MATCH(COUNTIF($H$1:$H30,"Cotações"),[1]Cotações!$J$1:$J$65536,0)-1,COLUMN('[2]SINAPI 05_2024'!E$6)-1) -> #VALUE! | F30: =OFFSET([1]Cotações!$A$1,MATCH(COUNTIF($H$1:$H30,"Cotações"),[1]Cotações!$J$1:$J$65536,0)-1,COLUMN('[2]SINAPI 05_2024'!F$6)-1) -> #VALUE! | G30: =OFFSET([1]Cotações!$A$1,MATCH(COUNTIF($H$1:$H30,"Cotações"),[1]Cotações!$J$1:$J$65536,0)-1,COLUMN('[2]SINAPI 05_2024'!F$6)-1) -> #VALUE! | H30: Cotações
A31: =CONCATENAR -> #REF! | B31: =OFFSET([1]Cotações!$A$1,MATCH(COUNTIF($H$1:$H31,"Cotações"),[1]Cotações!$J$1:$J$65536,0)-1,COLUMN('[2]SINAPI 05_2024'!B$6)-1) -> #VALUE! | C31: =OFFSET([1]Cotações!$A$1,MATCH(COUNTIF($H$1:$H31,"Cotações"),[1]Cotações!$J$1:$J$65536,0)-1,COLUMN('[2]SINAPI 05_2024'!C$6)-1) -> #VALUE! | D31: =IF(COUNTIF(OFFSET('[2]SINAPI 05_2024'!$A$6,1+NCOMPOSICOES,0,NCOTACOES),$A31)>1,"CÓDIGO REPETIDO",OFFSET([1]Cotações!$A$1,MATCH(COUNTIF($H$1:$H31,"Cotações"),[1]Cotações!$J$1:$J$65536,0)-1,COLUMN('[2]SINAPI 05_2024'!D$6)-1)) -> #VALUE! | E31: =OFFSET([1]Cotações!$A$1,MATCH(COUNTIF($H$1:$H31,"Cotações"),[1]Cotações!$J$1:$J$65536,0)-1,COLUMN('[2]SINAPI 05_2024'!E$6)-1) -> #VALUE! | F31: =OFFSET([1]Cotações!$A$1,MATCH(COUNTIF($H$1:$H31,"Cotações"),[1]Cotações!$J$1:$J$65536,0)-1,COLUMN('[2]SINAPI 05_2024'!F$6)-1) -> #VALUE! | G31: =OFFSET([1]Cotações!$A$1,MATCH(COUNTIF($H$1:$H31,"Cotações"),[1]Cotações!$J$1:$J$65536,0)-1,COLUMN('[2]SINAPI 05_2024'!F$6)-1) -> #VALUE! | H31: Cotações
A32: =CONCATENAR -> #REF! | B32: =OFFSET([1]Cotações!$A$1,MATCH(COUNTIF($H$1:$H32,"Cotações"),[1]Cotações!$J$1:$J$65536,0)-1,COLUMN('[2]SINAPI 05_2024'!B$6)-1) -> #VALUE! | C32: =OFFSET([1]Cotações!$A$1,MATCH(COUNTIF($H$1:$H32,"Cotações"),[1]Cotações!$J$1:$J$65536,0)-1,COLUMN('[2]SINAPI 05_2024'!C$6)-1) -> #VALUE! | D32: =IF(COUNTIF(OFFSET('[2]SINAPI 05_2024'!$A$6,1+NCOMPOSICOES,0,NCOTACOES),$A32)>1,"CÓDIGO REPETIDO",OFFSET([1]Cotações!$A$1,MATCH(COUNTIF($H$1:$H32,"Cotações"),[1]Cotações!$J$1:$J$65536,0)-1,COLUMN('[2]SINAPI 05_2024'!D$6)-1)) -> #VALUE! | E32: =OFFSET([1]Cotações!$A$1,MATCH(COUNTIF($H$1:$H32,"Cotações"),[1]Cotações!$J$1:$J$65536,0)-1,COLUMN('[2]SINAPI 05_2024'!E$6)-1) -> #VALUE! | F32: =OFFSET([1]Cotações!$A$1,MATCH(COUNTIF($H$1:$H32,"Cotações"),[1]Cotações!$J$1:$J$65536,0)-1,COLUMN('[2]SINAPI 05_2024'!F$6)-1) -> #VALUE! | G32: =OFFSET([1]Cotações!$A$1,MATCH(COUNTIF($H$1:$H32,"Cotações"),[1]Cotações!$J$1:$J$65536,0)-1,COLUMN('[2]SINAPI 05_2024'!F$6)-1) -> #VALUE! | H32: Cotações
A33: =CONCATENAR -> #REF! | B33: =OFFSET([1]Cotações!$A$1,MATCH(COUNTIF($H$1:$H33,"Cotações"),[1]Cotações!$J$1:$J$65536,0)-1,COLUMN('[2]SINAPI 05_2024'!B$6)-1) -> #VALUE! | C33: =OFFSET([1]Cotações!$A$1,MATCH(COUNTIF($H$1:$H33,"Cotações"),[1]Cotações!$J$1:$J$65536,0)-1,COLUMN('[2]SINAPI 05_2024'!C$6)-1) -> #VALUE! | D33: =IF(COUNTIF(OFFSET('[2]SINAPI 05_2024'!$A$6,1+NCOMPOSICOES,0,NCOTACOES),$A33)>1,"CÓDIGO REPETIDO",OFFSET([1]Cotações!$A$1,MATCH(COUNTIF($H$1:$H33,"Cotações"),[1]Cotações!$J$1:$J$65536,0)-1,COLUMN('[2]SINAPI 05_2024'!D$6)-1)) -> #VALUE! | E33: =OFFSET([1]Cotações!$A$1,MATCH(COUNTIF($H$1:$H33,"Cotações"),[1]Cotações!$J$1:$J$65536,0)-1,COLUMN('[2]SINAPI 05_2024'!E$6)-1) -> #VALUE! | F33: =OFFSET([1]Cotações!$A$1,MATCH(COUNTIF($H$1:$H33,"Cotações"),[1]Cotações!$J$1:$J$65536,0)-1,COLUMN('[2]SINAPI 05_2024'!F$6)-1) -> #VALUE! | G33: =OFFSET([1]Cotações!$A$1,MATCH(COUNTIF($H$1:$H33,"Cotações"),[1]Cotações!$J$1:$J$65536,0)-1,COLUMN('[2]SINAPI 05_2024'!F$6)-1) -> #VALUE! | H33: Cotações
... A36: =CONCATENAR -> #REF! | B36: =OFFSET([1]Cotações!$A$1,MATCH(COUNTIF($H$1:$H36,"Cotações"),[1]Cotações!$J$1:$J$65536,0)-1,COLUMN('[2]SINAPI 05_2024'!B$6)-1) -> #VALUE! | C36: =OFFSET([1]Cotações!$A$1,MATCH(COUNTIF($H$1:$H36,"Cotações"),[1]Cotações!$J$1:$J$65536,0)-1,COLUMN('[2]SINAPI 05_2024'!C$6)-1) -> #VALUE! | D36: =IF(COUNTIF(OFFSET('[2]SINAPI 05_2024'!$A$6,1+NCOMPOSICOES,0,NCOTACOES),$A36)>1,"CÓDIGO REPETIDO",OFFSET([1]Cotações!$A$1,MATCH(COUNTIF($H$1:$H36,"Cotações"),[1]Cotações!$J$1:$J$65536,0)-1,COLUMN('[2]SINAPI 05_2024'!D$6)-1)) -> #VALUE! | E36: =OFFSET([1]Cotações!$A$1,MATCH(COUNTIF($H$1:$H36,"Cotações"),[1]Cotações!$J$1:$J$65536,0)-1,COLUMN('[2]SINAPI 05_2024'!E$6)-1) -> #VALUE! | F36: =OFFSET([1]Cotações!$A$1,MATCH(COUNTIF($H$1:$H36,"Cotações"),[1]Cotações!$J$1:$J$65536,0)-1,COLUMN('[2]SINAPI 05_2024'!F$6)-1) -> #VALUE! | G36: =OFFSET([1]Cotações!$A$1,MATCH(COUNTIF($H$1:$H36,"Cotações"),[1]Cotações!$J$1:$J$65536,0)-1,COLUMN('[2]SINAPI 05_2024'!F$6)-1) -> #VALUE! | H36: Cotações
A37: =CONCATENAR -> #REF! | B37: SINAPI-I | C37: 38605 | D37: ABERTURA PARA ENCAIXE DE CUBA OU LAVATORIO EM BANCADA DE MARMORE/ GRANITO OU OUTRO TIPO DE PEDRA NATURAL | E37: UN | F37: 181,16 | G37: 181,16 | H37: SINAPI-I - NACIONAL CAIXA
A38: =CONCATENAR -> #REF! | B38: SINAPI-I | C38: 11270 | D38: ABRACADEIRA DE LATAO PARA FIXACAO DE CABO PARA-RAIO, DIMENSOES 32 X 24 X 24 MM | E38: UN | F38: 2,86 | G38: 2,86
A39: =CONCATENAR -> #REF! | B39: SINAPI-I | C39: 412 | D39: ABRACADEIRA DE NYLON PARA AMARRACAO DE CABOS, COMPRIMENTO DE *230* X *7,6* MM | E39: UN | F39: 1,08 | G39: 1,08
A40: =CONCATENAR -> #REF! | B40: SINAPI-I | C40: 414 | D40: ABRACADEIRA DE NYLON PARA AMARRACAO DE CABOS, COMPRIMENTO DE 100 X 2,5 MM | E40: UN | F40: 0,06 | G40: 0,06
A41: =CONCATENAR -> #REF! | B41: SINAPI-I | C41: 410 | D41: ABRACADEIRA DE NYLON PARA AMARRACAO DE CABOS, COMPRIMENTO DE 150 X *3,6* MM | E41: UN | F41: 0,16 | G41: 0,16
A42: =CONCATENAR -> #REF! | B42: SINAPI-I | C42: 411 | D42: ABRACADEIRA DE NYLON PARA AMARRACAO DE CABOS, COMPRIMENTO DE 200 X *4,6* MM | E42: UN | F42: 0,21 | G42: 0,21
A43: =CONCATENAR -> #REF! | B43: SINAPI-I | C43: 408 | D43: ABRACADEIRA DE NYLON PARA AMARRACAO DE CABOS, COMPRIMENTO DE 390 X *4,6* MM | E43: UN | F43: 1,04 | G43: 1,04
A44: =CONCATENAR -> #REF! | B44: SINAPI-I | C44: 39131 | D44: ABRACADEIRA EM ACO PARA AMARRACAO DE ELETRODUTOS, TIPO D, COM 1 1/2" E CUNHA DE FIXACAO | E44: UN | F44: 4,25 | G44: 4,25
A45: =CONCATENAR -> #REF! | B45: SINAPI-I | C45: 394 | D45: ABRACADEIRA EM ACO PARA AMARRACAO DE ELETRODUTOS, TIPO D, COM 1 1/2" E PARAFUSO DE FIXACAO | E45: UN | F45: 4,30 | G45: 4,30
...
