Workbook

Sheet ORÇAMENTO
A1: TIMBRE
A3: OBJETO: REFORMA MELHOR IDADE
A4: BOLETIM REFERENCIAL DE CUSTOS - TABELA DE SERVIÇOS - Versão 200 (COM DESONERAÇÃO) - DATA BASE: JAN/2026
A5: ITEM | B5: COD. CDHU | C5: SERVIÇO | D5: UND | E5: QTD | F5: $MAT | G5: $MDO | H5: $UNIT | J5: $TOTAL_MAT | K5: $TOTAL MDO | L5: $TOTAL | M5: $TOTAL+BDI=
H6: (MAT+MDO) | L6: (MAT+MDO) | M6: =BDI!D17 -> 0.2685
A7: 1 | C7: SERVIÇOS PRELIMINARAES | J7: =SUM(J8:J11) -> #REF! | K7: =SUM(K8:K11) -> #REF! | L7: =SUM(L8:L11) -> 0 | M7: =SUM(M8:M11) -> 0
A8: 1.1 | B8: 02.08.020 | C8: Placa de identificação para obra | D8: M2 | E8: 1.5 | F8: =VLOOKUP(B8,#REF!,4,0) -> #REF! | G8: =VLOOKUP(B8,#REF!,5,0) -> #REF! | I8: =F8+G8 -> #REF! | J8: =ROUND(E8*F8,2) -> #REF! | K8: =ROUND(E8*G8,2) -> #REF! | L8: =ROUND(E8*H8,2) -> 0 | M8: =L8*(1+$M$6) -> 0
A9: 1.2 | B9: 03.01.020 | C9: Demolição manual de concreto simples | D9: M3 | E9: 1.54 | F9: =VLOOKUP(B9,#REF!,4,0) -> #REF! | G9: =VLOOKUP(B9,#REF!,5,0) -> #REF! | I9: =F9+G9 -> #REF! | J9: =ROUND(E9*F9,2) -> #REF! | K9: =ROUND(E9*G9,2) -> #REF! | L9: =ROUND(E9*H9,2) -> 0 | M9: =L9*(1+$M$6) -> 0
A10: 1.3 | B10: 01.20.010 | C10: Taxa de mobilização e desmobilização de equipamentos para execução de levantamento topográfico | D10: TX | E10: 1 | F10: =VLOOKUP(B10,#REF!,4,0) -> #REF! | G10: =VLOOKUP(B10,#REF!,5,0) -> #REF! | I10: =F10+G10 -> #REF! | J10: =ROUND(E10*F10,2) -> #REF! | K10: =ROUND(E10*G10,2) -> #REF! | L10: =ROUND(E10*H10,2) -> 0 | M10: =L10*(1+$M$6) -> 0
A11: 1.4 | B11: 01.20.781 | C11: Levantamento planialtimétrico cadastral com áreas ocupadas predominantemente por comunidades - área até 20.000 m² (mínimo de 3.500 m²) | D11: M2 | E11: 411.78 | F11: =VLOOKUP(B11,#REF!,4,0) -> #REF! | G11: =VLOOKUP(B11,#REF!,5,0) -> #REF! | I11: =F11+G11 -> #REF! | J11: =ROUND(E11*F11,2) -> #REF! | K11: =ROUND(E11*G11,2) -> #REF! | L11: =ROUND(E11*H11,2) -> 0 | M11: =L11*(1+$M$6) -> 0
A13: 2 | C13: MURETA | J13: =SUM(J14:J18) -> #REF! | K13: =SUM(K14:K18) -> #REF! | L13: =SUM(L14:L18) -> 0 | M13: =SUM(M14:M18) -> 0
A14: 2.1 | B14: 02.10.050 | C14: Locação para muros, cercas e alambrados | D14: M | E14: 55.2698 | F14: =VLOOKUP(B14,#REF!,4,0) -> #REF! | G14: =VLOOKUP(B14,#REF!,5,0) -> #REF! | I14: =F14+G14 -> #REF! | J14: =ROUND(E14*F14,2) -> #REF! | K14: =ROUND(E14*G14,2) -> #REF! | L14: =ROUND(E14*H14,2) -> 0 | M14: =L14*(1+$M$6) -> 0
A15: 2.2 | B15: 09.01.020 | C15: Forma em madeira comum para fundação | D15: M2 | E15: 38.599198 | F15: =VLOOKUP(B15,#REF!,4,0) -> #REF! | G15: =VLOOKUP(B15,#REF!,5,0) -> #REF! | I15: =F15+G15 -> #REF! | J15: =ROUND(E15*F15,2) -> #REF! | K15: =ROUND(E15*G15,2) -> #REF! | L15: =ROUND(E15*H15,2) -> 0 | M15: =L15*(1+$M$6) -> 0
A16: 2.3 | B16: 10.01.040 | C16: Armadura em barra de aço CA-50 (A ou B) fyk = 500 MPa | D16: KG | E16: 96.140656 | F16: =VLOOKUP(B16,#REF!,4,0) -> #REF! | G16: =VLOOKUP(B16,#REF!,5,0) -> #REF! | I16: =F16+G16 -> #REF! | J16: =ROUND(E16*F16,2) -> #REF! | K16: =ROUND(E16*G16,2) -> #REF! | L16: =ROUND(E16*H16,2) -> 0 | M16: =L16*(1+$M$6) -> 0
A17: 2.4 | B17: 11.04.060 | C17: Concreto não estrutural executado no local, mínimo 300 kg cimento / m³ | D17: M3 | E17: 2.4787 | F17: =VLOOKUP(B17,#REF!,4,0) -> #REF! | G17: =VLOOKUP(B17,#REF!,5,0) -> #REF! | I17: =F17+G17 -> #REF! | J17: =ROUND(E17*F17,2) -> #REF! | K17: =ROUND(E17*G17,2) -> #REF! | L17: =ROUND(E17*H17,2) -> 0 | M17: =L17*(1+$M$6) -> 0
A18: 2.5 | B18: 11.16.060 | C18: Lançamento e adensamento de concreto ou massa em estrutura | D18: M3 | E18: 2.4787 | F18: =VLOOKUP(B18,#REF!,4,0) -> #REF! | G18: =VLOOKUP(B18,#REF!,5,0) -> #REF! | I18: =F18+G18 -> #REF! | J18: =ROUND(E18*F18,2) -> #REF! | K18: =ROUND(E18*G18,2) -> #REF! | L18: =ROUND(E18*H18,2) -> 0 | M18: =L18*(1+$M$6) -> 0
A20: 3 | C20: RAMPAS E PATAMARES | J20: =SUM(J21:J28) -> #REF! | K20: =SUM(K21:K28) -> #REF! | L20: =SUM(L21:L28) -> 0 | M20: =SUM(M21:M28) -> 0
A21: 3.1 | B21: 02.10.060 | C21: Locação de vias, calçadas, tanques e lagoas | D21: M2 | E21: 180.7941 | F21: =VLOOKUP(B21,#REF!,4,0) -> #REF! | G21: =VLOOKUP(B21,#REF!,5,0) -> #REF! | I21: =F21+G21 -> #REF! | J21: =ROUND(E21*F21,2) -> #REF! | K21: =ROUND(E21*G21,2) -> #REF! | L21: =ROUND(E21*H21,2) -> 0 | M21: =L21*(1+$M$6) -> 0
A22: 3.2 | B22: 06.12.020 | C22: Aterro manual apiloado de área interna com maço de 30 kg | D22: M3 | E22: 30.4385 | F22: =VLOOKUP(B22,#REF!,4,0) -> #REF! | G22: =VLOOKUP(B22,#REF!,5,0) -> #REF! | I22: =F22+G22 -> #REF! | J22: =ROUND(E22*F22,2) -> #REF! | K22: =ROUND(E22*G22,2) -> #REF! | L22: =ROUND(E22*H22,2) -> 0 | M22: =L22*(1+$M$6) -> 0
A23: 3.3 | B23: 11.18.040 | C23: Lastro de pedra britada | D23: M3 | E23: 0.687498 | F23: =VLOOKUP(B23,#REF!,4,0) -> #REF! | G23: =VLOOKUP(B23,#REF!,5,0) -> #REF! | I23: =F23+G23 -> #REF! | J23: =ROUND(E23*F23,2) -> #REF! | K23: =ROUND(E23*G23,2) -> #REF! | L23: =ROUND(E23*H23,2) -> 0 | M23: =L23*(1+$M$6) -> 0
A24: 3.4 | B24: 10.02.020 | C24: Armadura em tela soldada de aço | D24: KG | E24: 267.57527 | F24: =VLOOKUP(B24,#REF!,4,0) -> #REF! | G24: =VLOOKUP(B24,#REF!,5,0) -> #REF! | I24: =F24+G24 -> #REF! | J24: =ROUND(E24*F24,2) -> #REF! | K24: =ROUND(E24*G24,2) -> #REF! | L24: =ROUND(E24*H24,2) -> 0 | M24: =L24*(1+$M$6) -> 0
A25: 3.5 | B25: 11.04.060 | C25: Concreto não estrutural executado no local, mínimo 300 kg cimento / m³ | D25: M3 | E25: 15.3598 | F25: =VLOOKUP(B25,#REF!,4,0) -> #REF! | G25: =VLOOKUP(B25,#REF!,5,0) -> #REF! | I25: =F25+G25 -> #REF! | J25: =ROUND(E25*F25,2) -> #REF! | K25: =ROUND(E25*G25,2) -> #REF! | L25: =ROUND(E25*H25,2) -> 0 | M25: =L25*(1+$M$6) -> 0
A26: 3.6 | B26: 11.16.060 | C26: Lançamento e adensamento de concreto ou massa em estrutura | D26: M3 | E26: 15.3598 | F26: =VLOOKUP(B26,#REF!,4,0) -> #REF! | G26: =VLOOKUP(B26,#REF!,5,0) -> #REF! | I26: =F26+G26 -> #REF! | J26: =ROUND(E26*F26,2) -> #REF! | K26: =ROUND(E26*G26,2) -> #REF! | L26: =ROUND(E26*H26,2) -> 0 | M26: =L26*(1+$M$6) -> 0
A27: 3.7 | B27: 17.01.050 | C27: Regularização de piso com nata de cimento | D27: M2 | E27: 180.7941 | F27: =VLOOKUP(B27,#REF!,4,0) -> #REF! | G27: =VLOOKUP(B27,#REF!,5,0) -> #REF! | I27: =F27+G27 -> #REF! | J27: =ROUND(E27*F27,2) -> #REF! | K27: =ROUND(E27*G27,2) -> #REF! | L27: =ROUND(E27*H27,2) -> 0 | M27: =L27*(1+$M$6) -> 0
A28: 3.8 | B28: 33.06.020 | C28: Acrílico para quadras e pisos cimentados | D28: M2 | E28: 180.7941 | F28: =VLOOKUP(B28,#REF!,4,0) -> #REF! | G28: =VLOOKUP(B28,#REF!,5,0) -> #REF! | I28: =F28+G28 -> #REF! | J28: =ROUND(E28*F28,2) -> #REF! | K28: =ROUND(E28*G28,2) -> #REF! | L28: =ROUND(E28*H28,2) -> 0 | M28: =L28*(1+$M$6) -> 0
A30: 4 | C30: ARQUIBANCADA | J30: =SUM(J31:J36) -> #REF! | K30: =SUM(K31:K36) -> #REF! | L30: =SUM(L31:L36) -> 0 | M30: =SUM(M31:M36) -> 0
A31: 4.1 | B31: 14.01.020 | C31: Alvenaria de embasamento em tijolo maciço comum | D31: M3 | E31: 4.1529 | F31: =VLOOKUP(B31,#REF!,4,0) -> #REF! | G31: =VLOOKUP(B31,#REF!,5,0) -> #REF! | I31: =F31+G31 -> #REF! | J31: =ROUND(E31*F31,2) -> #REF! | K31: =ROUND(E31*G31,2) -> #REF! | L31: =ROUND(E31*H31,2) -> 0 | M31: =L31*(1+$M$6) -> 0
A32: 4.2 | B32: 17.02.020 | C32: Chapisco | D32: M2 | E32: 8.1414 | F32: =VLOOKUP(B32,#REF!,4,0) -> #REF! | G32: =VLOOKUP(B32,#REF!,5,0) -> #REF! | I32: =F32+G32 -> #REF! | J32: =ROUND(E32*F32,2) -> #REF! | K32: =ROUND(E32*G32,2) -> #REF! | L32: =ROUND(E32*H32,2) -> 0 | M32: =L32*(1+$M$6) -> 0
A33: 4.3 | B33: 17.02.120 | C33: Emboço comum | D33: M2 | E33: 8.1414 | F33: =VLOOKUP(B33,#REF!,4,0) -> #REF! | G33: =VLOOKUP(B33,#REF!,5,0) -> #REF! | I33: =F33+G33 -> #REF! | J33: =ROUND(E33*F33,2) -> #REF! | K33: =ROUND(E33*G33,2) -> #REF! | L33: =ROUND(E33*H33,2) -> 0 | M33: =L33*(1+$M$6) -> 0
A34: 4.4 | B34: 17.02.220 | C34: Reboco | D34: M2 | E34: 8.1414 | F34: =VLOOKUP(B34,#REF!,4,0) -> #REF! | G34: =VLOOKUP(B34,#REF!,5,0) -> #REF! | I34: =F34+G34 -> #REF! | J34: =ROUND(E34*F34,2) -> #REF! | K34: =ROUND(E34*G34,2) -> #REF! | L34: =ROUND(E34*H34,2) -> 0 | M34: =L34*(1+$M$6) -> 0
A35: 4.5 | B35: 55.01.140 | C35: Limpeza de superfície com hidrojateamento | D35: M2 | E35: 98.2721 | F35: =VLOOKUP(B35,#REF!,4,0) -> #REF! | G35: =VLOOKUP(B35,#REF!,5,0) -> #REF! | I35: =F35+G35 -> #REF! | J35: =ROUND(E35*F35,2) -> #REF! | K35: =ROUND(E35*G35,2) -> #REF! | L35: =ROUND(E35*H35,2) -> 0 | M35: =L35*(1+$M$6) -> 0
A36: 4.6 | B36: 33.06.020 | C36: Acrílico para quadras e pisos cimentados | D36: M2 | E36: 98.2721 | F36: =VLOOKUP(B36,#REF!,4,0) -> #REF! | G36: =VLOOKUP(B36,#REF!,5,0) -> #REF! | I36: =F36+G36 -> #REF! | J36: =ROUND(E36*F36,2) -> #REF! | K36: =ROUND(E36*G36,2) -> #REF! | L36: =ROUND(E36*H36,2) -> 0 | M36: =L36*(1+$M$6) -> 0
A38: 5 | C38: ESCADA | J38: =SUM(J39:J47) -> #REF! | K38: =SUM(K39:K47) -> #REF! | L38: =SUM(L39:L47) -> 0 | M38: =SUM(M39:M47) -> 0
A39: 5.1 | B39: 02.10.060 | C39: Locação de vias, calçadas, tanques e lagoas | D39: M2 | E39: 6.0497 | F39: =VLOOKUP(B39,#REF!,4,0) -> #REF! | G39: =VLOOKUP(B39,#REF!,5,0) -> #REF! | I39: =F39+G39 -> #REF! | J39: =ROUND(E39*F39,2) -> #REF! | K39: =ROUND(E39*G39,2) -> #REF! | L39: =ROUND(E39*H39,2) -> 0 | M39: =L39*(1+$M$6) -> 0
A40: 5.2 | B40: 03.01.020 | C40: Demolição manual de concreto simples | D40: M3 | E40: 2.0697 | F40: =VLOOKUP(B40,#REF!,4,0) -> #REF! | G40: =VLOOKUP(B40,#REF!,5,0) -> #REF! | I40: =F40+G40 -> #REF! | J40: =ROUND(E40*F40,2) -> #REF! | K40: =ROUND(E40*G40,2) -> #REF! | L40: =ROUND(E40*H40,2) -> 0 | M40: =L40*(1+$M$6) -> 0
A41: 5.3 | B41: 11.18.040 | C41: Lastro de pedra britada | D41: M3 | E41: 0.181491 | F41: =VLOOKUP(B41,#REF!,4,0) -> #REF! | G41: =VLOOKUP(B41,#REF!,5,0) -> #REF! | I41: =F41+G41 -> #REF! | J41: =ROUND(E41*F41,2) -> #REF! | K41: =ROUND(E41*G41,2) -> #REF! | L41: =ROUND(E41*H41,2) -> 0 | M41: =L41*(1+$M$6) -> 0
A42: 5.4 | B42: 09.01.020 | C42: Forma em madeira comum para fundação | D42: M2 | E42: 3.42 | F42: =VLOOKUP(B42,#REF!,4,0) -> #REF! | G42: =VLOOKUP(B42,#REF!,5,0) -> #REF! | I42: =F42+G42 -> #REF! | J42: =ROUND(E42*F42,2) -> #REF! | K42: =ROUND(E42*G42,2) -> #REF! | L42: =ROUND(E42*H42,2) -> 0 | M42: =L42*(1+$M$6) -> 0
A43: 5.5 | B43: 10.02.020 | C43: Armadura em tela soldada de aço | D43: KG | E43: 8.953556 | F43: =VLOOKUP(B43,#REF!,4,0) -> #REF! | G43: =VLOOKUP(B43,#REF!,5,0) -> #REF! | I43: =F43+G43 -> #REF! | J43: =ROUND(E43*F43,2) -> #REF! | K43: =ROUND(E43*G43,2) -> #REF! | L43: =ROUND(E43*H43,2) -> 0 | M43: =L43*(1+$M$6) -> 0
A44: 5.6 | B44: 11.04.060 | C44: Concreto não estrutural executado no local, mínimo 300 kg cimento / m³ | D44: M3 | E44: 1.1245 | F44: =VLOOKUP(B44,#REF!,4,0) -> #REF! | G44: =VLOOKUP(B44,#REF!,5,0) -> #REF! | I44: =F44+G44 -> #REF! | J44: =ROUND(E44*F44,2) -> #REF! | K44: =ROUND(E44*G44,2) -> #REF! | L44: =ROUND(E44*H44,2) -> 0 | M44: =L44*(1+$M$6) -> 0
A45: 5.7 | B45: 11.16.060 | C45: Lançamento e adensamento de concreto ou massa em estrutura | D45: M3 | E45: 1.1245 | F45: =VLOOKUP(B45,#REF!,4,0) -> #REF! | G45: =VLOOKUP(B45,#REF!,5,0) -> #REF! | I45: =F45+G45 -> #REF! | J45: =ROUND(E45*F45,2) -> #REF! | K45: =ROUND(E45*G45,2) -> #REF! | L45: =ROUND(E45*H45,2) -> 0 | M45: =L45*(1+$M$6) -> 0
...

Sheet CRONOGRAMA
A1: =ORÇAMENTO!$A$1 -> TIMBRE
A3: =ORÇAMENTO!$A$3 -> OBJETO: REFORMA MELHOR IDADE
A4: =ORÇAMENTO!$A$4 -> BOLETIM REFERENCIAL DE CUSTOS - TABELA DE SERVIÇOS - Versão 200 (COM DESONERAÇÃO) - DATA BASE: JAN/2026
A5: CRONOGRAMA FÍSICO
A6: ITEM | B6: ATIVIDADE | C6: TOTAIS | D6: MÊS 1 | E6: MÊS 2 | F6: MÊS 3 | G6: MÊS 4 | H6: MÊS 5 | I6: MÊS 6
A7: 1 | B7: =VLOOKUP(A7,ORÇAMENTO!$A$7:$M$142,3,0) -> SERVIÇOS PRELIMINARAES | C7: =VLOOKUP(A7,ORÇAMENTO!$A$7:$M$142,13,0) -> 0 | D7: =D8+D10+D12+D14 -> 0 | E7: =E8+E10+E12+E14 -> 0 | F7: =F8+F10+F12+F14 -> 0 | G7: =G8+G10+G12+G14 -> 0 | H7: =H8+H10+H12+H14 -> 0 | I7: =I8+I10+I12+I14 -> 0
A8: 1.1 | B8: =VLOOKUP(A8,ORÇAMENTO!$A$7:$M$142,3,0) -> Placa de identificação para obra | C8: =VLOOKUP(A8,ORÇAMENTO!$A$7:$M$142,13,0) -> 0 | D8: =$C8*D9 -> 0 | E8: =$C8*E9 -> 0 | F8: =$C8*F9 -> 0 | G8: =$C8*G9 -> 0 | H8: =$C8*H9 -> 0 | I8: =$C8*I9 -> 0
A10: 1.2 | B10: =VLOOKUP(A10,ORÇAMENTO!$A$7:$M$142,3,0) -> Demolição manual de concreto simples | C10: =VLOOKUP(A10,ORÇAMENTO!$A$7:$M$142,13,0) -> 0 | D10: =$C10*D11 -> 0 | E10: =$C10*E11 -> 0 | F10: =$C10*F11 -> 0 | G10: =$C10*G11 -> 0 | H10: =$C10*H11 -> 0 | I10: =$C10*I11 -> 0
A12: 1.3 | B12: =VLOOKUP(A12,ORÇAMENTO!$A$7:$M$142,3,0) -> Taxa de mobilização e desmobilização de equipamentos para execução de levantamento topográfico | C12: =VLOOKUP(A12,ORÇAMENTO!$A$7:$M$142,13,0) -> 0 | D12: =$C12*D13 -> 0 | E12: =$C12*E13 -> 0 | F12: =$C12*F13 -> 0 | G12: =$C12*G13 -> 0 | H12: =$C12*H13 -> 0 | I12: =$C12*I13 -> 0
A14: 1.4 | B14: =VLOOKUP(A14,ORÇAMENTO!$A$7:$M$142,3,0) -> Levantamento planialtimétrico cadastral com áreas ocupadas predominantemente por comunidades - área até 20.000 m² (mínimo de 3.500 m²) | C14: =VLOOKUP(A14,ORÇAMENTO!$A$7:$M$142,13,0) -> 0 | D14: =$C14*D15 -> 0 | E14: =$C14*E15 -> 0 | F14: =$C14*F15 -> 0 | G14: =$C14*G15 -> 0 | H14: =$C14*H15 -> 0 | I14: =$C14*I15 -> 0
A16: 2 | B16: =VLOOKUP(A16,ORÇAMENTO!$A$7:$M$142,3,0) -> MURETA | C16: =VLOOKUP(A16,ORÇAMENTO!$A$7:$M$142,13,0) -> 0 | D16: =D17+D19+D21+D23+D25 -> 0 | E16: =SUM(E17,E19,E21,E23,E25) -> 0 | F16: =SUM(F17,F19,F21,F23,F25) -> 0 | G16: =SUM(G17,G19,G21,G23,G25) -> 0 | H16: =SUM(H17,H19,H21,H23,H25) -> 0 | I16: =SUM(I17,I19,I21,I23,I25) -> 0
A17: 2.1 | B17: =VLOOKUP(A17,ORÇAMENTO!$A$7:$M$142,3,0) -> Locação para muros, cercas e alambrados | C17: =VLOOKUP(A17,ORÇAMENTO!$A$7:$M$142,13,0) -> 0 | D17: =$C17*D18 -> 0 | E17: =$C17*E18 -> 0 | F17: =$C17*F18 -> 0 | G17: =$C17*G18 -> 0 | H17: =$C17*H18 -> 0 | I17: =$C17*I18 -> 0
A19: 2.2 | B19: =VLOOKUP(A19,ORÇAMENTO!$A$7:$M$142,3,0) -> Forma em madeira comum para fundação | C19: =VLOOKUP(A19,ORÇAMENTO!$A$7:$M$142,13,0) -> 0 | D19: =$C19*D20 -> 0 | E19: =$C19*E20 -> 0 | F19: =$C19*F20 -> 0 | G19: =$C19*G20 -> 0 | H19: =$C19*H20 -> 0 | I19: =$C19*I20 -> 0
A21: 2.3 | B21: =VLOOKUP(A21,ORÇAMENTO!$A$7:$M$142,3,0) -> Armadura em barra de aço CA-50 (A ou B) fyk = 500 MPa | C21: =VLOOKUP(A21,ORÇAMENTO!$A$7:$M$142,13,0) -> 0 | D21: =$C21*D22 -> 0 | E21: =$C21*E22 -> 0 | F21: =$C21*F22 -> 0 | G21: =$C21*G22 -> 0 | H21: =$C21*H22 -> 0 | I21: =$C21*I22 -> 0
A23: 2.4 | B23: =VLOOKUP(A23,ORÇAMENTO!$A$7:$M$142,3,0) -> Concreto não estrutural executado no local, mínimo 300 kg cimento / m³ | C23: =VLOOKUP(A23,ORÇAMENTO!$A$7:$M$142,13,0) -> 0 | D23: =$C23*D24 -> 0 | E23: =$C23*E24 -> 0 | F23: =$C23*F24 -> 0 | G23: =$C23*G24 -> 0 | H23: =$C23*H24 -> 0 | I23: =$C23*I24 -> 0
A25: 2.5 | B25: =VLOOKUP(A25,ORÇAMENTO!$A$7:$M$142,3,0) -> Lançamento e adensamento de concreto ou massa em estrutura | C25: =VLOOKUP(A25,ORÇAMENTO!$A$7:$M$142,13,0) -> 0 | D25: =$C25*D26 -> 0 | E25: =$C25*E26 -> 0 | F25: =$C25*F26 -> 0 | G25: =$C25*G26 -> 0 | H25: =$C25*H26 -> 0 | I25: =$C25*I26 -> 0
A27: 3 | B27: =VLOOKUP(A27,ORÇAMENTO!$A$7:$M$142,3,0) -> RAMPAS E PATAMARES | C27: =VLOOKUP(A27,ORÇAMENTO!$A$7:$M$142,13,0) -> 0 | D27: =D28+D30+D32+D34+D36+D38+D40+D42 -> 0 | E27: =E28+E30+E32+E34+E36+E38+E40+E42 -> 0 | F27: =F28+F30+F32+F34+F36+F38+F40+F42 -> 0 | G27: =G28+G30+G32+G34+G36+G38+G40+G42 -> 0 | H27: =H28+H30+H32+H34+H36+H38+H40+H42 -> 0 | I27: =I28+I30+I32+I34+I36+I38+I40+I42 -> 0
A28: 3.1 | B28: =VLOOKUP(A28,ORÇAMENTO!$A$7:$M$142,3,0) -> Locação de vias, calçadas, tanques e lagoas | C28: =VLOOKUP(A28,ORÇAMENTO!$A$7:$M$142,13,0) -> 0 | D28: =$C28*D29 -> 0 | E28: =$C28*E29 -> 0 | F28: =$C28*F29 -> 0 | G28: =$C28*G29 -> 0 | H28: =$C28*H29 -> 0 | I28: =$C28*I29 -> 0
A30: 3.2 | B30: =VLOOKUP(A30,ORÇAMENTO!$A$7:$M$142,3,0) -> Aterro manual apiloado de área interna com maço de 30 kg | C30: =VLOOKUP(A30,ORÇAMENTO!$A$7:$M$142,13,0) -> 0 | D30: =$C30*D31 -> 0 | E30: =$C30*E31 -> 0 | F30: =$C30*F31 -> 0 | G30: =$C30*G31 -> 0 | H30: =$C30*H31 -> 0 | I30: =$C30*I31 -> 0
A32: 3.3 | B32: =VLOOKUP(A32,ORÇAMENTO!$A$7:$M$142,3,0) -> Lastro de pedra britada | C32: =VLOOKUP(A32,ORÇAMENTO!$A$7:$M$142,13,0) -> 0 | D32: =$C32*D33 -> 0 | E32: =$C32*E33 -> 0 | F32: =$C32*F33 -> 0 | G32: =$C32*G33 -> 0 | H32: =$C32*H33 -> 0 | I32: =$C32*I33 -> 0
A34: 3.4 | B34: =VLOOKUP(A34,ORÇAMENTO!$A$7:$M$142,3,0) -> Armadura em tela soldada de aço | C34: =VLOOKUP(A34,ORÇAMENTO!$A$7:$M$142,13,0) -> 0 | D34: =$C34*D35 -> 0 | E34: =$C34*E35 -> 0 | F34: =$C34*F35 -> 0 | G34: =$C34*G35 -> 0 | H34: =$C34*H35 -> 0 | I34: =$C34*I35 -> 0
A36: 3.5 | B36: =VLOOKUP(A36,ORÇAMENTO!$A$7:$M$142,3,0) -> Concreto não estrutural executado no local, mínimo 300 kg cimento / m³ | C36: =VLOOKUP(A36,ORÇAMENTO!$A$7:$M$142,13,0) -> 0 | D36: =$C36*D37 -> 0 | E36: =$C36*E37 -> 0 | F36: =$C36*F37 -> 0 | G36: =$C36*G37 -> 0 | H36: =$C36*H37 -> 0 | I36: =$C36*I37 -> 0
A38: 3.6 | B38: =VLOOKUP(A38,ORÇAMENTO!$A$7:$M$142,3,0) -> Lançamento e adensamento de concreto ou massa em estrutura | C38: =VLOOKUP(A38,ORÇAMENTO!$A$7:$M$142,13,0) -> 0 | D38: =$C38*D39 -> 0 | E38: =$C38*E39 -> 0 | F38: =$C38*F39 -> 0 | G38: =$C38*G39 -> 0 | H38: =$C38*H39 -> 0 | I38: =$C38*I39 -> 0
A40: 3.7 | B40: =VLOOKUP(A40,ORÇAMENTO!$A$7:$M$142,3,0) -> Regularização de piso com nata de cimento | C40: =VLOOKUP(A40,ORÇAMENTO!$A$7:$M$142,13,0) -> 0 | D40: =$C40*D41 -> 0 | E40: =$C40*E41 -> 0 | F40: =$C40*F41 -> 0 | G40: =$C40*G41 -> 0 | H40: =$C40*H41 -> 0 | I40: =$C40*I41 -> 0
A42: 3.8 | B42: =VLOOKUP(A42,ORÇAMENTO!$A$7:$M$142,3,0) -> Acrílico para quadras e pisos cimentados | C42: =VLOOKUP(A42,ORÇAMENTO!$A$7:$M$142,13,0) -> 0 | D42: =$C42*D43 -> 0 | E42: =$C42*E43 -> 0 | F42: =$C42*F43 -> 0 | G42: =$C42*G43 -> 0 | H42: =$C42*H43 -> 0 | I42: =$C42*I43 -> 0
A44: 4 | B44: =VLOOKUP(A44,ORÇAMENTO!$A$7:$M$142,3,0) -> ARQUIBANCADA | C44: =VLOOKUP(A44,ORÇAMENTO!$A$7:$M$142,13,0) -> 0 | D44: =D45+D47+D49+D51+D53+D55 -> 0 | E44: =E45+E47+E49+E51+E53+E55 -> 0 | F44: =F45+F47+F49+F51+F53+F55 -> 0 | G44: =G45+G47+G49+G51+G53+G55 -> 0 | H44: =H45+H47+H49+H51+H53+H55 -> 0 | I44: =I45+I47+I49+I51+I53+I55 -> 0
A45: 4.1 | B45: =VLOOKUP(A45,ORÇAMENTO!$A$7:$M$142,3,0) -> Alvenaria de embasamento em tijolo maciço comum | C45: =VLOOKUP(A45,ORÇAMENTO!$A$7:$M$142,13,0) -> 0 | D45: =$C45*D46 -> 0 | E45: =$C45*E46 -> 0 | F45: =$C45*F46 -> 0 | G45: =$C45*G46 -> 0 | H45: =$C45*H46 -> 0 | I45: =$C45*I46 -> 0
A47: 4.2 | B47: =VLOOKUP(A47,ORÇAMENTO!$A$7:$M$142,3,0) -> Chapisco | C47: =VLOOKUP(A47,ORÇAMENTO!$A$7:$M$142,13,0) -> 0 | D47: =$C47*D48 -> 0 | E47: =$C47*E48 -> 0 | F47: =$C47*F48 -> 0 | G47: =$C47*G48 -> 0 | H47: =$C47*H48 -> 0 | I47: =$C47*I48 -> 0
A49: 4.3 | B49: =VLOOKUP(A49,ORÇAMENTO!$A$7:$M$142,3,0) -> Emboço comum | C49: =VLOOKUP(A49,ORÇAMENTO!$A$7:$M$142,13,0) -> 0 | D49: =$C49*D50 -> 0 | E49: =$C49*E50 -> 0 | F49: =$C49*F50 -> 0 | G49: =$C49*G50 -> 0 | H49: =$C49*H50 -> 0 | I49: =$C49*I50 -> 0
A51: 4.4 | B51: =VLOOKUP(A51,ORÇAMENTO!$A$7:$M$142,3,0) -> Reboco | C51: =VLOOKUP(A51,ORÇAMENTO!$A$7:$M$142,13,0) -> 0 | D51: =$C51*D52 -> 0 | E51: =$C51*E52 -> 0 | F51: =$C51*F52 -> 0 | G51: =$C51*G52 -> 0 | H51: =$C51*H52 -> 0 | I51: =$C51*I52 -> 0
A53: 4.5 | B53: =VLOOKUP(A53,ORÇAMENTO!$A$7:$M$142,3,0) -> Limpeza de superfície com hidrojateamento | C53: =VLOOKUP(A53,ORÇAMENTO!$A$7:$M$142,13,0) -> 0 | D53: =$C53*D54 -> 0 | E53: =$C53*E54 -> 0 | F53: =$C53*F54 -> 0 | G53: =$C53*G54 -> 0 | H53: =$C53*H54 -> 0 | I53: =$C53*I54 -> 0
A55: 4.6 | B55: =VLOOKUP(A55,ORÇAMENTO!$A$7:$M$142,3,0) -> Acrílico para quadras e pisos cimentados | C55: =VLOOKUP(A55,ORÇAMENTO!$A$7:$M$142,13,0) -> 0 | D55: =$C55*D56 -> 0 | E55: =$C55*E56 -> 0 | F55: =$C55*F56 -> 0 | G55: =$C55*G56 -> 0 | H55: =$C55*H56 -> 0 | I55: =$C55*I56 -> 0
A57: 5 | B57: =VLOOKUP(A57,ORÇAMENTO!$A$7:$M$142,3,0) -> ESCADA | C57: =VLOOKUP(A57,ORÇAMENTO!$A$7:$M$142,13,0) -> 0 | D57: =D58+D60+D62+D64+D66+D68+D70+D72+D74 -> 0 | E57: =E58+E60+E62+E64+E66+E68+E70+E72+E74 -> 0 | F57: =F58+F60+F62+F64+F66+F68+F70+F72+F74 -> 0 | G57: =G58+G60+G62+G64+G66+G68+G70+G72+G74 -> 0 | H57: =H58+H60+H62+H64+H66+H68+H70+H72+H74 -> 0 | I57: =I58+I60+I62+I64+I66+I68+I70+I72+I74 -> 0
A58: 5.1 | B58: =VLOOKUP(A58,ORÇAMENTO!$A$7:$M$142,3,0) -> Locação de vias, calçadas, tanques e lagoas | C58: =VLOOKUP(A58,ORÇAMENTO!$A$7:$M$142,13,0) -> 0 | D58: =$C58*D59 -> 0 | E58: =$C58*E59 -> 0 | F58: =$C58*F59 -> 0 | G58: =$C58*G59 -> 0 | H58: =$C58*H59 -> 0 | I58: =$C58*I59 -> 0
A60: 5.2 | B60: =VLOOKUP(A60,ORÇAMENTO!$A$7:$M$142,3,0) -> Demolição manual de concreto simples | C60: =VLOOKUP(A60,ORÇAMENTO!$A$7:$M$142,13,0) -> 0 | D60: =$C60*D61 -> 0 | E60: =$C60*E61 -> 0 | F60: =$C60*F61 -> 0 | G60: =$C60*G61 -> 0 | H60: =$C60*H61 -> 0 | I60: =$C60*I61 -> 0
A62: 5.3 | B62: =VLOOKUP(A62,ORÇAMENTO!$A$7:$M$142,3,0) -> Lastro de pedra britada | C62: =VLOOKUP(A62,ORÇAMENTO!$A$7:$M$142,13,0) -> 0 | D62: =$C62*D63 -> 0 | E62: =$C62*E63 -> 0 | F62: =$C62*F63 -> 0 | G62: =$C62*G63 -> 0 | H62: =$C62*H63 -> 0 | I62: =$C62*I63 -> 0
A64: 5.4 | B64: =VLOOKUP(A64,ORÇAMENTO!$A$7:$M$142,3,0) -> Forma em madeira comum para fundação | C64: =VLOOKUP(A64,ORÇAMENTO!$A$7:$M$142,13,0) -> 0 | D64: =$C64*D65 -> 0 | E64: =$C64*E65 -> 0 | F64: =$C64*F65 -> 0 | G64: =$C64*G65 -> 0 | H64: =$C64*H65 -> 0 | I64: =$C64*I65 -> 0
A66: 5.5 | B66: =VLOOKUP(A66,ORÇAMENTO!$A$7:$M$142,3,0) -> Armadura em tela soldada de aço | C66: =VLOOKUP(A66,ORÇAMENTO!$A$7:$M$142,13,0) -> 0 | D66: =$C66*D67 -> 0 | E66: =$C66*E67 -> 0 | F66: =$C66*F67 -> 0 | G66: =$C66*G67 -> 0 | H66: =$C66*H67 -> 0 | I66: =$C66*I67 -> 0
A68: 5.6 | B68: =VLOOKUP(A68,ORÇAMENTO!$A$7:$M$142,3,0) -> Concreto não estrutural executado no local, mínimo 300 kg cimento / m³ | C68: =VLOOKUP(A68,ORÇAMENTO!$A$7:$M$142,13,0) -> 0 | D68: =$C68*D69 -> 0 | E68: =$C68*E69 -> 0 | F68: =$C68*F69 -> 0 | G68: =$C68*G69 -> 0 | H68: =$C68*H69 -> 0 | I68: =$C68*I69 -> 0
A70: 5.7 | B70: =VLOOKUP(A70,ORÇAMENTO!$A$7:$M$142,3,0) -> Lançamento e adensamento de concreto ou massa em estrutura | C70: =VLOOKUP(A70,ORÇAMENTO!$A$7:$M$142,13,0) -> 0 | D70: =$C70*D71 -> 0 | E70: =$C70*E71 -> 0 | F70: =$C70*F71 -> 0 | G70: =$C70*G71 -> 0 | H70: =$C70*H71 -> 0 | I70: =$C70*I71 -> 0
...

Sheet BDI
A1: =ORÇAMENTO!$A$1 -> TIMBRE
A3: =ORÇAMENTO!$A$3 -> OBJETO: REFORMA MELHOR IDADE
B4: COMPOSIÇÃO DO BDI (acórdão 2622/2013-TCU-Plenário)
B5: ITENS | C5: DESCRIÇÃO | D5: %
B6: AC | C6: Administraçao central | D6: 0.038
B7: S + G | C7: Seguros e Garantias | D7: 0.0032
B8: R | C8: Riscos | D8: 0.005
B10: DF | C10: Despesas Financeiras | D10: 0.0102
B11: L | C11: Lucro/Remuneração | D11: 0.0664 | E11: 0.0664
B12: l | C12: Impostos/tributos | D12: =D13+D14+D15+D16 -> 0.1115
C13: PIS | D13: 0.0065
C14: COFINS | D14: 0.03
C15: ISS | D15: 0.03
C16: Contribuição Previdenciaria | D16: 0.045
B17: Taxa do BDI (%) | D17: =ROUND((((1+D6+D7+D8+D9)*(1+D10)*(1+D11))/(1-D12))-1,4) -> 0.2685
B18: Fórmula usada no cálculo do BDI ou LDI (acórdão 2622/2013-TCU-Plenário):
B22: Onde:
B23: AC: taxa de administração central;
B24: S: taxa de seguros;
B25: R: taxa de riscos;
B26: G: taxa de garantias;
B27: DF: taxa de despesas financeiras;
B28: L: taxa de lucro/remuneração;
B29: I: taxa de incidência de impostos (PIS, COFINS, ISS e Contribuição Previdenciária).
A30: Obs.: | B30: Para orçamentos considerando a Desoneração Fiscal deverá ser somada a alíquota de 4,5% referente a Contibuição Previdenciária no item impostos.
