Workbook
Name Print_Area: 'CRO. FIS-FIN'!$A$1:$H$60

Sheet DADOS
A1: Objeto: | D1: ELABORAÇÃO DE PROJETO DE REFORMA E AMPLIAÇÃO DA EMEF OADIL PIETROBON | F1: UNIDAES DE MEDIDAS | H1: SINAPI | I1: 45108
A2: Local: | D2: MUNICÍPIO DE PAULÍNIA | F2: c.n | H2: CDHU | I2: 45047
A3: Orgão Cliente: | D3: Secretaria Municipal de Educação - SMEDU | F3: cj | H3: FDE | I3: 45017
A4: Autor do Orçamento: | D4: ELISA APARECIDA VASCONCELOS DE SOUZA | F4: h | H4: SICRO | I4: 44835
A5: TÍTULO: | D5: ENGENHEIRA CIVIL | F5: kg | H5: SIURB | I5: 44927
A6: CREA/SP: | D6: 5069813450 | F6: km
A7: ART: | F7: L | H7: ENCARGOS SOCIAIS
A8: DATA: | D8: =TODAY() -> 46141 | F8: m | H8: SINAPI | I8: 0.7101
F9: m² | H9: CDHU | I9: 1.2823
D10: Orgão Cliente: | F10: mês | H10: FDE | I10: 1.2087
D11: Secretaria Municipal de Administração - SMA | F11: m³ | H11: SICRO
D12: Secretaria Municipal de Chefia de Gabinete do Prefeito – SGP | F12: par | H12: SIURB
D13: Secretaria Municipal de Cultura - SMC | F13: rolo
D14: Secretaria Municipal de Esportes – SMESP | F14: t
D15: Secretaria Municipal de Obras e Serviços Públicos - SMOSP | F15: tx
B16: 1 | D16: Secretaria Municipal de Assistência Social e Cidadania - SEMASC | F16: un.
B17: 1 | D17: Secretaria Municipal de Saúde - SMS | F17: dia
B18: 1 | D18: Secretaria de Defesa e Desenvolvimento do Meio Ambiente - SEDDEMA | F18: kg/m²
D19: Secretaria Municipal de Turismo e Eventos - SMTE | F19: kg/m³
D20: Secretaria Municipal de Segurança Pública - SMSP | F20: Perímetro (m)
D21: Secretaria Municipal de Educação - SMEDU | F21: Altura (m)
D22: Secretaria Municipal de Proteção e Defesa Civil - SMPDEC | F22: Largura (m)
D23: Secretaria Municipal de Desenvolvimento Econômico – SMDE | F23: Comprimento (m)
D24: Secretaria Municipal de Finanças – SMF | F24: Área (m²)
D25: Secretaria Municipal de Governo – SMG | F25: Volume (m³)
D26: Secretaria Municipal de Habitação - SMH
D27: Secretaria de Negócios Jurídicos - SNJ
D28: Secretaria de Planejamento e Controle Urbano - SPCU
D29: Secretaria Municipal de Transportes - SMTRANS
D30: CÂMARA MUNICIPAL DE PAULÍNIA.
B39: =SUBTOTAL(9,B40:B43) -> 4
B40: 1
B41: 1
B42: 1
B43: 1

Sheet CRO. FIS-FIN
B1: PREFEITURA MUNICIPAL DE PAULÍNIA SECRETARIA MUNICIPAL DE EDUCAÇÃO
A5: OBJETO: | B5: =DADOS!D1 -> ELABORAÇÃO DE PROJETO DE REFORMA E AMPLIAÇÃO DA EMEF OADIL PIETROBON
A7: LOCAL: | B7: =DADOS!D2 -> MUNICÍPIO DE PAULÍNIA
A10: CRONOGRAMA FÍSICO-FINANCEIRO | E10: MÊS
B11: DESCRIÇÃO | C11: VALOR (R$) | D11: PARCELAS | E11: 1 | F11: 2 | G11: 3 | H11: 4
B12: SERVIÇOS
A13: 1 | B13: Taxa de mobilização e desmobilização de equipamentos para execução de sondagem | C13: 1689.23 | D13: Unidades por período | E13: 1
E14: =C13 -> 1689.23
A15: 2 | B15: Sondagem do terreno à percussão (mínimo de 30 m) | C15: 3448.5 | D15: Unidades por período | E15: 30
E16: =C15 -> 3448.5
A17: 3 | B17: LEVANTAMENTO PLANIALTIMÉTRICO DE ÁREAS - ATÉ 10.000M2 | C17: 8463.52 | D17: Unidades por período | E17: 1
E18: =C17 -> 8463.52
A19: 4 | B19: LEVANTAMENTO CADASTRAL DE EDIFICAÇÃO ATÉ 500M2 | C19: 5410.92 | D19: Unidades por período | E19: 1
E20: =C19 -> 5410.92
A21: 5 | B21: LEVANTAMENTO CADASTRAL DE EDIFICAÇÃO EXCEDENTE ENTRE 501M2 À 2000M2 | C21: 9752 | D21: Unidades por período | E21: 1060
E22: =C21 -> 9752
A23: 6 | B23: LEVANTAMENTO CADASTRAL INSTALAÇÕES HIDRO-SANITÁRIAS ATÉ 500M2 | C23: 2262.02 | D23: Unidades por período | F23: 1
F24: =C23 -> 2262.02
A25: 7 | B25: LEVANTAMENTO CADASTRAL INSTALAÇÕES HIDRO-SANITÁRIAS EXCEDENTE ENTRE 501M2 À 2000M2 | C25: 4081 | D25: Unidades por período | F25: 1060
F26: =C25 -> 4081
A27: 8 | B27: LEVANTAMENTO CADASTRAL INSTALAÇÕES ELÉTRICAS ATÉ 500M2 | C27: 2900.33 | D27: Unidades por período | F27: 1
F28: =C27 -> 2900.33
A29: 9 | B29: LEVANT. CADASTRAL INSTALAÇÕES ELÉTRICAS EXCEDENTE ENTRE 501M2 À 2000M2 | C29: 5236.4 | D29: Unidades por período | F29: 1060
F30: =C29 -> 5236.4
A31: 10 | B31: PROJETO BÁSICO (PRANCHA A1) | C31: 6375.1 | D31: Unidades por período | G31: 1
G32: =C31 -> 6375.1
A33: 11 | B33: PROJETO EXECUTIVO DE ARQUITETURA EM FORMATO A0 | C33: 12002.4 | D33: Unidades por período | H33: 2
H34: =C33 -> 12002.4
A35: 12 | B35: PROJETO EXECUTIVO DE ARQUITETURA EM FORMATO A1 | C35: 4439.05 | D35: Unidades por período | H35: 1
H36: =C35 -> 4439.05
A37: 13 | B37: PROJETO EXECUTIVO DE ESTRUTURA EM FORMATO A0 | C37: 8908.52 | D37: Unidades por período | H37: 2
H38: =C37 -> 8908.52
A39: 14 | B39: PROJETO EXECUTIVO DE INSTALAÇÕES HIDRÁULICAS EM FORMATO A0 | C39: 1860.43 | D39: Unidades por período | H39: 1
H40: =C39 -> 1860.43
A41: 15 | B41: PROJETO EXECUTIVO DE INSTALAÇÕES ELÉTRICAS EM FORMATO A0 | C41: 4303.96 | D41: Unidades por período | H41: 2
H42: =C41 -> 4303.96
A43: 16 | B43: PROJETO EXECUTIVO DE INSTALAÇÕES ELÉTRICAS EM FORMATO A1 | C43: 1552.01 | D43: Unidades por período | H43: 1
H44: =C43 -> 1552.01
A45: 17 | B45: PROJETO EXECUTIVO DE CLIMATIZAÇÃO EM FORMATO A1 | C45: 2987.32 | D45: Unidades por período | H45: 1
H46: =C45 -> 2987.32
...
