Workbook
Name Print_Area: 'ENCARGOS SOCIAIS'!$C$1:$O$79

Sheet DADOS
A1: Objeto: | D1: ELABORAÇÃO DE PROJETO DE REFORMA E AMPLIAÇÃO DA EMEF OADIL PIETROBON | F1: UNIDAES DE MEDIDAS | H1: SINAPI | I1: 45108
A2: Local: | D2: MUNICÍPIO DE PAULÍNIA | F2: c.n | H2: CDHU | I2: 45047
A3: Orgão Cliente: | D3: Secretaria Municipal de Educação - SMEDU | F3: cj | H3: FDE | I3: 45017
A4: Autor do Orçamento: | D4: ELISA APARECIDA VASCONCELOS DE SOUZA | F4: h | H4: SICRO | I4: 44835
A5: TÍTULO: | D5: ENGENHEIRA CIVIL | F5: kg | H5: SIURB | I5: 44927
A6: CREA/SP: | D6: 5069813450 | F6: km
A7: ART: | F7: L | H7: ENCARGOS SOCIAIS
A8: DATA: | D8: =TODAY() -> 46105 | F8: m | H8: SINAPI | I8: 0.7101
F9: m² | H9: CDHU | I9: 1.2823
D10: Orgão Cliente: | F10: mês | H10: FDE | I10: 1.2087
D11: Secretaria Municipal de Administração - SMA | F11: m³ | H11: SICRO
D12: Secretaria Municipal de Chefia de Gabinete do Prefeito – SGP | F12: par | H12: SIURB
D13: Secretaria Municipal de Cultura - SMC | F13: rolo
D14: Secretaria Municipal de Esportes – SMESP | F14: t
D15: Secretaria Municipal de Obras e Serviços Públicos - SMOSP | F15: tx
B16: 1 | D16: Secretaria Municipal de Assistência Social e Cidadania - SEMASC | F16: un.
B17: 1 | D17: Secretaria Municipal de Saúde - SMS | F17: dia
B18: 1 | D18: Secretaria de Defesa e Desenvolvimento do Meio Ambiente - SEDDEMA | F18: kg/m²
D19: Secretaria Municipal de Turismo e Eventos - SMTE | F19: kg/m³
D20: Secretaria Municipal de Segurança Pública - SMSP | F20: Perímetro (m)
D21: Secretaria Municipal de Educação - SMEDU | F21: Altura (m)
D22: Secretaria Municipal de Proteção e Defesa Civil - SMPDEC | F22: Largura (m)
D23: Secretaria Municipal de Desenvolvimento Econômico – SMDE | F23: Comprimento (m)
D24: Secretaria Municipal de Finanças – SMF | F24: Área (m²)
D25: Secretaria Municipal de Governo – SMG | F25: Volume (m³)
D26: Secretaria Municipal de Habitação - SMH
D27: Secretaria de Negócios Jurídicos - SNJ
D28: Secretaria de Planejamento e Controle Urbano - SPCU
D29: Secretaria Municipal de Transportes - SMTRANS
D30: CÂMARA MUNICIPAL DE PAULÍNIA.
B39: =SUBTOTAL(9,B40:B43) -> 4
B40: 1
B41: 1
B42: 1
B43: 1

Sheet ENCARGOS SOCIAIS
D2: PREFEITURA MUNICIPAL DE PAULÍNIA SECRETARIA MUNICIPAL DE OBRAS E SERVIÇOS PÚBLICOS
C6: OBJETO: | D6: =DADOS!D1 -> ELABORAÇÃO DE PROJETO DE REFORMA E AMPLIAÇÃO DA EMEF OADIL PIETROBON
C8: LOCAL: | D8: =DADOS!D2 -> MUNICÍPIO DE PAULÍNIA
C11: ENCARGOS SOCIAIS- CDHU
I72: Paulínia / SP
C73: Responsável Técnico | I73: Local
C74: Nome: | D74: =DADOS!D4 -> ELISA APARECIDA VASCONCELOS DE SOUZA
C75: Título: | D75: =DADOS!D5 -> ENGENHEIRA CIVIL | I75: =DADOS!D8 -> 46105
C76: CREA/CAU: | D76: =DADOS!D6 -> 5069813450 | I76: Data
D80: PREFEITURA MUNICIPAL DE PAULÍNIA SECRETARIA MUNICIPAL DE OBRAS E SERVIÇOS PÚBLICOS
C84: OBJETO: | D84: =DADOS!D1 -> ELABORAÇÃO DE PROJETO DE REFORMA E AMPLIAÇÃO DA EMEF OADIL PIETROBON
C86: LOCAL: | D86: =DADOS!D2 -> MUNICÍPIO DE PAULÍNIA
C89: ENCARGOS SOCIAIS- SIURB
C91: TAXAS DE ENCARGOS SOCIAIS NOS CUSTOS DA CONSTRUÇÃO
C92: MENSALISTA - H44
C94: A | D94: ENCARGOS SOCIAIS BÁSICOS ( % )
C96: A 1 | D96: Previdência Social | I96: 20
C97: A 2 | D97: FGTS | I97: 8
C98: A 3 | D98: Salário Educação | I98: 2.5
C99: A 4 | D99: SESI | I99: 1.5
C100: A 5 | D100: SENAI | I100: 1
C101: A 6 | D101: SEBRAE | I101: 0.6
C102: A 7 | D102: INCRA | I102: 0.2
C103: A 8 | D103: Seguro contra risco e acidente de trabalho (INSS) | I103: 3
C104: A 9 | D104: SECONCI | I104: 1
D106: Total do Grupo A | I106: 37.8 | J106: %
C108: B | D108: ENCARGOS QUE RECEBEM INCIDÊNCIA DE A ( % )
C110: B 1 | D110: 13.º Salário | I110: 10.543757
C111: B 2 | D111: Férias | I111: 14.05
C112: B 3 | D112: Faltas Abonadas Legalmente | I112: 0.70291711
C113: B 4 | D113: Aviso Prévio | I113: 1.1363636
C114: B 5 | D114: Auxílio Enfermidade | I114: 0.23
C115: B 6 | D115: Licença Paternidade | I115: 0.25
D117: Total do Grupo B | I117: 26.91 | J117: %
C119: C | D119: ENCARGOS QUE NÃO RECEBEM INCIDÊNCIA
D120: GLOBAL DE A ( % )
C122: C 1 | D122: Depósito por despedida sem justa causa | I122: 4.06112 | J122: %
C123: C 2 | D123: Indenização Adicional - Lei 7.238/84 | I123: 0.87864638 | J123: %
D125: Total do Grupo C | I125: 4.9397664 | J125: %
C127: D | D127: REINCIDÊNCIAS
C129: D 1 | D129: Reincidência de A sobre B | I129: 10.17 | J129: %
D131: Total do Grupo D | I131: 10.17 | J131: %
C133: E | D133: COMPLEMENTOS
C135: E1 | D135: vale refeição | I135: 9.01
C136: E2 | D136: vale transporte | I136: 1.99
C137: E3 | D137: seguro de vida coletivo | I137: 0.46
D139: Total do Grupo E | I139: 11.46 | J139: %
E141: TOTAL DOS ENCARGOS | I141: 91.29 | J141: %
I144: Paulínia / SP
C145: Responsável Técnico | I145: Local
C146: Nome: | D146: =DADOS!D4 -> ELISA APARECIDA VASCONCELOS DE SOUZA
C147: Título: | D147: =DADOS!D5 -> ENGENHEIRA CIVIL | I147: =DADOS!D8 -> 46105
C148: CREA/CAU: | D148: =DADOS!D6 -> 5069813450 | I148: Data
D150: PREFEITURA MUNICIPAL DE PAULÍNIA SECRETARIA MUNICIPAL DE OBRAS E SERVIÇOS PÚBLICOS
C154: OBJETO: | D154: =DADOS!D1 -> ELABORAÇÃO DE PROJETO DE REFORMA E AMPLIAÇÃO DA EMEF OADIL PIETROBON
C156: LOCAL: | D156: =DADOS!D2 -> MUNICÍPIO DE PAULÍNIA
C159: ENCARGOS SOCIAIS- SIURB
C161: TAXAS DE ENCARGOS SOCIAIS NOS CUSTOS DE PROJETOS
C162: MENSALISTAS - H 40
C164: A | D164: ENCARGOS SOCIAIS BÁSICOS ( % )
C166: A 1 | D166: Previdencia Social | I166: 20
C167: A 2 | D167: FGTS | I167: 8
C168: A 3 | D168: Salário Educaçao | I168: 2.5
C169: A 4 | D169: SESI | I169: 1.5
C170: A 5 | D170: SENAI | I170: 1
C171: A 6 | D171: SEBRAE | I171: 0.6
C172: A 7 | D172: INCRA | I172: 0.2
C173: A 8 | D173: Seguro contra risco e acidente de trabalho (INSS) | I173: 3
C174: A 9 | D174: SECONCI | I174: 1
D176: Total do Grupo A | I176: 37.8 | J176: %
C178: B | D178: ENCARGOS QUE RECEBEM INCIDÊNCIA DE A ( % )
C180: B 1 | D180: 13.º Salário | I180: 12.601638
C181: B 2 | D181: Férias | I181: 16.801764
C182: B 3 | D182: Faltas Abonadas Legalmente | I182: 0.84010921
C183: B 4 | D183: Aviso Prévio | I183: 1.36
C184: B 5 | D184: Auxílio Enfermidade | I184: 0.22
C185: B 6 | D185: Licença Paternidade | I185: 0.24
D187: Total do Grupo B | I187: 32.063512 | J187: %
C189: C | D189: ENCARGOS QUE NÃO RECEBEM INCIDÊNCIA
D190: GLOBAL DE A ( % )
C192: C 1 | D192: Depósito por despedida sem justa causa | I192: 4.2192 | J192: %
C193: C 2 | D193: Indenização Adicional ( Lei 7.238 / 84) | I193: 1.0543757 | J193: %
D195: Total do Grupo C | I195: 5.2735757 | J195: %
C197: D | D197: REINCIDÊNCIAS
C199: D 1 | D199: Reincidência de A sobre B | I199: 12.12 | J199: %
D201: Total do Grupo D | I201: 12.12 | J201: %
C203: E | D203: COMPLEMENTOS
C205: E1 | D205: vale refeição | I205: 9.01
C206: E2 | D206: vale transporte | I206: 1.99
C207: E3 | D207: seguro de vida coletivo | I207: 0.46
D209: Total do Grupo E | I209: 11.46 | J209: %
E211: TOTAL DOS ENCARGOS | I211: 98.717087 | J211: %
I214: Paulínia / SP
C215: Responsável Técnico | I215: Local
C216: Nome: | D216: =DADOS!D4 -> ELISA APARECIDA VASCONCELOS DE SOUZA
C217: Título: | D217: =DADOS!D5 -> ENGENHEIRA CIVIL | I217: =DADOS!D8 -> 46105
C218: CREA/CAU: | D218: =DADOS!D6 -> 5069813450 | I218: Data
D220: PREFEITURA MUNICIPAL DE PAULÍNIA SECRETARIA MUNICIPAL DE OBRAS E SERVIÇOS PÚBLICOS
C224: OBJETO: | D224: =DADOS!D1 -> ELABORAÇÃO DE PROJETO DE REFORMA E AMPLIAÇÃO DA EMEF OADIL PIETROBON
C226: LOCAL: | D226: =DADOS!D2 -> MUNICÍPIO DE PAULÍNIA
...
