Workbook
Name AREA: #REF!
Name BDI: #REF!
Name CONCATENAR: CONCATENATE(#REF!," ",#REF!)
Name DATABASE: #REF!
Name DATAEMISSAO: #REF!
Name DATART: #REF!
Name EMPRESAS: OFFSET([2]Cotações!$B$25,1,0):OFFSET([2]Cotações!$H$41,-1,0)
Name INDICES: OFFSET([2]Cotações!$B$20,1,0):OFFSET([2]Cotações!$I$24,-1,0)
Name LOCALIDADE: #REF!
Name NCOMPOSICOES: 15
Name NCOTACOES: 15
Name NEMPRESAS: 15
Name NINDICES: 3
Name NRELATORIOS: COUNTA([2]Relatórios!$A:$A)-2
Name NumerEmpresa: 15
Name NumerIndice: 3
Name Objeto: "Referência"
Name P.1: #REF!
Name P.10: #REF!
Name P.11: #REF!
Name P.12: #REF!
Name P.13: #REF!
Name P.14: #REF!
Name P.15: #REF!
Name P.2: #REF!
Name P.3: #REF!
Name P.4: #REF!
Name P.5: #REF!
Name P.6: #REF!
Name P.7: #REF!
Name P.8: #REF!
Name P.9: #REF!
Name PP1.1: #REF!
Name PP1.10: #REF!
Name PP1.11: #REF!
Name PP1.12: #REF!
Name PP1.13: #REF!
Name PP1.14: #REF!
Name PP1.15: #REF!
Name PP1.2: #REF!
Name PP1.3: #REF!
Name PP1.4: #REF!
Name PP1.5: #REF!
Name PP1.6: #REF!
Name PP1.7: #REF!
Name PP1.8: #REF!
Name PP1.9: #REF!
Name RelatoriosFontes: OFFSET([2]Relatórios!$A$5,1,0,NRELATORIOS)
Name T.1: #REF!
Name T.10: #REF!
Name T.11: #REF!
Name T.12: #REF!
Name T.13: #REF!
Name T.14: #REF!
Name T.15: #REF!
Name T.2: #REF!
Name T.3: #REF!
Name T.4: #REF!
Name T.5: #REF!
Name T.6: #REF!

Sheet Banco
B1: BANCO DE CUSTOS - REFERÊNCIA 2.4 | I1: AS = ATRIBUÍDO SÃO PAULO
B2: DATA PREÇO (SINAPI): | D2: LOCALIDADE / DATA EMISSÃO (SINAPI): | I2: CR = COEFICIENTE DE REPRESENTATIVIDADE
B3: 03/2025 | I3: C = COLETADO
D4: 11/04/2025 | I4: ORIGEM DO PREÇO
B5: FONTE | C5: CÓDIGO | D5: DESCRIÇÃO | E5: UNIDADE | F5: CUSTO UNITÁRIO DESONERADO | G5: CUSTO UNITÁRIO NÃO DESONERADO | J5: % AS DESONERADO | K5: % AS NAO DESONERADO
A7: =CONCATENATE($B7," ",$C7) -> SINAPI-I 45333 | B7: SINAPI-I | C7: 45333 | D7: ABERTURA PARA ENCAIXE DE CUBA OU LAVATORIO EM BANCADA DE MARMORE/ GRANITO OU OUTRO TIPO DE PEDRA NATURAL | E7: UN | F7: 204.35 | G7: 204.35 | I7: CR
A8: =CONCATENATE($B8," ",$C8) -> SINAPI-I 11270 | B8: SINAPI-I | C8: 11270 | D8: ABRACADEIRA DE LATAO PARA FIXACAO DE CABO PARA-RAIO, DIMENSOES 32 X 24 X 24 MM | E8: UN
A9: =CONCATENATE($B9," ",$C9) -> SINAPI-I 412 | B9: SINAPI-I | C9: 412 | D9: ABRACADEIRA DE NYLON PARA AMARRACAO DE CABOS, COMPRIMENTO DE *230* X *7,6* MM | E9: UN | F9: 0.82 | G9: 0.82 | I9: CR
A10: =CONCATENATE($B10," ",$C10) -> SINAPI-I 414 | B10: SINAPI-I | C10: 414 | D10: ABRACADEIRA DE NYLON PARA AMARRACAO DE CABOS, COMPRIMENTO DE 100 X 2,5 MM | E10: UN | F10: 0.05 | G10: 0.05 | I10: CR
A11: =CONCATENATE($B11," ",$C11) -> SINAPI-I 410 | B11: SINAPI-I | C11: 410 | D11: ABRACADEIRA DE NYLON PARA AMARRACAO DE CABOS, COMPRIMENTO DE 150 X *3,6* MM | E11: UN | F11: 0.12 | G11: 0.12 | I11: CR
A12: =CONCATENATE($B12," ",$C12) -> SINAPI-I 411 | B12: SINAPI-I | C12: 411 | D12: ABRACADEIRA DE NYLON PARA AMARRACAO DE CABOS, COMPRIMENTO DE 200 X *4,6* MM | E12: UN | F12: 0.16 | G12: 0.16 | I12: C
A13: =CONCATENATE($B13," ",$C13) -> SINAPI-I 408 | B13: SINAPI-I | C13: 408 | D13: ABRACADEIRA DE NYLON PARA AMARRACAO DE CABOS, COMPRIMENTO DE 390 X *4,6* MM | E13: UN | F13: 0.79 | G13: 0.79 | I13: CR
A14: =CONCATENATE($B14," ",$C14) -> SINAPI-I 39131 | B14: SINAPI-I | C14: 39131 | D14: ABRACADEIRA EM ACO PARA AMARRACAO DE ELETRODUTOS, TIPO D, COM 1 1/2" E CUNHA DE FIXACAO | E14: UN | F14: 2.85 | G14: 2.85 | I14: CR
A15: =CONCATENATE($B15," ",$C15) -> SINAPI-I 394 | B15: SINAPI-I | C15: 394 | D15: ABRACADEIRA EM ACO PARA AMARRACAO DE ELETRODUTOS, TIPO D, COM 1 1/2" E PARAFUSO DE FIXACAO | E15: UN | F15: 2.89 | G15: 2.89 | I15: CR
A16: =CONCATENATE($B16," ",$C16) -> SINAPI-I 39130 | B16: SINAPI-I | C16: 39130 | D16: ABRACADEIRA EM ACO PARA AMARRACAO DE ELETRODUTOS, TIPO D, COM 1 1/4" E CUNHA DE FIXACAO | E16: UN | F16: 2.6 | G16: 2.6 | I16: CR
A17: =CONCATENATE($B17," ",$C17) -> SINAPI-I 395 | B17: SINAPI-I | C17: 395 | D17: ABRACADEIRA EM ACO PARA AMARRACAO DE ELETRODUTOS, TIPO D, COM 1 1/4" E PARAFUSO DE FIXACAO | E17: UN | F17: 2.78 | G17: 2.78 | I17: CR
A18: =CONCATENATE($B18," ",$C18) -> SINAPI-I 39129 | B18: SINAPI-I | C18: 39129 | D18: ABRACADEIRA EM ACO PARA AMARRACAO DE ELETRODUTOS, TIPO D, COM 1" E CUNHA DE FIXACAO | E18: UN | F18: 1.6 | G18: 1.6 | I18: CR
A19: =CONCATENATE($B19," ",$C19) -> SINAPI-I 393 | B19: SINAPI-I | C19: 393 | D19: ABRACADEIRA EM ACO PARA AMARRACAO DE ELETRODUTOS, TIPO D, COM 1" E PARAFUSO DE FIXACAO | E19: UN | F19: 1.68 | G19: 1.68 | I19: C
A20: =CONCATENATE($B20," ",$C20) -> SINAPI-I 39127 | B20: SINAPI-I | C20: 39127 | D20: ABRACADEIRA EM ACO PARA AMARRACAO DE ELETRODUTOS, TIPO D, COM 1/2" E CUNHA DE FIXACAO | E20: UN | F20: 1.37 | G20: 1.37 | I20: CR
... A45: =CONCATENATE($B45," ",$C45) -> SINAPI-I 12615 | B45: SINAPI-I | C45: 12615 | D45: ABRACADEIRA PVC, PARA CALHA PLUVIAL, DIAMETRO ENTRE *80 E 100* MM, PARA DRENAGEM PLUVIAL PREDIAL | E45: UN | F45: 12.85 | G45: 12.85 | I45: CR
A46: =CONCATENATE($B46," ",$C46) -> SINAPI-I 11927 | B46: SINAPI-I | C46: 11927 | D46: ABRACADEIRA, GALVANIZADA/ZINCADA, ROSCA SEM FIM, PARAFUSO INOX, LARGURA FITA *12,6 A *14 MM, D = 2" A 2 1/2" | E46: UN
A47: =CONCATENATE($B47," ",$C47) -> SINAPI-I 11928 | B47: SINAPI-I | C47: 11928 | D47: ABRACADEIRA, GALVANIZADA/ZINCADA, ROSCA SEM FIM, PARAFUSO INOX, LARGURA FITA *12,6 A *14 MM, D = 3" A 3 3/4" | E47: UN
A48: =CONCATENATE($B48," ",$C48) -> SINAPI-I 11929 | B48: SINAPI-I | C48: 11929 | D48: ABRACADEIRA, GALVANIZADA/ZINCADA, ROSCA SEM FIM, PARAFUSO INOX, LARGURA FITA *12,6 A *14 MM, D = 4" A 4 3/4" | E48: UN
A49: =CONCATENATE($B49," ",$C49) -> SINAPI-I 36801 | B49: SINAPI-I | C49: 36801 | D49: ACABAMENTO DE METAL CROMADO PARA REGISTRO PEQUENO, DE PAREDE, 1/2" OU 3/4" | E49: UN | F49: 41.36 | G49: 41.36 | I49: CR
A50: =CONCATENATE($B50," ",$C50) -> SINAPI-I 36246 | B50: SINAPI-I | C50: 36246 | D50: ACABAMENTO SIMPLES/CONVENCIONAL PARA FORRO PVC, TIPO "U" OU "C", COR BRANCA, COMPRIMENTO 6 M | E50: M | F50: 3.27 | G50: 3.27 | I50: CR
A51: =CONCATENATE($B51," ",$C51) -> SINAPI-I 37600 | B51: SINAPI-I | C51: 37600 | D51: ACESSORIO DE LIGACAO NAO ELETRICO PARA CARGAS EXPLOSIVAS, TUBO DE 6 M | E51: UN
A52: =CONCATENATE($B52," ",$C52) -> SINAPI-I 37599 | B52: SINAPI-I | C52: 37599 | D52: ACESSORIO INICIADOR NAO ELETRICO, TUBO DE 6 M, TEMPO DE RETARDO DE *160* MS | E52: UN
A53: =CONCATENATE($B53," ",$C53) -> SINAPI-I 1 | B53: SINAPI-I | C53: 1 | D53: ACETILENO - RECARGA DE GAS PARA CILINDRO (NAO INCLUI TROCA/MANUTENCAO DO CILINDRO) | E53: KG | F53: 73.33 | G53: 73.33 | I53: C
A54: =CONCATENATE($B54," ",$C54) -> SINAPI-I 3 | B54: SINAPI-I | C54: 3 | D54: ACIDO CLORIDRICO / ACIDO MURIATICO, DILUICAO 10% A 12% PARA USO EM LIMPEZA | E54: L | F54: 15.91 | G54: 15.91 | I54: CR
A55: =CONCATENATE($B55," ",$C55) -> SINAPI-I 43054 | B55: SINAPI-I | C55: 43054 | D55: ACO CA-25, 10,0 MM, OU 12,5 MM, OU 16,0 MM, OU 20,0 MM, OU 25,0 MM, VERGALHAO | E55: KG | F55: 8.37 | G55: 8.37 | I55: CR
A56: =CONCATENATE($B56," ",$C56) -> SINAPI-I 42402 | B56: SINAPI-I | C56: 42402 | D56: ACO CA-25, 16,0 MM, BARRA DE TRANSFERENCIA | E56: KG | F56: 8 | G56: 8 | I56: CR
A57: =CONCATENATE($B57," ",$C57) -> SINAPI-I 42403 | B57: SINAPI-I | C57: 42403 | D57: ACO CA-25, 20,0 MM, BARRA DE TRANSFERENCIA | E57: KG | F57: 10.26 | G57: 10.26 | I57: CR
A58: =CONCATENATE($B58," ",$C58) -> SINAPI-I 42404 | B58: SINAPI-I | C58: 42404 | D58: ACO CA-25, 25,0 MM, BARRA DE TRANSFERENCIA | E58: KG | F58: 10.21 | G58: 10.21 | I58: CR
A59: =CONCATENATE($B59," ",$C59) -> SINAPI-I 42405 | B59: SINAPI-I | C59: 42405 | D59: ACO CA-25, 32,0 MM, BARRA DE TRANSFERENCIA | E59: KG | F59: 10.87 | G59: 10.87 | I59: CR
A60: =CONCATENATE($B60," ",$C60) -> SINAPI-I 34341 | B60: SINAPI-I | C60: 34341 | D60: ACO CA-25, 32,0 MM, VERGALHAO | E60: KG | F60: 9.44 | G60: 9.44 | I60: CR
A61: =CONCATENATE($B61," ",$C61) -> SINAPI-I 43053 | B61: SINAPI-I | C61: 43053 | D61: ACO CA-25, 6,3 MM OU 8,0 MM, VERGALHAO | E61: KG | F61: 7.48 | G61: 7.48 | I61: CR
A62: =CONCATENATE($B62," ",$C62) -> SINAPI-I 43058 | B62: SINAPI-I | C62: 43058 | D62: ACO CA-50, 10,0 MM, OU 12,5 MM, OU 16,0 MM, OU 20,0 MM, DOBRADO E CORTADO | E62: KG | F62: 7.75 | G62: 7.75 | I62: CR
A63: =CONCATENATE($B63," ",$C63) -> SINAPI-I 34 | B63: SINAPI-I | C63: 34 | D63: ACO CA-50, 10,0 MM, VERGALHAO | E63: KG | F63: 7.79 | G63: 7.79 | I63: CR
A64: =CONCATENATE($B64," ",$C64) -> SINAPI-I 43055 | B64: SINAPI-I | C64: 43055 | D64: ACO CA-50, 12,5 MM OU 16,0 MM, VERGALHAO | E64: KG | F64: 6.75 | G64: 6.75 | I64: C
... A73: =CONCATENATE($B73," ",$C73) -> SINAPI-I 43060 | B73: SINAPI-I | C73: 43060 | D73: ACO CA-60, 8,0 MM OU 9,5 MM, VERGALHAO | E73: KG | F73: 6.42 | G73: 6.42 | I73: CR
...

Sheet RESUMO
A2: Contratante: | B2: Fundo Municipal de Eucação de Bela Vista de Goiás | C2: B.D.I.
A3: Obra: | B3: Reforma – CMEI Dona Baltira de Moraes e Souza | C3: 0.25
A4: Endereço: | B4: Rua JA01, quadra 01, lote APM 1, Jardim Alphaville, Bela Vista de Goiás
A5: Orçamento Sintético
A6: Item | B6: Descrição | C6: Total
A7: 1 | B7: Mobilização do canteiro e instalação provisória | C7: =ORÇAMENTO!I9 -> 49200.7
A8: 2 | B8: Demolição, limpeza e raspagem de solo | C8: =ORÇAMENTO!I16 -> 2812.54
A9: 3 | B9: Aterro e compactação | C9: =ORÇAMENTO!I21 -> 25442.69
A10: 4 | B10: Escavação(sapatas, blocos, estacas) | C10: =ORÇAMENTO!I23 -> 3755.36
A11: 5 | B11: Fundação, Baldrames, pilares e vigas | C11: =ORÇAMENTO!I32 -> 189516.6
A12: 6 | B12: Laje e impermeabilização | C12: =ORÇAMENTO!I68 -> 60238.41
A13: 7 | B13: Montagem da cobertura (madeira, telha, calha) | C13: =ORÇAMENTO!I76 -> 46508.39
A14: 8 | B14: Execução das paredes de alvenaria | C14: =ORÇAMENTO!I84 -> 197882.82
A15: 9 | B15: Instalações hidrossanitárias e elétricas | C15: =ORÇAMENTO!I92 -> 55011.02
A16: 10 | B16: Revestimentos internos/externos (cerâmica/piso) | C16: =ORÇAMENTO!I173 -> 50116.21
A17: 11 | B17: Esquadrias e ferragens | C17: =ORÇAMENTO!I177 -> 10193.05
A18: 12 | B18: Pintura | C18: =ORÇAMENTO!I181 -> 72969.34
A19: 13 | B19: Limpeza geral | C19: =ORÇAMENTO!I196 -> 1483.15
A20: 14 | B20: Administração de Obra | C20: =ORÇAMENTO!I199 -> 33879.2
B23: Total sem BDI | C23: =ORÇAMENTO!I204 -> 639207.58
B24: Total do BDI | C24: =ORÇAMENTO!I205 -> 159801.9
B25: Total Geral | C25: =ORÇAMENTO!I206 -> 799009.48
A34: REYDDNER ANDREI NUNES SILVA
A35: ENGENHEIRO CIVIL
A36: CREA 1014662982D-GO

Sheet ORÇAMENTO
C2: Contratante: | D2: Fundo Municipal de Eucação de Bela Vista de Goiás
C3: Obra: | D3: Reforma – CMEI Dona Baltira de Moraes e Souza | E3: Bancos | G3: B.D.I. | I3: Encargos Sociais
C4: Endereço: | D4: Rua JA01, quadra 01, lote APM 1, Jardim Alphaville, Bela Vista de Goiás | E4: SINAPI - 04/2025 - Goiás | G4: ='BDI ONERADO'!E54 -> 0.25 | I4: SEM DESONERAÇÃO
A6: Orçamento Sintético
A8: Item | B8: Código | C8: Banco | D8: Descrição | E8: Und | F8: Quant. | G8: Valor Unit | H8: Valor Unit com BDI | I8: Total | J8: %
A9: 1 | D9: Mobilização do canteiro e instalação provisória | I9: =SUM(I10:I15) -> 49200.7 | J9: =I9/$I$206 -> 0.061577117
A10: 1.1 | B10: 103689 | C10: SINAPI | D10: =INDEX(Banco!$D$7:$D$15550,MATCH(ORÇAMENTO!$B10,Banco!$C$7:$C$15550,0)) -> FORNECIMENTO E INSTALAÇÃO DE PLACA DE OBRA COM CHAPA GALVANIZADA E ESTRUTURA DE MADEIRA. AF_03/2022_PS | E10: =INDEX(Banco!$E$7:$E$15550,MATCH(ORÇAMENTO!$B10,Banco!$C$7:$C$15550,0)) -> M2 | F10: 4.5 | G10: =INDEX(Banco!$G$7:$G$15550,MATCH(ORÇAMENTO!$B10,Banco!$C$7:$C$15550,0)) -> 465.01 | H10: =TRUNC(G10*(1+$G$4),2) -> 581.26 | I10: =TRUNC(H10*F10,2) -> 2615.67 | J10: =I10/$I$206 -> 0.0032736408
A11: 1.1 | B11: 105009 | C11: SINAPI | D11: =INDEX(Banco!$D$7:$D$15550,MATCH(ORÇAMENTO!$B11,Banco!$C$7:$C$15550,0)) -> LOCAÇÃO CONVENCIONAL DE OBRA, UTILIZANDO GABARITO DE TÁBUAS CORRIDAS PONTALETADAS A CADA 1,50M - 2 UTILIZAÇÕES. AF_03/2024 | E11: =INDEX(Banco!$E$7:$E$15550,MATCH(ORÇAMENTO!$B11,Banco!$C$7:$C$15550,0)) -> M | F11: 22.19 | G11: =INDEX(Banco!$G$7:$G$15550,MATCH(ORÇAMENTO!$B11,Banco!$C$7:$C$15550,0)) -> 77.44 | H11: =TRUNC(G11*(1+$G$4),2) -> 96.8 | I11: =TRUNC(H11*F11,2) -> 2147.99 | J11: =I11/$I$206 -> 0.002688316
A12: 1.3 | B12: 10775 | C12: SINAPI | D12: =INDEX(Banco!$D$7:$D$15550,MATCH(ORÇAMENTO!$B12,Banco!$C$7:$C$15550,0)) -> LOCACAO DE CONTAINER 2,30 X 6,00 M, ALT. 2,50 M, COM 1 SANITARIO, PARA ESCRITORIO, COMPLETO, SEM DIVISORIAS INTERNAS (NAO INCLUI MOBILIZACAO/DESMOBILIZACAO) | E12: =INDEX(Banco!$E$7:$E$15550,MATCH(ORÇAMENTO!$B12,Banco!$C$7:$C$15550,0)) -> MES | F12: 6 | G12: =INDEX(Banco!$G$7:$G$15550,MATCH(ORÇAMENTO!$B12,Banco!$C$7:$C$15550,0)) -> 823 | H12: =TRUNC(G12*(1+$G$4),2) -> 1028.75 | I12: =TRUNC(H12*F12,2) -> 6172.5 | J12: =I12/$I$206 -> 0.0077251899
A13: 1.4 | B13: 10777 | C13: SINAPI | D13: =INDEX(Banco!$D$7:$D$15550,MATCH(ORÇAMENTO!$B13,Banco!$C$7:$C$15550,0)) -> LOCACAO DE CONTAINER 2,30 X 4,30 M, ALT. 2,50 M, PARA SANITARIO, COM 3 BACIAS, 4 CHUVEIROS, 1 LAVATORIO E 1 MICTORIO (NAO INCLUI MOBILIZACAO/DESMOBILIZACAO) | E13: =INDEX(Banco!$E$7:$E$15550,MATCH(ORÇAMENTO!$B13,Banco!$C$7:$C$15550,0)) -> MES | F13: 6 | G13: =INDEX(Banco!$G$7:$G$15550,MATCH(ORÇAMENTO!$B13,Banco!$C$7:$C$15550,0)) -> 934.44 | H13: =TRUNC(G13*(1+$G$4),2) -> 1168.05 | I13: =TRUNC(H13*F13,2) -> 7008.3 | J13: =I13/$I$206 -> 0.0087712351
A14: 1.5 | B14: 10776 | C14: SINAPI | D14: =INDEX(Banco!$D$7:$D$15550,MATCH(ORÇAMENTO!$B14,Banco!$C$7:$C$15550,0)) -> LOCACAO DE CONTAINER 2,30 X 6,00 M, ALT. 2,50 M, PARA ESCRITORIO, SEM DIVISORIAS INTERNAS E SEM SANITARIO (NAO INCLUI MOBILIZACAO/DESMOBILIZACAO) | E14: =INDEX(Banco!$E$7:$E$15550,MATCH(ORÇAMENTO!$B14,Banco!$C$7:$C$15550,0)) -> MES | F14: 6 | G14: =INDEX(Banco!$G$7:$G$15550,MATCH(ORÇAMENTO!$B14,Banco!$C$7:$C$15550,0)) -> 642.96 | H14: =TRUNC(G14*(1+$G$4),2) -> 803.7 | I14: =TRUNC(H14*F14,2) -> 4822.2 | J14: =I14/$I$206 -> 0.0060352225
A15: 1.6 | B15: 98459 | C15: SINAPI | D15: =INDEX(Banco!$D$7:$D$15550,MATCH(ORÇAMENTO!$B15,Banco!$C$7:$C$15550,0)) -> TAPUME COM TELHA METÁLICA. AF_03/2024 | E15: =INDEX(Banco!$E$7:$E$15550,MATCH(ORÇAMENTO!$B15,Banco!$C$7:$C$15550,0)) -> M2 | F15: 166.85 | G15: =INDEX(Banco!$G$7:$G$15550,MATCH(ORÇAMENTO!$B15,Banco!$C$7:$C$15550,0)) -> 126.75 | H15: =TRUNC(G15*(1+$G$4),2) -> 158.43 | I15: =TRUNC(H15*F15,2) -> 26434.04 | J15: =I15/$I$206 -> 0.033083512
A16: 2 | D16: Demolição, limpeza e raspagem de solo | I16: =SUM(I17:I20) -> 2812.54 | J16: =I16/$I$206 -> 0.0035200333
A17: 2.1 | B17: 97625 | C17: SINAPI | D17: =INDEX(Banco!$D$7:$D$15550,MATCH(ORÇAMENTO!$B17,Banco!$C$7:$C$15550,0)) -> DEMOLIÇÃO DE ALVENARIA PARA QUALQUER TIPO DE BLOCO, DE FORMA MECANIZADA, SEM REAPROVEITAMENTO. AF_09/2023 | E17: =INDEX(Banco!$E$7:$E$15550,MATCH(ORÇAMENTO!$B17,Banco!$C$7:$C$15550,0)) -> M3 | F17: 14.51 | G17: =INDEX(Banco!$G$7:$G$15550,MATCH(ORÇAMENTO!$B17,Banco!$C$7:$C$15550,0)) -> 48.43 | H17: =TRUNC(G17*(1+$G$4),2) -> 60.53 | I17: =TRUNC(H17*F17,2) -> 878.29 | J17: =I17/$I$206 -> 0.0010992235
A18: 2.2 | B18: 100981 | C18: SINAPI | D18: =INDEX(Banco!$D$7:$D$15550,MATCH(ORÇAMENTO!$B18,Banco!$C$7:$C$15550,0)) -> CARGA, MANOBRA E DESCARGA DE ENTULHO EM CAMINHÃO BASCULANTE 6 M³ - CARGA COM ESCAVADEIRA HIDRÁULICA (CAÇAMBA DE 0,80 M³ / 111 HP) E DESCARGA LIVRE (UNIDADE: M3). AF_07/2020 | E18: =INDEX(Banco!$E$7:$E$15550,MATCH(ORÇAMENTO!$B18,Banco!$C$7:$C$15550,0)) -> M3 | F18: 22.49 | G18: =INDEX(Banco!$G$7:$G$15550,MATCH(ORÇAMENTO!$B18,Banco!$C$7:$C$15550,0)) -> 9.9 | H18: =TRUNC(G18*(1+$G$4),2) -> 12.37 | I18: =TRUNC(H18*F18,2) -> 278.2 | J18: =I18/$I$206 -> 0.0003481811
A19: 2.4 | B19: 98519 | C19: SINAPI | D19: =INDEX(Banco!$D$7:$D$15550,MATCH(ORÇAMENTO!$B19,Banco!$C$7:$C$15550,0)) -> REVOLVIMENTO E LIMPEZA MANUAL DE SOLO. AF_07/2024 | E19: =INDEX(Banco!$E$7:$E$15550,MATCH(ORÇAMENTO!$B19,Banco!$C$7:$C$15550,0)) -> M2 | F19: 301.65 | G19: =INDEX(Banco!$G$7:$G$15550,MATCH(ORÇAMENTO!$B19,Banco!$C$7:$C$15550,0)) -> 3.93 | H19: =TRUNC(G19*(1+$G$4),2) -> 4.91 | I19: =TRUNC(H19*F19,2) -> 1481.1 | J19: =I19/$I$206 -> 0.0018536701
A20: 2.5 | B20: 100577 | C20: SINAPI | D20: =INDEX(Banco!$D$7:$D$15550,MATCH(ORÇAMENTO!$B20,Banco!$C$7:$C$15550,0)) -> REGULARIZAÇÃO E COMPACTAÇÃO DE SUBLEITO DE SOLO PREDOMINANTEMENTE ARENOSO, PARA OBRAS DE CONSTRUÇÃO DE PAVIMENTOS. AF_09/2024 | E20: =INDEX(Banco!$E$7:$E$15550,MATCH(ORÇAMENTO!$B20,Banco!$C$7:$C$15550,0)) -> M2 | F20: 301.65 | G20: =INDEX(Banco!$G$7:$G$15550,MATCH(ORÇAMENTO!$B20,Banco!$C$7:$C$15550,0)) -> 0.47 | H20: =TRUNC(G20*(1+$G$4),2) -> 0.58 | I20: =TRUNC(H20*F20,2) -> 174.95 | J20: =I20/$I$206 -> 0.0002189586
A21: 3 | D21: Aterro e compactação | I21: =SUM(I22) -> 25442.69 | J21: =I21/$I$206 -> 0.031842789
A22: 3.1 | B22: 94342 | C22: SINAPI | D22: =INDEX(Banco!$D$7:$D$15550,MATCH(ORÇAMENTO!$B22,Banco!$C$7:$C$15550,0)) -> ATERRO MANUAL DE VALAS COM AREIA PARA ATERRO. AF_08/2023 | E22: =INDEX(Banco!$E$7:$E$15550,MATCH(ORÇAMENTO!$B22,Banco!$C$7:$C$15550,0)) -> M3 | F22: 156.86 | G22: =INDEX(Banco!$G$7:$G$15550,MATCH(ORÇAMENTO!$B22,Banco!$C$7:$C$15550,0)) -> 129.76 | H22: =TRUNC(G22*(1+$G$4),2) -> 162.2 | I22: =TRUNC(H22*F22,2) -> 25442.69 | J22: =I22/$I$206 -> 0.031842789
A23: 4 | D23: Escavação(sapatas, blocos, estacas) | I23: =I24+I26+I28+I30 -> 3755.36 | J23: =I23/$I$206 -> 0.0047000193
A24: 4.1 | D24: Estacas | I24: =SUM(I25) -> 225.26 | J24: =I24/$I$206 -> 0.00028192406
A25: 4.1.1 | B25: 101211 | C25: SINAPI | D25: =INDEX(Banco!$D$7:$D$15550,MATCH(ORÇAMENTO!$B25,Banco!$C$7:$C$15550,0)) -> ESCAVAÇÃO VERTICAL PARA EDIFICAÇÃO, COM CARGA, DESCARGA E TRANSPORTE DE SOLO DE 1ª CATEGORIA, COM ESCAVADEIRA HIDRÁULICA (CAÇAMBA: 0,8 M³ / 111 HP), FROTA DE 4 CAMINHÕES BASCULANTES DE 14 M³, DMT DE 2 KM E VELOCIDADE MÉDIA 19 KM/H. AF_05/2020 | E25: =INDEX(Banco!$E$7:$E$15550,MATCH(ORÇAMENTO!$B25,Banco!$C$7:$C$15550,0)) -> M3 | F25: 9.054 | G25: =INDEX(Banco!$G$7:$G$15550,MATCH(ORÇAMENTO!$B25,Banco!$C$7:$C$15550,0)) -> 19.91 | H25: =TRUNC(G25*(1+$G$4),2) -> 24.88 | I25: =TRUNC(H25*F25,2) -> 225.26 | J25: =I25/$I$206 -> 0.00028192406
A26: 4.2 | D26: Sapatas | I26: =SUM(I27) -> 1627.25 | J26: =I26/$I$206 -> 0.0020365841
A27: 4.2.1 | B27: 96523 | C27: SINAPI | D27: =INDEX(Banco!$D$7:$D$15550,MATCH(ORÇAMENTO!$B27,Banco!$C$7:$C$15550,0)) -> ESCAVAÇÃO MANUAL PARA BLOCO DE COROAMENTO OU SAPATA (INCLUINDO ESCAVAÇÃO PARA COLOCAÇÃO DE FÔRMAS). AF_01/2024 | E27: =INDEX(Banco!$E$7:$E$15550,MATCH(ORÇAMENTO!$B27,Banco!$C$7:$C$15550,0)) -> M3 | F27: 13.084 | G27: =INDEX(Banco!$G$7:$G$15550,MATCH(ORÇAMENTO!$B27,Banco!$C$7:$C$15550,0)) -> 99.5 | H27: =TRUNC(G27*(1+$G$4),2) -> 124.37 | I27: =TRUNC(H27*F27,2) -> 1627.25 | J27: =I27/$I$206 -> 0.0020365841
A28: 4.3 | D28: Blocos | I28: =SUM(I29) -> 700.2 | J28: =I28/$I$206 -> 0.00087633503
A29: 4.3.1 | B29: 96523 | C29: SINAPI | D29: =INDEX(Banco!$D$7:$D$15550,MATCH(ORÇAMENTO!$B29,Banco!$C$7:$C$15550,0)) -> ESCAVAÇÃO MANUAL PARA BLOCO DE COROAMENTO OU SAPATA (INCLUINDO ESCAVAÇÃO PARA COLOCAÇÃO DE FÔRMAS). AF_01/2024 | E29: =INDEX(Banco!$E$7:$E$15550,MATCH(ORÇAMENTO!$B29,Banco!$C$7:$C$15550,0)) -> M3 | F29: 5.63 | G29: =INDEX(Banco!$G$7:$G$15550,MATCH(ORÇAMENTO!$B29,Banco!$C$7:$C$15550,0)) -> 99.5 | H29: =TRUNC(G29*(1+$G$4),2) -> 124.37 | I29: =TRUNC(H29*F29,2) -> 700.2 | J29: =I29/$I$206 -> 0.00087633503
A30: 4.4 | D30: Baldrames | I30: =SUM(I31) -> 1202.65 | J30: =I30/$I$206 -> 0.0015051761
A31: 4.4.1 | B31: 96523 | C31: SINAPI | D31: =INDEX(Banco!$D$7:$D$15550,MATCH(ORÇAMENTO!$B31,Banco!$C$7:$C$15550,0)) -> ESCAVAÇÃO MANUAL PARA BLOCO DE COROAMENTO OU SAPATA (INCLUINDO ESCAVAÇÃO PARA COLOCAÇÃO DE FÔRMAS). AF_01/2024 | E31: =INDEX(Banco!$E$7:$E$15550,MATCH(ORÇAMENTO!$B31,Banco!$C$7:$C$15550,0)) -> M3 | F31: 9.67 | G31: =INDEX(Banco!$G$7:$G$15550,MATCH(ORÇAMENTO!$B31,Banco!$C$7:$C$15550,0)) -> 99.5 | H31: =TRUNC(G31*(1+$G$4),2) -> 124.37 | I31: =TRUNC(H31*F31,2) -> 1202.65 | J31: =I31/$I$206 -> 0.0015051761
A32: 5 | D32: Fundação, Baldrames, pilares e vigas | I32: =I33+I37+I42+I51+I58+I48 -> 189516.6 | J32: =I32/$I$206 -> 0.23718943
A33: 5.1 | D33: Estaca | I33: =SUM(I34:I36) -> 11737.17 | J33: =I33/$I$206 -> 0.01468965
A34: 5.1.1 | B34: 92917 | C34: SINAPI | D34: =INDEX(Banco!$D$7:$D$15550,MATCH(ORÇAMENTO!$B34,Banco!$C$7:$C$15550,0)) -> ARMAÇÃO DE ESTRUTURAS DIVERSAS DE CONCRETO ARMADO, EXCETO VIGAS, PILARES, LAJES E FUNDAÇÕES, UTILIZANDO AÇO CA-50 DE 8,0 MM - MONTAGEM. AF_06/2022 | E34: =INDEX(Banco!$E$7:$E$15550,MATCH(ORÇAMENTO!$B34,Banco!$C$7:$C$15550,0)) -> KG | F34: 128 | G34: =INDEX(Banco!$G$7:$G$15550,MATCH(ORÇAMENTO!$B34,Banco!$C$7:$C$15550,0)) -> 13.99 | H34: =TRUNC(G34*(1+$G$4),2) -> 17.48 | I34: =TRUNC(H34*F34,2) -> 2237.44 | J34: =I34/$I$206 -> 0.0028002672
A35: 5.1.2 | B35: 92915 | C35: SINAPI | D35: =INDEX(Banco!$D$7:$D$15550,MATCH(ORÇAMENTO!$B35,Banco!$C$7:$C$15550,0)) -> ARMAÇÃO DE ESTRUTURAS DIVERSAS DE CONCRETO ARMADO, EXCETO VIGAS, PILARES, LAJES E FUNDAÇÕES, UTILIZANDO AÇO CA-60 DE 5,0 MM - MONTAGEM. AF_06/2022 | E35: =INDEX(Banco!$E$7:$E$15550,MATCH(ORÇAMENTO!$B35,Banco!$C$7:$C$15550,0)) -> KG | F35: 40 | G35: =INDEX(Banco!$G$7:$G$15550,MATCH(ORÇAMENTO!$B35,Banco!$C$7:$C$15550,0)) -> 17.35 | H35: =TRUNC(G35*(1+$G$4),2) -> 21.68 | I35: =TRUNC(H35*F35,2) -> 867.2 | J35: =I35/$I$206 -> 0.0010853438
A36: 5.1.3 | B36: 103672 | C36: SINAPI | D36: =INDEX(Banco!$D$7:$D$15550,MATCH(ORÇAMENTO!$B36,Banco!$C$7:$C$15550,0)) -> CONCRETAGEM DE PILARES, FCK = 25 MPA, COM USO DE BOMBA - LANÇAMENTO, ADENSAMENTO E ACABAMENTO. AF_02/2022_PS | E36: =INDEX(Banco!$E$7:$E$15550,MATCH(ORÇAMENTO!$B36,Banco!$C$7:$C$15550,0)) -> M3 | F36: 9.1 | G36: =INDEX(Banco!$G$7:$G$15550,MATCH(ORÇAMENTO!$B36,Banco!$C$7:$C$15550,0)) -> 758.91 | H36: =TRUNC(G36*(1+$G$4),2) -> 948.63 | I36: =TRUNC(H36*F36,2) -> 8632.53 | J36: =I36/$I$206 -> 0.01080404
A37: 5.2 | D37: Sapata e Blocos | I37: =SUM(I38:I41) -> 24422.69 | J37: =I37/$I$206 -> 0.030566208
A38: 5.2.1 | B38: 92803 | C38: SINAPI | D38: =INDEX(Banco!$D$7:$D$15550,MATCH(ORÇAMENTO!$B38,Banco!$C$7:$C$15550,0)) -> CORTE E DOBRA DE AÇO CA-50, DIÂMETRO DE 10,0 MM. AF_06/2022 | E38: =INDEX(Banco!$E$7:$E$15550,MATCH(ORÇAMENTO!$B38,Banco!$C$7:$C$15550,0)) -> KG | F38: 505 | G38: =INDEX(Banco!$G$7:$G$15550,MATCH(ORÇAMENTO!$B38,Banco!$C$7:$C$15550,0)) -> 8.93 | H38: =TRUNC(G38*(1+$G$4),2) -> 11.16 | I38: =TRUNC(H38*F38,2) -> 5635.8 | J38: =I38/$I$206 -> 0.0070534833
A39: 5.2.2 | B39: 92804 | C39: SINAPI | D39: =INDEX(Banco!$D$7:$D$15550,MATCH(ORÇAMENTO!$B39,Banco!$C$7:$C$15550,0)) -> CORTE E DOBRA DE AÇO CA-50, DIÂMETRO DE 12,5 MM. AF_06/2022 | E39: =INDEX(Banco!$E$7:$E$15550,MATCH(ORÇAMENTO!$B39,Banco!$C$7:$C$15550,0)) -> KG | F39: 75 | G39: =INDEX(Banco!$G$7:$G$15550,MATCH(ORÇAMENTO!$B39,Banco!$C$7:$C$15550,0)) -> 7.64 | H39: =TRUNC(G39*(1+$G$4),2) -> 9.55 | I39: =TRUNC(H39*F39,2) -> 716.25 | J39: =I39/$I$206 -> 0.00089642241
A40: 5.2.3 | B40: 92799 | C40: SINAPI | D40: =INDEX(Banco!$D$7:$D$15550,MATCH(ORÇAMENTO!$B40,Banco!$C$7:$C$15550,0)) -> CORTE E DOBRA DE AÇO CA-60, DIÂMETRO DE 4,2 MM. AF_06/2022 | E40: =INDEX(Banco!$E$7:$E$15550,MATCH(ORÇAMENTO!$B40,Banco!$C$7:$C$15550,0)) -> KG | F40: 24 | G40: =INDEX(Banco!$G$7:$G$15550,MATCH(ORÇAMENTO!$B40,Banco!$C$7:$C$15550,0)) -> 11.04 | H40: =TRUNC(G40*(1+$G$4),2) -> 13.8 | I40: =TRUNC(H40*F40,2) -> 331.2 | J40: =I40/$I$206 -> 0.00041451323
A41: 5.2.4 | B41: 96555 | C41: SINAPI | D41: =INDEX(Banco!$D$7:$D$15550,MATCH(ORÇAMENTO!$B41,Banco!$C$7:$C$15550,0)) -> CONCRETAGEM DE BLOCO DE COROAMENTO OU VIGA BALDRAME, FCK 30 MPA, COM USO DE JERICA - LANÇAMENTO, ADENSAMENTO E ACABAMENTO. AF_01/2024 | E41: =INDEX(Banco!$E$7:$E$15550,MATCH(ORÇAMENTO!$B41,Banco!$C$7:$C$15550,0)) -> M3 | F41: 18.72 | G41: =INDEX(Banco!$G$7:$G$15550,MATCH(ORÇAMENTO!$B41,Banco!$C$7:$C$15550,0)) -> 758.1 | H41: =TRUNC(G41*(1+$G$4),2) -> 947.62 | I41: =TRUNC(H41*F41,2) -> 17739.44 | J41: =I41/$I$206 -> 0.022201789
A42: 5.3 | D42: Vigas Baldrames | I42: =SUM(I43:I47) -> 45534.43 | J42: =I42/$I$206 -> 0.056988598
A43: 5.3.1 | B43: 96530 | C43: SINAPI | D43: =INDEX(Banco!$D$7:$D$15550,MATCH(ORÇAMENTO!$B43,Banco!$C$7:$C$15550,0)) -> FABRICAÇÃO, MONTAGEM E DESMONTAGEM DE FÔRMA PARA VIGA BALDRAME, EM MADEIRA SERRADA, E=25 MM, 1 UTILIZAÇÃO. AF_01/2024 | E43: =INDEX(Banco!$E$7:$E$15550,MATCH(ORÇAMENTO!$B43,Banco!$C$7:$C$15550,0)) -> M2 | F43: 147 | G43: =INDEX(Banco!$G$7:$G$15550,MATCH(ORÇAMENTO!$B43,Banco!$C$7:$C$15550,0)) -> 163.98 | H43: =TRUNC(G43*(1+$G$4),2) -> 204.97 | I43: =TRUNC(H43*F43,2) -> 30130.59 | J43: =I43/$I$206 -> 0.037709928
...

Sheet PMR
C2: Contratante: | D2: Fundo Municipal de Eucação de Bela Vista de Goiás
C3: Obra: | D3: Reforma – CMEI Dona Baltira de Moraes e Souza | E3: Bancos | G3: B.D.I.
C4: Endereço: | D4: Rua JA01, quadra 01, lote APM 1, Jardim Alphaville, Bela Vista de Goiás | E4: SINAPI - 04/2025 - Goiás | G4: ='BDI ONERADO'!E54 -> 0.25
A6: PMR
A8: Item | B8: Código | C8: Banco | D8: Descrição | E8: Und | F8: Quant. | G8: % | H8: Quant. Mínimo
A9: 5 | D9: Fundação, Baldrames, pilares e vigas
A10: 5.4 | D10: Piso
A11: 5.4.1 | B11: 101747 | C11: SINAPI | D11: =INDEX(Banco!$D$7:$D$15550,MATCH(PMR!$B11,Banco!$C$7:$C$15550,0)) -> PISO EM CONCRETO 20 MPA PREPARO MECÂNICO, ESPESSURA 7CM. AF_09/2020 | E11: =INDEX(Banco!$E$7:$E$15550,MATCH(PMR!$B11,Banco!$C$7:$C$15550,0)) -> M2 | F11: 301.65 | G11: 0.5 | H11: =F11*G11 -> 150.825
A12: 8 | D12: Execução das paredes de alvenaria
A13: 8.1 | B13: 103328 | C13: SINAPI | D13: =INDEX(Banco!$D$7:$D$15550,MATCH(PMR!$B13,Banco!$C$7:$C$15550,0)) -> ALVENARIA DE VEDAÇÃO DE BLOCOS CERÂMICOS FURADOS NA HORIZONTAL DE 9X19X19 CM (ESPESSURA 9 CM) E ARGAMASSA DE ASSENTAMENTO COM PREPARO EM BETONEIRA. AF_12/2021 | E13: =INDEX(Banco!$E$7:$E$15550,MATCH(PMR!$B13,Banco!$C$7:$C$15550,0)) -> M2 | F13: =247.05+247.66 -> 494.71 | G13: 0.5 | H13: =F13*G13 -> 247.355
A14: 8.5 | B14: 104219 | C14: SINAPI | D14: =INDEX(Banco!$D$7:$D$15550,MATCH(PMR!$B14,Banco!$C$7:$C$15550,0)) -> EMBOÇO OU MASSA ÚNICA EM ARGAMASSA INDUSTRIALIZADA, PREPARO MECÂNICA E APLICAÇÃO COM EQUIPAMENTO DE MISTURA E PROJEÇÃO DE 1,5 M3/H DE ARGAMASSA EM PANOS DE FACHADA COM PRESENÇA DE VÃOS, ESPESSURA DE 25 MM, ACESSO POR ANDAIME. AF_08/2022 | E14: =INDEX(Banco!$E$7:$E$15550,MATCH(PMR!$B14,Banco!$C$7:$C$15550,0)) -> M2 | F14: 989.42 | G14: 0.5 | H14: =F14*G14 -> 494.71
A15: 12 | D15: Pintura
A16: 12.6 | D16: Pintura interna e externa de paredes
A17: 12.6.1 | B17: 88423 | C17: SINAPI | D17: =INDEX(Banco!$D$7:$D$15550,MATCH(PMR!$B17,Banco!$C$7:$C$15550,0)) -> APLICAÇÃO MANUAL DE PINTURA COM TINTA TEXTURIZADA ACRÍLICA EM PAREDES EXTERNAS DE CASAS, UMA COR. AF_03/2024 | E17: =INDEX(Banco!$E$7:$E$15550,MATCH(PMR!$B17,Banco!$C$7:$C$15550,0)) -> M2 | F17: =ORÇAMENTO!F193 -> 1310.9813 | G17: 0.5 | H17: =F17*G17 -> 655.49067

Sheet COTAÇÃO
B1: Contratante: | C1: Fundo Municipal de Eucação de Bela Vista de Goiás
B2: Obra: | C2: Reforma – CMEI Dona Baltira de Moraes e Souza | E2: Bancos | G2: B.D.I. | I2: SEM DESONERAÇÃO
B3: Endereço: | C3: Rua JA01, quadra 01, lote APM 1, Jardim Alphaville, Bela Vista de Goiás | E3: SINAPI - 03/2023 - Goiás | G3: ='BDI ONERADO'!E54 -> 0.25
A5: COTAÇÃO
A7: Item | B7: Código | C7: Banco | D7: Descrição | E7: Und | F7: Quant. | G7: Valor Unit | H7: Valor Unit com BDI | I7: Total
A8: 9.3 | B8: 001 | C8: COT001 | D8: MONITOR LED 19 POLEGADAS | E8: UN. | F8: 1 | G8: =AVERAGE(D12,D17,D23) -> 325.66667 | H8: =G8*(1+G3) -> 407.08333 | I8: =H8*F8 -> 407.08333
C10: EMPRESA 1 | D10: TG INFORMATICA
C11: PRODUTO | D11: MONITOR LED 19 POLEGADAS MR-19 - C3TECH
C12: VALOR | D12: 480
C13: CONTATO | D13: (62) 3954-9995
C15: EMPRESA 2 | D15: MERCADO LIVRE.COM.BR
C16: PRODUTO | D16: Monitor Gamer VXpro VX190Z 19 Led Wsxga 60hz 5ms Hdmi Vga Cor Preto
C17: VALOR | D17: 200
C18: CONTATO | D18: INTERNET
C19: LINK | D19: https://www.mercadolivre.com.br/monitor-gamer-vxpro-vx190z-19-led-wsxga-60hz-5ms-hdmi-vga-cor-preto-aceitavel-recondicionado/p/MLB2012951643?pdp_filters=item_id%3AMLB5385092920&from=gshop&matt_tool=31485049&matt_internal_campaign_id=&matt_word=&matt_source=google&matt_campaign_id=22090354244&matt_ad_group_id=173090555516&matt_match_type=&matt_network=g&matt_device=c&matt_creative=727882729092&matt_keyword=&matt_ad_position=&matt_ad_type=pla&matt_merchant_id=735098660&matt_product_id=MLB2012951643-product&matt_product_partition_id=2388112038453&matt_target_id=pla-2388112038453&cq_src=google_ads&cq_cmp=22090354244&cq_net=g&cq_plt=gp&cq_med=pla&gad_source=1&gad_campaignid=22090354244&gclid=Cj0KCQjwjJrCBhCXARIsAI5x66WRUZOcgeENOGXfK83pP__7wigThybSP7dKEpN_4k17H5rmxxqwfvkaAhZmEALw_wcB | E19: .
C21: EMPRESA 2 | D21: KABUM.COM.BR
C22: PRODUTO | D22: Monitor HQ 19.5 LED Widescreen, 75hz, HDMI, VESA, Ajuste de Inclinação, Preto - 19.5HQ-LED
C23: VALOR | D23: 297
C24: CONTATO | D24: INTERNET
C25: LINK | D25: https://www.kabum.com.br/produto/133768/monitor-hq-19-5-led-widescreen-75hz-hdmi-vesa-ajuste-de-inclinacao-preto-19-5hq-led?utm_id=21434223550&gad_source=1&gad_campaignid=21430282493&gclid=Cj0KCQjwjJrCBhCXARIsAI5x66UGjyxDDub5aBskEVAa9Q85ou3_384UGBtPhAcr035TH7JggUTdXKIaAnPhEALw_wcB | E25: .
A39: REYDDNER ANDREI NUNES SILVA
A40: ENGENHEIRO CIVIL
A41: CREA 1014662982D-GO

Sheet MC
C2: Contratante: | D2: Fundo Municipal de Eucação de Bela Vista de Goiás
C3: Obra: | D3: Reforma – CMEI Dona Baltira de Moraes e Souza
C4: Endereço: | D4: Rua JA01, quadra 01, lote APM 1, Jardim Alphaville, Bela Vista de Goiás
A6: Mémoria de Cálculo
A7: Item | B7: Código | C7: Banco | D7: Descrição | E7: Und | F7: Quant. | G7: Memorial de Cálculo
A8: 1 | D8: Mobilização do canteiro e instalação provisória
A9: 1.1 | B9: 103689 | C9: SINAPI | D9: =INDEX(Banco!$D$7:$D$15550,MATCH(MC!$B9,Banco!$C$7:$C$15550,0)) -> FORNECIMENTO E INSTALAÇÃO DE PLACA DE OBRA COM CHAPA GALVANIZADA E ESTRUTURA DE MADEIRA. AF_03/2022_PS | E9: =INDEX(Banco!$E$7:$E$15550,MATCH(MC!$B9,Banco!$C$7:$C$15550,0)) -> M2 | F9: =ORÇAMENTO!F10 -> 4.5 | G9: 3,00 m x 1,50 m
A10: 1.2 | B10: 105009 | C10: SINAPI | D10: =ORÇAMENTO!D11 -> LOCAÇÃO CONVENCIONAL DE OBRA, UTILIZANDO GABARITO DE TÁBUAS CORRIDAS PONTALETADAS A CADA 1,50M - 2 UTILIZAÇÕES. AF_03/2024 | E10: =ORÇAMENTO!E11 -> M | F10: 22.19 | G10: 22,19 m
A11: 1.3 | B11: 10775 | C11: SINAPI | D11: =INDEX(Banco!$D$7:$D$15550,MATCH(MC!$B11,Banco!$C$7:$C$15550,0)) -> LOCACAO DE CONTAINER 2,30 X 6,00 M, ALT. 2,50 M, COM 1 SANITARIO, PARA ESCRITORIO, COMPLETO, SEM DIVISORIAS INTERNAS (NAO INCLUI MOBILIZACAO/DESMOBILIZACAO) | E11: =INDEX(Banco!$E$7:$E$15550,MATCH(MC!$B11,Banco!$C$7:$C$15550,0)) -> MES | F11: =ORÇAMENTO!F12 -> 6 | G11: 1 unidades por 6 meses
A12: 1.4 | B12: 10777 | C12: SINAPI | D12: =INDEX(Banco!$D$7:$D$15550,MATCH(MC!$B12,Banco!$C$7:$C$15550,0)) -> LOCACAO DE CONTAINER 2,30 X 4,30 M, ALT. 2,50 M, PARA SANITARIO, COM 3 BACIAS, 4 CHUVEIROS, 1 LAVATORIO E 1 MICTORIO (NAO INCLUI MOBILIZACAO/DESMOBILIZACAO) | E12: =INDEX(Banco!$E$7:$E$15550,MATCH(MC!$B12,Banco!$C$7:$C$15550,0)) -> MES | F12: =ORÇAMENTO!F13 -> 6 | G12: 1 unidades por 6 meses
A13: 1.5 | B13: 10776 | C13: SINAPI | D13: =INDEX(Banco!$D$7:$D$15550,MATCH(MC!$B13,Banco!$C$7:$C$15550,0)) -> LOCACAO DE CONTAINER 2,30 X 6,00 M, ALT. 2,50 M, PARA ESCRITORIO, SEM DIVISORIAS INTERNAS E SEM SANITARIO (NAO INCLUI MOBILIZACAO/DESMOBILIZACAO) | E13: =INDEX(Banco!$E$7:$E$15550,MATCH(MC!$B13,Banco!$C$7:$C$15550,0)) -> MES | F13: =ORÇAMENTO!F14 -> 6 | G13: 1 unidades por 6 meses
A14: 1.6 | B14: 98459 | C14: SINAPI | D14: =INDEX(Banco!$D$7:$D$15550,MATCH(MC!$B14,Banco!$C$7:$C$15550,0)) -> TAPUME COM TELHA METÁLICA. AF_03/2024 | E14: =INDEX(Banco!$E$7:$E$15550,MATCH(MC!$B14,Banco!$C$7:$C$15550,0)) -> M2 | F14: =ORÇAMENTO!F15 -> 166.85 | G14: 75,84*2,2=166.848
A15: 2 | D15: Demolição, limpeza e raspagem de solo
A16: 2.1 | B16: 97625 | C16: SINAPI | D16: =INDEX(Banco!$D$7:$D$15550,MATCH(MC!$B16,Banco!$C$7:$C$15550,0)) -> DEMOLIÇÃO DE ALVENARIA PARA QUALQUER TIPO DE BLOCO, DE FORMA MECANIZADA, SEM REAPROVEITAMENTO. AF_09/2023 | E16: =INDEX(Banco!$E$7:$E$15550,MATCH(MC!$B16,Banco!$C$7:$C$15550,0)) -> M3 | F16: =ORÇAMENTO!F17 -> 14.51 | G16: Dois muros: 11,51m x 2,9m x 0,15m + 21,81m x 2,9m x 0,15m
A17: 2.2 | B17: 100981 | C17: SINAPI | D17: =INDEX(Banco!$D$7:$D$15550,MATCH(MC!$B17,Banco!$C$7:$C$15550,0)) -> CARGA, MANOBRA E DESCARGA DE ENTULHO EM CAMINHÃO BASCULANTE 6 M³ - CARGA COM ESCAVADEIRA HIDRÁULICA (CAÇAMBA DE 0,80 M³ / 111 HP) E DESCARGA LIVRE (UNIDADE: M3). AF_07/2020 | E17: =INDEX(Banco!$E$7:$E$15550,MATCH(MC!$B17,Banco!$C$7:$C$15550,0)) -> M3 | F17: =ORÇAMENTO!F18 -> 22.49 | G17: Volume demolido com empolamento (fator 1,3). Bota-fora licenciado
A18: 2.4 | B18: 98519 | C18: SINAPI | D18: =INDEX(Banco!$D$7:$D$15550,MATCH(MC!$B18,Banco!$C$7:$C$15550,0)) -> REVOLVIMENTO E LIMPEZA MANUAL DE SOLO. AF_07/2024 | E18: =INDEX(Banco!$E$7:$E$15550,MATCH(MC!$B18,Banco!$C$7:$C$15550,0)) -> M2 | F18: =ORÇAMENTO!F19 -> 301.65 | G18: área de projeto
A19: 2.5 | B19: 100577 | C19: SINAPI | D19: =INDEX(Banco!$D$7:$D$15550,MATCH(MC!$B19,Banco!$C$7:$C$15550,0)) -> REGULARIZAÇÃO E COMPACTAÇÃO DE SUBLEITO DE SOLO PREDOMINANTEMENTE ARENOSO, PARA OBRAS DE CONSTRUÇÃO DE PAVIMENTOS. AF_09/2024 | E19: =INDEX(Banco!$E$7:$E$15550,MATCH(MC!$B19,Banco!$C$7:$C$15550,0)) -> M2 | F19: =ORÇAMENTO!F20 -> 301.65 | G19: área de projeto
A20: 3 | D20: Aterro e compactação
A21: 3.1 | B21: 94342 | C21: SINAPI | D21: =INDEX(Banco!$D$7:$D$15550,MATCH(MC!$B21,Banco!$C$7:$C$15550,0)) -> ATERRO MANUAL DE VALAS COM AREIA PARA ATERRO. AF_08/2023 | E21: =INDEX(Banco!$E$7:$E$15550,MATCH(MC!$B21,Banco!$C$7:$C$15550,0)) -> M3 | F21: =ORÇAMENTO!F22 -> 156.86 | G21: Volume final compactado (área: 301,65 m² x 0,40 m). Uso de solo argiloso local Volume a ser escavado/transportado, fator empolamento 1,3
A22: 4 | D22: Escavação(sapatas, blocos, estacas)
A23: 4.1 | D23: Estacas
A24: 4.1.1 | B24: 101211 | C24: SINAPI | D24: =INDEX(Banco!$D$7:$D$15550,MATCH(MC!$B24,Banco!$C$7:$C$15550,0)) -> ESCAVAÇÃO VERTICAL PARA EDIFICAÇÃO, COM CARGA, DESCARGA E TRANSPORTE DE SOLO DE 1ª CATEGORIA, COM ESCAVADEIRA HIDRÁULICA (CAÇAMBA: 0,8 M³ / 111 HP), FROTA DE 4 CAMINHÕES BASCULANTES DE 14 M³, DMT DE 2 KM E VELOCIDADE MÉDIA 19 KM/H. AF_05/2020 | E24: =INDEX(Banco!$E$7:$E$15550,MATCH(MC!$B24,Banco!$C$7:$C$15550,0)) -> M3 | F24: =ORÇAMENTO!F25 -> 9.054 | G24: 18 estacas de 40 cm de diâmetro x 4,00 m Volume por estaca: π·(0,20)²·4,00 = 0,503 m³ Total: 18 x 0,503 m³ = 9,054 m³
A25: 4.2 | D25: Sapatas
A26: 4.2.1 | B26: 96523 | C26: SINAPI | D26: =INDEX(Banco!$D$7:$D$15550,MATCH(MC!$B26,Banco!$C$7:$C$15550,0)) -> ESCAVAÇÃO MANUAL PARA BLOCO DE COROAMENTO OU SAPATA (INCLUINDO ESCAVAÇÃO PARA COLOCAÇÃO DE FÔRMAS). AF_01/2024 | E26: =INDEX(Banco!$E$7:$E$15550,MATCH(MC!$B26,Banco!$C$7:$C$15550,0)) -> M3 | F26: =ORÇAMENTO!F27 -> 13.084 | G26: 10 unidades 85x85x30 cm → 1,931 m³ 5 unidades 175x60x30 cm → 1,575 m³ 5 unidades 175x80x30 cm → 2,100 m³ Volume total de escavação das sapatas: 13,084 m³
A27: 4.3 | D27: Blocos
A28: 4.3.1 | B28: 96523 | C28: SINAPI | D28: =INDEX(Banco!$D$7:$D$15550,MATCH(MC!$B28,Banco!$C$7:$C$15550,0)) -> ESCAVAÇÃO MANUAL PARA BLOCO DE COROAMENTO OU SAPATA (INCLUINDO ESCAVAÇÃO PARA COLOCAÇÃO DE FÔRMAS). AF_01/2024 | E28: =INDEX(Banco!$E$7:$E$15550,MATCH(MC!$B28,Banco!$C$7:$C$15550,0)) -> M3 | F28: =ORÇAMENTO!F29 -> 5.63 | G28: 17 blocos de 80x80x45 cm → 5,184 m³ 1 bloco de 90x90x55 cm → 0,446 m³ Subtotal blocos: 5,630 m³
A29: 4.4 | D29: Baldrames
A30: 4.4.1 | B30: 96523 | C30: SINAPI | D30: =INDEX(Banco!$D$7:$D$15550,MATCH(MC!$B30,Banco!$C$7:$C$15550,0)) -> ESCAVAÇÃO MANUAL PARA BLOCO DE COROAMENTO OU SAPATA (INCLUINDO ESCAVAÇÃO PARA COLOCAÇÃO DE FÔRMAS). AF_01/2024 | E30: =INDEX(Banco!$E$7:$E$15550,MATCH(MC!$B30,Banco!$C$7:$C$15550,0)) -> M3 | F30: =ORÇAMENTO!F31 -> 9.67 | G30: retirado de projeto
A31: 5 | D31: Fundação, Baldrames, pilares e vigas
A32: 5.1 | D32: Estaca
A33: 5.1.1 | B33: 92917 | C33: SINAPI | D33: =INDEX(Banco!$D$7:$D$15550,MATCH(MC!$B33,Banco!$C$7:$C$15550,0)) -> ARMAÇÃO DE ESTRUTURAS DIVERSAS DE CONCRETO ARMADO, EXCETO VIGAS, PILARES, LAJES E FUNDAÇÕES, UTILIZANDO AÇO CA-50 DE 8,0 MM - MONTAGEM. AF_06/2022 | E33: =INDEX(Banco!$E$7:$E$15550,MATCH(MC!$B33,Banco!$C$7:$C$15550,0)) -> KG | F33: =ORÇAMENTO!F34 -> 128 | G33: 1. Armação Longitudinal (Ø8mm) Comprimento útil de cada barra = 3,00 m Quantidade de barras por estaca = 6 Total por estaca: 6 × 3,00 m = 18,00 m Total para 18 estacas: 18 × 18,00 m = 324,00 m de barra Ø8mm Peso por metro do Ø8mm: 0,395 kg/m Total em peso: 324 × 0,395 = 127,98 kg ≈ 128 kg
A34: 5.1.2 | B34: 92915 | C34: SINAPI | D34: =INDEX(Banco!$D$7:$D$15550,MATCH(MC!$B34,Banco!$C$7:$C$15550,0)) -> ARMAÇÃO DE ESTRUTURAS DIVERSAS DE CONCRETO ARMADO, EXCETO VIGAS, PILARES, LAJES E FUNDAÇÕES, UTILIZANDO AÇO CA-60 DE 5,0 MM - MONTAGEM. AF_06/2022 | E34: =INDEX(Banco!$E$7:$E$15550,MATCH(MC!$B34,Banco!$C$7:$C$15550,0)) -> KG | F34: =ORÇAMENTO!F35 -> 40 | G34: Estribos Ø5mm a cada 20cm Altura da armadura: 3,00 m N° de estribos por estaca: 3,00 m / 0,20 m = 15 estribos Formato dos estribos (aproximado): circunferência com 30 cm de diâmetro interno (cobrimento 5cm) → Comprimento ≈ π × diâmetro = 3,14 × 0,30 = 0,942 m cada Comprimento total por estaca: 15 × 0,942 = 14,13 m Total para 18 estacas: 18 × 14,13 = 254,34 m de barra Ø5mm Peso por metro do Ø5mm: 0,154 kg/m Total em peso: 254,34 × 0,154 = 39,16 kg ≈ 40 kg
A35: 5.1.3 | B35: 103672 | C35: SINAPI | D35: =INDEX(Banco!$D$7:$D$15550,MATCH(MC!$B35,Banco!$C$7:$C$15550,0)) -> CONCRETAGEM DE PILARES, FCK = 25 MPA, COM USO DE BOMBA - LANÇAMENTO, ADENSAMENTO E ACABAMENTO. AF_02/2022_PS | E35: =INDEX(Banco!$E$7:$E$15550,MATCH(MC!$B35,Banco!$C$7:$C$15550,0)) -> M3 | F35: =ORÇAMENTO!F36 -> 9.1 | G35: retirado de projeto
A36: 5.2 | D36: Sapata e Blocos
A37: 5.2.1 | B37: 92803 | C37: SINAPI | D37: =INDEX(Banco!$D$7:$D$15550,MATCH(MC!$B37,Banco!$C$7:$C$15550,0)) -> CORTE E DOBRA DE AÇO CA-50, DIÂMETRO DE 10,0 MM. AF_06/2022 | E37: =INDEX(Banco!$E$7:$E$15550,MATCH(MC!$B37,Banco!$C$7:$C$15550,0)) -> KG | F37: =ORÇAMENTO!F38 -> 505 | G37: retirado de projeto
A38: 5.2.2 | B38: 92804 | C38: SINAPI | D38: =INDEX(Banco!$D$7:$D$15550,MATCH(MC!$B38,Banco!$C$7:$C$15550,0)) -> CORTE E DOBRA DE AÇO CA-50, DIÂMETRO DE 12,5 MM. AF_06/2022 | E38: =INDEX(Banco!$E$7:$E$15550,MATCH(MC!$B38,Banco!$C$7:$C$15550,0)) -> KG | F38: =ORÇAMENTO!F39 -> 75 | G38: retirado de projeto
A39: 5.2.3 | B39: 92799 | C39: SINAPI | D39: =INDEX(Banco!$D$7:$D$15550,MATCH(MC!$B39,Banco!$C$7:$C$15550,0)) -> CORTE E DOBRA DE AÇO CA-60, DIÂMETRO DE 4,2 MM. AF_06/2022 | E39: =INDEX(Banco!$E$7:$E$15550,MATCH(MC!$B39,Banco!$C$7:$C$15550,0)) -> KG | F39: =ORÇAMENTO!F40 -> 24 | G39: retirado de projeto
A40: 5.2.4 | B40: 96555 | C40: SINAPI | D40: =INDEX(Banco!$D$7:$D$15550,MATCH(MC!$B40,Banco!$C$7:$C$15550,0)) -> CONCRETAGEM DE BLOCO DE COROAMENTO OU VIGA BALDRAME, FCK 30 MPA, COM USO DE JERICA - LANÇAMENTO, ADENSAMENTO E ACABAMENTO. AF_01/2024 | E40: =INDEX(Banco!$E$7:$E$15550,MATCH(MC!$B40,Banco!$C$7:$C$15550,0)) -> M3 | F40: =ORÇAMENTO!F41 -> 18.72 | G40: retirado de projeto
A41: 5.3 | D41: Vigas Baldrames
A42: 5.3.1 | B42: 96530 | C42: SINAPI | D42: =INDEX(Banco!$D$7:$D$15550,MATCH(MC!$B42,Banco!$C$7:$C$15550,0)) -> FABRICAÇÃO, MONTAGEM E DESMONTAGEM DE FÔRMA PARA VIGA BALDRAME, EM MADEIRA SERRADA, E=25 MM, 1 UTILIZAÇÃO. AF_01/2024 | E42: =INDEX(Banco!$E$7:$E$15550,MATCH(MC!$B42,Banco!$C$7:$C$15550,0)) -> M2 | F42: =ORÇAMENTO!F43 -> 147 | G42: retirado de projeto
...

Sheet BDI ONERADO
C2: Contratante: | D2: Fundo Municipal de Eucação de Bela Vista de Goiás
C3: Obra: | D3: Reforma – CMEI Dona Baltira de Moraes e Souza
C4: Endereço: | D4: Rua JA01, quadra 01, lote APM 1, Jardim Alphaville, Bela Vista de Goiás
C5: BDI COM DESONERAÇÃO
C6: COMPOSIÇÃO BDI PARA OBRAS RODOVIÁRIAS - CONFORME TABELA GOINFRA
C9: Administração Central | E9: 0.0367
C10: Seguro e Garantia | E10: 0.0011
C11: Risco | E11: 0.0056
C12: Despesas financeiras | E12: 0.0075 | J12: Onde:
C13: Lucro | E13: 0.0672 | J13: AC: taxa de administração central;
C14: Tributos - PIS, COFINS e CPRB | E14: 0.0815 | F14: ** | J14: S: taxa de seguros;
C15: Tributos - ISS | E15: 0.03 | F15: *** | J15: R: taxa de riscos;
D16: BDI | E16: =ROUND((((1+E9+E10+E11)*(1+E12)*(1+E13))/(1-E14-E15)-1),4) -> 0.2627 | J16: G: taxa de garantias;
J17: DF: taxa de despesas financeiras;
C18: * CALCULADO CONFORME ACÓRDÃO N° 2622/2013 - TCU - Plenário | J18: L: taxa de lucro/remuneração;
C19: **PIS - 0,65%; COFINS -3,00%; CPRB - 4,50% | J19: I: taxa de incidência de impostos (PIS, COFINS, ISS, CPRB)
C20: *** ISS DE 3,0% - BASE DE CALCULO DE 100% MEDIO ADOTADO DNIT
C25: COMPOSIÇÃO BDI REDUZIDO PARA MATERIAL - CONFORME TABELA GOINFRA
C28: Administração Central | E28: 0.022
C29: Seguro e Garantia | E29: 0.0005
C30: Risco | E30: 0.0033
C31: Despesas financeiras | E31: 0.0045 | J31: Onde:
C32: Lucro | E32: 0.0437 | J32: AC: taxa de administração central;
C33: Tributos - PIS, COFINS e CPRB | E33: 0.0815 | F33: ** | J33: S: taxa de seguros;
C34: Tributos - ISS | E34: 0 | F34: *** | J34: R: taxa de riscos;
D35: BDI | E35: =ROUND((((1+E28+E29+E30)*(1+E31)*(1+E32))/(1-E33-E34)-1),4) -> 0.1709 | J35: G: taxa de garantias;
J36: DF: taxa de despesas financeiras;
C37: * CALCULADO CONFORME ACÓRDÃO N° 2622/2013 - TCU - Plenário | J37: L: taxa de lucro/remuneração;
C38: **PIS - 0,65%; COFINS -3,00%; CPRB - 4,50% | J38: I: taxa de incidência de impostos (PIS, COFINS, ISS, CPRB)
C42: BDI - ONERADO
C44: COMPOSIÇÃO BDI PARA OBRAS RODOVIÁRIAS - CONFORME TCU
C47: Administração Central | E47: 0.04
C48: Seguro e Garantia | E48: 0.0012
C49: Risco | E49: 0.0097
C50: Despesas financeiras | E50: 0.0117 | J50: Onde:
C51: Lucro | E51: 0.074 | J51: AC: taxa de administração central;
C52: Tributos - PIS, COFINS e CPRB | E52: 0.0365 | F52: ** | J52: S: taxa de seguros;
C53: Tributos - ISS | E53: 0.05 | F53: *** | J53: R: taxa de riscos;
C54: BDI | E54: =ROUND((((1+E47+E48+E49)*(1+E50)*(1+E51))/(1-E52-E53)-1),4) -> 0.25 | J54: G: taxa de garantias;
J55: DF: taxa de despesas financeiras;
...

Sheet CRONO
A1: Contratante: | B1: Fundo Municipal de Eucação de Bela Vista de Goiás
A2: Obra: | B2: Reforma – CMEI Dona Baltira de Moraes e Souza
A3: Endereço: | B3: Rua JA01, quadra 01, lote APM 1, Jardim Alphaville, Bela Vista de Goiás
A5: CRONOGRAMA FÍSICO-FINANCEIRO
A6: ITEM | B6: DESCRIÇÃO | C6: TOTAL | D6: MES 01 | E6: MES 02 | F6: MES 03 | G6: MES 04 | H6: MES 05 | I6: MES 06 | J6: TOTAL
A7: 1 | B7: Mobilização do canteiro e instalação provisória | C7: =RESUMO!C7 -> 49200.7 | D7: =$C$7*D8 -> 29520.42 | E7: =$C$7*E8 -> 19680.28 | J7: =SUM(D7:I7) -> 49200.7
C8: =C7/$C$35 -> 0.061577117 | D8: 0.6 | E8: 0.4 | J8: =SUM(D8:I8) -> 1
A9: 2 | B9: Demolição, limpeza e raspagem de solo | C9: =RESUMO!C8 -> 2812.54 | D9: =$C$9*D10 -> 2812.54 | J9: =SUM(D9:I9) -> 2812.54
C10: =C9/$C$35 -> 0.0035200333 | D10: 1 | J10: =SUM(D10:I10) -> 1
A11: 3 | B11: Aterro e compactação | C11: =RESUMO!C9 -> 25442.69 | D11: =$C$11*D12 -> 20354.152 | E11: =$C$11*E12 -> 5088.538 | J11: =SUM(D11:I11) -> 25442.69
C12: =C11/$C$35 -> 0.031842789 | D12: 0.8 | E12: 0.2 | J12: =SUM(D12:I12) -> 1
A13: 4 | B13: Escavação(sapatas, blocos, estacas) | C13: =RESUMO!C10 -> 3755.36 | D13: =$C$13*D14 -> 2628.752 | E13: =$C$13*E14 -> 1126.608 | J13: =SUM(D13:I13) -> 3755.36
C14: =C13/$C$35 -> 0.0047000193 | D14: 0.7 | E14: 0.3 | J14: =SUM(D14:I14) -> 1
A15: 5 | B15: Fundação, Baldrames, pilares e vigas | C15: =RESUMO!C11 -> 189516.6 | D15: =$C$15*D16 -> 18951.66 | E15: =$C$15*E16 -> 56854.98 | F15: =$C$15*F16 -> 66330.81 | G15: =$C$15*G16 -> 47379.15 | J15: =SUM(D15:I15) -> 189516.6
C16: =C15/$C$35 -> 0.23718943 | D16: 0.1 | E16: 0.3 | F16: 0.35 | G16: 0.25 | J16: =SUM(D16:I16) -> 1
A17: 6 | B17: Laje e impermeabilização | C17: =RESUMO!C12 -> 60238.41 | E17: =$C17*E18 -> 9035.7615 | F17: =$C17*F18 -> 30119.205 | G17: =$C17*G18 -> 21083.444 | J17: =SUM(D17:I17) -> 60238.41
C18: =C17/$C$35 -> 0.075391358 | E18: 0.15 | F18: 0.5 | G18: 0.35 | J18: =SUM(D18:I18) -> 1
A19: 7 | B19: Montagem da cobertura (madeira, telha, calha) | C19: =RESUMO!C13 -> 46508.39 | F19: =$C19*F20 -> 11627.098 | G19: =$C19*G20 -> 23254.195 | H19: =$C19*H20 -> 11627.098 | J19: =SUM(D19:I19) -> 46508.39
C20: =C19/$C$35 -> 0.058207557 | F20: 0.25 | G20: 0.5 | H20: 0.25 | J20: =SUM(D20:I20) -> 1
A21: 8 | B21: Execução das paredes de alvenaria | C21: =RESUMO!C14 -> 197882.82 | F21: =$C21*F22 -> 19788.282 | G21: =$C21*G22 -> 69258.987 | H21: =$C21*H22 -> 69258.987 | I21: =$C21*I22 -> 39576.564 | J21: =SUM(D21:I21) -> 197882.82
C22: =C21/$C$35 -> 0.24766017 | F22: 0.1 | G22: 0.35 | H22: 0.35 | I22: 0.2 | J22: =SUM(D22:I22) -> 1
A23: 9 | B23: Instalações hidrossanitárias, elétricas e CFTV | C23: =RESUMO!C15 -> 55011.02 | F23: =$C23*F24 -> 5501.102 | G23: =$C23*G24 -> 16503.306 | H23: =$C23*H24 -> 22004.408 | I23: =$C23*I24 -> 11002.204 | J23: =SUM(D23:I23) -> 55011.02
C24: =C23/$C$35 -> 0.06884902 | F24: 0.1 | G24: 0.3 | H24: 0.4 | I24: 0.2 | J24: =SUM(D24:I24) -> 1
A25: 10 | B25: Revestimentos internos/externos (cerâmica/piso) | C25: =RESUMO!C16 -> 50116.21 | G25: =$C25*G26 -> 7517.4315 | H25: =$C25*H26 -> 17540.673 | I25: =$C25*I26 -> 25058.105 | J25: =SUM(D25:I25) -> 50116.21
C26: =C25/$C$35 -> 0.062722923 | G26: 0.15 | H26: 0.35 | I26: 0.5 | J26: =SUM(D26:I26) -> 1
A27: 11 | B27: Esquadrias e ferragens | C27: =RESUMO!C17 -> 10193.05 | G27: =$C27*G28 -> 4077.22 | H27: =$C27*H28 -> 4077.22 | I27: =$C27*I28 -> 2038.61 | J27: =SUM(D27:I27) -> 10193.05
C28: =C27/$C$35 -> 0.012757108 | G28: 0.4 | H28: 0.4 | I28: 0.2 | J28: =SUM(D28:I28) -> 1
A29: 12 | B29: Pintura | C29: =RESUMO!C18 -> 72969.34 | H29: =$C29*H30 -> 21890.802 | I29: =$C29*I30 -> 51078.538 | J29: =SUM(D29:I29) -> 72969.34
C30: =C29/$C$35 -> 0.091324749 | H30: 0.3 | I30: 0.7 | J30: =SUM(D30:I30) -> 1
A31: 13 | B31: Limpeza geral, testes e desmobilização | C31: =RESUMO!C19 -> 1483.15 | I31: =$C31*I32 -> 1483.15 | J31: =SUM(D31:I31) -> 1483.15
C32: =C31/$C$35 -> 0.0018562358 | I32: 1 | J32: =SUM(D32:I32) -> 1
A33: 14 | B33: Administração de Obra | C33: =RESUMO!C20 -> 33879.2 | D33: =$C33*D34 -> 5420.672 | E33: =$C33*E34 -> 5759.464 | F33: =$C33*F34 -> 5759.464 | G33: =$C33*G34 -> 5759.464 | H33: =$C33*H34 -> 5759.464 | I33: =$C33*I34 -> 5420.672 | J33: =SUM(D33:I33) -> 33879.2
C34: =C33/$C$35 -> 0.042401499 | D34: 0.16 | E34: 0.17 | F34: 0.17 | G34: 0.17 | H34: 0.17 | I34: 0.16 | J34: =SUM(D34:I34) -> 1
A35: TOTAL | C35: =C33+C31+C29+C27+C25+C23+C21+C19+C17+C15+C13+C11+C9+C7 -> 799009.48
C36: TOTAL | D36: =D33+D31+D29+D27+D25+D23+D21+D19+D17+D15+D13+D11+D9+D7 -> 79688.196 | E36: =E33+E31+E29+E27+E25+E23+E21+E19+E17+E15+E13+E11+E9+E7 -> 97545.632 | F36: =F33+F31+F29+F27+F25+F23+F21+F19+F17+F15+F13+F11+F9+F7 -> 139125.96 | G36: =G33+G31+G29+G27+G25+G23+G21+G19+G17+G15+G13+G11+G9+G7 -> 194833.2 | H36: =H33+H31+H29+H27+H25+H23+H21+H19+H17+H15+H13+H11+H9+H7 -> 152158.65 | I36: =I33+I31+I29+I27+I25+I23+I21+I19+I17+I15+I13+I11+I9+I7 -> 135657.84 | J36: =SUM(D36:I36) -> 799009.48
C37: PORCENTAGEM | D37: =D36/$C$35 -> 0.09973373 | E37: =E36/$C$35 -> 0.1220832 | F37: =F36/$C$35 -> 0.17412304 | G37: =G36/$C$35 -> 0.24384341 | H37: =H36/$C$35 -> 0.1904341 | I37: =I36/$C$35 -> 0.16978252 | J37: =SUM(D37:I37) -> 1
C38: TOTAL ACOMULADO | D38: =D36 -> 79688.196 | E38: =E36+D38 -> 177233.83 | F38: =F36+E38 -> 316359.79 | G38: =G36+F38 -> 511192.99 | H38: =H36+G38 -> 663351.64 | I38: =I36+H38 -> 799009.48 | J38: =IF(J36=C35,"OK","REVEJA O CÓDIGO") -> OK
C39: PORCENTAGEM ACOMULADO | D39: =D37 -> 0.09973373 | E39: =E37+D39 -> 0.22181693 | F39: =F37+E39 -> 0.39593997 | G39: =G37+F39 -> 0.63978338 | H39: =H37+G39 -> 0.83021748 | I39: =I37+H39 -> 1
A50: REYDDNER ANDREI NUNES SILVA
A51: ENGENHEIRO CIVIL
...
