Workbook

Sheet MAIO 2025
A2: PROPONENTE:
A3: Endereço:
A4: Serviço: Elaboração de estudo de viabilidade e desenvolvimento de projeto básico para a ampliação da Estação de Tratamento de Água III (ETA III), com foco na implantação do 4º módulo de tratamento e nos sistemas complementares necessários para atendimento à demanda crescente, incluindo a região da margem esquerda do rio Jundiaí (MERJ), no município de Indaiatuba, SP
A5: PLANILHA DE ORÇAMENTO
A6: ITEM | B6: CÓDIGO | C6: D E S C R I Ç Ã O | E6: FONTE | F6: QUANT. | G6: UNID. | H6: P. UNIT. (R$) | I6: P. TOTAL (R$)
C8: Elaboração de estudo de viabilidade e desenvolvimento de projeto básico para a ampliação da Estação de Tratamento de Água III, com foco na implantação do 4º módulo de tratamento e nos sistemas complementares, no município de Indaiatuba, SP
A9: 1 | C9: Reunião kick-off
A10: 1.1 | B10: 74000002 | C10: COORDENADOR | E10: SABESP | F10: 58 | G10: H | I10: =F10*K10 -> 0 | K10: =ROUND(H10,2) -> 0
A11: 1.2 | B11: 74000005 | C11: ENGENHEIRO - JUNIOR | E11: SABESP | F11: 160 | G11: H | I11: =F11*K11 -> 0 | K11: =ROUND(H11,2) -> 0
A12: 1.3 | B12: 74000004 | C12: ENGENHEIRO - PLENO | E12: SABESP | F12: 150 | G12: H | I12: =F12*K12 -> 0 | K12: =ROUND(H12,2) -> 0
A13: 1.4 | B13: 74000003 | C13: ENGENHEIRO - SENIOR | E13: SABESP | F13: 160 | G13: H | I13: =F13*K13 -> 0 | K13: =ROUND(H13,2) -> 0
D14: TOTAL DA ETAPA | G14: R$ | I14: =SUM(I10:I13) -> 0
A16: 2 | C16: Levantamento de dados e diagnóstico preliminar
A17: 2.1 | B17: 74000002 | C17: COORDENADOR | E17: SABESP | F17: 50 | G17: H | H17: =H10 -> 0 | I17: =F17*K17 -> 0 | K17: =ROUND(H17,2) -> 0
A18: 2.2 | B18: 74000005 | C18: ENGENHEIRO - JUNIOR | E18: SABESP | F18: 160 | G18: H | H18: =H11 -> 0 | I18: =F18*K18 -> 0 | K18: =ROUND(H18,2) -> 0
A19: 2.3 | B19: 74000004 | C19: ENGENHEIRO - PLENO | E19: SABESP | F19: 150 | G19: H | H19: =H12 -> 0 | I19: =F19*K19 -> 0 | K19: =ROUND(H19,2) -> 0
A20: 2.4 | B20: 74000003 | C20: ENGENHEIRO - SENIOR | E20: SABESP | F20: 160 | G20: H | H20: =H13 -> 0 | I20: =F20*K20 -> 0 | K20: =ROUND(H20,2) -> 0
A21: 2.5 | B21: 74000018 | C21: DESENHISTA TÉCNICO (CADISTA) | E21: SABESP | F21: 250 | G21: H | I21: =F21*K21 -> 0 | K21: =ROUND(H21,2) -> 0
A22: 2.6 | B22: 74000160 | C22: EQUIPE DE TOPOGRAFIA (SERVIÇOS PLANIALTIMÉTRICOS) | E22: SABESP | F22: 8 | G22: EQD | I22: =F22*K22 -> 0 | K22: =ROUND(H22,2) -> 0
D23: TOTAL DA ETAPA | G23: R$ | I23: =SUM(I17:I22) -> 0
A25: 3 | C25: Análise de alternativas técnicas e econômicas, com elaboração do estudo de viabilidade
A26: 3.1 | B26: 74000002 | C26: COORDENADOR | E26: SABESP | F26: 50 | G26: H | H26: =H17 -> 0 | I26: =F26*K26 -> 0 | K26: =ROUND(H26,2) -> 0
A27: 3.2 | B27: 74000005 | C27: ENGENHEIRO - JUNIOR | E27: SABESP | F27: 100 | G27: H | H27: =H18 -> 0 | I27: =F27*K27 -> 0 | K27: =ROUND(H27,2) -> 0
A28: 3.3 | B28: 74000004 | C28: ENGENHEIRO - PLENO | E28: SABESP | F28: 90 | G28: H | H28: =H19 -> 0 | I28: =F28*K28 -> 0 | K28: =ROUND(H28,2) -> 0
A29: 3.4 | B29: 74000003 | C29: ENGENHEIRO - SENIOR | E29: SABESP | F29: 100 | G29: H | H29: =H20 -> 0 | I29: =F29*K29 -> 0 | K29: =ROUND(H29,2) -> 0
A30: 3.5 | B30: 74000011 | C30: TÉCNICO DE NÍVEL MÉDIO | E30: SABESP | F30: 250 | G30: H | I30: =F30*K30 -> 0 | K30: =ROUND(H30,2) -> 0
A31: 3.6 | B31: 74000383 | C31: MOBILIZAÇÃO, INSTALAÇÃO E DESMOBILIZAÇÃO POR EQUIPE / EQUIPAMENTO, INCLUSIVE TRANSPORTE ATÉ 60KM - SONDAGEM A PERCUSSÃO COM EQUIPAMENTO MECANIZADO | E31: SABESP | F31: 6 | G31: UNID. | I31: =F31*K31 -> 0 | K31: =ROUND(H31,2) -> 0
A32: 3.7 | B32: 74000387 | C32: PERFURAÇÃO COM EQUIPAMENTO DE SONDAGEM MECANIZADA, DIÂMETRO 70MM (INT.) E 156MM (EXT.) COM ENSAIO SPT A CADA METRO M SONDAGEM A PERCUSSÃO COM EQUIPAMENTO MECANIZADO | E32: SABESP | F32: 135 | G32: M | I32: =F32*K32 -> 0 | K32: =ROUND(H32,2) -> 0
D33: TOTAL DA ETAPA | G33: R$ | I33: =SUM(I26:I32) -> 0
A35: 4 | C35: Projeto conceitual e projeto básico
A36: 4.1 | B36: 74000002 | C36: COORDENADOR | E36: SABESP | F36: 45 | G36: H | H36: =H26 -> 0 | I36: =F36*K36 -> 0 | K36: =ROUND(H36,2) -> 0
A37: 4.2 | B37: 74000005 | C37: ENGENHEIRO - JUNIOR | E37: SABESP | F37: 100 | G37: H | H37: =H27 -> 0 | I37: =F37*K37 -> 0 | K37: =ROUND(H37,2) -> 0
A38: 4.3 | B38: 74000004 | C38: ENGENHEIRO - PLENO | E38: SABESP | F38: 124 | G38: H | H38: =H28 -> 0 | I38: =F38*K38 -> 0 | K38: =ROUND(H38,2) -> 0
A39: 4.4 | B39: 74000003 | C39: ENGENHEIRO - SENIOR | E39: SABESP | F39: 100 | G39: H | H39: =H29 -> 0 | I39: =F39*K39 -> 0 | K39: =ROUND(H39,2) -> 0
A40: 4.5 | B40: 74000011 | C40: TÉCNICO DE NÍVEL MÉDIO | E40: SABESP | F40: 210 | G40: H | H40: =H30 -> 0 | I40: =F40*K40 -> 0 | K40: =ROUND(H40,2) -> 0
A41: 4.6 | B41: 74000018 | C41: DESENHISTA TÉCNICO (CADISTA) | E41: SABESP | F41: 350 | G41: H | H41: =H21 -> 0 | I41: =F41*K41 -> 0 | K41: =ROUND(H41,2) -> 0
D42: TOTAL DA ETAPA | G42: R$ | I42: =SUM(I36:I41) -> 0
A44: 5 | C44: Plano de execução e estimativa de custos
A45: 5.1 | B45: 74000002 | C45: COORDENADOR | E45: SABESP | F45: 45 | G45: H | H45: =H36 -> 0 | I45: =F45*K45 -> 0 | K45: =ROUND(H45,2) -> 0
A46: 5.2 | B46: 74000005 | C46: ENGENHEIRO - JUNIOR | E46: SABESP | F46: 60 | G46: H | H46: =H37 -> 0 | I46: =F46*K46 -> 0 | K46: =ROUND(H46,2) -> 0
...

Sheet CRONOGRAMA
A3: CRONOGRAMA FÍSICO - FINANCEIRO
A4: ='MAIO 2025'!A2 -> PROPONENTE:
A5: ='MAIO 2025'!A3 -> Endereço:
A6: ='MAIO 2025'!A4 -> Serviço: Elaboração de estudo de viabilidade e desenvolvimento de projeto básico para a ampliação da Estação de Tratamento de Água III (ETA III), com foco na implantação do 4º módulo de tratamento e nos sistemas complementares necessários para atendimento à demanda crescente, incluindo a região da margem esquerda do rio Jundiaí (MERJ), no município de Indaiatuba, SP
A8: ITEM | C8: 1º Mês | G8: 2º Mês | K8: 3º Mês | O8: 4º Mês | S8: 5º Mês | W8: 6º Mês | AA8: T O T A L
AA9: (R$)
A10: 1 | B10: ='MAIO 2025'!C9 -> Reunião kick-off | AA10: ='MAIO 2025'!I14 -> 0
A11: 2 | B11: ='MAIO 2025'!C16 -> Levantamento de dados e diagnóstico preliminar | AA11: ='MAIO 2025'!I23 -> 0
A12: 3 | B12: ='MAIO 2025'!C25 -> Análise de alternativas técnicas e econômicas, com elaboração do estudo de viabilidade | AA12: ='MAIO 2025'!I33 -> 0
A13: 4 | B13: ='MAIO 2025'!C35 -> Projeto conceitual e projeto básico | AA13: ='MAIO 2025'!I42 -> 0
A14: 5 | B14: ='MAIO 2025'!C44 -> Plano de execução e estimativa de custos | AA14: ='MAIO 2025'!I50 -> 0
A15: 6 | B15: ='MAIO 2025'!C52 -> Relatório final | AA15: ='MAIO 2025'!I57 -> 0
A16: PREVISÃO FINANCEIRA | C16: =ROUND(AA10,2) -> 0 | G16: =ROUND(AA11/2,2) -> 0 | K16: =ROUND((AA11/2)+(AA12/2),2) -> 0 | O16: =ROUND((AA12/2)+(AA13/2)+(AA14/2),2) -> 0 | S16: =ROUND((AA13/2)+(AA14/2),2) -> 0 | W16: =AA16-SUM(C16:V16) -> 0 | AA16: =SUM(AA10:AA15) -> 0
A19: ='MAIO 2025'!A64 -> Local e data
A23: Carimbo e assinatura
A28: Instrução para preenchimento da planilha: digitar somente nas células cor amarela.
