Workbook
Name CUSTOS: #REF!
Name MATRIZ: #REF!
Name MATRIZ_CUSTO: #REF!
Name TABELA: #REF!

Sheet Cronograma
A1: INSERIR LOGO DA EMPRESA
A2: =Orçamento!A2 -> Proponente
A3: =Orçamento!A3 -> Endereço:
A4: =Orçamento!$A$4 -> Obra: Implantação de Muros de Divisas na unidade Complexo Vila Avaí.
A5: CRONOGRAMA FÍSICO-FINANCEIRO
A6: ITEM | B6: DESCRIÇÃO DOS SERVIÇOS | C6: 1° mês | G6: 2° mês | K6: 3° mês
A7: 1 | B7: SERVIÇOS PRELIMINARES | C7: =ROUND(Orçamento!F13/3,2) -> 0 | G7: =ROUND(Orçamento!F13/3,2) -> 0 | K7: =ROUND(Orçamento!F13-C7-G7,2) -> 0 | O7: =SUM(C7:N7) -> 0 | R7: =[1]Orçamento!F11 -> 0
A9: 2 | B9: ADMINISTRAÇÃO DO LOCAL DA OBRA | C9: =ROUND(Orçamento!F19/3,2) -> 0 | G9: =ROUND(Orçamento!F19/3,2) -> 0 | K9: =ROUND(Orçamento!F19-C9-G9,2) -> 0 | O9: =SUM(C9:N9) -> 0 | Q9: =[1]Orçamento!#REF! -> #REF!
A11: 3 | B11: RETIRADAS E DEMOLIÇÕES | C11: =Orçamento!F27 -> 0 | O11: =SUM(C11:N11) -> 0 | Q11: =[1]Orçamento!#REF! -> #REF! | R11: =Q11+Q9 -> #REF!
A13: 4 | B13: LOCAÇÃO DE OBRA | C13: =Orçamento!F35 -> 0 | O13: =SUM(C13:N13) -> 0 | Q13: =[1]Orçamento!#REF! -> #REF!
A15: 6 | B15: ESTACA ESCAVADA | C15: =ROUND((Orçamento!F41/4)*1,2) -> 0 | G15: =ROUND((Orçamento!F41/4)*3,2) -> 0 | O15: =SUM(C15:N15) -> 0 | Q15: =[1]Orçamento!#REF! -> #REF!
A17: 7 | B17: BALDRAME | C17: =ROUND((Orçamento!F47/4)*1,2) -> 0 | G17: =ROUND((Orçamento!F47/4)*3,2) -> 0 | O17: =SUM(C17:N17) -> 0 | Q17: =[1]Orçamento!#REF! -> #REF!
A19: 8 | B19: ALVENARIA | G19: =ROUND((Orçamento!F56/7)*3,2) -> 0 | K19: =ROUND((Orçamento!F56/7)*4,2) -> 0 | O19: =SUM(C19:N19) -> 0 | Q19: =[1]Orçamento!#REF! -> #REF!
A21: 9 | B21: SERVIÇOS COMPLEMENTARES | K21: =Orçamento!F63 -> 0 | O21: =SUM(C21:N21) -> 0 | Q21: =[1]Orçamento!#REF! -> #REF!
A23: TOTAIS | C23: =SUM(C7:F22) -> 0 | G23: =SUM(G7:J22) -> 0 | K23: =SUM(K7:N22) -> 0 | O23: =SUM(C23:N23) -> 0
A26: =Orçamento!A68 -> Local e data
A27: CARIMBO E ASSINATURA
A29: =Orçamento!A71 -> Responsável Técnico
A30: =Orçamento!A72 -> nº CREA
A31: =Orçamento!A73 -> Cargo

Sheet Orçamento
A1: INSERIR LOGO DA EMPRESA
A2: Proponente
A3: Endereço:
A4: Obra: Implantação de Muros de Divisas na unidade Complexo Vila Avaí.
A5: PLANILHA DE ORÇAMENTO
A7: 1 - Serviços Preliminares
A8: Item | B8: Descrição | C8: Un. | D8: Quant. | E8: P. Unit. (R$) | F8: P. Total (R$)
A9: 1.1 | B9: Fornecimento de placa de obra com chapa galvanizada e estrutura de madeira. | C9: m² | D9: 6 | F9: =ROUND(D9*E9,2) -> 0
A10: 1.2 | B10: Locação de container 2,30 x 6,00, Alt. 2,50m, para escritorio, sem divisorias internas e sem sanitario. (Não Incui mobilização/desmobilização) | C10: mês | D10: 3 | F10: =ROUND(D10*E10,2) -> 0
A11: 1.3 | B11: Locação de container 2,30 x 4,30, Alt. 2,50m, para sanitario, com 5 bacias, 1 lavatorio e 4 mictorios. (Não Incui mobilização/desmobilização) | C11: mês | D11: 3 | F11: =ROUND(D11*E11,2) -> 0
B13: TOTAL DA ETAPA | C13: R$ | F13: =SUM(F9:F11) -> 0
A15: 2 - Administração local da obra
A16: Item | B16: Descrição | C16: Un. | D16: Qtdade. | E16: P. Unit. (R$) | F16: P. Total (R$)
A17: 2.1 | B17: Administração local da obra. | C17: Un. | D17: 1 | F17: =ROUND(D17*E17,2) -> 0
B19: TOTAL DA ETAPA | C19: R$ | F19: =SUM(F17) -> 0
A21: 3 - Retiradas e Demolições
A22: Item | B22: Descrição | C22: Un. | D22: Qtdade. | E22: P. Unit. (R$) | F22: P. Total (R$)
A23: 3.1 | B23: Remoção de cercas e mouroes de forma manual sem reaproveitamento. | C23: m | D23: 573.31 | F23: =ROUND(D23*E23,2) -> 0
A24: 3.2 | B24: Demolição de piso de concreto simples, de forma mecanizada com martelete, sem reaproveitamento. | C24: m³ | D24: 1.65 | F24: =ROUND(D24*E24,2) -> 0
A25: 3.3 | B25: Remoção entulho, inlusive a carga, transporte e descarga em bota fora a qualquer distancia. | C25: m³ | D25: 1.65 | F25: =ROUND(D25*E25,2) -> 0
B27: TOTAL DA ETAPA | C27: R$ | F27: =SUM(F23:F25) -> 0
A29: 4 - Locação de Obra
A30: Item | B30: Descrição | C30: Un. | D30: Qtdade. | E30: P. Unit. (R$) | F30: P. Total (R$)
A31: 4.1 | B31: Limpeza manual de vegetação em terreno com enxada. | C31: m² | D31: 31.54 | F31: =ROUND(D31*E31,2) -> 0
A32: 4.2 | B32: Locação e acompanhamento topográfico de obras especiais. | C32: EQD | D32: 20 | F32: =ROUND(D32*E32,2) -> 0
A33: 4.3 | B33: Execução de linhas de referência em gabarito ou cavalete. | C33: m | D33: 573.31 | F33: =ROUND(D33*E33,2) -> 0
B35: TOTAL DA ETAPA | C35: R$ | F35: =SUM(F31:F33) -> 0
A37: 5 - Estaca Escavada
A38: Item | B38: Descrição | C38: Un. | D38: Qtdade. | E38: P. Unit. (R$) | F38: P. Total (R$)
A39: 5.1 | B39: Estaca escavada mecanicamente, sem fluido estabilizante, com 25cm de diametro, concreto lançado por caminhão betoneira. | C39: Un. | D39: 171 | F39: =ROUND(D39*E39,2) -> 0
B41: TOTAL DA ETAPA | C41: R$ | F41: =SUM(F39) -> 0
A43: 6 - Baldrame
A44: Item | B44: Descrição | C44: Un. | D44: Qtdade. | E44: P. Unit. (R$) | F44: P. Total (R$)
A45: 6.1 | B45: Execução de viga baldrame 0,20 x 0,40 m - por metro linear construído | C45: m | D45: 573.31 | F45: =ROUND(D45*E45,2) -> 0
B47: TOTAL DA ETAPA | C47: R$ | F47: =SUM(F45) -> 0
A49: 7 - Alvenaria
A50: Item | B50: Descrição | C50: Un. | D50: Qtdade. | E50: P. Unit. (R$) | F50: P. Total (R$)
A51: 7.1 | B51: Alvenaria de blocos de concreto estrutural 19 x 19 x 39 cm, FBK=8 MPA, utilizando palheta - por metro linear construído com altura = 3,00 m. | C51: m | D51: 506.62 | F51: =ROUND(D51*E51,2) -> 0
A52: 7.2 | B52: Execução de pilar com blocos de concreto estrutural 39 x 19 x 39 cm, juntas com 10mm. | C52: Un. | D52: 171 | F52: =ROUND(D52*E52,2) -> 0
A53: 7.3 | B53: Impermeabilização de superficie com argamassa polimerérica / membrana acrilica, 3 demãos. | C53: m² | D53: 983.8 | F53: =ROUND(D53*E53,2) -> 0
A54: 7.4 | B54: Chapim (rufo capa) em aço galvanizado, corte. | C54: m | D54: 630.64 | F54: =ROUND(D54*E54,2) -> 0
B56: TOTAL DA ETAPA | C56: R$ | F56: =SUM(F51:F54) -> 0
A58: 8 - Serviços Complementares
A59: Item | B59: Descrição | C59: Un. | D59: Qtdade. | E59: P. Unit. (R$) | F59: P. Total (R$)
A60: 8.1 | B60: Execução de passeio (calçada) ou piso de concreto com concreto moldado in loco, feito na obra, acabamento convencional, não armado. | C60: m³ | D60: 1.65 | F60: =ROUND(D60*E60,2) -> 0
A61: 8.2 | B61: Limpeza da obra. | C61: m² | D61: 3783.85 | F61: =ROUND(D61*E61,2) -> 0
B63: TOTAL DA ETAPA | C63: R$ | F63: =SUM(F60:F61) -> 0
A65: T O T A L D E S T A P L A N I L H A | C65: R$ | F65: =SUM(F13,F19,F27,F35,F41,F47,F56,F63) -> 0
A68: Local e data
A69: CARIMBO E ASSINATURA
A71: Responsável Técnico
A72: nº CREA
A73: Cargo
