Workbook
Name CUSTOS: #REF!
Name MATRIZ: #REF!
Name MATRIZ_CUSTO: #REF!
Name TABELA: #REF!

Sheet Cronograma
A1: INSERIR LOGO DA EMPRESA
A2: =Orçamento!A2 -> Proponente
A3: =Orçamento!A3 -> Endereço:
A4: =Orçamento!$A$4 -> Obra: Implantação de Muros de Divisas na unidade ETA III.
A5: CRONOGRAMA FÍSICO-FINANCEIRO
A6: ITEM | B6: DESCRIÇÃO DOS SERVIÇOS | C6: 1° mês | G6: 2° mês
A7: 1 | B7: SERVIÇOS PRELIMINARES | C7: =ROUND(Orçamento!F13/2,2) -> 0 | G7: =ROUND(Orçamento!F13/2,2) -> 0 | K7: =SUM(C7:J7) -> 0
A9: 2 | B9: ADMINISTRAÇÃO DO LOCAL DA OBRA | C9: =ROUND(Orçamento!F19/2,2) -> 0 | G9: =ROUND(Orçamento!F19/2,2) -> 0 | K9: =SUM(C9:J9) -> 0
A11: 3 | B11: RETIRADAS E DEMOLIÇÕES | C11: =Orçamento!F29 -> 0 | K11: =SUM(C11:J11) -> 0
A13: 4 | B13: LOCAÇÃO DE OBRA | C13: =Orçamento!F37 -> 0 | K13: =SUM(C13:J13) -> 0
A15: 5 | B15: ESTACA ESCAVADA | C15: =ROUND((Orçamento!F43/4)*3,2) -> 0 | G15: =ROUND((Orçamento!F43/4)*1,2) -> 0 | K15: =SUM(C15:J15) -> 0
A17: 6 | B17: BALDRAME | C17: =ROUND((Orçamento!F49/4)*3,2) -> 0 | G17: =ROUND((Orçamento!F49/4)*1,2) -> 0 | K17: =SUM(C17:J17) -> 0
A19: 7 | B19: ALVENARIA | G19: =ROUND((Orçamento!F58),2) -> 0 | K19: =SUM(C19:J19) -> 0
A21: 8 | B21: SERVIÇOS COMPLEMENTARES | G21: =Orçamento!F65 -> 0 | K21: =SUM(C21:J21) -> 0
A23: TOTAIS | C23: =SUM(C7:F22) -> 0 | G23: =SUM(G7:J22) -> 0 | K23: =SUM(C23:J23) -> 0
A26: =Orçamento!A70 -> Local e data
A27: CARIMBO E ASSINATURA
A29: =Orçamento!A73 -> Responsável Técnico
A30: =Orçamento!A74 -> nº CREA
A31: =Orçamento!A75 -> Cargo

Sheet Orçamento
A1: INSERIR LOGO DA EMPRESA
A2: Proponente
A3: Endereço:
A4: Obra: Implantação de Muros de Divisas na unidade ETA III.
A5: PLANILHA DE ORÇAMENTO
A7: 1 - Serviços Preliminares
A8: Item | B8: Descrição | C8: Un. | D8: Quant. | E8: P. Unit. (R$) | F8: P. Total (R$)
A9: 1.1 | B9: Fornecimento de placa de obra com chapa galvanizada e estrutura de madeira. | C9: m² | D9: 6 | F9: =ROUND(D9*E9,2) -> 0
A10: 1.2 | B10: Locação de container 2,30 x 6,00, Alt. 2,50m, para escritorio, sem divisorias internas e sem sanitario. (Não Incui mobilização/desmobilização) | C10: mês | D10: 2 | F10: =ROUND(D10*E10,2) -> 0
A11: 1.3 | B11: Locação de container 2,30 x 4,30, Alt. 2,50m, para sanitario, com 5 bacias, 1 lavatorio e 4 mictorios. (Não Incui mobilização/desmobilização) | C11: mês | D11: 2 | F11: =ROUND(D11*E11,2) -> 0
B13: TOTAL DA ETAPA | C13: R$ | F13: =SUM(F9:F11) -> 0
A15: 2 - Administração local da obra
A16: Item | B16: Descrição | C16: Un. | D16: Qtdade. | E16: P. Unit. (R$) | F16: P. Total (R$)
A17: 2.1 | B17: Adminstração local da obra. | C17: Un. | D17: 1 | F17: =ROUND(D17*E17,2) -> 0
B19: TOTAL DA ETAPA | C19: R$ | F19: =SUM(F17) -> 0
A21: 3 - Retiradas e Demolições
A22: Item | B22: Descrição | C22: Un. | D22: Qtdade. | E22: P. Unit. (R$) | F22: P. Total (R$)
A23: 3.1 | B23: Remoção de cercas e mouroes de forma manual sem reaproveitamento. | C23: m | D23: 117.48 | F23: =ROUND(D23*E23,2) -> 0
A24: 3.2 | B24: Demolição de Alvenaria para qualquer tipo de bloco, de forma mecanizada, sem reaproveitamento. | C24: m³ | D24: 53.89 | F24: =ROUND(D24*E24,2) -> 0
A25: 3.3 | B25: Demolição de piso de concreto simples, de forma mecanizada com martelete, sem reaproveitamento. | C25: m³ | D25: 0.9 | F25: =ROUND(D25*E25,2) -> 0
A26: 3.4 | B26: Demolição Parcial de pavimento asfaltivo, de forma mecanizada com martelete, sem reaproveitamento. | C26: m³ | D26: 1 | F26: =ROUND(D26*E26,2) -> 0
A27: 3.5 | B27: Remoção entulho, inlusive a carga, transporte e descarga em bota fora a qualquer distancia. | C27: m³ | D27: 61.37 | F27: =ROUND(D27*E27,2) -> 0
B29: TOTAL DA ETAPA | C29: R$ | F29: =SUM(F23:F27) -> 0
A31: 4 - Locação de Obra
A32: Item | B32: Descrição | C32: Un. | D32: Qtdade. | E32: P. Unit. (R$) | F32: P. Total (R$)
A33: 4.1 | B33: Limpeza manual de vegetação em terreno com enxada. | C33: m² | D33: 6.43 | F33: =ROUND(D33*E33,2) -> 0
A34: 4.2 | B34: Locação e acompanhamento topográfico de obras especiais. | C34: EQD | D34: 10 | F34: =ROUND(D34*E34,2) -> 0
A35: 4.3 | B35: Execução de linhas de referência em gabarito ou cavalete. | C35: m | D35: 151.18 | F35: =ROUND(D35*E35,2) -> 0
B37: TOTAL DA ETAPA | C37: R$ | F37: =SUM(F33:F35) -> 0
A39: 5 - Estaca Escavada
A40: Item | B40: Descrição | C40: Un. | D40: Qtdade. | E40: P. Unit. (R$) | F40: P. Total (R$)
A41: 5.1 | B41: Estaca escavada mecanicamente, sem fluido estabilizante, com 25cm de diametro, concreto lançado por caminhão betoneira. | C41: Un. | D41: 44 | F41: =ROUND(D41*E41,2) -> 0
B43: TOTAL DA ETAPA | C43: R$ | F43: =SUM(F41) -> 0
A45: 6 - Baldrame
A46: Item | B46: Descrição | C46: Un. | D46: Qtdade. | E46: P. Unit. (R$) | F46: P. Total (R$)
A47: 6.1 | B47: Execução de viga baldrame 0,20 x 0,40 m - por metro linear construído | C47: m | D47: 137.44 | F47: =ROUND(D47*E47,2) -> 0
B49: TOTAL DA ETAPA | C49: R$ | F49: =SUM(F47:F47) -> 0
A51: 7 - Alvenaria
A52: Item | B52: Descrição | C52: Un. | D52: Qtdade. | E52: P. Unit. (R$) | F52: P. Total (R$)
A53: 7.1 | B53: Alvenaria de blocos de concreto estrutural 19 x 19 x 39 cm, FBK=8 MPA, utilizando palheta - por metro linear construído com altura = 3,00 m. | C53: m | D53: 97.84 | F53: =ROUND(D53*E53,2) -> 0
...
