Workbook
Name Print_Area: 'Q-Entrada'!$A$3:$BK$23
Name Print_Area: 'Q-Extravasor'!$A$3:$BK$40
Name Print_Area: 'Q-Saída'!$A$3:$BK$23
Name Print_Titles: 'Q-Entrada'!$3:$8
Name Print_Titles: 'Q-Extravasor'!$3:$8
Name Print_Titles: 'Q-Saída'!$3:$8

Sheet Resumo
B2: SAMAE | C2: SERVIÇO AUTÔNOMO MUNICIPAL DE ÁGUA E ESGOTO DE MOGI GUAÇU | H2: Referência de Preços
C3: PLANILHA DE ORÇAMENTO | H3: SINAPI Desonerado I0: | K3: Dezembro/2023
B4: OBRA | C4: PROJETO EXECUTIVO DE IMPLANTAÇÃO DE | H4: SABESP Io: | K4: Novembro/2023
C5: NOVO RESERVATÓRIO METÁLICO NO SETOR EUCALIPTOS | H5: BDI (apenas SINAPI)
C6: RESUMO GERAL | H6: Obras Civis e Serviços: | K6: 0.2698
H7: Materiais e Equipamentos: | K7: 0.168
B8: Item | C8: Discriminação | H8: Preço Total com BDI (R$)
B10: 1 | C10: ='OS-Reservatório'!$C$6 -> RESERVATÓRIO METÁLICO
C11: ='OS-Reservatório'!$C$7 -> OBRAS CIVIS E SERVIÇOS | H11: ='OS-Reservatório'!$K$14 -> 26188.7 | L11: --
B13: =B10+1 -> 2 | C13: ='ME-Reservatório'!$C$6 -> RESERVATÓRIO METÁLICO
C14: ='ME-Reservatório'!$C$7 -> MATERIAIS E EQUIPAMENTOS | H14: ='ME-Reservatório'!$K$14 -> 2563225 | L14: --
B16: =B13+1 -> 3 | C16: ='OS-Entrada'!$C$6 -> INTERLIGAÇÃO DE ENTRADA DO RESERVATÓRIO
C17: ='OS-Entrada'!$C$7 -> OBRAS CIVIS E SERVIÇOS | H17: ='OS-Entrada'!$K$22 -> 66329.54 | L17: --
B19: =B16+1 -> 4 | C19: ='ME-Entrada'!$C$6 -> INTERLIGAÇÃO DE ENTRADA DO RESERVATÓRIO
C20: ='ME-Entrada'!$C$7 -> MATERIAIS E EQUIPAMENTOS | H20: ='ME-Entrada'!$K$12 -> 305332.56 | L20: --
B22: =B19+1 -> 5 | C22: ='OS-Extravasor'!$C$6 -> INTERLIGAÇÃO DO EXTRAVASOR E DESCARGA
C23: ='OS-Extravasor'!$C$7 -> OBRAS CIVIS E SERVIÇOS | H23: ='OS-Extravasor'!$K$24 -> 34944.77 | L23: --
B25: =B22+1 -> 6 | C25: ='ME-Extravasor'!$C$6 -> INTERLIGAÇÃO DO EXTRAVASOR E DESCARGA
C26: ='ME-Extravasor'!$C$7 -> MATERIAIS E EQUIPAMENTOS | H26: ='ME-Extravasor'!$K$12 -> 131077.09 | L26: --
B28: =B25+1 -> 7 | C28: ='OS-Saída'!$C$6 -> INTERLIGAÇÃO DE SAÍDA DO RESERVATÓRIO
C29: ='OS-Saída'!$C$7 -> OBRAS CIVIS E SERVIÇOS | H29: ='OS-Saída'!$K$24 -> 32714.99 | L29: --
B31: =B28+1 -> 8 | C31: ='ME-Saída'!$C$6 -> INTERLIGAÇÃO DE SAÍDA DO RESERVATÓRIO
C32: ='ME-Saída'!$C$7 -> MATERIAIS E EQUIPAMENTOS | H32: ='ME-Saída'!$K$12 -> 244873.85 | L32: --
B34: =B31+1 -> 9 | C34: ='OS-Respiro'!$C$6 -> RESPIRO
C35: ='OS-Respiro'!$C$7 -> OBRAS CIVIS E SERVIÇOS | H35: ='OS-Respiro'!$K$12 -> 1734.39 | L35: --
B37: =B34+1 -> 10 | C37: ='ME-Respiro'!$C$6 -> RESPIRO
C38: ='ME-Respiro'!$C$7 -> MATERIAIS E EQUIPAMENTOS | H38: ='ME-Respiro'!$K$12 -> 23335.76 | L38: --
B40: =B37+1 -> 11 | C40: ='OS-Canteiro'!$C$6 -> CANTEIRO DE OBRAS
C41: ='OS-Canteiro'!$C$7 -> OBRAS CIVIS E SERVIÇOS | H41: ='OS-Canteiro'!$K$14 -> 91515.83 | L41: -- | M41: =H43*0.025 -> 88031.812
C43: TOTAL | H43: =SUM(H9:K42) -> 3521272.5 | M43: 2969450.7 | N43: Rev-0 | O43: =H43-M43 -> 551821.73

Sheet OS-Reservatório
B2: SAMAE | C2: SERVIÇO AUTÔNOMO MUNICIPAL DE ÁGUA E ESGOTO DE MOGI GUAÇU | H2: Referência de Preços
C3: PLANILHA DE ORÇAMENTO | H3: SINAPI Desonerado I0: | K3: Novembro/2023
B4: OBRA | C4: PROJETO EXECUTIVO DE IMPLANTAÇÃO DE | H4: SABESP Io: | K4: Novembro/2023
C5: NOVO RESERVATÓRIO METÁLICO NO SETOR EUCALIPTOS | H5: BDI (apenas SINAPI)
C6: RESERVATÓRIO METÁLICO | H6: Obras Civis e Serviços: | K6: 0.2698 | L6: 0
C7: OBRAS CIVIS E SERVIÇOS | H7: Materiais e Equipamentos: | K7: 0.168 | L7: 1.28
B8: Item | C8: Discriminação | D8: Código | E8: Fonte | F8: Unid. | G8: Quant. | H8: Preço Unitário sem BDI (R$) | I8: BDI Aplicado (%) | J8: Preço Unitário com BDI (R$) | K8: Preço Total com BDI (R$)
B10: =B16 -> 1 | C10: =UPPER(C16) -> MONTAGEM DE MATERIAIS E EQUIPAMENTOS ELÉTRICOS | K10: =K22 -> 19534.5
B12: =B24 -> 2 | C12: =UPPER(C24) -> URBANIZAÇÃO | K12: =K27 -> 6654.2
C14: TOTAL | K14: =SUM(K9:K13) -> 26188.7
B16: 1 | C16: Montagem de Materiais e Equipamentos Elétricos
B17: 1.1 | C17: ='E-001'!$C$8 -> Montagem da entrada de energia | D17: ='E-001'!$C$7 -> E-001 | E17: ='E-001'!$C$6 -> COMP. | F17: ='E-001'!$C$10 -> gb | G17: 1 | H17: =ROUND('E-001'!$H$19,2) -> 3759.68 | I17: =$K$6 -> 0.2698 | J17: =ROUND(H17*(I17+1),2) -> 4774.04 | K17: =ROUND(J17*G17,2) -> 4774.04
B18: 1.2 | C18: ='E-002'!$C$8 -> Montagem do sistema de aterramento e SPDA | D18: ='E-002'!$C$7 -> E-002 | E18: ='E-002'!$C$6 -> COMP. | F18: ='E-002'!$C$10 -> gb | G18: 1 | H18: =ROUND('E-002'!$H$19,2) -> 6127.44 | I18: =$K$6 -> 0.2698 | J18: =ROUND(H18*(I18+1),2) -> 7780.62 | K18: =ROUND(J18*G18,2) -> 7780.62
B19: 1.3 | C19: ='E-003'!$C$8 -> Transporte de materiais e equipamentos | D19: ='E-003'!$C$7 -> E-003 | E19: ='E-003'!$C$6 -> COMP. | F19: ='E-003'!$C$10 -> gb | G19: 1 | H19: =ROUND('E-003'!$H$17,2) -> 1712.96 | I19: =$K$6 -> 0.2698 | J19: =ROUND(H19*(I19+1),2) -> 2175.12 | K19: =ROUND(J19*G19,2) -> 2175.12
B20: 1.4 | C20: ='E-004'!$C$8 -> Instalação e comissionamento de instrumentos | D20: ='E-004'!$C$7 -> E-004 | E20: ='E-004'!$C$6 -> COMP. | F20: ='E-004'!$C$10 -> gb | G20: 1 | H20: =ROUND('E-004'!$H$18,2) -> 3783.84 | I20: =$K$6 -> 0.2698 | J20: =ROUND(H20*(I20+1),2) -> 4804.72 | K20: =ROUND(J20*G20,2) -> 4804.72
C22: Subtotal 1 | J22: =ROUND(H22*(I22+1),2) -> 0 | K22: =SUM(K17:K21) -> 19534.5 | M22: 14516.54 | N22: =K22-M22 -> 5017.96
B24: 2 | C24: Urbanização
B25: 2.1 | C25: Portão de tela | D25: 70150001 | E25: SABESP | F25: m² | G25: 10.8 | H25: =(621.08/L7) -> 485.21875 | I25: =$K$6 -> 0.2698 | J25: =ROUND(H25*(I25+1),2) -> 616.13 | K25: =ROUND(G25*J25,2) -> 6654.2
C27: Subtotal 2 | J27: =ROUND(H27*(I27+1),2) -> 0 | K27: =SUM(K25:K26) -> 6654.2
C30: TOTAL | K30: =SUM(K16:K29)/2 -> 26188.7

Sheet ME-Reservatório
B2: SAMAE | C2: SERVIÇO AUTÔNOMO MUNICIPAL DE ÁGUA E ESGOTO DE MOGI GUAÇU | H2: Referência de Preços
C3: PLANILHA DE ORÇAMENTO | H3: SINAPI Desonerado I0: | K3: Novembro/2023
B4: OBRA | C4: PROJETO EXECUTIVO DE IMPLANTAÇÃO DE | H4: SABESP Io: | K4: Novembro/2023
C5: NOVO RESERVATÓRIO METÁLICO NO SETOR EUCALIPTOS | H5: BDI (apenas SINAPI)
C6: RESERVATÓRIO METÁLICO | H6: Obras Civis e Serviços: | K6: 0.2698 | L6: 0
C7: MATERIAIS E EQUIPAMENTOS | H7: Materiais e Equipamentos: | K7: 0.168
B8: Item | C8: Discriminação | D8: Código | E8: Fonte | F8: Unid. | G8: Quant. | H8: Preço Unitário sem BDI (R$) | I8: BDI Aplicado (%) | J8: Preço Unitário com BDI (R$) | K8: Preço Total com BDI (R$)
B10: =B16 -> 1 | C10: =UPPER(C16) -> FORNECIMENTO DE MATERIAIS E EQUIPAMENTOS HIDRÁULICOS | K10: =K19 -> 2546240
B12: =B21 -> 2 | C12: =UPPER(C21) -> FORNECIMENTO DE MATERIAIS E EQUIPAMENTOS ELÉTRICOS | K12: =K68 -> 16985
C14: TOTAL | K14: =SUM(K9:K13) -> 2563225
B16: 1 | C16: Fornecimento de Materiais e Equipamentos Hidráulicos
B17: 1.1 | C17: ='Resumo Preços'!$D$65 -> Reservatório cilíndrico vertical apoiado, Ø 14,32m, H = 18,00m, V = 2.800m³, completo, incluso escada externa tipo marinheiro com guarda-corpo, em aço carbono | D17: ='Resumo Preços'!$C$65 -> RES-01 | E17: Cotação | F17: ='Resumo Preços'!$E$65 -> cj | G17: 1 | H17: =ROUND('Resumo Preços'!$L$65,2) -> 2180000 | I17: =$K$7 -> 0.168 | J17: =ROUND(H17*(I17+1),2) -> 2546240 | K17: =ROUND(J17*G17,2) -> 2546240
C19: Subtotal 1 | J19: =ROUND(H19*(I19+1),2) -> 0 | K19: =SUM(K17:K18) -> 2546240
B21: 2 | C21: Fornecimento de Materiais e Equipamentos Elétricos
B22: 2.1 | C22: Entrada de Energia
B23: 2.1.1 | C23: Armação secundária com isolador tipo roldana | D23: 1091 | E23: SINAPI | F23: unid | G23: 1 | H23: 25.12 | I23: =$K$7 -> 0.168 | J23: =ROUND(H23*(I23+1),2) -> 29.34 | K23: =ROUND(J23*G23,2) -> 29.34
B24: 2.1.2 | C24: Braçadeira de aço zincado | F24: unid | G24: 1 | H24: 38.9 | I24: =$K$7 -> 0.168 | J24: =ROUND(H24*(I24+1),2) -> 45.44 | K24: =ROUND(J24*G24,2) -> 45.44
B25: 2.1.3 | C25: Poste de concreto duplo T de 7,5m - 90daN | D25: EL06088 | E25: SABESP | F25: unid | G25: 1 | H25: 615 | I25: =$K$7 -> 0.168 | J25: =ROUND(H25*(I25+1),2) -> 718.32 | K25: =ROUND(J25*G25,2) -> 718.32
B26: 2.1.4 | C26: Curva 135° PVC rígido DN 40mm | D26: 2626 | E26: SINAPI | F26: unid | G26: 1 | H26: 29.37 | I26: =$K$7 -> 0.168 | J26: =ROUND(H26*(I26+1),2) -> 34.3 | K26: =ROUND(J26*G26,2) -> 34.3
B27: 2.1.5 | C27: Eletroduto de PVC rígido DN 40mm x3000mm | D27: 2680 | E27: SINAPI | F27: br | G27: 2 | H27: =ROUND(10.8*3,2) -> 32.4 | I27: =$K$7 -> 0.168 | J27: =ROUND(H27*(I27+1),2) -> 37.84 | K27: =ROUND(J27*G27,2) -> 75.68
B28: 2.1.6 | C28: Luva para eletroduto de PVC DN 40mm | D28: EL00793 | E28: SABESP | F28: unid | G28: 11 | H28: 3.07 | I28: =$K$7 -> 0.168 | J28: =ROUND(H28*(I28+1),2) -> 3.59 | K28: =ROUND(J28*G28,2) -> 39.49
B29: 2.1.7 | C29: Bucha para eletroduto de PVC DN 40mm | D29: 39178 | E29: SINAPI | F29: unid | G29: 5 | H29: 2.33 | I29: =$K$7 -> 0.168 | J29: =ROUND(H29*(I29+1),2) -> 2.72 | K29: =ROUND(J29*G29,2) -> 13.6
B30: 2.1.8 | C30: Arruela para eletroduto de PVC DN 40mm | D30: 39212 | E30: SINAPI | F30: unid | G30: 4 | H30: 2.05 | I30: =$K$7 -> 0.168 | J30: =ROUND(H30*(I30+1),2) -> 2.39 | K30: =ROUND(J30*G30,2) -> 9.56
B31: 2.1.9 | C31: Curva de 90° PVC rígido DN 40mm | D31: EL00728 | E31: SABESP | F31: unid | G31: 4 | H31: 5.79 | I31: =$K$7 -> 0.168 | J31: =ROUND(H31*(I31+1),2) -> 6.76 | K31: =ROUND(J31*G31,2) -> 27.04
B32: 2.1.10 | C32: Eletroduto de PVC rígido DN 20mm x3000mm | D32: 2674 | E32: SINAPI | F32: br | G32: 1 | H32: =ROUND(4.39*3,2) -> 13.17 | I32: =$K$7 -> 0.168 | J32: =ROUND(H32*(I32+1),2) -> 15.38 | K32: =ROUND(J32*G32,2) -> 15.38
B33: 2.1.11 | C33: Curva de 90° PVC rígido DN 20mm | D33: EL00736 | E33: SABESP | F33: unid | G33: 1 | H33: 3.2 | I33: =$K$7 -> 0.168 | J33: =ROUND(H33*(I33+1),2) -> 3.74 | K33: =ROUND(J33*G33,2) -> 3.74
B34: 2.1.12 | C34: Luva para eletroduto de PVC DN 20mm | D34: EL00801 | E34: SABESP | F34: unid | G34: 3 | H34: 0.99 | I34: =$K$7 -> 0.168 | J34: =ROUND(H34*(I34+1),2) -> 1.16 | K34: =ROUND(J34*G34,2) -> 3.48
B35: 2.1.13 | C35: Bucha para eletroduto de PVC DN 20mm | D35: 39175 | E35: SINAPI | F35: unid | G35: 1 | H35: 1.29 | I35: =$K$7 -> 0.168 | J35: =ROUND(H35*(I35+1),2) -> 1.51 | K35: =ROUND(J35*G35,2) -> 1.51
B36: 2.1.14 | C36: Arruela para eletroduto de PVC DN 20mm | D36: 39209 | E36: SINAPI | F36: unid | G36: 1 | H36: 0.66 | I36: =$K$7 -> 0.168 | J36: =ROUND(H36*(I36+1),2) -> 0.77 | K36: =ROUND(J36*G36,2) -> 0.77
B37: 2.1.15 | C37: Condutor de cobre singelo, isolado 750v, bitola 16 mm² preto | D37: 979 | E37: SINAPI | F37: m | G37: 25 | H37: 11.38 | I37: =$K$7 -> 0.168 | J37: =ROUND(H37*(I37+1),2) -> 13.29 | K37: =ROUND(J37*G37,2) -> 332.25
B38: 2.1.16 | C38: Condutor de cobre singelo, isolado 750v, bitola 16 mm² azul claro | D38: 979 | E38: SINAPI | F38: m | G38: 10 | H38: 11.38 | I38: =$K$7 -> 0.168 | J38: =ROUND(H38*(I38+1),2) -> 13.29 | K38: =ROUND(J38*G38,2) -> 132.9
B39: 2.1.17 | C39: Fita de aço zincada | F39: unid | G39: 5 | H39: 72.3 | I39: =$K$7 -> 0.168 | J39: =ROUND(H39*(I39+1),2) -> 84.45 | K39: =ROUND(J39*G39,2) -> 422.25
B40: 2.1.18 | C40: Terminal para cabo # 16mm² | D40: 1575 | E40: SINAPI | F40: unid | G40: 14 | H40: 1.96 | I40: =$K$7 -> 0.168 | J40: =ROUND(H40*(I40+1),2) -> 2.29 | K40: =ROUND(J40*G40,2) -> 32.06
B41: 2.1.19 | C41: Condutor de cobre nú # 16mm² | D41: 857 | E41: SINAPI | F41: m | G41: 5 | H41: 13.78 | I41: =$K$7 -> 0.168 | J41: =ROUND(H41*(I41+1),2) -> 16.1 | K41: =ROUND(J41*G41,2) -> 80.5
B42: 2.1.20 | C42: Disjuntor trifásico 600V, 63A | D42: 2373 | E42: SINAPI | F42: unid | G42: 1 | H42: 101.67 | I42: =$K$7 -> 0.168 | J42: =ROUND(H42*(I42+1),2) -> 118.75 | K42: =ROUND(J42*G42,2) -> 118.75
B43: 2.1.21 | C43: Haste de aterramento cobreado DN 3/4"x3000 mm | D43: EL02581 | E43: SABESP | F43: unid | G43: 1 | H43: 260.06 | I43: =$K$7 -> 0.168 | J43: =ROUND(H43*(I43+1),2) -> 303.75 | K43: =ROUND(J43*G43,2) -> 303.75
B44: 2.1.22 | C44: Conector de bronze para haste-cabo DN 3/4"-16mm² | D44: EL02574 | E44: SABESP | F44: unid | G44: 1 | H44: 14.33 | I44: =$K$7 -> 0.168 | J44: =ROUND(H44*(I44+1),2) -> 16.74 | K44: =ROUND(J44*G44,2) -> 16.74
B45: 2.1.23 | C45: Caixa de inspeção DN 250 x 250mm com tampa de ferro fundido | D45: EL02533 | E45: SABESP | F45: unid | G45: 1 | H45: 77.65 | I45: =$K$7 -> 0.168 | J45: =ROUND(H45*(I45+1),2) -> 90.7 | K45: =ROUND(J45*G45,2) -> 90.7
B46: 2.1.24 | C46: Massa calafetadora para vedação | F46: kg | G46: 1 | H46: 75.7 | I46: =$K$7 -> 0.168 | J46: =ROUND(H46*(I46+1),2) -> 88.42 | K46: =ROUND(J46*G46,2) -> 88.42
B47: 2.2 | C47: Fios e Cabos
...

Sheet OS-Entrada
B2: SAMAE | C2: SERVIÇO AUTÔNOMO MUNICIPAL DE ÁGUA E ESGOTO DE MOGI GUAÇU | H2: Referência de Preços
C3: PLANILHA DE ORÇAMENTO | H3: SINAPI Desonerado I0: | K3: Novembro/2023
B4: OBRA | C4: PROJETO EXECUTIVO DE IMPLANTAÇÃO DE | H4: SABESP Io: | K4: Novembro/2023
C5: NOVO RESERVATÓRIO METÁLICO NO SETOR EUCALIPTOS | H5: BDI (apenas SINAPI)
C6: INTERLIGAÇÃO DE ENTRADA DO RESERVATÓRIO | H6: Obras Civis e Serviços: | K6: 0.2698 | L6: 0
C7: OBRAS CIVIS E SERVIÇOS | H7: Materiais e Equipamentos: | K7: 0.168
B8: Item | C8: Discriminação | D8: Código | E8: Fonte | F8: Unid. | G8: Quant. | H8: Preço Unitário sem BDI (R$) | I8: BDI Aplicado (%) | J8: Preço Unitário com BDI (R$) | K8: Preço Total com BDI (R$) | L8: 1.28
B10: =B24 -> 1 | C10: =UPPER(C24) -> SERVIÇOS TÉCNICOS | K10: =K28 -> 228.81
B12: =B30 -> 2 | C12: =UPPER(C30) -> SERVIÇOS PRELIMINARES | K12: =K34 -> 464.85
B14: =B36 -> 3 | C14: =UPPER(C36) -> MOVIMENTO DE TERRA | K14: =K48 -> 3889.69
B16: =B50 -> 4 | C16: =UPPER(C50) -> ACESSÓRIOS | K16: =K62 -> 33953.41
B18: =B64 -> 5 | C18: =UPPER(C64) -> ASSENTAMENTO E MONTAGEM DE TUBOS E PEÇAS | K18: =K77 -> 27279.04
B20: =B79 -> 6 | C20: =UPPER(C79) -> SERVIÇOS DIVERSOS | K20: =K82 -> 513.74
C22: TOTAL | K22: =SUM(K9:K21) -> 66329.54
B24: 1 | C24: Serviços Técnicos | J24: =ROUND(H24*(I24+1),2) -> 0
B25: 1.1 | C25: Locação de adutoras, coletores-tronco e interceptores (até diâm. 500 mm) | D25: 70010003 | E25: SABESP | F25: m | G25: =ROUND('Q-Entrada'!$P$13,2) -> 29 | H25: =1.74/1.28 -> 1.359375 | I25: =$K$6 -> 0.2698 | J25: =ROUND(H25*(I25+1),2) -> 1.73 | K25: =ROUND(J25*G25,2) -> 50.17
B26: 1.2 | C26: Cadastro de adutoras, coletores-tronco e interceptores (até diâm. 500 mm) | D26: 70010006 | E26: SABESP | F26: m | G26: =ROUND('Q-Entrada'!$P$13,2) -> 29 | H26: =6.21/1.28 -> 4.8515625 | I26: =$K$6 -> 0.2698 | J26: =ROUND(H26*(I26+1),2) -> 6.16 | K26: =ROUND(J26*G26,2) -> 178.64
J27: =ROUND(H27*(I27+1),2) -> 0 | K27: =ROUND(J27*G27,2) -> 0
C28: Subtotal 1 | J28: =ROUND(H28*(I28+1),2) -> 0 | K28: =SUM(K25:K27) -> 228.81
J29: =ROUND(H29*(I29+1),2) -> 0
B30: 2 | C30: Serviços Preliminares
B31: 2.1 | C31: Tapume contínuo em chapas de madeira | D31: 70020003 | E31: SABESP | F31: m | G31: =ROUND('Q-Entrada'!$AK$13,2) -> 19.33 | H31: =11.71/1.28 -> 9.1484375 | I31: =$K$6 -> 0.2698 | J31: =ROUND(H31*(I31+1),2) -> 11.62 | K31: =ROUND(J31*G31,2) -> 224.61
B32: 2.2 | C32: Passadiços de madeira para pedestres | D32: 70020006 | E32: SABESP | F32: m² | G32: =ROUND('Q-Entrada'!$AL$13,2) -> 1.57 | H32: =154.25/1.28 -> 120.50781 | I32: =$K$6 -> 0.2698 | J32: =ROUND(H32*(I32+1),2) -> 153.02 | K32: =ROUND(J32*G32,2) -> 240.24
C34: Subtotal 2 | J34: =ROUND(H34*(I34+1),2) -> 0 | K34: =SUM(K31:K33) -> 464.85
J35: =ROUND(H35*(I35+1),2) -> 0
B36: 3 | C36: Movimento de Terra
B37: 3.1 | C37: Raspagem da camada superficial | D37: 70030041 | E37: SABESP | F37: m² | G37: =ROUND('Q-Entrada'!$Q$13,2) -> 43.5 | H37: =2.12/1.28 -> 1.65625 | I37: =$K$6 -> 0.2698 | J37: =ROUND(H37*(I37+1),2) -> 2.1 | K37: =ROUND(J37*G37,2) -> 91.35
B38: 3.2 | C38: Escavação manual de valas, poços e cavas em solo não rochoso, c/prof. até 1,25m | D38: 70030050 | E38: SABESP | F38: m³ | G38: =ROUND('Q-Entrada'!$Z$13,2) -> 29.75 | H38: =59.47/1.28 -> 46.460938 | I38: =$K$6 -> 0.2698 | J38: =ROUND(H38*(I38+1),2) -> 59 | K38: =ROUND(J38*G38,2) -> 1755.25
B39: 3.3 | C39: Preparo de fundo de vala com largura menor que 1,5 m (acerto do solo natural) | D39: 101616 | E39: SINAPI | F39: m² | G39: =ROUND('Q-Entrada'!$AS$15,2) -> 26.1 | H39: 6.88 | I39: =$K$6 -> 0.2698 | J39: =ROUND(H39*(I39+1),2) -> 8.74 | K39: =ROUND(J39*G39,2) -> 228.11
B40: 3.4 | C40: Preparo de fundo de vala com largura menor que 1,5m, com camada de brita, lançamento manual | D40: 101619 | E40: SINAPI | F40: m³ | G40: =ROUND('Q-Entrada'!$AM$15,2) -> 2.61 | H40: 255.68 | I40: =$K$6 -> 0.2698 | J40: =ROUND(H40*(I40+1),2) -> 324.66 | K40: =ROUND(J40*G40,2) -> 847.36
B41: 3.5 | C41: Aterro de valas, poços e cavas compactado mecanicamente, com controle do G.C. >= 95% do E.N.C. | D41: 70030026 | E41: SABESP | F41: m³ | G41: =ROUND('Q-Entrada'!$AQ$13,2) -> 8.12 | H41: =26.01/1.28 -> 20.320312 | I41: =$K$6 -> 0.2698 | J41: =ROUND(H41*(I41+1),2) -> 25.8 | K41: =ROUND(J41*G41,2) -> 209.5
B42: 3.6 | C42: Aterro de valas, poços e cavas compactado mecanicamente, sem controle do G.C. | D42: 70030025 | E42: SABESP | F42: m³ | G42: =ROUND('Q-Entrada'!$AR$13,2) -> 14.84 | H42: =9.05*1.28 -> 11.584 | I42: =$K$6 -> 0.2698 | J42: =ROUND(H42*(I42+1),2) -> 14.71 | K42: =ROUND(J42*G42,2) -> 218.3
B43: 3.7 | C43: Carga, manobra e descarga de solos e materiais granulares em caminhão basculante 18 m³ - carga com escavadeira hidráulica (caçamba de 1,20m³ / 155HP) e descarga livre | D43: 100980 | E43: SINAPI | F43: m³ | G43: =ROUND('Q-Entrada'!$BA$13,2) -> 8.84 | H43: 6.4 | I43: =$K$6 -> 0.2698 | J43: =ROUND(H43*(I43+1),2) -> 8.13 | K43: =ROUND(J43*G43,2) -> 71.87
B44: 3.8 | C44: Transporte com caminhão basculante de 18 m³, em via urbana pavimentada, DMT até 30 km | D44: 95877 | E44: SINAPI | F44: m³xkm | G44: =ROUND('Q-Entrada'!$BB$13,2) -> 132.64 | H44: 1.88 | I44: =$K$6 -> 0.2698 | J44: =ROUND(H44*(I44+1),2) -> 2.39 | K44: =ROUND(J44*G44,2) -> 317.01
B45: 3.9 | C45: Carga, manobra e descarga de solos e materiais granulares em caminhão basculante 10 m³ - carga com escavadeira hidráulica (caçamba de 1,20m³ / 155HP) e descarga livre | D45: 100978 | E45: SINAPI | F45: m³ | G45: =ROUND('Q-Entrada'!$BC$13,2) -> 2.61 | H45: 7.15 | I45: =$K$6 -> 0.2698 | J45: =ROUND(H45*(I45+1),2) -> 9.08 | K45: =ROUND(J45*G45,2) -> 23.7
B46: 3.10 | C46: Transporte com caminhão basculante de 10 m³, em via urbana pavimentada, DMT até 30 km | D46: 95875 | E46: SINAPI | F46: m³xkm | G46: =ROUND('Q-Entrada'!$BD$13,2) -> 39.15 | H46: 2.56 | I46: =$K$6 -> 0.2698 | J46: =ROUND(H46*(I46+1),2) -> 3.25 | K46: =ROUND(J46*G46,2) -> 127.24
C48: Subtotal 3 | J48: =ROUND(H48*(I48+1),2) -> 0 | K48: =SUM(K37:K47) -> 3889.69
B50: 4 | C50: Acessórios
B51: 4.1 | C51: Caixas | J51: =ROUND(H51*(I51+1),2) -> 0 | K51: =ROUND(G51*J51,2) -> 0 | N51: =ROUND(G51*H51,2) -> 0
B52: 4.1.1 | C52: ='CX-Entrada'!$C$8 -> Caixa de entrada com paredes em alvenaria e laje de fundo em concreto armado | D52: ='CX-Entrada'!$C$7 -> CX-Entr | E52: ='CX-Entrada'!$C$6 -> COMP. | F52: ='CX-Entrada'!$C$10 -> unid | G52: 1 | H52: =ROUND('CX-Entrada'!$H$33,2) -> 24719.43 | I52: =$K$6 -> 0.2698 | J52: =ROUND(H52*(I52+1),2) -> 31388.73 | K52: =ROUND(G52*J52,2) -> 31388.73
...

Sheet ME-Entrada
B2: SAMAE | C2: SERVIÇO AUTÔNOMO MUNICIPAL DE ÁGUA E ESGOTO DE MOGI GUAÇU | H2: Referência de Preços
C3: PLANILHA DE ORÇAMENTO | H3: SINAPI Desonerado I0: | K3: Novembro/2023
B4: OBRA | C4: PROJETO EXECUTIVO DE IMPLANTAÇÃO DE | H4: SABESP Io: | K4: Novembro/2023
C5: NOVO RESERVATÓRIO METÁLICO NO SETOR EUCALIPTOS | H5: BDI (apenas SINAPI)
C6: INTERLIGAÇÃO DE ENTRADA DO RESERVATÓRIO | H6: Obras Civis e Serviços: | K6: 0.2698 | L6: 0
C7: MATERIAIS E EQUIPAMENTOS | H7: Materiais e Equipamentos: | K7: 0.168
B8: Item | C8: Discriminação | D8: Código | E8: Fonte | F8: Unid. | G8: Quant. | H8: Preço Unitário sem BDI (R$) | I8: BDI Aplicado (%) | J8: Preço Unitário com BDI (R$) | K8: Preço Total com BDI (R$)
B10: =B14 -> 1 | C10: =UPPER(C14) -> FORNECIMENTO DE MATERIAIS E EQUIPAMENTOS | K10: =K44 -> 305332.56
C12: TOTAL | K12: =SUM(K9:K11) -> 305332.56
B14: 1 | C14: Fornecimento de Materiais e Equipamentos | J14: =ROUND(H14*(I14+1),2) -> 0
B15: 1.1 | C15: ='Resumo Preços'!$D$5 -> Curva 90° com bolsas JGS, Ø 400mm, em ferro fundido, para água | D15: ='Resumo Preços'!$C$5 -> HM02969 | E15: ='Resumo Preços'!$F$5 -> SABESP | F15: ='Resumo Preços'!$E$5 -> pç | G15: 1 | H15: =ROUND('Resumo Preços'!$L$5,2) -> 5687.83 | I15: =$K$7 -> 0.168 | J15: =ROUND(H15*(I15+1),2) -> 6643.39 | K15: =ROUND(G15*J15,2) -> 6643.39 | M15: =ROUND(G15*H15,2) -> 5687.83
B16: 1.2 | C16: ='Resumo Preços'!$D$6 -> Tubo com pontas, Ø 400mm, L = 3,80m (confirmar e ajustar em campo), em ferro fundido, para água | D16: ='Resumo Preços'!$C$6 -> HM04109 | E16: ='Resumo Preços'!$F$6 -> SABESP | F16: ='Resumo Preços'!$E$6 -> pç | G16: 1 | H16: =ROUND('Resumo Preços'!$L$6,2) -> 3557.03 | I16: =$K$7 -> 0.168 | J16: =ROUND(H16*(I16+1),2) -> 4154.61 | K16: =ROUND(G16*J16,2) -> 4154.61 | M16: =ROUND(G16*H16,2) -> 3557.03
B17: 1.3 | C17: ='Resumo Preços'!$D$7 -> Tubo ponta e bolsa JGS Ø 400mm, classe K7, L = 6,00m, em ferro fundido, para água | D17: ='Resumo Preços'!$C$7 -> HM04109 | E17: ='Resumo Preços'!$F$7 -> SABESP | F17: ='Resumo Preços'!$E$7 -> pç | G17: 2 | H17: =ROUND('Resumo Preços'!$L$7,2) -> 5616.36 | I17: =$K$7 -> 0.168 | J17: =ROUND(H17*(I17+1),2) -> 6559.91 | K17: =ROUND(G17*J17,2) -> 13119.82 | M17: =ROUND(G17*H17,2) -> 11232.72
B18: 1.4 | C18: ='Resumo Preços'!$D$8 -> Tubo com flange e bolsa, Ø 400mm, L = 5,80m, flange conf. ISO 2531 PN-10, em ferro fundido, para água | D18: ='Resumo Preços'!$C$8 -> HM03736 | E18: ='Resumo Preços'!$F$8 -> SABESP | F18: ='Resumo Preços'!$E$8 -> pç | G18: 1 | H18: =ROUND('Resumo Preços'!$L$8,2) -> 10647.16 | I18: =$K$7 -> 0.168 | J18: =ROUND(H18*(I18+1),2) -> 12435.88 | K18: =ROUND(G18*J18,2) -> 12435.88 | M18: =ROUND(G18*H18,2) -> 10647.16 | N18: =ROUND((89.5*5.8)+28+29.3,2) -> 576.4 | O18: =ROUND(G18*N18,2) -> 576.4
B19: 1.5 | C19: ='Resumo Preços'!$D$9 -> Redução concêntrica com flanges Ø 400mm x Ø 300mm, flange conf. ISO 2531 PN-10, em ferro fundido, para água | D19: ='Resumo Preços'!$C$9 -> HM03310 | E19: ='Resumo Preços'!$F$9 -> SABESP | F19: ='Resumo Preços'!$E$9 -> pç | G19: 2 | H19: =ROUND('Resumo Preços'!$L$9,2) -> 2618.73 | I19: =$K$7 -> 0.168 | J19: =ROUND(H19*(I19+1),2) -> 3058.68 | K19: =ROUND(G19*J19,2) -> 6117.36 | M19: =ROUND(G19*H19,2) -> 5237.46 | N19: 76 | O19: =ROUND(G19*N19,2) -> 152
B20: 1.6 | C20: ='Resumo Preços'!$D$10 -> Tê com flanges Ø 300mm x Ø 300mm, flange conf. ISO 2531 PN-10, em ferro fundido, para água | D20: ='Resumo Preços'!$C$10 -> HM03412 | E20: ='Resumo Preços'!$F$10 -> SABESP | F20: ='Resumo Preços'!$E$10 -> pç | G20: 2 | H20: =ROUND('Resumo Preços'!$L$10,2) -> 3898.96 | I20: =$K$7 -> 0.168 | J20: =ROUND(H20*(I20+1),2) -> 4553.99 | K20: =ROUND(G20*J20,2) -> 9107.98 | M20: =ROUND(G20*H20,2) -> 7797.92 | N20: 119 | O20: =ROUND(G20*N20,2) -> 238
B21: 1.7 | C21: ='Resumo Preços'!$D$11 -> Junta de desmontagem travada axialmente, Ø 300mm, flange conf. ISO 2531 PN-10, em ferro fundido, para água | D21: ='Resumo Preços'!$C$11 -> HM03162 | E21: ='Resumo Preços'!$F$11 -> SABESP | F21: ='Resumo Preços'!$E$11 -> pç | G21: 2 | H21: =ROUND('Resumo Preços'!$L$11,2) -> 2823.63 | I21: =$K$7 -> 0.168 | J21: =ROUND(H21*(I21+1),2) -> 3298 | K21: =ROUND(G21*J21,2) -> 6596
B22: 1.8 | C22: ='Resumo Preços'!$D$12 -> Registro de gaveta Ø 300mm, com flanges, cunha emborrachada, corpo curto e acionamento manual através de cabeçote, flange conf. ISO 2531 PN-10, em ferro fundido, para água | D22: ='Resumo Preços'!$C$12 -> HM07074 | E22: ='Resumo Preços'!$F$12 -> SABESP | F22: ='Resumo Preços'!$E$12 -> pç | G22: 3 | H22: =ROUND('Resumo Preços'!$L$12,2) -> 6261.72 | I22: =$K$7 -> 0.168 | J22: =ROUND(H22*(I22+1),2) -> 7313.69 | K22: =ROUND(G22*J22,2) -> 21941.07
B23: 1.9 | C23: ='Resumo Preços'!$D$13 -> Tubo com flanges, Ø 300mm, L = 0,58m, flange conf. ISO 2531 PN-10, em ferro fundido, para água | D23: ='Resumo Preços'!$C$13 -> HM03607 | E23: ='Resumo Preços'!$F$13 -> SABESP | F23: ='Resumo Preços'!$E$13 -> pç | G23: 2 | H23: =ROUND('Resumo Preços'!$L$13,2) -> 3960.54 | I23: =$K$7 -> 0.168 | J23: =ROUND(H23*(I23+1),2) -> 4625.91 | K23: =ROUND(G23*J23,2) -> 9251.82 | M23: =ROUND(G23*H23,2) -> 7921.08 | N23: =ROUND((57.1*0.58)+18+18,2) -> 69.12 | O23: =ROUND(G23*N23,2) -> 138.24
B24: 1.10 | C24: ='Resumo Preços'!$D$14 -> Válvula borboleta com flanges, com cabeçote, Ø 300mm, flange conf. ISO 2531 PN-10, em ferro fundido, para água | D24: ='Resumo Preços'!$C$14 -> HM07038 | E24: ='Resumo Preços'!$F$14 -> SABESP | F24: ='Resumo Preços'!$E$14 -> pç | G24: 1 | H24: =ROUND('Resumo Preços'!$L$14,2) -> 12952.9 | I24: =$K$7 -> 0.168 | J24: =ROUND(H24*(I24+1),2) -> 15128.99 | K24: =ROUND(G24*J24,2) -> 15128.99
B25: 1.11 | C25: ='Resumo Preços'!$D$15 -> Toco com flanges, Ø 300mm, L = 0,25m, flange conf. ISO 2531 PN-10, em ferro fundido, para água | D25: ='Resumo Preços'!$C$15 -> HM03516 | E25: ='Resumo Preços'!$F$15 -> SABESP | F25: ='Resumo Preços'!$E$15 -> pç | G25: 4 | H25: =ROUND('Resumo Preços'!$L$15,2) -> 1285.47 | I25: =$K$7 -> 0.168 | J25: =ROUND(H25*(I25+1),2) -> 1501.43 | K25: =ROUND(G25*J25,2) -> 6005.72 | M25: =ROUND(G25*H25,2) -> 5141.88 | N25: 56 | O25: =ROUND(G25*N25,2) -> 224
B26: 1.12 | C26: ='Resumo Preços'!$D$16 -> Curva 90° com flanges Ø 300mm, flange conf. ISO 2531 PN-10, em ferro fundido, para água | D26: ='Resumo Preços'!$C$16 -> HM03006 | E26: ='Resumo Preços'!$F$16 -> SABESP | F26: ='Resumo Preços'!$E$16 -> pç | G26: 2 | H26: =ROUND('Resumo Preços'!$L$16,2) -> 2442.9 | I26: =$K$7 -> 0.168 | J26: =ROUND(H26*(I26+1),2) -> 2853.31 | K26: =ROUND(G26*J26,2) -> 5706.62 | M26: =ROUND(G26*H26,2) -> 4885.8 | N26: 66 | O26: =ROUND(G26*N26,2) -> 132
B27: 1.13 | C27: ='Resumo Preços'!$D$17 -> Válvula posicionadora de comando hidráulico através de solenóides com preparação para comando eletrônico, Ø 300mm, atuador tipo diafragma, flanges conf. ISO 2531 PN-10, para água | D27: ='Resumo Preços'!$C$17 -> VALV-01 | E27: Cotação | F27: ='Resumo Preços'!$E$17 -> pç | G27: 1 | H27: =ROUND('Resumo Preços'!$L$17,2) -> 39149.05 | I27: =$K$7 -> 0.168 | J27: =ROUND(H27*(I27+1),2) -> 45726.09 | K27: =ROUND(G27*J27,2) -> 45726.09
B28: 1.14 | C28: ='Resumo Preços'!$D$18 -> Tubo com flange e ponta, Ø 400mm, L = 1,13m, flange conf. ISO 2531 PN-10, em ferro fundido, para água | D28: ='Resumo Preços'!$C$18 -> HM03912 | E28: ='Resumo Preços'!$F$18 -> SABESP | F28: ='Resumo Preços'!$E$18 -> pç | G28: 1 | H28: =ROUND('Resumo Preços'!$L$18,2) -> 4181.35 | I28: =$K$7 -> 0.168 | J28: =ROUND(H28*(I28+1),2) -> 4883.82 | K28: =ROUND(G28*J28,2) -> 4883.82 | M28: =ROUND(G28*H28,2) -> 4181.35 | N28: =ROUND((89.5*1.13)+28,2) -> 129.14 | O28: =ROUND(G28*N28,2) -> 129.14
B29: 1.15 | C29: ='Resumo Preços'!$D$19 -> Curva 45° com bolsas JGS, Ø 400mm, em ferro fundido, para água | D29: ='Resumo Preços'!$C$19 -> HM02959 | E29: ='Resumo Preços'!$F$19 -> SABESP | F29: ='Resumo Preços'!$E$19 -> pç | G29: 1 | H29: =ROUND('Resumo Preços'!$L$19,2) -> 2873.75 | I29: =$K$7 -> 0.168 | J29: =ROUND(H29*(I29+1),2) -> 3356.54 | K29: =ROUND(G29*J29,2) -> 3356.54 | M29: =ROUND(G29*H29,2) -> 2873.75
B30: 1.16 | C30: ='Resumo Preços'!$D$20 -> Tubo com pontas, Ø 400mm, L = 1,25m, em ferro fundido, para água | D30: ='Resumo Preços'!$C$20 -> HM04109 | E30: ='Resumo Preços'!$F$20 -> SABESP | F30: ='Resumo Preços'!$E$20 -> pç | G30: 1 | H30: =ROUND('Resumo Preços'!$L$20,2) -> 1170.08 | I30: =$K$7 -> 0.168 | J30: =ROUND(H30*(I30+1),2) -> 1366.65 | K30: =ROUND(G30*J30,2) -> 1366.65 | M30: =ROUND(G30*H30,2) -> 1170.08
B31: 1.17 | C31: ='Resumo Preços'!$D$21 -> Curva 22°30' com bolsas JGS, Ø 400mm, em ferro fundido, para água | D31: ='Resumo Preços'!$C$21 -> HM02949 | E31: ='Resumo Preços'!$F$21 -> SABESP | F31: ='Resumo Preços'!$E$21 -> pç | G31: 1 | H31: =ROUND('Resumo Preços'!$L$21,2) -> 1925.13 | I31: =$K$7 -> 0.168 | J31: =ROUND(H31*(I31+1),2) -> 2248.55 | K31: =ROUND(G31*J31,2) -> 2248.55 | M31: =ROUND(G31*H31,2) -> 1925.13
B32: 1.18 | C32: ='Resumo Preços'!$D$22 -> Tubo com flange e ponta, Ø 400mm, L = 2,92m, flange conf. ISO 2531 PN-10, em ferro fundido, para água | D32: ='Resumo Preços'!$C$22 -> HM03915 | E32: ='Resumo Preços'!$F$22 -> SABESP | F32: ='Resumo Preços'!$E$22 -> pç | G32: 1 | H32: =ROUND('Resumo Preços'!$L$22,2) -> 6284.69 | I32: =$K$7 -> 0.168 | J32: =ROUND(H32*(I32+1),2) -> 7340.52 | K32: =ROUND(G32*J32,2) -> 7340.52 | M32: =ROUND(G32*H32,2) -> 6284.69 | N32: =ROUND((89.5*2.92)+28,2) -> 289.34 | O32: =ROUND(G32*N32,2) -> 289.34
B33: 1.19 | C33: ='Resumo Preços'!$D$23 -> Curva 90° com flanges Ø 400mm, flange conf. ISO 2531 PN-10, em ferro fundido, para água | D33: ='Resumo Preços'!$C$23 -> HM02984 | E33: ='Resumo Preços'!$F$23 -> SABESP | F33: ='Resumo Preços'!$E$23 -> pç | G33: 3 | H33: =ROUND('Resumo Preços'!$L$23,2) -> 7864.79 | I33: =$K$7 -> 0.168 | J33: =ROUND(H33*(I33+1),2) -> 9186.07 | K33: =ROUND(G33*J33,2) -> 27558.21 | M33: =ROUND(G33*H33,2) -> 23594.37 | N33: 110 | O33: =ROUND(G33*N33,2) -> 330
B34: 1.20 | C34: ='Resumo Preços'!$D$24 -> Tubo com flanges, Ø 400mm, L = 0,56m, flange conf. ISO 2531 PN-10, em ferro fundido, para água | D34: ='Resumo Preços'!$C$24 -> HM03541 | E34: ='Resumo Preços'!$F$24 -> SABESP | F34: ='Resumo Preços'!$E$24 -> pç | G34: 1 | H34: =ROUND('Resumo Preços'!$L$24,2) -> 5124.71 | I34: =$K$7 -> 0.168 | J34: =ROUND(H34*(I34+1),2) -> 5985.66 | K34: =ROUND(G34*J34,2) -> 5985.66 | M34: =ROUND(G34*H34,2) -> 5124.71 | N34: =ROUND((89.5*0.56)+28+28,2) -> 106.12 | O34: =ROUND(G34*N34,2) -> 106.12
B35: 1.21 | C35: ='Resumo Preços'!$D$25 -> Curva 90° com flanges e pé Ø 400mm, flange conf. ISO 2531 PN-10, em ferro fundido, para água | D35: ='Resumo Preços'!$C$25 -> HM03017 | E35: ='Resumo Preços'!$F$25 -> SABESP | F35: ='Resumo Preços'!$E$25 -> pç | G35: 1 | H35: =ROUND('Resumo Preços'!$L$25,2) -> 9897.95 | I35: =$K$7 -> 0.168 | J35: =ROUND(H35*(I35+1),2) -> 11560.81 | K35: =ROUND(G35*J35,2) -> 11560.81 | M35: =ROUND(G35*H35,2) -> 9897.95 | N35: 172 | O35: =ROUND(G35*N35,2) -> 172
B36: 1.22 | C36: ='Resumo Preços'!$D$26 -> Tubo com flanges, Ø 400mm, L = 5,80m, flange conf. ISO 2531 PN-10, em ferro fundido, para água | D36: ='Resumo Preços'!$C$26 -> HM03551 | E36: ='Resumo Preços'!$F$26 -> SABESP | F36: ='Resumo Preços'!$E$26 -> pç | G36: 2 | H36: =ROUND('Resumo Preços'!$L$26,2) -> 11791.47 | I36: =$K$7 -> 0.168 | J36: =ROUND(H36*(I36+1),2) -> 13772.44 | K36: =ROUND(G36*J36,2) -> 27544.88 | M36: =ROUND(G36*H36,2) -> 23582.94 | N36: =ROUND((89.5*5.8)+28+28,2) -> 575.1 | O36: =ROUND(G36*N36,2) -> 1150.2
B37: 1.23 | C37: ='Resumo Preços'!$D$27 -> Tubo com flanges, Ø 400mm, L = 4,38m, flange conf. ISO 2531 PN-10, em ferro fundido, para água | D37: ='Resumo Preços'!$C$27 -> HM03549 | E37: ='Resumo Preços'!$F$27 -> SABESP | F37: ='Resumo Preços'!$E$27 -> pç | G37: 1 | H37: =ROUND('Resumo Preços'!$L$27,2) -> 11175.42 | I37: =$K$7 -> 0.168 | J37: =ROUND(H37*(I37+1),2) -> 13052.89 | K37: =ROUND(G37*J37,2) -> 13052.89 | M37: =ROUND(G37*H37,2) -> 11175.42 | N37: =ROUND((89.5*4.38)+28+28,2) -> 448.01 | O37: =ROUND(G37*N37,2) -> 448.01
B38: 1.24 | C38: ='Resumo Preços'!$D$28 -> Escada tipo marinheiro em fibra de vidro pultrudada | D38: ='Resumo Preços'!$C$28 -> 70110161 | E38: ='Resumo Preços'!$F$28 -> SABESP | F38: ='Resumo Preços'!$E$28 -> m | G38: 1.25 | H38: =ROUND('Resumo Preços'!$L$28,2) -> 1506.32 | I38: =$K$7 -> 0.168 | J38: =ROUND(H38*(I38+1),2) -> 1759.38 | K38: =ROUND(G38*J38,2) -> 2199.23
B39: 1.25 | C39: ='Resumo Preços'!$D$29 -> Guarda corpo em fibra de vidro pultrudada, h = 1,20m | D39: ='Resumo Preços'!$C$29 -> 70110156 | E39: ='Resumo Preços'!$F$29 -> SABESP | F39: ='Resumo Preços'!$E$29 -> m | G39: 14.2 | H39: =ROUND('Resumo Preços'!$L$29,2) -> 1197.45 | I39: =$K$7 -> 0.168 | J39: =ROUND(H39*(I39+1),2) -> 1398.62 | K39: =ROUND(G39*J39,2) -> 19860.4
B40: 1.26 | C40: ='Resumo Preços'!$D$30 -> Acessórios para montagem de flanges Ø 300mm, flange conf. ISO 2531 PN-10 | D40: ='Resumo Preços'!$C$30 -> HM01296 | E40: ='Resumo Preços'!$F$30 -> SABESP | F40: ='Resumo Preços'!$E$30 -> cj | G40: 19 | H40: =ROUND('Resumo Preços'!$L$30,2) -> 276.12 | I40: =$K$7 -> 0.168 | J40: =ROUND(H40*(I40+1),2) -> 322.51 | K40: =ROUND(G40*J40,2) -> 6127.69 | M40: =ROUND(G40*H40,2) -> 5246.28 | N40: =ROUND((1*0.394)+(1*4),2) -> 4.39 | O40: =ROUND(G40*N40,2) -> 83.41
B41: 1.27 | C41: ='Resumo Preços'!$D$31 -> Acessórios para montagem de flanges Ø 400mm, flange conf. ISO 2531 PN-10 | D41: ='Resumo Preços'!$C$31 -> HM01298 | E41: ='Resumo Preços'!$F$31 -> SABESP | F41: ='Resumo Preços'!$E$31 -> cj | G41: 11 | H41: =ROUND('Resumo Preços'!$L$31,2) -> 584.18 | I41: =$K$7 -> 0.168 | J41: =ROUND(H41*(I41+1),2) -> 682.32 | K41: =ROUND(G41*J41,2) -> 7505.52 | M41: =ROUND(G41*H41,2) -> 6425.98 | N41: =ROUND((1*1.005)+(1*8.8),2) -> 9.81 | O41: =ROUND(G41*N41,2) -> 107.91
B42: 1.28 | C42: ='SUP-01'!$C$8 -> Suporte para tubulação de reservatório Ø 400mm - FºFº - Tipo 1 | D42: ='SUP-01'!$C$7 -> SUP-01 | E42: ='SUP-01'!$C$6 -> COMP. | F42: ='SUP-01'!$C$10 -> cj | G42: 6 | H42: =ROUND('SUP-01'!$H$24,2) -> 400.38 | I42: =$K$7 -> 0.168 | J42: =ROUND(H42*(I42+1),2) -> 467.64 | K42: =ROUND(G42*J42,2) -> 2805.84
J43: =ROUND(H43*(I43+1),2) -> 0
C44: Subtotal 1 | J44: =ROUND(H44*(I44+1),2) -> 0 | K44: =SUM(K15:K43) -> 305332.56 | M44: =SUM(M15:M43) -> 163591.53 | N44: =ROUND(M44*0.2,2) -> 32718.31 | O44: =SUM(O18:O43) -> 4276.77 | P44: kg flanges
...

Sheet OS-Extravasor
B2: SAMAE | C2: SERVIÇO AUTÔNOMO MUNICIPAL DE ÁGUA E ESGOTO DE MOGI GUAÇU | H2: Referência de Preços
C3: PLANILHA DE ORÇAMENTO | H3: SINAPI Desonerado I0: | K3: Novembro/2023
B4: OBRA | C4: PROJETO EXECUTIVO DE IMPLANTAÇÃO DE | H4: SABESP Io: | K4: Novembro/2023
C5: NOVO RESERVATÓRIO METÁLICO NO SETOR EUCALIPTOS | H5: BDI (apenas SINAPI)
C6: INTERLIGAÇÃO DO EXTRAVASOR E DESCARGA | H6: Obras Civis e Serviços: | K6: 0.2698 | L6: 0
C7: OBRAS CIVIS E SERVIÇOS | H7: Materiais e Equipamentos: | K7: 0.168
B8: Item | C8: Discriminação | D8: Código | E8: Fonte | F8: Unid. | G8: Quant. | H8: Preço Unitário sem BDI (R$) | I8: BDI Aplicado (%) | J8: Preço Unitário com BDI (R$) | K8: Preço Total com BDI (R$)
B10: =B26 -> 1 | C10: =UPPER(C26) -> SERVIÇOS TÉCNICOS | K10: =K30 -> 380.3
B12: =B32 -> 2 | C12: =UPPER(C32) -> SERVIÇOS PRELIMINARES | K12: =K36 -> 674.8
B14: =B38 -> 3 | C14: =UPPER(C38) -> MOVIMENTO DE TERRA | K14: =K52 -> 7087.42
B16: =B54 -> 4 | C16: =UPPER(C54) -> ESCORAMENTOS | K16: =K58 -> 1457.22
B18: =B60 -> 5 | C18: =UPPER(C60) -> ACESSÓRIOS | K18: =K68 -> 14968.66
B20: =B70 -> 6 | C20: =UPPER(C70) -> ASSENTAMENTO E MONTAGEM DE TUBOS E PEÇAS | K20: =K82 -> 9647.1
B22: =B84 -> 7 | C22: =UPPER(C84) -> SERVIÇOS DIVERSOS | K22: =K87 -> 729.27
C24: TOTAL | K24: =SUM(K9:K23) -> 34944.77
B26: 1 | C26: Serviços Técnicos | J26: =ROUND(H26*(I26+1),2) -> 0
B27: 1.1 | C27: Locação de adutoras, coletores-tronco e interceptores (até diâm. 500 mm) | D27: 70010003 | E27: SABESP | F27: m | G27: =ROUND('Q-Extravasor'!$P$30,2) -> 48.2 | H27: =1.74/1.28 -> 1.359375 | I27: =$K$6 -> 0.2698 | J27: =ROUND(H27*(I27+1),2) -> 1.73 | K27: =ROUND(J27*G27,2) -> 83.39
B28: 1.2 | C28: Cadastro de adutoras, coletores-tronco e interceptores (até diâm. 500 mm) | D28: 70010006 | E28: SABESP | F28: m | G28: =ROUND('Q-Extravasor'!$P$30,2) -> 48.2 | H28: =6.21/1.28 -> 4.8515625 | I28: =$K$6 -> 0.2698 | J28: =ROUND(H28*(I28+1),2) -> 6.16 | K28: =ROUND(J28*G28,2) -> 296.91
J29: =ROUND(H29*(I29+1),2) -> 0 | K29: =ROUND(J29*G29,2) -> 0
C30: Subtotal 1 | J30: =ROUND(H30*(I30+1),2) -> 0 | K30: =SUM(K27:K29) -> 380.3
J31: =ROUND(H31*(I31+1),2) -> 0
B32: 2 | C32: Serviços Preliminares
B33: 2.1 | C33: Tapume contínuo em chapas de madeira | D33: 70020003 | E33: SABESP | F33: m | G33: =ROUND('Q-Extravasor'!$AK$30,2) -> 32.13 | H33: =11.71/1.28 -> 9.1484375 | I33: =$K$6 -> 0.2698 | J33: =ROUND(H33*(I33+1),2) -> 11.62 | K33: =ROUND(J33*G33,2) -> 373.35
B34: 2.2 | C34: Passadiços de madeira para pedestres | D34: 70020006 | E34: SABESP | F34: m² | G34: =ROUND('Q-Extravasor'!$AL$30,2) -> 1.97 | H34: =154.25/1.28 -> 120.50781 | I34: =$K$6 -> 0.2698 | J34: =ROUND(H34*(I34+1),2) -> 153.02 | K34: =ROUND(J34*G34,2) -> 301.45
C36: Subtotal 2 | J36: =ROUND(H36*(I36+1),2) -> 0 | K36: =SUM(K33:K35) -> 674.8
J37: =ROUND(H37*(I37+1),2) -> 0
B38: 3 | C38: Movimento de Terra
B39: 3.1 | C39: Raspagem da camada superficial | D39: 70030041 | E39: SABESP | F39: m² | G39: =ROUND('Q-Extravasor'!$Q$30,2) -> 61.75 | H39: =2.12/1.28 -> 1.65625 | I39: =$K$6 -> 0.2698 | J39: =ROUND(H39*(I39+1),2) -> 2.1 | K39: =ROUND(J39*G39,2) -> 129.68
B40: 3.2 | C40: Escavação manual de valas, poços e cavas em solo não rochoso, c/prof. até 1,25m | D40: 70030050 | E40: SABESP | F40: m³ | G40: =ROUND('Q-Extravasor'!$Z$30,2) -> 40.64 | H40: =59.47/1.28 -> 46.460938 | I40: =$K$6 -> 0.2698 | J40: =ROUND(H40*(I40+1),2) -> 59 | K40: =ROUND(J40*G40,2) -> 2397.76
B41: 3.3 | C41: Escavação manual de valas, poços e cavas em solo não rochoso, c/prof. até 2,00m | D41: 70030051 | E41: SABESP | F41: m³ | G41: =ROUND('Q-Extravasor'!$AA$30,2) -> 0.86 | H41: =89.2/1.28 -> 69.6875 | I41: =$K$6 -> 0.2698 | J41: =ROUND(H41*(I41+1),2) -> 88.49 | K41: =ROUND(J41*G41,2) -> 76.1
B42: 3.4 | C42: Preparo de fundo de vala com largura menor que 1,5 m (acerto do solo natural) | D42: 101616 | E42: SINAPI | F42: m² | G42: =ROUND('Q-Extravasor'!$AS$32,2) -> 32.83 | H42: 6.88 | I42: =$K$6 -> 0.2698 | J42: =ROUND(H42*(I42+1),2) -> 8.74 | K42: =ROUND(J42*G42,2) -> 286.93
B43: 3.5 | C43: Preparo de fundo de vala com largura menor que 1,5m, com camada de areia, lançamento manual | D43: 101618 | E43: SINAPI | F43: m³ | G43: =ROUND('Q-Extravasor'!$AO$32,2) -> 8.26 | H43: 218.93 | I43: =$K$6 -> 0.2698 | J43: =ROUND(H43*(I43+1),2) -> 278 | K43: =ROUND(J43*G43,2) -> 2296.28
B44: 3.6 | C44: Preparo de fundo de vala com largura menor que 1,5m, com camada de brita, lançamento manual | D44: 101619 | E44: SINAPI | F44: m³ | G44: =ROUND('Q-Extravasor'!$AM$32,2) -> 0.49 | H44: 255.68 | I44: =$K$6 -> 0.2698 | J44: =ROUND(H44*(I44+1),2) -> 324.66 | K44: =ROUND(J44*G44,2) -> 159.08
B45: 3.7 | C45: Aterro de valas, poços e cavas compactado mecanicamente, com controle do G.C. >= 95% do E.N.C. | D45: 70030026 | E45: SABESP | F45: m³ | G45: =ROUND('Q-Extravasor'!$AQ$30,2) -> 14.53 | H45: =26.01/1.28 -> 20.320312 | I45: =$K$6 -> 0.2698 | J45: =ROUND(H45*(I45+1),2) -> 25.8 | K45: =ROUND(J45*G45,2) -> 374.87
B46: 3.8 | C46: Aterro de valas, poços e cavas compactado mecanicamente, sem controle do G.C. | D46: 70030025 | E46: SABESP | F46: m³ | G46: =ROUND('Q-Extravasor'!$AR$30,2) -> 17.1 | H46: =9.05/1.28 -> 7.0703125 | I46: =$K$6 -> 0.2698 | J46: =ROUND(H46*(I46+1),2) -> 8.98 | K46: =ROUND(J46*G46,2) -> 153.56
B47: 3.9 | C47: Carga, manobra e descarga de solos e materiais granulares em caminhão basculante 18 m³ - carga com escavadeira hidráulica (caçamba de 1,20m³ / 155HP) e descarga livre | D47: 100980 | E47: SINAPI | F47: m³ | G47: =ROUND('Q-Extravasor'!$BA$30,2) -> 12.83 | H47: 6.4 | I47: =$K$6 -> 0.2698 | J47: =ROUND(H47*(I47+1),2) -> 8.13 | K47: =ROUND(J47*G47,2) -> 104.31
B48: 3.10 | C48: Transporte com caminhão basculante de 18 m³, em via urbana pavimentada, DMT até 30 km | D48: 95877 | E48: SINAPI | F48: m³xkm | G48: =ROUND('Q-Extravasor'!$BB$30,2) -> 192.45 | H48: 1.88 | I48: =$K$6 -> 0.2698 | J48: =ROUND(H48*(I48+1),2) -> 2.39 | K48: =ROUND(J48*G48,2) -> 459.96
B49: 3.11 | C49: Carga, manobra e descarga de solos e materiais granulares em caminhão basculante 10 m³ - carga com escavadeira hidráulica (caçamba de 1,20m³ / 155HP) e descarga livre | D49: 100978 | E49: SINAPI | F49: m³ | G49: =ROUND('Q-Extravasor'!$BC$30+'Q-Extravasor'!$BE$30,2) -> 11.22 | H49: 7.15 | I49: =$K$6 -> 0.2698 | J49: =ROUND(H49*(I49+1),2) -> 9.08 | K49: =ROUND(J49*G49,2) -> 101.88
B50: 3.12 | C50: Transporte com caminhão basculante de 10 m³, em via urbana pavimentada, DMT até 30 km | D50: 95875 | E50: SINAPI | F50: m³xkm | G50: =ROUND('Q-Extravasor'!$BD$30+'Q-Extravasor'!$BF$30,2) -> 168.31 | H50: 2.56 | I50: =$K$6 -> 0.2698 | J50: =ROUND(H50*(I50+1),2) -> 3.25 | K50: =ROUND(J50*G50,2) -> 547.01
C52: Subtotal 3 | J52: =ROUND(H52*(I52+1),2) -> 0 | K52: =SUM(K39:K51) -> 7087.42
...

Sheet ME-Extravasor
B2: SAMAE | C2: SERVIÇO AUTÔNOMO MUNICIPAL DE ÁGUA E ESGOTO DE MOGI GUAÇU | H2: Referência de Preços
C3: PLANILHA DE ORÇAMENTO | H3: SINAPI Desonerado I0: | K3: Novembro/2023
B4: OBRA | C4: PROJETO EXECUTIVO DE IMPLANTAÇÃO DE | H4: SABESP Io: | K4: Novembro/2023
C5: NOVO RESERVATÓRIO METÁLICO NO SETOR EUCALIPTOS | H5: BDI (apenas SINAPI)
C6: INTERLIGAÇÃO DO EXTRAVASOR E DESCARGA | H6: Obras Civis e Serviços: | K6: 0.2698 | L6: 0
C7: MATERIAIS E EQUIPAMENTOS | H7: Materiais e Equipamentos: | K7: 0.168
B8: Item | C8: Discriminação | D8: Código | E8: Fonte | F8: Unid. | G8: Quant. | H8: Preço Unitário sem BDI (R$) | I8: BDI Aplicado (%) | J8: Preço Unitário com BDI (R$) | K8: Preço Total com BDI (R$)
B10: =B14 -> 1 | C10: =UPPER(C14) -> FORNECIMENTO DE MATERIAIS E EQUIPAMENTOS | K10: =K33 -> 131077.09
C12: TOTAL | K12: =SUM(K9:K11) -> 131077.09
B14: 1 | C14: Fornecimento de Materiais e Equipamentos | J14: =ROUND(H14*(I14+1),2) -> 0
B15: 1.1 | C15: ='Resumo Preços'!$D$32 -> Curva 90° com flanges Ø 500mm, flange conf. ISO 2531 PN-10, em ferro fundido, para água | D15: ='Resumo Preços'!$C$32 -> HM02986 | E15: ='Resumo Preços'!$F$32 -> SABESP | F15: ='Resumo Preços'!$E$32 -> pç | G15: 2 | H15: =ROUND('Resumo Preços'!$L$32,2) -> 11508.02 | I15: =$K$7 -> 0.168 | J15: =ROUND(H15*(I15+1),2) -> 13441.37 | K15: =ROUND(G15*J15,2) -> 26882.74 | M15: =ROUND(G15*H15,2) -> 23016.04 | N15: 174 | O15: =ROUND(G15*N15,2) -> 348
B16: 1.2 | C16: ='Resumo Preços'!$D$33 -> Curva 90° com flanges e pé Ø 500mm, flange conf. ISO 2531 PN-10, em ferro fundido, para água | D16: ='Resumo Preços'!$C$33 -> HM03019 | E16: ='Resumo Preços'!$F$33 -> SABESP | F16: ='Resumo Preços'!$E$33 -> pç | G16: 1 | H16: =ROUND('Resumo Preços'!$L$33,2) -> 19663.12 | I16: =$K$7 -> 0.168 | J16: =ROUND(H16*(I16+1),2) -> 22966.52 | K16: =ROUND(G16*J16,2) -> 22966.52 | M16: =ROUND(G16*H16,2) -> 19663.12 | N16: 276 | O16: =ROUND(G16*N16,2) -> 276
B17: 1.3 | C17: ='Resumo Preços'!$D$34 -> Tubo com flanges, Ø 500mm, L = 5,80m, flange conf. ISO 2531 PN-10, em ferro fundido, para água | D17: ='Resumo Preços'!$C$34 -> HM03665 | E17: ='Resumo Preços'!$F$34 -> SABESP | F17: ='Resumo Preços'!$E$34 -> pç | G17: 2 | H17: =ROUND('Resumo Preços'!$L$34,2) -> 15655.55 | I17: =$K$7 -> 0.168 | J17: =ROUND(H17*(I17+1),2) -> 18285.68 | K17: =ROUND(G17*J17,2) -> 36571.36 | M17: =ROUND(G17*H17,2) -> 31311.1 | N17: =ROUND((121.8*5.8)+38+38,2) -> 782.44 | O17: =ROUND(G17*N17,2) -> 1564.88
B18: 1.4 | C18: ='Resumo Preços'!$D$35 -> Tubo com flanges, Ø 500mm, L = 3,77m, flange conf. ISO 2531 PN-10, em ferro fundido, para água | D18: ='Resumo Preços'!$C$35 -> HM03661 | E18: ='Resumo Preços'!$F$35 -> SABESP | F18: ='Resumo Preços'!$E$35 -> pç | G18: 1 | H18: =ROUND('Resumo Preços'!$L$35,2) -> 12467.25 | I18: =$K$7 -> 0.168 | J18: =ROUND(H18*(I18+1),2) -> 14561.75 | K18: =ROUND(G18*J18,2) -> 14561.75 | M18: =ROUND(G18*H18,2) -> 12467.25 | N18: =ROUND((121.8*3.77)+38+38,2) -> 535.19 | O18: =ROUND(G18*N18,2) -> 535.19
B19: 1.5 | C19: ='Resumo Preços'!$D$36 -> Tubo com pontas, Ø 500mm, L = 3,00m, em ferro fundido, para água | D19: ='Resumo Preços'!$C$36 -> HM04111 | E19: ='Resumo Preços'!$F$36 -> SABESP | F19: ='Resumo Preços'!$E$36 -> pç | G19: 1 | H19: =ROUND('Resumo Preços'!$L$36,2) -> 3683.13 | I19: =$K$7 -> 0.168 | J19: =ROUND(H19*(I19+1),2) -> 4301.9 | K19: =ROUND(G19*J19,2) -> 4301.9 | M19: =ROUND(G19*H19,2) -> 3683.13
B20: 1.6 | C20: ='Resumo Preços'!$D$37 -> Toco com flanges, Ø 150mm, L = 0,50m, flange conf. ISO 2531 PN-10, em ferro fundido, para água | D20: ='Resumo Preços'!$C$37 -> HM03511 | E20: ='Resumo Preços'!$F$37 -> SABESP | F20: ='Resumo Preços'!$E$37 -> pç | G20: 1 | H20: =ROUND('Resumo Preços'!$L$37,2) -> 598.59 | I20: =$K$7 -> 0.168 | J20: =ROUND(H20*(I20+1),2) -> 699.15 | K20: =ROUND(G20*J20,2) -> 699.15 | M20: =ROUND(G20*H20,2) -> 598.59 | N20: 32 | O20: =ROUND(G20*N20,2) -> 32
B21: 1.7 | C21: ='Resumo Preços'!$D$38 -> Curva 90° com flanges Ø 150mm, flange conf. ISO 2531 PN-10, em ferro fundido, para água | D21: ='Resumo Preços'!$C$38 -> HM03003 | E21: ='Resumo Preços'!$F$38 -> SABESP | F21: ='Resumo Preços'!$E$38 -> pç | G21: 1 | H21: =ROUND('Resumo Preços'!$L$38,2) -> 714.69 | I21: =$K$7 -> 0.168 | J21: =ROUND(H21*(I21+1),2) -> 834.76 | K21: =ROUND(G21*J21,2) -> 834.76 | M21: =ROUND(G21*H21,2) -> 714.69 | N21: 18 | O21: =ROUND(G21*N21,2) -> 18
B22: 1.8 | C22: ='Resumo Preços'!$D$39 -> Tubo com flanges, Ø 150mm, L = 2,20m, flange conf. ISO 2531 PN-10, em ferro fundido, para água | D22: ='Resumo Preços'!$C$39 -> HM03577 | E22: ='Resumo Preços'!$F$39 -> SABESP | F22: ='Resumo Preços'!$E$39 -> pç | G22: 1 | H22: =ROUND('Resumo Preços'!$L$39,2) -> 3130.31 | I22: =$K$7 -> 0.168 | J22: =ROUND(H22*(I22+1),2) -> 3656.2 | K22: =ROUND(G22*J22,2) -> 3656.2 | M22: =ROUND(G22*H22,2) -> 3130.31 | N22: =ROUND((26*2.2)+8+8,2) -> 73.2 | O22: =ROUND(G22*N22,2) -> 73.2
B23: 1.9 | C23: ='Resumo Preços'!$D$40 -> Registro de gaveta Ø 150mm, com flanges, cunha emborrachada, corpo curto e acionamento manual através de cabeçote, flange conf. ISO 2531 PN-10, em ferro fundido, para água | D23: ='Resumo Preços'!$C$40 -> HM07080 | E23: ='Resumo Preços'!$F$40 -> SABESP | F23: ='Resumo Preços'!$E$40 -> pç | G23: 1 | H23: =ROUND('Resumo Preços'!$L$40,2) -> 1260.24 | I23: =$K$7 -> 0.168 | J23: =ROUND(H23*(I23+1),2) -> 1471.96 | K23: =ROUND(G23*J23,2) -> 1471.96
B24: 1.10 | C24: ='Resumo Preços'!$D$41 -> Tubo com pontas, Ø 100mm, em PVC ocre | D24: ='Resumo Preços'!$C$41 -> 36365 | E24: ='Resumo Preços'!$F$41 -> SINAPI | F24: ='Resumo Preços'!$E$41 -> m | G24: 43 | H24: =ROUND('Resumo Preços'!$L$41,2) -> 43.79 | I24: =$K$7 -> 0.168 | J24: =ROUND(H24*(I24+1),2) -> 51.15 | K24: =ROUND(G24*J24,2) -> 2199.45
B25: 1.11 | C25: ='Resumo Preços'!$D$42 -> Flange avulso soldável Ø 100mm, em PVC | D25: ='Resumo Preços'!$C$42 -> PVC-01 | E25: Cotação | F25: ='Resumo Preços'!$E$42 -> pç | G25: 1 | H25: =ROUND('Resumo Preços'!$L$42,2) -> 124.66 | I25: =$K$7 -> 0.168 | J25: =ROUND(H25*(I25+1),2) -> 145.6 | K25: =ROUND(G25*J25,2) -> 145.6
B26: 1.12 | C26: ='Resumo Preços'!$D$43 -> Válvula tipo flap com flanges, Ø 100mm, flange conf. ISO 2531 PN-10, em ferro fundido, para água | D26: ='Resumo Preços'!$C$43 -> VALV-02 | E26: Cotação | F26: ='Resumo Preços'!$E$43 -> pç | G26: 1 | H26: =ROUND('Resumo Preços'!$L$43,2) -> 3800 | I26: =$K$7 -> 0.168 | J26: =ROUND(H26*(I26+1),2) -> 4438.4 | K26: =ROUND(G26*J26,2) -> 4438.4
B27: 1.13 | C27: ='Resumo Preços'!$D$44 -> Acessórios para montagem de flanges Ø 500mm, flange conf. ISO 2531 PN-10 | D27: ='Resumo Preços'!$C$44 -> HM01301 | E27: ='Resumo Preços'!$F$44 -> SABESP | F27: ='Resumo Preços'!$E$44 -> cj | G27: 6 | H27: =ROUND('Resumo Preços'!$L$44,2) -> 730.6 | I27: =$K$7 -> 0.168 | J27: =ROUND(H27*(I27+1),2) -> 853.34 | K27: =ROUND(G27*J27,2) -> 5120.04 | M27: =ROUND(G27*H27,2) -> 4383.6 | N27: =ROUND((1*1.235)+(1*11),2) -> 12.24 | O27: =ROUND(G27*N27,2) -> 73.44
B28: 1.14 | C28: ='Resumo Preços'!$D$45 -> Acessórios para montagem de flanges Ø 150mm, flange conf. ISO 2531 PN-10 | D28: ='Resumo Preços'!$C$45 -> HM01293 | E28: ='Resumo Preços'!$F$45 -> SABESP | F28: ='Resumo Preços'!$E$45 -> cj | G28: 4 | H28: =ROUND('Resumo Preços'!$L$45,2) -> 184.08 | I28: =$K$7 -> 0.168 | J28: =ROUND(H28*(I28+1),2) -> 215.01 | K28: =ROUND(G28*J28,2) -> 860.04 | M28: =ROUND(G28*H28,2) -> 736.32 | N28: =ROUND((1*0.203)+(1*2.7),2) -> 2.9 | O28: =ROUND(G28*N28,2) -> 11.6
B29: 1.15 | C29: ='Resumo Preços'!$D$46 -> Acessórios para montagem de flanges Ø 100mm, flange conf. ISO 2531 PN-10 | D29: ='Resumo Preços'!$C$46 -> HM01292 | E29: ='Resumo Preços'!$F$46 -> SABESP | F29: ='Resumo Preços'!$E$46 -> cj | G29: 1 | H29: =ROUND('Resumo Preços'!$L$46,2) -> 115.92 | I29: =$K$7 -> 0.168 | J29: =ROUND(H29*(I29+1),2) -> 135.39 | K29: =ROUND(G29*J29,2) -> 135.39 | M29: =ROUND(G29*H29,2) -> 115.92 | N29: =ROUND((1*0.143)+(1*1.4),2) -> 1.54 | O29: =ROUND(G29*N29,2) -> 1.54
B30: 1.16 | C30: ='SUP-02'!$C$8 -> Suporte para tubulação de reservatório Ø 500mm - FºFº - Tipo 2 | D30: ='SUP-02'!$C$7 -> SUP-02 | E30: ='SUP-02'!$C$6 -> COMP. | F30: ='SUP-02'!$C$10 -> cj | G30: 6 | H30: =ROUND('SUP-02'!$H$24,2) -> 425.9 | I30: =$K$7 -> 0.168 | J30: =ROUND(H30*(I30+1),2) -> 497.45 | K30: =ROUND(G30*J30,2) -> 2984.7
B31: 1.17 | C31: ='Resumo Preços'!$D$47 -> Grade de fibra de vidro com barras de H = 38 mm, espaçamento 32 mm | D31: ='Resumo Preços'!$C$47 -> 70110172 | E31: ='Resumo Preços'!$F$47 -> SABESP | F31: ='Resumo Preços'!$E$47 -> m² | G31: =ROUND(1.3*1.3*1,2) -> 1.69 | H31: =ROUND('Resumo Preços'!$L$47,2) -> 1645.02 | I31: =$K$7 -> 0.168 | J31: =ROUND(H31*(I31+1),2) -> 1921.38 | K31: =ROUND(G31*J31,2) -> 3247.13
J32: =ROUND(H32*(I32+1),2) -> 0
C33: Subtotal 1 | J33: =ROUND(H33*(I33+1),2) -> 0 | K33: =SUM(K15:K32) -> 131077.09 | M33: =SUM(M15:M32) -> 99820.07 | N33: =ROUND(M33*0.2,2) -> 19964.01 | O33: =SUM(O15:O32) -> 2933.85 | P33: kg flanges
C36: TOTAL | K36: =SUM(K14:K35)/2 -> 131077.09

Sheet OS-Saída
B2: SAMAE | C2: SERVIÇO AUTÔNOMO MUNICIPAL DE ÁGUA E ESGOTO DE MOGI GUAÇU | H2: Referência de Preços
C3: PLANILHA DE ORÇAMENTO | H3: SINAPI Desonerado I0: | K3: Novembro/2023
B4: OBRA | C4: PROJETO EXECUTIVO DE IMPLANTAÇÃO DE | H4: SABESP Io: | K4: Novembro/2023
C5: NOVO RESERVATÓRIO METÁLICO NO SETOR EUCALIPTOS | H5: BDI (apenas SINAPI)
C6: INTERLIGAÇÃO DE SAÍDA DO RESERVATÓRIO | H6: Obras Civis e Serviços: | K6: 0.2698 | L6: 0
C7: OBRAS CIVIS E SERVIÇOS | H7: Materiais e Equipamentos: | K7: 0.168
B8: Item | C8: Discriminação | D8: Código | E8: Fonte | F8: Unid. | G8: Quant. | H8: Preço Unitário sem BDI (R$) | I8: BDI Aplicado (%) | J8: Preço Unitário com BDI (R$) | K8: Preço Total com BDI (R$)
B10: =B26 -> 1 | C10: =UPPER(C26) -> SERVIÇOS TÉCNICOS | K10: =K30 -> 457.62
B12: =B32 -> 2 | C12: =UPPER(C32) -> SERVIÇOS PRELIMINARES | K12: =K36 -> 981.86
B14: =B38 -> 3 | C14: =UPPER(C38) -> MOVIMENTO DE TERRA | K14: =K50 -> 9928.49
B16: =B52 -> 4 | C16: =UPPER(C52) -> ESCORAMENTOS | K16: =K55 -> 2553.28
B18: =B57 -> 5 | C18: =UPPER(C57) -> ACESSÓRIOS | K18: =K64 -> 3433.48
B20: =B66 -> 6 | C20: =UPPER(C66) -> ASSENTAMENTO E MONTAGEM DE TUBOS E PEÇAS | K20: =K77 -> 14264.29
B22: =B79 -> 7 | C22: =UPPER(C79) -> SERVIÇOS DIVERSOS | K22: =K82 -> 1095.97
C24: TOTAL | K24: =SUM(K9:K23) -> 32714.99
B26: 1 | C26: Serviços Técnicos | J26: =ROUND(H26*(I26+1),2) -> 0
B27: 1.1 | C27: Locação de adutoras, coletores-tronco e interceptores (até diâm. 500 mm) | D27: 70010003 | E27: SABESP | F27: m | G27: =ROUND('Q-Saída'!$P$13,2) -> 58 | H27: =1.74/1.28 -> 1.359375 | I27: =$K$6 -> 0.2698 | J27: =ROUND(H27*(I27+1),2) -> 1.73 | K27: =ROUND(J27*G27,2) -> 100.34
B28: 1.2 | C28: Cadastro de adutoras, coletores-tronco e interceptores (até diâm. 500 mm) | D28: 70010006 | E28: SABESP | F28: m | G28: =ROUND('Q-Saída'!$P$13,2) -> 58 | H28: =6.21/1.28 -> 4.8515625 | I28: =$K$6 -> 0.2698 | J28: =ROUND(H28*(I28+1),2) -> 6.16 | K28: =ROUND(J28*G28,2) -> 357.28
J29: =ROUND(H29*(I29+1),2) -> 0 | K29: =ROUND(J29*G29,2) -> 0
C30: Subtotal 1 | J30: =ROUND(H30*(I30+1),2) -> 0 | K30: =SUM(K27:K29) -> 457.62
J31: =ROUND(H31*(I31+1),2) -> 0
B32: 2 | C32: Serviços Preliminares
B33: 2.1 | C33: Tapume contínuo em chapas de madeira | D33: 70020003 | E33: SABESP | F33: m | G33: =ROUND('Q-Saída'!$AK$13,2) -> 38.67 | H33: =11.71/1.28 -> 9.1484375 | I33: =$K$6 -> 0.2698 | J33: =ROUND(H33*(I33+1),2) -> 11.62 | K33: =ROUND(J33*G33,2) -> 449.35
B34: 2.2 | C34: Passadiços de madeira para pedestres | D34: 70020006 | E34: SABESP | F34: m² | G34: =ROUND('Q-Saída'!$AL$13,2) -> 3.48 | H34: =154.25/1.28 -> 120.50781 | I34: =$K$6 -> 0.2698 | J34: =ROUND(H34*(I34+1),2) -> 153.02 | K34: =ROUND(J34*G34,2) -> 532.51
C36: Subtotal 2 | J36: =ROUND(H36*(I36+1),2) -> 0 | K36: =SUM(K33:K35) -> 981.86
J37: =ROUND(H37*(I37+1),2) -> 0
B38: 3 | C38: Movimento de Terra
B39: 3.1 | C39: Raspagem da camada superficial | D39: 70030041 | E39: SABESP | F39: m² | G39: =ROUND('Q-Saída'!$Q$13,2) -> 92.8 | H39: =2.12/1.28 -> 1.65625 | I39: =$K$6 -> 0.2698 | J39: =ROUND(H39*(I39+1),2) -> 2.1 | K39: =ROUND(J39*G39,2) -> 194.88
B40: 3.2 | C40: Escavação manual de valas, poços e cavas em solo não rochoso, c/prof. até 1,25m | D40: 70030050 | E40: SABESP | F40: m³ | G40: =ROUND('Q-Saída'!$Z$13,2) -> 84.1 | H40: =59.47/1.28 -> 46.460938 | I40: =$K$6 -> 0.2698 | J40: =ROUND(H40*(I40+1),2) -> 59 | K40: =ROUND(J40*G40,2) -> 4961.9
B41: 3.3 | C41: Preparo de fundo de vala com largura menor que 1,5 m (acerto do solo natural) | D41: 101616 | E41: SINAPI | F41: m² | G41: =ROUND('Q-Saída'!$AS$15,2) -> 58 | H41: 6.88 | I41: =$K$6 -> 0.2698 | J41: =ROUND(H41*(I41+1),2) -> 8.74 | K41: =ROUND(J41*G41,2) -> 506.92
B42: 3.4 | C42: Preparo de fundo de vala com largura menor que 1,5m, com camada de brita, lançamento manual | D42: 101619 | E42: SINAPI | F42: m³ | G42: =ROUND('Q-Saída'!$AM$15,2) -> 5.8 | H42: 255.68 | I42: =$K$6 -> 0.2698 | J42: =ROUND(H42*(I42+1),2) -> 324.66 | K42: =ROUND(J42*G42,2) -> 1883.03
B43: 3.5 | C43: Aterro de valas, poços e cavas compactado mecanicamente, com controle do G.C. >= 95% do E.N.C. | D43: 70030026 | E43: SABESP | F43: m³ | G43: =ROUND('Q-Saída'!$AQ$13,2) -> 23.2 | H43: =26.01/1.28 -> 20.320312 | I43: =$K$6 -> 0.2698 | J43: =ROUND(H43*(I43+1),2) -> 25.8 | K43: =ROUND(J43*G43,2) -> 598.56
B44: 3.6 | C44: Aterro de valas, poços e cavas compactado mecanicamente, sem controle do G.C. | D44: 70030025 | E44: SABESP | F44: m³ | G44: =ROUND('Q-Saída'!$AR$13,2) -> 42.21 | H44: =9.05/1.28 -> 7.0703125 | I44: =$K$6 -> 0.2698 | J44: =ROUND(H44*(I44+1),2) -> 8.98 | K44: =ROUND(J44*G44,2) -> 379.05
B45: 3.7 | C45: Carga, manobra e descarga de solos e materiais granulares em caminhão basculante 18 m³ - carga com escavadeira hidráulica (caçamba de 1,20m³ / 155HP) e descarga livre | D45: 100980 | E45: SINAPI | F45: m³ | G45: =ROUND('Q-Saída'!$BA$13,2) -> 24.3 | H45: 6.4 | I45: =$K$6 -> 0.2698 | J45: =ROUND(H45*(I45+1),2) -> 8.13 | K45: =ROUND(J45*G45,2) -> 197.56
B46: 3.8 | C46: Transporte com caminhão basculante de 18 m³, em via urbana pavimentada, DMT até 30 km | D46: 95877 | E46: SINAPI | F46: m³xkm | G46: =ROUND('Q-Saída'!$BB$13,2) -> 364.51 | H46: 1.88 | I46: =$K$6 -> 0.2698 | J46: =ROUND(H46*(I46+1),2) -> 2.39 | K46: =ROUND(J46*G46,2) -> 871.18
B47: 3.9 | C47: Carga, manobra e descarga de solos e materiais granulares em caminhão basculante 10 m³ - carga com escavadeira hidráulica (caçamba de 1,20m³ / 155HP) e descarga livre | D47: 100978 | E47: SINAPI | F47: m³ | G47: =ROUND('Q-Saída'!$BC$13,2) -> 5.8 | H47: 7.15 | I47: =$K$6 -> 0.2698 | J47: =ROUND(H47*(I47+1),2) -> 9.08 | K47: =ROUND(J47*G47,2) -> 52.66
B48: 3.10 | C48: Transporte com caminhão basculante de 10 m³, em via urbana pavimentada, DMT até 30 km | D48: 95875 | E48: SINAPI | F48: m³xkm | G48: =ROUND('Q-Saída'!$BD$13,2) -> 87 | H48: 2.56 | I48: =$K$6 -> 0.2698 | J48: =ROUND(H48*(I48+1),2) -> 3.25 | K48: =ROUND(J48*G48,2) -> 282.75
C50: Subtotal 3 | J50: =ROUND(H50*(I50+1),2) -> 0 | K50: =SUM(K39:K49) -> 9928.49
B52: 4 | C52: Escoramentos
B53: 4.1 | C53: Pontaleteamento | D53: 70040005 | E53: SABESP | F53: m² | G53: =ROUND('Q-Saída'!$AG$13,2) -> 168.2 | H53: =15.3/1.28 -> 11.953125 | I53: =$K$6 -> 0.2698 | J53: =ROUND(H53*(I53+1),2) -> 15.18 | K53: =ROUND(J53*G53,2) -> 2553.28
...

Sheet ME-Saída
B2: SAMAE | C2: SERVIÇO AUTÔNOMO MUNICIPAL DE ÁGUA E ESGOTO DE MOGI GUAÇU | H2: Referência de Preços
C3: PLANILHA DE ORÇAMENTO | H3: SINAPI Desonerado I0: | K3: Novembro/2023
B4: OBRA | C4: PROJETO EXECUTIVO DE IMPLANTAÇÃO DE | H4: SABESP Io: | K4: Novembro/2023
C5: NOVO RESERVATÓRIO METÁLICO NO SETOR EUCALIPTOS | H5: BDI (apenas SINAPI)
C6: INTERLIGAÇÃO DE SAÍDA DO RESERVATÓRIO | H6: Obras Civis e Serviços: | K6: 0.2698 | L6: 0
C7: MATERIAIS E EQUIPAMENTOS | H7: Materiais e Equipamentos: | K7: 0.168
B8: Item | C8: Discriminação | D8: Código | E8: Fonte | F8: Unid. | G8: Quant. | H8: Preço Unitário sem BDI (R$) | I8: BDI Aplicado (%) | J8: Preço Unitário com BDI (R$) | K8: Preço Total com BDI (R$)
B10: =B14 -> 1 | C10: =UPPER(C14) -> FORNECIMENTO DE MATERIAIS E EQUIPAMENTOS | K10: =K28 -> 244873.85
C12: TOTAL | K12: =SUM(K9:K11) -> 244873.85
B14: 1 | C14: Fornecimento de Materiais e Equipamentos | J14: =ROUND(H14*(I14+1),2) -> 0
B15: 1.1 | C15: ='Resumo Preços'!$D$48 -> Curva 90° com bolsas JGS, Ø 500mm, em ferro fundido, para água | D15: ='Resumo Preços'!$C$48 -> HM02971 | E15: ='Resumo Preços'!$F$48 -> SABESP | F15: ='Resumo Preços'!$E$48 -> pç | G15: 1 | H15: =ROUND('Resumo Preços'!$L$48,2) -> 9711.89 | I15: =$K$7 -> 0.168 | J15: =ROUND(H15*(I15+1),2) -> 11343.49 | K15: =ROUND(G15*J15,2) -> 11343.49 | M15: =ROUND(G15*H15,2) -> 9711.89
B16: 1.2 | C16: ='Resumo Preços'!$D$49 -> Tubo com pontas, Ø 500mm, L = 4,70m (confirmar e ajustar em campo), em ferro fundido, para água | D16: ='Resumo Preços'!$C$49 -> HM04111 | E16: ='Resumo Preços'!$F$49 -> SABESP | F16: ='Resumo Preços'!$E$49 -> pç | G16: 1 | H16: =ROUND('Resumo Preços'!$L$49,2) -> 5770.24 | I16: =$K$7 -> 0.168 | J16: =ROUND(H16*(I16+1),2) -> 6739.64 | K16: =ROUND(G16*J16,2) -> 6739.64 | M16: =ROUND(G16*H16,2) -> 5770.24
B17: 1.3 | C17: ='Resumo Preços'!$D$50 -> Tubo ponta e bolsa JGS Ø 500mm, classe K7, L = 6,00m, em ferro fundido, para água | D17: ='Resumo Preços'!$C$50 -> HM04111 | E17: ='Resumo Preços'!$F$50 -> SABESP | F17: ='Resumo Preços'!$E$50 -> pç | G17: 7 | H17: =ROUND('Resumo Preços'!$L$50,2) -> 7366.26 | I17: =$K$7 -> 0.168 | J17: =ROUND(H17*(I17+1),2) -> 8603.79 | K17: =ROUND(G17*J17,2) -> 60226.53 | M17: =ROUND(G17*H17,2) -> 51563.82
B18: 1.4 | C18: ='Resumo Preços'!$D$51 -> Curva 45° com bolsas JGS, Ø 500mm, em ferro fundido, para água | D18: ='Resumo Preços'!$C$51 -> HM02961 | E18: ='Resumo Preços'!$F$51 -> SABESP | F18: ='Resumo Preços'!$E$51 -> pç | G18: 2 | H18: =ROUND('Resumo Preços'!$L$51,2) -> 4566.89 | I18: =$K$7 -> 0.168 | J18: =ROUND(H18*(I18+1),2) -> 5334.13 | K18: =ROUND(G18*J18,2) -> 10668.26 | M18: =ROUND(G18*H18,2) -> 9133.78
B19: 1.5 | C19: ='Resumo Preços'!$D$52 -> Tubo com flange e ponta, Ø 500mm, L = 1,55m, flange conf. ISO 2531 PN-10, em ferro fundido, para água | D19: ='Resumo Preços'!$C$52 -> HM04027 | E19: ='Resumo Preços'!$F$52 -> SABESP | F19: ='Resumo Preços'!$E$52 -> pç | G19: 2 | H19: =ROUND('Resumo Preços'!$L$52,2) -> 6465.58 | I19: =$K$7 -> 0.168 | J19: =ROUND(H19*(I19+1),2) -> 7551.8 | K19: =ROUND(G19*J19,2) -> 15103.6 | M19: =ROUND(G19*H19,2) -> 12931.16 | N19: =ROUND((121.8*1.55)+38,2) -> 226.79 | O19: =ROUND(G19*N19,2) -> 453.58
B20: 1.6 | C20: ='Resumo Preços'!$D$53 -> Curva 45° com flanges Ø 500mm, flange conf. ISO 2531 PN-10, em ferro fundido, para água | D20: ='Resumo Preços'!$C$53 -> HM02982 | E20: ='Resumo Preços'!$F$53 -> SABESP | F20: ='Resumo Preços'!$E$53 -> pç | G20: 4 | H20: =ROUND('Resumo Preços'!$L$53,2) -> 8811.56 | I20: =$K$7 -> 0.168 | J20: =ROUND(H20*(I20+1),2) -> 10291.9 | K20: =ROUND(G20*J20,2) -> 41167.6 | M20: =ROUND(G20*H20,2) -> 35246.24 | N20: 138 | O20: =ROUND(G20*N20,2) -> 552
B21: 1.7 | C21: ='Resumo Preços'!$D$54 -> Tubo com flanges, Ø 500mm, L = 1,82m, flange conf. ISO 2531 PN-10, em ferro fundido, para água | D21: ='Resumo Preços'!$C$54 -> HM03657 | E21: ='Resumo Preços'!$F$54 -> SABESP | F21: ='Resumo Preços'!$E$54 -> pç | G21: 2 | H21: =ROUND('Resumo Preços'!$L$54,2) -> 8592.51 | I21: =$K$7 -> 0.168 | J21: =ROUND(H21*(I21+1),2) -> 10036.05 | K21: =ROUND(G21*J21,2) -> 20072.1 | M21: =ROUND(G21*H21,2) -> 17185.02 | N21: =ROUND((121.8*1.82)+38+38,2) -> 297.68 | O21: =ROUND(G21*N21,2) -> 595.36
B22: 1.8 | C22: ='Resumo Preços'!$D$55 -> Tê com flanges Ø 500mm x Ø 500mm, flange conf. ISO 2531 PN-10, em ferro fundido, para água | D22: ='Resumo Preços'!$C$55 -> HM03398 | E22: ='Resumo Preços'!$F$55 -> SABESP | F22: ='Resumo Preços'!$E$55 -> pç | G22: 1 | H22: =ROUND('Resumo Preços'!$L$55,2) -> 14188.07 | I22: =$K$7 -> 0.168 | J22: =ROUND(H22*(I22+1),2) -> 16571.67 | K22: =ROUND(G22*J22,2) -> 16571.67 | M22: =ROUND(G22*H22,2) -> 14188.07 | N22: 243 | O22: =ROUND(G22*N22,2) -> 243
