Workbook

Sheet BDI_Obra
A1: =PLANILHA_ORÇAMENTÁRIA!$A$1 -> PREFEITURA MUNICIPAL DE ITIRAPINA | E1: Construção de edifícios | F1: Administração Central | G1: 1º | H1: 0.03 | J1: Construção de edifícios | K1: 1º | L1: 0.2034
A2: =PLANILHA_ORÇAMENTÁRIA!$A$2 -> Avenida Um, 106 - Centro - CEP 13530-000 | E2: Construção de edifícios | F2: Administração Central | G2: 2º | H2: 0.04 | J2: Construção de edifícios | K2: 2º | L2: 0.2212
E3: Construção de edifícios | F3: Administração Central | G3: 3º | H3: 0.055 | J3: Construção de edifícios | K3: 3º | L3: 0.25
E4: Construção de edifícios | F4: Seguro + Garantia | G4: 1º | H4: 0.008 | J4: Construção de rodovias e ferrovias | K4: 1º | L4: 0.196
A5: DEMONSTRATIVO DE COMPOSIÇÃO DO BDI (acórdão 2622/2013-TCU-Plenário) | E5: Construção de edifícios | F5: Seguro + Garantia | G5: 2º | H5: 0.008 | J5: Construção de rodovias e ferrovias | K5: 2º | L5: 0.2097
E6: Construção de edifícios | F6: Seguro + Garantia | G6: 3º | H6: 0.01 | J6: Construção de rodovias e ferrovias | K6: 3º | L6: 0.2423
A7: Prefeitura do Municipio de Itirapina | E7: Construção de edifícios | F7: Risco | G7: 1º | H7: 0.0097 | J7: Construção de redes de abastecimento de água, coleta de esgoto e construções correlatas | K7: 1º | L7: 0.2076
A8: Processo n.º | B8: ST-PRC-2022-00302-DM | E8: Construção de edifícios | F8: Risco | G8: 2º | H8: 0.0127 | J8: Construção de redes de abastecimento de água, coleta de esgoto e construções correlatas | K8: 2º | L8: 0.2418
A9: ="Data da Elaboração: "&MID(B30,12,50) -> Data da Elaboração: 15 de abril de 2024 | E9: Construção de edifícios | F9: Risco | G9: 3º | H9: 0.0127 | J9: Construção de redes de abastecimento de água, coleta de esgoto e construções correlatas | K9: 3º | L9: 0.2644
A10: ="Objeto: "&PLANILHA_ORÇAMENTÁRIA!C6 -> Objeto: Reforma e pintura "EMEF Profª Marilei Schimidt de Oliveira" | E10: Construção de edifícios | F10: Despesa Financeira | G10: 1º | H10: 0.0059 | J10: Construção e manutenção de estações e redes de distribuição de energia elétrica | K10: 1º | L10: 0.24
E11: Construção de edifícios | F11: Despesa Financeira | G11: 2º | H11: 0.0123 | J11: Construção e manutenção de estações e redes de distribuição de energia elétrica | K11: 2º | L11: 0.2584
A12: COMPOSIÇÃO DO BDI (acórdão 2622/2013-TCU-Plenário) | E12: Construção de edifícios | F12: Despesa Financeira | G12: 3º | H12: 0.0139 | J12: Construção e manutenção de estações e redes de distribuição de energia elétrica | K12: 3º | L12: 0.2786
A13: Tipo de obra: | B13: Construção de edifícios | C13: Quartil | E13: Construção de edifícios | F13: Lucro | G13: 1º | H13: 0.0616 | J13: Obras portuárias, marítmas e fluviais | K13: 1º | L13: 0.228
A14: Desoneração: | B14: Sim | C14: 2º | E14: Construção de edifícios | F14: Lucro | G14: 2º | H14: 0.074 | J14: Obras portuárias, marítmas e fluviais | K14: 2º | L14: 0.2748
A15: ITENS | B15: DESCRIÇÃO | C15: % | E15: Construção de edifícios | F15: Lucro | G15: 3º | H15: 0.0896 | J15: Obras portuárias, marítmas e fluviais | K15: 3º | L15: 0.3095
A16: AC | B16: Administração Central | C16: =SUMPRODUCT(($E$1:$E$76=$B$13)*($F$1:$F$76=B16)*($G$1:$G$76=$C$14)*($H$1:$H$76)) -> 0.04 | E16: Construção de rodovias e ferrovias | F16: Administração Central | G16: 1º | H16: 0.038
A17: S + G | B17: Seguro + Garantia | C17: =SUMPRODUCT(($E$1:$E$76=$B$13)*($F$1:$F$76=B17)*($G$1:$G$76=$C$14)*($H$1:$H$76)) -> 0.008 | E17: Construção de rodovias e ferrovias | F17: Administração Central | G17: 2º | H17: 0.0401 | J17: Sim
A18: R | B18: Risco | C18: =SUMPRODUCT(($E$1:$E$76=$B$13)*($F$1:$F$76=B18)*($G$1:$G$76=$C$14)*($H$1:$H$76)) -> 0.0127 | E18: Construção de rodovias e ferrovias | F18: Administração Central | G18: 3º | H18: 0.0467 | J18: Não
A19: DF | B19: Despesa Financeira | C19: =SUMPRODUCT(($E$1:$E$76=$B$13)*($F$1:$F$76=B19)*($G$1:$G$76=$C$14)*($H$1:$H$76)) -> 0.0123 | E19: Construção de rodovias e ferrovias | F19: Seguro + Garantia | G19: 1º | H19: 0.0032
A20: L | B20: Lucro | C20: =SUMPRODUCT(($E$1:$E$76=$B$13)*($F$1:$F$76=B20)*($G$1:$G$76=$C$14)*($H$1:$H$76)) -> 0.074 | E20: Construção de rodovias e ferrovias | F20: Seguro + Garantia | G20: 2º | H20: 0.004 | J20: 1º
A21: l | B21: Impostos/tributos | C21: =C22+C23+C24+C25 -> 0.1315 | E21: Construção de rodovias e ferrovias | F21: Seguro + Garantia | G21: 3º | H21: 0.0074 | J21: 2º
B22: PIS | C22: 0.0065 | E22: Construção de rodovias e ferrovias | F22: Risco | G22: 1º | H22: 0.005 | J22: 3º
B23: COFINS | C23: 0.03 | E23: Construção de rodovias e ferrovias | F23: Risco | G23: 2º | H23: 0.0056
B24: ISS | C24: 0.05 | E24: Construção de rodovias e ferrovias | F24: Risco | G24: 3º | H24: 0.0097 | J24: Construção de edifícios
B25: Contribuição Previdenciária | C25: =IF(B14="Sim",4.5%,0) -> 0.045 | E25: Construção de rodovias e ferrovias | F25: Despesa Financeira | G25: 1º | H25: 0.0102 | J25: Construção de rodovias e ferrovias
A26: Taxa do BDI (%) | B26: =IF(C26>=SUMPRODUCT(($J$1:$J$15=B13)*($K$1:$K$15=C14)*($L$1:$L$15)),"OK","NÃO OK") -> OK | C26: =(((1+C16+C17+C18)*(1+C19)*(1+C20))/(1-C21))-1 -> 0.3278 | E26: Construção de rodovias e ferrovias | F26: Despesa Financeira | G26: 2º | H26: 0.0111 | J26: Construção de redes de abastecimento de água, coleta de esgoto e construções correlatas
E27: Construção de rodovias e ferrovias | F27: Despesa Financeira | G27: 3º | H27: 0.0121 | J27: Construção e manutenção de estações e redes de distribuição de energia elétrica
A28: =IF(B14="Sim","Declaramos sob pena da Lei que a alternativa adotada pela Prefeitura do Municipio de Itirapina é COM Desoneração e que esta é a mais vantajosa para a Administração Pública.","Declaramos sob pena da Lei que a alternativa adotada pela Prefeitura do Municipio de Itirapina é SEM Desoneração e que esta é a mais vantajosa para a Administração Pública.") -> Declaramos sob pena da Lei que a alternativa adotada pela Prefeitura do Municipio de Itirapina é COM Desoneração e que esta é a mais vantajosa para a Administração Pública. | E28: Construção de rodovias e ferrovias | F28: Lucro | G28: 1º | H28: 0.0664 | J28: Obras portuárias, marítmas e fluviais
E29: Construção de rodovias e ferrovias | F29: Lucro | G29: 2º | H29: 0.073
B30: =PLANILHA_ORÇAMENTÁRIA!$B$140 -> Itirapina, 15 de abril de 2024 | E30: Construção de redes de abastecimento de água, coleta de esgoto e construções correlatas | F30: Administração Central | G30: 1º | H30: 0.0343
E33: Construção de redes de abastecimento de água, coleta de esgoto e construções correlatas | F33: Administração Central | G33: 2º | H33: 0.0493
E34: Construção de redes de abastecimento de água, coleta de esgoto e construções correlatas | F34: Administração Central | G34: 3º | H34: 0.0671
E35: Construção de redes de abastecimento de água, coleta de esgoto e construções correlatas | F35: Seguro + Garantia | G35: 1º | H35: 0.0028
E36: Construção de redes de abastecimento de água, coleta de esgoto e construções correlatas | F36: Seguro + Garantia | G36: 2º | H36: 0.0049
B37: =PLANILHA_ORÇAMENTÁRIA!D150 -> Cristiano Ribeiro da Silva Carvalho | E37: Construção de redes de abastecimento de água, coleta de esgoto e construções correlatas | F37: Seguro + Garantia | G37: 3º | H37: 0.0075
B38: =PLANILHA_ORÇAMENTÁRIA!D151 -> ENGENHEIRO CIVIL | E38: Construção de redes de abastecimento de água, coleta de esgoto e construções correlatas | F38: Risco | G38: 1º | H38: 0.01
B39: =PLANILHA_ORÇAMENTÁRIA!D152 -> 5070497131 | E39: Construção de redes de abastecimento de água, coleta de esgoto e construções correlatas | F39: Risco | G39: 2º | H39: 0.0139
B40: Responsável Técnico | E40: Construção de redes de abastecimento de água, coleta de esgoto e construções correlatas | F40: Risco | G40: 3º | H40: 0.0174
E41: Construção de redes de abastecimento de água, coleta de esgoto e construções correlatas | F41: Despesa Financeira | G41: 1º | H41: 0.0094
E42: Construção de redes de abastecimento de água, coleta de esgoto e construções correlatas | F42: Despesa Financeira | G42: 2º | H42: 0.0099
...

Sheet BDI_Material
A1: =PLANILHA_ORÇAMENTÁRIA!$A$1 -> PREFEITURA MUNICIPAL DE ITIRAPINA | E1: Fornecimento de materiais e equipamentos | F1: Administração Central | G1: 1º | H1: 0.015 | J1: Fornecimento de materiais e equipamentos | K1: 1º | L1: 0.111
A2: =PLANILHA_ORÇAMENTÁRIA!$A$2 -> Avenida Um, 106 - Centro - CEP 13530-000 | E2: Fornecimento de materiais e equipamentos | F2: Administração Central | G2: 2º | H2: 0.0345 | J2: Fornecimento de materiais e equipamentos | K2: 2º | L2: 0.1402
E3: Fornecimento de materiais e equipamentos | F3: Administração Central | G3: 3º | H3: 0.0449 | J3: Fornecimento de materiais e equipamentos | K3: 3º | L3: 0.168
E4: Fornecimento de materiais e equipamentos | F4: Seguro + Garantia | G4: 1º | H4: 0.003
A5: DEMONSTRATIVO DE COMPOSIÇÃO DO BDI (acórdão 2622/2013-TCU-Plenário) | E5: Fornecimento de materiais e equipamentos | F5: Seguro + Garantia | G5: 2º | H5: 0.0048 | J5: Sim
E6: Fornecimento de materiais e equipamentos | F6: Seguro + Garantia | G6: 3º | H6: 0.0082 | J6: Não
A7: Prefeitura do Municipio de Itirapina | E7: Fornecimento de materiais e equipamentos | F7: Risco | G7: 1º | H7: 0.0056
A8: Processo n.º | B8: =BDI_Obra!B8 -> ST-PRC-2022-00302-DM | E8: Fornecimento de materiais e equipamentos | F8: Risco | G8: 2º | H8: 0.0085 | J8: 1º
A9: Data da Elaboração: | B9: =MID(B28,12,50) -> 15 de abril de 2024 | E9: Fornecimento de materiais e equipamentos | F9: Risco | G9: 3º | H9: 0.0089 | J9: 2º
A10: ="Objeto: "&PLANILHA_ORÇAMENTÁRIA!C6 -> Objeto: Reforma e pintura "EMEF Profª Marilei Schimidt de Oliveira" | E10: Fornecimento de materiais e equipamentos | F10: Despesa Financeira | G10: 1º | H10: 0.0085 | J10: 3º
E11: Fornecimento de materiais e equipamentos | F11: Despesa Financeira | G11: 2º | H11: 0.0085
A12: COMPOSIÇÃO DO BDI (acórdão 2622/2013-TCU-Plenário) | E12: Fornecimento de materiais e equipamentos | F12: Despesa Financeira | G12: 3º | H12: 0.0111
A13: Critério: | B13: Fornecimento de materiais e equipamentos | C13: Quartil | E13: Fornecimento de materiais e equipamentos | F13: Lucro | G13: 1º | H13: 0.035
A14: Desoneração: | B14: Sim | C14: 2º | E14: Fornecimento de materiais e equipamentos | F14: Lucro | G14: 2º | H14: 0.0511
A15: ITENS | B15: DESCRIÇÃO | C15: % | E15: Fornecimento de materiais e equipamentos | F15: Lucro | G15: 3º | H15: 0.0622
A16: AC | B16: Administração Central | C16: =SUMPRODUCT(($E$1:$E$15=$B$13)*($F$1:$F$15=B16)*($G$1:$G$15=$C$14)*($H$1:$H$15)) -> 0.0345
A17: S + G | B17: Seguro + Garantia | C17: =SUMPRODUCT(($E$1:$E$74=$B$13)*($F$1:$F$74=B17)*($G$1:$G$74=$C$14)*($H$1:$H$74)) -> 0.0048
A18: R | B18: Risco | C18: =SUMPRODUCT(($E$1:$E$74=$B$13)*($F$1:$F$74=B18)*($G$1:$G$74=$C$14)*($H$1:$H$74)) -> 0.0085
A19: DF | B19: Despesa Financeira | C19: =SUMPRODUCT(($E$1:$E$74=$B$13)*($F$1:$F$74=B19)*($G$1:$G$74=$C$14)*($H$1:$H$74)) -> 0.0085
A20: L | B20: Lucro | C20: =SUMPRODUCT(($E$1:$E$74=$B$13)*($F$1:$F$74=B20)*($G$1:$G$74=$C$14)*($H$1:$H$74)) -> 0.0511
A21: l | B21: Impostos/tributos | C21: =C22+C23 -> 0.0365
B22: PIS | C22: 0.0065
B23: COFINS | C23: 0.03
A24: Taxa do BDI (%) | B24: =IF(C24>=SUMPRODUCT(($J$1:$J$3=B13)*($K$1:$K$3=C14)*($L$1:$L$3)),"OK","NÃO OK") -> OK | C24: =(((1+C16+C17+C18)*(1+C19)*(1+C20))/(1-C21))-1 -> 0.1528
A26: =IF(B14="Sim","Declaramos sob pena da Lei que a alternativa adotada pela Prefeitura do Municipio de Itirapina é COM Desoneração e que esta é a mais vantajosa para a Administração Pública.","Declaramos sob pena da Lei que a alternativa adotada pela Prefeitura do Municipio de Itirapina é SEM Desoneração e que esta é a mais vantajosa para a Administração Pública.") -> Declaramos sob pena da Lei que a alternativa adotada pela Prefeitura do Municipio de Itirapina é COM Desoneração e que esta é a mais vantajosa para a Administração Pública.
B28: =PLANILHA_ORÇAMENTÁRIA!B140 -> Itirapina, 15 de abril de 2024
B35: =PLANILHA_ORÇAMENTÁRIA!D150 -> Cristiano Ribeiro da Silva Carvalho
B36: =PLANILHA_ORÇAMENTÁRIA!D151 -> ENGENHEIRO CIVIL
B37: =PLANILHA_ORÇAMENTÁRIA!D152 -> 5070497131
B38: Responsável Técnico
B43: CARLOS ALBERTO RODRIGUES
B44: CONTADOR
B45: CRC/SP 176154/O-6
B46: Gestor Contábil

Sheet B193DESO
B1: COMPANHIA DE DESENVOLVIMENTO HABITACIONAL E URBANO
A2: DO ESTADO DE SÃO PAULO
A3: BOLETIM REFERENCIAL DE CUSTOS - TABELA DE SERVIÇOS
A4: COM DESONERAÇÃO
F5: Versão 193
E6: Data Base: | F6: FEV/24
C7: BDI : | D7: 0 | E7: L.S.: | F7: 0.9778
A8: Referência | B8: Descrição | C8: Un | D8: Material | E8: Mão de Obra | F8: Custo Total
A9: 01 | B9: SERVICO TECNICO ESPECIALIZADO | G9: 2
A10: 01.02 | B10: Parecer técnico | G10: 5
A11: 01.02.071 | B11: Parecer técnico de fundações, contenções e recomendações gerais, para empreendimentos com área construída até 1.000 m² | C11: UN | E11: 5636.66 | F11: 5636.66 | G11: 9
A12: 01.02.081 | B12: Parecer técnico de fundações, contenções e recomendações gerais, para empreendimentos com área construída de 1.001 a 2.000 m² | C12: UN | E12: 7495.66 | F12: 7495.66 | G12: 9
A13: 01.02.091 | B13: Parecer técnico de fundações, contenções e recomendações gerais, para empreendimentos com área construída de 2.001 a 5.000 m² | C13: UN | E13: 12804.27 | F13: 12804.27 | G13: 9
A14: 01.02.101 | B14: Parecer técnico de fundações, contenções e recomendações gerais, para empreendimentos com área construída de 5.001 a 10.000 m² | C14: UN | E14: 17556.16 | F14: 17556.16 | G14: 9
A15: 01.02.111 | B15: Parecer técnico de fundações, contenções e recomendações gerais, para empreendimentos com área construída acima de 10.000 m² | C15: UN | E15: 20458.99 | F15: 20458.99 | G15: 9
A16: 01.06 | B16: Projeto de instalações elétricas | G16: 5
A17: 01.06.021 | B17: Elaboração de projeto de adequação de entrada de energia elétrica junto a concessionária, com medição em baixa tensão e demanda até 75 kVA | C17: UN | E17: 7199.56 | F17: 7199.56 | G17: 9
A18: 01.06.031 | B18: Elaboração de projeto de adequação de entrada de energia elétrica junto a concessionária, com medição em média tensão, subestação simplificada e demanda de 75 kVA a 300 kVA | C18: UN | E18: 12194.64 | F18: 12194.64 | G18: 9
A19: 01.06.032 | B19: Elaboração de projeto de adequação de entrada de energia elétrica junto a concessionária, com medição em média tensão e demanda de 75 kVA a 300 kVA | C19: UN | E19: 16501.64 | F19: 16501.64 | G19: 9
A20: 01.06.041 | B20: Elaboração de projeto de adequação de entrada de energia elétrica junto a concessionária, com medição em média tensão e demanda acima de 300 kVA a 2 MVA | C20: UN | E20: 21949.1 | F20: 21949.1 | G20: 9
A21: 01.17 | B21: Projeto executivo | G21: 5
A22: 01.17.031 | B22: Projeto executivo de arquitetura em formato A1 | C22: UN | E22: 2836.01 | F22: 2836.01 | G22: 9
A23: 01.17.041 | B23: Projeto executivo de arquitetura em formato A0 | C23: UN | E23: 3833.98 | F23: 3833.98 | G23: 9
A24: 01.17.051 | B24: Projeto executivo de estrutura em formato A1 | C24: UN | E24: 2079.88 | F24: 2079.88 | G24: 9
A25: 01.17.061 | B25: Projeto executivo de estrutura em formato A0 | C25: UN | E25: 2845.66 | F25: 2845.66 | G25: 9
A26: 01.17.071 | B26: Projeto executivo de instalações hidráulicas em formato A1 | C26: UN | E26: 892.89 | F26: 892.89 | G26: 9
A27: 01.17.081 | B27: Projeto executivo de instalações hidráulicas em formato A0 | C27: UN | E27: 1188.55 | F27: 1188.55 | G27: 9
A28: 01.17.111 | B28: Projeto executivo de instalações elétricas em formato A1 | C28: UN | E28: 991.52 | F28: 991.52 | G28: 9
A29: 01.17.121 | B29: Projeto executivo de instalações elétricas em formato A0 | C29: UN | E29: 1374.79 | F29: 1374.79 | G29: 9
A30: 01.17.151 | B30: Projeto executivo de climatização em formato A1 | C30: UN | E30: 1908.51 | F30: 1908.51 | G30: 9
A31: 01.17.161 | B31: Projeto executivo de climatização em formato A0 | C31: UN | E31: 2601.48 | F31: 2601.48 | G31: 9
A32: 01.17.171 | B32: Projeto executivo de chuveiros automáticos em formato A1 | C32: UN | E32: 1647.55 | F32: 1647.55 | G32: 9
A33: 01.17.181 | B33: Projeto executivo de chuveiros automáticos em formato A0 | C33: UN | E33: 2129.53 | F33: 2129.53 | G33: 9
A34: 01.20 | B34: Levantamento topográfico e geofísico | G34: 5
A35: 01.20.010 | B35: Taxa de mobilização e desmobilização de equipamentos para execução de levantamento topográfico | C35: TX | D35: 1200.72 | F35: 1200.72 | G35: 9
A36: 01.20.280 | B36: Levantamento planimétrico de área pavimentada para veículo e pedestre | C36: M2 | D36: 0.05 | E36: 0.13 | F36: 0.18 | G36: 9
A37: 01.20.691 | B37: Levantamento planimétrico cadastral com áreas ocupadas predominantemente por comunidades - área até 20.000 m² (mínimo de 3.500 m²) | C37: M2 | D37: 0.41 | E37: 0.46 | F37: 0.87 | G37: 9
A38: 01.20.701 | B38: Levantamento planimétrico cadastral com áreas ocupadas predominantemente por comunidades - área acima de 20.000 m² até 200.000 m² | C38: M2 | D38: 0.32 | E38: 0.35 | F38: 0.67 | G38: 9
A39: 01.20.711 | B39: Levantamento planimétrico cadastral com áreas ocupadas predominantemente por comunidades - área acima de 200.000 m² | C39: M2 | D39: 0.26 | E39: 0.29 | F39: 0.55 | G39: 9
A40: 01.20.721 | B40: Levantamento planimétrico cadastral com áreas até 50% de ocupação - área até 20.000 m² (mínimo de 3.500 m²) | C40: M2 | D40: 0.35 | E40: 0.4 | F40: 0.75 | G40: 9
...

Sheet PLANILHA_ORÇAMENTÁRIA
A1: PREFEITURA MUNICIPAL DE ITIRAPINA
A2: Avenida Um, 106 - Centro - CEP 13530-000
A4: PLANILHA ORÇAMENTÁRIA
A6: OBRA: | C6: Reforma e pintura "EMEF Profª Marilei Schimidt de Oliveira"
A7: ENDEREÇO: | C7: RUA CATAGUASES, n° 57, JD. NOVA ITIRAPINA, ITIRAPINA - SP. | N7: Data da medição: | Q7: Data da medição: | T7: Data da medição: | W7: Data da medição: | Z7: Data da medição:
A9: BASE: | C9: CDHU 193 - 02/2024 - SINAPI 03/2024 - Com desoneração | G9: BDI | H9: =BDI_Obra!$C$26 -> 0.3278 | K9: BDI | L9: =H9 -> 0.3278
K11: PROPOSTA EMPRESA | N11: 1ª MEDIÇÃO | Q11: 2ª MEDIÇÃO | T11: 3ª MEDIÇÃO | W11: 4ª MEDIÇÃO | Z11: 5ª MEDIÇÃO | AC11: ACUMULADO | AF11: SALDO | AI11: ADIÇÃO | AL11: SUPRESSÃO | AO11: SALDO
A12: ITEM | B12: FONTE | C12: CÓDIGO | D12: DESCRIÇÃO | E12: UNID. | F12: QUANT. | G12: VALOR UNITÁRIO | I12: MEMÓRIA DE CÁLCULO | J12: TOTAL + BDI | K12: V. UN. S/ BDI | L12: TOTAL + BDI | N12: Qtde | O12: Total | Q12: Qtde | R12: Total | T12: Qtde | U12: Total | W12: Qtde | X12: Total | Z12: Qtde | AA12: Total | AC12: Qtde | AD12: Total | AF12: Qtde | AG12: Total | AI12: Qtde | AJ12: Total | AL12: Qtde | AM12: Total | AO12: Qtde | AP12: Total
G13: SEM BDI | H13: COM BDI
A14: 1 | D14: SERVIÇOS PRELIMINARES GERAL | G14: =IF($B14="","",VLOOKUP($C14,'[1]BOLETIM 171'!$A$7:$F$4000,6,0)) | J14: =SUM(J15:J15) -> 1460.4 | L14: =SUM(L16:L36) -> #REF! | O14: =SUM(O16:O16) -> 0 | R14: =SUM(R16:R16) -> 0 | U14: =SUM(U16:U16) -> 0 | X14: =SUM(X16:X16) -> 0 | AA14: =SUM(AA16:AA16) -> 0 | AD14: =SUM(AD16:AD16) -> 0 | AG14: =SUM(AG16:AG16) -> 0 | AJ14: =SUM(AJ16:AJ16) -> 0 | AM14: =SUM(AM16:AM16) -> 0 | AP14: =SUM(AP16:AP16) -> 0
A15: 1.1 | B15: CDHU | C15: 02.08.050 | D15: =IF($B15="","",VLOOKUP($C15,B193DESO!$A$3:$G$16595,2,0)) -> Placa em lona com impressão digital e estrutura em madeira | E15: =IF($B15="","",VLOOKUP($C15,B193DESO!$A$3:$G$16595,3,0)) -> M2 | F15: =4*1.5 -> 6 | G15: =IF($B15="","",ROUND(VLOOKUP($C15,B193DESO!$A$3:$G$16595,6,0),2)) -> 183.31 | H15: =G15*(1+$H$9) -> 243.4 | J15: =H15*F15 -> 1460.4
A17: 2 | D17: SERVIÇOS PRELIMINARES BIBLIOTECA | G17: =IF($B17="","",VLOOKUP($C17,'[1]BOLETIM 161'!$A$7:$F$4000,6,0)) | J17: =SUM(J18:J20) -> 6097.19 | L17: =SUM(L19:L64) -> #REF! | O17: =SUM(O19:O22) -> 0 | R17: =SUM(R19:R22) -> 0 | U17: =SUM(U19:U22) -> 0 | X17: =SUM(X19:X22) -> 0 | AA17: =SUM(AA19:AA22) -> 0 | AD17: =SUM(AD19:AD22) -> 0 | AG17: =SUM(AG19:AG22) -> 0 | AJ17: =SUM(AJ19:AJ22) -> 0 | AM17: =SUM(AM19:AM22) -> 0 | AP17: =SUM(AP19:AP22) -> 0
A18: 2.1 | B18: CDHU | C18: 04.02.020 | D18: =IF($B18="","",VLOOKUP($C18,B193DESO!$A$3:$G$16595,2,0))&" - BANCOS DE MADEIRA" -> Retirada de peças lineares em madeira com seção até 60 cm² - BANCOS DE MADEIRA | E18: =IF($B18="","",VLOOKUP($C18,B193DESO!$A$3:$G$16595,3,0)) -> M | F18: 13 | G18: =IF($B18="","",ROUND(VLOOKUP($C18,B193DESO!$A$3:$G$16595,6,0),2)) -> 1.17 | H18: =G18*(1+$H$9) -> 1.55 | J18: =H18*F18 -> 20.15
A19: 2.2 | B19: CDHU | C19: 55.01.140 | D19: =IF($B19="","",VLOOKUP($C19,B193DESO!$A$3:$G$16595,2,0))&" - TELHADO + LAJE DE COBERTURA" -> Limpeza de superfície com hidrojateamento - TELHADO + LAJE DE COBERTURA | E19: =IF($B19="","",VLOOKUP($C19,B193DESO!$A$3:$G$16595,3,0)) -> M2 | F19: 363.21 | G19: =IF($B19="","",ROUND(VLOOKUP($C19,B193DESO!$A$3:$G$16595,6,0),2)) -> 8.07 | H19: =G19*(1+$H$9) -> 10.72 | J19: =H19*F19 -> 3893.61 | L19: =F18*K19*(1+$L$9) -> 0 | O19: =($L19/$F18)*N19 -> 0 | R19: =($L19/$F18)*Q19 -> 0 | U19: =($L19/$F18)*T19 -> 0 | X19: =($L19/$F18)*W19 -> 0 | AA19: =($L19/$F18)*Z19 -> 0 | AC19: =N19+Q19+T19+W19+Z19 -> 0 | AD19: =O19+R19+U19+X19+AA19 -> 0 | AF19: =F18-AC19 -> 13 | AG19: =L19-AD19 -> 0 | AJ19: =($L19/$F18)*AI19 -> 0 | AM19: =($L19/$F18)*AL19 -> 0 | AO19: =F18+AI19-AL19 -> 13 | AP19: =L19+AJ19-AM19 -> 0
A20: 2.3 | B20: CDHU | C20: 15.20.020 | D20: =IF($B20="","",VLOOKUP($C20,B193DESO!$A$3:$G$16595,2,0))&" - BANCOS" -> Fornecimento de peças diversas para estrutura em madeira - BANCOS | E20: =IF($B20="","",VLOOKUP($C20,B193DESO!$A$3:$G$16595,3,0)) -> M3 | F20: =0.4*1*0.06*13 -> 0.31 | G20: =IF($B20="","",ROUND(VLOOKUP($C20,B193DESO!$A$3:$G$6157,6,0),2)) -> 5304.51 | H20: =G20*(1+$H$9) -> 7043.33 | J20: =H20*F20 -> 2183.43
A22: 3 | D22: PINTURA BIBLIOTECA | G22: =IF($B22="","",VLOOKUP($C22,#REF!,6,0)) | J22: =SUM(J23:J30) -> 50702.7 | L22: =SUBTOTAL(9,L23:L23) -> 0 | O22: =SUBTOTAL(9,O23:O23) -> 0 | R22: =SUBTOTAL(9,R23:R23) -> 0 | U22: =SUBTOTAL(9,U23:U23) -> 0 | X22: =SUBTOTAL(9,X23:X23) -> 0 | AA22: =SUBTOTAL(9,AA23:AA23) -> 0 | AD22: =SUBTOTAL(9,AD23:AD23) -> 0 | AG22: =SUBTOTAL(9,AG23:AG23) -> 0 | AJ22: =SUBTOTAL(9,AJ23:AJ23) -> 0 | AM22: =SUBTOTAL(9,AM23:AM23) -> 0 | AP22: =SUBTOTAL(9,AP23:AP23) -> 0
A23: 3.1 | B23: CDHU | C23: 33.10.050 | D23: =IF($B23="","",VLOOKUP($C23,B193DESO!$A$3:$G$16595,2,0))&" - ESTRUTURA BANCOS" -> Tinta acrílica em massa, inclusive preparo - ESTRUTURA BANCOS | E23: =IF($B23="","",VLOOKUP($C23,B193DESO!$A$3:$G$16595,3,0)) -> M2 | F23: =8.05*26 -> 209.3 | G23: =IF($B23="","",ROUND(VLOOKUP($C23,B193DESO!$A$3:$G$16595,6,0),2)) -> 29.38 | H23: =G23*(1+$H$9) -> 39.01 | J23: =H23*F23 -> 8164.79 | L23: =F23*K23*(1+$L$9) -> 0 | O23: =($L23/$F23)*N23 -> 0 | R23: =($L23/$F23)*Q23 -> 0 | U23: =($L23/$F23)*T23 -> 0 | X23: =($L23/$F23)*W23 -> 0 | AA23: =($L23/$F23)*Z23 -> 0 | AC23: =N23+Q23+T23+W23+Z23 -> 0 | AD23: =O23+R23+U23+X23+AA23 -> 0 | AF23: =F23-AC23 -> 209.3 | AG23: =L23-AD23 -> 0 | AJ23: =($L23/$F23)*AI23 -> 0 | AM23: =($L23/$F23)*AL23 -> 0 | AO23: =F23+AI23-AL23 -> 209.3 | AP23: =L23+AJ23-AM23 -> 0
A24: 3.2 | B24: CDHU | C24: 33.10.050 | D24: =IF($B24="","",VLOOKUP($C24,B193DESO!$A$3:$G$16595,2,0))&" - PAREDES EXTERNAS" -> Tinta acrílica em massa, inclusive preparo - PAREDES EXTERNAS | E24: =IF($B24="","",VLOOKUP($C24,B193DESO!$A$3:$G$16595,3,0)) -> M2 | F24: ='LEVANTAMENTO QTT.'!F8-'LEVANTAMENTO QTT.'!J8 -> 85.28 | G24: =IF($B24="","",ROUND(VLOOKUP($C24,B193DESO!$A$3:$G$16595,6,0),2)) -> 29.38 | H24: =G24*(1+$H$9) -> 39.01 | J24: =H24*F24 -> 3326.77 | L24: =F24*K24*(1+$L$9) -> 0 | O24: =($L24/$F24)*N24 -> 0 | R24: =($L24/$F24)*Q24 -> 0 | U24: =($L24/$F24)*T24 -> 0 | X24: =($L24/$F24)*W24 -> 0 | AA24: =($L24/$F24)*Z24 -> 0 | AC24: =N24+Q24+T24+W24+Z24 -> 0 | AD24: =O24+R24+U24+X24+AA24 -> 0 | AF24: =F24-AC24 -> 85.28 | AG24: =L24-AD24 -> 0 | AJ24: =($L24/$F24)*AI24 -> 0 | AM24: =($L24/$F24)*AL24 -> 0 | AO24: =F24+AI24-AL24 -> 85.28 | AP24: =L24+AJ24-AM24 -> 0
A25: 3.3 | B25: CDHU | C25: 33.10.050 | D25: =IF($B25="","",VLOOKUP($C25,B193DESO!$A$3:$G$16595,2,0))&" - PAREDES INTERNAS" -> Tinta acrílica em massa, inclusive preparo - PAREDES INTERNAS | E25: =IF($B25="","",VLOOKUP($C25,B193DESO!$A$3:$G$16595,3,0)) -> M2 | F25: =('LEVANTAMENTO QTT.'!G8-'LEVANTAMENTO QTT.'!K8)-F26 -> 184.48 | G25: =IF($B25="","",ROUND(VLOOKUP($C25,B193DESO!$A$3:$G$16595,6,0),2)) -> 29.38 | H25: =G25*(1+$H$9) -> 39.01 | J25: =H25*F25 -> 7196.56 | L25: =F25*K25*(1+$L$9) -> 0 | O25: =($L25/$F25)*N25 -> 0 | R25: =($L25/$F25)*Q25 -> 0 | U25: =($L25/$F25)*T25 -> 0 | X25: =($L25/$F25)*W25 -> 0 | AA25: =($L25/$F25)*Z25 -> 0 | AC25: =N25+Q25+T25+W25+Z25 -> 0 | AD25: =O25+R25+U25+X25+AA25 -> 0 | AF25: =F25-AC25 -> 184.48 | AG25: =L25-AD25 -> 0 | AJ25: =($L25/$F25)*AI25 -> 0 | AM25: =($L25/$F25)*AL25 -> 0 | AO25: =F25+AI25-AL25 -> 184.48 | AP25: =L25+AJ25-AM25 -> 0
A26: 3.4 | B26: CDHU | C26: 33.10.041 | D26: =IF($B26="","",VLOOKUP($C26,B193DESO!$A$3:$G$16595,2,0))&" - PAREDES INTERNAS SALA DE ARTES" -> Esmalte à base de água em massa, inclusive preparo - PAREDES INTERNAS SALA DE ARTES | E26: =IF($B26="","",VLOOKUP($C26,B193DESO!$A$3:$G$16595,3,0)) -> M2 | F26: =(8+8+6+6)*2 -> 56 | G26: =IF($B26="","",ROUND(VLOOKUP($C26,B193DESO!$A$3:$G$16595,6,0),2)) -> 32.2 | H26: =G26*(1+$H$9) -> 42.76 | J26: =H26*F26 -> 2394.56 | L26: =F26*K26*(1+$L$9) -> 0 | O26: =($L26/$F26)*N26 -> 0 | R26: =($L26/$F26)*Q26 -> 0 | U26: =($L26/$F26)*T26 -> 0 | X26: =($L26/$F26)*W26 -> 0 | AA26: =($L26/$F26)*Z26 -> 0 | AC26: =N26+Q26+T26+W26+Z26 -> 0 | AD26: =O26+R26+U26+X26+AA26 -> 0 | AF26: =F26-AC26 -> 56 | AG26: =L26-AD26 -> 0 | AJ26: =($L26/$F26)*AI26 -> 0 | AM26: =($L26/$F26)*AL26 -> 0 | AO26: =F26+AI26-AL26 -> 56 | AP26: =L26+AJ26-AM26 -> 0
A27: 3.5 | B27: CDHU | C27: 33.10.050 | D27: =IF($B27="","",VLOOKUP($C27,B193DESO!$A$3:$G$16595,2,0))&" - LAJE DE FORRO" -> Tinta acrílica em massa, inclusive preparo - LAJE DE FORRO | E27: =IF($B27="","",VLOOKUP($C27,B193DESO!$A$3:$G$16595,3,0)) -> M2 | F27: 327.27 | G27: =IF($B27="","",ROUND(VLOOKUP($C27,B193DESO!$A$3:$G$16595,6,0),2)) -> 29.38 | H27: =G27*(1+$H$9) -> 39.01 | J27: =H27*F27 -> 12766.8 | L27: =F27*K27*(1+$L$9) -> 0 | O27: =($L27/$F27)*N27 -> 0 | R27: =($L27/$F27)*Q27 -> 0 | U27: =($L27/$F27)*T27 -> 0 | X27: =($L27/$F27)*W27 -> 0 | AA27: =($L27/$F27)*Z27 -> 0 | AC27: =N27+Q27+T27+W27+Z27 -> 0 | AD27: =O27+R27+U27+X27+AA27 -> 0 | AF27: =F27-AC27 -> 327.27 | AG27: =L27-AD27 -> 0 | AJ27: =($L27/$F27)*AI27 -> 0 | AM27: =($L27/$F27)*AL27 -> 0 | AO27: =F27+AI27-AL27 -> 327.27 | AP27: =L27+AJ27-AM27 -> 0
A28: 3.6 | B28: CDHU | C28: 33.05.010 | D28: =IF($B28="","",VLOOKUP($C28,B193DESO!$A$3:$G$16595,2,0))&" - MADEIRA DOS BANCOS" -> Verniz fungicida para madeira - MADEIRA DOS BANCOS | E28: =IF($B28="","",VLOOKUP($C28,B193DESO!$A$3:$G$16595,3,0)) -> M2 | F28: =0.5*13 -> 6.5 | G28: =IF($B28="","",ROUND(VLOOKUP($C28,B193DESO!$A$3:$G$16595,6,0),2)) -> 22.55 | H28: =G28*(1+$H$9) -> 29.94 | J28: =H28*F28 -> 194.61 | L28: =F28*K28*(1+$L$9) -> 0 | O28: =($L28/$F28)*N28 -> 0 | R28: =($L28/$F28)*Q28 -> 0 | U28: =($L28/$F28)*T28 -> 0 | X28: =($L28/$F28)*W28 -> 0 | AA28: =($L28/$F28)*Z28 -> 0 | AC28: =N28+Q28+T28+W28+Z28 -> 0 | AD28: =O28+R28+U28+X28+AA28 -> 0 | AF28: =F28-AC28 -> 6.5 | AG28: =L28-AD28 -> 0 | AJ28: =($L28/$F28)*AI28 -> 0 | AM28: =($L28/$F28)*AL28 -> 0 | AO28: =F28+AI28-AL28 -> 6.5 | AP28: =L28+AJ28-AM28 -> 0
A29: 3.7 | B29: SINAPI | C29: 98556 | D29: =IF($B29="","",VLOOKUP($C29,B193DESO!$A$3:$G$16595,2,0))&" - LAJE DE COBERTURA" -> IMPERMEABILIZIMPERMEABILIZAÇÃO DE SUPERFÍCIE COM ARGAMASSA POLIMÉRICA / MEMBRANA ACRÍLICA, 4 DEMÃOS, REFORÇADA COM VÉU DE POLIÉSTER (MAV). AF_09/2023 - LAJE DE COBERTURA | E29: =IF($B29="","",VLOOKUP($C29,B193DESO!$A$3:$G$16595,3,0)) -> M2 | F29: 101.92 | G29: =IF($B29="","",ROUND(VLOOKUP($C29,B193DESO!$A$3:$G$16595,6,0),2)) -> 60.7 | H29: =G29*(1+$H$9) -> 80.6 | J29: =H29*F29 -> 8214.75
A30: 3.8 | B30: CDHU | C30: 33.03.740 | D30: =IF($B30="","",VLOOKUP($C30,B193DESO!$A$3:$G$16595,2,0))&" - IMPERMEABILIZAÇÃO TELHAS CERÂMICAS" -> Resina acrílica plastificante - IMPERMEABILIZAÇÃO TELHAS CERÂMICAS | E30: =IF($B30="","",VLOOKUP($C30,B193DESO!$A$3:$G$16595,3,0)) -> M2 | F30: 225.35 | G30: =IF($B30="","",ROUND(VLOOKUP($C30,B193DESO!$A$3:$G$6157,6,0),2)) -> 28.22 | H30: =G30*(1+$H$9) -> 37.47 | J30: =H30*F30 -> 8443.86
A32: 4 | D32: PINTURA ESQUADRIAS BIBLIOTECA | G32: =IF($B32="","",VLOOKUP($C32,#REF!,6,0)) | J32: =SUBTOTAL(9,J33:J34) -> 2221.52 | L32: =SUBTOTAL(9,L33:L33) -> 0 | O32: =SUBTOTAL(9,O33:O33) -> 0 | R32: =SUBTOTAL(9,R33:R33) -> 0 | U32: =SUBTOTAL(9,U33:U33) -> 0 | X32: =SUBTOTAL(9,X33:X33) -> 0 | AA32: =SUBTOTAL(9,AA33:AA33) -> 0 | AD32: =SUBTOTAL(9,AD33:AD33) -> 0 | AG32: =SUBTOTAL(9,AG33:AG33) -> 0 | AJ32: =SUBTOTAL(9,AJ33:AJ33) -> 0 | AM32: =SUBTOTAL(9,AM33:AM33) -> 0 | AP32: =SUBTOTAL(9,AP33:AP33) -> 0
A33: 4.1 | B33: CDHU | C33: 33.11.050 | D33: =IF($B33="","",VLOOKUP($C33,B193DESO!$A$3:$G$16595,2,0))&" - ESQUADRIAS DE AÇO" -> Esmalte à base água em superfície metálica, inclusive preparo - ESQUADRIAS DE AÇO | E33: =IF($B33="","",VLOOKUP($C33,B193DESO!$A$3:$G$16595,3,0)) -> M2 | F33: =(1.05*8)+1.2 -> 9.6 | G33: =IF($B33="","",ROUND(VLOOKUP($C33,B193DESO!$A$3:$G$16595,6,0),2)) -> 43.47 | H33: =G33*(1+$H$9) -> 57.72 | J33: =H33*F33 -> 554.11 | L33: =F33*K33*(1+$L$9) -> 0 | O33: =($L33/$F33)*N33 -> 0 | R33: =($L33/$F33)*Q33 -> 0 | U33: =($L33/$F33)*T33 -> 0 | X33: =($L33/$F33)*W33 -> 0 | AA33: =($L33/$F33)*Z33 -> 0 | AC33: =N33+Q33+T33+W33+Z33 -> 0 | AD33: =O33+R33+U33+X33+AA33 -> 0 | AF33: =F33-AC33 -> 9.6 | AG33: =L33-AD33 -> 0 | AJ33: =($L33/$F33)*AI33 -> 0 | AM33: =($L33/$F33)*AL33 -> 0 | AO33: =F33+AI33-AL33 -> 9.6 | AP33: =L33+AJ33-AM33 -> 0
A34: 4.2 | B34: CDHU | C34: 33.12.011 | D34: =IF($B34="","",VLOOKUP($C34,B193DESO!$A$3:$G$16595,2,0))&" - PORTAS DE MADEIRA" -> Esmalte à base de água em madeira, inclusive preparo - PORTAS DE MADEIRA | E34: =IF($B34="","",VLOOKUP($C34,B193DESO!$A$3:$G$16595,3,0)) -> M2 | F34: =((1.89*4)+(1.982))*3 -> 28.63 | G34: =IF($B34="","",ROUND(VLOOKUP($C34,B193DESO!$A$3:$G$16595,6,0),2)) -> 43.86 | H34: =G34*(1+$H$9) -> 58.24 | J34: =H34*F34 -> 1667.41 | L34: =F34*K34*(1+$L$9) -> 0 | O34: =($L34/$F34)*N34 -> 0 | R34: =($L34/$F34)*Q34 -> 0 | U34: =($L34/$F34)*T34 -> 0 | X34: =($L34/$F34)*W34 -> 0 | AA34: =($L34/$F34)*Z34 -> 0 | AC34: =N34+Q34+T34+W34+Z34 -> 0 | AD34: =O34+R34+U34+X34+AA34 -> 0 | AF34: =F34-AC34 -> 28.63 | AG34: =L34-AD34 -> 0 | AJ34: =($L34/$F34)*AI34 -> 0 | AM34: =($L34/$F34)*AL34 -> 0 | AO34: =F34+AI34-AL34 -> 28.63 | AP34: =L34+AJ34-AM34 -> 0
L35: =F35*K35*(1+$L$9) -> 0 | O35: =($L35/$F35)*N35 -> #DIV/0! | R35: =($L35/$F35)*Q35 -> #DIV/0! | U35: =($L35/$F35)*T35 -> #DIV/0! | X35: =($L35/$F35)*W35 -> #DIV/0! | AA35: =($L35/$F35)*Z35 -> #DIV/0! | AD35: =O35+R35+U35+X35+AA35 -> #DIV/0! | AG35: =L35-AD35 -> #DIV/0! | AJ35: =($L35/$F35)*AI35 -> #DIV/0! | AM35: =($L35/$F35)*AL35 -> #DIV/0! | AO35: =F35+AI35-AL35 -> 0 | AP35: =L35+AJ35-AM35 -> #DIV/0!
A36: 5 | D36: SERVIÇOS PRELIMINARES ESCOLA | G36: =IF($B36="","",VLOOKUP($C36,'[1]BOLETIM 161'!$A$7:$F$4000,6,0)) | J36: =SUM(J37:J45) -> 11798.21 | L36: =SUM(L37:L40) -> 0 | O36: =SUM(O37:O56) -> #REF! | R36: =SUM(R37:R56) -> #REF! | U36: =SUM(U37:U56) -> #REF! | X36: =SUM(X37:X56) -> #REF! | AA36: =SUM(AA37:AA56) -> #REF! | AD36: =SUM(AD37:AD56) -> #REF! | AG36: =SUM(AG37:AG56) -> #REF! | AJ36: =SUM(AJ37:AJ56) -> #REF! | AM36: =SUM(AM37:AM56) -> #REF! | AP36: =SUM(AP37:AP56) -> #REF!
A37: 5.1 | B37: CDHU | C37: 55.01.140 | D37: =IF($B37="","",VLOOKUP($C37,B193DESO!$A$3:$G$16595,2,0))&" - TELHADO " -> Limpeza de superfície com hidrojateamento - TELHADO | E37: =IF($B37="","",VLOOKUP($C37,B193DESO!$A$3:$G$16595,3,0)) -> M2 | F37: 837.95 | G37: =IF($B37="","",ROUND(VLOOKUP($C37,B193DESO!$A$3:$G$16595,6,0),2)) -> 8.07 | H37: =G37*(1+$H$9) -> 10.72 | J37: =H37*F37 -> 8982.82
A38: 5.2 | B38: CDHU | C38: 03.03.040 | D38: =IF($B38="","",VLOOKUP($C38,B193DESO!$A$3:$G$16595,2,0))&" " -> Demolição manual de revestimento em massa de parede ou teto | E38: =IF($B38="","",VLOOKUP($C38,B193DESO!$A$3:$G$16595,3,0)) -> M2 | F38: 32 | G38: =IF($B38="","",ROUND(VLOOKUP($C38,B193DESO!$A$3:$G$16595,6,0),2)) -> 5.29 | H38: =G38*(1+$H$9) -> 7.02 | J38: =H38*F38 -> 224.64
A39: 5.3 | B39: CDHU | C39: 17.02.040 | D39: =IF($B39="","",VLOOKUP($C39,B193DESO!$A$3:$G$16595,2,0))&" " -> Chapisco com adesivo de alto desempenho | E39: =IF($B39="","",VLOOKUP($C39,B193DESO!$A$3:$G$16595,3,0)) -> M2 | F39: 32 | G39: =IF($B39="","",ROUND(VLOOKUP($C39,B193DESO!$A$3:$G$16595,6,0),2)) -> 11.19 | H39: =G39*(1+$H$9) -> 14.86 | J39: =H39*F39 -> 475.52
A40: 5.4 | B40: CDHU | C40: 17.02.140 | D40: =IF($B40="","",VLOOKUP($C40,B193DESO!$A$3:$G$16595,2,0))&" " -> Emboço desempenado com espuma de poliéster | E40: =IF($B40="","",VLOOKUP($C40,B193DESO!$A$3:$G$16595,3,0)) -> M2 | F40: 32 | G40: =IF($B40="","",ROUND(VLOOKUP($C40,B193DESO!$A$3:$G$16595,6,0),2)) -> 25.31 | H40: =G40*(1+$H$9) -> 33.61 | J40: =H40*F40 -> 1075.52
A41: 5.5 | B41: CDHU | C41: 16.02.010 | D41: =IF($B41="","",VLOOKUP($C41,B193DESO!$A$3:$G$16595,2,0))&" - TROCA DE TELHAS TRINCADAS OU QUEBRADAS" -> Telha de barro tipo italiana - TROCA DE TELHAS TRINCADAS OU QUEBRADAS | E41: =IF($B41="","",VLOOKUP($C41,B193DESO!$A$3:$G$16595,3,0)) -> M2 | F41: 3 | G41: =IF($B41="","",ROUND(VLOOKUP($C41,B193DESO!$A$3:$G$6157,6,0),2)) -> 72.7 | H41: =G41*(1+$H$9) -> 96.53 | J41: =H41*F41 -> 289.59
A42: 5.6 | B42: CDHU | C42: B.01.000.010118 | D42: Encanador - REPARO INFILTRAÇÃO HIDRAULICA | E42: H | F42: 8 | G42: 13.01 | H42: =G42*(1+$H$9) -> 17.27 | J42: =H42*F42 -> 138.16
A43: 5.7 | B43: CDHU | C43: B.01.000.010139 | D43: Pedreiro - REPARO INFILTRAÇÃO HIDRAULICA | E43: H | F43: 8 | G43: 10.86 | H43: =G43*(1+$H$9) -> 14.42 | J43: =H43*F43 -> 115.36
A44: 5.8 | B44: CDHU | C44: 17.40.010 | D44: =IF($B44="","",VLOOKUP($C44,B193DESO!$A$3:$G$16595,2,0))&" - PISO + TRINCAS NO PISO " -> Reparos em piso de granilite - estucamento e polimento - PISO + TRINCAS NO PISO | E44: =IF($B44="","",VLOOKUP($C44,B193DESO!$A$3:$G$16595,3,0)) -> M2 | F44: 4.64 | G44: =IF($B44="","",ROUND(VLOOKUP($C44,B193DESO!$A$3:$G$16595,6,0),2)) -> 46.25 | H44: =G44*(1+$H$9) -> 61.41 | J44: =H44*F44 -> 284.94
A45: 5.9 | B45: CDHU | C45: 17.40.150 | D45: =IF($B45="","",VLOOKUP($C45,B193DESO!$A$3:$G$16595,2,0))&" - PISO + TRINCAS NO PISO " -> Resina acrílica para piso de granilite - PISO + TRINCAS NO PISO | E45: =IF($B45="","",VLOOKUP($C45,B193DESO!$A$3:$G$16595,3,0)) -> M2 | F45: =4.64+((2.1*0.1)*2) -> 5.06 | G45: =IF($B45="","",ROUND(VLOOKUP($C45,B193DESO!$A$3:$G$16595,6,0),2)) -> 31.5 | H45: =G45*(1+$H$9) -> 41.83 | J45: =H45*F45 -> 211.66
A47: 6 | D47: LAJE / DOMUS / VIDROS | G47: =IF($B47="","",VLOOKUP($C47,#REF!,6,0)) | J47: =SUM(J48:J54) -> 16368.17 | L47: =SUBTOTAL(9,#REF!) -> #REF! | O47: =SUBTOTAL(9,#REF!) -> #REF! | R47: =SUBTOTAL(9,#REF!) -> #REF! | U47: =SUBTOTAL(9,#REF!) -> #REF! | X47: =SUBTOTAL(9,#REF!) -> #REF! | AA47: =SUBTOTAL(9,#REF!) -> #REF! | AD47: =SUBTOTAL(9,#REF!) -> #REF! | AG47: =SUBTOTAL(9,#REF!) -> #REF! | AJ47: =SUBTOTAL(9,#REF!) -> #REF! | AM47: =SUBTOTAL(9,#REF!) -> #REF! | AP47: =SUBTOTAL(9,#REF!) -> #REF!
A48: 6.1 | B48: CDHU | C48: 03.02.040 | D48: =IF($B48="","",VLOOKUP($C48,B193DESO!$A$3:$G$16595,2,0))&" - DOMUS" -> Demolição manual de alvenaria de elevação ou elemento vazado, incluindo revestimento - DOMUS | E48: =IF($B48="","",VLOOKUP($C48,B193DESO!$A$3:$G$16595,3,0)) -> M3 | F48: =2.3*2.05*0.4 -> 1.89 | G48: =IF($B48="","",ROUND(VLOOKUP($C48,B193DESO!$A$3:$G$16595,6,0),2)) -> 70.56 | H48: =G48*(1+$H$9) -> 93.69 | J48: =H48*F48 -> 177.07
...

Sheet LEVANTAMENTO QTT.
B5: BIBLIOTECA
B7: LAJE DE TETO | C7: PILARES PARA BANCO | D7: MADEIRA PARA BANCO | F7: PAREDES EXTERNAS | G7: PAREDES INTERNAS | H7: PAREDES EXTERNAS DEPÓSITO | I7: PAREDES INTERNAS DEPÓSITO | J7: ESQUADRIA A DESCONTAR EXT. | K7: ESQUADRIA A DESCONTAR INT. | L7: ESQUADRIA NÃO DESCONTAR EXT. | M7: ESQUADRIA NÃO DESCONTAR INT. | N7: PISOS EXTERNOS | O7: PLATIBANDA EXTERNA LAJE INF + PAREDE
E8: ÁREA DE PINTURA (M²) | F8: =(F9*2) -> 124.8 | G8: =(G9*2) -> 280 | H8: =H9*3 -> 54.3 | I8: =I9*3 -> 63 | J8: =J9 -> 39.52 | K8: =K9 -> 39.52
B9: =SUM(B10:B19) -> 222 | C9: =SUM(C10:C19) -> 209.3 | D9: =SUM(D10:D19) -> 209.3 | E9: METRO LINEAR DE PAREDE | F9: =SUM(F10:F19) -> 62.4 | G9: =SUM(G10:G37) -> 140 | H9: =SUM(H10:H37) -> 18.1 | I9: =SUM(I10:I37) -> 21 | J9: =SUM(J10:J21) -> 39.52 | K9: =SUM(K10:K21) -> 39.52 | L9: =SUM(L10:L35) -> 3.96 | M9: =SUM(M10:M50) -> 3.96 | N9: =SUM(N10:N31) -> 0 | O9: =SUM(O10:O31) -> 0
B10: 210 | C10: =8.05*26 -> 209.3 | D10: =8.05*26 -> 209.3 | F10: 18.1 | G10: 8 | H10: 6.75 | I10: 2 | J10: 3.84 | K10: 3.84 | L10: 1.98 | M10: 1.98
B11: =12 -> 12 | F11: 12.45 | G11: 8 | H11: 6.75 | I11: 2 | J11: 3.84 | K11: 3.84 | L11: 1.98 | M11: 1.98
F12: 8.3 | G12: 6 | H12: 2.3 | I12: 1.5 | J12: 3.84 | K12: 3.84
F13: 1 | G13: 6 | H13: 2.3 | I13: 1.5 | J13: 3.84 | K13: 3.84
F14: 0.4 | G14: 8 | I14: 2 | J14: 3.84 | K14: 3.84
F15: 0.4 | G15: 8 | I15: 2 | J15: 3.84 | K15: 3.84
F16: 1 | G16: 6 | I16: 1.5 | J16: 3.84 | K16: 3.84
F17: 8.3 | G17: 6 | I17: 1.5 | J17: 3.84 | K17: 3.84
F18: 12.45 | G18: 8 | I18: 2 | J18: 2.2 | K18: 2.2
G19: 8 | I19: 2 | J19: 2.2 | K19: 2.2
G20: 6 | I20: 1.5 | J20: 2.2 | K20: 2.2
G21: 6 | I21: 1.5 | J21: 2.2 | K21: 2.2
G22: 8
G23: 8
G24: 6
G25: 6
G26: 1.5
G27: 1.5
G28: 5
G29: 5
G30: 1.5
G31: 1.5
G32: 6
G33: 6
A36: TÉRREO
B38: LAJE DE TETO TERREO | C38: ÁREA AZULEJO | E38: PAREDES EXTERNAS TERREO | F38: PAREDES INTERNAS TERREO | G38: PAREDES INTERNAS TERREO | H38: PAREDES INTERNAS TERREO | I38: PAREDES INTERNAS TERREO | J38: ESQUADRIA A DESCONTAR TERREO EXT. | K38: ESQUADRIA A DESCONTAR TERREO INT. | L38: PISOS EXTERNOS | M38: PLATIBANDA EXTERNA LAJE INF + PAREDE
D39: ÁREA DE PINTURA (M²) | E39: =E40*3 -> 687.84 | F39: =F40*2 -> 173.4 | G39: =G40*2 -> 119.8 | H39: =H40*2 -> 180.5 | I39: =I40*2 -> 100.4 | J39: =J40 -> 189.596 | K39: =K40+J39 -> 257.016
B40: =SUM(B41:B50) -> 504.35 | C40: =SUM(C41:C50) -> 0 | D40: METRO LINEAR DE PAREDE | E40: =SUM(E41:E68) -> 229.28 | F40: =SUM(F41:F68) -> 86.7 | G40: =SUM(G41:G68) -> 59.9 | H40: =SUM(H41:H65) -> 90.25 | I40: =SUM(I41:I67) -> 50.2 | J40: =((2.2*(J41+J42+J43+J44+J45+J46+J47))) -> 189.596 | K40: =SUM(K41:K69) -> 67.42 | L40: =SUM(L41:L62) -> 0 | M40: =SUM(M41:M62) -> 0
B41: 504.35 | E41: 6.3 | F41: 4.4 | G41: 9.05 | H41: 9.15 | I41: 6.38 | J41: =2.1 -> 2.1 | K41: =3.6*11 -> 39.6
E42: 6.3 | F42: 4.4 | G42: 9.05 | H42: 6.15 | I42: 3.15 | J42: =3.6*12 -> 43.2 | K42: =3.5*3 -> 10.5
E43: 12.75 | F43: 3.05 | G43: 6 | H43: 6.15 | I43: 4.23 | J43: =3.5*6 -> 21 | K43: =3.41*2 -> 6.82
E44: 12.75 | F44: 3.05 | G44: 6 | H44: 0.75 | I44: 3.12 | J44: =2.56 -> 2.56 | K44: =3.5*3 -> 10.5
E45: 6.3 | F45: 4.4 | G45: 8.9 | H45: 0.75 | I45: 2.97 | J45: =3.41*2 -> 6.82
E46: 6.3 | F46: 4.4 | G46: 8.9 | H46: 2.1 | I46: 1.5 | J46: =3.5*3 -> 10.5
E47: 22.25 | F47: 3.4 | G47: 6 | H47: 0.6 | I47: 3.3
E48: 22.25 | F48: 3.4 | G48: 6 | H48: 0.6 | I48: 4.2
...

Sheet Memória de Cálculo
A1: PREFEITURA MUNICIPAL DE ITIRAPINA
A2: Avenida Um, 106 - Centro - CEP 13530-000
A4: MEMÓRIA DE CÁLCULO
A6: OBRA: | C6: =PLANILHA_ORÇAMENTÁRIA!$C$6 -> Reforma e pintura "EMEF Profª Marilei Schimidt de Oliveira"
A7: ENDEREÇO: | C7: =PLANILHA_ORÇAMENTÁRIA!$C$7 -> RUA CATAGUASES, n° 57, JD. NOVA ITIRAPINA, ITIRAPINA - SP.
A8: CONVÊNIO: | C8: Nº X
A10: ITEM | B10: FONTE | C10: CÓDIGO | D10: DESCRIÇÃO DO SERVIÇO | E10: CRITÉRIO
A11: 1 | B11: =VLOOKUP(A11,PLANILHA_ORÇAMENTÁRIA!$A$17:$J$988,4,FALSE) -> #N/A
A12: =PLANILHA_ORÇAMENTÁRIA!A18 -> 2.1 | B12: =VLOOKUP(A12,PLANILHA_ORÇAMENTÁRIA!$A$17:$J988,2,FALSE) -> CDHU | C12: =VLOOKUP(A12,PLANILHA_ORÇAMENTÁRIA!$A$17:$J$988,3,FALSE) -> 04.02.020 | D12: =VLOOKUP(A12,PLANILHA_ORÇAMENTÁRIA!$A$17:$J$988,4,FALSE) -> Retirada de peças lineares em madeira com seção até 60 cm² - BANCOS DE MADEIRA | E12: =VLOOKUP(A12,PLANILHA_ORÇAMENTÁRIA!$A$17:$J$988,9,FALSE) -> 0
A13: =PLANILHA_ORÇAMENTÁRIA!A19 -> 2.2 | B13: =VLOOKUP(A13,PLANILHA_ORÇAMENTÁRIA!$A$17:$J989,2,FALSE) -> CDHU | C13: =VLOOKUP(A13,PLANILHA_ORÇAMENTÁRIA!$A$17:$J$988,3,FALSE) -> 55.01.140 | D13: =VLOOKUP(A13,PLANILHA_ORÇAMENTÁRIA!$A$17:$J$988,4,FALSE) -> Limpeza de superfície com hidrojateamento - TELHADO + LAJE DE COBERTURA | E13: =VLOOKUP(A13,PLANILHA_ORÇAMENTÁRIA!$A$17:$J$988,9,FALSE) -> 0
A14: =PLANILHA_ORÇAMENTÁRIA!A29 -> 3.7 | B14: =VLOOKUP(A14,PLANILHA_ORÇAMENTÁRIA!$A$17:$J990,2,FALSE) -> SINAPI | C14: =VLOOKUP(A14,PLANILHA_ORÇAMENTÁRIA!$A$17:$J$988,3,FALSE) -> 98556 | D14: =VLOOKUP(A14,PLANILHA_ORÇAMENTÁRIA!$A$17:$J$988,4,FALSE) -> IMPERMEABILIZIMPERMEABILIZAÇÃO DE SUPERFÍCIE COM ARGAMASSA POLIMÉRICA / MEMBRANA ACRÍLICA, 4 DEMÃOS, REFORÇADA COM VÉU DE POLIÉSTER (MAV). AF_09/2023 - LAJE DE COBERTURA | E14: =VLOOKUP(A14,PLANILHA_ORÇAMENTÁRIA!$A$17:$J$988,9,FALSE) -> 0
A15: =PLANILHA_ORÇAMENTÁRIA!#REF! -> #REF! | B15: =VLOOKUP(A15,PLANILHA_ORÇAMENTÁRIA!$A$17:$J991,2,FALSE) -> #REF! | C15: =VLOOKUP(A15,PLANILHA_ORÇAMENTÁRIA!$A$17:$J$988,3,FALSE) -> #REF! | D15: =VLOOKUP(A15,PLANILHA_ORÇAMENTÁRIA!$A$17:$J$988,4,FALSE) -> #REF! | E15: =VLOOKUP(A15,PLANILHA_ORÇAMENTÁRIA!$A$17:$J$988,9,FALSE) -> #REF!
A16: =PLANILHA_ORÇAMENTÁRIA!#REF! -> #REF! | B16: =VLOOKUP(A16,PLANILHA_ORÇAMENTÁRIA!$A$17:$J992,2,FALSE) -> #REF! | C16: =VLOOKUP(A16,PLANILHA_ORÇAMENTÁRIA!$A$17:$J$988,3,FALSE) -> #REF! | D16: =VLOOKUP(A16,PLANILHA_ORÇAMENTÁRIA!$A$17:$J$988,4,FALSE) -> #REF! | E16: =VLOOKUP(A16,PLANILHA_ORÇAMENTÁRIA!$A$17:$J$988,9,FALSE) -> #REF!
A17: =PLANILHA_ORÇAMENTÁRIA!#REF! -> #REF! | B17: =VLOOKUP(A17,PLANILHA_ORÇAMENTÁRIA!$A$17:$J993,2,FALSE) -> #REF! | C17: =VLOOKUP(A17,PLANILHA_ORÇAMENTÁRIA!$A$17:$J$988,3,FALSE) -> #REF! | D17: =VLOOKUP(A17,PLANILHA_ORÇAMENTÁRIA!$A$17:$J$988,4,FALSE) -> #REF! | E17: =VLOOKUP(A17,PLANILHA_ORÇAMENTÁRIA!$A$17:$J$988,9,FALSE) -> #REF!
A18: =PLANILHA_ORÇAMENTÁRIA!#REF! -> #REF! | B18: =VLOOKUP(A18,PLANILHA_ORÇAMENTÁRIA!$A$17:$J994,2,FALSE) -> #REF! | C18: =VLOOKUP(A18,PLANILHA_ORÇAMENTÁRIA!$A$17:$J$988,3,FALSE) -> #REF! | D18: =VLOOKUP(A18,PLANILHA_ORÇAMENTÁRIA!$A$17:$J$988,4,FALSE) -> #REF! | E18: =VLOOKUP(A18,PLANILHA_ORÇAMENTÁRIA!$A$17:$J$988,9,FALSE) -> #REF!
A19: =PLANILHA_ORÇAMENTÁRIA!A21 -> 0 | B19: =VLOOKUP(A19,PLANILHA_ORÇAMENTÁRIA!$A$17:$J995,2,FALSE) -> #N/A | C19: =VLOOKUP(A19,PLANILHA_ORÇAMENTÁRIA!$A$17:$J$988,3,FALSE) -> #N/A | D19: =VLOOKUP(A19,PLANILHA_ORÇAMENTÁRIA!$A$17:$J$988,4,FALSE) -> #N/A | E19: =VLOOKUP(A19,PLANILHA_ORÇAMENTÁRIA!$A$17:$J$988,9,FALSE) -> #N/A
A20: =PLANILHA_ORÇAMENTÁRIA!A22 -> 3 | B20: =VLOOKUP(A20,PLANILHA_ORÇAMENTÁRIA!$A$17:$J996,2,FALSE) -> 0 | C20: =VLOOKUP(A20,PLANILHA_ORÇAMENTÁRIA!$A$17:$J$988,3,FALSE) -> 0 | D20: =VLOOKUP(A20,PLANILHA_ORÇAMENTÁRIA!$A$17:$J$988,4,FALSE) -> PINTURA BIBLIOTECA | E20: =VLOOKUP(A20,PLANILHA_ORÇAMENTÁRIA!$A$17:$J$988,9,FALSE) -> 0
A21: =PLANILHA_ORÇAMENTÁRIA!A23 -> 3.1 | B21: =VLOOKUP(A21,PLANILHA_ORÇAMENTÁRIA!$A$17:$J997,2,FALSE) -> CDHU | C21: =VLOOKUP(A21,PLANILHA_ORÇAMENTÁRIA!$A$17:$J$988,3,FALSE) -> 33.10.050 | D21: =VLOOKUP(A21,PLANILHA_ORÇAMENTÁRIA!$A$17:$J$988,4,FALSE) -> Tinta acrílica em massa, inclusive preparo - ESTRUTURA BANCOS | E21: =VLOOKUP(A21,PLANILHA_ORÇAMENTÁRIA!$A$17:$J$988,9,FALSE) -> 0
A22: =PLANILHA_ORÇAMENTÁRIA!#REF! -> #REF! | B22: =VLOOKUP(A22,PLANILHA_ORÇAMENTÁRIA!$A$17:$J998,2,FALSE) -> #REF! | C22: =VLOOKUP(A22,PLANILHA_ORÇAMENTÁRIA!$A$17:$J$988,3,FALSE) -> #REF! | D22: =VLOOKUP(A22,PLANILHA_ORÇAMENTÁRIA!$A$17:$J$988,4,FALSE) -> #REF! | E22: =VLOOKUP(A22,PLANILHA_ORÇAMENTÁRIA!$A$17:$J$988,9,FALSE) -> #REF!
A23: =PLANILHA_ORÇAMENTÁRIA!#REF! -> #REF! | B23: =VLOOKUP(A23,PLANILHA_ORÇAMENTÁRIA!$A$17:$J999,2,FALSE) -> #REF! | C23: =VLOOKUP(A23,PLANILHA_ORÇAMENTÁRIA!$A$17:$J$988,3,FALSE) -> #REF! | D23: =VLOOKUP(A23,PLANILHA_ORÇAMENTÁRIA!$A$17:$J$988,4,FALSE) -> #REF! | E23: =VLOOKUP(A23,PLANILHA_ORÇAMENTÁRIA!$A$17:$J$988,9,FALSE) -> #REF!
A24: =PLANILHA_ORÇAMENTÁRIA!#REF! -> #REF! | B24: =VLOOKUP(A24,PLANILHA_ORÇAMENTÁRIA!$A$17:$J1000,2,FALSE) -> #REF! | C24: =VLOOKUP(A24,PLANILHA_ORÇAMENTÁRIA!$A$17:$J$988,3,FALSE) -> #REF! | D24: =VLOOKUP(A24,PLANILHA_ORÇAMENTÁRIA!$A$17:$J$988,4,FALSE) -> #REF! | E24: =VLOOKUP(A24,PLANILHA_ORÇAMENTÁRIA!$A$17:$J$988,9,FALSE) -> #REF!
A25: =PLANILHA_ORÇAMENTÁRIA!#REF! -> #REF! | B25: =VLOOKUP(A25,PLANILHA_ORÇAMENTÁRIA!$A$17:$J1001,2,FALSE) -> #REF! | C25: =VLOOKUP(A25,PLANILHA_ORÇAMENTÁRIA!$A$17:$J$988,3,FALSE) -> #REF! | D25: =VLOOKUP(A25,PLANILHA_ORÇAMENTÁRIA!$A$17:$J$988,4,FALSE) -> #REF! | E25: =VLOOKUP(A25,PLANILHA_ORÇAMENTÁRIA!$A$17:$J$988,9,FALSE) -> #REF!
A26: =PLANILHA_ORÇAMENTÁRIA!#REF! -> #REF! | B26: =VLOOKUP(A26,PLANILHA_ORÇAMENTÁRIA!$A$17:$J1002,2,FALSE) -> #REF! | C26: =VLOOKUP(A26,PLANILHA_ORÇAMENTÁRIA!$A$17:$J$988,3,FALSE) -> #REF! | D26: =VLOOKUP(A26,PLANILHA_ORÇAMENTÁRIA!$A$17:$J$988,4,FALSE) -> #REF! | E26: =VLOOKUP(A26,PLANILHA_ORÇAMENTÁRIA!$A$17:$J$988,9,FALSE) -> #REF!
A27: =PLANILHA_ORÇAMENTÁRIA!#REF! -> #REF! | B27: =VLOOKUP(A27,PLANILHA_ORÇAMENTÁRIA!$A$17:$J1003,2,FALSE) -> #REF! | C27: =VLOOKUP(A27,PLANILHA_ORÇAMENTÁRIA!$A$17:$J$988,3,FALSE) -> #REF! | D27: =VLOOKUP(A27,PLANILHA_ORÇAMENTÁRIA!$A$17:$J$988,4,FALSE) -> #REF! | E27: =VLOOKUP(A27,PLANILHA_ORÇAMENTÁRIA!$A$17:$J$988,9,FALSE) -> #REF!
A28: =PLANILHA_ORÇAMENTÁRIA!#REF! -> #REF! | B28: =VLOOKUP(A28,PLANILHA_ORÇAMENTÁRIA!$A$17:$J1004,2,FALSE) -> #REF! | C28: =VLOOKUP(A28,PLANILHA_ORÇAMENTÁRIA!$A$17:$J$988,3,FALSE) -> #REF! | D28: =VLOOKUP(A28,PLANILHA_ORÇAMENTÁRIA!$A$17:$J$988,4,FALSE) -> #REF! | E28: =VLOOKUP(A28,PLANILHA_ORÇAMENTÁRIA!$A$17:$J$988,9,FALSE) -> #REF!
A29: =PLANILHA_ORÇAMENTÁRIA!#REF! -> #REF! | B29: =VLOOKUP(A29,PLANILHA_ORÇAMENTÁRIA!$A$17:$J1005,2,FALSE) -> #REF! | C29: =VLOOKUP(A29,PLANILHA_ORÇAMENTÁRIA!$A$17:$J$988,3,FALSE) -> #REF! | D29: =VLOOKUP(A29,PLANILHA_ORÇAMENTÁRIA!$A$17:$J$988,4,FALSE) -> #REF! | E29: =VLOOKUP(A29,PLANILHA_ORÇAMENTÁRIA!$A$17:$J$988,9,FALSE) -> #REF!
A30: =PLANILHA_ORÇAMENTÁRIA!A31 -> 0 | B30: =VLOOKUP(A30,PLANILHA_ORÇAMENTÁRIA!$A$17:$J1006,2,FALSE) -> #N/A | C30: =VLOOKUP(A30,PLANILHA_ORÇAMENTÁRIA!$A$17:$J$988,3,FALSE) -> #N/A | D30: =VLOOKUP(A30,PLANILHA_ORÇAMENTÁRIA!$A$17:$J$988,4,FALSE) -> #N/A | E30: =VLOOKUP(A30,PLANILHA_ORÇAMENTÁRIA!$A$17:$J$988,9,FALSE) -> #N/A
A31: =PLANILHA_ORÇAMENTÁRIA!A32 -> 4 | B31: =VLOOKUP(A31,PLANILHA_ORÇAMENTÁRIA!$A$17:$J1007,2,FALSE) -> 0 | C31: =VLOOKUP(A31,PLANILHA_ORÇAMENTÁRIA!$A$17:$J$988,3,FALSE) -> 0 | D31: =VLOOKUP(A31,PLANILHA_ORÇAMENTÁRIA!$A$17:$J$988,4,FALSE) -> PINTURA ESQUADRIAS BIBLIOTECA | E31: =VLOOKUP(A31,PLANILHA_ORÇAMENTÁRIA!$A$17:$J$988,9,FALSE) -> 0
A32: =PLANILHA_ORÇAMENTÁRIA!A33 -> 4.1 | B32: =VLOOKUP(A32,PLANILHA_ORÇAMENTÁRIA!$A$17:$J1008,2,FALSE) -> CDHU | C32: =VLOOKUP(A32,PLANILHA_ORÇAMENTÁRIA!$A$17:$J$988,3,FALSE) -> 33.11.050 | D32: =VLOOKUP(A32,PLANILHA_ORÇAMENTÁRIA!$A$17:$J$988,4,FALSE) -> Esmalte à base água em superfície metálica, inclusive preparo - ESQUADRIAS DE AÇO | E32: =VLOOKUP(A32,PLANILHA_ORÇAMENTÁRIA!$A$17:$J$988,9,FALSE) -> 0
A33: =PLANILHA_ORÇAMENTÁRIA!#REF! -> #REF! | B33: =VLOOKUP(A33,PLANILHA_ORÇAMENTÁRIA!$A$17:$J1009,2,FALSE) -> #REF! | C33: =VLOOKUP(A33,PLANILHA_ORÇAMENTÁRIA!$A$17:$J$988,3,FALSE) -> #REF! | D33: =VLOOKUP(A33,PLANILHA_ORÇAMENTÁRIA!$A$17:$J$988,4,FALSE) -> #REF! | E33: =VLOOKUP(A33,PLANILHA_ORÇAMENTÁRIA!$A$17:$J$988,9,FALSE) -> #REF!
A34: =PLANILHA_ORÇAMENTÁRIA!#REF! -> #REF! | B34: =VLOOKUP(A34,PLANILHA_ORÇAMENTÁRIA!$A$17:$J1010,2,FALSE) -> #REF! | C34: =VLOOKUP(A34,PLANILHA_ORÇAMENTÁRIA!$A$17:$J$988,3,FALSE) -> #REF! | D34: =VLOOKUP(A34,PLANILHA_ORÇAMENTÁRIA!$A$17:$J$988,4,FALSE) -> #REF! | E34: =VLOOKUP(A34,PLANILHA_ORÇAMENTÁRIA!$A$17:$J$988,9,FALSE) -> #REF!
A35: =PLANILHA_ORÇAMENTÁRIA!#REF! -> #REF! | B35: =VLOOKUP(A35,PLANILHA_ORÇAMENTÁRIA!$A$17:$J1011,2,FALSE) -> #REF! | C35: =VLOOKUP(A35,PLANILHA_ORÇAMENTÁRIA!$A$17:$J$988,3,FALSE) -> #REF! | D35: =VLOOKUP(A35,PLANILHA_ORÇAMENTÁRIA!$A$17:$J$988,4,FALSE) -> #REF! | E35: =VLOOKUP(A35,PLANILHA_ORÇAMENTÁRIA!$A$17:$J$988,9,FALSE) -> #REF!
A36: =PLANILHA_ORÇAMENTÁRIA!#REF! -> #REF! | B36: =VLOOKUP(A36,PLANILHA_ORÇAMENTÁRIA!$A$17:$J1012,2,FALSE) -> #REF! | C36: =VLOOKUP(A36,PLANILHA_ORÇAMENTÁRIA!$A$17:$J$988,3,FALSE) -> #REF! | D36: =VLOOKUP(A36,PLANILHA_ORÇAMENTÁRIA!$A$17:$J$988,4,FALSE) -> #REF! | E36: =VLOOKUP(A36,PLANILHA_ORÇAMENTÁRIA!$A$17:$J$988,9,FALSE) -> #REF!
A37: =PLANILHA_ORÇAMENTÁRIA!#REF! -> #REF! | B37: =VLOOKUP(A37,PLANILHA_ORÇAMENTÁRIA!$A$17:$J1013,2,FALSE) -> #REF! | C37: =VLOOKUP(A37,PLANILHA_ORÇAMENTÁRIA!$A$17:$J$988,3,FALSE) -> #REF! | D37: =VLOOKUP(A37,PLANILHA_ORÇAMENTÁRIA!$A$17:$J$988,4,FALSE) -> #REF! | E37: =VLOOKUP(A37,PLANILHA_ORÇAMENTÁRIA!$A$17:$J$988,9,FALSE) -> #REF!
A38: =PLANILHA_ORÇAMENTÁRIA!#REF! -> #REF! | B38: =VLOOKUP(A38,PLANILHA_ORÇAMENTÁRIA!$A$17:$J1014,2,FALSE) -> #REF! | C38: =VLOOKUP(A38,PLANILHA_ORÇAMENTÁRIA!$A$17:$J$988,3,FALSE) -> #REF! | D38: =VLOOKUP(A38,PLANILHA_ORÇAMENTÁRIA!$A$17:$J$988,4,FALSE) -> #REF! | E38: =VLOOKUP(A38,PLANILHA_ORÇAMENTÁRIA!$A$17:$J$988,9,FALSE) -> #REF!
A39: =PLANILHA_ORÇAMENTÁRIA!#REF! -> #REF! | B39: =VLOOKUP(A39,PLANILHA_ORÇAMENTÁRIA!$A$17:$J1015,2,FALSE) -> #REF! | C39: =VLOOKUP(A39,PLANILHA_ORÇAMENTÁRIA!$A$17:$J$988,3,FALSE) -> #REF! | D39: =VLOOKUP(A39,PLANILHA_ORÇAMENTÁRIA!$A$17:$J$988,4,FALSE) -> #REF! | E39: =VLOOKUP(A39,PLANILHA_ORÇAMENTÁRIA!$A$17:$J$988,9,FALSE) -> #REF!
A40: =PLANILHA_ORÇAMENTÁRIA!A35 -> 0 | B40: =VLOOKUP(A40,PLANILHA_ORÇAMENTÁRIA!$A$17:$J1016,2,FALSE) -> #N/A | C40: =VLOOKUP(A40,PLANILHA_ORÇAMENTÁRIA!$A$17:$J$988,3,FALSE) -> #N/A | D40: =VLOOKUP(A40,PLANILHA_ORÇAMENTÁRIA!$A$17:$J$988,4,FALSE) -> #N/A | E40: =VLOOKUP(A40,PLANILHA_ORÇAMENTÁRIA!$A$17:$J$988,9,FALSE) -> #N/A
A41: =PLANILHA_ORÇAMENTÁRIA!A36 -> 5 | B41: =VLOOKUP(A41,PLANILHA_ORÇAMENTÁRIA!$A$17:$J1017,2,FALSE) -> 0 | C41: =VLOOKUP(A41,PLANILHA_ORÇAMENTÁRIA!$A$17:$J$988,3,FALSE) -> 0 | D41: =VLOOKUP(A41,PLANILHA_ORÇAMENTÁRIA!$A$17:$J$988,4,FALSE) -> SERVIÇOS PRELIMINARES ESCOLA | E41: =VLOOKUP(A41,PLANILHA_ORÇAMENTÁRIA!$A$17:$J$988,9,FALSE) -> 0
A42: =PLANILHA_ORÇAMENTÁRIA!#REF! -> #REF! | B42: =VLOOKUP(A42,PLANILHA_ORÇAMENTÁRIA!$A$17:$J1018,2,FALSE) -> #REF! | C42: =VLOOKUP(A42,PLANILHA_ORÇAMENTÁRIA!$A$17:$J$988,3,FALSE) -> #REF! | D42: =VLOOKUP(A42,PLANILHA_ORÇAMENTÁRIA!$A$17:$J$988,4,FALSE) -> #REF! | E42: =VLOOKUP(A42,PLANILHA_ORÇAMENTÁRIA!$A$17:$J$988,9,FALSE) -> #REF!
A43: =PLANILHA_ORÇAMENTÁRIA!#REF! -> #REF! | B43: =VLOOKUP(A43,PLANILHA_ORÇAMENTÁRIA!$A$17:$J1019,2,FALSE) -> #REF! | C43: =VLOOKUP(A43,PLANILHA_ORÇAMENTÁRIA!$A$17:$J$988,3,FALSE) -> #REF! | D43: =VLOOKUP(A43,PLANILHA_ORÇAMENTÁRIA!$A$17:$J$988,4,FALSE) -> #REF! | E43: =VLOOKUP(A43,PLANILHA_ORÇAMENTÁRIA!$A$17:$J$988,9,FALSE) -> #REF!
...

Sheet Composições
A1: =PLANILHA_ORÇAMENTÁRIA!$A$1 -> PREFEITURA MUNICIPAL DE ITIRAPINA
A2: =PLANILHA_ORÇAMENTÁRIA!$A$2 -> Avenida Um, 106 - Centro - CEP 13530-000
A4: COMPOSIÇÕES
A6: OBRA: | C6: =PLANILHA_ORÇAMENTÁRIA!C6 -> Reforma e pintura "EMEF Profª Marilei Schimidt de Oliveira"
A7: ENDEREÇO: | C7: =PLANILHA_ORÇAMENTÁRIA!C7 -> RUA CATAGUASES, n° 57, JD. NOVA ITIRAPINA, ITIRAPINA - SP.
A9: BASE: | C9: =PLANILHA_ORÇAMENTÁRIA!C9 -> CDHU 193 - 02/2024 - SINAPI 03/2024 - Com desoneração
A11: ITEM | B11: FONTE | C11: CÓDIGO | D11: DESCRIÇÃO | E11: UNID. | F11: QUANT. | G11: VALOR UNIT. | H11: TOTAL
A12: 1 | D12: Placa em madeira entalhada | E12: M2 | G12: =IF($B12="","",VLOOKUP($C12,#REF!,6,0)) | H12: =SUM(H13:H18) -> 1841.7
A13: 1.1 | B13: SINAPI-I | C13: 38465 | D13: TALHADEIRA COM PUNHO DE PROTECAO *20 X 250* MM | E13: UN | F13: 0.37 | G13: 49.06 | H13: =IF($B13="","",ROUND(F13*G13,2)) -> 18.15
A14: 1.2 | B14: SINAPI | C14: 88262 | D14: CARPINTEIRO DE FORMAS COM ENCARGOS COMPLEMENTARES | E14: H | F14: =5*8 -> 40 | G14: 26.05 | H14: =IF($B14="","",ROUND(F14*G14,2)) -> 1042
A15: 1.3 | B15: SINAPI-I | C15: 4470 | D15: PRANCHA NAO APARELHADA *6 X 40* CM, EM MACARANDUBA, ANGELIM, CUMARU OU EQUIVALENTE DA REGIAO - BRUTA | E15: M | F15: 2.5 | G15: 137.5 | H15: =IF($B15="","",ROUND(F15*G15,2)) -> 343.75
A16: 1.4 | B16: SINAPI | C16: 102213 | D16: PINTURA VERNIZ (INCOLOR) ALQUÍDICO EM MADEIRA, USO INTERNO E EXTERNO, 2 DEMÃOS. AF_01/2021 | E16: M2 | F16: 2 | G16: 20.03 | H16: =IF($B16="","",ROUND(F16*G16,2)) -> 40.06
A17: 1.5 | B17: SINAPI | C17: 102228 | D17: PINTURA TINTA DE ACABAMENTO (PIGMENTADA) ESMALTE SINTÉTICO FOSCO EM MADEIRA, 3 DEMÃOS. AF_01/2021 | E17: M2 | F17: 0.65 | G17: 25.02 | H17: =IF($B17="","",ROUND(F17*G17,2)) -> 16.26
A18: 1.6 | B18: SINAPI-I | C18: 5086 | D18: CORRENTE DE ELO CURTO COMUM, SOLDADA, GALVANIZADA, ESPESSURA DO ELO = 1/2" (12,5 MM) | E18: KG | F18: 12 | G18: 31.79 | H18: =IF($B18="","",ROUND(F18*G18,2)) -> 381.48
D20: =PLANILHA_ORÇAMENTÁRIA!$B$140 -> Itirapina, 15 de abril de 2024
D27: =PLANILHA_ORÇAMENTÁRIA!D150 -> Cristiano Ribeiro da Silva Carvalho
D28: =PLANILHA_ORÇAMENTÁRIA!D151 -> ENGENHEIRO CIVIL
D29: =PLANILHA_ORÇAMENTÁRIA!D152 -> 5070497131

Sheet Cotações
A1: =PLANILHA_ORÇAMENTÁRIA!$A$1 -> PREFEITURA MUNICIPAL DE ITIRAPINA
A2: =PLANILHA_ORÇAMENTÁRIA!$A$2 -> Avenida Um, 106 - Centro - CEP 13530-000
A4: TABELA DE ORÇAMENTO DE MERCADO - COTAÇÕES
A6: OBJETO: | C6: =PLANILHA_ORÇAMENTÁRIA!C6 -> Reforma e pintura "EMEF Profª Marilei Schimidt de Oliveira"
A7: ENDEREÇO: | C7: =PLANILHA_ORÇAMENTÁRIA!C7 -> RUA CATAGUASES, n° 57, JD. NOVA ITIRAPINA, ITIRAPINA - SP.
A9: FONTE | B9: ITEM | C9: DESCRIÇÃO DO SERVIÇO | K9: UNIDADE
A10: COTAÇÃO | B10: 01 | C10: CORTE A LASER EM CHAPA PATINÁVEL | K10: M
A11: COTAÇÕES
A12: EMPRESA | I12: VALOR
A16: MÉDIA DOS VALORES
A17: FONTE | B17: ITEM | C17: DESCRIÇÃO DO SERVIÇO | K17: UNIDADE
A18: COTAÇÃO | B18: 01 | K18: UNID.
A19: EMPRESA | I19: VALOR
A23: MÉDIA DOS ORÇAMENTOS | I23: =AVERAGE(I20:K22) -> #DIV/0!
A25: FONTE | B25: ITEM | C25: DESCRIÇÃO DO SERVIÇO | K25: UNIDADE
A26: COTAÇÃO | B26: 02 | K26: M
A27: EMPRESA | I27: VALOR
A31: MÉDIA DOS ORÇAMENTOS | I31: =AVERAGE(I28:K30) -> #DIV/0!
B34: =PLANILHA_ORÇAMENTÁRIA!$B$140 -> Itirapina, 15 de abril de 2024
D41: =PLANILHA_ORÇAMENTÁRIA!D150 -> Cristiano Ribeiro da Silva Carvalho
D42: =PLANILHA_ORÇAMENTÁRIA!D151 -> ENGENHEIRO CIVIL
D43: =PLANILHA_ORÇAMENTÁRIA!D152 -> 5070497131

Sheet Cronograma
B1: PREFEITURA MUNICIPAL DE ITIRAPINA
B2: Avenida Um, 106 - Centro - CEP 13530-000
B4: CRONOGRAMA FÍSICO-FINANCEIRO
B6: OBRA: | C6: =PLANILHA_ORÇAMENTÁRIA!$C$6 -> Reforma e pintura "EMEF Profª Marilei Schimidt de Oliveira"
B7: END: | C7: =PLANILHA_ORÇAMENTÁRIA!$C$7 -> RUA CATAGUASES, n° 57, JD. NOVA ITIRAPINA, ITIRAPINA - SP.
B9: BASE: | C9: CDHU 193 - 02/2024
B11: Meses Serviços | D11: 01 | E11: 02 | F11: 03 | G11: 04 | H11: 05 | I11: 06 | J11: 07 | K11: 08 | L11: 09 | M11: 10 | N11: 11 | O11: 12 | P11: Total
D12: 0 30 | E12: 60 | F12: 90 | G12: 120 | H12: 150 | I12: 180 | J12: 210 | K12: 240 | L12: 270 | M12: 300 | N12: 330 | O12: 360
B13: 1 | C13: =VLOOKUP(B13,PLANILHA_ORÇAMENTÁRIA!$A$14:$J$988,4,FALSE) -> SERVIÇOS PRELIMINARES GERAL | D13: 1 | P13: =SUM(D13:O13) -> 1
D14: =ROUND($Q14*D13,2) -> 1460.4 | H14: =ROUND($Q14*H13,2) -> 0 | I14: =ROUND($Q14*I13,2) -> 0 | J14: =ROUND($Q14*J13,2) -> 0 | K14: =ROUND($Q14*K13,2) -> 0 | L14: =ROUND($Q14*L13,2) -> 0 | M14: =ROUND($Q14*M13,2) -> 0 | N14: =ROUND($Q14*N13,2) -> 0 | O14: =ROUND($Q14*O13,2) -> 0 | P14: =SUM(D14:O14) -> 1460.4 | Q14: =VLOOKUP(B13,PLANILHA_ORÇAMENTÁRIA!$A$14:$J$988,10,FALSE) -> 1460.4
B15: 2 | C15: =VLOOKUP(B15,PLANILHA_ORÇAMENTÁRIA!$A$17:$J$988,4,FALSE) -> SERVIÇOS PRELIMINARES BIBLIOTECA | F15: 1 | P15: =SUM(D15:O15) -> 1
D16: =ROUND($Q16*D15,2) -> 0 | E16: =ROUND($Q16*E15,2) -> 0 | F16: =ROUND($Q16*F15,2) -> 6097.19 | G16: =ROUND($Q16*G15,2) -> 0 | H16: =ROUND($Q16*H15,2) -> 0 | I16: =ROUND($Q16*I15,2) -> 0 | J16: =ROUND($Q16*J15,2) -> 0 | K16: =ROUND($Q16*K15,2) -> 0 | ... O16: =ROUND($Q16*O15,2) -> 0 | P16: =SUM(D16:O16) -> 6097.19 | Q16: =VLOOKUP(B15,PLANILHA_ORÇAMENTÁRIA!$A$17:$J$988,10,FALSE) -> 6097.19
B17: 3 | C17: =VLOOKUP(B17,PLANILHA_ORÇAMENTÁRIA!$A$17:$J$988,4,FALSE) -> PINTURA BIBLIOTECA | G17: 1 | P17: =SUM(D17:O17) -> 1
D18: =ROUND($Q18*D17,2) -> 0 | E18: =ROUND($Q18*E17,2) -> 0 | F18: =ROUND($Q18*F17,2) -> 0 | G18: =ROUND($Q18*G17,2) -> 50702.7 | H18: =ROUND($Q18*H17,2) -> 0 | I18: =ROUND($Q18*I17,2) -> 0 | J18: =ROUND($Q18*J17,2) -> 0 | K18: =ROUND($Q18*K17,2) -> 0 | ... O18: =ROUND($Q18*O17,2) -> 0 | P18: =SUM(D18:O18) -> 50702.7 | Q18: =VLOOKUP(B17,PLANILHA_ORÇAMENTÁRIA!$A$17:$J$988,10,FALSE) -> 50702.7
B19: 4 | C19: =VLOOKUP(B19,PLANILHA_ORÇAMENTÁRIA!$A$17:$J$988,4,FALSE) -> PINTURA ESQUADRIAS BIBLIOTECA | F19: 0.5 | G19: 0.5 | P19: =SUM(D19:O19) -> 1
D20: =ROUND($Q20*D19,2) -> 0 | E20: =ROUND($Q20*E19,2) -> 0 | F20: =ROUND($Q20*F19,2) -> 1110.76 | G20: =ROUND($Q20*G19,2) -> 1110.76 | H20: =ROUND($Q20*H19,2) -> 0 | I20: =ROUND($Q20*I19,2) -> 0 | J20: =ROUND($Q20*J19,2) -> 0 | K20: =ROUND($Q20*K19,2) -> 0 | ... O20: =ROUND($Q20*O19,2) -> 0 | P20: =SUM(D20:O20) -> 2221.52 | Q20: =VLOOKUP(B19,PLANILHA_ORÇAMENTÁRIA!$A$17:$J$988,10,FALSE) -> 2221.52
B21: 5 | C21: =VLOOKUP(B21,PLANILHA_ORÇAMENTÁRIA!$A$17:$J$988,4,FALSE) -> SERVIÇOS PRELIMINARES ESCOLA | D21: 1 | P21: =SUM(D21:O21) -> 1
D22: =ROUND($Q22*D21,2) -> 11798.21 | E22: =ROUND($Q22*E21,2) -> 0 | F22: =ROUND($Q22*F21,2) -> 0 | G22: =ROUND($Q22*G21,2) -> 0 | H22: =ROUND($Q22*H21,2) -> 0 | I22: =ROUND($Q22*I21,2) -> 0 | J22: =ROUND($Q22*J21,2) -> 0 | K22: =ROUND($Q22*K21,2) -> 0 | ... O22: =ROUND($Q22*O21,2) -> 0 | P22: =SUM(D22:O22) -> 11798.21 | Q22: =VLOOKUP(B21,PLANILHA_ORÇAMENTÁRIA!$A$17:$J$988,10,FALSE) -> 11798.21
B23: 6 | C23: =VLOOKUP(B23,PLANILHA_ORÇAMENTÁRIA!$A$17:$J$988,4,FALSE) -> LAJE / DOMUS / VIDROS | D23: 0.6 | E23: 0.4 | P23: =SUM(D23:O23) -> 1
D24: =ROUND($Q24*D23,2) -> 9820.9 | E24: =ROUND($Q24*E23,2) -> 6547.27 | F24: =ROUND($Q24*F23,2) -> 0 | G24: =ROUND($Q24*G23,2) -> 0 | H24: =ROUND($Q24*H23,2) -> 0 | I24: =ROUND($Q24*I23,2) -> 0 | J24: =ROUND($Q24*J23,2) -> 0 | K24: =ROUND($Q24*K23,2) -> 0 | ... O24: =ROUND($Q24*O23,2) -> 0 | P24: =SUM(D24:O24) -> 16368.17 | Q24: =VLOOKUP(B23,PLANILHA_ORÇAMENTÁRIA!$A$17:$J$988,10,FALSE) -> 16368.17
B25: 7 | C25: =VLOOKUP(B25,PLANILHA_ORÇAMENTÁRIA!$A$17:$J$988,4,FALSE) -> PINTURA ESCOLA TERREO | D25: 0.3 | E25: 0.4 | F25: 0.3 | P25: =SUM(D25:O25) -> 1
D26: =ROUND($Q26*D25,2) -> 31768.73 | E26: =ROUND($Q26*E25,2) -> 42358.3 | F26: =ROUND($Q26*F25,2) -> 31768.73 | G26: =ROUND($Q26*G25,2) -> 0 | H26: =ROUND($Q26*H25,2) -> 0 | I26: =ROUND($Q26*I25,2) -> 0 | J26: =ROUND($Q26*J25,2) -> 0 | K26: =ROUND($Q26*K25,2) -> 0 | ... O26: =ROUND($Q26*O25,2) -> 0 | P26: =SUM(D26:O26) -> 105895.76 | Q26: =VLOOKUP(B25,PLANILHA_ORÇAMENTÁRIA!$A$17:$J$988,10,FALSE) -> 105895.76
B27: 8 | C27: =VLOOKUP(B27,PLANILHA_ORÇAMENTÁRIA!$A$17:$J$988,4,FALSE) -> PINTURA ESQUADRIAS TERREO | D27: 0.5 | E27: 0.5 | P27: =SUM(D27:O27) -> 1
D28: =ROUND($Q28*D27,2) -> 7605.24 | E28: =ROUND($Q28*E27,2) -> 7605.24 | F28: =ROUND($Q28*F27,2) -> 0 | G28: =ROUND($Q28*G27,2) -> 0 | H28: =ROUND($Q28*H27,2) -> 0 | I28: =ROUND($Q28*I27,2) -> 0 | J28: =ROUND($Q28*J27,2) -> 0 | K28: =ROUND($Q28*K27,2) -> 0 | ... O28: =ROUND($Q28*O27,2) -> 0 | P28: =SUM(D28:O28) -> 15210.48 | Q28: =VLOOKUP(B27,PLANILHA_ORÇAMENTÁRIA!$A$17:$J$988,10,FALSE) -> 15210.48
B29: 9 | C29: =VLOOKUP(B29,PLANILHA_ORÇAMENTÁRIA!$A$17:$J$988,4,FALSE) -> SERVIÇOS PRELIMINARES SUBSOLO | E29: 0.5 | F29: 0.5 | P29: =SUM(D29:O29) -> 1
D30: =ROUND($Q30*D29,2) -> 0 | E30: =ROUND($Q30*E29,2) -> 325.8 | F30: =ROUND($Q30*F29,2) -> 325.8 | G30: =ROUND($Q30*G29,2) -> 0 | H30: =ROUND($Q30*H29,2) -> 0 | I30: =ROUND($Q30*I29,2) -> 0 | J30: =ROUND($Q30*J29,2) -> 0 | K30: =ROUND($Q30*K29,2) -> 0 | ... O30: =ROUND($Q30*O29,2) -> 0 | P30: =SUM(D30:O30)-0.01 -> 651.59 | Q30: =VLOOKUP(B29,PLANILHA_ORÇAMENTÁRIA!$A$17:$J$988,10,FALSE) -> 651.59
B31: 10 | C31: =VLOOKUP(B31,PLANILHA_ORÇAMENTÁRIA!$A$17:$J$988,4,FALSE) -> TROCA DE PORTAS | D31: 1 | P31: =SUM(D31:O31) -> 1
D32: =ROUND($Q32*D31,2) -> 12932.83 | E32: =ROUND($Q32*E31,2) -> 0 | F32: =ROUND($Q32*F31,2) -> 0 | G32: =ROUND($Q32*G31,2) -> 0 | H32: =ROUND($Q32*H31,2) -> 0 | I32: =ROUND($Q32*I31,2) -> 0 | J32: =ROUND($Q32*J31,2) -> 0 | K32: =ROUND($Q32*K31,2) -> 0 | ... O32: =ROUND($Q32*O31,2) -> 0 | P32: =SUM(D32:O32) -> 12932.83 | Q32: =VLOOKUP(B31,PLANILHA_ORÇAMENTÁRIA!$A$17:$J$988,10,FALSE) -> 12932.83
B33: 11 | C33: =VLOOKUP(B33,PLANILHA_ORÇAMENTÁRIA!$A$17:$J$988,4,FALSE) -> PINTURA ESCOLA SUBSOLO | E33: 0.3 | F33: 0.7 | P33: =SUM(D33:O33) -> 1
