Workbook

Sheet Planilha_Iluminação
A1: [NOME DA EMPRESA]
A2: [ENDEREÇO DA EMPRESA]
A4: PLANILHA ORÇAMENTÁRIA
A6: OBRA: | C6: Iluminação pública ornamental na Rua Doze
A7: ENDEREÇO: | C7: Rua Doze, s/nº. Vila Cianelli. Itirapina/SP. | N7: Data da medição: | Q7: Data da medição: | T7: Data da medição: | W7: Data da medição: | Z7: Data da medição:
A9: BASE: | C9: CDHU 193 - 03/2024 - Com desoneração | K9: BDI | L9: 0.3278
K11: PROPOSTA EMPRESA | N11: 1ª MEDIÇÃO | Q11: 2ª MEDIÇÃO | T11: 3ª MEDIÇÃO | W11: 4ª MEDIÇÃO | Z11: 5ª MEDIÇÃO | AC11: ACUMULADO | AF11: SALDO
A12: ITEM | B12: FONTE | C12: CÓDIGO | D12: DESCRIÇÃO | E12: UNID. | F12: QUANT. | G12: VALOR UNITÁRIO | I12: MEMÓRIA DE CÁLCULO | J12: TOTAL + BDI | K12: V. UN. S/ BDI | L12: TOTAL + BDI | N12: Qtde | O12: Total | Q12: Qtde | R12: Total | T12: Qtde | U12: Total | W12: Qtde | X12: Total | Z12: Qtde | AA12: Total | AC12: Qtde | AD12: Total | AF12: Qtde | AG12: Total
G13: SEM BDI | H13: COM BDI
A14: 1 | D14: SERVIÇOS PRELIMINARES | J14: =SUM(J15:J17) -> 8692.77 | L14: =SUM(L15:L17) -> 0
A15: 1.1 | B15: CDHU | C15: 02.08.050 | D15: Placa em lona com impressão digital e estrutura em madeira | E15: M2 | F15: 6 | G15: 172.6 | H15: 229.18 | I15: 4,5 m x 1,5 m = 6 m² | J15: =H15*F15 -> 1375.08 | L15: =F15*ROUND(K15*(1+$L$9),2) -> 0 | O15: =($L15/$F15)*N15 -> 0 | R15: =($L15/$F15)*Q15 -> 0 | U15: =($L15/$F15)*T15 -> 0 | X15: =($L15/$F15)*W15 -> 0 | AA15: =($L15/$F15)*Z15 -> 0 | AC15: =N15+Q15+T15+W15+Z15 -> 0 | AD15: =O15+R15+U15+X15+AA15 -> 0 | AF15: =F15-AC15 -> 6 | AG15: =L15-AD15 -> 0
A16: 1.2 | B16: CDHU | C16: 02.02.150 | D16: Locação de container tipo depósito - área mínima de 13,80 m² | E16: UNMES | F16: 3 | G16: 811.2 | H16: 1077.11 | I16: 3 meses | J16: =H16*F16 -> 3231.33 | L16: =F16*ROUND(K16*(1+$L$9),2) -> 0 | O16: =($L16/$F16)*N16 -> 0 | R16: =($L16/$F16)*Q16 -> 0 | U16: =($L16/$F16)*T16 -> 0 | X16: =($L16/$F16)*W16 -> 0 | AA16: =($L16/$F16)*Z16 -> 0 | AC16: =N16+Q16+T16+W16+Z16 -> 0 | AD16: =O16+R16+U16+X16+AA16 -> 0 | AF16: =F16-AC16 -> 3 | AG16: =L16-AD16 -> 0
A17: 1.3 | B17: CDHU | C17: 02.01.180 | D17: Banheiro químico modelo Standard, com manutenção conforme exigências da CETESB | E17: UNMES | F17: 3 | G17: 1025.85 | H17: 1362.12 | I17: 3 meses | J17: =H17*F17 -> 4086.36 | L17: =F17*ROUND(K17*(1+$L$9),2) -> 0 | O17: =($L17/$F17)*N17 -> 0 | R17: =($L17/$F17)*Q17 -> 0 | U17: =($L17/$F17)*T17 -> 0 | X17: =($L17/$F17)*W17 -> 0 | AA17: =($L17/$F17)*Z17 -> 0 | AC17: =N17+Q17+T17+W17+Z17 -> 0 | AD17: =O17+R17+U17+X17+AA17 -> 0 | AF17: =F17-AC17 -> 3 | AG17: =L17-AD17 -> 0
A18: 2 | D18: ILUMINAÇÃO | J18: =J19+J32 -> 278086.96 | L18: =L19+L32 -> 0 | O18: =SUBTOTAL(9,O20:O42) -> 0 | R18: =SUBTOTAL(9,R20:R42) -> 0 | U18: =SUBTOTAL(9,U20:U42) -> 0 | X18: =SUBTOTAL(9,X20:X42) -> 0 | AA18: =SUBTOTAL(9,AA20:AA42) -> 0 | AD18: =SUBTOTAL(9,AD20:AD42) -> 0 | AG18: =SUBTOTAL(9,AG20:AG42) -> 0
A19: 2.1 | D19: Padrão de entrada | J19: =SUM(J20:J30) -> 6508.18 | L19: =SUM(L20:L30) -> 0
A20: 2.1.2 | B20: CDHU | C20: 68.01.600 | D20: Poste de concreto circular, 200 kg, H = 7,00 m | E20: UN | F20: 1 | G20: 1637.95 | H20: 2174.87 | I20: 1 unidade | J20: =H20*F20 -> 2174.87 | L20: =F20*ROUND(K20*(1+$L$9),2) -> 0 | O20: =($L20/$F20)*N20 -> 0 | R20: =($L20/$F20)*Q20 -> 0 | U20: =($L20/$F20)*T20 -> 0 | X20: =($L20/$F20)*W20 -> 0 | AA20: =($L20/$F20)*Z20 -> 0 | AC20: =N20+Q20+T20+W20+Z20 -> 0 | AD20: =O20+R20+U20+X20+AA20 -> 0 | AF20: =F20-AC20 -> 1 | AG20: =L20-AD20 -> 0
A21: 2.1.3 | B21: CDHU | C21: 36.03.010 | D21: Caixa de medição tipo II (300 x 560 x 200) mm, padrão concessionárias | E21: UN | F21: 1 | G21: 278.28 | H21: 369.5 | I21: 1 unidade no poste | J21: =H21*F21 -> 369.5 | L21: =F21*ROUND(K21*(1+$L$9),2) -> 0 | O21: =($L21/$F21)*N21 -> 0 | R21: =($L21/$F21)*Q21 -> 0 | U21: =($L21/$F21)*T21 -> 0 | X21: =($L21/$F21)*W21 -> 0 | AA21: =($L21/$F21)*Z21 -> 0 | AC21: =N21+Q21+T21+W21+Z21 -> 0 | AD21: =O21+R21+U21+X21+AA21 -> 0 | AF21: =F21-AC21 -> 1 | AG21: =L21-AD21 -> 0
A22: 2.1.4 | B22: CDHU | C22: 38.01.080 | D22: Eletroduto de PVC rígido roscável de 1 1/4´ - com acessórios | E22: M | F22: 15 | G22: 44.55 | H22: 59.15 | I22: 15 m para eletroduto que desce da rede principal ao solo | J22: =H22*F22 -> 887.25 | L22: =F22*ROUND(K22*(1+$L$9),2) -> 0 | O22: =($L22/$F22)*N22 -> 0 | R22: =($L22/$F22)*Q22 -> 0 | U22: =($L22/$F22)*T22 -> 0 | X22: =($L22/$F22)*W22 -> 0 | AA22: =($L22/$F22)*Z22 -> 0 | AC22: =N22+Q22+T22+W22+Z22 -> 0 | AD22: =O22+R22+U22+X22+AA22 -> 0 | AF22: =F22-AC22 -> 15 | AG22: =L22-AD22 -> 0
A23: 2.1.5 | B23: CDHU | C23: 42.05.320 | D23: Caixa de inspeção do terra cilíndrica em PVC rígido, diâmetro de 300 mm - h= 400 mm | E23: UN | F23: 1 | G23: 36.89 | H23: 48.98 | I23: 1 unidade na base no poste | J23: =H23*F23 -> 48.98 | L23: =F23*ROUND(K23*(1+$L$9),2) -> 0 | O23: =($L23/$F23)*N23 -> 0 | R23: =($L23/$F23)*Q23 -> 0 | U23: =($L23/$F23)*T23 -> 0 | X23: =($L23/$F23)*W23 -> 0 | AA23: =($L23/$F23)*Z23 -> 0 | AC23: =N23+Q23+T23+W23+Z23 -> 0 | AD23: =O23+R23+U23+X23+AA23 -> 0 | AF23: =F23-AC23 -> 1 | AG23: =L23-AD23 -> 0
A24: 2.1.6 | B24: CDHU | C24: 42.05.200 | D24: Haste de aterramento de 5/8" x 2,4 m | E24: UN | F24: 1 | G24: 206.16 | H24: 273.74 | I24: 1 unidade para o poste | J24: =H24*F24 -> 273.74 | L24: =F24*ROUND(K24*(1+$L$9),2) -> 0 | O24: =($L24/$F24)*N24 -> 0 | R24: =($L24/$F24)*Q24 -> 0 | U24: =($L24/$F24)*T24 -> 0 | X24: =($L24/$F24)*W24 -> 0 | AA24: =($L24/$F24)*Z24 -> 0 | AC24: =N24+Q24+T24+W24+Z24 -> 0 | AD24: =O24+R24+U24+X24+AA24 -> 0 | AF24: =F24-AC24 -> 1 | AG24: =L24-AD24 -> 0
A25: 2.1.7 | B25: CDHU | C25: 39.21.060 | D25: Cabo de cobre flexível de 16 mm², isolamento 0,6/1kV - isolação HEPR 90°C | E25: M | F25: 36 | G25: 15.62 | H25: 20.74 | I25: 3 cabos x 12 m para ligação = 36 m | J25: =H25*F25 -> 746.64 | L25: =F25*ROUND(K25*(1+$L$9),2) -> 0 | O25: =($L25/$F25)*N25 -> 0 | R25: =($L25/$F25)*Q25 -> 0 | U25: =($L25/$F25)*T25 -> 0 | X25: =($L25/$F25)*W25 -> 0 | AA25: =($L25/$F25)*Z25 -> 0 | AC25: =N25+Q25+T25+W25+Z25 -> 0 | AD25: =O25+R25+U25+X25+AA25 -> 0 | AF25: =F25-AC25 -> 36 | AG25: =L25-AD25 -> 0
A26: 2.1.8 | B26: CDHU | C26: 39.04.050 | D26: Cabo de cobre nu, têmpera mole, classe 2, de 16 mm² | E26: M | F26: 15 | G26: 15.52 | H26: 20.61 | I26: 15 m de cabo para aterramento | J26: =H26*F26 -> 309.15 | L26: =F26*ROUND(K26*(1+$L$9),2) -> 0 | O26: =($L26/$F26)*N26 -> 0 | R26: =($L26/$F26)*Q26 -> 0 | U26: =($L26/$F26)*T26 -> 0 | X26: =($L26/$F26)*W26 -> 0 | AA26: =($L26/$F26)*Z26 -> 0 | AC26: =N26+Q26+T26+W26+Z26 -> 0 | AD26: =O26+R26+U26+X26+AA26 -> 0 | AF26: =F26-AC26 -> 15 | AG26: =L26-AD26 -> 0
A27: 2.1.9 | B27: CDHU | C27: 40.11.010 | D27: Relé fotoelétrico 50/60 Hz, 110/220 V, 1200 VA, completo | E27: UN | F27: 1 | G27: 81.63 | H27: 108.39 | I27: 1 unidade | J27: =H27*F27 -> 108.39 | L27: =F27*ROUND(K27*(1+$L$9),2) -> 0 | O27: =($L27/$F27)*N27 -> 0 | R27: =($L27/$F27)*Q27 -> 0 | U27: =($L27/$F27)*T27 -> 0 | X27: =($L27/$F27)*W27 -> 0 | AA27: =($L27/$F27)*Z27 -> 0 | AC27: =N27+Q27+T27+W27+Z27 -> 0 | AD27: =O27+R27+U27+X27+AA27 -> 0 | AF27: =F27-AC27 -> 1 | AG27: =L27-AD27 -> 0
A28: 2.1.10 | B28: CDHU | C28: 42.05.370 | D28: Caixa de equalização, de embutir, em aço com barramento, de 400 x 400 mm e tampa | E28: UN | F28: 1 | G28: 535.72 | H28: 711.33 | I28: 1 unidade | J28: =H28*F28 -> 711.33 | L28: =F28*ROUND(K28*(1+$L$9),2) -> 0 | O28: =($L28/$F28)*N28 -> 0 | R28: =($L28/$F28)*Q28 -> 0 | U28: =($L28/$F28)*T28 -> 0 | X28: =($L28/$F28)*W28 -> 0 | AA28: =($L28/$F28)*Z28 -> 0 | AC28: =N28+Q28+T28+W28+Z28 -> 0 | AD28: =O28+R28+U28+X28+AA28 -> 0 | AF28: =F28-AC28 -> 1 | AG28: =L28-AD28 -> 0
A29: 2.1.11 | B29: CDHU | C29: 40.10.100 | D29: Contator de potência 32 A - 2na+2nf | E29: UN | F29: 1 | G29: 609.48 | H29: 809.27 | I29: 1 unidade | J29: =H29*F29 -> 809.27 | L29: =F29*ROUND(K29*(1+$L$9),2) -> 0 | O29: =($L29/$F29)*N29 -> 0 | R29: =($L29/$F29)*Q29 -> 0 | U29: =($L29/$F29)*T29 -> 0 | X29: =($L29/$F29)*W29 -> 0 | AA29: =($L29/$F29)*Z29 -> 0 | AC29: =N29+Q29+T29+W29+Z29 -> 0 | AD29: =O29+R29+U29+X29+AA29 -> 0 | AF29: =F29-AC29 -> 1 | AG29: =L29-AD29 -> 0
A30: 2.1.12 | B30: CDHU | C30: 37.13.840 | D30: Mini-disjuntor termomagnético, bipolar 220/380 V, corrente de 10 A até 32 A | E30: UN | F30: 1 | G30: 52.01 | H30: 69.06 | I30: 1 unidade | J30: =H30*F30 -> 69.06 | L30: =F30*ROUND(K30*(1+$L$9),2) -> 0 | O30: =($L30/$F30)*N30 -> 0 | R30: =($L30/$F30)*Q30 -> 0 | U30: =($L30/$F30)*T30 -> 0 | X30: =($L30/$F30)*W30 -> 0 | AA30: =($L30/$F30)*Z30 -> 0 | AC30: =N30+Q30+T30+W30+Z30 -> 0 | AD30: =O30+R30+U30+X30+AA30 -> 0 | AF30: =F30-AC30 -> 1 | AG30: =L30-AD30 -> 0
A32: 2.2 | D32: Postes e luminárias | J32: =SUM(J33:J42) -> 271578.78 | L32: =SUM(L33:L42) -> 0
A33: 2.2.1 | B33: CDHU | C33: 38.01.060 | D33: Eletroduto de PVC rígido roscável de 1´ - com acessórios | E33: M | F33: 661.5 | G33: 35.63 | H33: 47.31 | I33: comprimento total da rede: 661,50 m | J33: =H33*F33 -> 31295.57 | L33: =F33*ROUND(K33*(1+$L$9),2) -> 0 | O33: =($L33/$F33)*N33 -> 0 | R33: =($L33/$F33)*Q33 -> 0 | U33: =($L33/$F33)*T33 -> 0 | X33: =($L33/$F33)*W33 -> 0 | AA33: =($L33/$F33)*Z33 -> 0 | AC33: =N33+Q33+T33+W33+Z33 -> 0 | AD33: =O33+R33+U33+X33+AA33 -> 0 | AF33: =F33-AC33 -> 661.5 | AG33: =L33-AD33 -> 0
A34: 2.2.2 | B34: CDHU | C34: 41.10.430 | D34: Poste telecônico reto em aço SAE 1010/1020 galvanizado a fogo, altura de 6,00 m | E34: UN | F34: 45 | G34: 1703.59 | H34: 2262.03 | I34: 45 unidades de poste, conforme projeto | J34: =H34*F34 -> 101791.35 | L34: =F34*ROUND(K34*(1+$L$9),2) -> 0 | O34: =($L34/$F34)*N34 -> 0 | R34: =($L34/$F34)*Q34 -> 0 | U34: =($L34/$F34)*T34 -> 0 | X34: =($L34/$F34)*W34 -> 0 | AA34: =($L34/$F34)*Z34 -> 0 | AC34: =N34+Q34+T34+W34+Z34 -> 0 | AD34: =O34+R34+U34+X34+AA34 -> 0 | AF34: =F34-AC34 -> 45 | AG34: =L34-AD34 -> 0
A35: 2.2.3 | B35: CDHU | C35: 41.10.060 | D35: Braço em tubo de ferro galvanizado de 1" x 1,00 m para fixação de uma luminária | E35: UN | F35: 78 | G35: 120.66 | H35: 160.21 | I35: 33 postes com 2 braços + 12 postes com 1 braço = 78 unidades | J35: =H35*F35 -> 12496.38 | L35: =F35*ROUND(K35*(1+$L$9),2) -> 0 | O35: =($L35/$F35)*N35 -> 0 | R35: =($L35/$F35)*Q35 -> 0 | U35: =($L35/$F35)*T35 -> 0 | X35: =($L35/$F35)*W35 -> 0 | AA35: =($L35/$F35)*Z35 -> 0 | AC35: =N35+Q35+T35+W35+Z35 -> 0 | AD35: =O35+R35+U35+X35+AA35 -> 0 | AF35: =F35-AC35 -> 78 | AG35: =L35-AD35 -> 0
A36: 2.2.4 | B36: CDHU | C36: 41.11.704 | D36: Luminária LED retangular para poste, fluxo luminoso de 14083 lm, eficiência mínima 135 lm/W - potência de 104 W | E36: UN | F36: 78 | G36: 976.34 | H36: 1296.38 | I36: Igual ao número de braços: 78 unidades | J36: =H36*F36 -> 101117.64 | L36: =F36*ROUND(K36*(1+$L$9),2) -> 0 | O36: =($L36/$F36)*N36 -> 0 | R36: =($L36/$F36)*Q36 -> 0 | U36: =($L36/$F36)*T36 -> 0 | X36: =($L36/$F36)*W36 -> 0 | AA36: =($L36/$F36)*Z36 -> 0 | AC36: =N36+Q36+T36+W36+Z36 -> 0 | AD36: =O36+R36+U36+X36+AA36 -> 0 | AF36: =F36-AC36 -> 78 | AG36: =L36-AD36 -> 0
A37: 2.2.5 | B37: CDHU | C37: 42.05.200 | D37: Haste de aterramento de 5/8" x 2,4 m | E37: UN | F37: 2 | G37: 206.16 | H37: 273.74 | I37: Rede dividida em 2 aterramentos | J37: =H37*F37 -> 547.48 | L37: =F37*ROUND(K37*(1+$L$9),2) -> 0 | O37: =($L37/$F37)*N37 -> 0 | R37: =($L37/$F37)*Q37 -> 0 | U37: =($L37/$F37)*T37 -> 0 | X37: =($L37/$F37)*W37 -> 0 | AA37: =($L37/$F37)*Z37 -> 0 | AC37: =N37+Q37+T37+W37+Z37 -> 0 | AD37: =O37+R37+U37+X37+AA37 -> 0 | AF37: =F37-AC37 -> 2 | AG37: =L37-AD37 -> 0
A38: 2.2.6 | B38: CDHU | C38: 39.24.151 | D38: Cabo de cobre flexível de 3 x 1,5 mm², isolamento 500 V - isolação PP 70°C | E38: M | F38: 393 | G38: 10.11 | H38: 13.42 | I38: 45 postes de 6 m + 1 m de folga no solo por poste + 78 braços de 1 m = 393 m | J38: =H38*F38 -> 5274.06 | L38: =F38*ROUND(K38*(1+$L$9),2) -> 0 | O38: =($L38/$F38)*N38 -> 0 | R38: =($L38/$F38)*Q38 -> 0 | U38: =($L38/$F38)*T38 -> 0 | X38: =($L38/$F38)*W38 -> 0 | AA38: =($L38/$F38)*Z38 -> 0 | AC38: =N38+Q38+T38+W38+Z38 -> 0 | AD38: =O38+R38+U38+X38+AA38 -> 0 | AF38: =F38-AC38 -> 393 | AG38: =L38-AD38 -> 0
A39: 2.2.7 | B39: COT | C39: 1 | D39: Cabo de alumínio triplex 16mm² com neutro isolado 1KV | E39: M | F39: 661.5 | G39: 13.32 | H39: 13.32 | I39: =I33 -> comprimento total da rede: 661,50 m | J39: =H39*F39 -> 8811.18 | L39: =F39*ROUND(K39,2) -> 0 | O39: =($L39/$F39)*N39 -> 0 | R39: =($L39/$F39)*Q39 -> 0 | U39: =($L39/$F39)*T39 -> 0 | X39: =($L39/$F39)*W39 -> 0 | AA39: =($L39/$F39)*Z39 -> 0 | AC39: =N39+Q39+T39+W39+Z39 -> 0 | AD39: =O39+R39+U39+X39+AA39 -> 0 | AF39: =F39-AC39 -> 661.5 | AG39: =L39-AD39 -> 0
A40: 2.2.8 | B40: CDHU | C40: 42.05.320 | D40: Caixa de inspeção do terra cilíndrica em PVC rígido, diâmetro de 300 mm - h= 400 mm | E40: UN | F40: 2 | G40: 36.89 | H40: 48.98 | I40: =I37 -> Rede dividida em 2 aterramentos | J40: =H40*F40 -> 97.96 | L40: =F40*ROUND(K40*(1+$L$9),2) -> 0 | O40: =($L40/$F40)*N40 -> 0 | R40: =($L40/$F40)*Q40 -> 0 | U40: =($L40/$F40)*T40 -> 0 | X40: =($L40/$F40)*W40 -> 0 | AA40: =($L40/$F40)*Z40 -> 0 | AC40: =N40+Q40+T40+W40+Z40 -> 0 | AD40: =O40+R40+U40+X40+AA40 -> 0 | AF40: =F40-AC40 -> 2 | AG40: =L40-AD40 -> 0
A41: 2.2.9 | B41: CDHU | C41: 40.02.060 | D41: Caixa de passagem em chapa, com tampa parafusada, 200 x 200 x 100 mm | E41: UN | F41: 47 | G41: 38.58 | H41: 51.23 | I41: 1 caixa por poste x 45 postes + 2 aterramentos = 47 unidades | J41: =H41*F41 -> 2407.81 | L41: =F41*ROUND(K41*(1+$L$9),2) -> 0 | O41: =($L41/$F41)*N41 -> 0 | R41: =($L41/$F41)*Q41 -> 0 | U41: =($L41/$F41)*T41 -> 0 | X41: =($L41/$F41)*W41 -> 0 | AA41: =($L41/$F41)*Z41 -> 0 | AC41: =N41+Q41+T41+W41+Z41 -> 0 | AD41: =O41+R41+U41+X41+AA41 -> 0 | AF41: =F41-AC41 -> 47 | AG41: =L41-AD41 -> 0
A42: 2.2.10 | B42: CDHU | C42: 33.11.050 | D42: Esmalte à base água em superfície metálica, inclusive preparo | E42: M2 | F42: 133.46 | G42: 43.67 | H42: 57.99 | I42: 45 postes x 6 m x perímetro do tubo de 15 cm de diâmetro + 78 braços x 1 m x perímetro do tubo de 1" de diâmtro = 133,46 m² | J42: =H42*F42 -> 7739.35 | L42: =F42*ROUND(K42*(1+$L$9),2) -> 0 | O42: =($L42/$F42)*N42 -> 0 | R42: =($L42/$F42)*Q42 -> 0 | U42: =($L42/$F42)*T42 -> 0 | X42: =($L42/$F42)*W42 -> 0 | AA42: =($L42/$F42)*Z42 -> 0 | AC42: =N42+Q42+T42+W42+Z42 -> 0 | AD42: =O42+R42+U42+X42+AA42 -> 0 | AF42: =F42-AC42 -> 133.46 | AG42: =L42-AD42 -> 0
A44: TOTAL GERAL | J44: =J14+J18 -> 286779.73 | L44: =L14+L18 -> 0 | N44: =O44/$L$44 -> #REF! | O44: =#REF!+#REF!+#REF!+#REF!+#REF!+O18+#REF!+#REF!+#REF!+#REF!+#REF! -> #REF! | Q44: =R44/$L$44 -> #REF! | R44: =#REF!+#REF!+#REF!+#REF!+#REF!+R18+#REF!+#REF!+#REF!+#REF!+#REF! -> #REF! | T44: =U44/$L$44 -> #REF! | U44: =#REF!+#REF!+#REF!+#REF!+#REF!+U18+#REF!+#REF!+#REF!+#REF!+#REF! -> #REF! | W44: =X44/$L$44 -> #REF! | X44: =#REF!+#REF!+#REF!+#REF!+#REF!+X18+#REF!+#REF!+#REF!+#REF!+#REF! -> #REF! | Z44: =AA44/$L$44 -> #REF! | AA44: =#REF!+#REF!+#REF!+#REF!+#REF!+AA18+#REF!+#REF!+#REF!+#REF!+#REF! -> #REF! | AC44: =AD44/$L$44 -> #REF! | AD44: =#REF!+#REF!+#REF!+#REF!+#REF!+AD18+#REF!+#REF!+#REF!+#REF!+#REF! -> #REF! | AF44: =AG44/$L$44 -> #REF! | AG44: =#REF!+#REF!+#REF!+#REF!+#REF!+AG18+#REF!+#REF!+#REF!+#REF!+#REF! -> #REF!
D46: [LOCAL, DATA]
D52: [RESPONSÁVEL TÉCNICO]

Sheet Cronograma
A1: =Planilha_Iluminação!A1 -> [NOME DA EMPRESA]
A2: =Planilha_Iluminação!A2 -> [ENDEREÇO DA EMPRESA]
A4: CRONOGRAMA FÍSICO-FINANCEIRO
A6: OBRA: | B6: =Planilha_Iluminação!$C$6 -> Iluminação pública ornamental na Rua Doze
A7: END: | B7: =Planilha_Iluminação!$C$7 -> Rua Doze, s/nº. Vila Cianelli. Itirapina/SP.
A9: BASE: | B9: =Planilha_Iluminação!$C$9 -> CDHU 193 - 03/2024 - Com desoneração
A11: Meses Serviços | C11: 01 | D11: 02 | E11: 03 | F11: 04 | G11: 05 | H11: 06 | I11: 07 | J11: 08 | K11: 09 | L11: 10 | M11: 11 | N11: 12 | O11: Total
C12: 0 30 | D12: 60 | E12: 90 | F12: 120 | G12: 150 | H12: 180 | I12: 210 | J12: 240 | K12: 270 | L12: 300 | M12: 330 | N12: 360
A13: 1 | B13: SERVIÇOS PRELIMINARES | C13: 1 | O13: =SUM(C13:N13) -> 1
C14: =ROUND($P14*C13,2) -> 8692.77 | D14: =ROUND($P14*D13,2) -> 0 | E14: =ROUND($P14*E13,2) -> 0 | F14: =ROUND($P14*F13,2) -> 0 | G14: =ROUND($P14*G13,2) -> 0 | H14: =ROUND($P14*H13,2) -> 0 | I14: =ROUND($P14*I13,2) -> 0 | J14: =ROUND($P14*J13,2) -> 0 | ... N14: =ROUND($P14*N13,2) -> 0 | O14: =SUM(C14:N14) -> 8692.77 | P14: 8692.77
A15: 2 | B15: ILUMINAÇÃO | C15: 0.3 | D15: 0.35 | E15: 0.35 | O15: =SUM(C15:N15) -> 1
C16: =ROUND($P16*C15,2) -> 83426.09 | D16: =ROUND($P16*D15,2) -> 97330.44 | E16: =ROUND($P16*E15,2) -> 97330.44 | F16: =ROUND($P16*F15,2) -> 0 | G16: =ROUND($P16*G15,2) -> 0 | H16: =ROUND($P16*H15,2) -> 0 | I16: =ROUND($P16*I15,2) -> 0 | J16: =ROUND($P16*J15,2) -> 0 | ... N16: =ROUND($P16*N15,2) -> 0 | O16: =SUM(C16:N16) -> 278086.97 | P16: 278086.96
A17: 3 | B17: =VLOOKUP(A17,Planilha_Iluminação!$A$12:$J$963,4,FALSE) -> #N/A | O17: =SUM(C17:N17) -> 0
C18: =ROUND($P18*C17,2) -> #N/A | D18: =ROUND($P18*D17,2) -> #N/A | E18: =ROUND($P18*E17,2) -> #N/A | F18: =ROUND($P18*F17,2) -> #N/A | G18: =ROUND($P18*G17,2) -> #N/A | H18: =ROUND($P18*H17,2) -> #N/A | I18: =ROUND($P18*I17,2) -> #N/A | J18: =ROUND($P18*J17,2) -> #N/A | ... N18: =ROUND($P18*N17,2) -> #N/A | O18: =SUM(C18:N18) -> #N/A | P18: =VLOOKUP(A17,Planilha_Iluminação!$A$12:$J$963,10,FALSE) -> #N/A
A19: 4 | B19: =VLOOKUP(A19,Planilha_Iluminação!$A$12:$J$963,4,FALSE) -> #N/A | O19: =SUM(C19:N19) -> 0
C20: =ROUND($P20*C19,2) -> #N/A | D20: =ROUND($P20*D19,2) -> #N/A | E20: =ROUND($P20*E19,2) -> #N/A | F20: =ROUND($P20*F19,2) -> #N/A | G20: =ROUND($P20*G19,2) -> #N/A | H20: =ROUND($P20*H19,2) -> #N/A | I20: =ROUND($P20*I19,2) -> #N/A | J20: =ROUND($P20*J19,2) -> #N/A | ... N20: =ROUND($P20*N19,2) -> #N/A | O20: =SUM(C20:N20) -> #N/A | P20: =VLOOKUP(A19,Planilha_Iluminação!$A$12:$J$963,10,FALSE) -> #N/A
A21: 5 | B21: =VLOOKUP(A21,Planilha_Iluminação!$A$12:$J$963,4,FALSE) -> #N/A | O21: =SUM(C21:N21) -> 0
C22: =ROUND($P22*C21,2) -> #N/A | D22: =ROUND($P22*D21,2) -> #N/A | E22: =ROUND($P22*E21,2) -> #N/A | F22: =ROUND($P22*F21,2) -> #N/A | G22: =ROUND($P22*G21,2) -> #N/A | H22: =ROUND($P22*H21,2) -> #N/A | I22: =ROUND($P22*I21,2) -> #N/A | J22: =ROUND($P22*J21,2) -> #N/A | ... N22: =ROUND($P22*N21,2) -> #N/A | O22: =SUM(C22:N22) -> #N/A | P22: =VLOOKUP(A21,Planilha_Iluminação!$A$12:$J$963,10,FALSE) -> #N/A
A23: 6 | B23: =VLOOKUP(A23,Planilha_Iluminação!$A$12:$J$963,4,FALSE) -> #N/A | O23: =SUM(C23:N23) -> 0
C24: =ROUND($P24*C23,2) -> #N/A | D24: =ROUND($P24*D23,2) -> #N/A | E24: =ROUND($P24*E23,2) -> #N/A | F24: =ROUND($P24*F23,2) -> #N/A | G24: =ROUND($P24*G23,2) -> #N/A | H24: =ROUND($P24*H23,2) -> #N/A | I24: =ROUND($P24*I23,2) -> #N/A | J24: =ROUND($P24*J23,2) -> #N/A | ... N24: =ROUND($P24*N23,2) -> #N/A | O24: =SUM(C24:N24) -> #N/A | P24: =VLOOKUP(A23,Planilha_Iluminação!$A$12:$J$963,10,FALSE) -> #N/A
A25: 7 | B25: =VLOOKUP(A25,Planilha_Iluminação!$A$12:$J$963,4,FALSE) -> #N/A | O25: =SUM(C25:N25) -> 0
C26: =ROUND($P26*C25,2) -> #N/A | D26: =ROUND($P26*D25,2) -> #N/A | E26: =ROUND($P26*E25,2) -> #N/A | F26: =ROUND($P26*F25,2) -> #N/A | G26: =ROUND($P26*G25,2) -> #N/A | H26: =ROUND($P26*H25,2) -> #N/A | I26: =ROUND($P26*I25,2) -> #N/A | J26: =ROUND($P26*J25,2) -> #N/A | ... N26: =ROUND($P26*N25,2) -> #N/A | O26: =SUM(C26:N26) -> #N/A | P26: =VLOOKUP(A25,Planilha_Iluminação!$A$12:$J$963,10,FALSE) -> #N/A
A27: 8 | B27: =VLOOKUP(A27,Planilha_Iluminação!$A$12:$J$963,4,FALSE) -> #N/A | O27: =SUM(C27:N27) -> 0
C28: =ROUND($P28*C27,2) -> #N/A | D28: =ROUND($P28*D27,2) -> #N/A | E28: =ROUND($P28*E27,2) -> #N/A | F28: =ROUND($P28*F27,2) -> #N/A | G28: =ROUND($P28*G27,2) -> #N/A | H28: =ROUND($P28*H27,2) -> #N/A | I28: =ROUND($P28*I27,2) -> #N/A | J28: =ROUND($P28*J27,2) -> #N/A | ... N28: =ROUND($P28*N27,2) -> #N/A | O28: =SUM(C28:N28) -> #N/A | P28: =VLOOKUP(A27,Planilha_Iluminação!$A$12:$J$963,10,FALSE) -> #N/A
A29: 9 | B29: =VLOOKUP(A29,Planilha_Iluminação!$A$12:$J$963,4,FALSE) -> #N/A | O29: =SUM(C29:N29) -> 0
C30: =ROUND($P30*C29,2) -> #N/A | D30: =ROUND($P30*D29,2) -> #N/A | E30: =ROUND($P30*E29,2) -> #N/A | F30: =ROUND($P30*F29,2) -> #N/A | G30: =ROUND($P30*G29,2) -> #N/A | H30: =ROUND($P30*H29,2) -> #N/A | I30: =ROUND($P30*I29,2) -> #N/A | J30: =ROUND($P30*J29,2) -> #N/A | ... N30: =ROUND($P30*N29,2) -> #N/A | O30: =SUM(C30:N30) -> #N/A | P30: =VLOOKUP(A29,Planilha_Iluminação!$A$12:$J$963,10,FALSE) -> #N/A
A31: 10 | B31: =VLOOKUP(A31,Planilha_Iluminação!$A$12:$J$963,4,FALSE) -> #N/A | O31: =SUM(C31:N31) -> 0
C32: =ROUND($P32*C31,2) -> #N/A | D32: =ROUND($P32*D31,2) -> #N/A | E32: =ROUND($P32*E31,2) -> #N/A | F32: =ROUND($P32*F31,2) -> #N/A | G32: =ROUND($P32*G31,2) -> #N/A | H32: =ROUND($P32*H31,2) -> #N/A | I32: =ROUND($P32*I31,2) -> #N/A | J32: =ROUND($P32*J31,2) -> #N/A | ... N32: =ROUND($P32*N31,2) -> #N/A | O32: =SUM(C32:N32) -> #N/A | P32: =VLOOKUP(A31,Planilha_Iluminação!$A$12:$J$963,10,FALSE) -> #N/A
A33: 11 | B33: =VLOOKUP(A33,Planilha_Iluminação!$A$12:$J$963,4,FALSE) -> #N/A | O33: =SUM(C33:N33) -> 0
C34: =ROUND($P34*C33,2) -> #N/A | D34: =ROUND($P34*D33,2) -> #N/A | E34: =ROUND($P34*E33,2) -> #N/A | F34: =ROUND($P34*F33,2) -> #N/A | G34: =ROUND($P34*G33,2) -> #N/A | H34: =ROUND($P34*H33,2) -> #N/A | I34: =ROUND($P34*I33,2) -> #N/A | J34: =ROUND($P34*J33,2) -> #N/A | ... N34: =ROUND($P34*N33,2) -> #N/A | O34: =SUM(C34:N34) -> #N/A | P34: =VLOOKUP(A33,Planilha_Iluminação!$A$12:$J$963,10,FALSE) -> #N/A
A35: Total | C35: =SUM(C14,C16) -> 92118.86 | D35: =SUM(D14,D16) -> 97330.44 | E35: =SUM(E14,E16) -> 97330.44 | F35: =SUM(F14,F16) -> 0 | G35: =SUM(G14) -> 0 | H35: =SUM(H14) -> 0 | I35: =SUM(I14) -> 0 | J35: =SUM(J14) -> 0 | K35: =SUM(K14) -> 0 | L35: =SUM(L14) -> 0 | M35: =SUM(M14) -> 0 | N35: =SUM(N14) -> 0 | O35: =SUM(C35:N35) -> 286779.74 | P35: =SUM(P14:P16) -> 286779.73
B37: =Planilha_Iluminação!D46 -> [LOCAL, DATA]
B43: =Planilha_Iluminação!$D$52 -> [RESPONSÁVEL TÉCNICO]
