Workbook
Name \z: #REF!
Name \z: #REF!
Name \z: #REF!
Name \z: #REF!
Name \z: #REF!
Name ______REC3: #REF!
Name ______REC35: #REF!
Name ______REC4: #REF!
Name ______REP1: #REF!
Name ______REP15: #REF!
Name ______REP2: #REF!
Name ______SE2: #REF!
Name _____REC3: #REF!
Name _____REC35: #REF!
Name _____REC4: #REF!
Name _____REP1: #REF!
Name _____REP15: #REF!
Name _____REP2: #REF!
Name ____REC3: #REF!
Name ____REC35: #REF!
Name ____REC4: #REF!
Name ____REP1: #REF!
Name ____REP15: #REF!
Name ____REP2: #REF!
Name ____SE2: #REF!
Name ___REC3: #REF!
Name ___REC35: #REF!
Name ___REC4: #REF!
Name ___REP1: #REF!
Name ___REP15: #REF!
Name ___REP2: #REF!
Name ___SE2: #REF!
Name __REC3: #REF!
Name __REC35: #REF!
Name __REC4: #REF!
Name __REP1: #REF!
Name __REP15: #REF!
Name __REP2: #REF!
Name __SE2: #REF!
Name _01.00.00: #REF!
Name _01.01.00: #REF!
Name _01.02.00: #REF!
Name _01.03.00: #REF!
Name _01.04.00: #REF!
Name _01.05.00: #REF!
Name _01.06.00: #REF!
Name _01.07.00: #REF!
Name _01.08.00: #REF!
Name _01.09.00: #REF!
Name _01.10.00: #REF!
Name _01.11.00: #REF!
Name _01.12.00: #REF!
Name _01.13.00: #REF!
Name _01.14.00: #REF!
Name _01.15.00: #REF!
Name _01.16.00: #REF!
Name _01.17.00: #REF!
Name _01.18.00: #REF!
Name _02.00.00: #REF!
Name _02.01.00: #REF!

Sheet CLIENTE-OBJETO
A1: Dados da Obra | M1: RESUMO | P1: ESCOLHIDO | R1: RESUMO | S1: =#REF! -> #REF!
A2: Cliente | B2: PREFEITURA MUNICIPAL DE PIRACICABA | M2: BDI Geral | N2: DESONERADO | O2: ONERADO | R2: PLANILHA | S2: ='Plan. Orçamentária'!L116 -> 0
A3: Objeto | B3: PLANO DE COMBATE A INCÊNDIO (PCI) CEREST | M3: BDI Diferen. | N3: 0 | O3: 0 | P3: =IF($C$7="Desonerado",N3,O3) -> 0 | R3: CRONOGRAMA | S3: =#REF! -> #REF!
A4: Local | B4: RUA DO TRABALHO, 602 - VILA INDEPENDÊNCIA, PIRACICABA/SP | M4: Valor Global | N4: =#REF! -> #REF! | O4: =#REF! -> #REF! | P4: =IF($C$7="Desonerado",N4,O4) -> #REF! | R4: VER 01 | S4: =S1=S2 -> #REF!
A5: Base | B5: =M10&" - "&N10&" | "&M11&" - "&N11&" | "&M12&" - "&N12&" | "&M13&" - "&N13&" | "&M14&" - "&N14&" | "&M15&" - "&N15&" |" -> SINAPI - ABR.2026 | CDHU - FEV.2026 (201) | SIURB EDIF - JAN.2026 | SIURB INFRA - JAN.2026 | FDE - JAN.2026 | COMPOSIÇÃO - JAN.2026 | | M5: Diferença | N5: 0 | O5: 0 | R5: VER 02 | S5: =S2=S3 -> #REF!
A6: Leis Sociais: | B6: =M10&" - "&O10*100&"%"&" | "&M11&" - "&O11*100&"%"&" | "&M12&" - "&O12*100&"%"&" | "&M13&" - "&O13*100&"%"&" | "&M14&" - "&O14*100&"%"&" | " -> SINAPI - 99,09% | CDHU - 113% | SIURB EDIF - 129,17% | SIURB INFRA - 129,17% | FDE - 122% | | N6: 0 | R6: VER 03 | S6: =S1=S3 -> #REF!
A7: BDI | B7: =P4 -> #REF! | C7: DESONERADO
N9: VERSÃO BASE | O9: LEIS SOCIAIS | P9: ATUALIZAÇÃO | Q9: INTERVALO (MÊS)
A10: Data: | B10: =TODAY() -> 46247 | M10: SINAPI | N10: ABR.2026 | O10: ='SINAPI_DESONERADO-04.2026'!E6 -> 0.9909 | P10: MENSAL | Q10: (1-2-3-...)
M11: CDHU | N11: FEV.2026 (201) | O11: 1.13 | P11: TRIMESTRAL | Q11: (3-6-9-12)
M12: SIURB EDIF | N12: JAN.2026 | O12: 1.2917 | P12: SEMESTRAL | Q12: (01-07) | R12: 1 | S12: JANEIRO
M13: SIURB INFRA | N13: JAN.2026 | O13: 1.2917 | P13: SEMESTRAL | Q13: (01-07) | R13: 2 | S13: FEVEREIRO
M14: FDE | N14: JAN.2026 | O14: 1.22 | P14: TRIMESTRAL | Q14: (01-04-07-10) | R14: 3 | S14: MARÇO
A15: ASSINATURA: | B15: ARQº MARLON LIMA | M15: COMPOSIÇÃO | N15: JAN.2026 | P15: TRIMESTRAL | Q15: (01-04-07-10) | R15: 4 | S15: ABRIL
B16: ARQUITETO E URBANISTA | R16: 5 | S16: MAIO
B17: CAU / SP A96639-8 | R17: 6 | S17: JUNHO
R18: 7 | S18: JULHO
R19: 8 | S19: AGOSTO
A20: VERSÃO | B20: DATA | C20: ELAB. | D20: VER. | E20: APROV. | F20: DESCRIÇÃO | R20: 9 | S20: SETEMBRO
A21: V00 | B21: 45682 | C21: L.D | D21: D.N. | E21: S.F. | F21: EMISSÃO INICIAL | R21: 10 | S21: OUTUBRO
A22: V01 | B22: 45803 | C22: L.D | D22: D.N. | E22: S.F. | F22: EMISSÃO | R22: 11 | S22: NOVEMBRO
R23: 12 | S23: DEZEMBRO
R24: 13
R25: 14
R26: 15
R27: 16
R28: 17
R29: 18
R30: 19

Sheet Plan. Orçamentária
D1: Dados da Obra
D2: Cliente | E2: ='CLIENTE-OBJETO'!B2 -> PREFEITURA MUNICIPAL DE PIRACICABA
D3: Objeto | E3: ='CLIENTE-OBJETO'!B3 -> PLANO DE COMBATE A INCÊNDIO (PCI) CEREST
D4: Local | E4: ='CLIENTE-OBJETO'!B4 -> RUA DO TRABALHO, 602 - VILA INDEPENDÊNCIA, PIRACICABA/SP
D5: Base | E5: ='CLIENTE-OBJETO'!B5 -> SINAPI - ABR.2026 | CDHU - FEV.2026 (201) | SIURB EDIF - JAN.2026 | SIURB INFRA - JAN.2026 | FDE - JAN.2026 | COMPOSIÇÃO - JAN.2026 |
D6: Leis Sociais: | E6: ='CLIENTE-OBJETO'!B6 -> SINAPI - 99,09% | CDHU - 113% | SIURB EDIF - 129,17% | SIURB INFRA - 129,17% | FDE - 122% |
D7: BDI | E7: ='CLIENTE-OBJETO'!B7 -> #REF! | F7: DESONERADO
D10: PLANILHA ORÇAMENTÁRIA
I12: CONTRATADO - ORIGINAL
H13: T | I13: VALOR GLOBAL | L13: =L116 -> 0
D15: Item | E15: Fonte | F15: Código | G15: Descrição dos Serviços | H15: Unid. 1 | I15: Quant. | J15: Custo Unitário | K15: Preço Unitário | L15: Preço Total
A17: =LEFT(D17,2) -> 1 | B17: =D17 -> 1 | D17: 1 | E17: PLACA DA OBRA E CANTEIRO | K17: SUBTOTAL | L17: =SUMIF(C18:C481,D17,L18:L730) -> 0
A18: =LEFT(D18,1) -> 1 | B18: =D17 -> 1 | C18: =IF(D18="",0,B18) -> 1 | D18: =D17*1000+1 -> 1001 | E18: SINAPI | F18: 103689 | G18: =IF($E18="SINAPI",VLOOKUP($F18,'SINAPI_DESONERADO-04.2026'!$B$11:$E$19657,2,FALSE),IF($E18="CDHU",VLOOKUP($F18,'CDHU_Desonerado-FEV.2026 (201)'!$A$9:$F$4118,2,FALSE),IF($E18="FDE",VLOOKUP($F18,'FDE-01.26'!$A$1:$D$3994,2,FALSE),IF($E18="SIURB (E)",VLOOKUP($F18,'EDIF COM Des JAN.2026'!$A$3:$D$3000,2,FALSE),IF($E18="SIURB (I)",VLOOKUP($F18,'INFRA COM Des JAN.2026'!$A$2:$D$1000,2,FALSE),IF($E18="SICRO NOVO",VLOOKUP($F18,'SICRO.DNIT DESONERADA 01.26'!$A$4:$D$7000,2,FALSE),IF($E18="COMP.",VLOOKUP($F18,'COMPOSIÇÃO '!D:I,2,0)))))))) -> FORNECIMENTO E INSTALAÇÃO DE PLACA DE OBRA COM CHAPA GALVANIZADA E ESTRUTURA DE MADEIRA. AF_03/2022_PS | H18: =IF($E18="SINAPI",VLOOKUP($F18,'SINAPI_DESONERADO-04.2026'!$B$11:$E$19657,3,FALSE),IF($E18="CDHU",VLOOKUP($F18,'CDHU_Desonerado-FEV.2026 (201)'!$A$9:$F$4118,3,FALSE),IF($E18="FDE",VLOOKUP($F18,'FDE-01.26'!$A$1:$D$3994,3,FALSE),IF($E18="SIURB (E)",VLOOKUP($F18,'EDIF COM Des JAN.2026'!$A$1:$D$3000,3,FALSE),IF($E18="SIURB (I)",VLOOKUP($F18,'INFRA COM Des JAN.2026'!$A$2:$D$1000,3,FALSE),IF($E18="SICRO NOVO",VLOOKUP($F18,'SICRO.DNIT DESONERADA 01.26'!$A$4:$D$7000,3,FALSE),IF($E18="COMP.",VLOOKUP($F18,'COMPOSIÇÃO '!D:I,3,0)))))))) -> M2 | I18: =IF(D18<>0,INDEX('MEMORIA CALCULO'!$A$1:$Q$109850,MATCH(D18,'MEMORIA CALCULO'!$A$1:$A$8050,0),16),0) -> 2
A19: =LEFT(D19,1) -> 1 | B19: =B18 -> 1 | C19: =IF(D19="",0,B19) -> 1 | D19: =D18+1 -> 1002 | E19: SINAPI | F19: 103694 | G19: =IF($E19="SINAPI",VLOOKUP($F19,'SINAPI_DESONERADO-04.2026'!$B$11:$E$19657,2,FALSE),IF($E19="CDHU",VLOOKUP($F19,'CDHU_Desonerado-FEV.2026 (201)'!$A$9:$F$4118,2,FALSE),IF($E19="FDE",VLOOKUP($F19,'FDE-01.26'!$A$1:$D$3994,2,FALSE),IF($E19="SIURB (E)",VLOOKUP($F19,'EDIF COM Des JAN.2026'!$A$3:$D$3000,2,FALSE),IF($E19="SIURB (I)",VLOOKUP($F19,'INFRA COM Des JAN.2026'!$A$2:$D$1000,2,FALSE),IF($E19="SICRO NOVO",VLOOKUP($F19,'SICRO.DNIT DESONERADA 01.26'!$A$4:$D$7000,2,FALSE),IF($E19="COMP.",VLOOKUP($F19,'COMPOSIÇÃO '!D:I,2,0)))))))) -> FORNECIMENTO E INSTALAÇÃO DE SUPORTE DE MADEIRA PARA PLACAS DE SINALIZAÇÃO, EM SOLO, COM H= DE 2,5 M E SEÇÃO DE 7,5 X 7,5 CM. AF_03/2022 | H19: =IF($E19="SINAPI",VLOOKUP($F19,'SINAPI_DESONERADO-04.2026'!$B$11:$E$19657,3,FALSE),IF($E19="CDHU",VLOOKUP($F19,'CDHU_Desonerado-FEV.2026 (201)'!$A$9:$F$4118,3,FALSE),IF($E19="FDE",VLOOKUP($F19,'FDE-01.26'!$A$1:$D$3994,3,FALSE),IF($E19="SIURB (E)",VLOOKUP($F19,'EDIF COM Des JAN.2026'!$A$1:$D$3000,3,FALSE),IF($E19="SIURB (I)",VLOOKUP($F19,'INFRA COM Des JAN.2026'!$A$2:$D$1000,3,FALSE),IF($E19="SICRO NOVO",VLOOKUP($F19,'SICRO.DNIT DESONERADA 01.26'!$A$4:$D$7000,3,FALSE),IF($E19="COMP.",VLOOKUP($F19,'COMPOSIÇÃO '!D:I,3,0)))))))) -> UN | I19: =IF(D19<>0,INDEX('MEMORIA CALCULO'!$A$1:$Q$109850,MATCH(D19,'MEMORIA CALCULO'!$A$1:$A$8050,0),16),0) -> 2
A20: =LEFT(D20,1) -> 1 | B20: =B19 -> 1 | C20: =IF(D20="",0,B20) -> 1 | D20: =D19+1 -> 1003 | E20: FDE | F20: 16.06.047 | G20: =IF($E20="SINAPI",VLOOKUP($F20,'SINAPI_DESONERADO-04.2026'!$B$11:$E$19657,2,FALSE),IF($E20="CDHU",VLOOKUP($F20,'CDHU_Desonerado-FEV.2026 (201)'!$A$9:$F$4118,2,FALSE),IF($E20="FDE",VLOOKUP($F20,'FDE-01.26'!$A$1:$D$3994,2,FALSE),IF($E20="SIURB (E)",VLOOKUP($F20,'EDIF COM Des JAN.2026'!$A$3:$D$3000,2,FALSE),IF($E20="SIURB (I)",VLOOKUP($F20,'INFRA COM Des JAN.2026'!$A$2:$D$1000,2,FALSE),IF($E20="SICRO NOVO",VLOOKUP($F20,'SICRO.DNIT DESONERADA 01.26'!$A$4:$D$7000,2,FALSE),IF($E20="COMP.",VLOOKUP($F20,'COMPOSIÇÃO '!D:I,2,0)))))))) -> LOCAÇÃO MENSAL DE CONTAINER 4,00M COM 2 VASOS SANITARIOS, 1 LAVABO, 1 MICTÓRIO E 4 PONTOS CHUV. | H20: =IF($E20="SINAPI",VLOOKUP($F20,'SINAPI_DESONERADO-04.2026'!$B$11:$E$19657,3,FALSE),IF($E20="CDHU",VLOOKUP($F20,'CDHU_Desonerado-FEV.2026 (201)'!$A$9:$F$4118,3,FALSE),IF($E20="FDE",VLOOKUP($F20,'FDE-01.26'!$A$1:$D$3994,3,FALSE),IF($E20="SIURB (E)",VLOOKUP($F20,'EDIF COM Des JAN.2026'!$A$1:$D$3000,3,FALSE),IF($E20="SIURB (I)",VLOOKUP($F20,'INFRA COM Des JAN.2026'!$A$2:$D$1000,3,FALSE),IF($E20="SICRO NOVO",VLOOKUP($F20,'SICRO.DNIT DESONERADA 01.26'!$A$4:$D$7000,3,FALSE),IF($E20="COMP.",VLOOKUP($F20,'COMPOSIÇÃO '!D:I,3,0)))))))) -> M2 | I20: =IF(D20<>0,INDEX('MEMORIA CALCULO'!$A$1:$Q$109850,MATCH(D20,'MEMORIA CALCULO'!$A$1:$A$8050,0),16),0) -> 9.76
A22: =LEFT(D22,2) -> 2 | B22: =D22 -> 2 | D22: =D17+1 -> 2 | E22: RESERVA PARA INCÊNDIO
A23: =LEFT(D23,1) -> 2 | B23: =D22 -> 2 | C23: =IF(D23="",0,B23) -> 2 | D23: =D22*1000+1 -> 2001 | E23: CDHU | F23: 48.02.207 | G23: =IF($E23="SINAPI",VLOOKUP($F23,'SINAPI_DESONERADO-04.2026'!$B$11:$E$19657,2,FALSE),IF($E23="CDHU",VLOOKUP($F23,'CDHU_Desonerado-FEV.2026 (201)'!$A$9:$F$4118,2,FALSE),IF($E23="FDE",VLOOKUP($F23,'FDE-01.26'!$A$1:$D$3994,2,FALSE),IF($E23="SIURB (E)",VLOOKUP($F23,'EDIF COM Des JAN.2026'!$A$3:$D$3000,2,FALSE),IF($E23="SIURB (I)",VLOOKUP($F23,'INFRA COM Des JAN.2026'!$A$2:$D$1000,2,FALSE),IF($E23="SICRO NOVO",VLOOKUP($F23,'SICRO.DNIT DESONERADA 01.26'!$A$4:$D$7000,2,FALSE),IF($E23="COMP.",VLOOKUP($F23,'COMPOSIÇÃO '!D:I,2,0)))))))) -> Reservatório em polietileno com tampa de encaixar - capacidade de 10.000 litros | H23: =IF($E23="SINAPI",VLOOKUP($F23,'SINAPI_DESONERADO-04.2026'!$B$11:$E$19657,3,FALSE),IF($E23="CDHU",VLOOKUP($F23,'CDHU_Desonerado-FEV.2026 (201)'!$A$9:$F$4118,3,FALSE),IF($E23="FDE",VLOOKUP($F23,'FDE-01.26'!$A$1:$D$3994,3,FALSE),IF($E23="SIURB (E)",VLOOKUP($F23,'EDIF COM Des JAN.2026'!$A$1:$D$3000,3,FALSE),IF($E23="SIURB (I)",VLOOKUP($F23,'INFRA COM Des JAN.2026'!$A$2:$D$1000,3,FALSE),IF($E23="SICRO NOVO",VLOOKUP($F23,'SICRO.DNIT DESONERADA 01.26'!$A$4:$D$7000,3,FALSE),IF($E23="COMP.",VLOOKUP($F23,'COMPOSIÇÃO '!D:I,3,0)))))))) -> UN | I23: =IF(D23<>0,INDEX('MEMORIA CALCULO'!$A$1:$Q$109850,MATCH(D23,'MEMORIA CALCULO'!$A$1:$A$8050,0),16),0) -> 1
A24: =LEFT(D24,1) -> 2 | B24: =B23 -> 2 | C24: =IF(D24="",0,B24) -> 2 | D24: =D23+1 -> 2002 | E24: CDHU | F24: 48.05.050 | G24: =IF($E24="SINAPI",VLOOKUP($F24,'SINAPI_DESONERADO-04.2026'!$B$11:$E$19657,2,FALSE),IF($E24="CDHU",VLOOKUP($F24,'CDHU_Desonerado-FEV.2026 (201)'!$A$9:$F$4118,2,FALSE),IF($E24="FDE",VLOOKUP($F24,'FDE-01.26'!$A$1:$D$3994,2,FALSE),IF($E24="SIURB (E)",VLOOKUP($F24,'EDIF COM Des JAN.2026'!$A$3:$D$3000,2,FALSE),IF($E24="SIURB (I)",VLOOKUP($F24,'INFRA COM Des JAN.2026'!$A$2:$D$1000,2,FALSE),IF($E24="SICRO NOVO",VLOOKUP($F24,'SICRO.DNIT DESONERADA 01.26'!$A$4:$D$7000,2,FALSE),IF($E24="COMP.",VLOOKUP($F24,'COMPOSIÇÃO '!D:I,2,0)))))))) -> Torneira de boia, DN= 2´ | H24: =IF($E24="SINAPI",VLOOKUP($F24,'SINAPI_DESONERADO-04.2026'!$B$11:$E$19657,3,FALSE),IF($E24="CDHU",VLOOKUP($F24,'CDHU_Desonerado-FEV.2026 (201)'!$A$9:$F$4118,3,FALSE),IF($E24="FDE",VLOOKUP($F24,'FDE-01.26'!$A$1:$D$3994,3,FALSE),IF($E24="SIURB (E)",VLOOKUP($F24,'EDIF COM Des JAN.2026'!$A$1:$D$3000,3,FALSE),IF($E24="SIURB (I)",VLOOKUP($F24,'INFRA COM Des JAN.2026'!$A$2:$D$1000,3,FALSE),IF($E24="SICRO NOVO",VLOOKUP($F24,'SICRO.DNIT DESONERADA 01.26'!$A$4:$D$7000,3,FALSE),IF($E24="COMP.",VLOOKUP($F24,'COMPOSIÇÃO '!D:I,3,0)))))))) -> UN | I24: =IF(D24<>0,INDEX('MEMORIA CALCULO'!$A$1:$Q$109850,MATCH(D24,'MEMORIA CALCULO'!$A$1:$A$8050,0),16),0) -> 1
A26: =LEFT(D26,2) -> 3 | B26: =D26 -> 3 | D26: =D22+1 -> 3 | E26: COMBATE A INCÊNDIO
E27: EXTINTORES
A28: =LEFT(D28,1) -> 3 | B28: =D26 -> 3 | C28: =IF(D28="",0,B28) -> 3 | D28: =D26*1000+1 -> 3001 | E28: CDHU | F28: 50.10.120 | G28: =IF($E28="SINAPI",VLOOKUP($F28,'SINAPI_DESONERADO-04.2026'!$B$11:$E$19657,2,FALSE),IF($E28="CDHU",VLOOKUP($F28,'CDHU_Desonerado-FEV.2026 (201)'!$A$9:$F$4118,2,FALSE),IF($E28="FDE",VLOOKUP($F28,'FDE-01.26'!$A$1:$D$3994,2,FALSE),IF($E28="SIURB (E)",VLOOKUP($F28,'EDIF COM Des JAN.2026'!$A$3:$D$3000,2,FALSE),IF($E28="SIURB (I)",VLOOKUP($F28,'INFRA COM Des JAN.2026'!$A$2:$D$1000,2,FALSE),IF($E28="SICRO NOVO",VLOOKUP($F28,'SICRO.DNIT DESONERADA 01.26'!$A$4:$D$7000,2,FALSE),IF($E28="COMP.",VLOOKUP($F28,'COMPOSIÇÃO '!D:I,2,0)))))))) -> Extintor manual de pó químico seco ABC - capacidade de 6 kg | H28: =IF($E28="SINAPI",VLOOKUP($F28,'SINAPI_DESONERADO-04.2026'!$B$11:$E$19657,3,FALSE),IF($E28="CDHU",VLOOKUP($F28,'CDHU_Desonerado-FEV.2026 (201)'!$A$9:$F$4118,3,FALSE),IF($E28="FDE",VLOOKUP($F28,'FDE-01.26'!$A$1:$D$3994,3,FALSE),IF($E28="SIURB (E)",VLOOKUP($F28,'EDIF COM Des JAN.2026'!$A$1:$D$3000,3,FALSE),IF($E28="SIURB (I)",VLOOKUP($F28,'INFRA COM Des JAN.2026'!$A$2:$D$1000,3,FALSE),IF($E28="SICRO NOVO",VLOOKUP($F28,'SICRO.DNIT DESONERADA 01.26'!$A$4:$D$7000,3,FALSE),IF($E28="COMP.",VLOOKUP($F28,'COMPOSIÇÃO '!D:I,3,0)))))))) -> UN | I28: =IF(D28<>0,INDEX('MEMORIA CALCULO'!$A$1:$Q$109850,MATCH(D28,'MEMORIA CALCULO'!$A$1:$A$8050,0),16),0) -> 15
A29: =LEFT(D29,1) -> 3 | B29: =D26 -> 3 | C29: =IF(D29="",0,B29) -> 3 | D29: =D28+1 -> 3002 | E29: CDHU | F29: 50.10.220 | G29: =IF($E29="SINAPI",VLOOKUP($F29,'SINAPI_DESONERADO-04.2026'!$B$11:$E$19657,2,FALSE),IF($E29="CDHU",VLOOKUP($F29,'CDHU_Desonerado-FEV.2026 (201)'!$A$9:$F$4118,2,FALSE),IF($E29="FDE",VLOOKUP($F29,'FDE-01.26'!$A$1:$D$3994,2,FALSE),IF($E29="SIURB (E)",VLOOKUP($F29,'EDIF COM Des JAN.2026'!$A$3:$D$3000,2,FALSE),IF($E29="SIURB (I)",VLOOKUP($F29,'INFRA COM Des JAN.2026'!$A$2:$D$1000,2,FALSE),IF($E29="SICRO NOVO",VLOOKUP($F29,'SICRO.DNIT DESONERADA 01.26'!$A$4:$D$7000,2,FALSE),IF($E29="COMP.",VLOOKUP($F29,'COMPOSIÇÃO '!D:I,2,0)))))))) -> Suporte para extintor de piso em aço inoxidável | H29: =IF($E29="SINAPI",VLOOKUP($F29,'SINAPI_DESONERADO-04.2026'!$B$11:$E$19657,3,FALSE),IF($E29="CDHU",VLOOKUP($F29,'CDHU_Desonerado-FEV.2026 (201)'!$A$9:$F$4118,3,FALSE),IF($E29="FDE",VLOOKUP($F29,'FDE-01.26'!$A$1:$D$3994,3,FALSE),IF($E29="SIURB (E)",VLOOKUP($F29,'EDIF COM Des JAN.2026'!$A$1:$D$3000,3,FALSE),IF($E29="SIURB (I)",VLOOKUP($F29,'INFRA COM Des JAN.2026'!$A$2:$D$1000,3,FALSE),IF($E29="SICRO NOVO",VLOOKUP($F29,'SICRO.DNIT DESONERADA 01.26'!$A$4:$D$7000,3,FALSE),IF($E29="COMP.",VLOOKUP($F29,'COMPOSIÇÃO '!D:I,3,0)))))))) -> UN | I29: =IF(D29<>0,INDEX('MEMORIA CALCULO'!$A$1:$Q$109850,MATCH(D29,'MEMORIA CALCULO'!$A$1:$A$8050,0),16),0) -> 15
A30: =LEFT(D30,1) -> 3 | B30: =B29 -> 3 | C30: =IF(D30="",0,B30) -> 3 | D30: =D29+1 -> 3003 | E30: SINAPI | F30: 102492 | G30: =IF($E30="SINAPI",VLOOKUP($F30,'SINAPI_DESONERADO-04.2026'!$B$11:$E$19657,2,FALSE),IF($E30="CDHU",VLOOKUP($F30,'CDHU_Desonerado-FEV.2026 (201)'!$A$9:$F$4118,2,FALSE),IF($E30="FDE",VLOOKUP($F30,'FDE-01.26'!$A$1:$D$3994,2,FALSE),IF($E30="SIURB (E)",VLOOKUP($F30,'EDIF COM Des JAN.2026'!$A$3:$D$3000,2,FALSE),IF($E30="SIURB (I)",VLOOKUP($F30,'INFRA COM Des JAN.2026'!$A$2:$D$1000,2,FALSE),IF($E30="SICRO NOVO",VLOOKUP($F30,'SICRO.DNIT DESONERADA 01.26'!$A$4:$D$7000,2,FALSE),IF($E30="COMP.",VLOOKUP($F30,'COMPOSIÇÃO '!D:I,2,0)))))))) -> PINTURA DE PISO COM TINTA ACRÍLICA, APLICAÇÃO MANUAL, 3 DEMÃOS, INCLUSO FUNDO PREPARADOR. AF_05/2021 | H30: =IF($E30="SINAPI",VLOOKUP($F30,'SINAPI_DESONERADO-04.2026'!$B$11:$E$19657,3,FALSE),IF($E30="CDHU",VLOOKUP($F30,'CDHU_Desonerado-FEV.2026 (201)'!$A$9:$F$4118,3,FALSE),IF($E30="FDE",VLOOKUP($F30,'FDE-01.26'!$A$1:$D$3994,3,FALSE),IF($E30="SIURB (E)",VLOOKUP($F30,'EDIF COM Des JAN.2026'!$A$1:$D$3000,3,FALSE),IF($E30="SIURB (I)",VLOOKUP($F30,'INFRA COM Des JAN.2026'!$A$2:$D$1000,3,FALSE),IF($E30="SICRO NOVO",VLOOKUP($F30,'SICRO.DNIT DESONERADA 01.26'!$A$4:$D$7000,3,FALSE),IF($E30="COMP.",VLOOKUP($F30,'COMPOSIÇÃO '!D:I,3,0)))))))) -> M2 | I30: =IF(D30<>0,INDEX('MEMORIA CALCULO'!$A$1:$Q$109850,MATCH(D30,'MEMORIA CALCULO'!$A$1:$A$8050,0),16),0) -> 15
E31: COMUNICAÇÃO VISUAL
A32: =LEFT(D32,1) -> 3 | B32: =B30 -> 3 | C32: =IF(D32="",0,B32) -> 3 | D32: =D30+1 -> 3004 | E32: CDHU | F32: 97.02.195 | G32: =IF($E32="SINAPI",VLOOKUP($F32,'SINAPI_DESONERADO-04.2026'!$B$11:$E$19657,2,FALSE),IF($E32="CDHU",VLOOKUP($F32,'CDHU_Desonerado-FEV.2026 (201)'!$A$9:$F$4118,2,FALSE),IF($E32="FDE",VLOOKUP($F32,'FDE-01.26'!$A$1:$D$3994,2,FALSE),IF($E32="SIURB (E)",VLOOKUP($F32,'EDIF COM Des JAN.2026'!$A$3:$D$3000,2,FALSE),IF($E32="SIURB (I)",VLOOKUP($F32,'INFRA COM Des JAN.2026'!$A$2:$D$1000,2,FALSE),IF($E32="SICRO NOVO",VLOOKUP($F32,'SICRO.DNIT DESONERADA 01.26'!$A$4:$D$7000,2,FALSE),IF($E32="COMP.",VLOOKUP($F32,'COMPOSIÇÃO '!D:I,2,0)))))))) -> Placa de sinalização em PVC fotoluminescente (240x120mm), com indicação de rota de evacuação e saída de emergência | H32: =IF($E32="SINAPI",VLOOKUP($F32,'SINAPI_DESONERADO-04.2026'!$B$11:$E$19657,3,FALSE),IF($E32="CDHU",VLOOKUP($F32,'CDHU_Desonerado-FEV.2026 (201)'!$A$9:$F$4118,3,FALSE),IF($E32="FDE",VLOOKUP($F32,'FDE-01.26'!$A$1:$D$3994,3,FALSE),IF($E32="SIURB (E)",VLOOKUP($F32,'EDIF COM Des JAN.2026'!$A$1:$D$3000,3,FALSE),IF($E32="SIURB (I)",VLOOKUP($F32,'INFRA COM Des JAN.2026'!$A$2:$D$1000,3,FALSE),IF($E32="SICRO NOVO",VLOOKUP($F32,'SICRO.DNIT DESONERADA 01.26'!$A$4:$D$7000,3,FALSE),IF($E32="COMP.",VLOOKUP($F32,'COMPOSIÇÃO '!D:I,3,0)))))))) -> UN | I32: =IF(D32<>0,INDEX('MEMORIA CALCULO'!$A$1:$Q$109850,MATCH(D32,'MEMORIA CALCULO'!$A$1:$A$8050,0),16),0) -> 42
A33: =LEFT(D33,1) -> 3 | B33: =B32 -> 3 | C33: =IF(D33="",0,B33) -> 3 | D33: =D32+1 -> 3005 | E33: CDHU | F33: 97.02.193 | G33: =IF($E33="SINAPI",VLOOKUP($F33,'SINAPI_DESONERADO-04.2026'!$B$11:$E$19657,2,FALSE),IF($E33="CDHU",VLOOKUP($F33,'CDHU_Desonerado-FEV.2026 (201)'!$A$9:$F$4118,2,FALSE),IF($E33="FDE",VLOOKUP($F33,'FDE-01.26'!$A$1:$D$3994,2,FALSE),IF($E33="SIURB (E)",VLOOKUP($F33,'EDIF COM Des JAN.2026'!$A$3:$D$3000,2,FALSE),IF($E33="SIURB (I)",VLOOKUP($F33,'INFRA COM Des JAN.2026'!$A$2:$D$1000,2,FALSE),IF($E33="SICRO NOVO",VLOOKUP($F33,'SICRO.DNIT DESONERADA 01.26'!$A$4:$D$7000,2,FALSE),IF($E33="COMP.",VLOOKUP($F33,'COMPOSIÇÃO '!D:I,2,0)))))))) -> Placa de sinalização em PVC fotoluminescente (200x200mm), com indicação de equipamentos de alarme, detecção e extinção de incêndio | H33: =IF($E33="SINAPI",VLOOKUP($F33,'SINAPI_DESONERADO-04.2026'!$B$11:$E$19657,3,FALSE),IF($E33="CDHU",VLOOKUP($F33,'CDHU_Desonerado-FEV.2026 (201)'!$A$9:$F$4118,3,FALSE),IF($E33="FDE",VLOOKUP($F33,'FDE-01.26'!$A$1:$D$3994,3,FALSE),IF($E33="SIURB (E)",VLOOKUP($F33,'EDIF COM Des JAN.2026'!$A$1:$D$3000,3,FALSE),IF($E33="SIURB (I)",VLOOKUP($F33,'INFRA COM Des JAN.2026'!$A$2:$D$1000,3,FALSE),IF($E33="SICRO NOVO",VLOOKUP($F33,'SICRO.DNIT DESONERADA 01.26'!$A$4:$D$7000,3,FALSE),IF($E33="COMP.",VLOOKUP($F33,'COMPOSIÇÃO '!D:I,3,0)))))))) -> UN | I33: =IF(D33<>0,INDEX('MEMORIA CALCULO'!$A$1:$Q$109850,MATCH(D33,'MEMORIA CALCULO'!$A$1:$A$8050,0),16),0) -> 7
A34: =LEFT(D34,1) -> 3 | B34: =B33 -> 3 | C34: =IF(D34="",0,B34) -> 3 | D34: =D33+1 -> 3006 | E34: CDHU | F34: 97.02.197 | G34: =IF($E34="SINAPI",VLOOKUP($F34,'SINAPI_DESONERADO-04.2026'!$B$11:$E$19657,2,FALSE),IF($E34="CDHU",VLOOKUP($F34,'CDHU_Desonerado-FEV.2026 (201)'!$A$9:$F$4118,2,FALSE),IF($E34="FDE",VLOOKUP($F34,'FDE-01.26'!$A$1:$D$3994,2,FALSE),IF($E34="SIURB (E)",VLOOKUP($F34,'EDIF COM Des JAN.2026'!$A$3:$D$3000,2,FALSE),IF($E34="SIURB (I)",VLOOKUP($F34,'INFRA COM Des JAN.2026'!$A$2:$D$1000,2,FALSE),IF($E34="SICRO NOVO",VLOOKUP($F34,'SICRO.DNIT DESONERADA 01.26'!$A$4:$D$7000,2,FALSE),IF($E34="COMP.",VLOOKUP($F34,'COMPOSIÇÃO '!D:I,2,0)))))))) -> Placa de sinalização em PVC, com indicação de alerta | H34: =IF($E34="SINAPI",VLOOKUP($F34,'SINAPI_DESONERADO-04.2026'!$B$11:$E$19657,3,FALSE),IF($E34="CDHU",VLOOKUP($F34,'CDHU_Desonerado-FEV.2026 (201)'!$A$9:$F$4118,3,FALSE),IF($E34="FDE",VLOOKUP($F34,'FDE-01.26'!$A$1:$D$3994,3,FALSE),IF($E34="SIURB (E)",VLOOKUP($F34,'EDIF COM Des JAN.2026'!$A$1:$D$3000,3,FALSE),IF($E34="SIURB (I)",VLOOKUP($F34,'INFRA COM Des JAN.2026'!$A$2:$D$1000,3,FALSE),IF($E34="SICRO NOVO",VLOOKUP($F34,'SICRO.DNIT DESONERADA 01.26'!$A$4:$D$7000,3,FALSE),IF($E34="COMP.",VLOOKUP($F34,'COMPOSIÇÃO '!D:I,3,0)))))))) -> UN | I34: =IF(D34<>0,INDEX('MEMORIA CALCULO'!$A$1:$Q$109850,MATCH(D34,'MEMORIA CALCULO'!$A$1:$A$8050,0),16),0) -> 1
A35: =LEFT(D35,1) -> 3 | B35: =B34 -> 3 | C35: =IF(D35="",0,B35) -> 3 | D35: =D34+1 -> 3007 | E35: CDHU | F35: 97.02.198 | G35: =IF($E35="SINAPI",VLOOKUP($F35,'SINAPI_DESONERADO-04.2026'!$B$11:$E$19657,2,FALSE),IF($E35="CDHU",VLOOKUP($F35,'CDHU_Desonerado-FEV.2026 (201)'!$A$9:$F$4118,2,FALSE),IF($E35="FDE",VLOOKUP($F35,'FDE-01.26'!$A$1:$D$3994,2,FALSE),IF($E35="SIURB (E)",VLOOKUP($F35,'EDIF COM Des JAN.2026'!$A$3:$D$3000,2,FALSE),IF($E35="SIURB (I)",VLOOKUP($F35,'INFRA COM Des JAN.2026'!$A$2:$D$1000,2,FALSE),IF($E35="SICRO NOVO",VLOOKUP($F35,'SICRO.DNIT DESONERADA 01.26'!$A$4:$D$7000,2,FALSE),IF($E35="COMP.",VLOOKUP($F35,'COMPOSIÇÃO '!D:I,2,0)))))))) -> Placa de sinalização em PVC, com indicação de proibição normativa | H35: =IF($E35="SINAPI",VLOOKUP($F35,'SINAPI_DESONERADO-04.2026'!$B$11:$E$19657,3,FALSE),IF($E35="CDHU",VLOOKUP($F35,'CDHU_Desonerado-FEV.2026 (201)'!$A$9:$F$4118,3,FALSE),IF($E35="FDE",VLOOKUP($F35,'FDE-01.26'!$A$1:$D$3994,3,FALSE),IF($E35="SIURB (E)",VLOOKUP($F35,'EDIF COM Des JAN.2026'!$A$1:$D$3000,3,FALSE),IF($E35="SIURB (I)",VLOOKUP($F35,'INFRA COM Des JAN.2026'!$A$2:$D$1000,3,FALSE),IF($E35="SICRO NOVO",VLOOKUP($F35,'SICRO.DNIT DESONERADA 01.26'!$A$4:$D$7000,3,FALSE),IF($E35="COMP.",VLOOKUP($F35,'COMPOSIÇÃO '!D:I,3,0)))))))) -> UN | I35: =IF(D35<>0,INDEX('MEMORIA CALCULO'!$A$1:$Q$109850,MATCH(D35,'MEMORIA CALCULO'!$A$1:$A$8050,0),16),0) -> 1
A36: =LEFT(D36,1) -> 3 | B36: =B35 -> 3 | C36: =IF(D36="",0,B36) -> 3 | D36: =D35+1 -> 3008 | E36: CDHU | F36: 97.02.190 | G36: =IF($E36="SINAPI",VLOOKUP($F36,'SINAPI_DESONERADO-04.2026'!$B$11:$E$19657,2,FALSE),IF($E36="CDHU",VLOOKUP($F36,'CDHU_Desonerado-FEV.2026 (201)'!$A$9:$F$4118,2,FALSE),IF($E36="FDE",VLOOKUP($F36,'FDE-01.26'!$A$1:$D$3994,2,FALSE),IF($E36="SIURB (E)",VLOOKUP($F36,'EDIF COM Des JAN.2026'!$A$3:$D$3000,2,FALSE),IF($E36="SIURB (I)",VLOOKUP($F36,'INFRA COM Des JAN.2026'!$A$2:$D$1000,2,FALSE),IF($E36="SICRO NOVO",VLOOKUP($F36,'SICRO.DNIT DESONERADA 01.26'!$A$4:$D$7000,2,FALSE),IF($E36="COMP.",VLOOKUP($F36,'COMPOSIÇÃO '!D:I,2,0)))))))) -> Placa de identificação em acrílico com texto em vinil | H36: =IF($E36="SINAPI",VLOOKUP($F36,'SINAPI_DESONERADO-04.2026'!$B$11:$E$19657,3,FALSE),IF($E36="CDHU",VLOOKUP($F36,'CDHU_Desonerado-FEV.2026 (201)'!$A$9:$F$4118,3,FALSE),IF($E36="FDE",VLOOKUP($F36,'FDE-01.26'!$A$1:$D$3994,3,FALSE),IF($E36="SIURB (E)",VLOOKUP($F36,'EDIF COM Des JAN.2026'!$A$1:$D$3000,3,FALSE),IF($E36="SIURB (I)",VLOOKUP($F36,'INFRA COM Des JAN.2026'!$A$2:$D$1000,3,FALSE),IF($E36="SICRO NOVO",VLOOKUP($F36,'SICRO.DNIT DESONERADA 01.26'!$A$4:$D$7000,3,FALSE),IF($E36="COMP.",VLOOKUP($F36,'COMPOSIÇÃO '!D:I,3,0)))))))) -> M2 | I36: =IF(D36<>0,INDEX('MEMORIA CALCULO'!$A$1:$Q$109850,MATCH(D36,'MEMORIA CALCULO'!$A$1:$A$8050,0),16),0) -> 0.1
E37: ILUMINAÇÃO DE EMERGÊNCIA
A38: =LEFT(D38,1) -> 3 | B38: =B36 -> 3 | C38: =IF(D38="",0,B38) -> 3 | D38: =D36+1 -> 3009 | E38: CDHU | F38: 50.05.312 | G38: =IF($E38="SINAPI",VLOOKUP($F38,'SINAPI_DESONERADO-04.2026'!$B$11:$E$19657,2,FALSE),IF($E38="CDHU",VLOOKUP($F38,'CDHU_Desonerado-FEV.2026 (201)'!$A$9:$F$4118,2,FALSE),IF($E38="FDE",VLOOKUP($F38,'FDE-01.26'!$A$1:$D$3994,2,FALSE),IF($E38="SIURB (E)",VLOOKUP($F38,'EDIF COM Des JAN.2026'!$A$3:$D$3000,2,FALSE),IF($E38="SIURB (I)",VLOOKUP($F38,'INFRA COM Des JAN.2026'!$A$2:$D$1000,2,FALSE),IF($E38="SICRO NOVO",VLOOKUP($F38,'SICRO.DNIT DESONERADA 01.26'!$A$4:$D$7000,2,FALSE),IF($E38="COMP.",VLOOKUP($F38,'COMPOSIÇÃO '!D:I,2,0)))))))) -> Bloco autônomo de iluminação de emergência LED, com autonomia mínima de 3 horas, fluxo luminoso de 2.000 até 3.000 lúmens, equipado com 2 faróis | H38: =IF($E38="SINAPI",VLOOKUP($F38,'SINAPI_DESONERADO-04.2026'!$B$11:$E$19657,3,FALSE),IF($E38="CDHU",VLOOKUP($F38,'CDHU_Desonerado-FEV.2026 (201)'!$A$9:$F$4118,3,FALSE),IF($E38="FDE",VLOOKUP($F38,'FDE-01.26'!$A$1:$D$3994,3,FALSE),IF($E38="SIURB (E)",VLOOKUP($F38,'EDIF COM Des JAN.2026'!$A$1:$D$3000,3,FALSE),IF($E38="SIURB (I)",VLOOKUP($F38,'INFRA COM Des JAN.2026'!$A$2:$D$1000,3,FALSE),IF($E38="SICRO NOVO",VLOOKUP($F38,'SICRO.DNIT DESONERADA 01.26'!$A$4:$D$7000,3,FALSE),IF($E38="COMP.",VLOOKUP($F38,'COMPOSIÇÃO '!D:I,3,0)))))))) -> UN | I38: =IF(D38<>0,INDEX('MEMORIA CALCULO'!$A$1:$Q$109850,MATCH(D38,'MEMORIA CALCULO'!$A$1:$A$8050,0),16),0) -> 41
A39: =LEFT(D39,1) -> 3 | B39: =B38 -> 3 | C39: =IF(D39="",0,B39) -> 3 | D39: =D38+1 -> 3010 | E39: CDHU | F39: 50.05.060 | G39: =IF($E39="SINAPI",VLOOKUP($F39,'SINAPI_DESONERADO-04.2026'!$B$11:$E$19657,2,FALSE),IF($E39="CDHU",VLOOKUP($F39,'CDHU_Desonerado-FEV.2026 (201)'!$A$9:$F$4118,2,FALSE),IF($E39="FDE",VLOOKUP($F39,'FDE-01.26'!$A$1:$D$3994,2,FALSE),IF($E39="SIURB (E)",VLOOKUP($F39,'EDIF COM Des JAN.2026'!$A$3:$D$3000,2,FALSE),IF($E39="SIURB (I)",VLOOKUP($F39,'INFRA COM Des JAN.2026'!$A$2:$D$1000,2,FALSE),IF($E39="SICRO NOVO",VLOOKUP($F39,'SICRO.DNIT DESONERADA 01.26'!$A$4:$D$7000,2,FALSE),IF($E39="COMP.",VLOOKUP($F39,'COMPOSIÇÃO '!D:I,2,0)))))))) -> Central de iluminação de emergência, completa, para até 6.000 W | H39: =IF($E39="SINAPI",VLOOKUP($F39,'SINAPI_DESONERADO-04.2026'!$B$11:$E$19657,3,FALSE),IF($E39="CDHU",VLOOKUP($F39,'CDHU_Desonerado-FEV.2026 (201)'!$A$9:$F$4118,3,FALSE),IF($E39="FDE",VLOOKUP($F39,'FDE-01.26'!$A$1:$D$3994,3,FALSE),IF($E39="SIURB (E)",VLOOKUP($F39,'EDIF COM Des JAN.2026'!$A$1:$D$3000,3,FALSE),IF($E39="SIURB (I)",VLOOKUP($F39,'INFRA COM Des JAN.2026'!$A$2:$D$1000,3,FALSE),IF($E39="SICRO NOVO",VLOOKUP($F39,'SICRO.DNIT DESONERADA 01.26'!$A$4:$D$7000,3,FALSE),IF($E39="COMP.",VLOOKUP($F39,'COMPOSIÇÃO '!D:I,3,0)))))))) -> UN | I39: =IF(D39<>0,INDEX('MEMORIA CALCULO'!$A$1:$Q$109850,MATCH(D39,'MEMORIA CALCULO'!$A$1:$A$8050,0),16),0) -> 1
E40: CENTRAL DE ALARME E DETECTORES
A41: =LEFT(D41,1) -> 3 | B41: =B38 -> 3 | C41: =IF(D41="",0,B41) -> 3 | D41: =D39+1 -> 3011 | E41: CDHU | F41: 50.05.270 | G41: =IF($E41="SINAPI",VLOOKUP($F41,'SINAPI_DESONERADO-04.2026'!$B$11:$E$19657,2,FALSE),IF($E41="CDHU",VLOOKUP($F41,'CDHU_Desonerado-FEV.2026 (201)'!$A$9:$F$4118,2,FALSE),IF($E41="FDE",VLOOKUP($F41,'FDE-01.26'!$A$1:$D$3994,2,FALSE),IF($E41="SIURB (E)",VLOOKUP($F41,'EDIF COM Des JAN.2026'!$A$3:$D$3000,2,FALSE),IF($E41="SIURB (I)",VLOOKUP($F41,'INFRA COM Des JAN.2026'!$A$2:$D$1000,2,FALSE),IF($E41="SICRO NOVO",VLOOKUP($F41,'SICRO.DNIT DESONERADA 01.26'!$A$4:$D$7000,2,FALSE),IF($E41="COMP.",VLOOKUP($F41,'COMPOSIÇÃO '!D:I,2,0)))))))) -> Central de detecção e alarme de incêndio completa, autonomia de 1 hora para 12 laços, 220 V/12 V | H41: =IF($E41="SINAPI",VLOOKUP($F41,'SINAPI_DESONERADO-04.2026'!$B$11:$E$19657,3,FALSE),IF($E41="CDHU",VLOOKUP($F41,'CDHU_Desonerado-FEV.2026 (201)'!$A$9:$F$4118,3,FALSE),IF($E41="FDE",VLOOKUP($F41,'FDE-01.26'!$A$1:$D$3994,3,FALSE),IF($E41="SIURB (E)",VLOOKUP($F41,'EDIF COM Des JAN.2026'!$A$1:$D$3000,3,FALSE),IF($E41="SIURB (I)",VLOOKUP($F41,'INFRA COM Des JAN.2026'!$A$2:$D$1000,3,FALSE),IF($E41="SICRO NOVO",VLOOKUP($F41,'SICRO.DNIT DESONERADA 01.26'!$A$4:$D$7000,3,FALSE),IF($E41="COMP.",VLOOKUP($F41,'COMPOSIÇÃO '!D:I,3,0)))))))) -> UN | I41: =IF(D41<>0,INDEX('MEMORIA CALCULO'!$A$1:$Q$109850,MATCH(D41,'MEMORIA CALCULO'!$A$1:$A$8050,0),16),0) -> 1
A42: =LEFT(D42,1) -> 3 | B42: =B38 -> 3 | C42: =IF(D42="",0,B42) -> 3 | D42: =D41+1 -> 3012 | E42: CDHU | F42: 50.05.430 | G42: =IF($E42="SINAPI",VLOOKUP($F42,'SINAPI_DESONERADO-04.2026'!$B$11:$E$19657,2,FALSE),IF($E42="CDHU",VLOOKUP($F42,'CDHU_Desonerado-FEV.2026 (201)'!$A$9:$F$4118,2,FALSE),IF($E42="FDE",VLOOKUP($F42,'FDE-01.26'!$A$1:$D$3994,2,FALSE),IF($E42="SIURB (E)",VLOOKUP($F42,'EDIF COM Des JAN.2026'!$A$3:$D$3000,2,FALSE),IF($E42="SIURB (I)",VLOOKUP($F42,'INFRA COM Des JAN.2026'!$A$2:$D$1000,2,FALSE),IF($E42="SICRO NOVO",VLOOKUP($F42,'SICRO.DNIT DESONERADA 01.26'!$A$4:$D$7000,2,FALSE),IF($E42="COMP.",VLOOKUP($F42,'COMPOSIÇÃO '!D:I,2,0)))))))) -> Detector óptico de fumaça com base endereçável | H42: =IF($E42="SINAPI",VLOOKUP($F42,'SINAPI_DESONERADO-04.2026'!$B$11:$E$19657,3,FALSE),IF($E42="CDHU",VLOOKUP($F42,'CDHU_Desonerado-FEV.2026 (201)'!$A$9:$F$4118,3,FALSE),IF($E42="FDE",VLOOKUP($F42,'FDE-01.26'!$A$1:$D$3994,3,FALSE),IF($E42="SIURB (E)",VLOOKUP($F42,'EDIF COM Des JAN.2026'!$A$1:$D$3000,3,FALSE),IF($E42="SIURB (I)",VLOOKUP($F42,'INFRA COM Des JAN.2026'!$A$2:$D$1000,3,FALSE),IF($E42="SICRO NOVO",VLOOKUP($F42,'SICRO.DNIT DESONERADA 01.26'!$A$4:$D$7000,3,FALSE),IF($E42="COMP.",VLOOKUP($F42,'COMPOSIÇÃO '!D:I,3,0)))))))) -> UN | I42: =IF(D42<>0,INDEX('MEMORIA CALCULO'!$A$1:$Q$109850,MATCH(D42,'MEMORIA CALCULO'!$A$1:$A$8050,0),16),0) -> 118
A43: =LEFT(D43,1) -> 3 | B43: =B42 -> 3 | C43: =IF(D43="",0,B43) -> 3 | D43: =D42+1 -> 3013 | E43: CDHU | F43: 50.05.210 | G43: =IF($E43="SINAPI",VLOOKUP($F43,'SINAPI_DESONERADO-04.2026'!$B$11:$E$19657,2,FALSE),IF($E43="CDHU",VLOOKUP($F43,'CDHU_Desonerado-FEV.2026 (201)'!$A$9:$F$4118,2,FALSE),IF($E43="FDE",VLOOKUP($F43,'FDE-01.26'!$A$1:$D$3994,2,FALSE),IF($E43="SIURB (E)",VLOOKUP($F43,'EDIF COM Des JAN.2026'!$A$3:$D$3000,2,FALSE),IF($E43="SIURB (I)",VLOOKUP($F43,'INFRA COM Des JAN.2026'!$A$2:$D$1000,2,FALSE),IF($E43="SICRO NOVO",VLOOKUP($F43,'SICRO.DNIT DESONERADA 01.26'!$A$4:$D$7000,2,FALSE),IF($E43="COMP.",VLOOKUP($F43,'COMPOSIÇÃO '!D:I,2,0)))))))) -> Detector termovelocimétrico endereçável com base endereçável | H43: =IF($E43="SINAPI",VLOOKUP($F43,'SINAPI_DESONERADO-04.2026'!$B$11:$E$19657,3,FALSE),IF($E43="CDHU",VLOOKUP($F43,'CDHU_Desonerado-FEV.2026 (201)'!$A$9:$F$4118,3,FALSE),IF($E43="FDE",VLOOKUP($F43,'FDE-01.26'!$A$1:$D$3994,3,FALSE),IF($E43="SIURB (E)",VLOOKUP($F43,'EDIF COM Des JAN.2026'!$A$1:$D$3000,3,FALSE),IF($E43="SIURB (I)",VLOOKUP($F43,'INFRA COM Des JAN.2026'!$A$2:$D$1000,3,FALSE),IF($E43="SICRO NOVO",VLOOKUP($F43,'SICRO.DNIT DESONERADA 01.26'!$A$4:$D$7000,3,FALSE),IF($E43="COMP.",VLOOKUP($F43,'COMPOSIÇÃO '!D:I,3,0)))))))) -> UN | I43: =IF(D43<>0,INDEX('MEMORIA CALCULO'!$A$1:$Q$109850,MATCH(D43,'MEMORIA CALCULO'!$A$1:$A$8050,0),16),0) -> 4
A44: =LEFT(D44,1) -> 3 | B44: =B43 -> 3 | C44: =IF(D44="",0,B44) -> 3 | D44: =D43+1 -> 3014 | E44: CDHU | F44: 50.05.214 | G44: =IF($E44="SINAPI",VLOOKUP($F44,'SINAPI_DESONERADO-04.2026'!$B$11:$E$19657,2,FALSE),IF($E44="CDHU",VLOOKUP($F44,'CDHU_Desonerado-FEV.2026 (201)'!$A$9:$F$4118,2,FALSE),IF($E44="FDE",VLOOKUP($F44,'FDE-01.26'!$A$1:$D$3994,2,FALSE),IF($E44="SIURB (E)",VLOOKUP($F44,'EDIF COM Des JAN.2026'!$A$3:$D$3000,2,FALSE),IF($E44="SIURB (I)",VLOOKUP($F44,'INFRA COM Des JAN.2026'!$A$2:$D$1000,2,FALSE),IF($E44="SICRO NOVO",VLOOKUP($F44,'SICRO.DNIT DESONERADA 01.26'!$A$4:$D$7000,2,FALSE),IF($E44="COMP.",VLOOKUP($F44,'COMPOSIÇÃO '!D:I,2,0)))))))) -> Detector de gás liquefeito (GLP), gás natural (GN) ou derivados de metano | H44: =IF($E44="SINAPI",VLOOKUP($F44,'SINAPI_DESONERADO-04.2026'!$B$11:$E$19657,3,FALSE),IF($E44="CDHU",VLOOKUP($F44,'CDHU_Desonerado-FEV.2026 (201)'!$A$9:$F$4118,3,FALSE),IF($E44="FDE",VLOOKUP($F44,'FDE-01.26'!$A$1:$D$3994,3,FALSE),IF($E44="SIURB (E)",VLOOKUP($F44,'EDIF COM Des JAN.2026'!$A$1:$D$3000,3,FALSE),IF($E44="SIURB (I)",VLOOKUP($F44,'INFRA COM Des JAN.2026'!$A$2:$D$1000,3,FALSE),IF($E44="SICRO NOVO",VLOOKUP($F44,'SICRO.DNIT DESONERADA 01.26'!$A$4:$D$7000,3,FALSE),IF($E44="COMP.",VLOOKUP($F44,'COMPOSIÇÃO '!D:I,3,0)))))))) -> UN | I44: =IF(D44<>0,INDEX('MEMORIA CALCULO'!$A$1:$Q$109850,MATCH(D44,'MEMORIA CALCULO'!$A$1:$A$8050,0),16),0) -> 4
A45: =LEFT(D45,1) -> 3 | B45: =B44 -> 3 | C45: =IF(D45="",0,B45) -> 3 | D45: =D44+1 -> 3015 | E45: CDHU | F45: 30.06.064 | G45: =IF($E45="SINAPI",VLOOKUP($F45,'SINAPI_DESONERADO-04.2026'!$B$11:$E$19657,2,FALSE),IF($E45="CDHU",VLOOKUP($F45,'CDHU_Desonerado-FEV.2026 (201)'!$A$9:$F$4118,2,FALSE),IF($E45="FDE",VLOOKUP($F45,'FDE-01.26'!$A$1:$D$3994,2,FALSE),IF($E45="SIURB (E)",VLOOKUP($F45,'EDIF COM Des JAN.2026'!$A$3:$D$3000,2,FALSE),IF($E45="SIURB (I)",VLOOKUP($F45,'INFRA COM Des JAN.2026'!$A$2:$D$1000,2,FALSE),IF($E45="SICRO NOVO",VLOOKUP($F45,'SICRO.DNIT DESONERADA 01.26'!$A$4:$D$7000,2,FALSE),IF($E45="COMP.",VLOOKUP($F45,'COMPOSIÇÃO '!D:I,2,0)))))))) -> Sistema de alarme PNE com indicador audiovisual, sistema sem fio (Wireless), para pessoas com mobilidade reduzida ou cadeirante | H45: =IF($E45="SINAPI",VLOOKUP($F45,'SINAPI_DESONERADO-04.2026'!$B$11:$E$19657,3,FALSE),IF($E45="CDHU",VLOOKUP($F45,'CDHU_Desonerado-FEV.2026 (201)'!$A$9:$F$4118,3,FALSE),IF($E45="FDE",VLOOKUP($F45,'FDE-01.26'!$A$1:$D$3994,3,FALSE),IF($E45="SIURB (E)",VLOOKUP($F45,'EDIF COM Des JAN.2026'!$A$1:$D$3000,3,FALSE),IF($E45="SIURB (I)",VLOOKUP($F45,'INFRA COM Des JAN.2026'!$A$2:$D$1000,3,FALSE),IF($E45="SICRO NOVO",VLOOKUP($F45,'SICRO.DNIT DESONERADA 01.26'!$A$4:$D$7000,3,FALSE),IF($E45="COMP.",VLOOKUP($F45,'COMPOSIÇÃO '!D:I,3,0)))))))) -> CJ | I45: =IF(D45<>0,INDEX('MEMORIA CALCULO'!$A$1:$Q$109850,MATCH(D45,'MEMORIA CALCULO'!$A$1:$A$8050,0),16),0) -> 2
E46: TUBULAÇÕES
A47: =LEFT(D47,1) -> 3 | B47: =B45 -> 3 | C47: =IF(D47="",0,B47) -> 3 | D47: =D45+1 -> 3016 | E47: CDHU | F47: 46.08.070 | G47: =IF($E47="SINAPI",VLOOKUP($F47,'SINAPI_DESONERADO-04.2026'!$B$11:$E$19657,2,FALSE),IF($E47="CDHU",VLOOKUP($F47,'CDHU_Desonerado-FEV.2026 (201)'!$A$9:$F$4118,2,FALSE),IF($E47="FDE",VLOOKUP($F47,'FDE-01.26'!$A$1:$D$3994,2,FALSE),IF($E47="SIURB (E)",VLOOKUP($F47,'EDIF COM Des JAN.2026'!$A$3:$D$3000,2,FALSE),IF($E47="SIURB (I)",VLOOKUP($F47,'INFRA COM Des JAN.2026'!$A$2:$D$1000,2,FALSE),IF($E47="SICRO NOVO",VLOOKUP($F47,'SICRO.DNIT DESONERADA 01.26'!$A$4:$D$7000,2,FALSE),IF($E47="COMP.",VLOOKUP($F47,'COMPOSIÇÃO '!D:I,2,0)))))))) -> Tubo galvanizado sem costura schedule 40, DN= 2 1/2´, inclusive conexões | H47: =IF($E47="SINAPI",VLOOKUP($F47,'SINAPI_DESONERADO-04.2026'!$B$11:$E$19657,3,FALSE),IF($E47="CDHU",VLOOKUP($F47,'CDHU_Desonerado-FEV.2026 (201)'!$A$9:$F$4118,3,FALSE),IF($E47="FDE",VLOOKUP($F47,'FDE-01.26'!$A$1:$D$3994,3,FALSE),IF($E47="SIURB (E)",VLOOKUP($F47,'EDIF COM Des JAN.2026'!$A$1:$D$3000,3,FALSE),IF($E47="SIURB (I)",VLOOKUP($F47,'INFRA COM Des JAN.2026'!$A$2:$D$1000,3,FALSE),IF($E47="SICRO NOVO",VLOOKUP($F47,'SICRO.DNIT DESONERADA 01.26'!$A$4:$D$7000,3,FALSE),IF($E47="COMP.",VLOOKUP($F47,'COMPOSIÇÃO '!D:I,3,0)))))))) -> M | I47: =IF(D47<>0,INDEX('MEMORIA CALCULO'!$A$1:$Q$109850,MATCH(D47,'MEMORIA CALCULO'!$A$1:$A$8050,0),16),0) -> 29
...

Sheet MEMORIA CALCULO
B2: CLIENTE: | C2: ='CLIENTE-OBJETO'!B2 -> PREFEITURA MUNICIPAL DE PIRACICABA | O2: FL:
B3: OBRA: | C3: ='CLIENTE-OBJETO'!B3 -> PLANO DE COMBATE A INCÊNDIO (PCI) CEREST | O3: REV: | P3: 0 | R3: TEMPO DE OBRA
B4: LOCAL: | C4: ='CLIENTE-OBJETO'!B4 -> RUA DO TRABALHO, 602 - VILA INDEPENDÊNCIA, PIRACICABA/SP | O4: DATA: | P4: 25/02/2026 | R4: 3
B6: MEMÓRIA DE CÁLCULO | R6: DISTANCIA BOTA FORA
B7: ITEM | C7: DISCRIMINAÇÃO DE CÁLCULO | O7: QUANTIDADE
O8: UNID. | P8: TOTAL
A10: ='Plan. Orçamentária'!D17 -> 1 | C10: ='Plan. Orçamentária'!E17 -> PLACA DA OBRA E CANTEIRO
A11: ='Plan. Orçamentária'!D18 -> 1001 | B11: =IF(A11<>0,INDEX('Plan. Orçamentária'!$D$11:$K$205,MATCH(A11,'Plan. Orçamentária'!$D$11:$D$205,0),3),0) -> 103689 | C11: =IF(A11<>0,INDEX('Plan. Orçamentária'!$D$11:$K$205,MATCH(A11,'Plan. Orçamentária'!$D$11:$D$205,0),4),0) -> FORNECIMENTO E INSTALAÇÃO DE PLACA DE OBRA COM CHAPA GALVANIZADA E ESTRUTURA DE MADEIRA. AF_03/2022_PS | O11: =IF(A11<>0,INDEX('Plan. Orçamentária'!$D$17:$K$205,MATCH(A11,'Plan. Orçamentária'!$D$17:$D$205,0),5),0) -> M2 | P11: =TRUNC(SUM(N13),2) -> 2
K12: COMPRIMENTO | M12: ALTURA | N12: TOTAL
K13: 2 | L13: X | M13: 1 | N13: =TRUNC(K13*M13,2) -> 2
A15: =A11+1 -> 1002 | B15: =IF(A15<>0,INDEX('Plan. Orçamentária'!$D$11:$K$205,MATCH(A15,'Plan. Orçamentária'!$D$11:$D$205,0),3),0) -> 103694 | C15: =IF(A15<>0,INDEX('Plan. Orçamentária'!$D$11:$K$205,MATCH(A15,'Plan. Orçamentária'!$D$11:$D$205,0),4),0) -> FORNECIMENTO E INSTALAÇÃO DE SUPORTE DE MADEIRA PARA PLACAS DE SINALIZAÇÃO, EM SOLO, COM H= DE 2,5 M E SEÇÃO DE 7,5 X 7,5 CM. AF_03/2022 | O15: =IF(A15<>0,INDEX('Plan. Orçamentária'!$D$17:$K$205,MATCH(A15,'Plan. Orçamentária'!$D$17:$D$205,0),5),0) -> UN | P15: =TRUNC(SUM(N17),2) -> 2
N16: TOTAL
N17: 2
A19: =A15+1 -> 1003 | B19: =IF(A19<>0,INDEX('Plan. Orçamentária'!$D$11:$K$205,MATCH(A19,'Plan. Orçamentária'!$D$11:$D$205,0),3),0) -> 16.06.047 | C19: =IF(A19<>0,INDEX('Plan. Orçamentária'!$D$11:$K$205,MATCH(A19,'Plan. Orçamentária'!$D$11:$D$205,0),4),0) -> LOCAÇÃO MENSAL DE CONTAINER 4,00M COM 2 VASOS SANITARIOS, 1 LAVABO, 1 MICTÓRIO E 4 PONTOS CHUV. | O19: =IF(A19<>0,INDEX('Plan. Orçamentária'!$D$17:$K$205,MATCH(A19,'Plan. Orçamentária'!$D$17:$D$205,0),5),0) -> M2 | P19: =TRUNC(SUM(N21),2) -> 9.76
K20: COMPRIMENTO | M20: LARGURA | N20: TOTAL
K21: 4 | L21: X | M21: 2.44 | N21: =TRUNC(K21*M21,2) -> 9.76
A24: ='Plan. Orçamentária'!D22 -> 2 | C24: ='Plan. Orçamentária'!E22 -> RESERVA PARA INCÊNDIO
A25: ='Plan. Orçamentária'!D23 -> 2001 | B25: =IF(A25<>0,INDEX('Plan. Orçamentária'!$D$11:$K$205,MATCH(A25,'Plan. Orçamentária'!$D$11:$D$205,0),3),0) -> 48.02.207 | C25: =IF(A25<>0,INDEX('Plan. Orçamentária'!$D$11:$K$205,MATCH(A25,'Plan. Orçamentária'!$D$11:$D$205,0),4),0) -> Reservatório em polietileno com tampa de encaixar - capacidade de 10.000 litros | O25: =IF(A25<>0,INDEX('Plan. Orçamentária'!$D$17:$K$205,MATCH(A25,'Plan. Orçamentária'!$D$17:$D$205,0),5),0) -> UN | P25: =TRUNC(SUM(N27:N27),2) -> 1
N26: TOTAL
M27: TERREO | N27: 1
A29: =A25+1 -> 2002 | B29: =IF(A29<>0,INDEX('Plan. Orçamentária'!$D$11:$K$205,MATCH(A29,'Plan. Orçamentária'!$D$11:$D$205,0),3),0) -> 48.05.050 | C29: =IF(A29<>0,INDEX('Plan. Orçamentária'!$D$11:$K$205,MATCH(A29,'Plan. Orçamentária'!$D$11:$D$205,0),4),0) -> Torneira de boia, DN= 2´ | O29: =IF(A29<>0,INDEX('Plan. Orçamentária'!$D$17:$K$205,MATCH(A29,'Plan. Orçamentária'!$D$17:$D$205,0),5),0) -> UN | P29: =TRUNC(SUM(N31:N31),2) -> 1
N30: TOTAL
M31: TERREO | N31: 1
A33: ='Plan. Orçamentária'!D26 -> 3 | C33: ='Plan. Orçamentária'!E26 -> COMBATE A INCÊNDIO
C34: ='Plan. Orçamentária'!E27 -> EXTINTORES
A35: ='Plan. Orçamentária'!D28 -> 3001 | B35: =IF(A35<>0,INDEX('Plan. Orçamentária'!$D$11:$K$205,MATCH(A35,'Plan. Orçamentária'!$D$11:$D$205,0),3),0) -> 50.10.120 | C35: =IF(A35<>0,INDEX('Plan. Orçamentária'!$D$11:$K$205,MATCH(A35,'Plan. Orçamentária'!$D$11:$D$205,0),4),0) -> Extintor manual de pó químico seco ABC - capacidade de 6 kg | O35: =IF(A35<>0,INDEX('Plan. Orçamentária'!$D$17:$K$205,MATCH(A35,'Plan. Orçamentária'!$D$17:$D$205,0),5),0) -> UN | P35: =TRUNC(SUM(N37:N40),2) -> 15
N36: TOTAL
M37: TERREO | N37: 7
M38: 1º PAVIMENTO | N38: 4
M39: 2º PAVIMENTO | N39: 3
M40: TERREO = QUADRA | N40: 1
A42: =A35+1 -> 3002 | B42: =IF(A42<>0,INDEX('Plan. Orçamentária'!$D$11:$K$205,MATCH(A42,'Plan. Orçamentária'!$D$11:$D$205,0),3),0) -> 50.10.220 | C42: =IF(A42<>0,INDEX('Plan. Orçamentária'!$D$11:$K$205,MATCH(A42,'Plan. Orçamentária'!$D$11:$D$205,0),4),0) -> Suporte para extintor de piso em aço inoxidável | O42: =IF(A42<>0,INDEX('Plan. Orçamentária'!$D$17:$K$205,MATCH(A42,'Plan. Orçamentária'!$D$17:$D$205,0),5),0) -> UN | P42: =TRUNC(SUM(N44:N47),2) -> 15
N43: TOTAL
M44: TERREO | N44: =N37 -> 7
M45: 1º PAVIMENTO | N45: =N38 -> 4
M46: 2º PAVIMENTO | N46: =N39 -> 3
M47: TERREO = QUADRA | N47: 1
A49: =A42+1 -> 3003 | B49: =IF(A49<>0,INDEX('Plan. Orçamentária'!$D$11:$K$205,MATCH(A49,'Plan. Orçamentária'!$D$11:$D$205,0),3),0) -> 102492 | C49: =IF(A49<>0,INDEX('Plan. Orçamentária'!$D$11:$K$205,MATCH(A49,'Plan. Orçamentária'!$D$11:$D$205,0),4),0) -> PINTURA DE PISO COM TINTA ACRÍLICA, APLICAÇÃO MANUAL, 3 DEMÃOS, INCLUSO FUNDO PREPARADOR. AF_05/2021 | O49: =IF(A49<>0,INDEX('Plan. Orçamentária'!$D$17:$K$205,MATCH(A49,'Plan. Orçamentária'!$D$17:$D$205,0),5),0) -> M2 | P49: =TRUNC(SUM(N51:N54),2) -> 15
N50: TOTAL
M51: TERREO | N51: =N37 -> 7
...

Sheet CURVA ABC
I1: =SUM(I3:I21167) -> 0 | J1: =#REF! -> #REF! | O1: =I1-J1 -> #REF!
B2: ITEM | C2: FONTE | D2: CÓDIGO | E2: DESCRIÇÃO | F2: UNID. | G2: QUANT. | H2: R$ UNIT. C/ BDI | I2: R$ TOTAL | K2: % INDIVIDUAL | L2: % ACUMULADA | M2: CLASSIFICAÇÃO
B3: 3012 | C3: CDHU | D3: 50.05.430 | E3: =VLOOKUP($B3,'Plan. Orçamentária'!$D$1:$L$1534,4,FALSE) -> Detector óptico de fumaça com base endereçável | F3: =VLOOKUP($B3,'Plan. Orçamentária'!$D$1:$L$1534,5,FALSE) -> UN | G3: =SUMIF('Plan. Orçamentária'!$F$1:$F$1534,D3,'Plan. Orçamentária'!$I$1:$I$1534) -> 118 | H3: =IF(D3<>0,INDEX('Plan. Orçamentária'!$F$1:$K$1534,MATCH(D3,'Plan. Orçamentária'!$F$1:$F$1534,0),6),0) -> 0 | I3: =ROUND(ROUND(G3,2)*ROUND(H3,2),2) -> 0 | K3: =I3/$I$1 -> #DIV/0! | L3: =K3 -> #DIV/0! | M3: =IF(L3<=80%,"A",IF(L3<=95%,"B","C")) -> #DIV/0!
B4: 3017 | C4: CDHU | D4: 46.08.080 | E4: =VLOOKUP($B4,'Plan. Orçamentária'!$D$1:$L$1534,4,FALSE) -> Tubo galvanizado sem costura schedule 40, DN= 3´, inclusive conexões | F4: =VLOOKUP($B4,'Plan. Orçamentária'!$D$1:$L$1534,5,FALSE) -> M | G4: =SUMIF('Plan. Orçamentária'!$F$1:$F$1534,D4,'Plan. Orçamentária'!$I$1:$I$1534) -> 64.45 | H4: =IF(D4<>0,INDEX('Plan. Orçamentária'!$F$1:$K$1534,MATCH(D4,'Plan. Orçamentária'!$F$1:$F$1534,0),6),0) -> 0 | I4: =ROUND(ROUND(G4,2)*ROUND(H4,2),2) -> 0 | K4: =I4/$I$1 -> #DIV/0! | L4: =K4+L3 -> #DIV/0! | M4: =IF(L4<=80%,"A",IF(L4<=95%,"B","C")) -> #DIV/0!
B5: 3010 | C5: CDHU | D5: 50.05.060 | E5: =VLOOKUP($B5,'Plan. Orçamentária'!$D$1:$L$1534,4,FALSE) -> Central de iluminação de emergência, completa, para até 6.000 W | F5: =VLOOKUP($B5,'Plan. Orçamentária'!$D$1:$L$1534,5,FALSE) -> UN | G5: =SUMIF('Plan. Orçamentária'!$F$1:$F$1534,D5,'Plan. Orçamentária'!$I$1:$I$1534) -> 1 | H5: =IF(D5<>0,INDEX('Plan. Orçamentária'!$F$1:$K$1534,MATCH(D5,'Plan. Orçamentária'!$F$1:$F$1534,0),6),0) -> 0 | I5: =ROUND(ROUND(G5,2)*ROUND(H5,2),2) -> 0 | K5: =I5/$I$1 -> #DIV/0! | L5: =K5+L4 -> #DIV/0! | M5: =IF(L5<=80%,"A",IF(L5<=95%,"B","C")) -> #DIV/0!
B6: 3019 | C6: CDHU | D6: 50.01.330 | E6: =VLOOKUP($B6,'Plan. Orçamentária'!$D$1:$L$1534,4,FALSE) -> Abrigo de hidrante de 2 1/2´ completo - inclusive mangueira de 30 m (2 x 15 m) | F6: =VLOOKUP($B6,'Plan. Orçamentária'!$D$1:$L$1534,5,FALSE) -> UN | G6: =SUMIF('Plan. Orçamentária'!$F$1:$F$1534,D6,'Plan. Orçamentária'!$I$1:$I$1534) -> 7 | H6: =IF(D6<>0,INDEX('Plan. Orçamentária'!$F$1:$K$1534,MATCH(D6,'Plan. Orçamentária'!$F$1:$F$1534,0),6),0) -> 0 | I6: =ROUND(ROUND(G6,2)*ROUND(H6,2),2) -> 0 | K6: =I6/$I$1 -> #DIV/0! | L6: =K6+L5 -> #DIV/0! | M6: =IF(L6<=80%,"A",IF(L6<=95%,"B","C")) -> #DIV/0!
B7: 3022 | C7: SIURB (E) | D7: 10003011 | E7: =VLOOKUP($B7,'Plan. Orçamentária'!$D$1:$L$1534,4,FALSE) -> CONJUNTO MOTOR-BOMBA 112M3/H, 20MCA, 10CV, 3500RPM, 220/380V, TRIFÁSICO | F7: =VLOOKUP($B7,'Plan. Orçamentária'!$D$1:$L$1534,5,FALSE) -> UN | G7: =SUMIF('Plan. Orçamentária'!$F$1:$F$1534,D7,'Plan. Orçamentária'!$I$1:$I$1534) -> 2 | H7: =IF(D7<>0,INDEX('Plan. Orçamentária'!$F$1:$K$1534,MATCH(D7,'Plan. Orçamentária'!$F$1:$F$1534,0),6),0) -> 0 | I7: =ROUND(ROUND(G7,2)*ROUND(H7,2),2) -> 0 | K7: =I7/$I$1 -> #DIV/0! | L7: =K7+L6 -> #DIV/0! | M7: =IF(L7<=80%,"A",IF(L7<=95%,"B","C")) -> #DIV/0!
B8: 4004 | C8: CDHU | D8: 38.04.040 | E8: =VLOOKUP($B8,'Plan. Orçamentária'!$D$1:$L$1534,4,FALSE) -> Eletroduto galvanizado conforme NBR13057 - 3/4´ com acessórios | F8: =VLOOKUP($B8,'Plan. Orçamentária'!$D$1:$L$1534,5,FALSE) -> M | G8: =SUMIF('Plan. Orçamentária'!$F$1:$F$1534,D8,'Plan. Orçamentária'!$I$1:$I$1534) -> 271 | H8: =IF(D8<>0,INDEX('Plan. Orçamentária'!$F$1:$K$1534,MATCH(D8,'Plan. Orçamentária'!$F$1:$F$1534,0),6),0) -> 0 | I8: =ROUND(ROUND(G8,2)*ROUND(H8,2),2) -> 0 | K8: =I8/$I$1 -> #DIV/0! | L8: =K8+L7 -> #DIV/0! | M8: =IF(L8<=80%,"A",IF(L8<=95%,"B","C")) -> #DIV/0!
B9: 7005 | C9: SIURB (E) | D9: 20003002 | E9: =VLOOKUP($B9,'Plan. Orçamentária'!$D$1:$L$1534,4,FALSE) -> ENGENHEIRO/ ARQUITETO SÊNIOR | F9: =VLOOKUP($B9,'Plan. Orçamentária'!$D$1:$L$1534,5,FALSE) -> H | G9: =SUMIF('Plan. Orçamentária'!$F$1:$F$1534,D9,'Plan. Orçamentária'!$I$1:$I$1534) -> 32 | H9: =IF(D9<>0,INDEX('Plan. Orçamentária'!$F$1:$K$1534,MATCH(D9,'Plan. Orçamentária'!$F$1:$F$1534,0),6),0) -> 0 | I9: =ROUND(ROUND(G9,2)*ROUND(H9,2),2) -> 0 | K9: =I9/$I$1 -> #DIV/0! | L9: =K9+L8 -> #DIV/0! | M9: =IF(L9<=80%,"A",IF(L9<=95%,"B","C")) -> #DIV/0!
B10: 3016 | C10: CDHU | D10: 46.08.070 | E10: =VLOOKUP($B10,'Plan. Orçamentária'!$D$1:$L$1534,4,FALSE) -> Tubo galvanizado sem costura schedule 40, DN= 2 1/2´, inclusive conexões | F10: =VLOOKUP($B10,'Plan. Orçamentária'!$D$1:$L$1534,5,FALSE) -> M | G10: =SUMIF('Plan. Orçamentária'!$F$1:$F$1534,D10,'Plan. Orçamentária'!$I$1:$I$1534) -> 29 | H10: =IF(D10<>0,INDEX('Plan. Orçamentária'!$F$1:$K$1534,MATCH(D10,'Plan. Orçamentária'!$F$1:$F$1534,0),6),0) -> 0 | I10: =ROUND(ROUND(G10,2)*ROUND(H10,2),2) -> 0 | K10: =I10/$I$1 -> #DIV/0! | L10: =K10+L9 -> #DIV/0! | M10: =IF(L10<=80%,"A",IF(L10<=95%,"B","C")) -> #DIV/0!
B11: 3009 | C11: CDHU | D11: 50.05.312 | E11: =VLOOKUP($B11,'Plan. Orçamentária'!$D$1:$L$1534,4,FALSE) -> Bloco autônomo de iluminação de emergência LED, com autonomia mínima de 3 horas, fluxo luminoso de 2.000 até 3.000 lúmens, equipado com 2 faróis | F11: =VLOOKUP($B11,'Plan. Orçamentária'!$D$1:$L$1534,5,FALSE) -> UN | G11: =SUMIF('Plan. Orçamentária'!$F$1:$F$1534,D11,'Plan. Orçamentária'!$I$1:$I$1534) -> 41 | H11: =IF(D11<>0,INDEX('Plan. Orçamentária'!$F$1:$K$1534,MATCH(D11,'Plan. Orçamentária'!$F$1:$F$1534,0),6),0) -> 0 | I11: =ROUND(ROUND(G11,2)*ROUND(H11,2),2) -> 0 | K11: =I11/$I$1 -> #DIV/0! | L11: =K11+L10 -> #DIV/0! | M11: =IF(L11<=80%,"A",IF(L11<=95%,"B","C")) -> #DIV/0!
B12: 5001 | C12: CDHU | D12: 24.02.054 | E12: =VLOOKUP($B12,'Plan. Orçamentária'!$D$1:$L$1534,4,FALSE) -> Porta corta-fogo classe P.90, com barra antipânico numa face e maçaneta na outra, completa | F12: =VLOOKUP($B12,'Plan. Orçamentária'!$D$1:$L$1534,5,FALSE) -> M2 | G12: =SUMIF('Plan. Orçamentária'!$F$1:$F$1534,D12,'Plan. Orçamentária'!$I$1:$I$1534) -> 5.04 | H12: =IF(D12<>0,INDEX('Plan. Orçamentária'!$F$1:$K$1534,MATCH(D12,'Plan. Orçamentária'!$F$1:$F$1534,0),6),0) -> 0 | I12: =ROUND(ROUND(G12,2)*ROUND(H12,2),2) -> 0 | K12: =I12/$I$1 -> #DIV/0! | L12: =K12+L11 -> #DIV/0! | M12: =IF(L12<=80%,"A",IF(L12<=95%,"B","C")) -> #DIV/0!
B13: 4011 | C13: CDHU | D13: 39.03.170 | E13: =VLOOKUP($B13,'Plan. Orçamentária'!$D$1:$L$1534,4,FALSE) -> Cabo de cobre de 2,5 mm², isolamento 0,6/1 kV - isolação em PVC 70°C | F13: =VLOOKUP($B13,'Plan. Orçamentária'!$D$1:$L$1534,5,FALSE) -> M | G13: =SUMIF('Plan. Orçamentária'!$F$1:$F$1534,D13,'Plan. Orçamentária'!$I$1:$I$1534) -> 1414 | H13: =IF(D13<>0,INDEX('Plan. Orçamentária'!$F$1:$K$1534,MATCH(D13,'Plan. Orçamentária'!$F$1:$F$1534,0),6),0) -> 0 | I13: =ROUND(ROUND(G13,2)*ROUND(H13,2),2) -> 0 | K13: =I13/$I$1 -> #DIV/0! | L13: =K13+L12 -> #DIV/0! | M13: =IF(L13<=80%,"A",IF(L13<=95%,"B","C")) -> #DIV/0!
B14: 8001 | C14: SIURB (E) | D14: 20005037 | E14: =VLOOKUP($B14,'Plan. Orçamentária'!$D$1:$L$1534,4,FALSE) -> SERVIÇOS TÉCNICOS PROFISSIONAIS PARA OBTENÇÃO DO AVCB JUNTO AO CORPO DE BOMBEIROS PARA EDIFICAÇÕES DE 2001 À 5000 M2 | F14: =VLOOKUP($B14,'Plan. Orçamentária'!$D$1:$L$1534,5,FALSE) -> GL | G14: =SUMIF('Plan. Orçamentária'!$F$1:$F$1534,D14,'Plan. Orçamentária'!$I$1:$I$1534) -> 1 | H14: =IF(D14<>0,INDEX('Plan. Orçamentária'!$F$1:$K$1534,MATCH(D14,'Plan. Orçamentária'!$F$1:$F$1534,0),6),0) -> 0 | I14: =ROUND(ROUND(G14,2)*ROUND(H14,2),2) -> 0 | K14: =I14/$I$1 -> #DIV/0! | L14: =K14+L13 -> #DIV/0! | M14: =IF(L14<=80%,"A",IF(L14<=95%,"B","C")) -> #DIV/0!
B15: 2001 | C15: CDHU | D15: 48.02.207 | E15: =VLOOKUP($B15,'Plan. Orçamentária'!$D$1:$L$1534,4,FALSE) -> Reservatório em polietileno com tampa de encaixar - capacidade de 10.000 litros | F15: =VLOOKUP($B15,'Plan. Orçamentária'!$D$1:$L$1534,5,FALSE) -> UN | G15: =SUMIF('Plan. Orçamentária'!$F$1:$F$1534,D15,'Plan. Orçamentária'!$I$1:$I$1534) -> 1 | H15: =IF(D15<>0,INDEX('Plan. Orçamentária'!$F$1:$K$1534,MATCH(D15,'Plan. Orçamentária'!$F$1:$F$1534,0),6),0) -> 0 | I15: =ROUND(ROUND(G15,2)*ROUND(H15,2),2) -> 0 | K15: =I15/$I$1 -> #DIV/0! | L15: =K15+L14 -> #DIV/0! | M15: =IF(L15<=80%,"A",IF(L15<=95%,"B","C")) -> #DIV/0!
B16: 3002 | C16: CDHU | D16: 50.10.220 | E16: =VLOOKUP($B16,'Plan. Orçamentária'!$D$1:$L$1534,4,FALSE) -> Suporte para extintor de piso em aço inoxidável | F16: =VLOOKUP($B16,'Plan. Orçamentária'!$D$1:$L$1534,5,FALSE) -> UN | G16: =SUMIF('Plan. Orçamentária'!$F$1:$F$1534,D16,'Plan. Orçamentária'!$I$1:$I$1534) -> 15 | H16: =IF(D16<>0,INDEX('Plan. Orçamentária'!$F$1:$K$1534,MATCH(D16,'Plan. Orçamentária'!$F$1:$F$1534,0),6),0) -> 0 | I16: =ROUND(ROUND(G16,2)*ROUND(H16,2),2) -> 0 | K16: =I16/$I$1 -> #DIV/0! | L16: =K16+L15 -> #DIV/0! | M16: =IF(L16<=80%,"A",IF(L16<=95%,"B","C")) -> #DIV/0!
B17: 3001 | C17: CDHU | D17: 50.10.120 | E17: =VLOOKUP($B17,'Plan. Orçamentária'!$D$1:$L$1534,4,FALSE) -> Extintor manual de pó químico seco ABC - capacidade de 6 kg | F17: =VLOOKUP($B17,'Plan. Orçamentária'!$D$1:$L$1534,5,FALSE) -> UN | G17: =SUMIF('Plan. Orçamentária'!$F$1:$F$1534,D17,'Plan. Orçamentária'!$I$1:$I$1534) -> 15 | H17: =IF(D17<>0,INDEX('Plan. Orçamentária'!$F$1:$K$1534,MATCH(D17,'Plan. Orçamentária'!$F$1:$F$1534,0),6),0) -> 0 | I17: =ROUND(ROUND(G17,2)*ROUND(H17,2),2) -> 0 | K17: =I17/$I$1 -> #DIV/0! | L17: =K17+L16 -> #DIV/0! | M17: =IF(L17<=80%,"A",IF(L17<=95%,"B","C")) -> #DIV/0!
B18: 4005 | C18: SINAPI | D18: 91924 | E18: =VLOOKUP($B18,'Plan. Orçamentária'!$D$1:$L$1534,4,FALSE) -> CABO DE COBRE FLEXÍVEL ISOLADO, 1,5 MM², ANTI-CHAMA 450/750 V, PARA CIRCUITOS TERMINAIS - FORNECIMENTO E INSTALAÇÃO. AF_03/2023 | F18: =VLOOKUP($B18,'Plan. Orçamentária'!$D$1:$L$1534,5,FALSE) -> M | G18: =SUMIF('Plan. Orçamentária'!$F$1:$F$1534,D18,'Plan. Orçamentária'!$I$1:$I$1534) -> 1010 | H18: =IF(D18<>0,INDEX('Plan. Orçamentária'!$F$1:$K$1534,MATCH(D18,'Plan. Orçamentária'!$F$1:$F$1534,0),6),0) -> 0 | I18: =ROUND(ROUND(G18,2)*ROUND(H18,2),2) -> 0 | K18: =I18/$I$1 -> #DIV/0! | L18: =K18+L17 -> #DIV/0! | M18: =IF(L18<=80%,"A",IF(L18<=95%,"B","C")) -> #DIV/0!
B19: 4019 | C19: CDHU | D19: 39.21.070 | E19: =VLOOKUP($B19,'Plan. Orçamentária'!$D$1:$L$1534,4,FALSE) -> Cabo de cobre flexível de 25 mm², isolamento 0,6/1kV - isolação HEPR 90°C | F19: =VLOOKUP($B19,'Plan. Orçamentária'!$D$1:$L$1534,5,FALSE) -> M | G19: =SUMIF('Plan. Orçamentária'!$F$1:$F$1534,D19,'Plan. Orçamentária'!$I$1:$I$1534) -> 135 | H19: =IF(D19<>0,INDEX('Plan. Orçamentária'!$F$1:$K$1534,MATCH(D19,'Plan. Orçamentária'!$F$1:$F$1534,0),6),0) -> 0 | I19: =ROUND(ROUND(G19,2)*ROUND(H19,2),2) -> 0 | K19: =I19/$I$1 -> #DIV/0! | L19: =K19+L18 -> #DIV/0! | M19: =IF(L19<=80%,"A",IF(L19<=95%,"B","C")) -> #DIV/0!
B20: 6001 | C20: CDHU | D20: 55.01.020 | E20: =VLOOKUP($B20,'Plan. Orçamentária'!$D$1:$L$1534,4,FALSE) -> Limpeza final da obra | F20: =VLOOKUP($B20,'Plan. Orçamentária'!$D$1:$L$1534,5,FALSE) -> M2 | G20: =SUMIF('Plan. Orçamentária'!$F$1:$F$1534,D20,'Plan. Orçamentária'!$I$1:$I$1534) -> 202.29 | H20: =IF(D20<>0,INDEX('Plan. Orçamentária'!$F$1:$K$1534,MATCH(D20,'Plan. Orçamentária'!$F$1:$F$1534,0),6),0) -> 0 | I20: =ROUND(ROUND(G20,2)*ROUND(H20,2),2) -> 0 | K20: =I20/$I$1 -> #DIV/0! | L20: =K20+L19 -> #DIV/0! | M20: =IF(L20<=80%,"A",IF(L20<=95%,"B","C")) -> #DIV/0!
B21: 4030 | C21: SIURB (E) | D21: 9002098 | E21: =VLOOKUP($B21,'Plan. Orçamentária'!$D$1:$L$1534,4,FALSE) -> ENVELOPAMENTO DE ELETRODUTO ENTERRADO, COM CONCRETO | F21: =VLOOKUP($B21,'Plan. Orçamentária'!$D$1:$L$1534,5,FALSE) -> M | G21: =SUMIF('Plan. Orçamentária'!$F$1:$F$1534,D21,'Plan. Orçamentária'!$I$1:$I$1534) -> 45 | H21: =IF(D21<>0,INDEX('Plan. Orçamentária'!$F$1:$K$1534,MATCH(D21,'Plan. Orçamentária'!$F$1:$F$1534,0),6),0) -> 0 | I21: =ROUND(ROUND(G21,2)*ROUND(H21,2),2) -> 0 | K21: =I21/$I$1 -> #DIV/0! | L21: =K21+L20 -> #DIV/0! | M21: =IF(L21<=80%,"A",IF(L21<=95%,"B","C")) -> #DIV/0!
B22: 7002 | C22: SINAPI | D22: 88267 | E22: =VLOOKUP($B22,'Plan. Orçamentária'!$D$1:$L$1534,4,FALSE) -> ENCANADOR OU BOMBEIRO HIDRÁULICO COM ENCARGOS COMPLEMENTARES | F22: =VLOOKUP($B22,'Plan. Orçamentária'!$D$1:$L$1534,5,FALSE) -> H | G22: =SUMIF('Plan. Orçamentária'!$F$1:$F$1534,D22,'Plan. Orçamentária'!$I$1:$I$1534) -> 48 | H22: =IF(D22<>0,INDEX('Plan. Orçamentária'!$F$1:$K$1534,MATCH(D22,'Plan. Orçamentária'!$F$1:$F$1534,0),6),0) -> 0 | I22: =ROUND(ROUND(G22,2)*ROUND(H22,2),2) -> 0 | K22: =I22/$I$1 -> #DIV/0! | L22: =K22+L21 -> #DIV/0! | M22: =IF(L22<=80%,"A",IF(L22<=95%,"B","C")) -> #DIV/0!
B23: 7003 | C23: CDHU | D23: 47.11.021 | E23: =VLOOKUP($B23,'Plan. Orçamentária'!$D$1:$L$1534,4,FALSE) -> Pressostato diferencial ajustável mecânico, montagem inferior com diâmetro de 1/2" e/ou 1/4", faixa de operação até 16 bar | F23: =VLOOKUP($B23,'Plan. Orçamentária'!$D$1:$L$1534,5,FALSE) -> UN | G23: =SUMIF('Plan. Orçamentária'!$F$1:$F$1534,D23,'Plan. Orçamentária'!$I$1:$I$1534) -> 3 | H23: =IF(D23<>0,INDEX('Plan. Orçamentária'!$F$1:$K$1534,MATCH(D23,'Plan. Orçamentária'!$F$1:$F$1534,0),6),0) -> 0 | I23: =ROUND(ROUND(G23,2)*ROUND(H23,2),2) -> 0 | K23: =I23/$I$1 -> #DIV/0! | L23: =K23+L22 -> #DIV/0! | M23: =IF(L23<=80%,"A",IF(L23<=95%,"B","C")) -> #DIV/0!
B24: 3015 | C24: CDHU | D24: 30.06.064 | E24: =VLOOKUP($B24,'Plan. Orçamentária'!$D$1:$L$1534,4,FALSE) -> Sistema de alarme PNE com indicador audiovisual, sistema sem fio (Wireless), para pessoas com mobilidade reduzida ou cadeirante | F24: =VLOOKUP($B24,'Plan. Orçamentária'!$D$1:$L$1534,5,FALSE) -> CJ | G24: =SUMIF('Plan. Orçamentária'!$F$1:$F$1534,D24,'Plan. Orçamentária'!$I$1:$I$1534) -> 2 | H24: =IF(D24<>0,INDEX('Plan. Orçamentária'!$F$1:$K$1534,MATCH(D24,'Plan. Orçamentária'!$F$1:$F$1534,0),6),0) -> 0 | I24: =ROUND(ROUND(G24,2)*ROUND(H24,2),2) -> 0 | K24: =I24/$I$1 -> #DIV/0! | L24: =K24+L23 -> #DIV/0! | M24: =IF(L24<=80%,"A",IF(L24<=95%,"B","C")) -> #DIV/0!
B25: 1003 | C25: FDE | D25: 16.06.047 | E25: =VLOOKUP($B25,'Plan. Orçamentária'!$D$1:$L$1534,4,FALSE) -> LOCAÇÃO MENSAL DE CONTAINER 4,00M COM 2 VASOS SANITARIOS, 1 LAVABO, 1 MICTÓRIO E 4 PONTOS CHUV. | F25: =VLOOKUP($B25,'Plan. Orçamentária'!$D$1:$L$1534,5,FALSE) -> M2 | G25: =SUMIF('Plan. Orçamentária'!$F$1:$F$1534,D25,'Plan. Orçamentária'!$I$1:$I$1534) -> 9.76 | H25: =IF(D25<>0,INDEX('Plan. Orçamentária'!$F$1:$K$1534,MATCH(D25,'Plan. Orçamentária'!$F$1:$F$1534,0),6),0) -> 0 | I25: =ROUND(ROUND(G25,2)*ROUND(H25,2),2) -> 0 | K25: =I25/$I$1 -> #DIV/0! | L25: =K25+L24 -> #DIV/0! | M25: =IF(L25<=80%,"A",IF(L25<=95%,"B","C")) -> #DIV/0!
B26: 3014 | C26: CDHU | D26: 50.05.214 | E26: =VLOOKUP($B26,'Plan. Orçamentária'!$D$1:$L$1534,4,FALSE) -> Detector de gás liquefeito (GLP), gás natural (GN) ou derivados de metano | F26: =VLOOKUP($B26,'Plan. Orçamentária'!$D$1:$L$1534,5,FALSE) -> UN | G26: =SUMIF('Plan. Orçamentária'!$F$1:$F$1534,D26,'Plan. Orçamentária'!$I$1:$I$1534) -> 4 | H26: =IF(D26<>0,INDEX('Plan. Orçamentária'!$F$1:$K$1534,MATCH(D26,'Plan. Orçamentária'!$F$1:$F$1534,0),6),0) -> 0 | I26: =ROUND(ROUND(G26,2)*ROUND(H26,2),2) -> 0 | K26: =I26/$I$1 -> #DIV/0! | L26: =K26+L25 -> #DIV/0! | M26: =IF(L26<=80%,"A",IF(L26<=95%,"B","C")) -> #DIV/0!
B27: 3023 | C27: FDE | D27: 09.05.089 | E27: =VLOOKUP($B27,'Plan. Orçamentária'!$D$1:$L$1534,4,FALSE) -> QUADRO COMANDO PARA BOMBA DE INCENDIO TRIFASICO DE 10 HP | F27: =VLOOKUP($B27,'Plan. Orçamentária'!$D$1:$L$1534,5,FALSE) -> UN | G27: =SUMIF('Plan. Orçamentária'!$F$1:$F$1534,D27,'Plan. Orçamentária'!$I$1:$I$1534) -> 1 | H27: =IF(D27<>0,INDEX('Plan. Orçamentária'!$F$1:$K$1534,MATCH(D27,'Plan. Orçamentária'!$F$1:$F$1534,0),6),0) -> 0 | I27: =ROUND(ROUND(G27,2)*ROUND(H27,2),2) -> 0 | K27: =I27/$I$1 -> #DIV/0! | L27: =K27+L26 -> #DIV/0! | M27: =IF(L27<=80%,"A",IF(L27<=95%,"B","C")) -> #DIV/0!
B28: 3004 | C28: CDHU | D28: 97.02.195 | E28: =VLOOKUP($B28,'Plan. Orçamentária'!$D$1:$L$1534,4,FALSE) -> Placa de sinalização em PVC fotoluminescente (240x120mm), com indicação de rota de evacuação e saída de emergência | F28: =VLOOKUP($B28,'Plan. Orçamentária'!$D$1:$L$1534,5,FALSE) -> UN | G28: =SUMIF('Plan. Orçamentária'!$F$1:$F$1534,D28,'Plan. Orçamentária'!$I$1:$I$1534) -> 42 | H28: =IF(D28<>0,INDEX('Plan. Orçamentária'!$F$1:$K$1534,MATCH(D28,'Plan. Orçamentária'!$F$1:$F$1534,0),6),0) -> 0 | I28: =ROUND(ROUND(G28,2)*ROUND(H28,2),2) -> 0 | K28: =I28/$I$1 -> #DIV/0! | L28: =K28+L27 -> #DIV/0! | M28: =IF(L28<=80%,"A",IF(L28<=95%,"B","C")) -> #DIV/0!
B29: 3018 | C29: CDHU | D29: 33.11.050 | E29: =VLOOKUP($B29,'Plan. Orçamentária'!$D$1:$L$1534,4,FALSE) -> Esmalte à base água em superfície metálica, inclusive preparo | F29: =VLOOKUP($B29,'Plan. Orçamentária'!$D$1:$L$1534,5,FALSE) -> M2 | G29: =SUMIF('Plan. Orçamentária'!$F$1:$F$1534,D29,'Plan. Orçamentária'!$I$1:$I$1534) -> 21.26 | H29: =IF(D29<>0,INDEX('Plan. Orçamentária'!$F$1:$K$1534,MATCH(D29,'Plan. Orçamentária'!$F$1:$F$1534,0),6),0) -> 0 | I29: =ROUND(ROUND(G29,2)*ROUND(H29,2),2) -> 0 | K29: =I29/$I$1 -> #DIV/0! | L29: =K29+L28 -> #DIV/0! | M29: =IF(L29<=80%,"A",IF(L29<=95%,"B","C")) -> #DIV/0!
B30: 3021 | C30: FDE | D30: 08.08.012 | E30: =VLOOKUP($B30,'Plan. Orçamentária'!$D$1:$L$1534,4,FALSE) -> REGISTRO DE RECALQUE NO PASSEIO (RR-01) | F30: =VLOOKUP($B30,'Plan. Orçamentária'!$D$1:$L$1534,5,FALSE) -> UN | G30: =SUMIF('Plan. Orçamentária'!$F$1:$F$1534,D30,'Plan. Orçamentária'!$I$1:$I$1534) -> 1 | H30: =IF(D30<>0,INDEX('Plan. Orçamentária'!$F$1:$K$1534,MATCH(D30,'Plan. Orçamentária'!$F$1:$F$1534,0),6),0) -> 0 | I30: =ROUND(ROUND(G30,2)*ROUND(H30,2),2) -> 0 | K30: =I30/$I$1 -> #DIV/0! | L30: =K30+L29 -> #DIV/0! | M30: =IF(L30<=80%,"A",IF(L30<=95%,"B","C")) -> #DIV/0!
B31: 4020 | C31: SINAPI | D31: 97669 | E31: =VLOOKUP($B31,'Plan. Orçamentária'!$D$1:$L$1534,4,FALSE) -> ELETRODUTO FLEXÍVEL CORRUGADO, PEAD, DN 90 (3"), PARA REDE ENTERRADA DE DISTRIBUIÇÃO DE ENERGIA ELÉTRICA - FORNECIMENTO E INSTALAÇÃO. AF_12/2021 | F31: =VLOOKUP($B31,'Plan. Orçamentária'!$D$1:$L$1534,5,FALSE) -> M | G31: =SUMIF('Plan. Orçamentária'!$F$1:$F$1534,D31,'Plan. Orçamentária'!$I$1:$I$1534) -> 45 | H31: =IF(D31<>0,INDEX('Plan. Orçamentária'!$F$1:$K$1534,MATCH(D31,'Plan. Orçamentária'!$F$1:$F$1534,0),6),0) -> 0 | I31: =ROUND(ROUND(G31,2)*ROUND(H31,2),2) -> 0 | K31: =I31/$I$1 -> #DIV/0! | L31: =K31+L30 -> #DIV/0! | M31: =IF(L31<=80%,"A",IF(L31<=95%,"B","C")) -> #DIV/0!
B32: 4007 | C32: SINAPI | D32: 92867 | E32: =VLOOKUP($B32,'Plan. Orçamentária'!$D$1:$L$1534,4,FALSE) -> CAIXA RETANGULAR 4" X 2" ALTA (2,00 M DO PISO), METÁLICA, INSTALADA EM PAREDE - FORNECIMENTO E INSTALAÇÃO. AF_03/2023 | F32: =VLOOKUP($B32,'Plan. Orçamentária'!$D$1:$L$1534,5,FALSE) -> UN | G32: =SUMIF('Plan. Orçamentária'!$F$1:$F$1534,D32,'Plan. Orçamentária'!$I$1:$I$1534) -> 22 | H32: =IF(D32<>0,INDEX('Plan. Orçamentária'!$F$1:$K$1534,MATCH(D32,'Plan. Orçamentária'!$F$1:$F$1534,0),6),0) -> 0 | I32: =ROUND(ROUND(G32,2)*ROUND(H32,2),2) -> 0 | K32: =I32/$I$1 -> #DIV/0! | L32: =K32+L31 -> #DIV/0! | M32: =IF(L32<=80%,"A",IF(L32<=95%,"B","C")) -> #DIV/0!
B33: 1001 | C33: SINAPI | D33: 103689 | E33: =VLOOKUP($B33,'Plan. Orçamentária'!$D$1:$L$1534,4,FALSE) -> FORNECIMENTO E INSTALAÇÃO DE PLACA DE OBRA COM CHAPA GALVANIZADA E ESTRUTURA DE MADEIRA. AF_03/2022_PS | F33: =VLOOKUP($B33,'Plan. Orçamentária'!$D$1:$L$1534,5,FALSE) -> M2 | G33: =SUMIF('Plan. Orçamentária'!$F$1:$F$1534,D33,'Plan. Orçamentária'!$I$1:$I$1534) -> 2 | H33: =IF(D33<>0,INDEX('Plan. Orçamentária'!$F$1:$K$1534,MATCH(D33,'Plan. Orçamentária'!$F$1:$F$1534,0),6),0) -> 0 | I33: =ROUND(ROUND(G33,2)*ROUND(H33,2),2) -> 0 | K33: =I33/$I$1 -> #DIV/0! | L33: =K33+L32 -> #DIV/0! | M33: =IF(L33<=80%,"A",IF(L33<=95%,"B","C")) -> #DIV/0!
