Workbook
Name __shared_1_0_0: #REF!
Name __shared_1_0_0: #REF!
Name __shared_1_0_1: NA()
Name __shared_1_0_10: NA()
Name __shared_1_0_100: NA()
Name __shared_1_0_101: NA()
Name __shared_1_0_102: NA()
Name __shared_1_0_103: NA()
Name __shared_1_0_104: NA()
Name __shared_1_0_105: NA()
Name __shared_1_0_106: NA()
Name __shared_1_0_107: NA()
Name __shared_1_0_108: NA()
Name __shared_1_0_109: NA()
Name __shared_1_0_11: #REF!
Name __shared_1_0_11: #REF!
Name __shared_1_0_110: NA()
Name __shared_1_0_111: NA()
Name __shared_1_0_112: NA()
Name __shared_1_0_113: NA()
Name __shared_1_0_114: NA()
Name __shared_1_0_115: NA()
Name __shared_1_0_116: NA()
Name __shared_1_0_117: NA()
Name __shared_1_0_118: NA()
Name __shared_1_0_119: NA()
Name __shared_1_0_12: NA()
Name __shared_1_0_120: NA()
Name __shared_1_0_121: NA()
Name __shared_1_0_122: #REF!
Name __shared_1_0_122: #REF!
Name __shared_1_0_123: NA()
Name __shared_1_0_124: NA()
Name __shared_1_0_125: NA()
Name __shared_1_0_126: NA()
Name __shared_1_0_127: NA()
Name __shared_1_0_128: NA()
Name __shared_1_0_129: NA()
Name __shared_1_0_13: NA()
Name __shared_1_0_130: NA()
Name __shared_1_0_131: NA()
Name __shared_1_0_132: NA()
Name __shared_1_0_133: NA()
Name __shared_1_0_134: NA()
Name __shared_1_0_135: NA()
Name __shared_1_0_136: NA()
Name __shared_1_0_137: NA()
Name __shared_1_0_138: NA()
Name __shared_1_0_139: #REF!
Name __shared_1_0_139: #REF!
Name __shared_1_0_14: NA()
Name __shared_1_0_140: NA()
Name __shared_1_0_141: NA()
Name __shared_1_0_142: NA()
Name __shared_1_0_143: NA()
Name __shared_1_0_144: NA()
Name __shared_1_0_145: NA()
Name __shared_1_0_146: NA()
Name __shared_1_0_147: NA()
Name __shared_1_0_148: NA()

Sheet Orçamento
D2: PREFEITURA MUNICIPAL DE TORRINHA
B3: OBRA: "REFORMA E ADAPTAÇÃO DA CRECHE CATHARINA PERLATTI PARA IMPLANTAÇÃO DE UBS"
D5: PLANILHA ORÇAMENTÁRIA | I5: CDHU 200 SINAPI - JAN/2026 - DESONERADA
B7: FONTE | C7: CÓDIGO | D7: ITEM | E7: DESCRIÇÃO | F7: UNID. | G7: QUANTIDADE | H7: VALOR UNITÁRIO | I7: TOTAL | J7: VALOR UNITÁRIO | K7: TOTAL
H8: SEM BDI (R$) | I8: SEM BDI (R$) | J8: BDI = 22,47% (R$) | K8: BDI = 22,47% (R$)
D9: 1 | E9: FECHAMENTOS | K9: =SUM(K10:K11:K15:K22) -> 17088.07
B10: CDHU | C10: 04.01.040 | D10: 1.1 | E10: Retirada de divisória em placa de madeira ou fibrocimento com montantes metálicos | F10: M2 | G10: 99.26 | H10: 32.33 | J10: =ROUND(H10*1.2247,2) -> 39.59 | K10: =ROUND(J10*G10,2) -> 3929.7
B11: CDHU | C11: 14.40.040 | D11: 1.2 | E11: Recolocação de divisórias em chapas com montantes metálicos | F11: M2 | G11: 99.26 | H11: 45.31 | I11: =ROUND(H11*G11,2) -> 4497.47 | J11: =ROUND(H11*1.2247,2) -> 55.49 | K11: =ROUND(J11*G11,2) -> 5507.94
B12: CDHU | C12: 07.01.010 | D12: 1.2 | E12: Escavação e carga mecanizada em solo de 1ª categoria, em campo aberto | F12: M³ | G12: 583.02 | H12: 18.17 | I12: =ROUND(H12*G12,2) -> 10593.47 | J12: =ROUND(H12*1.2247,2) -> 22.25
B13: CDHU | C13: 05.10.020 | D13: 1.3 | E13: Transporte de solo de 1ª e 2ª categoria por caminhão até o 2° km | F13: M³ | G13: =G12 -> 583.02 | H13: 8.66 | I13: =ROUND(H13*G13,2) -> 5048.95 | J13: =ROUND(H13*1.2247,2) -> 10.61
B14: CDHU | C14: 07.12.040 | D14: 1.4 | E14: Aterro mecanizado por compensação, solo de 1ª categoria em campo aberto, sem compactação do aterro aberto | F14: M³ | G14: =G13 -> 583.02 | H14: 22.42 | I14: =ROUND(H14*G14,2) -> 13071.31 | J14: =ROUND(H14*1.2247,2) -> 27.46
B15: CDHU | C15: 04.21.100 | D15: 1.3 | E15: Remoção de porta de quadro ou painel | F15: M2 | G15: 22.68 | H15: 50.24 | I15: =ROUND(H15*G15,2) -> 1139.44 | J15: =ROUND(H15*1.2247,2) -> 61.53 | K15: =ROUND(J15*G15,2) -> 1395.5
B16: CDHU | C16: 23.20.040 | D16: 1.4 | E16: Recolocação de folhas de porta ou janela | F16: UN | G16: 15 | H16: 72.49 | I16: =ROUND(H16*G16,2) -> 1087.35 | J16: =ROUND(H16*1.2247,2) -> 88.78 | K16: =ROUND(J16*G16,2) -> 1331.7
B17: CDHU | C17: 24.01.070 | D17: 1.5 | E17: Caixilho em ferro de correr, sob medida | F17: M2 | G17: 2 | H17: 938.75 | I17: =ROUND(H17*G17,2) -> 1877.5 | J17: =ROUND(H17*1.2247,2) -> 1149.69 | K17: =ROUND(J17*G17,2) -> 2299.38
B18: CDHU | C18: 03.02.040 | D18: 1.6 | E18: Demolição manual de alvenaria de elevação ou elemento vazado, incluindo revestimento | F18: M3 | G18: 0.58 | H18: 81.76 | I18: =ROUND(H18*G18,2) -> 47.42 | J18: =ROUND(H18*1.2247,2) -> 100.13 | K18: =ROUND(J18*G18,2) -> 58.08
B19: CDHU | C19: 14.04.210 | D19: 1.7 | E19: Alvenaria de bloco cerâmico de vedação de 14 cm | F19: M2 | G19: 12.26 | H19: 83.32 | I19: =ROUND(H19*G19,2) -> 1021.5 | J19: =ROUND(H19*1.2247,2) -> 102.04 | K19: =ROUND(J19*G19,2) -> 1251.01
B20: CDHU | C20: 17.02.020 | D20: 1.8 | E20: Chapisco | F20: M2 | G20: 24.52 | H20: 7.21 | I20: =ROUND(H20*G20,2) -> 176.79 | J20: =ROUND(H20*1.2247,2) -> 8.83 | K20: =ROUND(J20*G20,2) -> 216.51
B21: CDHU | C21: 17.02.120 | D21: 1.9 | E21: Emboço comum | F21: M2 | G21: 24.52 | H21: 23.23 | I21: =ROUND(H21*G21,2) -> 569.6 | J21: =ROUND(H21*1.2247,2) -> 28.45 | K21: =ROUND(J21*G21,2) -> 697.59
B22: CDHU | C22: 17.02.220 | D22: 1.10 | E22: Reboco | F22: M2 | G22: 24.52 | H22: 13.34 | I22: =ROUND(H22*G22,2) -> 327.1 | J22: =ROUND(H22*1.2247,2) -> 16.34 | K22: =ROUND(J22*G22,2) -> 400.66
D23: 2 | E23: REMOÇÕES | K23: =SUM(K24:K26) -> 610.68
B24: CDHU | C24: 04.11.020 | D24: 2.1 | E24: Retirada de aparelho sanitário incluindo acessórios | F24: UN | G24: 6 | H24: 44.7 | I24: =ROUND(H24*G24,2) -> 268.2 | J24: =ROUND(H24*1.2247,2) -> 54.74 | K24: =ROUND(J24*G24,2) -> 328.44
B25: CDHU | C25: 04.11.030 | D25: 2.3 | E25: Retirada de bancada incluindo pertences | F25: M2 | G25: 2.56 | H25: 63.44 | I25: =ROUND(H25*G25,2) -> 162.41 | J25: =ROUND(H25*1.2247,2) -> 77.69 | K25: =ROUND(J25*G25,2) -> 198.89
B26: CDHU | C26: 04.01.060 | D26: 2.4 | E26: Retirada de divisória em placa de concreto, granito, granilite ou mármore | F26: M2 | G26: 3.42 | H26: 19.9 | I26: =ROUND(H26*G26,2) -> 68.06 | J26: =ROUND(H26*1.2247,2) -> 24.37 | K26: =ROUND(J26*G26,2) -> 83.35
D27: 3 | E27: INSTALAÇÕES | K27: =SUM(K28:K29:K30) -> 7453.34
B28: CDHU | C28: 44.01.072 | D28: 3.1 | E28: Bacia sifonada de louça com tampa, com saída horizontal - 6 litros | F28: UN | G28: 2 | H28: 555.03 | I28: =ROUND(H28*G28,2) -> 1110.06 | J28: =ROUND(H28*1.2247,2) -> 679.75 | K28: =ROUND(J28*G28,2) -> 1359.5
B29: CDHU | C29: 44.01.110 | D29: 3.2 | E29: Lavatório de louça com coluna | F29: UN | G29: 4 | H29: 563.4 | I29: =ROUND(H29*G29,2) -> 2253.6 | J29: =ROUND(H29*1.2247,2) -> 690 | K29: =ROUND(J29*G29,2) -> 2760
B30: CDHU | C30: 44.02.062 | D30: 3.3 | E30: Tampo/bancada em granito, com frontão, espessura de 2 cm, acabamento polido | F30: M2 | G30: 2.64 | H30: 1031.13 | I30: =ROUND(H30*G30,2) -> 2722.18 | J30: =ROUND(H30*1.2247,2) -> 1262.82 | K30: =ROUND(J30*G30,2) -> 3333.84
D31: 4 | E31: PINTURA INTERNA | K31: =SUM(K36:K37:K38:K39) -> 27765.56
B32: CDHU | C32: 03.02.040 | D32: 5.1 | E32: Demolição manual de alvenaria de elevação ou elemento vazado, incluindo revestimento | F32: m² | G32: 12.64 | H32: 90.84 | J32: =ROUND(H32*1.2247,2) -> 111.25 | K32: =ROUND(J32*G32,2) -> 1406.2
D33: 6 | E33: ELÉTRICA | K33: =SUM(K34:K39) -> 28869.57
B34: CDHU | C34: 06.01.020 | D34: 6.1 | E34: Escavação manual em solo de 1ª e 2ª categoria em campo aberto | F34: m³ | G34: 2.8 | H34: 56.78 | I34: =ROUND(H34*G34,2) -> 158.98 | J34: =ROUND(H34*1.2247,2) -> 69.54 | K34: =ROUND(J34*G34,2) -> 194.71
B35: CDHU | C35: 38.13.020 | D35: 6.2 | E35: Eletroduto corrugado em polietileno de alta densidade, DN= 50 mm, com acessórios | F35: m | G35: 70 | H35: 10.61 | I35: =ROUND(H35*G35,2) -> 742.7 | J35: =ROUND(H35*1.2247,2) -> 12.99 | K35: =ROUND(J35*G35,2) -> 909.3
B36: CDHU | C36: 03.10.140 | D36: 4.1 | E36: Remoção de pintura em massa com lixamento | F36: M2 | G36: 962.12 | H36: 7.01 | I36: =ROUND(H36*G36,2) -> 6744.46 | J36: =ROUND(H36*1.2247,2) -> 8.59 | K36: =ROUND(J36*G36,2) -> 8264.61
B37: SINAPI | C37: 88489 | D37: 4.2 | E37: PINTURA LÁTEX ACRÍLICA PREMIUM, APLICAÇÃO MANUAL EM PAREDES, DUAS DEMÃOS. AF_04/2023 | F37: M2 | G37: 570.21 | H37: 15.05 | I37: =ROUND(H37*G37,2) -> 8581.66 | J37: =ROUND(H37*1.2247,2) -> 18.43 | K37: =ROUND(J37*G37,2) -> 10508.97
B38: SINAPI | C38: 88488 | D38: 4.3 | E38: PINTURA LÁTEX ACRÍLICA PREMIUM, APLICAÇÃO MANUAL EM TETO, DUAS DEMÃOS. AF_04/2023 | F38: M2 | G38: 351.59 | H38: 17.95 | I38: =ROUND(H38*G38,2) -> 6311.04 | J38: =ROUND(H38*1.2247,2) -> 21.98 | K38: =ROUND(J38*G38,2) -> 7727.95
B39: SINAPI | C39: 102214 | D39: 4.4 | E39: PINTURA VERNIZ (INCOLOR) ALQUÍDICO EM MADEIRA, USO INTERNO, 2 DEMÃOS. AF_01/2021 | F39: M2 | G39: 40.32 | H39: 25.6 | I39: =ROUND(H39*G39,2) -> 1032.19 | J39: =ROUND(H39*1.2247,2) -> 31.35 | K39: =ROUND(J39*G39,2) -> 1264.03
D40: 5 | E40: PINTURA EXTERNA | K40: =SUM(K41:K42:K43) -> 16348.8
B41: CDHU | C41: 03.10.140 | D41: 5.1 | E41: Remoção de pintura em massa com lixamento | F41: M2 | G41: 523.09 | H41: 7.01 | I41: =ROUND(H41*G41,2) -> 3666.86 | J41: =ROUND(H41*1.2247,2) -> 8.59 | K41: =ROUND(J41*G41,2) -> 4493.34
B42: SINAPI | C42: 88489 | D42: 5.2 | E42: PINTURA LÁTEX ACRÍLICA PREMIUM, APLICAÇÃO MANUAL EM PAREDES, DUAS DEMÃOS. AF_04/2023 | F42: M2 | G42: 469.77 | H42: 15.05 | I42: =ROUND(H42*G42,2) -> 7070.04 | J42: =ROUND(H42*1.2247,2) -> 18.43 | K42: =ROUND(J42*G42,2) -> 8657.86
B43: CDHU | C43: 33.11.050 | D43: 5.3 | E43: Esmalte à base água em superfície metálica, inclusive preparo | F43: M2 | G43: 53.32 | H43: 48.97 | I43: =ROUND(H43*G43,2) -> 2611.08 | J43: =ROUND(H43*1.2247,2) -> 59.97 | K43: =ROUND(J43*G43,2) -> 3197.6
...

Sheet CFF
B1: PREFEITURA MUNICIPAL DE TORRINHA
B2: =Orçamento!B3 -> OBRA: "REFORMA E ADAPTAÇÃO DA CRECHE CATHARINA PERLATTI PARA IMPLANTAÇÃO DE UBS"
B3: CRONOGRAMA FÍSICO-FINANCEIRO
B4: ITEM | C4: DESCRIÇÃO | D4: A REALIZAR EM MESES | F4: CUSTO TOTAL
D5: 1 | E5: 2
B7: 1 | C7: =Orçamento!E9 -> FECHAMENTOS | D7: 17088.07
B9: 2 | C9: REMOÇÕES | D9: 610.68
B11: 3 | C11: INSTALAÇÕES | D11: 7453.34
B12: 4 | C12: PINTURA INTERNA | D12: 27,765,56
B14: 5 | C14: PINTURA EXTERNA | D14: 8174.4 | E14: 8174.4
B15: 6 | C15: LIMPEZA FINAL DE OBRA | E15: 6163.37
B16: TOTAL | D16: 61092.05 | E16: 14337.77 | F16: 75429.82
B17: EXECUÇÃO
C21: _____________________________________________ | E21: DE ACORDO
C22: =Orçamento!E51 -> MARCO AURELIO FERNANDES VALDO
C23: ENGENHEIRO CIVIL | E23: ARI RODOLFO BUZATO
C24: =Orçamento!E53 -> CREA 5071008323 | E24: PREFEITO MUNICIPAL

Sheet BDI
D2: =[1]CRONOGRAMA!$A$2 -> PREFEITURA MUNICIPAL TORRINHA
D3: =Orçamento!B3 -> OBRA: "REFORMA E ADAPTAÇÃO DA CRECHE CATHARINA PERLATTI PARA IMPLANTAÇÃO DE UBS"
D6: Item Componente do BDI
D7: Administração Central | H7: 0.03
D8: Seguro e Garantia | H8: 0.008
D9: Risco | H9: 0.0097
D10: Despesas Financeiras | H10: 0.0059
D11: Lucro | H11: 0.0616
D12: I1: PIS e COFINS | H12: 0.0365
D13: I2: ISSQN (Conforme Legislação Municipal) | H13: 0.05
D14: I3: Cont.Prev s/Rec.Bruta (Lei 13.161/15 - Com desoneração) | H14: 0
D15: BDI - SEM Desoneração da folha de pagamento | H15: =((1+H7+H8+H9)*(1+H10)*(1+H11))/(1-H12-H13-H14)-1 -> 0.22474059
D23: =Orçamento!E51 -> MARCO AURELIO FERNANDES VALDO
D24: =[1]CRONOGRAMA!B26 -> ENGENHEIRO CIVIL
D25: =Orçamento!E53 -> CREA 5071008323
