Workbook

Sheet PO
B1: MUNICÍPIO DE SANTA BÁRBARA D'OESTE - SP
B2: SECRETARIA MUNICIPAL DE OBRAS E SERVIÇOS
A4: PLANILHA ORÇAMENTÁRIA
A6: Objeto: | C6: Recuperação da Ponte San Marino-Laranjeiras | H6: Data base: | I6: 46078 | K6: Desconto ofertado:
A7: Local: | C7: Divisa entre os bairros San Marino e Laranjeiras no município de Santa Bárbara d'Oeste | H7: BDI: | I7: 0.228 | K7: Preço total ofertado: | M7: =$M$144 -> 0
A8: Empresa Licitante:
A10: Item | B10: Código | C10: Referência | D10: Descrição | E10: Unid. | F10: Quant. | G10: BDI | H10: Preço estimado da contratação | K10: Preço ofertado em licitação
H11: Preço s/ BDI | I11: Preço c/ BDI | J11: Preço total | K11: Preço s/ BDI | L11: Preço c/ BDI | M11: Preço total
A12: 1 | D12: SERVIÇOS PRELIMINARES | J12: =SUBTOTAL(9,J13:J19) -> 30151.1 | M12: =SUBTOTAL(9,M13:M19) -> 0
A13: 1.1 | D13: IDENTIFICAÇÃO DE OBRA | J13: =SUBTOTAL(9,J14) -> 6814.74 | M13: =SUBTOTAL(9,M14) -> 0
A14: 1.1.1 | B14: 02.08.020 | C14: CDHU | D14: Placa de identificação para obra | E14: M2 | F14: 6 | G14: =IF(C14="DER",0.35,$I$7) -> 0.228 | H14: 924.91 | I14: =ROUND(H14*(1+$G14),2) -> 1135.79 | J14: =ROUND(ROUND($F14,2)*ROUND(I14,2),2) -> 6814.74 | K14: =IF($M$6=0,0,L14/(1+$G14)) -> 0 | L14: =IF($M$6=0,0,ROUND(I14*(1-$M$6),2)) -> 0 | M14: =ROUND(ROUND($F14,2)*ROUND(L14,2),2) -> 0
A15: 1.2 | D15: CANTEIRO DE OBRAS | J15: =SUBTOTAL(9,J16:J17) -> 16435.92 | M15: =SUBTOTAL(9,M16:M17) -> 0
A16: 1.2.1 | B16: 02.02.150 | C16: CDHU | D16: Locação de container tipo depósito - área mínima de 13,80 m² | E16: UNMES | F16: 6 | G16: =IF(C16="DER",0.35,$I$7) -> 0.228 | H16: 981.38 | I16: =ROUND(H16*(1+$G16),2) -> 1205.13 | J16: =ROUND(ROUND($F16,2)*ROUND(I16,2),2) -> 7230.78 | K16: =IF($M$6=0,0,L16/(1+$G16)) -> 0 | L16: =IF($M$6=0,0,ROUND(I16*(1-$M$6),2)) -> 0 | M16: =ROUND(ROUND($F16,2)*ROUND(L16,2),2) -> 0
A17: 1.2.2 | B17: 02.01.180 | C17: CDHU | D17: Banheiro químico modelo Standard, com manutenção conforme exigências da CETESB | E17: UNMES | F17: 6 | G17: =IF(C17="DER",0.35,$I$7) -> 0.228 | H17: 1249.34 | I17: =ROUND(H17*(1+$G17),2) -> 1534.19 | J17: =ROUND(ROUND($F17,2)*ROUND(I17,2),2) -> 9205.14 | K17: =IF($M$6=0,0,L17/(1+$G17)) -> 0 | L17: =IF($M$6=0,0,ROUND(I17*(1-$M$6),2)) -> 0 | M17: =ROUND(ROUND($F17,2)*ROUND(L17,2),2) -> 0
A18: 1.3 | D18: LOCAÇÃO DE OBRA | J18: =SUBTOTAL(9,J19) -> 6900.44 | M18: =SUBTOTAL(9,M19) -> 0
A19: 1.3.1 | B19: 02.10.060 | C19: CDHU | D19: Locação de vias, calçadas, tanques e lagoas | E19: M2 | F19: 3053.29 | G19: =IF(C19="DER",0.35,$I$7) -> 0.228 | H19: 1.84 | I19: =ROUND(H19*(1+$G19),2) -> 2.26 | J19: =ROUND(ROUND($F19,2)*ROUND(I19,2),2) -> 6900.44 | K19: =IF($M$6=0,0,L19/(1+$G19)) -> 0 | L19: =IF($M$6=0,0,ROUND(I19*(1-$M$6),2)) -> 0 | M19: =ROUND(ROUND($F19,2)*ROUND(L19,2),2) -> 0
A20: 2 | D20: LIMPEZAS E DEMOLIÇÕES | J20: =SUBTOTAL(9,J21:J37) -> 47029.74 | M20: =SUBTOTAL(9,M21:M37) -> 0
A21: 2.1 | D21: LIMPEZA E REMOÇÃO DE CAMADA VEGETAL | J21: =SUBTOTAL(9,J22:J24) -> 11092.25 | M21: =SUBTOTAL(9,M22:M24) -> 0
A22: 2.1.1 | B22: 22.01.02 | C22: DER | D22: LIMP.TERRENO C/DEST.ARV.PERIMETRO<=78CM | E22: m2 | F22: 1482.43 | G22: =IF(C22="DER",0.35,$I$7) -> 0.35 | H22: 1.2814815 | I22: =ROUND(H22*(1+$G22),2) -> 1.73 | J22: =ROUND(ROUND($F22,2)*ROUND(I22,2),2) -> 2564.6 | K22: =IF($M$6=0,0,L22/(1+$G22)) -> 0 | L22: =IF($M$6=0,0,ROUND(I22*(1-$M$6),2)) -> 0 | M22: =ROUND(ROUND($F22,2)*ROUND(L22,2),2) -> 0
A23: 2.1.2 | B23: 22.02.06 | C23: DER | D23: CARGA DE MATERIAL LIMPEZA | E23: m3 | F23: 296.49 | G23: =IF(C23="DER",0.35,$I$7) -> 0.35 | H23: 3.7407407 | I23: =ROUND(H23*(1+$G23),2) -> 5.05 | J23: =ROUND(ROUND($F23,2)*ROUND(I23,2),2) -> 1497.27 | K23: =IF($M$6=0,0,L23/(1+$G23)) -> 0 | L23: =IF($M$6=0,0,ROUND(I23*(1-$M$6),2)) -> 0 | M23: =ROUND(ROUND($F23,2)*ROUND(L23,2),2) -> 0
A24: 2.1.3 | B24: 05.10.026 | C24: CDHU | D24: Transporte de solo de 1ª e 2ª categoria por caminhão para distâncias superiores ao 20° km | E24: M3XKM | F24: 3083.5 | G24: =IF(C24="DER",0.35,$I$7) -> 0.228 | H24: 1.86 | I24: =ROUND(H24*(1+$G24),2) -> 2.28 | J24: =ROUND(ROUND($F24,2)*ROUND(I24,2),2) -> 7030.38 | K24: =IF($M$6=0,0,L24/(1+$G24)) -> 0 | L24: =IF($M$6=0,0,ROUND(I24*(1-$M$6),2)) -> 0 | M24: =ROUND(ROUND($F24,2)*ROUND(L24,2),2) -> 0
A25: 2.2 | D25: DESASSOREAMENTO DE CÓRREGO | J25: =SUBTOTAL(9,J26:J27) -> 6708.84 | M25: =SUBTOTAL(9,M26:M27) -> 0
A26: 2.2.1 | B26: 22.02.01 | C26: DER | D26: ESCAVACAO E CARGA DE MATERIAL DE 1/2A CATEGORIA | E26: m3 | F26: 184.4 | G26: =IF(C26="DER",0.35,$I$7) -> 0.35 | H26: 9.3851852 | I26: =ROUND(H26*(1+$G26),2) -> 12.67 | J26: =ROUND(ROUND($F26,2)*ROUND(I26,2),2) -> 2336.35 | K26: =IF($M$6=0,0,L26/(1+$G26)) -> 0 | L26: =IF($M$6=0,0,ROUND(I26*(1-$M$6),2)) -> 0 | M26: =ROUND(ROUND($F26,2)*ROUND(L26,2),2) -> 0
A27: 2.2.2 | B27: 05.10.026 | C27: CDHU | D27: Transporte de solo de 1ª e 2ª categoria por caminhão para distâncias superiores ao 20° km | E27: M3XKM | F27: 1917.76 | G27: =IF(C27="DER",0.35,$I$7) -> 0.228 | H27: 1.86 | I27: =ROUND(H27*(1+$G27),2) -> 2.28 | J27: =ROUND(ROUND($F27,2)*ROUND(I27,2),2) -> 4372.49 | K27: =IF($M$6=0,0,L27/(1+$G27)) -> 0 | L27: =IF($M$6=0,0,ROUND(I27*(1-$M$6),2)) -> 0 | M27: =ROUND(ROUND($F27,2)*ROUND(L27,2),2) -> 0
A28: 2.3 | D28: DEMOLIÇÃO DE LAJES DE APROXIMAÇÃO DA PONTE | J28: =SUBTOTAL(9,J29:J31) -> 5044.09 | M28: =SUBTOTAL(9,M29:M31) -> 0
A29: 2.3.1 | B29: 03.01.040 | C29: CDHU | D29: Demolição manual de concreto armado | E29: M3 | F29: 8.6 | G29: =IF(C29="DER",0.35,$I$7) -> 0.228 | H29: 454.2 | I29: =ROUND(H29*(1+$G29),2) -> 557.76 | J29: =ROUND(ROUND($F29,2)*ROUND(I29,2),2) -> 4796.74 | K29: =IF($M$6=0,0,L29/(1+$G29)) -> 0 | L29: =IF($M$6=0,0,ROUND(I29*(1-$M$6),2)) -> 0 | M29: =ROUND(ROUND($F29,2)*ROUND(L29,2),2) -> 0
A30: 2.3.2 | B30: 22.02.06 | C30: DER | D30: CARGA DE MATERIAL LIMPEZA | E30: m3 | F30: 8.6 | G30: =IF(C30="DER",0.35,$I$7) -> 0.35 | H30: 3.7407407 | I30: =ROUND(H30*(1+$G30),2) -> 5.05 | J30: =ROUND(ROUND($F30,2)*ROUND(I30,2),2) -> 43.43 | K30: =IF($M$6=0,0,L30/(1+$G30)) -> 0 | L30: =IF($M$6=0,0,ROUND(I30*(1-$M$6),2)) -> 0 | M30: =ROUND(ROUND($F30,2)*ROUND(L30,2),2) -> 0
A31: 2.3.3 | B31: 05.10.026 | C31: CDHU | D31: Transporte de solo de 1ª e 2ª categoria por caminhão para distâncias superiores ao 20° km | E31: M3XKM | F31: 89.44 | G31: =IF(C31="DER",0.35,$I$7) -> 0.228 | H31: 1.86 | I31: =ROUND(H31*(1+$G31),2) -> 2.28 | J31: =ROUND(ROUND($F31,2)*ROUND(I31,2),2) -> 203.92 | K31: =IF($M$6=0,0,L31/(1+$G31)) -> 0 | L31: =IF($M$6=0,0,ROUND(I31*(1-$M$6),2)) -> 0 | M31: =ROUND(ROUND($F31,2)*ROUND(L31,2),2) -> 0
A32: 2.4 | D32: DEMOLIÇÃO DE PAVIMENTO | J32: =SUBTOTAL(9,J33:J34) -> 1807.41 | M32: =SUBTOTAL(9,M33:M34) -> 0
A33: 2.4.1 | B33: 21.05.07 | C33: DER | D33: DEMOLICAO PAVIMENTOFLEXIVEL C/TRANSPORT | E33: m3 | F33: 22.43 | G33: =IF(C33="DER",0.35,$I$7) -> 0.35 | H33: 55.948148 | I33: =ROUND(H33*(1+$G33),2) -> 75.53 | J33: =ROUND(ROUND($F33,2)*ROUND(I33,2),2) -> 1694.14 | K33: =IF($M$6=0,0,L33/(1+$G33)) -> 0 | L33: =IF($M$6=0,0,ROUND(I33*(1-$M$6),2)) -> 0 | M33: =ROUND(ROUND($F33,2)*ROUND(L33,2),2) -> 0
A34: 2.4.2 | B34: 22.02.06 | C34: DER | D34: CARGA DE MATERIAL LIMPEZA | E34: m3 | F34: 22.43 | G34: =IF(C34="DER",0.35,$I$7) -> 0.35 | H34: 3.7407407 | I34: =ROUND(H34*(1+$G34),2) -> 5.05 | J34: =ROUND(ROUND($F34,2)*ROUND(I34,2),2) -> 113.27 | K34: =IF($M$6=0,0,L34/(1+$G34)) -> 0 | L34: =IF($M$6=0,0,ROUND(I34*(1-$M$6),2)) -> 0 | M34: =ROUND(ROUND($F34,2)*ROUND(L34,2),2) -> 0
A35: 2.5 | D35: EXECUÇÃO DE ENSECADEIRA | J35: =SUBTOTAL(9,J36:J37) -> 22377.15 | M35: =SUBTOTAL(9,M36:M37) -> 0
A36: 2.5.1 | B36: 24.03.04 | C36: DER | D36: ARGILA ENCH.ENSECADEIRA,INCL.APILOAMENTO | E36: m3 | F36: 189.87 | G36: =IF(C36="DER",0.35,$I$7) -> 0.35 | H36: 87.074074 | I36: =ROUND(H36*(1+$G36),2) -> 117.55 | J36: =ROUND(ROUND($F36,2)*ROUND(I36,2),2) -> 22319.22 | K36: =IF($M$6=0,0,L36/(1+$G36)) -> 0 | L36: =IF($M$6=0,0,ROUND(I36*(1-$M$6),2)) -> 0 | M36: =ROUND(ROUND($F36,2)*ROUND(L36,2),2) -> 0
A37: 2.5.2 | B37: 24.03.05 | C37: DER | D37: ESGOTAMENTO CONTINUO AGUA | E37: m3 | F37: 13.41 | G37: =IF(C37="DER",0.35,$I$7) -> 0.35 | H37: 3.2 | I37: =ROUND(H37*(1+$G37),2) -> 4.32 | J37: =ROUND(ROUND($F37,2)*ROUND(I37,2),2) -> 57.93 | K37: =IF($M$6=0,0,L37/(1+$G37)) -> 0 | L37: =IF($M$6=0,0,ROUND(I37*(1-$M$6),2)) -> 0 | M37: =ROUND(ROUND($F37,2)*ROUND(L37,2),2) -> 0
A38: 3 | D38: TERRAPLENAGEM | J38: =SUBTOTAL(9,J39:J48) -> 110230.85 | M38: =SUBTOTAL(9,M39:M48) -> 0
A39: 3.1 | D39: CORTE PARA ACERTO DE TALUDES E RAMPAS DE ACESSO | J39: =SUBTOTAL(9,J40:J41) -> 37452.21 | M39: =SUBTOTAL(9,M40:M41) -> 0
A40: 3.1.1 | B40: 22.02.01 | C40: DER | D40: ESCAVACAO E CARGA DE MATERIAL DE 1/2A CATEGORIA | E40: m3 | F40: 1405.6 | G40: =IF(C40="DER",0.35,$I$7) -> 0.35 | H40: 9.3851852 | I40: =ROUND(H40*(1+$G40),2) -> 12.67 | J40: =ROUND(ROUND($F40,2)*ROUND(I40,2),2) -> 17808.95 | K40: =IF($M$6=0,0,L40/(1+$G40)) -> 0 | L40: =IF($M$6=0,0,ROUND(I40*(1-$M$6),2)) -> 0 | M40: =ROUND(ROUND($F40,2)*ROUND(L40,2),2) -> 0
A41: 3.1.2 | B41: 05.10.020 | C41: CDHU | D41: Transporte de solo de 1ª e 2ª categoria por caminhão até o 2° km | E41: M3 | F41: 1827.28 | G41: =IF(C41="DER",0.35,$I$7) -> 0.228 | H41: 8.75 | I41: =ROUND(H41*(1+$G41),2) -> 10.75 | J41: =ROUND(ROUND($F41,2)*ROUND(I41,2),2) -> 19643.26 | K41: =IF($M$6=0,0,L41/(1+$G41)) -> 0 | L41: =IF($M$6=0,0,ROUND(I41*(1-$M$6),2)) -> 0 | M41: =ROUND(ROUND($F41,2)*ROUND(L41,2),2) -> 0
A42: 3.2 | D42: ESCORAMENTO DE VALA | J42: =SUBTOTAL(9,J43) -> 28572.86 | M42: =SUBTOTAL(9,M43) -> 0
A43: 3.2.1 | B43: 08.01.020 | C43: CDHU | D43: Escoramento de solo contínuo | E43: M2 | F43: 223.82 | G43: =IF(C43="DER",0.35,$I$7) -> 0.228 | H43: 103.96 | I43: =ROUND(H43*(1+$G43),2) -> 127.66 | J43: =ROUND(ROUND($F43,2)*ROUND(I43,2),2) -> 28572.86 | K43: =IF($M$6=0,0,L43/(1+$G43)) -> 0 | L43: =IF($M$6=0,0,ROUND(I43*(1-$M$6),2)) -> 0 | M43: =ROUND(ROUND($F43,2)*ROUND(L43,2),2) -> 0
...

Sheet Cronograma
A1: MUNICÍPIO DE SANTA BÁRBARA D'OESTE - SP
A2: SECRETARIA MUNICIPAL DE OBRAS E SERVIÇOS
A4: CRONOGRAMA FÍSICO-FINANCEIRO
A6: Objeto: | B6: =PO!$C$6 -> Recuperação da Ponte San Marino-Laranjeiras | W6: Data base: | Z6: =PO!$I$6 -> 46078
A7: Local: | B7: =PO!$C$7 -> Divisa entre os bairros San Marino e Laranjeiras no município de Santa Bárbara d'Oeste
A8: Empresa Licitante: | B8: =IF(PO!C8="","",PO!$C$8)
A10: ETAPA | C10: 1 | H10: 2 | L10: 3 | P10: 4 | U10: 5 | Y10: 6
A11: SEMANA | C11: 1 | D11: 2 | E11: 3 | F11: 4 | G11: 5 | H11: 6 | I11: 7 | J11: 8 | K11: 9 | L11: 10 | M11: 11 | N11: 12 | O11: 13 | P11: 14 | Q11: 15 | R11: 16 | S11: 17 | T11: 18 | U11: 19 | V11: 20 | W11: 21 | X11: 22 | Y11: 23 | Z11: 24 | AA11: 25 | AB11: 26
A12: SERVIÇOS PRELIMINARES | B12: =PO!$M$12 -> 0 | C12: 1 | D12: 1
A13: LIMPEZAS E DEMOLIÇÕES | B13: =PO!$M$20 -> 0 | D13: 1 | E13: 1 | F13: 1 | G13: 1
A14: TERRAPLENAGEM | B14: =PO!$M$38 -> 0 | F14: 1 | G14: 1 | H14: 1 | I14: 1 | J14: 1 | K14: 1 | L14: 1 | M14: 1 | N14: 1 | O14: 1
A15: PROTEÇÃO DE MARGENS | B15: =PO!$M$49 -> 0 | H15: 1 | I15: 1 | J15: 1 | K15: 1 | L15: 1 | M15: 1 | N15: 1 | O15: 1
A16: DRENAGEM | B16: =PO!$M$60 -> 0 | L16: 1 | M16: 1 | N16: 1 | O16: 1 | P16: 1 | Q16: 1
A17: GUIAS E SARJETAS | B17: =PO!$M$93 -> 0 | N17: 1 | O17: 1 | P17: 1 | Q17: 1
A18: PAVIMENTAÇÃO | B18: =PO!$M$102 -> 0 | O18: 1 | P18: 1 | Q18: 1 | R18: 1 | S18: 1 | T18: 1 | U18: 1 | V18: 1 | W18: 1 | X18: 1
A19: LAJE DE APROXIMAÇÃO DA PONTE | B19: =PO!$M$123 -> 0 | R19: 1 | S19: 1 | T19: 1 | U19: 1 | V19: 1 | W19: 1
A20: CALÇADAS | B20: =PO!$M$130 -> 0 | U20: 1 | V20: 1 | W20: 1 | X20: 1
A21: SINALIZAÇÃO DE TRÂNSITO | B21: =PO!$M$138 -> 0 | Y21: 1
A22: SERVIÇOS COMPLEMENTARES | B22: =PO!$M$141 -> 0 | Y22: 1 | Z22: 1 | AA22: 1 | AB22: 1
A23: CUSTO TOTAL ETAPA | C23: =SUM(C26:G36) -> 0 | H23: =SUM(H26:K36) -> 0 | L23: =SUM(L26:O36) -> 0 | P23: =SUM(P26:T36) -> 0 | U23: =SUM(U26:X36) -> 0 | Y23: =SUM(Y26:AB36) -> 0
A24: CUSTO TOTAL ACUMULADO | C24: =C23 -> 0 | H24: =H23+C24 -> 0 | L24: =L23+H24 -> 0 | P24: =P23+L24 -> 0 | U24: =U23+P24 -> 0 | Y24: =Y23+U24 -> 0
A26: =#ref! -> #NAME? | C26: =IF(AND(SUM($C12:$G12)>0,SUM($H12:$AB12)=0),$B12,0) -> 0 | H26: =IF(AND(SUM($H12:$K12)>0,SUM($L12:$AB12)=0),$B12,0) -> 0 | L26: =IF(AND(SUM($L12:$O12)>0,SUM($P12:$AB12)=0),$B12,0) -> 0 | P26: =IF(AND(SUM($P12:$T12)>0,SUM($U12:$AB12)=0),$B12,0) -> 0 | U26: =IF(AND(SUM($U12:$X12)>0,SUM($Y12:$AB12)=0),$B12,0) -> 0 | Y26: =IF(SUM($Y12:$AB12)=0,0,$B12) -> 0
A27: =#ref! -> #NAME? | C27: =IF(AND(SUM($C13:$G13)>0,SUM($H13:$AB13)=0),$B13,0) -> 0 | H27: =IF(AND(SUM($H13:$K13)>0,SUM($L13:$AB13)=0),$B13,0) -> 0 | L27: =IF(AND(SUM($L13:$O13)>0,SUM($P13:$AB13)=0),$B13,0) -> 0 | P27: =IF(AND(SUM($P13:$T13)>0,SUM($U13:$AB13)=0),$B13,0) -> 0 | U27: =IF(AND(SUM($U13:$X13)>0,SUM($Y13:$AB13)=0),$B13,0) -> 0 | Y27: =IF(SUM($Y13:$AB13)=0,0,$B13) -> 0
A28: =#ref! -> #NAME? | C28: =IF(AND(SUM($C14:$G14)>0,SUM($H14:$AB14)=0),$B14,0) -> 0 | H28: =IF(AND(SUM($H14:$K14)>0,SUM($L14:$AB14)=0),$B14,0) -> 0 | L28: =IF(AND(SUM($L14:$O14)>0,SUM($P14:$AB14)=0),$B14,0) -> 0 | P28: =IF(AND(SUM($P14:$T14)>0,SUM($U14:$AB14)=0),$B14,0) -> 0 | U28: =IF(AND(SUM($U14:$X14)>0,SUM($Y14:$AB14)=0),$B14,0) -> 0 | Y28: =IF(SUM($Y14:$AB14)=0,0,$B14) -> 0
A29: =#ref! -> #NAME? | C29: =IF(AND(SUM($C15:$G15)>0,SUM($H15:$AB15)=0),$B15,0) -> 0 | H29: =IF(AND(SUM($H15:$K15)>0,SUM($L15:$AB15)=0),$B15,0) -> 0 | L29: =IF(AND(SUM($L15:$O15)>0,SUM($P15:$AB15)=0),$B15,0) -> 0 | P29: =IF(AND(SUM($P15:$T15)>0,SUM($U15:$AB15)=0),$B15,0) -> 0 | U29: =IF(AND(SUM($U15:$X15)>0,SUM($Y15:$AB15)=0),$B15,0) -> 0 | Y29: =IF(SUM($Y15:$AB15)=0,0,$B15) -> 0
A30: =#ref! -> #NAME? | C30: =IF(AND(SUM($C16:$G16)>0,SUM($H16:$AB16)=0),$B16,0) -> 0 | H30: =IF(AND(SUM($H16:$K16)>0,SUM($L16:$AB16)=0),$B16,0) -> 0 | L30: =IF(AND(SUM($L16:$O16)>0,SUM($P16:$AB16)=0),$B16,0) -> 0 | P30: =IF(AND(SUM($P16:$T16)>0,SUM($U16:$AB16)=0),$B16,0) -> 0 | U30: =IF(AND(SUM($U16:$X16)>0,SUM($Y16:$AB16)=0),$B16,0) -> 0 | Y30: =IF(SUM($Y16:$AB16)=0,0,$B16) -> 0
A31: =#ref! -> #NAME? | C31: =IF(AND(SUM($C17:$G17)>0,SUM($H17:$AB17)=0),$B17,0) -> 0 | H31: =IF(AND(SUM($H17:$K17)>0,SUM($L17:$AB17)=0),$B17,0) -> 0 | L31: =IF(AND(SUM($L17:$O17)>0,SUM($P17:$AB17)=0),$B17,0) -> 0 | P31: =IF(AND(SUM($P17:$T17)>0,SUM($U17:$AB17)=0),$B17,0) -> 0 | U31: =IF(AND(SUM($U17:$X17)>0,SUM($Y17:$AB17)=0),$B17,0) -> 0 | Y31: =IF(SUM($Y17:$AB17)=0,0,$B17) -> 0
A32: =#ref! -> #NAME? | C32: =IF(AND(SUM($C18:$G18)>0,SUM($H18:$AB18)=0),$B18,0) -> 0 | H32: =IF(AND(SUM($H18:$K18)>0,SUM($L18:$AB18)=0),$B18,0) -> 0 | L32: =IF(AND(SUM($L18:$O18)>0,SUM($P18:$AB18)=0),$B18,0) -> 0 | P32: =IF(AND(SUM($P18:$T18)>0,SUM($U18:$AB18)=0),$B18,0) -> 0 | U32: =IF(AND(SUM($U18:$X18)>0,SUM($Y18:$AB18)=0),$B18,0) -> 0 | Y32: =IF(SUM($Y18:$AB18)=0,0,$B18) -> 0
A33: =#ref! -> #NAME? | C33: =IF(AND(SUM($C19:$G19)>0,SUM($H19:$AB19)=0),$B19,0) -> 0 | H33: =IF(AND(SUM($H19:$K19)>0,SUM($L19:$AB19)=0),$B19,0) -> 0 | L33: =IF(AND(SUM($L19:$O19)>0,SUM($P19:$AB19)=0),$B19,0) -> 0 | P33: =IF(AND(SUM($P19:$T19)>0,SUM($U19:$AB19)=0),$B19,0) -> 0 | U33: =IF(AND(SUM($U19:$X19)>0,SUM($Y19:$AB19)=0),$B19,0) -> 0 | Y33: =IF(SUM($Y19:$AB19)=0,0,$B19) -> 0
A34: =#ref! -> #NAME? | C34: =IF(AND(SUM($C20:$G20)>0,SUM($H20:$AB20)=0),$B20,0) -> 0 | H34: =IF(AND(SUM($H20:$K20)>0,SUM($L20:$AB20)=0),$B20,0) -> 0 | L34: =IF(AND(SUM($L20:$O20)>0,SUM($P20:$AB20)=0),$B20,0) -> 0 | P34: =IF(AND(SUM($P20:$T20)>0,SUM($U20:$AB20)=0),$B20,0) -> 0 | U34: =IF(AND(SUM($U20:$X20)>0,SUM($Y20:$AB20)=0),$B20,0) -> 0 | Y34: =IF(SUM($Y20:$AB20)=0,0,$B20) -> 0
A35: =#ref! -> #NAME? | C35: =IF(AND(SUM($C21:$G21)>0,SUM($H21:$AB21)=0),$B21,0) -> 0 | H35: =IF(AND(SUM($H21:$K21)>0,SUM($L21:$AB21)=0),$B21,0) -> 0 | L35: =IF(AND(SUM($L21:$O21)>0,SUM($P21:$AB21)=0),$B21,0) -> 0 | P35: =IF(AND(SUM($P21:$T21)>0,SUM($U21:$AB21)=0),$B21,0) -> 0 | U35: =IF(AND(SUM($U21:$X21)>0,SUM($Y21:$AB21)=0),$B21,0) -> 0 | Y35: =IF(SUM($Y21:$AB21)=0,0,$B21) -> 0
A36: =#ref! -> #NAME? | C36: =IF(AND(SUM($C22:$G22)>0,SUM($H22:$AB22)=0),$B22,0) -> 0 | H36: =IF(AND(SUM($H22:$K22)>0,SUM($L22:$AB22)=0),$B22,0) -> 0 | L36: =IF(AND(SUM($L22:$O22)>0,SUM($P22:$AB22)=0),$B22,0) -> 0 | P36: =IF(AND(SUM($P22:$T22)>0,SUM($U22:$AB22)=0),$B22,0) -> 0 | U36: =IF(AND(SUM($U22:$X22)>0,SUM($Y22:$AB22)=0),$B22,0) -> 0 | Y36: =IF(SUM($Y22:$AB22)=0,0,$B22) -> 0
