Workbook
Name __xlnm_Print_Area: 'Cronograma GERAL'!$A$1:$AS$81

Sheet SINAPI JAN26
A1: Observação: | B1: %AS (porcentagem Atribuído São Paulo) corresponde a porcentagem do custo total da
B2: composição que foi obtida utilizando preços de insumos de São Paulo por indisponibilidade
B3: dos preços de insumos necessários à composição no estado em questão. Custo zerado (hífen) | C3: Encargos sociais sobre a mão de obra:
B4: indica que pelo menos um dos itens da composição não tem custo/preço. | C4: (SEM DESONERAÇÃO)
C5: Localidade
A6: Mês de Referência: | B6: 01/2026 | C6: Horista | D6: 1.1548
A7: Data de emissão: | B7: 10/02/2026 | C7: Mensalista | D7: 0.7154
C10: Unidade | E10: %AS
A11: 104658 | B11: PISO PODOTÁTIL DE ALERTA OU DIRECIONAL, DE CONCRETO, ASSENTADO SOBRE ARGAMASSA. AF_03/2024 | C11: M2 | D11: 194.52 | E11: 0
A12: 105002 | B12: RAMPA DE ACESSIBILIDADE EM CONCRETO MOLDADO IN LOCO, EM CALÇADA NOVA COM LARGURA MAIOR OU IGUAL À 3,00 M, FCK 25MPA, COM PISO PODOTÁTIL. AF_03/2024 | C12: UN | D12: 795.96 | E12: 0
A13: 105004 | B13: RAMPA DE ACESSIBILIDADE EM CONCRETO MOLDADO IN LOCO, EM CALÇADA NOVA COM LARGURA MENOR À 3,00 M, FCK 25MPA, COM PISO PODOTÁTIL. AF_03/2024 | C13: M2 | D13: 134.96 | E13: 0
A14: 105003 | B14: RAMPA DE ACESSIBILIDADE EM CONCRETO MOLDADO IN LOCO, EM CALÇADA PRÉ EXISTENTE COM LARGURA MAIOR OU IGUAL À 3,00 M, FCK 25MPA, COM PISO PODOTÁTIL. AF_03/2024 | C14: UN | D14: 1364.85 | E14: 0
A15: 105005 | B15: RAMPA DE ACESSIBILIDADE EM CONCRETO MOLDADO IN LOCO, EM CALÇADA PRÉ EXISTENTE COM LARGURA MENOR À 3,00 M, FCK 25MPA, COM PISO PODOTÁTIL. AF_03/2024 | C15: M2 | D15: 240.29 | E15: 0
A16: 105006 | B16: RAMPA DE ACESSIBILIDADE EM CONCRETO PRÉ MOLDADO, EM CALÇADA NOVA COM LARGURA MAIOR OU IGUAL À 3,00 M, FCK 25MPA, COM PISO PODOTÁTIL. AF_03/2024 | C16: UN | D16: 0
A17: 104999 | B17: RAMPA DE ACESSIBILIDADE EM CONCRETO PRÉ MOLDADO, EM CALÇADA PRÉ EXISTENTE COM LARGURA MAIOR OU IGUAL À 3,00 M, FCK 25MPA, COM PISO PODOTÁTIL. AF_03/2024 | C17: UN | D17: 0
A18: 105000 | B18: RAMPA DE ACESSIBILIDADE PARA ACESSO A EDIFICAÇÕES COM INCLINAÇÃO DE 8,33% EM CONCRETO MOLDADO IN LOCO, COM LARGURA DE 1,20M, FCK 25MPA, NÃO ARMADA, COM JUNTA A CADA 2M COM CORTE À SECO. AF_03/2024 | C18: M | D18: 1317.89 | E18: 0
A19: 105001 | B19: RAMPA DE ACESSIBILIDADE PARA ACESSO A EDIFICAÇÕES COM INCLINAÇÃO DE 8,33% EM CONCRETO MOLDADO IN LOCO, COM LARGURA DE 1,50M, FCK 25MPA, NÃO ARMADA, COM JUNTA A CADA 2M COM CORTE À SECO. AF_03/2024 | C19: M | D19: 1348.47 | E19: 0
A20: 89306 | B20: ALVENARIA ESTRUTURAL DE BLOCOS CERÂMICOS 14X19X29, (ESPESSURA DE 14 CM), UTILIZANDO COLHER DE PEDREIRO E ARGAMASSA DE ASSENTAMENTO COM PREPARO EM BETONEIRA. AF_03/2023 | C20: M2 | D20: 109.23 | E20: 0
A21: 89307 | B21: ALVENARIA ESTRUTURAL DE BLOCOS CERÂMICOS 14X19X29, (ESPESSURA DE 14 CM), UTILIZANDO COLHER DE PEDREIRO E ARGAMASSA DE ASSENTAMENTO COM PREPARO MANUAL. AF_03/2023 | C21: M2 | D21: 112.43 | E21: 0
A22: 89290 | B22: ALVENARIA ESTRUTURAL DE BLOCOS CERÂMICOS 14X19X29, (ESPESSURA DE 14 CM), UTILIZANDO PALHETA E ARGAMASSA DE ASSENTAMENTO COM PREPARO EM BETONEIRA. AF_03/2023 | C22: M2 | D22: 88.84 | E22: 0
A23: 89291 | B23: ALVENARIA ESTRUTURAL DE BLOCOS CERÂMICOS 14X19X29, (ESPESSURA DE 14 CM), UTILIZANDO PALHETA E ARGAMASSA DE ASSENTAMENTO COM PREPARO MANUAL. AF_03/2023 | C23: M2 | D23: 91.22 | E23: 0
A24: 89298 | B24: ALVENARIA ESTRUTURAL DE BLOCOS CERÂMICOS 14X19X39, (ESPESSURA DE 14 CM), UTILIZANDO COLHER DE PEDREIRO E ARGAMASSA DE ASSENTAMENTO COM PREPARO EM BETONEIRA. AF_03/2023 | C24: M2 | D24: 92.57 | E24: 0
A25: 89299 | B25: ALVENARIA ESTRUTURAL DE BLOCOS CERÂMICOS 14X19X39, (ESPESSURA DE 14 CM), UTILIZANDO COLHER DE PEDREIRO E ARGAMASSA DE ASSENTAMENTO COM PREPARO MANUAL. AF_03/2023 | C25: M2 | D25: 95.44 | E25: 0
A26: 89282 | B26: ALVENARIA ESTRUTURAL DE BLOCOS CERÂMICOS 14X19X39, (ESPESSURA DE 14 CM), UTILIZANDO PALHETA E ARGAMASSA DE ASSENTAMENTO COM PREPARO EM BETONEIRA. AF_03/2023 | C26: M2 | D26: 78.36 | E26: 0
A27: 89283 | B27: ALVENARIA ESTRUTURAL DE BLOCOS CERÂMICOS 14X19X39, (ESPESSURA DE 14 CM), UTILIZANDO PALHETA E ARGAMASSA DE ASSENTAMENTO COM PREPARO MANUAL. AF_03/2023 | C27: M2 | D27: 80.5 | E27: 0
A28: 89480 | B28: ALVENARIA DE BLOCOS DE CONCRETO ESTRUTURAL 14X19X29 CM (ESPESSURA 14 CM), FBK = 14 MPA, UTILIZANDO COLHER DE PEDREIRO. AF_10/2022 | C28: M2 | D28: 173.18 | E28: 0
A29: 89464 | B29: ALVENARIA DE BLOCOS DE CONCRETO ESTRUTURAL 14X19X29 CM (ESPESSURA 14 CM), FBK = 14,0 MPA, UTILIZANDO PALHETA. AF_10/2022 | C29: M2 | D29: 147.69 | E29: 0
... A31: 89462 | B31: ALVENARIA DE BLOCOS DE CONCRETO ESTRUTURAL 14X19X29 CM (ESPESSURA 14 CM), FBK = 4,5 MPA, UTILIZANDO PALHETA. AF_10/2022 | C31: M2 | D31: 126.62 | E31: 0
A32: 104444 | B32: ALVENARIA DE BLOCOS DE CONCRETO ESTRUTURAL 14X19X29 CM (ESPESSURA 14 CM), FBK = 8 MPA, UTILIZANDO COLHER DE PEDREIRO. AF_10/2022 | C32: M2 | D32: 0
A33: 104442 | B33: ALVENARIA DE BLOCOS DE CONCRETO ESTRUTURAL 14X19X29 CM (ESPESSURA 14 CM), FBK = 8 MPA, UTILIZANDO PALHETA. AF_10/2022 | C33: M2 | D33: 0
A34: 89472 | B34: ALVENARIA DE BLOCOS DE CONCRETO ESTRUTURAL 14X19X39 CM (ESPESSURA 14 CM), FBK = 14 MPA, UTILIZANDO COLHER DE PEDREIRO. AF_10/2022 | C34: M2 | D34: 128.8 | E34: 0
A35: 89455 | B35: ALVENARIA DE BLOCOS DE CONCRETO ESTRUTURAL 14X19X39 CM (ESPESSURA 14 CM), FBK = 14 MPA, UTILIZANDO PALHETA. AF_10/2022 | C35: M2 | D35: 113.06 | E35: 0
A36: 89470 | B36: ALVENARIA DE BLOCOS DE CONCRETO ESTRUTURAL 14X19X39 CM (ESPESSURA 14 CM), FBK = 4,5 MPA, UTILIZANDO COLHER DE PEDREIRO. AF_10/2022 | C36: M2 | D36: 108.55 | E36: 0
A37: 89453 | B37: ALVENARIA DE BLOCOS DE CONCRETO ESTRUTURAL 14X19X39 CM (ESPESSURA 14 CM), FBK = 4,5 MPA, UTILIZANDO PALHETA. AF_10/2022 | C37: M2 | D37: 94.13 | E37: 0
A38: 104443 | B38: ALVENARIA DE BLOCOS DE CONCRETO ESTRUTURAL 14X19X39 CM (ESPESSURA 14 CM), FBK = 8 MPA, UTILIZANDO COLHER DE PEDREIRO. AF_10/2022 | C38: M2 | D38: 0
A39: 104441 | B39: ALVENARIA DE BLOCOS DE CONCRETO ESTRUTURAL 14X19X39 CM (ESPESSURA 14 CM), FBK = 8 MPA, UTILIZANDO PALHETA. AF_10/2022 | C39: M2 | D39: 0
A40: 103354 | B40: ALVENARIA DE VEDAÇÃO DE BLOCOS CERÂMICOS FURADOS NA HORIZONTAL DE 11,5X14X24 CM (ESPESSURA 11,5 CM) E ARGAMASSA DE ASSENTAMENTO COM PREPARO EM BETONEIRA. AF_12/2021 | C40: M2 | D40: 103.95 | E40: 0
A41: 103355 | B41: ALVENARIA DE VEDAÇÃO DE BLOCOS CERÂMICOS FURADOS NA HORIZONTAL DE 11,5X14X24 CM (ESPESSURA 11,5 CM) E ARGAMASSA DE ASSENTAMENTO COM PREPARO MANUAL. AF_12/2021 | C41: M2 | D41: 105.84 | E41: 0
A42: 103330 | B42: ALVENARIA DE VEDAÇÃO DE BLOCOS CERÂMICOS FURADOS NA HORIZONTAL DE 11,5X19X19 CM (ESPESSURA 11,5 CM) E ARGAMASSA DE ASSENTAMENTO COM PREPARO EM BETONEIRA. AF_12/2021 | C42: M2 | D42: 95.31 | E42: 0
A43: 103331 | B43: ALVENARIA DE VEDAÇÃO DE BLOCOS CERÂMICOS FURADOS NA HORIZONTAL DE 11,5X19X19 CM (ESPESSURA 11,5 CM) E ARGAMASSA DE ASSENTAMENTO COM PREPARO MANUAL. AF_12/2021 | C43: M2 | D43: 97.09 | E43: 0
...

Sheet CDHU 200
B1: COMPANHIA DE DESENVOLVIMENTO HABITACIONAL E URBANO
A2: DO ESTADO DE SÃO PAULO
A3: BOLETIM REFERENCIAL DE CUSTOS - TABELA DE SERVIÇOS
A4: SEM DESONERAÇÃO
F5: Versão 200
E6: Data Base: | F6: NOV/25
C7: BDI : | D7: 0 | E7: L.S.: | F7: 1.2823
A8: Referência | B8: Descrição | C8: Un | D8: Material | E8: Mão de Obra | F8: Custo Total
A9: 01 | B9: SERVICO TECNICO ESPECIALIZADO
A10: 01.02 | B10: Parecer técnico
A11: 01.02.071 | B11: Parecer técnico de fundações, contenções e recomendações gerais, para empreendimentos com área construída até 1.000 m² | C11: UN | E11: 7204.93 | F11: 7204.93 | G11: 15
A12: 01.02.081 | B12: Parecer técnico de fundações, contenções e recomendações gerais, para empreendimentos com área construída de 1.001 a 2.000 m² | C12: UN | E12: 9581.15 | F12: 9581.15 | G12: 15
A13: 01.02.091 | B13: Parecer técnico de fundações, contenções e recomendações gerais, para empreendimentos com área construída de 2.001 a 5.000 m² | C13: UN | E13: 16366.75 | F13: 16366.75 | G13: 15
A14: 01.02.101 | B14: Parecer técnico de fundações, contenções e recomendações gerais, para empreendimentos com área construída de 5.001 a 10.000 m² | C14: UN | E14: 22440.73 | F14: 22440.73 | G14: 15
A15: 01.02.111 | B15: Parecer técnico de fundações, contenções e recomendações gerais, para empreendimentos com área construída acima de 10.000 m² | C15: UN | E15: 26151.21 | F15: 26151.21 | G15: 15
A16: 01.06 | B16: Projeto de instalações elétricas
A17: 01.06.021 | B17: Elaboração de projeto de adequação de entrada de energia elétrica junto a concessionária, com medição em baixa tensão e demanda até 75 kVA | C17: UN | E17: 9202.36 | F17: 9202.36 | G17: 15
A18: 01.06.031 | B18: Elaboração de projeto de adequação de entrada de energia elétrica junto a concessionária, com medição em média tensão, subestação simplificada e demanda de 75 kVA a 300 kVA | C18: UN | E18: 15587.22 | F18: 15587.22 | G18: 15
A19: 01.06.032 | B19: Elaboração de projeto de adequação de entrada de energia elétrica junto a concessionária, com medição em média tensão e demanda de 75 kVA a 300 kVA | C19: UN | E19: 21092.24 | F19: 21092.24 | G19: 15
A20: 01.06.041 | B20: Elaboração de projeto de adequação de entrada de energia elétrica junto a concessionária, com medição em média tensão e demanda acima de 300 kVA a 2 MVA | C20: UN | E20: 28055 | F20: 28055 | G20: 15
A21: 01.17 | B21: Projeto executivo
A22: 01.17.031 | B22: Projeto executivo de arquitetura em formato A1 | C22: UN | E22: 3624.6 | F22: 3624.6 | G22: 15
A23: 01.17.041 | B23: Projeto executivo de arquitetura em formato A0 | C23: UN | E23: 4900.14 | F23: 4900.14 | G23: 15
A24: 01.17.051 | B24: Projeto executivo de estrutura em formato A1 | C24: UN | E24: 2658.26 | F24: 2658.26 | G24: 15
A25: 01.17.061 | B25: Projeto executivo de estrutura em formato A0 | C25: UN | E25: 3637.02 | F25: 3637.02 | G25: 15
A26: 01.17.071 | B26: Projeto executivo de instalações hidráulicas em formato A1 | C26: UN | E26: 1141.18 | F26: 1141.18 | G26: 15
A27: 01.17.081 | B27: Projeto executivo de instalações hidráulicas em formato A0 | C27: UN | E27: 1519.09 | F27: 1519.09 | G27: 15
A28: 01.17.111 | B28: Projeto executivo de instalações elétricas em formato A1 | C28: UN | E28: 1267.26 | F28: 1267.26 | G28: 15
A29: 01.17.121 | B29: Projeto executivo de instalações elétricas em formato A0 | C29: UN | E29: 1757.15 | F29: 1757.15 | G29: 15
A30: 01.17.151 | B30: Projeto executivo de climatização em formato A1 | C30: UN | E30: 2439.23 | F30: 2439.23 | G30: 15
A31: 01.17.161 | B31: Projeto executivo de climatização em formato A0 | C31: UN | E31: 3324.97 | F31: 3324.97 | G31: 15
A32: 01.17.171 | B32: Projeto executivo de chuveiros automáticos em formato A1 | C32: UN | E32: 2105.98 | F32: 2105.98 | G32: 15
A33: 01.17.181 | B33: Projeto executivo de chuveiros automáticos em formato A0 | C33: UN | E33: 2722.06 | F33: 2722.06 | G33: 15
A34: 01.20 | B34: Levantamento topográfico e geofísico
A35: 01.20.010 | B35: Taxa de mobilização e desmobilização de equipamentos para execução de levantamento topográfico | C35: TX | D35: 1150.83 | F35: 1150.83 | G35: 15
A36: 01.20.280 | B36: Levantamento planimétrico de área pavimentada para veículo e pedestre | C36: M2 | D36: 0.07 | E36: 0.18 | F36: 0.25 | G36: 15
A37: 01.20.691 | B37: Levantamento planimétrico cadastral com áreas ocupadas predominantemente por comunidades - área até 20.000 m² (mínimo de 3.500 m²) | C37: M2 | D37: 0.41 | E37: 0.59 | F37: 1 | G37: 15
A38: 01.20.701 | B38: Levantamento planimétrico cadastral com áreas ocupadas predominantemente por comunidades - área acima de 20.000 m² até 200.000 m² | C38: M2 | D38: 0.32 | E38: 0.46 | F38: 0.78 | G38: 15
A39: 01.20.711 | B39: Levantamento planimétrico cadastral com áreas ocupadas predominantemente por comunidades - área acima de 200.000 m² | C39: M2 | D39: 0.27 | E39: 0.37 | F39: 0.64 | G39: 15
A40: 01.20.721 | B40: Levantamento planimétrico cadastral com áreas até 50% de ocupação - área até 20.000 m² (mínimo de 3.500 m²) | C40: M2 | D40: 0.37 | E40: 0.51 | F40: 0.88 | G40: 15
...

Sheet FDE
A1: 01.01.001 | B1: RETIRANDO A VEGETACAO, TRONCOS ATE 5CM DE DIAMETRO E RASPAGEM. | C1: M2 | D1: 4.12
A2: 01.01.010 | B2: CORTE, RECORTE E REMOCAO DE ARVORES INCL RAIZES DIAM>5<15CM | C2: UN | D2: 168.49
A3: 01.01.011 | B3: CORTE, RECORTE E REMOCAO DE ARVORES INCL RAIZES DIAM>15<30CM | C3: UN | D3: 261.99
A4: 01.01.014 | B4: CORTE, RECORTE E REMOÇAO DE ARVORES INCL. RAIZES DIAM>30<45CM | C4: UN | D4: 279.42
A5: 01.01.015 | B5: CORTE, RECORTE E REMOÇAO DE ARVORES INCL. RAIZES DIAM>45<60CM | C5: UN | D5: 835.47
A6: 01.01.016 | B6: CORTE, RECORTE E REMOÇAO DE ARVORES INCL. RAIZES DIAM>60<100CM | C6: UN | D6: 958.59
A7: 01.01.017 | B7: CORTE, RECORTE E REMOÇAO DE ARVORES INCL. RAIZES DIAM>100CM | C7: UN | D7: 1655.73
A8: 01.01.021 | B8: CORTE, RECORTE E REMOÇÃO DE ÁRVORES INCL.RAIZES 15CM<DIAM<30CM | C8: UN | D8: 861.54
A9: 01.01.023 | B9: CORTE, RECORTE E REMOÇÃO DE ÁRVORES INCL.RAIZES 45CM<DIAM<60CM | C9: UN | D9: 3701.74
A10: 01.01.024 | B10: CORTE, RECORTE E REMOÇÃO DE ÁRVORES INCL.RAIZES 60CM<DIAM<100CM | C10: UN | D10: 7308.33
A11: 01.01.099 | B11: LIMPEZAS DO TERRENO | C11: MV | D11: 403.42
A12: 01.02.001 | B12: CORTE E ATERRO DENTRO DA OBRA COM TRANSPORTE INTERNO | C12: M3 | D12: 42.28
... A238: 03.03.110 | B238: ESCORAMENTO METÁLICO PARA VIGAS ALTURA ATÉ 3,20M ESPAÇAMENTO MENOR OU IGUAL 60CM | C238: M | D238: 52.67
A239: 03.03.111 | B239: ESCORAMENTO METÁLICO PARA LAJES ALTURA ATÉ 3,20M MALHA MENOR OU IGUAL 1,50X1,50 | C239: M2 | D239: 14.57 | E239: 12.74
A240: 03.04.001 | B240: FORNECIMENTO DE EST MET - ACO ESTRUTURAL ASTM OU ABNT - NAO PATINAVEL | C240: KG | D240: 14.03
A241: 03.04.003 | B241: FORNEC DE ESTR METALICA ACO ASTM A709/A588 (RESIST A CORROSAO) | C241: KG | D241: 15.09
A242: 03.04.005 | B242: MONTAGEM DE ESTRUTURA METALICA | C242: KG | D242: 4.28
A243: 03.04.030 | B243: DESMONTAGEM DE ESTRUTURA METALICA | C243: KG | D243: 3.43
A244: 03.04.099 | B244: ESTRUTURAS METALICAS | C244: MV | D244: 403.42
A245: 03.05.010 | B245: PILAR DE MADEIRA (PASSAGEM COBERTA) | C245: UN | D245: 424.86
A246: 03.05.011 | B246: VIGA DE MADEIRA 6X12 CM (PASSAGEM COBERTA) | C246: M | D246: 28.81
A247: 03.05.012 | B247: VIGA DE MADEIRA 6X16 CM (PASSAGEM COBERTA) | C247: M | D247: 38.74
A248: 03.05.099 | B248: ESTRUTURAS DE MADEIRA | C248: MV | D248: 403.42
A249: 03.50.001 | B249: DEMOLIÇÃO DE CONCRETO INCLUINDO REVESTIMENTOS (MANUAL) | C249: M3 | D249: 338.28
A250: 03.50.005 | B250: DEMOLIÇÃO DE LAJES MISTAS OU PRÉ-MOLDADAS INCLUINDO REVESTIMENTOS (MANUAL) | C250: M2 | D250: 25.37
A251: 03.50.099 | B251: DEMOLICOES | C251: MV | D251: 403.42
... A612: 06.03.038 | B612: PERFIL L DE FERRO 1"X1"X1/8" | C612: M | D612: 53.18
A613: 06.03.039 | B613: TELA DE PROTEÇÃO CONTRA NIDIFICACAO DE PASSAROS | C613: M2 | D613: 45.65 | E613: 49.3
A614: 06.03.040 | B614: TELA ARAME GALVANIZADO MOSQUITEIRA CONTRA INSETOS | C614: M2 | D614: 361.76
A615: 06.03.060 | B615: BARRA DE APOIO P/DEFICIENTES EM INOX ESCOVADO | C615: CJ | D615: 531.54
A616: 06.03.061 | B616: CO-27 CORRIMÃO DUPLO AÇO INOX FORNECIDO E INSTALADO | C616: M | D616: 541.08
A617: 06.03.062 | B617: CO-28 CORRIMÃO DUPLO COM MONTANTE VERTICAL AÇO INOX FORNECIDO E INSTALADO | C617: M | D617: 701.89
A618: 06.03.063 | B618: CO-29 CORRIMÃO DUPLO INTERMEDIÁRIO AÇO INOX FORNECIDO E INSTALADO | C618: M | D618: 807.45
A619: 06.03.064 | B619: CO-30 GUARDA-CORPO TUBULAR AÇO INOX FORNECIDO E INSTALADO | C619: M | D619: 384.85
A620: 06.03.067 | B620: FQ-05 ALAMBRADO PARA QUADRA COBERTA TÉRREA (BROCA) | C620: M | D620: 764.94
A621: 06.03.068 | B621: FQ-06 ALAMBRADO PARA QUADRA COBERTA TERREA (SAPATA) | C621: M | D621: 714.85
A622: 06.03.069 | B622: QE-36 REDE DE PROTECAO PARA QUADRAS DE ESPORTES | C622: M2 | D622: 11.63
A623: 06.03.070 | B623: QE-38 TABELA DE BASQUETE (FUNDACAO DIRETA) | C623: UN | D623: 6891.45
A624: 06.03.073 | B624: QE-41 TABELA DE BASQUETE (SOMENTE TRELICA - FIXACAO PAREDE/PILAR) | C624: UN | D624: 2380.48
A625: 06.03.074 | B625: QE-42 POSTE PARA REDE DE VOLEIBOL (FUNDACAO DIRETA) | C625: PR | D625: 1173.98
...

Sheet JAN
E1: Material | F1: Mão Obra
A2: 02.01.001 | B2: ESCAVACAO MANUAL - PROFUNDIDADE ATE 1.80 M | C2: M3 | D2: 82.47 | E2: 0 | F2: 30.36
A3: 02.01.010 | B3: APILOAMENTO PARA SIMPLES REGULARIZACAO | C3: M2 | D3: 8.24 | E3: 0 | F3: 3.036
A4: 02.01.012 | B4: LASTRO DE PEDRA BRITADA - 5CM | C4: M2 | D4: 9.59 | E4: 5.28825 | F4: 1.1385
A5: 02.01.015 | B5: LASTRO DE CONCRETO - 5 CM | C5: M2 | D5: 40.56 | E5: 13.3761 | F5: 8.874
A6: 02.01.025 | B6: REATERRO INTERNO APILOADO | C6: M3 | D6: 61.85 | E6: 0 | F6: 22.77
A7: 02.02.085 | B7: TRANSPORTE E ATERRO INTERNO DE MATERIAL ESCAVADO DE FUNDAÇÃO-ESTACA-TUBULÃO | C7: M3 | D7: 76.29 | E7: 0 | F7: 28.083
A8: 02.02.097 | B8: TAXA DE MOBILIZACAO DE EQUIPAMENTO - ESTACAS PRE-MOLDADAS | C8: UN | D8: 7011 | E8: 5700 | F8: 0
A9: 02.02.107 | B9: ESTACA PRE-MOLDADA CONCRETO SECÃO ATE 289 CM2 CRAVADA | C9: M | D9: 126.86 | E9: 101.4653 | F9: 0.759
A10: 02.03.001 | B10: FORMA DE MADEIRA MACICA | C10: M2 | D10: 100.92 | E10: 40.875 | F10: 18.645
A11: 02.04.002 | B11: ACO CA 50 (A OU B) FYK= 500 M PA | C11: KG | D11: 16.11 | E11: 9.3461 | F11: 1.702
A12: 02.04.003 | B12: ACO CA 60 (A OU B) FYK= 600 M PA | C12: KG | D12: 18.58 | E12: 11.3471 | F12: 1.702
A13: 02.05.018 | B13: CONCRETO DOSADO E LANCADO FCK=25MPA | C13: M3 | D13: 537.53 | E13: 376.4426 | F13: 27.4266
... A130: 16.18.076 | B130: SI-07 PLACA DE SINALIZAÇÃO DE AMBIENTE 500X60MM (PAREDE INTERNA) / BRAILLE | C130: UN | D130: 175.33 | E130: 140.78 | F130: 0.802
A131: Complementares
A132: 01.01.001 | B132: RETIRANDO A VEGETACAO, TRONCOS ATE 5CM DE DIAMETRO E RASPAGEM. | C132: M2 | D132: 4.12 | E132: 0 | F132: 1.518
A133: 01.01.021 | B133: CORTE, RECORTE E REMOÇÃO DE ÁRVORES INCL.RAIZES 15CM<DIAM<30CM | C133: UN | D133: 861.54 | E133: 537.04 | F133: 73.98
A134: 01.01.023 | B134: CORTE, RECORTE E REMOÇÃO DE ÁRVORES INCL.RAIZES 45CM<DIAM<60CM | C134: UN | D134: 3701.74 | E134: 2212.12 | F134: 361.04
A135: 01.01.024 | B135: CORTE, RECORTE E REMOÇÃO DE ÁRVORES INCL.RAIZES 60CM<DIAM<100CM | C135: UN | D135: 7308.33 | E135: 4346.88 | F135: 722.08
A136: 01.03.004 | B136: ATERRO COM TRANSPORTE POR CAMINHAO NOS PRIMEIROS 100 M | C136: M3 | D136: 21.81 | E136: 17.0844 | F136: 0.2938
A137: 01.03.005 | B137: TRANSPORTE POR CAMINHAO M3X | C137: KM | D137: 1.99 | E137: 1.2936 | F137: 0.14876
A138: 01.10.001 | B138: GABARITO DE MADEIRA ESQUADRADO E NIVELADO PARA LOCAÇÃO DE OBRA | C138: M | D138: 30.65 | E138: 18.1852 | F138: 3.051
A139: 02.01.001 | B139: ESCAVACAO MANUAL - PROFUNDIDADE ATE 1.80 M | C139: M3 | D139: 82.47 | E139: 0 | F139: 30.36
A140: 02.01.010 | B140: APILOAMENTO PARA SIMPLES REGULARIZACAO | C140: M2 | D140: 8.24 | E140: 0 | F140: 3.036
A141: 02.01.012 | B141: LASTRO DE PEDRA BRITADA - 5CM | C141: M2 | D141: 9.59 | E141: 5.28825 | F141: 1.1385
A142: 02.01.015 | B142: LASTRO DE CONCRETO - 5 CM | C142: M2 | D142: 40.56 | E142: 13.3761 | F142: 8.874
A143: 02.01.025 | B143: REATERRO INTERNO APILOADO | C143: M3 | D143: 61.85 | E143: 0 | F143: 22.77
... A196: 16.15.006 | B196: ALVENARIA AUTO PORTANTE BLOCO DE CONCRETO ESTRUTURAL DE 19X19X39 CM CLASSE A | C196: M2 | D196: 121.41 | E196: 68.52193 | F196: 13.6667
D198: Preço FDE | E198: Preço sem BDI LS CDHU
A199: 16.08.028 | B199: CI-01 CAIXA DE INSPECAO 60X60CM PARA ESGOTO | C199: UN | D199: 687.97 | E199: 520.14
A201: 16.18.071 | B201: SI-02 PLACA DE SINALIZAÇÃO DE AMBIENTE 200X200MM (PAREDE INTERNA) | C201: UN | D201: 91.76 | E201: 74.14
A203: 09.05.063 | B203: BARRAMENTO DE 60A P/QUADROS DE DISTRIBUIÇÃO | C203: M | D203: 25.13 | E203: 19.82
A205: 09.09.083 | B205: IL-83 ILUMINAÇÃO AUTONOMA DE EMERGÊNCIA - LED | C205: UN | D205: 67.12 | E205: 50.8
A206: 16.18.083 | B206: SI-14 SINALIZAÇÃO DE AMBIENTE 300X300MM PAREDE EXTERNA | C206: UN | D206: 249.51 | E206: 201.4

Sheet SICRO-DNIT
A1: Atividade / Serviço
A2: Custo Unitário
A3: Und
A4: RCTR0330
A5: SICRO2
A6: Resumo dos Custos Unitários de Referência:
A7: Código
A8: Atividades Auxiliares
A9: LDI
A10: Preço Unitário
A11: São Paulo
A12: Março de 2015
A13: DNIT | B13: Sistema de Custos Rodoviários
A14: Direto Total
A15: 1 A 00 001 05 | B15: Transp. local c/ basc. 10m3 rodov. não pav (const) tkm 0,66 0,00 0,66
A16: 1 A 00 001 06 | B16: Transp. local c/ basc. 10m3 rodov. não pav (consv) tkm 0,81 0,00 0,81
A17: 1 A 00 001 07 | B17: Transp. local c/ basc. 10m3 rodov. não pav (restr) tkm 0,77 0,00 0,77
A18: 1 A 00 001 08 | B18: Transporte local c/ basc. p/ rocha rodov. não pav. tkm 0,92 0,00 0,92
A19: 1 A 00 001 40 | B19: Transp. local c/ carroceria 15 t rodov. não pav. tkm 0,89 0,00 0,89
A20: 1 A 00 001 41 | B20: Transporte local c/ carroceria 4t rodov. não pav. tkm 1,17 0,00 1,17
A21: 1 A 00 001 50 | B21: Transporte local c/ betoneira rodov. não pav. tkm 1,12 0,00 1,12
A22: 1 A 00 001 60 | B22: Transp. local c/ carroc. c/ guind. rodov. não pav. tkm 0,87 0,00 0,87
A23: 1 A 00 001 90 | B23: Transporte comercial c/ carroc. rodov. não pav. tkm 0,51 0,00 0,51
A24: 1 A 00 001 91 | B24: Transporte comercial c/ basc. 10m3 rod. não pav. tkm 0,52 0,00 0,52
A25: 1 A 00 002 00 | B25: Transporte local c/ basc. 5m3 rodov. pav. tkm 0,50 0,00 0,50
A26: 1 A 00 002 03 | B26: Transp. local material para remendos tkm 1,43 0,00 1,43
... A42: 1 A 00 202 70 | B42: Transp. local de água c/ cam. tanque rodov. pav. tkm 0,74 0,00 0,74
A43: 1 A 00 301 00 | B43: Fornecimento de Aço CA | C43: 25 kg 3,63 0,00 3,63
A44: 1 A 00 302 00 | B44: Fornecimento de Aço CA | C44: 50 kg 3,99 0,00 3,99
A45: 1 A 00 303 00 | B45: Fornecimento de Aço CA | C45: 60 kg 3,80 0,00 3,80
A46: 1 A 00 716 00 | B46: Areia comercial m3 65,60 0,00 65,60
A47: 1 A 00 717 00 | B47: Brita Comercial m3 67,86 0,00 67,86
A48: 1 A 00 901 01 | B48: Alvenaria de pedra argamassada m3 185,54 0,00 185,54
A49: 1 A 00 901 51 | B49: Alvenaria de pedra argamassada AC/PC m3 268,92 0,00 268,92
A50: 1 A 00 902 01 | B50: Alvenaria de tijolos m2 58,16 0,00 58,16
A51: (Valores em R$ ) Página 1 26/05/2015
A52: Nota: Valores internos calculados com maior precisão e arredondados para 2 casas decimais no relatório.
A53: Atividade / Serviço
A54: Custo Unitário
A55: Und
...

Sheet Composição
G1: BDI | H1: 0.2188
E2: Totem (1,50X1,50m) 01 unidade para a UBS e 01 para Laboratório de Exames | J2: =SUBTOTAL(9,J3:J5) -> 4059.8746
A3: 2 | B3: =IF(A3=1,"SINAPI",IF(A3=2,"CDHU",IF(A3=3,"FDE",IF(A3=4,"SICRO","ERRO")))) -> CDHU | C3: 21.03.151 | D3: 16.6 | E3: =IF($A3=1,VLOOKUP($C3,'SINAPI JAN26'!$1:$1048576,2,0),IF($A3=2,VLOOKUP($C3,'CDHU 200'!$1:$1048576,2,0),IF($A3=3,VLOOKUP($C3,FDE!$1:$1048576,2,0),"ERRO"))) -> Revestimento em placa de alumínio composto "ACM", espessura de 4 mm e acabamento em PVDF | F3: =IF($A3=1,VLOOKUP($C3,'SINAPI JAN26'!$1:$1048576,3,0),IF($A3=2,VLOOKUP($C3,'CDHU 200'!$1:$1048576,3,0),IF($A3=3,VLOOKUP($C3,FDE!$1:$1048576,3,0)))) -> M2 | G3: 2.85 | H3: =IF($A3=1,VLOOKUP($C3,'SINAPI JAN26'!$1:$1048576,4,0),IF($A3=2,VLOOKUP($C3,'CDHU 200'!$1:$1048576,6,0),IF($A3=3,VLOOKUP($C3,FDE!$1:$1048576,4,0)))) -> 878.25 | I3: =(H3*H1)+H3 -> 1070.4111 | J3: =I3*G3 -> 3050.6716
A4: 2 | B4: =IF(A4=1,"SINAPI",IF(A4=2,"CDHU",IF(A4=3,"FDE",IF(A4=4,"SICRO","ERRO")))) -> CDHU | C4: 15.03.150 | D4: 16.7 | E4: =IF($A4=1,VLOOKUP($C4,'SINAPI JAN26'!$1:$1048576,2,0),IF($A4=2,VLOOKUP($C4,'CDHU 200'!$1:$1048576,2,0),IF($A4=3,VLOOKUP($C4,FDE!$1:$1048576,2,0),"ERRO"))) -> Fornecimento e montagem de estrutura metálica em perfil metalon, sem pintura | F4: =IF($A4=1,VLOOKUP($C4,'SINAPI JAN26'!$1:$1048576,3,0),IF($A4=2,VLOOKUP($C4,'CDHU 200'!$1:$1048576,3,0),IF($A4=3,VLOOKUP($C4,FDE!$1:$1048576,3,0)))) -> KG | G4: 8 | H4: =IF($A4=1,VLOOKUP($C4,'SINAPI JAN26'!$1:$1048576,4,0),IF($A4=2,VLOOKUP($C4,'CDHU 200'!$1:$1048576,6,0),IF($A4=3,VLOOKUP($C4,FDE!$1:$1048576,4,0)))) -> 17.34 | I4: =(H4*H1)+H4 -> 21.133992 | J4: =I4*G4 -> 169.07194
A5: 3 | B5: =IF(A5=1,"SINAPI",IF(A5=2,"CDHU",IF(A5=3,"FDE",IF(A5=4,"SICRO","ERRO")))) -> FDE | C5: 09.04.050 | D5: 16.8 | E5: =IF($A5=1,VLOOKUP($C5,'SINAPI JAN26'!$1:$1048576,2,0),IF($A5=2,VLOOKUP($C5,'CDHU 200'!$1:$1048576,2,0),IF($A5=3,VLOOKUP($C5,FDE!$1:$1048576,2,0),"ERRO"))) -> PLACA DE ACRILICO TRANSPARENTE ESP=5MM PROTECAO A CONTATO ACIDENTAL | F5: =IF($A5=1,VLOOKUP($C5,'SINAPI JAN26'!$1:$1048576,3,0),IF($A5=2,VLOOKUP($C5,'CDHU 200'!$1:$1048576,3,0),IF($A5=3,VLOOKUP($C5,FDE!$1:$1048576,3,0)))) -> M2 | G5: 2.25 | H5: =IF($A5=1,VLOOKUP($C5,'SINAPI JAN26'!$1:$1048576,4,0),IF($A5=2,VLOOKUP($C5,'CDHU 200'!$1:$1048576,6,0),IF($A5=3,VLOOKUP($C5,FDE!$1:$1048576,4,0)))) -> 306.36 | I5: =(H5*H1)+H5 -> 373.39157 | J5: =I5*G5 -> 840.13103

Sheet Orçamento GERAL
B1: PLANILHA ORÇAMENTÁRIA
C2: Local da Obra: | D2: Rua das Bem Aventuranças nº 255 - Jardim Vista Alegre
C3: Data Base: | D3: 46063 | G3: BDI | H3: 0.2127
D4: CDHU 200/SINAPI 01-26/FDE 10-25
B6: Ref. | C6: Código | D6: Item | E6: Descrição | F6: Unid. | G6: Quant. | H6: Preço Unitário (R$) | I6: Preço Unitário com BDI (R$) | J6: Preço Total (R$)
D8: 1 | E8: SERVIÇOS PRELIMINARES | J8: =SUBTOTAL(9,J9:J16) -> 26482.469
A9: 2 | B9: =IF(A9=1,"SINAPI",IF(A9=2,"CDHU",IF(A9=3,"FDE",IF(A9=4,"SICRO","ERRO")))) -> CDHU | C9: 02.08.020 | D9: 1.1 | E9: =IF($A9=1,VLOOKUP($C9,'SINAPI JAN26'!$1:$1048576,2,0),IF($A9=2,VLOOKUP($C9,'CDHU 200'!$1:$1048576,2,0),IF($A9=3,VLOOKUP($C9,FDE!$1:$1048576,2,0),"ERRO"))) -> Placa de identificação para obra | F9: =IF($A9=1,VLOOKUP($C9,'SINAPI JAN26'!$1:$1048576,3,0),IF($A9=2,VLOOKUP($C9,'CDHU 200'!$1:$1048576,3,0),IF($A9=3,VLOOKUP($C9,FDE!$1:$1048576,3,0)))) -> M2 | G9: =2*3 -> 6 | H9: =IF($A9=1,VLOOKUP($C9,'SINAPI JAN26'!$1:$1048576,4,0),IF($A9=2,VLOOKUP($C9,'CDHU 200'!$1:$1048576,6,0),IF($A9=3,VLOOKUP($C9,FDE!$1:$1048576,4,0)))) -> 924.91 | I9: =(H9*$H$3)+H9 -> 1121.6384 | J9: =I9*G9 -> 6729.8301
A10: 2 | B10: =IF(A10=1,"SINAPI",IF(A10=2,"CDHU",IF(A10=3,"FDE",IF(A10=4,"SICRO","ERRO")))) -> CDHU | C10: 01.17.051 | D10: 1.2 | E10: =IF($A10=1,VLOOKUP($C10,'SINAPI JAN26'!$1:$1048576,2,0),IF($A10=2,VLOOKUP($C10,'CDHU 200'!$1:$1048576,2,0),IF($A10=3,VLOOKUP($C10,FDE!$1:$1048576,2,0),"ERRO"))) -> Projeto executivo de estrutura em formato A1 | F10: =IF($A10=1,VLOOKUP($C10,'SINAPI JAN26'!$1:$1048576,3,0),IF($A10=2,VLOOKUP($C10,'CDHU 200'!$1:$1048576,3,0),IF($A10=3,VLOOKUP($C10,FDE!$1:$1048576,3,0)))) -> UN | G10: 1 | H10: =IF($A10=1,VLOOKUP($C10,'SINAPI JAN26'!$1:$1048576,4,0),IF($A10=2,VLOOKUP($C10,'CDHU 200'!$1:$1048576,6,0),IF($A10=3,VLOOKUP($C10,FDE!$1:$1048576,4,0)))) -> 2658.26 | I10: =(H10*$H$3)+H10 -> 3223.6719 | J10: =I10*G10 -> 3223.6719
A11: 2 | B11: =IF(A11=1,"SINAPI",IF(A11=2,"CDHU",IF(A11=3,"FDE",IF(A11=4,"SICRO","ERRO")))) -> CDHU | C11: 01.17.071 | D11: 1.3 | E11: =IF($A11=1,VLOOKUP($C11,'SINAPI JAN26'!$1:$1048576,2,0),IF($A11=2,VLOOKUP($C11,'CDHU 200'!$1:$1048576,2,0),IF($A11=3,VLOOKUP($C11,FDE!$1:$1048576,2,0),"ERRO"))) -> Projeto executivo de instalações hidráulicas em formato A1 | F11: =IF($A11=1,VLOOKUP($C11,'SINAPI JAN26'!$1:$1048576,3,0),IF($A11=2,VLOOKUP($C11,'CDHU 200'!$1:$1048576,3,0),IF($A11=3,VLOOKUP($C11,FDE!$1:$1048576,3,0)))) -> UN | G11: 2 | H11: =IF($A11=1,VLOOKUP($C11,'SINAPI JAN26'!$1:$1048576,4,0),IF($A11=2,VLOOKUP($C11,'CDHU 200'!$1:$1048576,6,0),IF($A11=3,VLOOKUP($C11,FDE!$1:$1048576,4,0)))) -> 1141.18 | I11: =(H11*$H$3)+H11 -> 1383.909 | J11: =I11*G11 -> 2767.818
A12: 2 | B12: =IF(A12=1,"SINAPI",IF(A12=2,"CDHU",IF(A12=3,"FDE",IF(A12=4,"SICRO","ERRO")))) -> CDHU | C12: 01.17.111 | D12: 1.4 | E12: =IF($A12=1,VLOOKUP($C12,'SINAPI JAN26'!$1:$1048576,2,0),IF($A12=2,VLOOKUP($C12,'CDHU 200'!$1:$1048576,2,0),IF($A12=3,VLOOKUP($C12,FDE!$1:$1048576,2,0),"ERRO"))) -> Projeto executivo de instalações elétricas em formato A1 | F12: =IF($A12=1,VLOOKUP($C12,'SINAPI JAN26'!$1:$1048576,3,0),IF($A12=2,VLOOKUP($C12,'CDHU 200'!$1:$1048576,3,0),IF($A12=3,VLOOKUP($C12,FDE!$1:$1048576,3,0)))) -> UN | G12: 2 | H12: =IF($A12=1,VLOOKUP($C12,'SINAPI JAN26'!$1:$1048576,4,0),IF($A12=2,VLOOKUP($C12,'CDHU 200'!$1:$1048576,6,0),IF($A12=3,VLOOKUP($C12,FDE!$1:$1048576,4,0)))) -> 1267.26 | I12: =(H12*$H$3)+H12 -> 1536.8062 | J12: =I12*G12 -> 3073.6124
A13: 2 | B13: =IF(A13=1,"SINAPI",IF(A13=2,"CDHU",IF(A13=3,"FDE",IF(A13=4,"SICRO","ERRO")))) -> CDHU | C13: 01.17.151 | D13: 1.5 | E13: =IF($A13=1,VLOOKUP($C13,'SINAPI JAN26'!$1:$1048576,2,0),IF($A13=2,VLOOKUP($C13,'CDHU 200'!$1:$1048576,2,0),IF($A13=3,VLOOKUP($C13,FDE!$1:$1048576,2,0),"ERRO"))) -> Projeto executivo de climatização em formato A1 | F13: =IF($A13=1,VLOOKUP($C13,'SINAPI JAN26'!$1:$1048576,3,0),IF($A13=2,VLOOKUP($C13,'CDHU 200'!$1:$1048576,3,0),IF($A13=3,VLOOKUP($C13,FDE!$1:$1048576,3,0)))) -> UN | G13: 1 | H13: =IF($A13=1,VLOOKUP($C13,'SINAPI JAN26'!$1:$1048576,4,0),IF($A13=2,VLOOKUP($C13,'CDHU 200'!$1:$1048576,6,0),IF($A13=3,VLOOKUP($C13,FDE!$1:$1048576,4,0)))) -> 2439.23 | I13: =(H13*$H$3)+H13 -> 2958.0542 | J13: =I13*G13 -> 2958.0542
A14: 2 | B14: =IF(A14=1,"SINAPI",IF(A14=2,"CDHU",IF(A14=3,"FDE",IF(A14=4,"SICRO","ERRO")))) -> CDHU | C14: 02.10.020 | D14: 1.6 | E14: =IF($A14=1,VLOOKUP($C14,'SINAPI JAN26'!$1:$1048576,2,0),IF($A14=2,VLOOKUP($C14,'CDHU 200'!$1:$1048576,2,0),IF($A14=3,VLOOKUP($C14,FDE!$1:$1048576,2,0),"ERRO"))) -> Locação de obra de edificação | F14: =IF($A14=1,VLOOKUP($C14,'SINAPI JAN26'!$1:$1048576,3,0),IF($A14=2,VLOOKUP($C14,'CDHU 200'!$1:$1048576,3,0),IF($A14=3,VLOOKUP($C14,FDE!$1:$1048576,3,0)))) -> M2 | G14: 37.14 | H14: =IF($A14=1,VLOOKUP($C14,'SINAPI JAN26'!$1:$1048576,4,0),IF($A14=2,VLOOKUP($C14,'CDHU 200'!$1:$1048576,6,0),IF($A14=3,VLOOKUP($C14,FDE!$1:$1048576,4,0)))) -> 17.85 | I14: =(H14*$H$3)+H14 -> 21.646695 | J14: =I14*G14 -> 803.95825
A15: 2 | B15: =IF(A15=1,"SINAPI",IF(A15=2,"CDHU",IF(A15=3,"FDE",IF(A15=4,"SICRO","ERRO")))) -> CDHU | C15: 02.10.060 | D15: 1.7 | E15: =IF($A15=1,VLOOKUP($C15,'SINAPI JAN26'!$1:$1048576,2,0),IF($A15=2,VLOOKUP($C15,'CDHU 200'!$1:$1048576,2,0),IF($A15=3,VLOOKUP($C15,FDE!$1:$1048576,2,0),"ERRO"))) -> Locação de vias, calçadas, tanques e lagoas | F15: =IF($A15=1,VLOOKUP($C15,'SINAPI JAN26'!$1:$1048576,3,0),IF($A15=2,VLOOKUP($C15,'CDHU 200'!$1:$1048576,3,0),IF($A15=3,VLOOKUP($C15,FDE!$1:$1048576,3,0)))) -> M2 | G15: 144.21 | H15: =IF($A15=1,VLOOKUP($C15,'SINAPI JAN26'!$1:$1048576,4,0),IF($A15=2,VLOOKUP($C15,'CDHU 200'!$1:$1048576,6,0),IF($A15=3,VLOOKUP($C15,FDE!$1:$1048576,4,0)))) -> 1.84 | I15: =(H15*$H$3)+H15 -> 2.231368 | J15: =I15*G15 -> 321.78558
A16: 2 | B16: =IF(A16=1,"SINAPI",IF(A16=2,"CDHU",IF(A16=3,"FDE",IF(A16=4,"SICRO","ERRO")))) -> CDHU | C16: 05.07.050 | D16: 1.8 | E16: =IF($A16=1,VLOOKUP($C16,'SINAPI JAN26'!$1:$1048576,2,0),IF($A16=2,VLOOKUP($C16,'CDHU 200'!$1:$1048576,2,0),IF($A16=3,VLOOKUP($C16,FDE!$1:$1048576,2,0),"ERRO"))) -> Remoção de entulho de obra com caçamba metálica - material volumoso e misturado por alvenaria, terra, madeira, papel, plástico e metal | F16: =IF($A16=1,VLOOKUP($C16,'SINAPI JAN26'!$1:$1048576,3,0),IF($A16=2,VLOOKUP($C16,'CDHU 200'!$1:$1048576,3,0),IF($A16=3,VLOOKUP($C16,FDE!$1:$1048576,3,0)))) -> M3 | G16: 41.31 | H16: =IF($A16=1,VLOOKUP($C16,'SINAPI JAN26'!$1:$1048576,4,0),IF($A16=2,VLOOKUP($C16,'CDHU 200'!$1:$1048576,6,0),IF($A16=3,VLOOKUP($C16,FDE!$1:$1048576,4,0)))) -> 131.82 | I16: =(H16*$H$3)+H16 -> 159.85811 | J16: =I16*G16 -> 6603.7387
D18: 2 | E18: DEMOLIÇÕES E RETIRADAS | J18: =SUBTOTAL(9,J19:J35) -> 37631.437
A19: 2 | B19: =IF(A19=1,"SINAPI",IF(A19=2,"CDHU",IF(A19=3,"FDE",IF(A19=4,"SICRO","ERRO")))) -> CDHU | C19: 03.01.250 | D19: 2.1 | E19: =IF($A19=1,VLOOKUP($C19,'SINAPI JAN26'!$1:$1048576,2,0),IF($A19=2,VLOOKUP($C19,'CDHU 200'!$1:$1048576,2,0),IF($A19=3,VLOOKUP($C19,FDE!$1:$1048576,2,0),"ERRO"))) -> Demolição mecanizada de pavimento ou piso em concreto, inclusive fragmentação e acomodação do material | F19: =IF($A19=1,VLOOKUP($C19,'SINAPI JAN26'!$1:$1048576,3,0),IF($A19=2,VLOOKUP($C19,'CDHU 200'!$1:$1048576,3,0),IF($A19=3,VLOOKUP($C19,FDE!$1:$1048576,3,0)))) -> M2 | G19: 278.44 | H19: =IF($A19=1,VLOOKUP($C19,'SINAPI JAN26'!$1:$1048576,4,0),IF($A19=2,VLOOKUP($C19,'CDHU 200'!$1:$1048576,6,0),IF($A19=3,VLOOKUP($C19,FDE!$1:$1048576,4,0)))) -> 30.76 | I19: =(H19*$H$3)+H19 -> 37.302652 | J19: =I19*G19 -> 10386.55
A20: 2 | B20: =IF(A20=1,"SINAPI",IF(A20=2,"CDHU",IF(A20=3,"FDE",IF(A20=4,"SICRO","ERRO")))) -> CDHU | C20: 03.02.040 | D20: 2.2 | E20: =IF($A20=1,VLOOKUP($C20,'SINAPI JAN26'!$1:$1048576,2,0),IF($A20=2,VLOOKUP($C20,'CDHU 200'!$1:$1048576,2,0),IF($A20=3,VLOOKUP($C20,FDE!$1:$1048576,2,0),"ERRO"))) -> Demolição manual de alvenaria de elevação ou elemento vazado, incluindo revestimento | F20: =IF($A20=1,VLOOKUP($C20,'SINAPI JAN26'!$1:$1048576,3,0),IF($A20=2,VLOOKUP($C20,'CDHU 200'!$1:$1048576,3,0),IF($A20=3,VLOOKUP($C20,FDE!$1:$1048576,3,0)))) -> M3 | G20: 24.01 | H20: =IF($A20=1,VLOOKUP($C20,'SINAPI JAN26'!$1:$1048576,4,0),IF($A20=2,VLOOKUP($C20,'CDHU 200'!$1:$1048576,6,0),IF($A20=3,VLOOKUP($C20,FDE!$1:$1048576,4,0)))) -> 90.84 | I20: =(H20*$H$3)+H20 -> 110.16167 | J20: =I20*G20 -> 2644.9816
A21: 2 | B21: =IF(A21=1,"SINAPI",IF(A21=2,"CDHU",IF(A21=3,"FDE",IF(A21=4,"SICRO","ERRO")))) -> CDHU | C21: 03.04.020 | D21: 2.3 | E21: =IF($A21=1,VLOOKUP($C21,'SINAPI JAN26'!$1:$1048576,2,0),IF($A21=2,VLOOKUP($C21,'CDHU 200'!$1:$1048576,2,0),IF($A21=3,VLOOKUP($C21,FDE!$1:$1048576,2,0),"ERRO"))) -> Demolição manual de revestimento cerâmico, incluindo a base | F21: =IF($A21=1,VLOOKUP($C21,'SINAPI JAN26'!$1:$1048576,3,0),IF($A21=2,VLOOKUP($C21,'CDHU 200'!$1:$1048576,3,0),IF($A21=3,VLOOKUP($C21,FDE!$1:$1048576,3,0)))) -> M2 | G21: 268.07 | H21: =IF($A21=1,VLOOKUP($C21,'SINAPI JAN26'!$1:$1048576,4,0),IF($A21=2,VLOOKUP($C21,'CDHU 200'!$1:$1048576,6,0),IF($A21=3,VLOOKUP($C21,FDE!$1:$1048576,4,0)))) -> 13.63 | I21: =(H21*$H$3)+H21 -> 16.529101 | J21: =I21*G21 -> 4430.9561
A22: 2 | B22: =IF(A22=1,"SINAPI",IF(A22=2,"CDHU",IF(A22=3,"FDE",IF(A22=4,"SICRO","ERRO")))) -> CDHU | C22: 04.03.020 | D22: 2.4 | E22: =IF($A22=1,VLOOKUP($C22,'SINAPI JAN26'!$1:$1048576,2,0),IF($A22=2,VLOOKUP($C22,'CDHU 200'!$1:$1048576,2,0),IF($A22=3,VLOOKUP($C22,FDE!$1:$1048576,2,0),"ERRO"))) -> Retirada de telhamento em barro | F22: =IF($A22=1,VLOOKUP($C22,'SINAPI JAN26'!$1:$1048576,3,0),IF($A22=2,VLOOKUP($C22,'CDHU 200'!$1:$1048576,3,0),IF($A22=3,VLOOKUP($C22,FDE!$1:$1048576,3,0)))) -> M2 | G22: 283.5 | H22: =IF($A22=1,VLOOKUP($C22,'SINAPI JAN26'!$1:$1048576,4,0),IF($A22=2,VLOOKUP($C22,'CDHU 200'!$1:$1048576,6,0),IF($A22=3,VLOOKUP($C22,FDE!$1:$1048576,4,0)))) -> 18.17 | I22: =(H22*$H$3)+H22 -> 22.034759 | J22: =I22*G22 -> 6246.8542
A23: 2 | B23: =IF(A23=1,"SINAPI",IF(A23=2,"CDHU",IF(A23=3,"FDE",IF(A23=4,"SICRO","ERRO")))) -> CDHU | C23: 04.02.050 | D23: 2.5 | E23: =IF($A23=1,VLOOKUP($C23,'SINAPI JAN26'!$1:$1048576,2,0),IF($A23=2,VLOOKUP($C23,'CDHU 200'!$1:$1048576,2,0),IF($A23=3,VLOOKUP($C23,FDE!$1:$1048576,2,0),"ERRO"))) -> Retirada de estrutura em madeira tesoura - telhas de barro | F23: =IF($A23=1,VLOOKUP($C23,'SINAPI JAN26'!$1:$1048576,3,0),IF($A23=2,VLOOKUP($C23,'CDHU 200'!$1:$1048576,3,0),IF($A23=3,VLOOKUP($C23,FDE!$1:$1048576,3,0)))) -> M2 | G23: 54.46 | H23: =IF($A23=1,VLOOKUP($C23,'SINAPI JAN26'!$1:$1048576,4,0),IF($A23=2,VLOOKUP($C23,'CDHU 200'!$1:$1048576,6,0),IF($A23=3,VLOOKUP($C23,FDE!$1:$1048576,4,0)))) -> 27.69 | I23: =(H23*$H$3)+H23 -> 33.579663 | J23: =I23*G23 -> 1828.7484
A24: 2 | B24: =IF(A24=1,"SINAPI",IF(A24=2,"CDHU",IF(A24=3,"FDE",IF(A24=4,"SICRO","ERRO")))) -> CDHU | C24: 04.03.060 | D24: 2.6 | E24: =IF($A24=1,VLOOKUP($C24,'SINAPI JAN26'!$1:$1048576,2,0),IF($A24=2,VLOOKUP($C24,'CDHU 200'!$1:$1048576,2,0),IF($A24=3,VLOOKUP($C24,FDE!$1:$1048576,2,0),"ERRO"))) -> Retirada de cumeeira ou espigão em barro | F24: =IF($A24=1,VLOOKUP($C24,'SINAPI JAN26'!$1:$1048576,3,0),IF($A24=2,VLOOKUP($C24,'CDHU 200'!$1:$1048576,3,0),IF($A24=3,VLOOKUP($C24,FDE!$1:$1048576,3,0)))) -> M | G24: 18.4 | H24: =IF($A24=1,VLOOKUP($C24,'SINAPI JAN26'!$1:$1048576,4,0),IF($A24=2,VLOOKUP($C24,'CDHU 200'!$1:$1048576,6,0),IF($A24=3,VLOOKUP($C24,FDE!$1:$1048576,4,0)))) -> 6.81 | I24: =(H24*$H$3)+H24 -> 8.258487 | J24: =I24*G24 -> 151.95616
A25: 2 | B25: =IF(A25=1,"SINAPI",IF(A25=2,"CDHU",IF(A25=3,"FDE",IF(A25=4,"SICRO","ERRO")))) -> CDHU | C25: 03.04.040 | D25: 2.7 | E25: =IF($A25=1,VLOOKUP($C25,'SINAPI JAN26'!$1:$1048576,2,0),IF($A25=2,VLOOKUP($C25,'CDHU 200'!$1:$1048576,2,0),IF($A25=3,VLOOKUP($C25,FDE!$1:$1048576,2,0),"ERRO"))) -> Demolição manual de rodapé, soleira ou peitoril, em material cerâmico e/ou ladrilho hidráulico, incluindo a base | F25: =IF($A25=1,VLOOKUP($C25,'SINAPI JAN26'!$1:$1048576,3,0),IF($A25=2,VLOOKUP($C25,'CDHU 200'!$1:$1048576,3,0),IF($A25=3,VLOOKUP($C25,FDE!$1:$1048576,3,0)))) -> M | G25: 157.03 | H25: =IF($A25=1,VLOOKUP($C25,'SINAPI JAN26'!$1:$1048576,4,0),IF($A25=2,VLOOKUP($C25,'CDHU 200'!$1:$1048576,6,0),IF($A25=3,VLOOKUP($C25,FDE!$1:$1048576,4,0)))) -> 3.41 | I25: =(H25*$H$3)+H25 -> 4.135307 | J25: =I25*G25 -> 649.36726
A26: 2 | B26: =IF(A26=1,"SINAPI",IF(A26=2,"CDHU",IF(A26=3,"FDE",IF(A26=4,"SICRO","ERRO")))) -> CDHU | C26: 04.09.020 | D26: 2.8 | E26: =IF($A26=1,VLOOKUP($C26,'SINAPI JAN26'!$1:$1048576,2,0),IF($A26=2,VLOOKUP($C26,'CDHU 200'!$1:$1048576,2,0),IF($A26=3,VLOOKUP($C26,FDE!$1:$1048576,2,0),"ERRO"))) -> Retirada de esquadria metálica em geral | F26: =IF($A26=1,VLOOKUP($C26,'SINAPI JAN26'!$1:$1048576,3,0),IF($A26=2,VLOOKUP($C26,'CDHU 200'!$1:$1048576,3,0),IF($A26=3,VLOOKUP($C26,FDE!$1:$1048576,3,0)))) -> M2 | G26: 4.8 | H26: =IF($A26=1,VLOOKUP($C26,'SINAPI JAN26'!$1:$1048576,4,0),IF($A26=2,VLOOKUP($C26,'CDHU 200'!$1:$1048576,6,0),IF($A26=3,VLOOKUP($C26,FDE!$1:$1048576,4,0)))) -> 35.25 | I26: =(H26*$H$3)+H26 -> 42.747675 | J26: =I26*G26 -> 205.18884
A27: 2 | B27: =IF(A27=1,"SINAPI",IF(A27=2,"CDHU",IF(A27=3,"FDE",IF(A27=4,"SICRO","ERRO")))) -> CDHU | C27: 04.09.040 | D27: 2.9 | E27: =IF($A27=1,VLOOKUP($C27,'SINAPI JAN26'!$1:$1048576,2,0),IF($A27=2,VLOOKUP($C27,'CDHU 200'!$1:$1048576,2,0),IF($A27=3,VLOOKUP($C27,FDE!$1:$1048576,2,0),"ERRO"))) -> Retirada de folha de esquadria metálica | F27: =IF($A27=1,VLOOKUP($C27,'SINAPI JAN26'!$1:$1048576,3,0),IF($A27=2,VLOOKUP($C27,'CDHU 200'!$1:$1048576,3,0),IF($A27=3,VLOOKUP($C27,FDE!$1:$1048576,3,0)))) -> UN | G27: 5 | H27: =IF($A27=1,VLOOKUP($C27,'SINAPI JAN26'!$1:$1048576,4,0),IF($A27=2,VLOOKUP($C27,'CDHU 200'!$1:$1048576,6,0),IF($A27=3,VLOOKUP($C27,FDE!$1:$1048576,4,0)))) -> 29.39 | I27: =(H27*$H$3)+H27 -> 35.641253 | J27: =I27*G27 -> 178.20627
A28: 2 | B28: =IF(A28=1,"SINAPI",IF(A28=2,"CDHU",IF(A28=3,"FDE",IF(A28=4,"SICRO","ERRO")))) -> CDHU | C28: 04.08.020 | D28: 2.10 | E28: =IF($A28=1,VLOOKUP($C28,'SINAPI JAN26'!$1:$1048576,2,0),IF($A28=2,VLOOKUP($C28,'CDHU 200'!$1:$1048576,2,0),IF($A28=3,VLOOKUP($C28,FDE!$1:$1048576,2,0),"ERRO"))) -> Retirada de folha de esquadria em madeira | F28: =IF($A28=1,VLOOKUP($C28,'SINAPI JAN26'!$1:$1048576,3,0),IF($A28=2,VLOOKUP($C28,'CDHU 200'!$1:$1048576,3,0),IF($A28=3,VLOOKUP($C28,FDE!$1:$1048576,3,0)))) -> UN | G28: 18 | H28: =IF($A28=1,VLOOKUP($C28,'SINAPI JAN26'!$1:$1048576,4,0),IF($A28=2,VLOOKUP($C28,'CDHU 200'!$1:$1048576,6,0),IF($A28=3,VLOOKUP($C28,FDE!$1:$1048576,4,0)))) -> 25.18 | I28: =(H28*$H$3)+H28 -> 30.535786 | J28: =I28*G28 -> 549.64415
A29: 2 | B29: =IF(A29=1,"SINAPI",IF(A29=2,"CDHU",IF(A29=3,"FDE",IF(A29=4,"SICRO","ERRO")))) -> CDHU | C29: 04.08.060 | D29: 2.11 | E29: =IF($A29=1,VLOOKUP($C29,'SINAPI JAN26'!$1:$1048576,2,0),IF($A29=2,VLOOKUP($C29,'CDHU 200'!$1:$1048576,2,0),IF($A29=3,VLOOKUP($C29,FDE!$1:$1048576,2,0),"ERRO"))) -> Retirada de batente com guarnição e peças lineares em madeira, chumbados | F29: =IF($A29=1,VLOOKUP($C29,'SINAPI JAN26'!$1:$1048576,3,0),IF($A29=2,VLOOKUP($C29,'CDHU 200'!$1:$1048576,3,0),IF($A29=3,VLOOKUP($C29,FDE!$1:$1048576,3,0)))) -> M | G29: 84.3 | H29: =IF($A29=1,VLOOKUP($C29,'SINAPI JAN26'!$1:$1048576,4,0),IF($A29=2,VLOOKUP($C29,'CDHU 200'!$1:$1048576,6,0),IF($A29=3,VLOOKUP($C29,FDE!$1:$1048576,4,0)))) -> 15.1 | I29: =(H29*$H$3)+H29 -> 18.31177 | J29: =I29*G29 -> 1543.6822
A30: 2 | B30: =IF(A30=1,"SINAPI",IF(A30=2,"CDHU",IF(A30=3,"FDE",IF(A30=4,"SICRO","ERRO")))) -> CDHU | C30: 04.09.140 | D30: 2.12 | E30: =IF($A30=1,VLOOKUP($C30,'SINAPI JAN26'!$1:$1048576,2,0),IF($A30=2,VLOOKUP($C30,'CDHU 200'!$1:$1048576,2,0),IF($A30=3,VLOOKUP($C30,FDE!$1:$1048576,2,0),"ERRO"))) -> Retirada de poste ou sistema de sustentação para alambrado ou fechamento | F30: =IF($A30=1,VLOOKUP($C30,'SINAPI JAN26'!$1:$1048576,3,0),IF($A30=2,VLOOKUP($C30,'CDHU 200'!$1:$1048576,3,0),IF($A30=3,VLOOKUP($C30,FDE!$1:$1048576,3,0)))) -> UN | G30: 32 | H30: =IF($A30=1,VLOOKUP($C30,'SINAPI JAN26'!$1:$1048576,4,0),IF($A30=2,VLOOKUP($C30,'CDHU 200'!$1:$1048576,6,0),IF($A30=3,VLOOKUP($C30,FDE!$1:$1048576,4,0)))) -> 29.52 | I30: =(H30*$H$3)+H30 -> 35.798904 | J30: =I30*G30 -> 1145.5649
... A35: 2 | B35: =IF(A35=1,"SINAPI",IF(A35=2,"CDHU",IF(A35=3,"FDE",IF(A35=4,"SICRO","ERRO")))) -> CDHU | C35: 05.07.040 | D35: 2.17 | E35: =IF($A35=1,VLOOKUP($C35,'SINAPI JAN26'!$1:$1048576,2,0),IF($A35=2,VLOOKUP($C35,'CDHU 200'!$1:$1048576,2,0),IF($A35=3,VLOOKUP($C35,FDE!$1:$1048576,2,0),"ERRO"))) -> Remoção de entulho separado de obra com caçamba metálica - terra, alvenaria, concreto, argamassa, madeira, papel, plástico ou metal | F35: =IF($A35=1,VLOOKUP($C35,'SINAPI JAN26'!$1:$1048576,3,0),IF($A35=2,VLOOKUP($C35,'CDHU 200'!$1:$1048576,3,0),IF($A35=3,VLOOKUP($C35,FDE!$1:$1048576,3,0)))) -> M3 | G35: 38 | H35: =IF($A35=1,VLOOKUP($C35,'SINAPI JAN26'!$1:$1048576,4,0),IF($A35=2,VLOOKUP($C35,'CDHU 200'!$1:$1048576,6,0),IF($A35=3,VLOOKUP($C35,FDE!$1:$1048576,4,0)))) -> 112.15 | I35: =(H35*$H$3)+H35 -> 136.00431 | J35: =I35*G35 -> 5168.1636
D37: 3 | E37: INFRAESTRUTURA | J37: =SUBTOTAL(9,J38:J51) -> 42358.852
A38: 2 | B38: =IF(A38=1,"SINAPI",IF(A38=2,"CDHU",IF(A38=3,"FDE",IF(A38=4,"SICRO","ERRO")))) -> CDHU | C38: 12.01.061 | D38: 3.1 | E38: =IF($A38=1,VLOOKUP($C38,'SINAPI JAN26'!$1:$1048576,2,0),IF($A38=2,VLOOKUP($C38,'CDHU 200'!$1:$1048576,2,0),IF($A38=3,VLOOKUP($C38,FDE!$1:$1048576,2,0),"ERRO"))) -> Broca em concreto armado diâmetro de 30 cm - completa | F38: =IF($A38=1,VLOOKUP($C38,'SINAPI JAN26'!$1:$1048576,3,0),IF($A38=2,VLOOKUP($C38,'CDHU 200'!$1:$1048576,3,0),IF($A38=3,VLOOKUP($C38,FDE!$1:$1048576,3,0)))) -> M | G38: 120 | H38: =IF($A38=1,VLOOKUP($C38,'SINAPI JAN26'!$1:$1048576,4,0),IF($A38=2,VLOOKUP($C38,'CDHU 200'!$1:$1048576,6,0),IF($A38=3,VLOOKUP($C38,FDE!$1:$1048576,4,0)))) -> 133.46 | I38: =(H38*$H$3)+H38 -> 161.84694 | J38: =I38*G38 -> 19421.633
A39: 2 | B39: =IF(A39=1,"SINAPI",IF(A39=2,"CDHU",IF(A39=3,"FDE",IF(A39=4,"SICRO","ERRO")))) -> CDHU | C39: 06.02.020 | D39: 3.2 | E39: =IF($A39=1,VLOOKUP($C39,'SINAPI JAN26'!$1:$1048576,2,0),IF($A39=2,VLOOKUP($C39,'CDHU 200'!$1:$1048576,2,0),IF($A39=3,VLOOKUP($C39,FDE!$1:$1048576,2,0),"ERRO"))) -> Escavação manual em solo de 1ª e 2ª categoria em vala ou cava até 1,5 m | F39: =IF($A39=1,VLOOKUP($C39,'SINAPI JAN26'!$1:$1048576,3,0),IF($A39=2,VLOOKUP($C39,'CDHU 200'!$1:$1048576,3,0),IF($A39=3,VLOOKUP($C39,FDE!$1:$1048576,3,0)))) -> M3 | G39: 9.74 | H39: =IF($A39=1,VLOOKUP($C39,'SINAPI JAN26'!$1:$1048576,4,0),IF($A39=2,VLOOKUP($C39,'CDHU 200'!$1:$1048576,6,0),IF($A39=3,VLOOKUP($C39,FDE!$1:$1048576,4,0)))) -> 68.13 | I39: =(H39*$H$3)+H39 -> 82.621251 | J39: =I39*G39 -> 804.73098
A40: 1 | B40: =IF(A40=1,"SINAPI",IF(A40=2,"CDHU",IF(A40=3,"FDE",IF(A40=4,"SICRO","ERRO")))) -> SINAPI | C40: 101617 | D40: 3.3 | E40: =IF($A40=1,VLOOKUP($C40,'SINAPI JAN26'!$1:$1048576,2,0),IF($A40=2,VLOOKUP($C40,'CDHU 200'!$1:$1048576,2,0),IF($A40=3,VLOOKUP($C40,FDE!$1:$1048576,2,0),"ERRO"))) -> PREPARO DE FUNDO DE VALA COM LARGURA MAIOR OU IGUAL A 1,5 M E MENOR QUE 2,5 M (ACERTO DO SOLO NATURAL), EM LOCAL COM NÍVEL BAIXO DE INTERFERÊNCIA. AF_01/2026 | F40: =IF($A40=1,VLOOKUP($C40,'SINAPI JAN26'!$1:$1048576,3,0),IF($A40=2,VLOOKUP($C40,'CDHU 200'!$1:$1048576,3,0),IF($A40=3,VLOOKUP($C40,FDE!$1:$1048576,3,0)))) -> M2 | G40: 19.13 | H40: =IF($A40=1,VLOOKUP($C40,'SINAPI JAN26'!$1:$1048576,4,0),IF($A40=2,VLOOKUP($C40,'CDHU 200'!$1:$1048576,6,0),IF($A40=3,VLOOKUP($C40,FDE!$1:$1048576,4,0)))) -> 4.64 | I40: =(H40*$H$3)+H40 -> 5.626928 | J40: =I40*G40 -> 107.64313
A41: 2 | B41: =IF(A41=1,"SINAPI",IF(A41=2,"CDHU",IF(A41=3,"FDE",IF(A41=4,"SICRO","ERRO")))) -> CDHU | C41: 09.01.020 | D41: 3.4 | E41: =IF($A41=1,VLOOKUP($C41,'SINAPI JAN26'!$1:$1048576,2,0),IF($A41=2,VLOOKUP($C41,'CDHU 200'!$1:$1048576,2,0),IF($A41=3,VLOOKUP($C41,FDE!$1:$1048576,2,0),"ERRO"))) -> Forma em madeira comum para fundação | F41: =IF($A41=1,VLOOKUP($C41,'SINAPI JAN26'!$1:$1048576,3,0),IF($A41=2,VLOOKUP($C41,'CDHU 200'!$1:$1048576,3,0),IF($A41=3,VLOOKUP($C41,FDE!$1:$1048576,3,0)))) -> M2 | G41: 27.7 | H41: =IF($A41=1,VLOOKUP($C41,'SINAPI JAN26'!$1:$1048576,4,0),IF($A41=2,VLOOKUP($C41,'CDHU 200'!$1:$1048576,6,0),IF($A41=3,VLOOKUP($C41,FDE!$1:$1048576,4,0)))) -> 110.06 | I41: =(H41*$H$3)+H41 -> 133.46976 | J41: =I41*G41 -> 3697.1124
A42: 2 | B42: =IF(A42=1,"SINAPI",IF(A42=2,"CDHU",IF(A42=3,"FDE",IF(A42=4,"SICRO","ERRO")))) -> CDHU | C42: 11.01.130 | D42: 3.5 | E42: =IF($A42=1,VLOOKUP($C42,'SINAPI JAN26'!$1:$1048576,2,0),IF($A42=2,VLOOKUP($C42,'CDHU 200'!$1:$1048576,2,0),IF($A42=3,VLOOKUP($C42,FDE!$1:$1048576,2,0),"ERRO"))) -> Concreto usinado, fck = 25 MPa | F42: =IF($A42=1,VLOOKUP($C42,'SINAPI JAN26'!$1:$1048576,3,0),IF($A42=2,VLOOKUP($C42,'CDHU 200'!$1:$1048576,3,0),IF($A42=3,VLOOKUP($C42,FDE!$1:$1048576,3,0)))) -> M3 | G42: 6.98 | H42: =IF($A42=1,VLOOKUP($C42,'SINAPI JAN26'!$1:$1048576,4,0),IF($A42=2,VLOOKUP($C42,'CDHU 200'!$1:$1048576,6,0),IF($A42=3,VLOOKUP($C42,FDE!$1:$1048576,4,0)))) -> 519.37 | I42: =(H42*$H$3)+H42 -> 629.84 | J42: =I42*G42 -> 4396.2832
A43: 2 | B43: =IF(A43=1,"SINAPI",IF(A43=2,"CDHU",IF(A43=3,"FDE",IF(A43=4,"SICRO","ERRO")))) -> CDHU | C43: 11.16.040 | D43: 3.6 | E43: =IF($A43=1,VLOOKUP($C43,'SINAPI JAN26'!$1:$1048576,2,0),IF($A43=2,VLOOKUP($C43,'CDHU 200'!$1:$1048576,2,0),IF($A43=3,VLOOKUP($C43,FDE!$1:$1048576,2,0),"ERRO"))) -> Lançamento e adensamento de concreto ou massa em fundação | F43: =IF($A43=1,VLOOKUP($C43,'SINAPI JAN26'!$1:$1048576,3,0),IF($A43=2,VLOOKUP($C43,'CDHU 200'!$1:$1048576,3,0),IF($A43=3,VLOOKUP($C43,FDE!$1:$1048576,3,0)))) -> M3 | G43: =G42 -> 6.98 | H43: =IF($A43=1,VLOOKUP($C43,'SINAPI JAN26'!$1:$1048576,4,0),IF($A43=2,VLOOKUP($C43,'CDHU 200'!$1:$1048576,6,0),IF($A43=3,VLOOKUP($C43,FDE!$1:$1048576,4,0)))) -> 191.54 | I43: =(H43*$H$3)+H43 -> 232.28056 | J43: =I43*G43 -> 1621.3183
A44: 2 | B44: =IF(A44=1,"SINAPI",IF(A44=2,"CDHU",IF(A44=3,"FDE",IF(A44=4,"SICRO","ERRO")))) -> CDHU | C44: 10.01.040 | D44: 3.7 | E44: =IF($A44=1,VLOOKUP($C44,'SINAPI JAN26'!$1:$1048576,2,0),IF($A44=2,VLOOKUP($C44,'CDHU 200'!$1:$1048576,2,0),IF($A44=3,VLOOKUP($C44,FDE!$1:$1048576,2,0),"ERRO"))) -> Armadura em barra de aço CA-50 (A ou B) fyk = 500 MPa | F44: =IF($A44=1,VLOOKUP($C44,'SINAPI JAN26'!$1:$1048576,3,0),IF($A44=2,VLOOKUP($C44,'CDHU 200'!$1:$1048576,3,0),IF($A44=3,VLOOKUP($C44,FDE!$1:$1048576,3,0)))) -> KG | G44: 218.79 | H44: =IF($A44=1,VLOOKUP($C44,'SINAPI JAN26'!$1:$1048576,4,0),IF($A44=2,VLOOKUP($C44,'CDHU 200'!$1:$1048576,6,0),IF($A44=3,VLOOKUP($C44,FDE!$1:$1048576,4,0)))) -> 10.14 | I44: =(H44*$H$3)+H44 -> 12.296778 | J44: =I44*G44 -> 2690.4121
A45: 2 | B45: =IF(A45=1,"SINAPI",IF(A45=2,"CDHU",IF(A45=3,"FDE",IF(A45=4,"SICRO","ERRO")))) -> CDHU | C45: 10.01.060 | D45: 3.8 | E45: =IF($A45=1,VLOOKUP($C45,'SINAPI JAN26'!$1:$1048576,2,0),IF($A45=2,VLOOKUP($C45,'CDHU 200'!$1:$1048576,2,0),IF($A45=3,VLOOKUP($C45,FDE!$1:$1048576,2,0),"ERRO"))) -> Armadura em barra de aço CA-60 (A ou B) fyk = 600 MPa | F45: =IF($A45=1,VLOOKUP($C45,'SINAPI JAN26'!$1:$1048576,3,0),IF($A45=2,VLOOKUP($C45,'CDHU 200'!$1:$1048576,3,0),IF($A45=3,VLOOKUP($C45,FDE!$1:$1048576,3,0)))) -> KG | G45: 55.38 | H45: =IF($A45=1,VLOOKUP($C45,'SINAPI JAN26'!$1:$1048576,4,0),IF($A45=2,VLOOKUP($C45,'CDHU 200'!$1:$1048576,6,0),IF($A45=3,VLOOKUP($C45,FDE!$1:$1048576,4,0)))) -> 10.47 | I45: =(H45*$H$3)+H45 -> 12.696969 | J45: =I45*G45 -> 703.15814
A46: 2 | B46: =IF(A46=1,"SINAPI",IF(A46=2,"CDHU",IF(A46=3,"FDE",IF(A46=4,"SICRO","ERRO")))) -> CDHU | C46: 14.01.020 | D46: 3.9 | E46: =IF($A46=1,VLOOKUP($C46,'SINAPI JAN26'!$1:$1048576,2,0),IF($A46=2,VLOOKUP($C46,'CDHU 200'!$1:$1048576,2,0),IF($A46=3,VLOOKUP($C46,FDE!$1:$1048576,2,0),"ERRO"))) -> Alvenaria de embasamento em tijolo maciço comum | F46: =IF($A46=1,VLOOKUP($C46,'SINAPI JAN26'!$1:$1048576,3,0),IF($A46=2,VLOOKUP($C46,'CDHU 200'!$1:$1048576,3,0),IF($A46=3,VLOOKUP($C46,FDE!$1:$1048576,3,0)))) -> M3 | G46: 4.31 | H46: =IF($A46=1,VLOOKUP($C46,'SINAPI JAN26'!$1:$1048576,4,0),IF($A46=2,VLOOKUP($C46,'CDHU 200'!$1:$1048576,6,0),IF($A46=3,VLOOKUP($C46,FDE!$1:$1048576,4,0)))) -> 1104.59 | I46: =(H46*$H$3)+H46 -> 1339.5363 | J46: =I46*G46 -> 5773.4014
A47: 2 | B47: =IF(A47=1,"SINAPI",IF(A47=2,"CDHU",IF(A47=3,"FDE",IF(A47=4,"SICRO","ERRO")))) -> CDHU | C47: 17.02.040 | D47: 3.10 | E47: =IF($A47=1,VLOOKUP($C47,'SINAPI JAN26'!$1:$1048576,2,0),IF($A47=2,VLOOKUP($C47,'CDHU 200'!$1:$1048576,2,0),IF($A47=3,VLOOKUP($C47,FDE!$1:$1048576,2,0),"ERRO"))) -> Chapisco com adesivo de alto desempenho | F47: =IF($A47=1,VLOOKUP($C47,'SINAPI JAN26'!$1:$1048576,3,0),IF($A47=2,VLOOKUP($C47,'CDHU 200'!$1:$1048576,3,0),IF($A47=3,VLOOKUP($C47,FDE!$1:$1048576,3,0)))) -> M2 | G47: 0.9 | H47: =IF($A47=1,VLOOKUP($C47,'SINAPI JAN26'!$1:$1048576,4,0),IF($A47=2,VLOOKUP($C47,'CDHU 200'!$1:$1048576,6,0),IF($A47=3,VLOOKUP($C47,FDE!$1:$1048576,4,0)))) -> 12.69 | I47: =(H47*$H$3)+H47 -> 15.389163 | J47: =I47*G47 -> 13.850247
A48: 2 | B48: =IF(A48=1,"SINAPI",IF(A48=2,"CDHU",IF(A48=3,"FDE",IF(A48=4,"SICRO","ERRO")))) -> CDHU | C48: 32.17.010 | D48: 3.11 | E48: =IF($A48=1,VLOOKUP($C48,'SINAPI JAN26'!$1:$1048576,2,0),IF($A48=2,VLOOKUP($C48,'CDHU 200'!$1:$1048576,2,0),IF($A48=3,VLOOKUP($C48,FDE!$1:$1048576,2,0),"ERRO"))) -> Impermeabilização em argamassa impermeável com aditivo hidrófugo | F48: =IF($A48=1,VLOOKUP($C48,'SINAPI JAN26'!$1:$1048576,3,0),IF($A48=2,VLOOKUP($C48,'CDHU 200'!$1:$1048576,3,0),IF($A48=3,VLOOKUP($C48,FDE!$1:$1048576,3,0)))) -> M3 | G48: 0.68 | H48: =IF($A48=1,VLOOKUP($C48,'SINAPI JAN26'!$1:$1048576,4,0),IF($A48=2,VLOOKUP($C48,'CDHU 200'!$1:$1048576,6,0),IF($A48=3,VLOOKUP($C48,FDE!$1:$1048576,4,0)))) -> 877.46 | I48: =(H48*$H$3)+H48 -> 1064.0957 | J48: =I48*G48 -> 723.5851
...

Sheet Cronograma GERAL
B1: CRONOGRAMA FÍSICO FINANCEIRO EM BRANCO
B2: Local da Obra: | C2: ='[1]Orçamento GERAL'!D2 -> Rua das Bem Aventuranças nº 255 - Jardim Vista Alegre
A7: Item | B7: Descrição | C7: Valor | D7: SEMANA | F7: 1 | G7: 2 | H7: 3 | I7: 4 | J7: 5 | K7: 6 | L7: 7 | M7: 8 | N7: 9 | O7: 10 | P7: 11 | Q7: 12 | R7: 13 | S7: 14 | T7: 15 | U7: 16 | V7: 17 | W7: 18 | X7: 19 | Y7: 20 | Z7: 21 | AA7: 22 | AB7: 23 | AC7: 24 | AD7: 25 | AE7: 26 | AF7: 27 | AG7: 28 | AH7: 29 | AI7: 30 | AJ7: 31 | AK7: 32 | AL7: 33 | AM7: 34 | AN7: 35 | AO7: 36 | AP7: 37 | AQ7: 38 | AR7: 39 | AS7: 40
D8: INICIO | E8: FINAL | F8: 1º mês | J8: 2º mês | N8: 3º mês | R8: 4º mês | V8: 5º mês | Z8: 6º mês | AD8: 7º mês | AH8: 8º mês | AL8: 9º mês | AP8: 10º mês
A9: ='[1]Orçamento GERAL'!D8 -> 1 | B9: ='[1]Orçamento GERAL'!E8 -> SERVIÇOS PRELIMINARES | D9: 1 | E9: 36 | F9: =SUM(F11:I11) -> 0 | J9: =SUM(J11:M11) -> 0 | N9: =SUM(N11:Q11) -> 0 | R9: =SUM(R11:U11) -> 0 | V9: =SUM(V11:Y11) -> 0 | Z9: =SUM(Z11:AC11) -> 0 | AD9: =SUM(Z11:AC11) -> 0 | AH9: =SUM(Z11:AC11) -> 0 | AL9: =SUM(Z11:AC11) -> 0
F10: =IF($D9<=F$7,1,0)+IF($D9>F$7,-1,0)+IF($E9>=F$7,1,0)+IF($D9<=F$7,-1,0) -> 1 | G10: =IF($D9<=G$7,1,0)+IF($D9>G$7,-1,0)+IF($E9>=G$7,1,0)+IF($D9<=G$7,-1,0) -> 1 | H10: =IF($D9<=H$7,1,0)+IF($D9>H$7,-1,0)+IF($E9>=H$7,1,0)+IF($D9<=H$7,-1,0) -> 1 | I10: =IF($D9<=I$7,1,0)+IF($D9>I$7,-1,0)+IF($E9>=I$7,1,0)+IF($D9<=I$7,-1,0) -> 1 | J10: =IF($D9<=J$7,1,0)+IF($D9>J$7,-1,0)+IF($E9>=J$7,1,0)+IF($D9<=J$7,-1,0) -> 1 | K10: =IF($D9<=K$7,1,0)+IF($D9>K$7,-1,0)+IF($E9>=K$7,1,0)+IF($D9<=K$7,-1,0) -> 1 | L10: =IF($D9<=L$7,1,0)+IF($D9>L$7,-1,0)+IF($E9>=L$7,1,0)+IF($D9<=L$7,-1,0) -> 1 | M10: =IF($D9<=M$7,1,0)+IF($D9>M$7,-1,0)+IF($E9>=M$7,1,0)+IF($D9<=M$7,-1,0) -> 1 | ... AO10: =IF($D9<=AO$7,1,0)+IF($D9>AO$7,-1,0)+IF($E9>=AO$7,1,0)+IF($D9<=AO$7,-1,0) -> 1
F11: =IF(F10>0,($C9/COUNTIF($F10:$AS10,">0")),0) -> 0 | G11: =IF(G10>0,($C9/COUNTIF($F10:$AS10,">0")),0) -> 0 | H11: =IF(H10>0,($C9/COUNTIF($F10:$AS10,">0")),0) -> 0 | I11: =IF(I10>0,($C9/COUNTIF($F10:$AS10,">0")),0) -> 0 | J11: =IF(J10>0,($C9/COUNTIF($F10:$AS10,">0")),0) -> 0 | K11: =IF(K10>0,($C9/COUNTIF($F10:$AS10,">0")),0) -> 0 | L11: =IF(L10>0,($C9/COUNTIF($F10:$AS10,">0")),0) -> 0 | M11: =IF(M10>0,($C9/COUNTIF($F10:$AS10,">0")),0) -> 0 | ... AO11: =IF(AO10>0,($C9/COUNTIF($F10:$AS10,">0")),0) -> 0
A12: ,
A13: ='[1]Orçamento GERAL'!D22 -> 2 | B13: ='[1]Orçamento GERAL'!E22 -> DEMOLIÇÕES E RETIRADAS | D13: 1 | E13: 20 | F13: =SUM(F15:I15) -> 0 | J13: =SUM(J15:M15) -> 0 | N13: =SUM(N15:Q15) -> 0 | R13: =SUM(R15:U15) -> 0 | V13: =SUM(V15:Y15) -> 0 | Z13: =SUM(Z15:AC15) -> 0 | AD13: =SUM(AD15:AG15) -> 0 | AH13: =SUM(AH15:AK15) -> 0 | AL13: =SUM(AL15:AO15) -> 0
F14: =IF($D13<=F$7,1,0)+IF($D13>F$7,-1,0)+IF($E13>=F$7,1,0)+IF($D13<=F$7,-1,0) -> 1 | G14: 1 | H14: =IF($D13<=H$7,1,0)+IF($D13>H$7,-1,0)+IF($E13>=H$7,1,0)+IF($D13<=H$7,-1,0) -> 1 | I14: =IF($D13<=I$7,1,0)+IF($D13>I$7,-1,0)+IF($E13>=I$7,1,0)+IF($D13<=I$7,-1,0) -> 1 | J14: 0 | K14: 0 | L14: 0 | M14: 0 | N14: 0 | O14: 0 | P14: 0 | Q14: 0 | R14: 0 | S14: 0 | T14: 0 | U14: 0 | V14: =IF($D13<=V$7,1,0)+IF($D13>V$7,-1,0)+IF($E13>=V$7,1,0)+IF($D13<=V$7,-1,0) -> 1 | W14: =IF($D13<=W$7,1,0)+IF($D13>W$7,-1,0)+IF($E13>=W$7,1,0)+IF($D13<=W$7,-1,0) -> 1 | X14: =IF($D13<=X$7,1,0)+IF($D13>X$7,-1,0)+IF($E13>=X$7,1,0)+IF($D13<=X$7,-1,0) -> 1 | Y14: =IF($D13<=Y$7,1,0)+IF($D13>Y$7,-1,0)+IF($E13>=Y$7,1,0)+IF($D13<=Y$7,-1,0) -> 1 | Z14: =IF($D13<=Z$7,1,0)+IF($D13>Z$7,-1,0)+IF($E13>=Z$7,1,0)+IF($D13<=Z$7,-1,0) -> 0 | AA14: =IF($D13<=AA$7,1,0)+IF($D13>AA$7,-1,0)+IF($E13>=AA$7,1,0)+IF($D13<=AA$7,-1,0) -> 0 | AB14: =IF($D13<=AB$7,1,0)+IF($D13>AB$7,-1,0)+IF($E13>=AB$7,1,0)+IF($D13<=AB$7,-1,0) -> 0 | AC14: =IF($D13<=AC$7,1,0)+IF($D13>AC$7,-1,0)+IF($E13>=AC$7,1,0)+IF($D13<=AC$7,-1,0) -> 0 | ... AO14: =IF($D13<=AO$7,1,0)+IF($D13>AO$7,-1,0)+IF($E13>=AO$7,1,0)+IF($D13<=AO$7,-1,0) -> 0
F15: =IF(F14>0,($C13/COUNTIF($F14:$AS14,">0")),0) -> 0 | G15: =IF(G14>0,($C13/COUNTIF($F14:$AS14,">0")),0) -> 0 | H15: =IF(H14>0,($C13/COUNTIF($F14:$AS14,">0")),0) -> 0 | I15: =IF(I14>0,($C13/COUNTIF($F14:$AS14,">0")),0) -> 0 | J15: =IF(J14>0,($C13/COUNTIF($F14:$AS14,">0")),0) -> 0 | K15: =IF(K14>0,($C13/COUNTIF($F14:$AS14,">0")),0) -> 0 | L15: =IF(L14>0,($C13/COUNTIF($F14:$AS14,">0")),0) -> 0 | M15: =IF(M14>0,($C13/COUNTIF($F14:$AS14,">0")),0) -> 0 | ... AO15: =IF(AO14>0,($C13/COUNTIF($F14:$AS14,">0")),0) -> 0
A16: ,
A17: ='[1]Orçamento GERAL'!D46 -> 3 | B17: ='[1]Orçamento GERAL'!E46 -> INFRAESTRUTURA | D17: 5 | E17: 20 | F17: =SUM(F19:I19) -> 0 | J17: =SUM(J19:M19) -> 0 | N17: =SUM(N19:Q19) -> 0 | R17: =SUM(R19:U19) -> 0 | V17: =SUM(V19:Y19) -> 0 | Z17: =SUM(Z19:AC19) -> 0 | AD17: =SUM(AD19:AG19) -> 0 | AH17: =SUM(AH19:AK19) -> 0 | AL17: =SUM(AL19:AO19) -> 0
F18: =IF($D17<=F$7,1,0)+IF($D17>F$7,-1,0)+IF($E17>=F$7,1,0)+IF($D17<=F$7,-1,0) -> 0 | G18: =IF($D17<=G$7,1,0)+IF($D17>G$7,-1,0)+IF($E17>=G$7,1,0)+IF($D17<=G$7,-1,0) -> 0 | H18: =IF($D17<=H$7,1,0)+IF($D17>H$7,-1,0)+IF($E17>=H$7,1,0)+IF($D17<=H$7,-1,0) -> 0 | I18: =IF($D17<=I$7,1,0)+IF($D17>I$7,-1,0)+IF($E17>=I$7,1,0)+IF($D17<=I$7,-1,0) -> 0 | J18: =IF($D17<=J$7,1,0)+IF($D17>J$7,-1,0)+IF($E17>=J$7,1,0)+IF($D17<=J$7,-1,0) -> 1 | K18: =IF($D17<=K$7,1,0)+IF($D17>K$7,-1,0)+IF($E17>=K$7,1,0)+IF($D17<=K$7,-1,0) -> 1 | L18: =IF($D17<=L$7,1,0)+IF($D17>L$7,-1,0)+IF($E17>=L$7,1,0)+IF($D17<=L$7,-1,0) -> 1 | M18: =IF($D17<=M$7,1,0)+IF($D17>M$7,-1,0)+IF($E17>=M$7,1,0)+IF($D17<=M$7,-1,0) -> 1 | N18: 0 | O18: 0 | P18: 0 | Q18: 0 | R18: 0 | S18: 0 | T18: 0 | U18: 0 | V18: =IF($D17<=V$7,1,0)+IF($D17>V$7,-1,0)+IF($E17>=V$7,1,0)+IF($D17<=V$7,-1,0) -> 1 | W18: =IF($D17<=W$7,1,0)+IF($D17>W$7,-1,0)+IF($E17>=W$7,1,0)+IF($D17<=W$7,-1,0) -> 1 | X18: =IF($D17<=X$7,1,0)+IF($D17>X$7,-1,0)+IF($E17>=X$7,1,0)+IF($D17<=X$7,-1,0) -> 1 | Y18: =IF($D17<=Y$7,1,0)+IF($D17>Y$7,-1,0)+IF($E17>=Y$7,1,0)+IF($D17<=Y$7,-1,0) -> 1 | Z18: 0 | AA18: 0 | AB18: 0 | AC18: 0 | AD18: =IF($D17<=AD$7,1,0)+IF($D17>AD$7,-1,0)+IF($E17>=AD$7,1,0)+IF($D17<=AD$7,-1,0) -> 0 | AE18: =IF($D17<=AE$7,1,0)+IF($D17>AE$7,-1,0)+IF($E17>=AE$7,1,0)+IF($D17<=AE$7,-1,0) -> 0 | AF18: =IF($D17<=AF$7,1,0)+IF($D17>AF$7,-1,0)+IF($E17>=AF$7,1,0)+IF($D17<=AF$7,-1,0) -> 0 | AG18: =IF($D17<=AG$7,1,0)+IF($D17>AG$7,-1,0)+IF($E17>=AG$7,1,0)+IF($D17<=AG$7,-1,0) -> 0 | AH18: =IF($D17<=AH$7,1,0)+IF($D17>AH$7,-1,0)+IF($E17>=AH$7,1,0)+IF($D17<=AH$7,-1,0) -> 0 | AI18: =IF($D17<=AI$7,1,0)+IF($D17>AI$7,-1,0)+IF($E17>=AI$7,1,0)+IF($D17<=AI$7,-1,0) -> 0 | AJ18: =IF($D17<=AJ$7,1,0)+IF($D17>AJ$7,-1,0)+IF($E17>=AJ$7,1,0)+IF($D17<=AJ$7,-1,0) -> 0 | AK18: =IF($D17<=AK$7,1,0)+IF($D17>AK$7,-1,0)+IF($E17>=AK$7,1,0)+IF($D17<=AK$7,-1,0) -> 0 | ... AO18: =IF($D17<=AO$7,1,0)+IF($D17>AO$7,-1,0)+IF($E17>=AO$7,1,0)+IF($D17<=AO$7,-1,0) -> 0
F19: =IF(F18>0,($C17/COUNTIF($F18:$AS18,">0")),0) -> 0 | G19: =IF(G18>0,($C17/COUNTIF($F18:$AS18,">0")),0) -> 0 | H19: =IF(H18>0,($C17/COUNTIF($F18:$AS18,">0")),0) -> 0 | I19: =IF(I18>0,($C17/COUNTIF($F18:$AS18,">0")),0) -> 0 | J19: =IF(J18>0,($C17/COUNTIF($F18:$AS18,">0")),0) -> 0 | K19: =IF(K18>0,($C17/COUNTIF($F18:$AS18,">0")),0) -> 0 | L19: =IF(L18>0,($C17/COUNTIF($F18:$AS18,">0")),0) -> 0 | M19: =IF(M18>0,($C17/COUNTIF($F18:$AS18,">0")),0) -> 0 | ... AO19: =IF(AO18>0,($C17/COUNTIF($F18:$AS18,">0")),0) -> 0
A20: ,
A21: ='[1]Orçamento GERAL'!D67 -> 4 | B21: ='[1]Orçamento GERAL'!E67 -> SUPERESTRUTURA | D21: 9 | E21: 24 | F21: =SUM(F23:I23) -> 0 | J21: =SUM(J23:M23) -> 0 | N21: =SUM(N23:Q23) -> 0 | R21: =SUM(R23:U23) -> 0 | V21: =SUM(V23:Y23) -> 0 | Z21: =SUM(Z23:AC23) -> 0 | AD21: =SUM(AD23:AG23) -> 0 | AH21: =SUM(AH23:AK23) -> 0 | AL21: =SUM(AL23:AO23) -> 0
F22: =IF($D21<=F$7,1,0)+IF($D21>F$7,-1,0)+IF($E21>=F$7,1,0)+IF($D21<=F$7,-1,0) -> 0 | G22: =IF($D21<=G$7,1,0)+IF($D21>G$7,-1,0)+IF($E21>=G$7,1,0)+IF($D21<=G$7,-1,0) -> 0 | H22: =IF($D21<=H$7,1,0)+IF($D21>H$7,-1,0)+IF($E21>=H$7,1,0)+IF($D21<=H$7,-1,0) -> 0 | I22: =IF($D21<=I$7,1,0)+IF($D21>I$7,-1,0)+IF($E21>=I$7,1,0)+IF($D21<=I$7,-1,0) -> 0 | J22: =IF($D21<=J$7,1,0)+IF($D21>J$7,-1,0)+IF($E21>=J$7,1,0)+IF($D21<=J$7,-1,0) -> 0 | K22: =IF($D21<=K$7,1,0)+IF($D21>K$7,-1,0)+IF($E21>=K$7,1,0)+IF($D21<=K$7,-1,0) -> 0 | L22: =IF($D21<=L$7,1,0)+IF($D21>L$7,-1,0)+IF($E21>=L$7,1,0)+IF($D21<=L$7,-1,0) -> 0 | M22: =IF($D21<=M$7,1,0)+IF($D21>M$7,-1,0)+IF($E21>=M$7,1,0)+IF($D21<=M$7,-1,0) -> 0 | ... Q22: =IF($D21<=Q$7,1,0)+IF($D21>Q$7,-1,0)+IF($E21>=Q$7,1,0)+IF($D21<=Q$7,-1,0) -> 1 | R22: 0 | S22: 0 | T22: 0 | U22: 0 | V22: 0 | W22: 0 | X22: 0 | Y22: 0 | Z22: 1 | AA22: 1 | AB22: 1 | AC22: 1 | AD22: =IF($D21<=AD$7,1,0)+IF($D21>AD$7,-1,0)+IF($E21>=AD$7,1,0)+IF($D21<=AD$7,-1,0) -> 0 | AE22: =IF($D21<=AE$7,1,0)+IF($D21>AE$7,-1,0)+IF($E21>=AE$7,1,0)+IF($D21<=AE$7,-1,0) -> 0 | AF22: =IF($D21<=AF$7,1,0)+IF($D21>AF$7,-1,0)+IF($E21>=AF$7,1,0)+IF($D21<=AF$7,-1,0) -> 0 | AG22: =IF($D21<=AG$7,1,0)+IF($D21>AG$7,-1,0)+IF($E21>=AG$7,1,0)+IF($D21<=AG$7,-1,0) -> 0 | AH22: =IF($D21<=AH$7,1,0)+IF($D21>AH$7,-1,0)+IF($E21>=AH$7,1,0)+IF($D21<=AH$7,-1,0) -> 0 | AI22: =IF($D21<=AI$7,1,0)+IF($D21>AI$7,-1,0)+IF($E21>=AI$7,1,0)+IF($D21<=AI$7,-1,0) -> 0 | AJ22: =IF($D21<=AJ$7,1,0)+IF($D21>AJ$7,-1,0)+IF($E21>=AJ$7,1,0)+IF($D21<=AJ$7,-1,0) -> 0 | AK22: =IF($D21<=AK$7,1,0)+IF($D21>AK$7,-1,0)+IF($E21>=AK$7,1,0)+IF($D21<=AK$7,-1,0) -> 0 | ... AO22: =IF($D21<=AO$7,1,0)+IF($D21>AO$7,-1,0)+IF($E21>=AO$7,1,0)+IF($D21<=AO$7,-1,0) -> 0
F23: =IF(F22>0,($C21/COUNTIF($F22:$AS22,">0")),0) -> 0 | G23: =IF(G22>0,($C21/COUNTIF($F22:$AS22,">0")),0) -> 0 | H23: =IF(H22>0,($C21/COUNTIF($F22:$AS22,">0")),0) -> 0 | I23: =IF(I22>0,($C21/COUNTIF($F22:$AS22,">0")),0) -> 0 | J23: =IF(J22>0,($C21/COUNTIF($F22:$AS22,">0")),0) -> 0 | K23: =IF(K22>0,($C21/COUNTIF($F22:$AS22,">0")),0) -> 0 | L23: =IF(L22>0,($C21/COUNTIF($F22:$AS22,">0")),0) -> 0 | M23: =IF(M22>0,($C21/COUNTIF($F22:$AS22,">0")),0) -> 0 | ... AO23: =IF(AO22>0,($C21/COUNTIF($F22:$AS22,">0")),0) -> 0
A24: ,
