Workbook

Sheet PO
B1: MUNICÍPIO DE SANTA BÁRBARA D'OESTE - SP
B2: SECRETARIA MUNICIPAL DE OBRAS E SERVIÇOS
A4: PLANILHA ORÇAMENTÁRIA PROPOSTA
A6: Objeto | C6: Recuperação de pavimentação asfáltica em vias públicas | I6: Data base | K6: 46031
A7: Local | C7: Rua Humberto Materazzo e entorno | I7: BDI | K7: 0.196
A8: Empresa licitante | I8: Desconto ofertado
A9: IDENTIFICAR A EMPRESA LICITANTE | I9: PREENCHER O DESCONTO OFERTADO
A11: ITEM | B11: FONTE | C11: CÓDIGO | D11: DESCRIÇÃO DO SERVIÇO | E11: UNID. | F11: QUANT. | G11: VALOR UNITÁRIO LICITADO | I11: VALOR UNITÁRIO OFERTADO | K11: VALOR TOTAL
G12: S/ BDI | H12: C/ BDI | I12: S/ BDI | J12: C/ BDI
A13: 1 | D13: SERVIÇOS PRELIMINARES | K13: =SUBTOTAL(9,K14:K15) -> 0
A14: 1.1 | D14: IDENTIFICAÇÃO DE OBRA | K14: =SUBTOTAL(9,K15) -> 0
A15: 1.1.1 | B15: CDHU | C15: 02.08.020 | D15: PLACA DE IDENTIFICAÇÃO PARA OBRA | E15: M2 | F15: 6 | G15: 904.29 | H15: 1081.53 | I15: =IF($K$8="",0,ROUND(G15*(1-ROUND($K$8,4)),2)) -> 0 | J15: =ROUND(I15*(1+$K$7),2) -> 0 | K15: =ROUND(ROUND(F15,2)*ROUND(J15,2),2) -> 0
A16: 2 | D16: REPARO DE BOCAS DE LOBO | K16: =SUBTOTAL(9,K17:K18) -> 0
A17: 2.1 | D17: EXECUÇÃO DE GUIA CHAPEU NOVA EM BOCA DE LOBO EXISTENTE | K17: =SUBTOTAL(9,K18) -> 0
A18: 2.1.1 | B18: SIURB | C18: 6023004 | D18: SUBSTITUIÇÃO DE GUIA CHAPÉU PARA BOCA DE LOBO | E18: UN | F18: 2 | G18: 95.3 | H18: 113.98 | I18: =IF($K$8="",0,ROUND(G18*(1-ROUND($K$8,4)),2)) -> 0 | J18: =ROUND(I18*(1+$K$7),2) -> 0 | K18: =ROUND(ROUND(F18,2)*ROUND(J18,2),2) -> 0
A19: 3 | D19: EXECUÇÃO DE GUIAS E SARJETAS | K19: =SUBTOTAL(9,K20:K31) -> 0
A20: 3.1 | D20: DEMOLIÇÃO DE GUIAS E SARJETAS DANIFICADAS | K20: =SUBTOTAL(9,K21:K22) -> 0
A21: 3.1.1 | B21: CDHU | C21: 03.01.270 | D21: DEMOLIÇÃO MECANIZADA DE SARJETA OU SARJETÃO, INCLUSIVE FRAGMENTAÇÃO E ACOMODAÇÃO DO MATERIAL | E21: M3 | F21: 2.78 | G21: 316.79 | H21: 378.88 | I21: =IF($K$8="",0,ROUND(G21*(1-ROUND($K$8,4)),2)) -> 0 | J21: =ROUND(I21*(1+$K$7),2) -> 0 | K21: =ROUND(ROUND(F21,2)*ROUND(J21,2),2) -> 0
A22: 3.1.2 | B22: CDHU | C22: 05.10.023 | D22: TRANSPORTE DE SOLO DE 1ª E 2ª CATEGORIA POR CAMINHÃO PARA DISTÂNCIAS SUPERIORES AO 5° KM ATÉ O 10° KM | E22: M3 | F22: 3.61 | G22: 20.48 | H22: 24.49 | I22: =IF($K$8="",0,ROUND(G22*(1-ROUND($K$8,4)),2)) -> 0 | J22: =ROUND(I22*(1+$K$7),2) -> 0 | K22: =ROUND(ROUND(F22,2)*ROUND(J22,2),2) -> 0
A23: 3.2 | D23: LOCAÇÃO DA VIA PARA EXECUÇÃO DAS GUIAS E SARJETAS NOVAS | K23: =SUBTOTAL(9,K24) -> 0
A24: 3.2.1 | B24: CDHU | C24: 02.10.060 | D24: LOCAÇÃO DE VIAS, CALÇADAS, TANQUES E LAGOAS | E24: M2 | F24: 1019.44 | G24: 1.89 | H24: 2.26 | I24: =IF($K$8="",0,ROUND(G24*(1-ROUND($K$8,4)),2)) -> 0 | J24: =ROUND(I24*(1+$K$7),2) -> 0 | K24: =ROUND(ROUND(F24,2)*ROUND(J24,2),2) -> 0
A25: 3.3 | D25: EXECUÇÃO DE GUIAS E SARJETAS NOVAS | K25: =SUBTOTAL(9,K26:K31) -> 0
A26: 3.3.1 | B26: CDHU | C26: 06.02.020 | D26: ESCAVAÇÃO MANUAL EM SOLO DE 1ª E 2ª CATEGORIA EM VALA OU CAVA ATÉ 1,5 M | E26: M3 | F26: 5.44 | G26: 68.13 | H26: 81.48 | I26: =IF($K$8="",0,ROUND(G26*(1-ROUND($K$8,4)),2)) -> 0 | J26: =ROUND(I26*(1+$K$7),2) -> 0 | K26: =ROUND(ROUND(F26,2)*ROUND(J26,2),2) -> 0
A27: 3.3.2 | B27: CDHU | C27: 05.10.023 | D27: TRANSPORTE DE SOLO DE 1ª E 2ª CATEGORIA POR CAMINHÃO PARA DISTÂNCIAS SUPERIORES AO 5° KM ATÉ O 10° KM | E27: M3 | F27: 7.07 | G27: 20.48 | H27: 24.49 | I27: =IF($K$8="",0,ROUND(G27*(1-ROUND($K$8,4)),2)) -> 0 | J27: =ROUND(I27*(1+$K$7),2) -> 0 | K27: =ROUND(ROUND(F27,2)*ROUND(J27,2),2) -> 0
A28: 3.3.3 | B28: CDHU | C28: 11.18.040 | D28: LASTRO DE PEDRA BRITADA | E28: M3 | F28: 1.18 | G28: 221.55 | H28: 264.97 | I28: =IF($K$8="",0,ROUND(G28*(1-ROUND($K$8,4)),2)) -> 0 | J28: =ROUND(I28*(1+$K$7),2) -> 0 | K28: =ROUND(ROUND(F28,2)*ROUND(J28,2),2) -> 0
A29: 3.3.4 | B29: CDHU | C29: 54.06.020 | D29: GUIA PRÉ-MOLDADA CURVA TIPO PMSP 100 - FCK 25 MPA | E29: M | F29: 29.19 | G29: 64.37 | H29: 76.99 | I29: =IF($K$8="",0,ROUND(G29*(1-ROUND($K$8,4)),2)) -> 0 | J29: =ROUND(I29*(1+$K$7),2) -> 0 | K29: =ROUND(ROUND(F29,2)*ROUND(J29,2),2) -> 0
A30: 3.3.5 | B30: CDHU | C30: 54.06.040 | D30: GUIA PRÉ-MOLDADA RETA TIPO PMSP 100 - FCK 25 MPA | E30: M | F30: 128.6 | G30: 61.15 | H30: 73.14 | I30: =IF($K$8="",0,ROUND(G30*(1-ROUND($K$8,4)),2)) -> 0 | J30: =ROUND(I30*(1+$K$7),2) -> 0 | K30: =ROUND(ROUND(F30,2)*ROUND(J30,2),2) -> 0
A31: 3.3.6 | B31: CDHU | C31: 54.06.170 | D31: SARJETA OU SARJETÃO MOLDADO NO LOCAL, TIPO PMSP EM CONCRETO COM FCK 25 MPA | E31: M3 | F31: 4.02 | G31: 901.59 | H31: 1078.3 | I31: =IF($K$8="",0,ROUND(G31*(1-ROUND($K$8,4)),2)) -> 0 | J31: =ROUND(I31*(1+$K$7),2) -> 0 | K31: =ROUND(ROUND(F31,2)*ROUND(J31,2),2) -> 0
A32: 4 | D32: RECONSTRUÇÃO DE SARJETÕES | K32: =SUBTOTAL(9,K33:K40) -> 0
A33: 4.1 | D33: DEMOLIÇÃO DE SARJETÕES EXISTENTES E ABERTURA DE VALAS | K33: =SUBTOTAL(9,K34:K37) -> 0
A34: 4.1.1 | B34: CDHU | C34: 54.20.160 | D34: CORTE PARA JUNTA DE DILATAÇÃO ATRAVÉS DE CORTADORA A GASOLINA, COM SERRA DE DISCO DIAMANTADO SEGMENTADO PARA PAVIMENTO DE CONCRETO E ASFALTO | E34: M | F34: 102.33 | G34: 0.54 | H34: 0.65 | I34: =IF($K$8="",0,ROUND(G34*(1-ROUND($K$8,4)),2)) -> 0 | J34: =ROUND(I34*(1+$K$7),2) -> 0 | K34: =ROUND(ROUND(F34,2)*ROUND(J34,2),2) -> 0
A35: 4.1.2 | B35: CDHU | C35: 03.01.270 | D35: DEMOLIÇÃO MECANIZADA DE SARJETA OU SARJETÃO, INCLUSIVE FRAGMENTAÇÃO E ACOMODAÇÃO DO MATERIAL | E35: M3 | F35: 10.83 | G35: 316.79 | H35: 378.88 | I35: =IF($K$8="",0,ROUND(G35*(1-ROUND($K$8,4)),2)) -> 0 | J35: =ROUND(I35*(1+$K$7),2) -> 0 | K35: =ROUND(ROUND(F35,2)*ROUND(J35,2),2) -> 0
A36: 4.1.3 | B36: CDHU | C36: 06.02.020 | D36: ESCAVAÇÃO MANUAL EM SOLO DE 1ª E 2ª CATEGORIA EM VALA OU CAVA ATÉ 1,5 M | E36: M3 | F36: 1.22 | G36: 68.13 | H36: 81.48 | I36: =IF($K$8="",0,ROUND(G36*(1-ROUND($K$8,4)),2)) -> 0 | J36: =ROUND(I36*(1+$K$7),2) -> 0 | K36: =ROUND(ROUND(F36,2)*ROUND(J36,2),2) -> 0
A37: 4.1.4 | B37: CDHU | C37: 05.10.023 | D37: TRANSPORTE DE SOLO DE 1ª E 2ª CATEGORIA POR CAMINHÃO PARA DISTÂNCIAS SUPERIORES AO 5° KM ATÉ O 10° KM | E37: M3 | F37: 15.67 | G37: 20.48 | H37: 24.49 | I37: =IF($K$8="",0,ROUND(G37*(1-ROUND($K$8,4)),2)) -> 0 | J37: =ROUND(I37*(1+$K$7),2) -> 0 | K37: =ROUND(ROUND(F37,2)*ROUND(J37,2),2) -> 0
A38: 4.2 | D38: EXECUÇÃO DE SARJETÕES NOVOS | K38: =SUBTOTAL(9,K39:K40) -> 0
A39: 4.2.1 | B39: CDHU | C39: 10.02.020 | D39: ARMADURA EM TELA SOLDADA DE AÇO | E39: KG | F39: 168.47 | G39: 10.22 | H39: 12.22 | I39: =IF($K$8="",0,ROUND(G39*(1-ROUND($K$8,4)),2)) -> 0 | J39: =ROUND(I39*(1+$K$7),2) -> 0 | K39: =ROUND(ROUND(F39,2)*ROUND(J39,2),2) -> 0
A40: 4.2.2 | B40: CDHU | C40: 54.06.170 | D40: SARJETA OU SARJETÃO MOLDADO NO LOCAL, TIPO PMSP EM CONCRETO COM FCK 25 MPA | E40: M3 | F40: 10.83 | G40: 901.59 | H40: 1078.3 | I40: =IF($K$8="",0,ROUND(G40*(1-ROUND($K$8,4)),2)) -> 0 | J40: =ROUND(I40*(1+$K$7),2) -> 0 | K40: =ROUND(ROUND(F40,2)*ROUND(J40,2),2) -> 0
A41: 5 | D41: EXECUÇÃO DE RAMPAS DE ACESSIBILIDADE | K41: =SUBTOTAL(9,K42:K53) -> 0
A42: 5.1 | D42: DEMOLIÇÕES, REGULARIZAÇÃO E COMPACTAÇÃO DA BASE | K42: =SUBTOTAL(9,K43:K46) -> 0
A43: 5.1.1 | B43: CDHU | C43: 03.01.020 | D43: DEMOLIÇÃO MANUAL DE CONCRETO SIMPLES | E43: M3 | F43: 0.58 | G43: 249.81 | H43: 298.77 | I43: =IF($K$8="",0,ROUND(G43*(1-ROUND($K$8,4)),2)) -> 0 | J43: =ROUND(I43*(1+$K$7),2) -> 0 | K43: =ROUND(ROUND(F43,2)*ROUND(J43,2),2) -> 0
...

Sheet Cronograma
B1: MUNICÍPIO DE SANTA BÁRBARA D'OESTE - SP
B2: SECRETARIA MUNICIPAL DE OBRAS E SERVIÇOS
A4: CRONOGRAMA FÍSICO-FINANCEIRO
A6: Objeto: | C6: =PO!$C$6 -> Recuperação de pavimentação asfáltica em vias públicas
A7: Local: | C7: =PO!$C$7 -> Rua Humberto Materazzo e entorno
A8: Município: | C8: Santa Bárbara d'Oeste - SP
A9: Data Base: | C9: JAN/2026
A10: Empresa licitante | C10: =PO!C8 -> 0
A12: ITEM | B12: ETAPA/EVENTO | E12: VALOR TOTAL | F12: MÊS
F13: 1 | J13: 2
A14: ITEM | B14: EVENTO | E14: VALOR TOTAL | F14: SEMANA
F15: 1 | G15: 2 | H15: 3 | I15: 4 | J15: 5 | K15: 6 | L15: 7 | M15: 8
A16: 1 | B16: =OFFSET(PO!$A$12,MATCH($A16,OFFSET(PO!$A$12,1,,1000),0),3) -> SERVIÇOS PRELIMINARES | E16: =OFFSET(PO!$A$12,MATCH($A16,OFFSET(PO!$A$12,1,,1000),0),10) -> 0 | F16: 1
F17: =ROUND(SUM(F16:I16)/SUM($F16:$M16),4) -> 1 | J17: =ROUND(SUM(J16:M16)/SUM($F16:$M16),4) -> 0
F18: =$E16 -> 0 | J18: 0
A19: 2 | B19: =OFFSET(PO!$A$12,MATCH($A19,OFFSET(PO!$A$12,1,,1000),0),3) -> REPARO DE BOCAS DE LOBO | E19: =OFFSET(PO!$A$12,MATCH($A19,OFFSET(PO!$A$12,1,,1000),0),10) -> 0 | F19: 1 | G19: 1
F20: =ROUND(SUM(F19:I19)/SUM($F19:$M19),4) -> 1 | J20: =ROUND(SUM(J19:M19)/SUM($F19:$M19),4) -> 0
F21: =$E19 -> 0 | J21: 0
A22: 3 | B22: =OFFSET(PO!$A$12,MATCH($A22,OFFSET(PO!$A$12,1,,1000),0),3) -> EXECUÇÃO DE GUIAS E SARJETAS | E22: =OFFSET(PO!$A$12,MATCH($A22,OFFSET(PO!$A$12,1,,1000),0),10) -> 0 | F22: 1 | G22: 1
F23: =ROUND(SUM(F22:I22)/SUM($F22:$M22),4) -> 1 | J23: =ROUND(SUM(J22:M22)/SUM($F22:$M22),4) -> 0
F24: =$E22 -> 0 | J24: 0
A25: 4 | B25: =OFFSET(PO!$A$12,MATCH($A25,OFFSET(PO!$A$12,1,,1000),0),3) -> RECONSTRUÇÃO DE SARJETÕES | E25: =OFFSET(PO!$A$12,MATCH($A25,OFFSET(PO!$A$12,1,,1000),0),10) -> 0 | F25: 1 | G25: 1
F26: =ROUND(SUM(F25:I25)/SUM($F25:$M25),4) -> 1 | J26: =ROUND(SUM(J25:M25)/SUM($F25:$M25),4) -> 0
F27: =$E25 -> 0 | J27: 0
A28: 5 | B28: =OFFSET(PO!$A$12,MATCH($A28,OFFSET(PO!$A$12,1,,1000),0),3) -> EXECUÇÃO DE RAMPAS DE ACESSIBILIDADE | E28: =OFFSET(PO!$A$12,MATCH($A28,OFFSET(PO!$A$12,1,,1000),0),10) -> 0 | F28: 1 | G28: 1
F29: =ROUND(SUM(F28:I28)/SUM($F28:$M28),4) -> 1 | J29: =ROUND(SUM(J28:M28)/SUM($F28:$M28),4) -> 0
F30: =$E28 -> 0 | J30: 0
A31: 6 | B31: =OFFSET(PO!$A$12,MATCH($A31,OFFSET(PO!$A$12,1,,1000),0),3) -> REPARO DE DEFEITOS NO PAVIMENTO ASFÁLTICO | E31: =OFFSET(PO!$A$12,MATCH($A31,OFFSET(PO!$A$12,1,,1000),0),10) -> 0 | H31: 1 | I31: 1
F32: =ROUND(SUM(F31:I31)/SUM($F31:$M31),4) -> 1 | J32: =ROUND(SUM(J31:M31)/SUM($F31:$M31),4) -> 0
F33: =$E31 -> 0 | J33: 0
A34: 7 | B34: =OFFSET(PO!$A$12,MATCH($A34,OFFSET(PO!$A$12,1,,1000),0),3) -> RECONSTRUÇÃO DE PAVIMENTO ASFÁLTICO COM BINDER | E34: =OFFSET(PO!$A$12,MATCH($A34,OFFSET(PO!$A$12,1,,1000),0),10) -> 0 | I34: 1 | J34: 1 | K34: 1
F35: =ROUND(SUM(F34:I34)/SUM($F34:$M34),4) -> 0.3333 | J35: =ROUND(SUM(J34:M34)/SUM($F34:$M34),4) -> 0.6667
F36: 0 | J36: =$E34 -> 0
A37: 8 | B37: =OFFSET(PO!$A$12,MATCH($A37,OFFSET(PO!$A$12,1,,1000),0),3) -> RECAPEAMENTO ASFÁLTICO SIMPLES | E37: =OFFSET(PO!$A$12,MATCH($A37,OFFSET(PO!$A$12,1,,1000),0),10) -> 0 | I37: 1 | J37: 1 | K37: 1
F38: =ROUND(SUM(F37:I37)/SUM($F37:$M37),4) -> 0.3333 | J38: =ROUND(SUM(J37:M37)/SUM($F37:$M37),4) -> 0.6667
F39: 0 | J39: =$E37 -> 0
A40: 9 | B40: =OFFSET(PO!$A$12,MATCH($A40,OFFSET(PO!$A$12,1,,1000),0),3) -> LIMPEZA E DESOBSTRUÇÃO | E40: =OFFSET(PO!$A$12,MATCH($A40,OFFSET(PO!$A$12,1,,1000),0),10) -> 0 | L40: 1
F41: =ROUND(SUM(F40:I40)/SUM($F40:$M40),4) -> 0 | J41: =ROUND(SUM(J40:M40)/SUM($F40:$M40),4) -> 1
F42: =$E40 -> 0 | J42: 0
A43: 10 | B43: =OFFSET(PO!$A$12,MATCH($A43,OFFSET(PO!$A$12,1,,1000),0),3) -> SINALIZAÇÃO DE TRÂNSITO | E43: =OFFSET(PO!$A$12,MATCH($A43,OFFSET(PO!$A$12,1,,1000),0),10) -> 0 | L43: 1
...
