Workbook

Sheet PO
B1: MUNICÍPIO DE SANTA BÁRBARA D'OESTE - SP
B2: SECRETARIA MUNICIPAL DE OBRAS E SERVIÇOS
A4: PLANILHA ORÇAMENTÁRIA PROPOSTA
A6: Objeto | C6: Recuperação de pavimentação asfáltica em vias públicas | I6: Data base | K6: 46031
A7: Local | C7: Rua Humberto Materazzo e entorno | I7: BDI | K7: 0.196
A8: Empresa licitante | I8: Desconto ofertado
A9: IDENTIFICAR A EMPRESA LICITANTE | I9: PREENCHER O DESCONTO OFERTADO
A11: ITEM | B11: FONTE | C11: CÓDIGO | D11: DESCRIÇÃO DO SERVIÇO | E11: UNID. | F11: QUANT. | G11: VALOR UNITÁRIO LICITADO | I11: VALOR UNITÁRIO OFERTADO | K11: VALOR TOTAL
G12: S/ BDI | H12: C/ BDI | I12: S/ BDI | J12: C/ BDI
A13: 1 | D13: SERVIÇOS PRELIMINARES | K13: =SUBTOTAL(9,K14:K15) -> 0
A14: 1.1 | D14: IDENTIFICAÇÃO DE OBRA | K14: =SUBTOTAL(9,K15) -> 0
A15: 1.1.1 | B15: CDHU | C15: 02.08.020 | D15: PLACA DE IDENTIFICAÇÃO PARA OBRA | E15: M2 | F15: 6 | G15: 904.29 | H15: 1081.53 | I15: =IF($K$8="",0,ROUND(G15*(1-ROUND($K$8,4)),2)) -> 0 | J15: =ROUND(I15*(1+$K$7),2) -> 0 | K15: =ROUND(ROUND(F15,2)*ROUND(J15,2),2) -> 0
A16: 2 | D16: REPARO DE BOCAS DE LOBO | K16: =SUBTOTAL(9,K17:K18) -> 0
A17: 2.1 | D17: EXECUÇÃO DE GUIA CHAPEU NOVA EM BOCA DE LOBO EXISTENTE | K17: =SUBTOTAL(9,K18) -> 0
A18: 2.1.1 | B18: SIURB | C18: 6023004 | D18: SUBSTITUIÇÃO DE GUIA CHAPÉU PARA BOCA DE LOBO | E18: UN | F18: 2 | G18: 95.3 | H18: 113.98 | I18: =IF($K$8="",0,ROUND(G18*(1-ROUND($K$8,4)),2)) -> 0 | J18: =ROUND(I18*(1+$K$7),2) -> 0 | K18: =ROUND(ROUND(F18,2)*ROUND(J18,2),2) -> 0
A19: 3 | D19: EXECUÇÃO DE GUIAS E SARJETAS | K19: =SUBTOTAL(9,K20:K31) -> 0
A20: 3.1 | D20: DEMOLIÇÃO DE GUIAS E SARJETAS DANIFICADAS | K20: =SUBTOTAL(9,K21:K22) -> 0
A21: 3.1.1 | B21: CDHU | C21: 03.01.270 | D21: DEMOLIÇÃO MECANIZADA DE SARJETA OU SARJETÃO, INCLUSIVE FRAGMENTAÇÃO E ACOMODAÇÃO DO MATERIAL | E21: M3 | F21: 2.78 | G21: 316.79 | H21: 378.88 | I21: =IF($K$8="",0,ROUND(G21*(1-ROUND($K$8,4)),2)) -> 0 | J21: =ROUND(I21*(1+$K$7),2) -> 0 | K21: =ROUND(ROUND(F21,2)*ROUND(J21,2),2) -> 0
A22: 3.1.2 | B22: CDHU | C22: 05.10.023 | D22: TRANSPORTE DE SOLO DE 1ª E 2ª CATEGORIA POR CAMINHÃO PARA DISTÂNCIAS SUPERIORES AO 5° KM ATÉ O 10° KM | E22: M3 | F22: 3.61 | G22: 20.48 | H22: 24.49 | I22: =IF($K$8="",0,ROUND(G22*(1-ROUND($K$8,4)),2)) -> 0 | J22: =ROUND(I22*(1+$K$7),2) -> 0 | K22: =ROUND(ROUND(F22,2)*ROUND(J22,2),2) -> 0
A23: 3.2 | D23: LOCAÇÃO DA VIA PARA EXECUÇÃO DAS GUIAS E SARJETAS NOVAS | K23: =SUBTOTAL(9,K24) -> 0
A24: 3.2.1 | B24: CDHU | C24: 02.10.060 | D24: LOCAÇÃO DE VIAS, CALÇADAS, TANQUES E LAGOAS | E24: M2 | F24: 1019.44 | G24: 1.89 | H24: 2.26 | I24: =IF($K$8="",0,ROUND(G24*(1-ROUND($K$8,4)),2)) -> 0 | J24: =ROUND(I24*(1+$K$7),2) -> 0 | K24: =ROUND(ROUND(F24,2)*ROUND(J24,2),2) -> 0
A25: 3.3 | D25: EXECUÇÃO DE GUIAS E SARJETAS NOVAS | K25: =SUBTOTAL(9,K26:K31) -> 0
A26: 3.3.1 | B26: CDHU | C26: 06.02.020 | D26: ESCAVAÇÃO MANUAL EM SOLO DE 1ª E 2ª CATEGORIA EM VALA OU CAVA ATÉ 1,5 M | E26: M3 | F26: 5.44 | G26: 68.13 | H26: 81.48 | I26: =IF($K$8="",0,ROUND(G26*(1-ROUND($K$8,4)),2)) -> 0 | J26: =ROUND(I26*(1+$K$7),2) -> 0 | K26: =ROUND(ROUND(F26,2)*ROUND(J26,2),2) -> 0
A27: 3.3.2 | B27: CDHU | C27: 05.10.023 | D27: TRANSPORTE DE SOLO DE 1ª E 2ª CATEGORIA POR CAMINHÃO PARA DISTÂNCIAS SUPERIORES AO 5° KM ATÉ O 10° KM | E27: M3 | F27: 7.07 | G27: 20.48 | H27: 24.49 | I27: =IF($K$8="",0,ROUND(G27*(1-ROUND($K$8,4)),2)) -> 0 | J27: =ROUND(I27*(1+$K$7),2) -> 0 | K27: =ROUND(ROUND(F27,2)*ROUND(J27,2),2) -> 0
A28: 3.3.3 | B28: CDHU | C28: 11.18.040 | D28: LASTRO DE PEDRA BRITADA | E28: M3 | F28: 1.18 | G28: 221.55 | H28: 264.97 | I28: =IF($K$8="",0,ROUND(G28*(1-ROUND($K$8,4)),2)) -> 0 | J28: =ROUND(I28*(1+$K$7),2) -> 0 | K28: =ROUND(ROUND(F28,2)*ROUND(J28,2),2) -> 0
A29: 3.3.4 | B29: CDHU | C29: 54.06.020 | D29: GUIA PRÉ-MOLDADA CURVA TIPO PMSP 100 - FCK 25 MPA | E29: M | F29: 29.19 | G29: 64.37 | H29: 76.99 | I29: =IF($K$8="",0,ROUND(G29*(1-ROUND($K$8,4)),2)) -> 0 | J29: =ROUND(I29*(1+$K$7),2) -> 0 | K29: =ROUND(ROUND(F29,2)*ROUND(J29,2),2) -> 0
A30: 3.3.5 | B30: CDHU | C30: 54.06.040 | D30: GUIA PRÉ-MOLDADA RETA TIPO PMSP 100 - FCK 25 MPA | E30: M | F30: 128.6 | G30: 61.15 | H30: 73.14 | I30: =IF($K$8="",0,ROUND(G30*(1-ROUND($K$8,4)),2)) -> 0 | J30: =ROUND(I30*(1+$K$7),2) -> 0 | K30: =ROUND(ROUND(F30,2)*ROUND(J30,2),2) -> 0
A31: 3.3.6 | B31: CDHU | C31: 54.06.170 | D31: SARJETA OU SARJETÃO MOLDADO NO LOCAL, TIPO PMSP EM CONCRETO COM FCK 25 MPA | E31: M3 | F31: 4.02 | G31: 901.59 | H31: 1078.3 | I31: =IF($K$8="",0,ROUND(G31*(1-ROUND($K$8,4)),2)) -> 0 | J31: =ROUND(I31*(1+$K$7),2) -> 0 | K31: =ROUND(ROUND(F31,2)*ROUND(J31,2),2) -> 0
A32: 4 | D32: RECONSTRUÇÃO DE SARJETÕES | K32: =SUBTOTAL(9,K33:K40) -> 0
A33: 4.1 | D33: DEMOLIÇÃO DE SARJETÕES EXISTENTES E ABERTURA DE VALAS | K33: =SUBTOTAL(9,K34:K37) -> 0
A34: 4.1.1 | B34: CDHU | C34: 54.20.160 | D34: CORTE PARA JUNTA DE DILATAÇÃO ATRAVÉS DE CORTADORA A GASOLINA, COM SERRA DE DISCO DIAMANTADO SEGMENTADO PARA PAVIMENTO DE CONCRETO E ASFALTO | E34: M | F34: 102.33 | G34: 0.54 | H34: 0.65 | I34: =IF($K$8="",0,ROUND(G34*(1-ROUND($K$8,4)),2)) -> 0 | J34: =ROUND(I34*(1+$K$7),2) -> 0 | K34: =ROUND(ROUND(F34,2)*ROUND(J34,2),2) -> 0
A35: 4.1.2 | B35: CDHU | C35: 03.01.270 | D35: DEMOLIÇÃO MECANIZADA DE SARJETA OU SARJETÃO, INCLUSIVE FRAGMENTAÇÃO E ACOMODAÇÃO DO MATERIAL | E35: M3 | F35: 10.83 | G35: 316.79 | H35: 378.88 | I35: =IF($K$8="",0,ROUND(G35*(1-ROUND($K$8,4)),2)) -> 0 | J35: =ROUND(I35*(1+$K$7),2) -> 0 | K35: =ROUND(ROUND(F35,2)*ROUND(J35,2),2) -> 0
A36: 4.1.3 | B36: CDHU | C36: 06.02.020 | D36: ESCAVAÇÃO MANUAL EM SOLO DE 1ª E 2ª CATEGORIA EM VALA OU CAVA ATÉ 1,5 M | E36: M3 | F36: 1.22 | G36: 68.13 | H36: 81.48 | I36: =IF($K$8="",0,ROUND(G36*(1-ROUND($K$8,4)),2)) -> 0 | J36: =ROUND(I36*(1+$K$7),2) -> 0 | K36: =ROUND(ROUND(F36,2)*ROUND(J36,2),2) -> 0
A37: 4.1.4 | B37: CDHU | C37: 05.10.023 | D37: TRANSPORTE DE SOLO DE 1ª E 2ª CATEGORIA POR CAMINHÃO PARA DISTÂNCIAS SUPERIORES AO 5° KM ATÉ O 10° KM | E37: M3 | F37: 15.67 | G37: 20.48 | H37: 24.49 | I37: =IF($K$8="",0,ROUND(G37*(1-ROUND($K$8,4)),2)) -> 0 | J37: =ROUND(I37*(1+$K$7),2) -> 0 | K37: =ROUND(ROUND(F37,2)*ROUND(J37,2),2) -> 0
A38: 4.2 | D38: EXECUÇÃO DE SARJETÕES NOVOS | K38: =SUBTOTAL(9,K39:K40) -> 0
A39: 4.2.1 | B39: CDHU | C39: 10.02.020 | D39: ARMADURA EM TELA SOLDADA DE AÇO | E39: KG | F39: 168.47 | G39: 10.22 | H39: 12.22 | I39: =IF($K$8="",0,ROUND(G39*(1-ROUND($K$8,4)),2)) -> 0 | J39: =ROUND(I39*(1+$K$7),2) -> 0 | K39: =ROUND(ROUND(F39,2)*ROUND(J39,2),2) -> 0
A40: 4.2.2 | B40: CDHU | C40: 54.06.170 | D40: SARJETA OU SARJETÃO MOLDADO NO LOCAL, TIPO PMSP EM CONCRETO COM FCK 25 MPA | E40: M3 | F40: 10.83 | G40: 901.59 | H40: 1078.3 | I40: =IF($K$8="",0,ROUND(G40*(1-ROUND($K$8,4)),2)) -> 0 | J40: =ROUND(I40*(1+$K$7),2) -> 0 | K40: =ROUND(ROUND(F40,2)*ROUND(J40,2),2) -> 0
A41: 5 | D41: EXECUÇÃO DE RAMPAS DE ACESSIBILIDADE | K41: =SUBTOTAL(9,K42:K53) -> 0
A42: 5.1 | D42: DEMOLIÇÕES, REGULARIZAÇÃO E COMPACTAÇÃO DA BASE | K42: =SUBTOTAL(9,K43:K46) -> 0
A43: 5.1.1 | B43: CDHU | C43: 03.01.020 | D43: DEMOLIÇÃO MANUAL DE CONCRETO SIMPLES | E43: M3 | F43: 0.58 | G43: 249.81 | H43: 298.77 | I43: =IF($K$8="",0,ROUND(G43*(1-ROUND($K$8,4)),2)) -> 0 | J43: =ROUND(I43*(1+$K$7),2) -> 0 | K43: =ROUND(ROUND(F43,2)*ROUND(J43,2),2) -> 0
A44: 5.1.2 | B44: CDHU | C44: 06.02.020 | D44: ESCAVAÇÃO MANUAL EM SOLO DE 1ª E 2ª CATEGORIA EM VALA OU CAVA ATÉ 1,5 M | E44: M3 | F44: 1.07 | G44: 68.13 | H44: 81.48 | I44: =IF($K$8="",0,ROUND(G44*(1-ROUND($K$8,4)),2)) -> 0 | J44: =ROUND(I44*(1+$K$7),2) -> 0 | K44: =ROUND(ROUND(F44,2)*ROUND(J44,2),2) -> 0
A45: 5.1.3 | B45: CDHU | C45: 05.10.023 | D45: TRANSPORTE DE SOLO DE 1ª E 2ª CATEGORIA POR CAMINHÃO PARA DISTÂNCIAS SUPERIORES AO 5° KM ATÉ O 10° KM | E45: M3 | F45: 2.15 | G45: 20.48 | H45: 24.49 | I45: =IF($K$8="",0,ROUND(G45*(1-ROUND($K$8,4)),2)) -> 0 | J45: =ROUND(I45*(1+$K$7),2) -> 0 | K45: =ROUND(ROUND(F45,2)*ROUND(J45,2),2) -> 0
A46: 5.1.4 | B46: CDHU | C46: 54.01.010 | D46: REGULARIZAÇÃO E COMPACTAÇÃO MECANIZADA DE SUPERFÍCIE, SEM CONTROLE DO PROCTOR NORMAL | E46: M2 | F46: 21.45 | G46: 3.76 | H46: 4.5 | I46: =IF($K$8="",0,ROUND(G46*(1-ROUND($K$8,4)),2)) -> 0 | J46: =ROUND(I46*(1+$K$7),2) -> 0 | K46: =ROUND(ROUND(F46,2)*ROUND(J46,2),2) -> 0
A47: 5.2 | D47: EXECUÇÃO DE RAMPA EM CONCRETO E PISO PODOTÁTIL | K47: =SUBTOTAL(9,K48:K53) -> 0
A48: 5.2.1 | B48: CDHU | C48: 11.18.040 | D48: LASTRO DE PEDRA BRITADA | E48: M3 | F48: 1.07 | G48: 221.55 | H48: 264.97 | I48: =IF($K$8="",0,ROUND(G48*(1-ROUND($K$8,4)),2)) -> 0 | J48: =ROUND(I48*(1+$K$7),2) -> 0 | K48: =ROUND(ROUND(F48,2)*ROUND(J48,2),2) -> 0
A49: 5.2.2 | B49: CDHU | C49: 10.02.020 | D49: ARMADURA EM TELA SOLDADA DE AÇO | E49: KG | F49: 31.75 | G49: 10.22 | H49: 12.22 | I49: =IF($K$8="",0,ROUND(G49*(1-ROUND($K$8,4)),2)) -> 0 | J49: =ROUND(I49*(1+$K$7),2) -> 0 | K49: =ROUND(ROUND(F49,2)*ROUND(J49,2),2) -> 0
A50: 5.2.3 | B50: CDHU | C50: 11.01.130 | D50: CONCRETO USINADO, FCK = 25 MPA | E50: M3 | F50: 1.29 | G50: 512.7 | H50: 613.19 | I50: =IF($K$8="",0,ROUND(G50*(1-ROUND($K$8,4)),2)) -> 0 | J50: =ROUND(I50*(1+$K$7),2) -> 0 | K50: =ROUND(ROUND(F50,2)*ROUND(J50,2),2) -> 0
A51: 5.2.4 | B51: CDHU | C51: 11.16.020 | D51: LANÇAMENTO, ESPALHAMENTO E ADENSAMENTO DE CONCRETO OU MASSA EM LASTRO E/OU ENCHIMENTO | E51: M3 | F51: 1.29 | G51: 95.77 | H51: 114.54 | I51: =IF($K$8="",0,ROUND(G51*(1-ROUND($K$8,4)),2)) -> 0 | J51: =ROUND(I51*(1+$K$7),2) -> 0 | K51: =ROUND(ROUND(F51,2)*ROUND(J51,2),2) -> 0
A52: 5.2.5 | B52: CDHU | C52: 11.16.220 | D52: NIVELAMENTO DE PISO EM CONCRETO COM ACABADORA DE SUPERFÍCIE | E52: M2 | F52: 21.45 | G52: 15.98 | H52: 19.11 | I52: =IF($K$8="",0,ROUND(G52*(1-ROUND($K$8,4)),2)) -> 0 | J52: =ROUND(I52*(1+$K$7),2) -> 0 | K52: =ROUND(ROUND(F52,2)*ROUND(J52,2),2) -> 0
A53: 5.2.6 | B53: CDHU | C53: 30.04.030 | D53: PISO EM LADRILHO HIDRÁULICO PODOTÁTIL VÁRIAS CORES (25X25CM), ASSENTADO COM ARGAMASSA MISTA | E53: M2 | F53: 1.99 | G53: 137.63 | H53: 164.61 | I53: =IF($K$8="",0,ROUND(G53*(1-ROUND($K$8,4)),2)) -> 0 | J53: =ROUND(I53*(1+$K$7),2) -> 0 | K53: =ROUND(ROUND(F53,2)*ROUND(J53,2),2) -> 0
A54: 6 | D54: REPARO DE DEFEITOS NO PAVIMENTO ASFÁLTICO | K54: =SUBTOTAL(9,K55:K68) -> 0
A55: 6.1 | D55: DEMOLIÇÃO DE PAVIMENTO E ABERTURA DE VALA | K55: =SUBTOTAL(9,K56:K59) -> 0
A56: 6.1.1 | B56: CDHU | C56: 54.20.160 | D56: CORTE PARA JUNTA DE DILATAÇÃO ATRAVÉS DE CORTADORA A GASOLINA, COM SERRA DE DISCO DIAMANTADO SEGMENTADO PARA PAVIMENTO DE CONCRETO E ASFALTO | E56: M | F56: 54.62 | G56: 0.54 | H56: 0.65 | I56: =IF($K$8="",0,ROUND(G56*(1-ROUND($K$8,4)),2)) -> 0 | J56: =ROUND(I56*(1+$K$7),2) -> 0 | K56: =ROUND(ROUND(F56,2)*ROUND(J56,2),2) -> 0
A57: 6.1.2 | B57: CDHU | C57: 03.07.030 | D57: DEMOLIÇÃO (LEVANTAMENTO) MECANIZADA DE PAVIMENTO ASFÁLTICO, INCLUSIVE FRAGMENTAÇÃO E ACOMODAÇÃO DO MATERIAL | E57: M2 | F57: 65.11 | G57: 27.14 | H57: 32.46 | I57: =IF($K$8="",0,ROUND(G57*(1-ROUND($K$8,4)),2)) -> 0 | J57: =ROUND(I57*(1+$K$7),2) -> 0 | K57: =ROUND(ROUND(F57,2)*ROUND(J57,2),2) -> 0
A58: 6.1.3 | B58: CDHU | C58: 07.02.020 | D58: ESCAVAÇÃO MECANIZADA DE VALAS OU CAVAS COM PROFUNDIDADE DE ATÉ 2 M | E58: M3 | F58: 35.81 | G58: 12 | H58: 14.35 | I58: =IF($K$8="",0,ROUND(G58*(1-ROUND($K$8,4)),2)) -> 0 | J58: =ROUND(I58*(1+$K$7),2) -> 0 | K58: =ROUND(ROUND(F58,2)*ROUND(J58,2),2) -> 0
A59: 6.1.4 | B59: CDHU | C59: 05.10.023 | D59: TRANSPORTE DE SOLO DE 1ª E 2ª CATEGORIA POR CAMINHÃO PARA DISTÂNCIAS SUPERIORES AO 5° KM ATÉ O 10° KM | E59: M3 | F59: 50.79 | G59: 20.48 | H59: 24.49 | I59: =IF($K$8="",0,ROUND(G59*(1-ROUND($K$8,4)),2)) -> 0 | J59: =ROUND(I59*(1+$K$7),2) -> 0 | K59: =ROUND(ROUND(F59,2)*ROUND(J59,2),2) -> 0
A60: 6.2 | D60: COMPACTAÇÃO DO SUBLEITO E RECOMPOSIÇÃO DA BASE DO PAVIMENTO | K60: =SUBTOTAL(9,K61:K63) -> 0
A61: 6.2.1 | B61: SIURB | C61: 5065000 | D61: REFORÇO DE SUB-LEITO/SUB-BASE DE SOLO MELHORADO COM BRITA 50,0% EM VOLUME | E61: M3 | F61: 35.81 | G61: 119.31 | H61: 142.69 | I61: =IF($K$8="",0,ROUND(G61*(1-ROUND($K$8,4)),2)) -> 0 | J61: =ROUND(I61*(1+$K$7),2) -> 0 | K61: =ROUND(ROUND(F61,2)*ROUND(J61,2),2) -> 0
A62: 6.2.2 | B62: CDHU | C62: 05.10.024 | D62: TRANSPORTE DE SOLO DE 1ª E 2ª CATEGORIA POR CAMINHÃO PARA DISTÂNCIAS SUPERIORES AO 10° KM ATÉ O 15° KM | E62: M3 | F62: 46.55 | G62: 30.68 | H62: 36.69 | I62: =IF($K$8="",0,ROUND(G62*(1-ROUND($K$8,4)),2)) -> 0 | J62: =ROUND(I62*(1+$K$7),2) -> 0 | K62: =ROUND(ROUND(F62,2)*ROUND(J62,2),2) -> 0
A63: 6.2.3 | B63: CDHU | C63: 07.12.030 | D63: COMPACTAÇÃO DE ATERRO MECANIZADO A 100% PN, SEM FORNECIMENTO DE SOLO EM CAMPO ABERTO | E63: M3 | F63: 35.81 | G63: 12.86 | H63: 15.38 | I63: =IF($K$8="",0,ROUND(G63*(1-ROUND($K$8,4)),2)) -> 0 | J63: =ROUND(I63*(1+$K$7),2) -> 0 | K63: =ROUND(ROUND(F63,2)*ROUND(J63,2),2) -> 0
A64: 6.3 | D64: RECOMPOSIÇÃO DA CAMADA DE ROLAMENTO | K64: =SUBTOTAL(9,K65:K68) -> 0
A65: 6.3.1 | B65: DER | C65: 23.05.01 | D65: IMPRIMADURA BETUMINOSA IMPERMEABILIZANTE | E65: M2 | F65: 65.11 | G65: 4.96 | H65: 5.93 | I65: =IF($K$8="",0,ROUND(G65*(1-ROUND($K$8,4)),2)) -> 0 | J65: =ROUND(I65*(1+$K$7),2) -> 0 | K65: =ROUND(ROUND(F65,2)*ROUND(J65,2),2) -> 0
A66: 6.3.2 | B66: DER | C66: 23.05.02 | D66: IMPRIMADURA BETUMINOSA LIGANTE | E66: M2 | F66: 65.11 | G66: 2.82 | H66: 3.37 | I66: =IF($K$8="",0,ROUND(G66*(1-ROUND($K$8,4)),2)) -> 0 | J66: =ROUND(I66*(1+$K$7),2) -> 0 | K66: =ROUND(ROUND(F66,2)*ROUND(J66,2),2) -> 0
A67: 6.3.3 | B67: DER | C67: 23.52.02.05 | D67: CONCRETO ASFALTICO USINADO A QUENTE - FAIXA DER 12,5 | E67: M3 | F67: 3.26 | G67: 1195.06 | H67: 1429.29 | I67: =IF($K$8="",0,ROUND(G67*(1-ROUND($K$8,4)),2)) -> 0 | J67: =ROUND(I67*(1+$K$7),2) -> 0 | K67: =ROUND(ROUND(F67,2)*ROUND(J67,2),2) -> 0
A68: 6.3.4 | B68: CDHU | C68: S.07.000.080308 | D68: TRANSPORTE DE MATERIAL ASFÁLTICO, COM CAMINHÃO COM CAPACIDADE DE 20000L EM RODOVIA PAVIMENTADA PARA DISTÂNCIA MÉDIAS DE TRANSPORTE IGUAL OU INFERIOR A 100KM. AF_02/2016 | E68: TXKM | F68: 101.01 | G68: 1.79 | H68: 2.14 | I68: =IF($K$8="",0,ROUND(G68*(1-ROUND($K$8,4)),2)) -> 0 | J68: =ROUND(I68*(1+$K$7),2) -> 0 | K68: =ROUND(ROUND(F68,2)*ROUND(J68,2),2) -> 0
A69: 7 | D69: RECONSTRUÇÃO DE PAVIMENTO ASFÁLTICO COM BINDER | K69: =SUBTOTAL(9,K70:K90) -> 0
A70: 7.1 | D70: DEMOLIÇÃO DO PAVIMENTO EXISTENTE E ABERTURA DE CAIXA | K70: =SUBTOTAL(9,K71:K75) -> 0
A71: 7.1.1 | B71: CDHU | C71: 03.16.011 | D71: REMOÇÃO DE TACHA/TACHÕES | E71: UN | F71: 18 | G71: 13.94 | H71: 16.67 | I71: =IF($K$8="",0,ROUND(G71*(1-ROUND($K$8,4)),2)) -> 0 | J71: =ROUND(I71*(1+$K$7),2) -> 0 | K71: =ROUND(ROUND(F71,2)*ROUND(J71,2),2) -> 0
A72: 7.1.2 | B72: CDHU | C72: 03.07.080 | D72: FRESAGEM DE PAVIMENTO ASFÁLTICO COM ESPESSURA ATÉ 5 CM, INCLUSIVE REMOÇÃO DO MATERIAL FRESADO ATÉ 10 QUILÔMETROS E VARRIÇÃO | E72: M2 | F72: 3900.79 | G72: 14.92 | H72: 17.84 | I72: =IF($K$8="",0,ROUND(G72*(1-ROUND($K$8,4)),2)) -> 0 | J72: =ROUND(I72*(1+$K$7),2) -> 0 | K72: =ROUND(ROUND(F72,2)*ROUND(J72,2),2) -> 0
A73: 7.1.3 | B73: CDHU | C73: 07.01.020 | D73: ESCAVAÇÃO E CARGA MECANIZADA EM SOLO DE 1ª CATEGORIA, EM CAMPO ABERTO | E73: M3 | F73: 156.03 | G73: 17.26 | H73: 20.64 | I73: =IF($K$8="",0,ROUND(G73*(1-ROUND($K$8,4)),2)) -> 0 | J73: =ROUND(I73*(1+$K$7),2) -> 0 | K73: =ROUND(ROUND(F73,2)*ROUND(J73,2),2) -> 0
A74: 7.1.4 | B74: CDHU | C74: 54.01.050 | D74: COMPACTAÇÃO DO SUBLEITO MÍNIMO DE 95% DO PN | E74: M3 | F74: 585.12 | G74: 22.35 | H74: 26.73 | I74: =IF($K$8="",0,ROUND(G74*(1-ROUND($K$8,4)),2)) -> 0 | J74: =ROUND(I74*(1+$K$7),2) -> 0 | K74: =ROUND(ROUND(F74,2)*ROUND(J74,2),2) -> 0
A75: 7.1.5 | B75: CDHU | C75: 05.10.023 | D75: TRANSPORTE DE SOLO DE 1ª E 2ª CATEGORIA POR CAMINHÃO PARA DISTÂNCIAS SUPERIORES AO 5° KM ATÉ O 10° KM | E75: M3 | F75: 202.84 | G75: 20.48 | H75: 24.49 | I75: =IF($K$8="",0,ROUND(G75*(1-ROUND($K$8,4)),2)) -> 0 | J75: =ROUND(I75*(1+$K$7),2) -> 0 | K75: =ROUND(ROUND(F75,2)*ROUND(J75,2),2) -> 0
A76: 7.2 | D76: ALTEAMENTO DOS POÇOS DE VISITA | K76: =SUBTOTAL(9,K77) -> 0
A77: 7.2.1 | B77: SIURB | C77: 6021000 | D77: LEVANTAMENTO OU REBAIXAMENTO DE TAMPÃO DE POÇO DE VISITA | E77: UN | F77: 3 | G77: 189.02 | H77: 226.07 | I77: =IF($K$8="",0,ROUND(G77*(1-ROUND($K$8,4)),2)) -> 0 | J77: =ROUND(I77*(1+$K$7),2) -> 0 | K77: =ROUND(ROUND(F77,2)*ROUND(J77,2),2) -> 0
A78: 7.3 | D78: IMPRIMAÇÃO IMPERMEABILIZANTE - EAI | K78: =SUBTOTAL(9,K79:K80) -> 0
A79: 7.3.1 | B79: DER | C79: 23.05.01 | D79: IMPRIMADURA BETUMINOSA IMPERMEABILIZANTE | E79: M2 | F79: 3900.79 | G79: 4.96 | H79: 5.93 | I79: =IF($K$8="",0,ROUND(G79*(1-ROUND($K$8,4)),2)) -> 0 | J79: =ROUND(I79*(1+$K$7),2) -> 0 | K79: =ROUND(ROUND(F79,2)*ROUND(J79,2),2) -> 0
A80: 7.3.2 | B80: CDHU | C80: S.07.000.080308 | D80: TRANSPORTE DE MATERIAL ASFÁLTICO, COM CAMINHÃO COM CAPACIDADE DE 20000L EM RODOVIA PAVIMENTADA PARA DISTÂNCIA MÉDIAS DE TRANSPORTE IGUAL OU INFERIOR A 100KM. AF_02/2016 | E80: TXKM | F80: 55.26 | G80: 1.79 | H80: 2.14 | I80: =IF($K$8="",0,ROUND(G80*(1-ROUND($K$8,4)),2)) -> 0 | J80: =ROUND(I80*(1+$K$7),2) -> 0 | K80: =ROUND(ROUND(F80,2)*ROUND(J80,2),2) -> 0
A81: 7.4 | D81: EXECUÇÃO DA CAMADA DE BINDER | K81: =SUBTOTAL(9,K82:K84) -> 0
A82: 7.4.1 | B82: DER | C82: 23.05.02 | D82: IMPRIMADURA BETUMINOSA LIGANTE | E82: M2 | F82: 3900.79 | G82: 2.82 | H82: 3.37 | I82: =IF($K$8="",0,ROUND(G82*(1-ROUND($K$8,4)),2)) -> 0 | J82: =ROUND(I82*(1+$K$7),2) -> 0 | K82: =ROUND(ROUND(F82,2)*ROUND(J82,2),2) -> 0
A83: 7.4.2 | B83: DER | C83: 23.52.02.01 | D83: CONCRETO ASFALTICO USINADO A QUENTE - FAIXA DER 25 | E83: M3 | F83: 195.04 | G83: 1063.98 | H83: 1272.52 | I83: =IF($K$8="",0,ROUND(G83*(1-ROUND($K$8,4)),2)) -> 0 | J83: =ROUND(I83*(1+$K$7),2) -> 0 | K83: =ROUND(ROUND(F83,2)*ROUND(J83,2),2) -> 0
A84: 7.4.3 | B84: CDHU | C84: S.07.000.080308 | D84: TRANSPORTE DE MATERIAL ASFÁLTICO, COM CAMINHÃO COM CAPACIDADE DE 20000L EM RODOVIA PAVIMENTADA PARA DISTÂNCIA MÉDIAS DE TRANSPORTE IGUAL OU INFERIOR A 100KM. AF_02/2016 | E84: TXKM | F84: 5988.32 | G84: 1.79 | H84: 2.14 | I84: =IF($K$8="",0,ROUND(G84*(1-ROUND($K$8,4)),2)) -> 0 | J84: =ROUND(I84*(1+$K$7),2) -> 0 | K84: =ROUND(ROUND(F84,2)*ROUND(J84,2),2) -> 0
A85: 7.5 | D85: EXECUÇÃO DA CAMADA DE ROLAMENTO | K85: =SUBTOTAL(9,K86:K88) -> 0
A86: 7.5.1 | B86: DER | C86: 23.05.02 | D86: IMPRIMADURA BETUMINOSA LIGANTE | E86: M2 | F86: 3900.79 | G86: 2.82 | H86: 3.37 | I86: =IF($K$8="",0,ROUND(G86*(1-ROUND($K$8,4)),2)) -> 0 | J86: =ROUND(I86*(1+$K$7),2) -> 0 | K86: =ROUND(ROUND(F86,2)*ROUND(J86,2),2) -> 0
A87: 7.5.2 | B87: DER | C87: 23.52.02.05 | D87: CONCRETO ASFALTICO USINADO A QUENTE - FAIXA DER 12,5 | E87: M3 | F87: 156.03 | G87: 1195.06 | H87: 1429.29 | I87: =IF($K$8="",0,ROUND(G87*(1-ROUND($K$8,4)),2)) -> 0 | J87: =ROUND(I87*(1+$K$7),2) -> 0 | K87: =ROUND(ROUND(F87,2)*ROUND(J87,2),2) -> 0
A88: 7.5.3 | B88: CDHU | C88: S.07.000.080308 | D88: TRANSPORTE DE MATERIAL ASFÁLTICO, COM CAMINHÃO COM CAPACIDADE DE 20000L EM RODOVIA PAVIMENTADA PARA DISTÂNCIA MÉDIAS DE TRANSPORTE IGUAL OU INFERIOR A 100KM. AF_02/2016 | E88: TXKM | F88: 4794.61 | G88: 1.79 | H88: 2.14 | I88: =IF($K$8="",0,ROUND(G88*(1-ROUND($K$8,4)),2)) -> 0 | J88: =ROUND(I88*(1+$K$7),2) -> 0 | K88: =ROUND(ROUND(F88,2)*ROUND(J88,2),2) -> 0
A89: 7.6 | D89: CONTROLE TECNOLÓGICO - ABERTURA DE POÇO DE INSPEÇÃO E ENSAIO | K89: =SUBTOTAL(9,K90) -> 0
A90: 7.6.1 | B90: SIURB | C90: 2006021 | D90: ENSAIOS DE LABORATÓRIO - DOSAGEM MARSHALL, GRANULOMETRIA, TEOR DE ASFALTO, ESTABILIDADE E FLUÊNCIA | E90: ENS. | F90: 3 | G90: 2676.1 | H90: 3200.62 | I90: =IF($K$8="",0,ROUND(G90*(1-ROUND($K$8,4)),2)) -> 0 | J90: =ROUND(I90*(1+$K$7),2) -> 0 | K90: =ROUND(ROUND(F90,2)*ROUND(J90,2),2) -> 0
A91: 8 | D91: RECAPEAMENTO ASFÁLTICO SIMPLES | K91: =SUBTOTAL(9,K92:K104) -> 0
A92: 8.1 | D92: FRESAGEM E VARRIÇÃO DA VIA | K92: =SUBTOTAL(9,K93:K94) -> 0
A93: 8.1.1 | B93: CDHU | C93: 03.16.011 | D93: REMOÇÃO DE TACHA/TACHÕES | E93: UN | F93: 6 | G93: 13.94 | H93: 16.67 | I93: =IF($K$8="",0,ROUND(G93*(1-ROUND($K$8,4)),2)) -> 0 | J93: =ROUND(I93*(1+$K$7),2) -> 0 | K93: =ROUND(ROUND(F93,2)*ROUND(J93,2),2) -> 0
A94: 8.1.2 | B94: CDHU | C94: 03.07.080 | D94: FRESAGEM DE PAVIMENTO ASFÁLTICO COM ESPESSURA ATÉ 5 CM, INCLUSIVE REMOÇÃO DO MATERIAL FRESADO ATÉ 10 QUILÔMETROS E VARRIÇÃO | E94: M2 | F94: 3631.3 | G94: 14.92 | H94: 17.84 | I94: =IF($K$8="",0,ROUND(G94*(1-ROUND($K$8,4)),2)) -> 0 | J94: =ROUND(I94*(1+$K$7),2) -> 0 | K94: =ROUND(ROUND(F94,2)*ROUND(J94,2),2) -> 0
A95: 8.2 | D95: ALTEAMENTO DOS POÇOS DE VISITA | K95: =SUBTOTAL(9,K96) -> 0
A96: 8.2.1 | B96: SIURB | C96: 6021000 | D96: LEVANTAMENTO OU REBAIXAMENTO DE TAMPÃO DE POÇO DE VISITA | E96: UN | F96: 2 | G96: 189.02 | H96: 226.07 | I96: =IF($K$8="",0,ROUND(G96*(1-ROUND($K$8,4)),2)) -> 0 | J96: =ROUND(I96*(1+$K$7),2) -> 0 | K96: =ROUND(ROUND(F96,2)*ROUND(J96,2),2) -> 0
A97: 8.3 | D97: PINTURA DE LIGAÇÃO - RR-1C | K97: =SUBTOTAL(9,K98:K99) -> 0
A98: 8.3.1 | B98: DER | C98: 23.05.02 | D98: IMPRIMADURA BETUMINOSA LIGANTE | E98: M2 | F98: 3631.3 | G98: 2.82 | H98: 3.37 | I98: =IF($K$8="",0,ROUND(G98*(1-ROUND($K$8,4)),2)) -> 0 | J98: =ROUND(I98*(1+$K$7),2) -> 0 | K98: =ROUND(ROUND(F98,2)*ROUND(J98,2),2) -> 0
A99: 8.3.2 | B99: CDHU | C99: S.07.000.080308 | D99: TRANSPORTE DE MATERIAL ASFÁLTICO, COM CAMINHÃO COM CAPACIDADE DE 20000L EM RODOVIA PAVIMENTADA PARA DISTÂNCIA MÉDIAS DE TRANSPORTE IGUAL OU INFERIOR A 100KM. AF_02/2016 | E99: TXKM | F99: 18.7 | G99: 1.79 | H99: 2.14 | I99: =IF($K$8="",0,ROUND(G99*(1-ROUND($K$8,4)),2)) -> 0 | J99: =ROUND(I99*(1+$K$7),2) -> 0 | K99: =ROUND(ROUND(F99,2)*ROUND(J99,2),2) -> 0
A100: 8.4 | D100: EXECUÇÃO DE CAMADA DE ROLAMENTO | K100: =SUBTOTAL(9,K101:K102) -> 0
A101: 8.4.1 | B101: DER | C101: 23.52.02.05 | D101: CONCRETO ASFALTICO USINADO A QUENTE - FAIXA DER 12,5 | E101: M3 | F101: 181.57 | G101: 1195.06 | H101: 1429.29 | I101: =IF($K$8="",0,ROUND(G101*(1-ROUND($K$8,4)),2)) -> 0 | J101: =ROUND(I101*(1+$K$7),2) -> 0 | K101: =ROUND(ROUND(F101,2)*ROUND(J101,2),2) -> 0
A102: 8.4.2 | B102: CDHU | C102: S.07.000.080308 | D102: TRANSPORTE DE MATERIAL ASFÁLTICO, COM CAMINHÃO COM CAPACIDADE DE 20000L EM RODOVIA PAVIMENTADA PARA DISTÂNCIA MÉDIAS DE TRANSPORTE IGUAL OU INFERIOR A 100KM. AF_02/2016 | E102: TXKM | F102: 5556.04 | G102: 1.79 | H102: 2.14 | I102: =IF($K$8="",0,ROUND(G102*(1-ROUND($K$8,4)),2)) -> 0 | J102: =ROUND(I102*(1+$K$7),2) -> 0 | K102: =ROUND(ROUND(F102,2)*ROUND(J102,2),2) -> 0
A103: 8.5 | D103: CONTROLE TECNOLÓGICO - ABERTURA DE POÇO DE INSPEÇÃO E ENSAIO | K103: =SUBTOTAL(9,K104) -> 0
...

Sheet Cronograma
B1: MUNICÍPIO DE SANTA BÁRBARA D'OESTE - SP
B2: SECRETARIA MUNICIPAL DE OBRAS E SERVIÇOS
A4: CRONOGRAMA FÍSICO-FINANCEIRO
A6: Objeto: | C6: =PO!$C$6 -> Recuperação de pavimentação asfáltica em vias públicas
A7: Local: | C7: =PO!$C$7 -> Rua Humberto Materazzo e entorno
A8: Município: | C8: Santa Bárbara d'Oeste - SP
A9: Data Base: | C9: JAN/2026
A10: Empresa licitante | C10: =PO!C8 -> 0
A12: ITEM | B12: ETAPA/EVENTO | E12: VALOR TOTAL | F12: MÊS
F13: 1 | J13: 2
A14: ITEM | B14: EVENTO | E14: VALOR TOTAL | F14: SEMANA
F15: 1 | G15: 2 | H15: 3 | I15: 4 | J15: 5 | K15: 6 | L15: 7 | M15: 8
A16: 1 | B16: =OFFSET(PO!$A$12,MATCH($A16,OFFSET(PO!$A$12,1,,1000),0),3) -> SERVIÇOS PRELIMINARES | E16: =OFFSET(PO!$A$12,MATCH($A16,OFFSET(PO!$A$12,1,,1000),0),10) -> 0 | F16: 1
F17: =ROUND(SUM(F16:I16)/SUM($F16:$M16),4) -> 1 | J17: =ROUND(SUM(J16:M16)/SUM($F16:$M16),4) -> 0
F18: =$E16 -> 0 | J18: 0
A19: 2 | B19: =OFFSET(PO!$A$12,MATCH($A19,OFFSET(PO!$A$12,1,,1000),0),3) -> REPARO DE BOCAS DE LOBO | E19: =OFFSET(PO!$A$12,MATCH($A19,OFFSET(PO!$A$12,1,,1000),0),10) -> 0 | F19: 1 | G19: 1
F20: =ROUND(SUM(F19:I19)/SUM($F19:$M19),4) -> 1 | J20: =ROUND(SUM(J19:M19)/SUM($F19:$M19),4) -> 0
F21: =$E19 -> 0 | J21: 0
A22: 3 | B22: =OFFSET(PO!$A$12,MATCH($A22,OFFSET(PO!$A$12,1,,1000),0),3) -> EXECUÇÃO DE GUIAS E SARJETAS | E22: =OFFSET(PO!$A$12,MATCH($A22,OFFSET(PO!$A$12,1,,1000),0),10) -> 0 | F22: 1 | G22: 1
F23: =ROUND(SUM(F22:I22)/SUM($F22:$M22),4) -> 1 | J23: =ROUND(SUM(J22:M22)/SUM($F22:$M22),4) -> 0
F24: =$E22 -> 0 | J24: 0
A25: 4 | B25: =OFFSET(PO!$A$12,MATCH($A25,OFFSET(PO!$A$12,1,,1000),0),3) -> RECONSTRUÇÃO DE SARJETÕES | E25: =OFFSET(PO!$A$12,MATCH($A25,OFFSET(PO!$A$12,1,,1000),0),10) -> 0 | F25: 1 | G25: 1
F26: =ROUND(SUM(F25:I25)/SUM($F25:$M25),4) -> 1 | J26: =ROUND(SUM(J25:M25)/SUM($F25:$M25),4) -> 0
F27: =$E25 -> 0 | J27: 0
A28: 5 | B28: =OFFSET(PO!$A$12,MATCH($A28,OFFSET(PO!$A$12,1,,1000),0),3) -> EXECUÇÃO DE RAMPAS DE ACESSIBILIDADE | E28: =OFFSET(PO!$A$12,MATCH($A28,OFFSET(PO!$A$12,1,,1000),0),10) -> 0 | F28: 1 | G28: 1
F29: =ROUND(SUM(F28:I28)/SUM($F28:$M28),4) -> 1 | J29: =ROUND(SUM(J28:M28)/SUM($F28:$M28),4) -> 0
F30: =$E28 -> 0 | J30: 0
A31: 6 | B31: =OFFSET(PO!$A$12,MATCH($A31,OFFSET(PO!$A$12,1,,1000),0),3) -> REPARO DE DEFEITOS NO PAVIMENTO ASFÁLTICO | E31: =OFFSET(PO!$A$12,MATCH($A31,OFFSET(PO!$A$12,1,,1000),0),10) -> 0 | H31: 1 | I31: 1
F32: =ROUND(SUM(F31:I31)/SUM($F31:$M31),4) -> 1 | J32: =ROUND(SUM(J31:M31)/SUM($F31:$M31),4) -> 0
F33: =$E31 -> 0 | J33: 0
A34: 7 | B34: =OFFSET(PO!$A$12,MATCH($A34,OFFSET(PO!$A$12,1,,1000),0),3) -> RECONSTRUÇÃO DE PAVIMENTO ASFÁLTICO COM BINDER | E34: =OFFSET(PO!$A$12,MATCH($A34,OFFSET(PO!$A$12,1,,1000),0),10) -> 0 | I34: 1 | J34: 1 | K34: 1
F35: =ROUND(SUM(F34:I34)/SUM($F34:$M34),4) -> 0.3333 | J35: =ROUND(SUM(J34:M34)/SUM($F34:$M34),4) -> 0.6667
F36: 0 | J36: =$E34 -> 0
A37: 8 | B37: =OFFSET(PO!$A$12,MATCH($A37,OFFSET(PO!$A$12,1,,1000),0),3) -> RECAPEAMENTO ASFÁLTICO SIMPLES | E37: =OFFSET(PO!$A$12,MATCH($A37,OFFSET(PO!$A$12,1,,1000),0),10) -> 0 | I37: 1 | J37: 1 | K37: 1
F38: =ROUND(SUM(F37:I37)/SUM($F37:$M37),4) -> 0.3333 | J38: =ROUND(SUM(J37:M37)/SUM($F37:$M37),4) -> 0.6667
F39: 0 | J39: =$E37 -> 0
A40: 9 | B40: =OFFSET(PO!$A$12,MATCH($A40,OFFSET(PO!$A$12,1,,1000),0),3) -> LIMPEZA E DESOBSTRUÇÃO | E40: =OFFSET(PO!$A$12,MATCH($A40,OFFSET(PO!$A$12,1,,1000),0),10) -> 0 | L40: 1
F41: =ROUND(SUM(F40:I40)/SUM($F40:$M40),4) -> 0 | J41: =ROUND(SUM(J40:M40)/SUM($F40:$M40),4) -> 1
F42: =$E40 -> 0 | J42: 0
A43: 10 | B43: =OFFSET(PO!$A$12,MATCH($A43,OFFSET(PO!$A$12,1,,1000),0),3) -> SINALIZAÇÃO DE TRÂNSITO | E43: =OFFSET(PO!$A$12,MATCH($A43,OFFSET(PO!$A$12,1,,1000),0),10) -> 0 | L43: 1
F44: =ROUND(SUM(F43:I43)/SUM($F43:$M43),4) -> 0 | J44: =ROUND(SUM(J43:M43)/SUM($F43:$M43),4) -> 1
F45: 0 | J45: =$E43 -> 0
A46: 11 | B46: =OFFSET(PO!$A$12,MATCH($A46,OFFSET(PO!$A$12,1,,1000),0),3) -> SERVIÇOS COMPLEMENTARES | E46: =OFFSET(PO!$A$12,MATCH($A46,OFFSET(PO!$A$12,1,,1000),0),10) -> 0 | L46: 1 | M46: 1
F47: =ROUND(SUM(F46:I46)/SUM($F46:$M46),4) -> 0 | J47: =ROUND(SUM(J46:M46)/SUM($F46:$M46),4) -> 1
F48: 0 | J48: =$E46 -> 0
A49: TOTAL | E49: =SUM(E16:E48) -> 0 | F49: =F18+F21+F24+F27+F30+F33+F36+F39+F42+F45+F48 -> 0 | J49: =J18+J21+J24+J27+J30+J33+J36+J39+J42+J45+J48 -> 0
