Workbook

Sheet ORIENTAÇÕES
A1: CONTRATAÇÃO DE SERVIÇO DE MOTORISTA DE VEÍCULO LEVE PREGÃO ELETRÔNICO 02/2019
A3: Prezado Licitante, favor atentar para as orientações a seguir:
A4: Esta planilha de custos e formação de preços, elaborada em acordo com a nova IN 05/2017-SEGES/MP, foi configurada com a finalidade de auxiliar o Licitante no seu preenchimento. Os valores finais apontados na aba "resumo" dependem do correto preenchimento das demais abas. Alterações em fórmulas sem prévia autorização desta Administração poderão promover a exclusão do participante do processo licitatório. Alterações em salários, benfícios, aliquotas e demais valores podem ser realizadas quando pertinentes a mudanças oriundas de mudanças na legislação, ACT ou CCT, sempre mediante notas explicativas e juntada de documentos comprobatórios.
A5: 1) Preencha as abas Unif. Porteiro e Recep., Unif. Aux. Adm., e Unif. Supervisor, com os custos anitários nas células em azul. O valor resultante na célula "valor mensal por empregado" será refletido na célula Uniformes das Planilhas de composição de custos destes cargos referente ao item 3A do Módulo 5.
A6: 2) Preencha a aba Equipamentos com os valores unitários na célula em azul. O valor resultante da célula "valor mensal por empregado" será refletido na célula Materiais/Equipamentos da Planilha de composição de custos dos Postos de Motorista e Encarregado, referente ao item 3B do Módulo 5.
A7: 3) A Planilha Encargos Sociais e Benefícios foi formulada para facilitar o preenchimento e a conferência dos submódulos realtivos a Encargos sociais e Benefícios mensais e Diários (submódulos 2.1, 2.2, 3, 4.1 e 4.2 da Planilha da IN 05/2017). Ao preencher o detalhamento dos encargos sociais nas respectivas células, essas serão refletidas em todos os postos.
A8: 4) Nas Planilhas de Custo de todos os postos, o Preenchimento de salários, custos indiretos, lucro e tributos completará seu preenchimento.
A9: 5) O licitante deve revisar todos os valores preenchidos.

Sheet Unif Porteiro e Recep
B1: UTFPR
B2: CONTRATAÇÃO DE PORTEIRO - PE XX/2018
C3: UNIFORME PORTEIRO E RECEPCIONISTA
C4: Peça | D4: Especificações | E4: QTD | F4: Valor Unitário | G4: Valor Total
C5: Paletó ou Blazer | D5: Na cor preta, em tecido Oxford Nacional ou microfibra, forrado internamente, inclusive na manga, de boa qualidade, emblema da empresa bordado no lado superior esquerdo, com 02 bolsos inferiores. | E5: 2 | F5: 120 | G5: =(E5*F5) -> 240
C7: Calça | D7: Calça social, forrada internamente, com presilhas para cinto, em tecido Oxford Nacional, na cor preta. | E7: 2 | F7: 50 | G7: =(E7*F7) -> 100
C12: Camisa Social manga longa | D12: Camisa social, manga longa, em microfibra ou similar, estilo social em tecido, gola com entretela, na cor branca, com botões nos punhos e emblema da empresa bordado no lado superior esquerdo. | E12: 3 | F12: 55 | G12: =(E12*F12) -> 165
C16: Camisa Social manga curta | D16: Camisa social, manga curta, estilo social em microfibra ou similar, gola com entretela, na cor branca, com emblema da empresa bordado no lado superior esquerdo. | E16: 3 | F16: 45.9 | G16: =(E16*F16) -> 137.7
C17: Meia | D17: Meia social, na cor preta de boa qualidade (masculina) ou meia ¾ fina, de boa qualidade na cor preta ou fumê (feminina) | E17: 5 | F17: 10 | G17: =(E17*F17) -> 50
C18: Cinto social | D18: Cinto unisex em couro, constituído de uma face na cor preta, sem costura, fivela em metal, com garra regulável. | E18: 1 | F18: 25 | G18: =(E18*F18) -> 25
C19: Suéter | D19: Suéter em lã, malha tipo tricot, na cor preta, com emblema bordado da empresa; | E19: 2 | F19: 69.9 | G19: =(E19*F19) -> 139.8
C20: Crachá | D20: Em pvc, com foto atualizada, nome completo e função; | E20: 1 | F20: 15 | G20: =(E20*F20) -> 15
C21: Sapato social (masculino) ou sapatilha/ scarpin (feminino) | D21: Em couro legítimo, na cor preta, com solado emborrachado anti-derrapante e palmilhas modelo conforto; | E21: 2 | F21: 100 | G21: =(E21*F21) -> 200
C23: Sobretudo ou casaco | D23: Na cor preta, de boa qualidade, em lã ou microfibra. | E23: 1 | F23: 150 | G23: =(E23*F23) -> 150
D24: VALOR TOTAL ANUAL | G24: =SUM(G5:G22) -> 1072.5
D25: VALOR TOTAL MENSAL POR EMPREGADO | G25: =(G24/12) -> 89.375

Sheet Unif Aux. Adm.
B1: UTFPR
B2: CONTRATAÇÃO ENCARREGADO - PE XX/2018
C3: UNIFORME AUXILIAR ADMINISTRATIVO
C4: Peça | D4: Especificações | E4: QTD | F4: Valor Unitário | G4: Valor Total
C5: Jaqueta ou Japona | D5: Confeccionada em nylon; forro 100% poliéster; 2 bolsos laterais; 1 bolso interno; gola italiana; fechamento frontal com zíper; Pequeno emblema da empresa na parte externa frontal, na cor preta. | E5: 1 | F5: 100 | G5: =(E5*F5) -> 100
C10: Camisa Social manga curta | D10: Camisa social, manga curta, estilo social em microfibra ou similar, gola com entretela, na cor branca, com emblema da empresa bordado no lado superior esquerdo. | E10: 3 | F10: 45.9 | G10: =(E10*F10) -> 137.7
C14: Camisa Social manga longa | D14: Camisa social, manga longa, em microfibra ou similar, estilo social em tecido, gola com entretela, na cor branca, com botões nos punhos e emblema da empresa bordado no lado superior esquerdo. | E14: 3 | F14: 55 | G14: =F14*E14 -> 165
C15: Meia social | D15: Meia soquete na cor preta ou branca de boa qualidade (masculina) ou meia ¾, de boa qualidade na cor preta ou fumê (feminina) | E15: 5 | F15: 10 | G15: =(E15*F15) -> 50
C16: Sapatênis (masculino) Sapatilha ou sapato fechado (feminino) | D16: Em couro legítimo, na cor preta, com solado emborrachado anti-derrapante e palmilhas modelo conforto; | E16: 2 | F16: 80 | G16: =(E16*F16) -> 160
C17: Crachá | D17: Em pvc, com foto atualizada, nome completo e função; | E17: 1 | F17: 15 | G17: =(E17*F17) -> 15
C18: Calça Jeans | D18: Calça tecido Jeans, na cor azul, modelo tradicional. | E18: 2 | F18: 59.9 | G18: =(E18*F18) -> 119.8
C19: Suéter | D19: Suéter em lã, malha tipo tricot, na cor preta, com emblema bordado da empresa; | E19: 2 | F19: 69.9 | G19: =(E19*F19) -> 139.8
D20: VALOR TOTAL ANUAL | G20: =SUM(G5:G19) -> 887.3
D21: VALOR TOTAL MENSAL POR EMPREGADO | G21: =G20/12 -> 73.941667

Sheet Unif Motorista
B1: UTFPR
B2: CONTRATAÇÃO ENCARREGADO - PE XX/2018
C3: UNIFORME SUPERVISOR
C4: Peça | D4: Especificações | E4: QTD | F4: Valor Unitário | G4: Valor Total
C5: Paletó ou Blazer | D5: Na cor preta, em tecido Oxford Nacional ou microfibra, forrado internamente, inclusive na manga, de boa qualidade, emblema da empresa bordado no lado superior esquerdo, com 02 bolsos inferiores. | E5: 2 | F5: 120 | G5: =(E5*F5) -> 240
C10: Calça social | D10: Calça social, forrada internamente, com presilhas para cinto, em tecido Oxford Nacional, na cor preta. | E10: 2 | F10: 50 | G10: =(E10*F10) -> 100
C14: Camisa social manga curta | D14: Camisa social, manga curta, estilo social em microfibra ou similar, gola com entretela, na cor branca, com emblema da empresa bordado no lado superior esquerdo. | E14: 3 | F14: 45.9 | G14: =(E14*F14) -> 137.7
C15: Camisa social manga longa | D15: Camisa social, manga longa, em microfibra ou similar, estilo social em tecido, gola com entretela, na cor branca, com botões nos punhos e emblema da empresa bordado no lado superior esquerdo. | E15: 3 | F15: 55 | G15: =(E15*F15) -> 165
C16: Crachá | D16: Em pvc, com foto atualizada, nome completo e função; | E16: 1 | F16: 15 | G16: =(E16*F16) -> 15
C17: Meia social | D17: Meia social, na cor preta de boa qualidade (masculina) ou meia ¾ fina, de boa qualidade na cor preta ou fumê (feminina) | E17: 5 | F17: 10 | G17: =(E17*F17) -> 50
C18: Cinto social | D18: Em couro, constituído de uma face na cor preta, sem costura, fivela em metal, com garra regulável. | E18: 1 | F18: 25 | G18: =(E18*F18) -> 25
C19: Sapato social (masculino) ou sapatilha/ scarpin (feminino) | D19: Em couro legítimo, na cor preta, com solado emborrachado anti-derrapante e palmilhas modelo conforto; | E19: 2 | F19: 100 | G19: =(E19*F19) -> 200
C20: Suéter em lã | D20: Suéter em lã, malha tipo tricot, na cor preta, com emblema bordado da empresa; | E20: 2 | F20: 69.9 | G20: =(E20*F20) -> 139.8
C21: Sobretudo ou casaco | D21: Na cor preta, de boa qualidade, em lã ou microfibra. | E21: 1 | F21: 150 | G21: =(E21*F21) -> 150
D22: VALOR TOTAL ANUAL | G22: =SUM(G5:G18) -> 732.7
D23: VALOR TOTAL MENSAL POR EMPREGADO | G23: =G22/12 -> 61.058333

Sheet Equipamentos
B2: CONTRATAÇÃO DE SERVIÇO DE MOTORISTA - PE 02/2019
B3: INSTRUMENTOS PARA O DESEMPENHO DO TRABALHO MOTORISTA
B4: Peça | C4: Qtd | D4: Valor Unitário | E4: Valor Anual
B5: Celular | C5: 4 | D5: 744 | E5: =(C5*D5) -> 2976
E6: =(C6*D6) -> 0
B7: VALOR TOTAL ANUAL | E7: =SUM(E5:E6) -> 2976
B8: VALOR TOTAL MENSAL POR EMPREGADO | E8: =(E5/12)/4 -> 62

Sheet Porteiro 5x2
B1: UTFPR
B2: PLANILHA DE CUSTOS E FORMAÇÃO DE PREÇOS
B3: Nº DO PROCESO:
B4: LICITAÇÃO Nº:
B5: DIA __/__/__ às __:__ HORAS
B6: A | C6: Data de apresentação da proposta (dia/mês/ano)
B7: B | C7: Município/UF: | D7: CURITIBA
B8: C | C8: Ano Acordo, Convenção ou Sentença Normativa em Dissídio | D8: PR000105/2018
B9: D | C9: Nº de meses de execução contratual | D9: 12 Meses
B10: IDENTIFICAÇÃO DOS SERVIÇOS
C11: Unidade de Medida | D11: Posto-Funcionário
C12: Quantidade Total à Contratar (em função da unidade de medida) | D12: 4
C13: Porteiro: Segunda à Sexta
B14: Dados complementares para composição dos custos referente à mão-de-obra
B15: 1 | C15: Tipo de serviço (mesmo serviço com características distintas) | D15: Porteiro
B16: 2 | C16: Classificação Brasileira de Ocupações | D16: 5174
B17: 3 | C17: Salário Normativo da Categoria Profissional | D17: 1576
B18: 4 | C18: Categoria Profissional (vinculada à execução contratual)
B19: 5 | C19: Data base da categoria (dia/mês/ano) | D19: 1º de fevereiro
B20: MÓDULO 1: COMPOSIÇÃO DA REMUNERAÇÃO
B21: 1 | C21: Composição da Remuneração | D21: % | E21: Valor (R$)
B22: A | C22: Salário Base | D22: 1 | E22: =D17 -> 1576
B23: B | C23: Adicional de periculosidade | D23: 0 | E23: =ROUND((E22*D23),2) -> 0
B24: C | C24: Adicional Noturno | D24: 0 | E24: =ROUND((E22*D24),2) -> 0
B25: D | C25: Adicional de Hora Noturna Reduzida | E25: 0
B26: E | C26: Hora noturna adicional | E26: 0
B27: F | C27: Adicional de Hora Extra no Feriado Trabalhado (súmula 444) | E27: 0
B28: G | C28: Intervalo intrajornada | E28: 0
B29: H | C29: Outros (adicional de risco - Cláusula Décima Primeira CCT) | E29: 52
C30: T O T A L | D30: =SUM(D22:D29) -> 1 | E30: =ROUND(SUM(E22:E29),2) -> 1628
B31: MÓDULO 2: ENCARGOS E BENEFÍCIOS ANUAIS, MENSAIS E DIÁRIOS
B32: 2.1 | C32: 13º (décimo terceiro) Salário, Férias e Adicional de Férias | E32: Valor (R$)
B33: A | C33: 13º (décimo terceiro) Salário | E33: =ROUND(($E$30*'Encargos Sociais e Benefícios'!C7),2) -> 135.61
B34: B | C34: Férias e Adicional de Férias | E34: =ROUND(($E$30*'Encargos Sociais e Benefícios'!C8),2) -> 180.89
C35: T O T A L | E35: =ROUND(SUM(E33:E34),2) -> 316.5
B37: 2.2 | C37: Encargos Previdenciários (GPS), Fundo de Garantia por Tempo de Serviço (FGTS) e outras contribuições. | D37: % | E37: Valor (R$)
B38: A | C38: INSS | D38: ='Encargos Sociais e Benefícios'!C11 -> 0.2 | E38: =ROUND(($E$30*'Encargos Sociais e Benefícios'!C11),2) -> 325.6
B39: B | C39: Salário Educação | D39: ='Encargos Sociais e Benefícios'!C12 -> 0.025 | E39: =ROUND(($E$30*'Encargos Sociais e Benefícios'!C12),2) -> 40.7
B40: C | C40: SAT | D40: ='Encargos Sociais e Benefícios'!C13 -> 0.03 | E40: =ROUND(($E$30*'Encargos Sociais e Benefícios'!C13),2) -> 48.84
B41: D | C41: SESC ou SESI | D41: ='Encargos Sociais e Benefícios'!C14 -> 0.015 | E41: =ROUND(($E$30*'Encargos Sociais e Benefícios'!C14),2) -> 24.42
...

Sheet Porteiro 6x1
B1: UTFPR
B2: PLANILHA DE CUSTOS E FORMAÇÃO DE PREÇOS
B3: Nº DO PROCESO:
B4: LICITAÇÃO Nº:
B5: DIA __/__/__ às __:__ HORAS
B6: A | C6: Data de apresentação da proposta (dia/mês/ano)
B7: B | C7: Município/UF: | D7: CURITIBA
B8: C | C8: Ano Acordo, Convenção ou Sentença Normativa em Dissídio | D8: PR000105/2018
B9: D | C9: Nº de meses de execução contratual | D9: 12 Meses
B10: IDENTIFICAÇÃO DOS SERVIÇOS
C11: Unidade de Medida | D11: Posto-Funcionário
C12: Quantidade Total à Contratar (em função da unidade de medida) | D12: 16
C13: Porteiro: Segunda à Sábado
B14: Dados complementares para composição dos custos referente à mão-de-obra
B15: 1 | C15: Tipo de serviço (mesmo serviço com características distintas) | D15: Porteiro
B16: 2 | C16: Classificação Brasileira de Ocupações | D16: 5174
B17: 3 | C17: Salário Normativo da Categoria Profissional | D17: 1576
B18: 4 | C18: Categoria Profissional (vinculada à execução contratual)
B19: 5 | C19: Data base da categoria (dia/mês/ano) | D19: 43132
B20: MÓDULO 1: COMPOSIÇÃO DA REMUNERAÇÃO
B21: 1 | C21: Composição da Remuneração | D21: % | E21: Valor (R$)
B22: A | C22: Salário Base | D22: 1 | E22: =D17 -> 1576
B23: B | C23: Adicional de periculosidade | D23: 0 | E23: =ROUND((E22*D23),2) -> 0
B24: C | C24: Adicional Noturno | D24: 0 | E24: =ROUND((E22*D24),2) -> 0
B25: D | C25: Adicional de Hora Noturna Reduzida | E25: 0
B26: E | C26: Hora noturna adicional | E26: 0
B27: F | C27: Adicional de Hora Extra no Feriado Trabalhado (súmula 444) | E27: 0
B28: G | C28: Intervalo intrajornada | E28: 0
B29: H | C29: Outros (adicional de risco - Cláusula Décima Primeira CCT) | E29: 52
C30: T O T A L | D30: =SUM(D22:D29) -> 1 | E30: =ROUND(SUM(E22:E29),2) -> 1628
B31: MÓDULO 2: ENCARGOS E BENEFÍCIOS ANUAIS, MENSAIS E DIÁRIOS
B32: 2.1 | C32: 13º (décimo terceiro) Salário, Férias e Adicional de Férias | E32: Valor (R$)
B33: A | C33: 13º (décimo terceiro) Salário | E33: =ROUND(($E$30*'Encargos Sociais e Benefícios'!C7),2) -> 135.61
B34: B | C34: Férias e Adicional de Férias | E34: =ROUND(($E$30*'Encargos Sociais e Benefícios'!C8),2) -> 180.89
C35: T O T A L | E35: =ROUND(SUM(E33:E34),2) -> 316.5
B37: 2.2 | C37: Encargos Previdenciários (GPS), Fundo de Garantia por Tempo de Serviço (FGTS) e outras contribuições. | D37: % | E37: Valor (R$)
B38: A | C38: INSS | D38: ='Encargos Sociais e Benefícios'!C11 -> 0.2 | E38: =ROUND(($E$30*'Encargos Sociais e Benefícios'!C11),2) -> 325.6
B39: B | C39: Salário Educação | D39: ='Encargos Sociais e Benefícios'!C12 -> 0.025 | E39: =ROUND(($E$30*'Encargos Sociais e Benefícios'!C12),2) -> 40.7
B40: C | C40: SAT | D40: ='Encargos Sociais e Benefícios'!C13 -> 0.03 | E40: =ROUND(($E$30*'Encargos Sociais e Benefícios'!C13),2) -> 48.84
B41: D | C41: SESC ou SESI | D41: ='Encargos Sociais e Benefícios'!C14 -> 0.015 | E41: =ROUND(($E$30*'Encargos Sociais e Benefícios'!C14),2) -> 24.42
...

Sheet Recepcionista 6h
B1: UTFPR
B2: PLANILHA DE CUSTOS E FORMAÇÃO DE PREÇOS
B3: Nº DO PROCESO:
B4: LICITAÇÃO Nº:
B5: DIA __/__/__ às __:__ HORAS
B6: A | C6: Data de apresentação da proposta (dia/mês/ano)
B7: B | C7: Município/UF: | D7: CURITIBA
B8: C | C8: Ano Acordo, Convenção ou Sentença Normativa em Dissídio | D8: PR000105/2018
B9: D | C9: Nº de meses de execução contratual | D9: 12 Meses
B10: IDENTIFICAÇÃO DOS SERVIÇOS
C11: Unidade de Medida | D11: Posto-Funcionário
C12: Quantidade Total à Contratar (em função da unidade de medida) | D12: 10
C13: Recepcionista (150 h/mês)
B14: Dados complementares para composição dos custos referente à mão-de-obra
B15: 1 | C15: Tipo de serviço (mesmo serviço com características distintas) | D15: Recepcionista 06h
B16: 2 | C16: Classificação Brasileira de Ocupações | D16: 4221
B17: 3 | C17: Salário Normativo da Categoria Profissional | D17: 930.69
B18: 4 | C18: Categoria Profissional (vinculada à execução contratual)
B19: 5 | C19: Data base da categoria (dia/mês/ano) | D19: 43132
B20: MÓDULO 1: COMPOSIÇÃO DA REMUNERAÇÃO
B21: 1 | C21: Composição da Remuneração | D21: % | E21: Valor (R$)
B22: A | C22: Salário Base | D22: 1 | E22: =D17 -> 930.69
B23: B | C23: Adicional de periculosidade | D23: 0 | E23: =ROUND((E22*D23),2) -> 0
B24: C | C24: Adicional Noturno | D24: 0 | E24: =ROUND((E22*D24),2) -> 0
B25: D | C25: Adicional de Hora Noturna Reduzida | E25: 0
B26: E | C26: Hora noturna adicional | E26: 0
B27: F | C27: Adicional de Hora Extra no Feriado Trabalhado (súmula 444) | E27: 0
B28: G | C28: Intervalo intrajornada | E28: 0
B29: H | C29: Outros (especificar) | E29: 0
C30: T O T A L | D30: =SUM(D22:D29) -> 1 | E30: =ROUND(SUM(E22:E29),2) -> 930.69
B31: MÓDULO 2: ENCARGOS E BENEFÍCIOS ANUAIS, MENSAIS E DIÁRIOS
B32: 2.1 | C32: 13º (décimo terceiro) Salário, Férias e Adicional de Férias | E32: Valor (R$)
B33: A | C33: 13º (décimo terceiro) Salário | E33: =ROUND(($E$30*'Encargos Sociais e Benefícios'!C7),2) -> 77.53
B34: B | C34: Férias e Adicional de Férias | E34: =ROUND(($E$30*'Encargos Sociais e Benefícios'!C8),2) -> 103.41
C35: T O T A L | E35: =ROUND(SUM(E33:E34),2) -> 180.94
B37: 2.2 | C37: Encargos Previdenciários (GPS), Fundo de Garantia por Tempo de Serviço (FGTS) e outras contribuições. | D37: % | E37: Valor (R$)
B38: A | C38: INSS | D38: ='Encargos Sociais e Benefícios'!C11 -> 0.2 | E38: =ROUND(($E$30*'Encargos Sociais e Benefícios'!C11),2) -> 186.14
B39: B | C39: Salário Educação | D39: ='Encargos Sociais e Benefícios'!C12 -> 0.025 | E39: =ROUND(($E$30*'Encargos Sociais e Benefícios'!C12),2) -> 23.27
B40: C | C40: SAT | D40: ='Encargos Sociais e Benefícios'!C13 -> 0.03 | E40: =ROUND(($E$30*'Encargos Sociais e Benefícios'!C13),2) -> 27.92
B41: D | C41: SESC ou SESI | D41: ='Encargos Sociais e Benefícios'!C14 -> 0.015 | E41: =ROUND(($E$30*'Encargos Sociais e Benefícios'!C14),2) -> 13.96
...

Sheet Turno Matutino
B1: À PREFEITURA MUNICIPAL DA ESTÂNCIA BALNEÁRIA DE CARAGUATATUBA SECRETARIA MUNICIPAL DE ADMINISTRAÇÃO SEÇÃO DE LICITAÇÃO
B2: PLANILHA DE CUSTOS
B3: Nº DO PROCESSO: 43.832/2025
B4: PREGÃO ELETRÔNICO Nº: 90/2025 - EDITAL Nº 116/2025
B5: PROCESSO DE COMPRA Nº 923/2025
B6: ABERTURA:
B7: A | C7: Data de apresentação da proposta (dia/mês/ano) | D7: _____/_____/______
B8: B | C8: Município/UF: | D8: Caraguatatuba/SP
B9: C | C9: Ano Acordo, Convenção ou Sentença Normativa em Dissídio
B10: D | C10: Nº de meses de execução contratual | D10: 12 meses
B11: IDENTIFICAÇÃO DOS SERVIÇOS
C12: Unidade de Medida | D12: SERVIÇO
C13: Serviço de orientador de público/controlador de acesso período matutino – turno de 6 horas – das 6h às 12h
C14: Quantidade Total à Contratar (em função da unidade de medida - horas)
B16: Dados complementares para composição dos custos referente à mão-de-obra
B17: 1 | C17: Tipo de serviço (mesmo serviço com características distintas) | D17: Controlador de Acesso
B18: 2 | C18: Classificação Brasileira de Ocupações
B19: 3 | C19: Salário Normativo da Categoria Profissional
B20: 4 | C20: Categoria Profissional (vinculada à execução contratual) | D20: Controlador de Acesso
B21: 5 | C21: Carga Horária semanal
B22: 6 | C22: Data base da categoria (dia/mês/ano)
B23: MÓDULO 1: COMPOSIÇÃO DA REMUNERAÇÃO
B24: 1 | C24: Composição da Remuneração | D24: % | E24: Valor (R$)
B25: A | C25: Salário Base | D25: 1
B26: B | C26: Adicional de periculosidade | D26: 0.3 | E26: =ROUND((E25*D26),2) -> 0
B27: C | C27: Adicional Noturno | D27: 0 | E27: =ROUND((E25*D27),2) -> 0
B28: D | C28: Adicional de Hora Noturna Reduzida | E28: 0
B29: E | C29: Hora noturna adicional
B30: F | C30: Adicional de Hora Extra no Feriado Trabalhado (súmula 444) | E30: 0
B31: G | C31: Intervalo intrajornada | E31: 0
B32: H | C32: Outros (especificar) DSR | E32: =(E29*4)/26 -> 0
C33: T O T A L | D33: =SUM(D25:D32) -> 1.3 | E33: =ROUND(SUM(E25:E32),2) -> 0
B34: MÓDULO 2: ENCARGOS E BENEFÍCIOS ANUAIS, MENSAIS E DIÁRIOS
B35: 2.1 | C35: 13º (décimo terceiro) Salário, Férias e Adicional de Férias | E35: Valor (R$)
B36: A | C36: 13º (décimo terceiro) Salário | D36: 0.0833 | E36: =E33*D36 -> 0
B37: B | C37: Férias e Adicional de Férias | D37: 0.1111 | E37: =E33*D37 -> 0
C38: SUBTOTAL | D38: =SUM(D36+D37) -> 0.1944
B39: C | C39: Incidência dos encargos previstos no Submódulo 2.2 sobre 13° salário, férias e adicional de férias | D39: =D51*D38 -> 0.0715392 | E39: =E36*D39 -> 0
C40: T O T A L | E40: =ROUND(SUM(E36:E39),2) -> 0
B42: 2.2 | C42: Encargos Previdenciários (GPS), Fundo de Garantia por Tempo de Serviço (FGTS) e outras contribuições. | D42: % | E42: Valor (R$)
...

Sheet Turno Vespertino
B1: À PREFEITURA MUNICIPAL DA ESTÂNCIA BALNEÁRIA DE CARAGUATATUBA SECRETARIA MUNICIPAL DE ADMINISTRAÇÃO SEÇÃO DE LICITAÇÃO
B2: PLANILHA DE CUSTOS
B3: Nº DO PROCESSO: 43.832/2025
B4: PREGÃO ELETRÔNICO Nº: 90/2025 - EDITAL Nº 116/2025
B5: PROCESSO DE COMPRA Nº 923/2025
B6: ABERTURA:
B7: A | C7: Data de apresentação da proposta (dia/mês/ano) | D7: _____/_____/_____
B8: B | C8: Município/UF: | D8: Caraguatatuba/SP
B9: C | C9: Ano Acordo, Convenção ou Sentença Normativa em Dissídio
B10: D | C10: Nº de meses de execução contratual | D10: 12 meses
B11: IDENTIFICAÇÃO DOS SERVIÇOS
C12: Unidade de Medida | D12: SERVIÇO
C13: Serviço de orientador de público/controlador de acesso período vespertino – turno de 6 horas - das 12h às 18h
C14: Quantidade Total à Contratar (em função da unidade de medida - horas)
B16: Dados complementares para composição dos custos referente à mão-de-obra
B17: 1 | C17: Tipo de serviço (mesmo serviço com características distintas) | D17: Controlador de Acesso
B18: 2 | C18: Classificação Brasileira de Ocupações
B19: 3 | C19: Salário Normativo da Categoria Profissional
B20: 4 | C20: Categoria Profissional (vinculada à execução contratual) | D20: Controlador de Acesso
B21: 5 | C21: Carga Horária semanal
B22: 6 | C22: Data base da categoria (dia/mês/ano)
B23: MÓDULO 1: COMPOSIÇÃO DA REMUNERAÇÃO
B24: 1 | C24: Composição da Remuneração | D24: % | E24: Valor (R$)
B25: A | C25: Salário Base | D25: 1
B26: B | C26: Adicional de periculosidade | D26: 0.3 | E26: =ROUND((E25*D26),2) -> 0
B27: C | C27: Adicional Noturno | D27: 0 | E27: =ROUND((E25*D27),2) -> 0
B28: D | C28: Adicional de Hora Noturna Reduzida | E28: 0
B29: E | C29: Hora noturna adicional
B30: F | C30: Adicional de Hora Extra no Feriado Trabalhado (súmula 444) | E30: 0
B31: G | C31: Intervalo intrajornada | E31: 0
B32: H | C32: Outros (especificar) DSR | E32: =(E29*4)/26 -> 0
C33: T O T A L | D33: =SUM(D25:D32) -> 1.3 | E33: =ROUND(SUM(E25:E32),2) -> 0
B34: MÓDULO 2: ENCARGOS E BENEFÍCIOS ANUAIS, MENSAIS E DIÁRIOS
B35: 2.1 | C35: 13º (décimo terceiro) Salário, Férias e Adicional de Férias | E35: Valor (R$)
B36: A | C36: 13º (décimo terceiro) Salário | D36: 0.0833 | E36: =E33*D36 -> 0
B37: B | C37: Férias e Adicional de Férias | D37: 0.1111 | E37: =E33*D37 -> 0
C38: SUBTOTAL | D38: =SUM(D36+D37) -> 0.1944
B39: C | C39: Incidência dos encargos previstos no Submódulo 2.2 sobre 13° salário, férias e adicional de férias | D39: =D51*D38 -> 0.0715392 | E39: =E36*D39 -> 0
C40: T O T A L | E40: =ROUND(SUM(E36:E39),2) -> 0
B42: 2.2 | C42: Encargos Previdenciários (GPS), Fundo de Garantia por Tempo de Serviço (FGTS) e outras contribuições. | D42: % | E42: Valor (R$)
...

Sheet Turno Noturno 1
B1: À PREFEITURA MUNICIPAL DA ESTÂNCIA BALNEÁRIA DE CARAGUATATUBA SECRETARIA MUNICIPAL DE ADMINISTRAÇÃO SEÇÃO DE LICITAÇÃO
B2: PLANILHA DE CUSTOS
B3: Nº DO PROCESSO: 43.832/2025
B4: PREGÃO ELETRÔNICO Nº: 90/2025 - EDITAL Nº 116/2025
B5: PROCESSO DE COMPRA Nº 923/2025
B6: ABERTURA:
B7: A | C7: Data de apresentação da proposta (dia/mês/ano) | D7: _____/_____/______
B8: B | C8: Município/UF: | D8: Caraguatatuba/SP
B9: C | C9: Ano Acordo, Convenção ou Sentença Normativa em Dissídio
B10: D | C10: Nº de meses de execução contratual | D10: 12 meses
B11: IDENTIFICAÇÃO DOS SERVIÇOS
C12: Unidade de Medida | D12: SERVIÇO
C13: Diária de serviço de orientador de público/controlador de acesso período noturno – turno de 6 horas - das 18h às 24h
C14: Quantidade Total à Contratar (em função da unidade de medida - horas)
B16: Dados complementares para composição dos custos referente à mão-de-obra
B17: 1 | C17: Tipo de serviço (mesmo serviço com características distintas) | D17: Controlador de Acesso
B18: 2 | C18: Classificação Brasileira de Ocupações
B19: 3 | C19: Salário Normativo da Categoria Profissional
B20: 4 | C20: Categoria Profissional (vinculada à execução contratual) | D20: Controlador de Acesso
B21: 5 | C21: Carga Horária semanal
B22: 6 | C22: Data base da categoria (dia/mês/ano)
B23: MÓDULO 1: COMPOSIÇÃO DA REMUNERAÇÃO
B24: 1 | C24: Composição da Remuneração | D24: % | E24: Valor (R$)
B25: A | C25: Salário Base | D25: 1
B26: B | C26: Adicional de periculosidade | D26: 0.3 | E26: =ROUND((E25*D26),2) -> 0
B27: C | C27: Adicional Noturno | D27: 0 | E27: =ROUND((E25*D27),2) -> 0
B28: D | C28: Adicional de Hora Noturna Reduzida | E28: 0
B29: E | C29: Hora noturna adicional
B30: F | C30: Adicional de Hora Extra no Feriado Trabalhado (súmula 444) | E30: 0
B31: G | C31: Intervalo intrajornada | E31: 0
B32: H | C32: Outros (especificar) DSR | E32: =(E29*4)/26 -> 0
C33: T O T A L | D33: =SUM(D25:D32) -> 1.3 | E33: =ROUND(SUM(E25:E32),2) -> 0
B34: MÓDULO 2: ENCARGOS E BENEFÍCIOS ANUAIS, MENSAIS E DIÁRIOS
B35: 2.1 | C35: 13º (décimo terceiro) Salário, Férias e Adicional de Férias | E35: Valor (R$)
B36: A | C36: 13º (décimo terceiro) Salário | D36: 0.0833 | E36: =E33*D36 -> 0
B37: B | C37: Férias e Adicional de Férias | D37: 0.1111 | E37: =E33*D37 -> 0
C38: SUBTOTAL | D38: =SUM(D36+D37) -> 0.1944
B39: C | C39: Incidência dos encargos previstos no Submódulo 2.2 sobre 13° salário, férias e adicional de férias | D39: =D51*D38 -> 0.0715392 | E39: =E36*D39 -> 0
C40: T O T A L | E40: =ROUND(SUM(E36:E39),2) -> 0
B42: 2.2 | C42: Encargos Previdenciários (GPS), Fundo de Garantia por Tempo de Serviço (FGTS) e outras contribuições. | D42: % | E42: Valor (R$)
...

Sheet Turno Noturno 2
B1: À PREFEITURA MUNICIPAL DA ESTÂNCIA BALNEÁRIA DE CARAGUATATUBA SECRETARIA MUNICIPAL DE ADMINISTRAÇÃO SEÇÃO DE LICITAÇÃO
B2: PLANILHA DE CUSTOS
B3: Nº DO PROCESSO: 43.832/2025
B4: PREGÃO ELETRÔNICO Nº: 90/2025 - EDITAL Nº 116/2025
B5: PROCESSO DE COMPRA Nº 923/2025
B6: ABERTURA:
B7: A | C7: Data de apresentação da proposta (dia/mês/ano) | D7: _____/_____/______
B8: B | C8: Município/UF: | D8: Caraguatatuba/SP
B9: C | C9: Ano Acordo, Convenção ou Sentença Normativa em Dissídio
B10: D | C10: Nº de meses de execução contratual | D10: 12 meses
B11: IDENTIFICAÇÃO DOS SERVIÇOS
C12: Unidade de Medida | D12: SERVIÇO
C13: Diária de serviço de orientador de público/controlador de acesso período noturno – turno de 6 horas - das 0h às 6h
C14: Quantidade Total à Contratar (em função da unidade de medida - horas)
B16: Dados complementares para composição dos custos referente à mão-de-obra
B17: 1 | C17: Tipo de serviço (mesmo serviço com características distintas) | D17: Controlador de Acesso
B18: 2 | C18: Classificação Brasileira de Ocupações
B19: 3 | C19: Salário Normativo da Categoria Profissional
B20: 4 | C20: Categoria Profissional (vinculada à execução contratual) | D20: Controlador de Acesso
B21: 5 | C21: Carga Horária semanal
B22: 6 | C22: Data base da categoria (dia/mês/ano)
B23: MÓDULO 1: COMPOSIÇÃO DA REMUNERAÇÃO
B24: 1 | C24: Composição da Remuneração | D24: % | E24: Valor (R$)
B25: A | C25: Salário Base | D25: 1
B26: B | C26: Adicional de periculosidade | D26: 0.3 | E26: =ROUND((E25*D26),2) -> 0
B27: C | C27: Adicional Noturno | D27: 0 | E27: =ROUND((E25*D27),2) -> 0
B28: D | C28: Adicional de Hora Noturna Reduzida | E28: 0
B29: E | C29: Hora noturna adicional
B30: F | C30: Adicional de Hora Extra no Feriado Trabalhado (súmula 444) | E30: 0
B31: G | C31: Intervalo intrajornada | E31: 0
B32: H | C32: Outros (especificar) DSR | E32: =(E29*4)/26 -> 0
C33: T O T A L | D33: =SUM(D25:D32) -> 1.3 | E33: =ROUND(SUM(E25:E32),2) -> 0
B34: MÓDULO 2: ENCARGOS E BENEFÍCIOS ANUAIS, MENSAIS E DIÁRIOS
B35: 2.1 | C35: 13º (décimo terceiro) Salário, Férias e Adicional de Férias | E35: Valor (R$)
B36: A | C36: 13º (décimo terceiro) Salário | D36: 0.0833 | E36: =E33*D36 -> 0
B37: B | C37: Férias e Adicional de Férias | D37: 0.1111 | E37: =E33*D37 -> 0
C38: SUBTOTAL | D38: =SUM(D36+D37) -> 0.1944
B39: C | C39: Incidência dos encargos previstos no Submódulo 2.2 sobre 13° salário, férias e adicional de férias | D39: =D51*D38 -> 0.0715392 | E39: =E36*D39 -> 0
C40: T O T A L | E40: =ROUND(SUM(E36:E39),2) -> 0
B42: 2.2 | C42: Encargos Previdenciários (GPS), Fundo de Garantia por Tempo de Serviço (FGTS) e outras contribuições. | D42: % | E42: Valor (R$)
...

Sheet NOTAS
A3: NOTAS E OBSERVAÇÕES
A4: 1 | B4: O preenchimento da planilha é de responsabilidade do licitante.
A5: 2 | B5: O arquivo deve ser conferido e revisado.
A6: 3 | B6: Os índices devem ser revisados,indicados e justificados em notas dedicadas.
A7: 4 | B7: A parcela mensal a título de aviso prévio trabalhado será no percentual máximo de 1,94% no primeiro ano, e, em caso de prorrogação do contrato, o percentual máximo dessa parcela será de 0,194% a cada ano de prorrogação, a ser incluído por ocasião da formulação do aditivo da prorrogação do contrato, conforme a Lei 12.506/2011
A8: 5 | B8: A convenção coletiva utilizada deve respeitar a regionalidade da execução dos serviços e deve ser indicada na planilha.
A9: 6 | B9: Atenção para as orientações da Nota Técnica nº 652/2017 - MP
A10: 7 | B10: Atenção a Lei n.º 13.932, de 11 de dezembro de 2019, que extinguiu, a partir de 1º de janeiro de 2020, a contribuição social instituída por meio do art. 1º da Lei Complementar n.º 110/2001.
A11: 8 | B11: Quando tributados pelo regime de incidência não-cumulativa de PIS e COFINS, as empresas devem utilizar na planilha de custos e formação de preços as alíquotas médias efetivamente recolhidas dessas contribuições.

Sheet Encargos Sociais e Benefícios
B1: Nota explicativa encargos sociais: 1) insira notas explicativas, caso necessário.
B4: DETALHAMENTO DOS ENCARGOS SOCIAIS
B5: MÓDULO 2: ENCARGOS E BENEFÍCIOS ANUAIS, MENSAIS E DIÁRIOS
B6: 2.1 13º Salário e Adicional Férias | C6: %
B7: A - 13º Salário - Gratificação de Natal, instituída pela Lei nº 4.090, de 13 de julho de 1962. A provisão mensal representa 1/12 da folha para que ao final do período complete um salário. | C7: 0.0833
B8: B – Férias - artigo 7º, inciso XVII da Constituição Federal. Afastamento de 30 dias, sem prejuízo da remuneração, após cada período de 12 meses de vigência do contrato de trabalho. O pagamento ocorre conforme preceitua o artigo 129 e o inciso I, artigo 130, do Decreto-Lei nº 5.452/43 - CLT. (5/56)*100=8,93% + Adicional de Férias – Conforme artigo 7º, inciso XVII da Constituição Federal, paga-se 1/3 do salário ao empregado quando do gozo das ferias ((5/56)x(1/3))x10 | C8: 0.1111108
B9: Total | C9: =SUM(C7:C8) -> 0.1944108
B10: 2.2 Encargos Previdenciários (GPS), Fundo de Garantia por Tempo de Serviço (FGTS) e outras contribuições.
B11: A - INSS – Conforme o artigo 22, inciso I, da Lei 8.212/91, empresa custeia 20%. | C11: 0.2
B12: B - Salário Educação – A prestadora de serviços contribui com 2,5%, por determinação do art. 15, da Lei nº 9.424/96; do art. 2º do Decreto nº 3.142/99; e art. 212, § 5º da CF. | C12: 0.025
B13: C - Seguro Acidente do Trabalho - SAT (FAP x RAT) | C13: 0.03
B14: D - SESI/SESC – Conforme o artigo 30 da Lei n. 8.036/90 | C14: 0.015
B15: E - SENAI /SENAC – O contribuinte arca com 1%, em obediência ao Decreto-Lei nº 2.318/86. | C15: 0.01
B16: F - SEBRAE – O empregador, para atender à Lei nº 8.029/90, contribui com 0,6% sobre a folha de pagamento. | C16: 0.006
B17: G - INCRA – A empresa participa com 0,2%, para atendimento dos artigos 1º e 2º do Decreto-Lei nº 1.146/70. | C17: 0.002
B18: H - FGTS - O depósito voltou a ser de 8%, como preconiza a Lei Complementar 110/2001. O tributo está previsto no art. 7º, Inciso III, da Constituição Federal, tendo sido regulamentado pela Lei nº 8.030/90, artigo 15. | C18: 0.08
B19: Total | C19: =SUM(C11:C18) -> 0.368
B20: MÓDULOS - 3 PROVISÃO PARA RESCISÃO | C20: %
B21: A - Aviso Prévio indenizado - FUNDAMENTAÇÃO LEGAL: - Constituição Federal de 1988 (Art. 7°, inciso XXI) e CLT (Art. 477, art. 487 a 491 - Estudos CNJ – Resolução 98/2009: Aviso Prévio indenizado - Trata-se de valor devido ao empregado no caso de o empregador rescindir o contrato sem justo motivo e sem lhe conceder aviso prévio, conforme disposto no § 1º do art. 487 da CLT. 1 salário integral x (1 mês não trabalhado / 12 meses) x 5,5% estatística = 0,42% | C21: 0.0042
B22: B - Incidência do FGTS sobre o aviso prévio indenizado. (Retificado o item “B” do Submódulo 4.4 - provisão para rescisão publicado no Diário Oficial da União n° 63, Seção I, página 92, em 1° de abril de 2011.) 8% x 0,42% = 0,03% | C22: =C21*C18 -> 0.000336
B23: C – Multa do FGTS do aviso prévio indenizado (Multa FGTS - Rescisão sem Justa Causa:)– valor da multado FGTS. (Remuneração + 13º salário + Férias + Adicional de férias) x 50% multa x 8% Fgts x 0,9 x 0,5 = 2,15; (1 Remuneração + 0,0833 13º Salário + 0,0833 Férias + 0,0278 Adic.Férias) x 0,5 Multa x 0,08 FGTS x 0,9 x 0,5 = 2,15 | C23: 0.00773
B24: D – Aviso prévio trabalhado – FUNDAMENTAÇÃO LEGAL: - Jurisprudência - TCU (Acórdão 3.006/2010 – Plenário - vide apêndice pág. 53) - Estudos CNJ – Resolução 98/2009 - Aviso Prévio: Refere-se à indenização de sete dias corridos devida ao empregado no caso de o empregador rescindir o contrato sem justo motivo e conceder aviso prévio, conforme disposto no art. 488 da CLT. [(1 salário integral / 30 dias) x 7 dias] / 12 meses = 1,94% é o índice Base de Cálculo = Módulo 1 + Módulo 2 + 13º + Adicional de Férias Cálculo: (Base de Cálculo) x 1,94% | C24: 0.0194
B25: E - Incidência dos encargos do submódulo 2.2 sobre aviso prévio trabalhado. (Submódulo 4.1) x 1,94% Exemplo: 39,80% x 1,94% = 0,77% seria o índice Base de Cálculo = Módulo 1 + Módulo 2 + 13º + Adicional de Férias Cálculo: (Base de Cálculo) x 0,77% | C25: =C24*C19 -> 0.0071392
B26: F– Multa do FGTS e Contribuição social sobre aviso prévio trabalhado (Multa FGTS - Rescisão sem Justa Causa:)– Prevista no art. 9º da Lei nº 7.238, de 29 de outubro de 1984, assegura ao empregado dispensado sem justa causa nos trinta dias que antecederem a convenção salarial o direito à percepção de indenização adicional equivalente a um mês de remuneração. (Remuneração + 13º salário + Férias + Adicional de férias) x 50% multa x 8% Fgts x 0,9 x 0,5 (1 Remuneração + 0,0833 13º Salário + 0,0833 Férias + 0,0278 Adic.Férias) x 0,5 Multa x 0,08 FGTS x 0,9 x 0,5 | C26: 0.04
B27: Total | C27: =SUM(C21:C26) -> 0.0788052
B28: MÓDULO 4 - COMPOSIÇÃO DO CUSTO DE REPOSIÇÃO DO PROFISSIONAL AUSENTE | C28: %
B29: 4.1 Ausências legais
B30: A – Férias - artigo 7º, inciso XVII da Constituição Federal. Afastamento de 30 dias, sem prejuízo da remuneração, após cada período de 12 meses de vigência do contrato de trabalho. O pagamento ocorre conforme preceitua o artigo 129 e o inciso I, artigo 130, do Decreto-Lei nº 5.452/43 - CLT. 1 salário x (1/12)= 0,08333 = 8,33% | C30: 0.092
B31: B -Ausençia por Doença: 5,96 dias/ano IBGE. (5,96 dias/30 dias) x (1/12 meses) = 0,0166 = 1,66% | C31: 0.0166
B32: C - Licença Paternidade - Licença de 5 dias. Taxa de fecundidade = 6,24%. O ônus da licença maternidade é suportada pelo INSS, então calculamos apenas a participação masculina. Criada pelo art. 7º, inciso XIX da CF, combinado com o art. 10, § 1º dos Atos das Disposições Constitucionais Transitórias – ADCT -, concede ao empregado o direito de ausentar-se do serviço por cinco dias quando do nascimento de filho. (5 dias/30dias) x (1/12 meses) x 6,24% taxa de fecundidade x 50% participação masculina = 0,0004 = 0,04% | C32: 0.0004
B33: D – Ausência por Acidente de Trabalho - O artigo 27 do Decreto nº 89.312, de 23/01/84, obriga o empregador a assumir o ônus financeiro pelo prazo de 15 dias, no caso de acidente de trabalho previsto no art. 131 da CLT. De acordo com os números mais recentes apresentados pelo Ministério da Previdência de Assistência Social, baseados em informações prestadas pelos empregadores, por meio da GFIP, 0,78% (zero vírgula setenta e oito por cento) dos empregados se acidentam no ano. Assim a provisão se faz necessária. (0,91 dias / 30 dias)x(1/12 meses) = 0,0027 = 0,27% | C33: 0.0027
B34: E – Ausências Legais - Ausências ao trabalho asseguradas ao empregado pelo art. 473 da CLT (morte de cônjuge, ascendente, descendente; casamento; nascimento de filho; doação de sangue; alistamento eleitoral; serviço militar; comparecer a juízo). 2,96 faltas/ano. (2,96 dias/30 dias) x (1/12 meses) = 0,0073% = 0,73% | C34: 0.0073
B35: F – Outros
B36: Total | C36: =SUM(C30:C35) -> 0.119
B37: 4.1 Intrajornada
B38: Intervalo para repouso ou alimentação | C38: 0
B39: Total | C39: =SUM(C38) -> 0
B41: Total dos encargos sociais (soma dos submódulos 2.1, 2.2, 3, 4.1 e 4.2) | C41: =ROUND(SUM(C9,C19,C27,C36,C39),2) -> 0.76
A43: 2.3 | B43: Benefícios Mensais e Diários | C43: Valor Unitário/diário (R$)
A44: A | B44: Transporte
...

Sheet Supervisor
B1: UTFPR
B2: PLANILHA DE CUSTOS E FORMAÇÃO DE PREÇOS
B3: Nº DO PROCESO:
B4: LICITAÇÃO Nº:
B5: DIA __/__/__ às __:__ HORAS
B6: A | C6: Data de apresentação da proposta (dia/mês/ano)
B7: B | C7: Município/UF: | D7: CURITIBA
B8: C | C8: Ano Acordo, Convenção ou Sentença Normativa em Dissídio | D8: PR000105/2018
B9: D | C9: Nº de meses de execução contratual | D9: 12 Meses
B10: IDENTIFICAÇÃO DOS SERVIÇOS
C11: Unidade de Medida | D11: Posto
C12: Quantidade Total à Contratar (em função da unidade de medida) | D12: 1
C13: Supervisor: Segunda à Sexta
B14: Dados complementares para composição dos custos referente à mão-de-obra
B15: 1 | C15: Tipo de serviço (mesmo serviço com características distintas) | D15: SUPERVISOR
B16: 2 | C16: Classificação Brasileira de Ocupações | D16: 0
B17: 3 | C17: Salário Normativo da Categoria Profissional | D17: 1928
B18: 4 | C18: Categoria Profissional (vinculada à execução contratual)
B19: 5 | C19: Data base da categoria (dia/mês/ano) | D19: 43132
B20: MÓDULO 1: COMPOSIÇÃO DA REMUNERAÇÃO
B21: 1 | C21: Composição da Remuneração | D21: % | E21: Valor (R$)
B22: A | C22: Salário Base | D22: 1 | E22: =D17 -> 1928
B23: B | C23: Adicional de periculosidade | D23: 0 | E23: =ROUND((E22*D23),2) -> 0
B24: C | C24: Adicional Noturno | D24: 0 | E24: =ROUND((E22*D24),2) -> 0
B25: D | C25: Adicional de Hora Noturna Reduzida | E25: 0
B26: E | C26: Hora noturna adicional | E26: 0
B27: F | C27: Adicional de Hora Extra no Feriado Trabalhado (súmula 444)
B28: G | C28: Intervalo intrajornada | E28: 0
B29: H | C29: Outros (especificar) | E29: 0
C30: T O T A L | D30: =SUM(D22:D29) -> 1 | E30: =ROUND(SUM(E22:E29),2) -> 1928
B31: MÓDULO 2: ENCARGOS E BENEFÍCIOS ANUAIS, MENSAIS E DIÁRIOS
B32: 2.1 | C32: 13º (décimo terceiro) Salário, Férias e Adicional de Férias | E32: Valor (R$)
B33: A | C33: 13º (décimo terceiro) Salário | E33: =ROUND(($E$30*'Encargos Sociais e Benefícios'!C7),2) -> 160.6
B34: B | C34: Férias e Adicional de Férias | E34: =ROUND(($E$30*'Encargos Sociais e Benefícios'!C8),2) -> 214.22 | H34: =(33.33%/12)+(8.33%/12) -> 0.034716667
C35: T O T A L | E35: =ROUND(SUM(E33:E34),2) -> 374.82
B37: 2.2 | C37: Encargos Previdenciários (GPS), Fundo de Garantia por Tempo de Serviço (FGTS) e outras contribuições. | D37: % | E37: Valor (R$)
B38: A | C38: INSS | D38: ='Encargos Sociais e Benefícios'!C11 -> 0.2 | E38: =ROUND(($E$30*'Encargos Sociais e Benefícios'!C11),2) -> 385.6
B39: B | C39: Salário Educação | D39: ='Encargos Sociais e Benefícios'!C12 -> 0.025 | E39: =ROUND(($E$30*'Encargos Sociais e Benefícios'!C12),2) -> 48.2
B40: C | C40: SAT | D40: ='Encargos Sociais e Benefícios'!C13 -> 0.03 | E40: =ROUND(($E$30*'Encargos Sociais e Benefícios'!C13),2) -> 57.84
B41: D | C41: SESC ou SESI | D41: ='Encargos Sociais e Benefícios'!C14 -> 0.015 | E41: =ROUND(($E$30*'Encargos Sociais e Benefícios'!C14),2) -> 28.92
...
