Workbook
Name \0: #REF!
Name \0: #REF!
Name \a: #REF!
Name \a: #REF!
Name \ATU_ANT: #REF!
Name \ATU_ANT: #REF!
Name \b: #REF!
Name \b: #REF!
Name \c: #REF!
Name \c: #REF!
Name \CALC_DIF: #REF!
Name \CALC_DIF: #REF!
Name \CC: #REF!
Name \CC: #REF!
Name \CO: #REF!
Name \CO: #REF!
Name \D: #REF!
Name \D: #REF!
Name \e: #REF!
Name \e: #REF!
Name \f: #REF!
Name \f: #REF!
Name \G: #REF!
Name \G: #REF!
Name \GO: #REF!
Name \GO: #REF!
Name \H: #REF!
Name \H: #REF!
Name \i: #REF!
Name \i: #REF!
Name \I_PF: #REF!
Name \I_PF: #REF!
Name \j: #REF!
Name \j: #REF!
Name \K: #REF!
Name \K: #REF!
Name \L: #REF!
Name \L: #REF!
Name \m: #REF!
Name \m: #REF!
Name \M_R_AUX: #REF!
Name \M_R_AUX: #REF!
Name \M1: #REF!
Name \M1: #REF!
Name \M10: #REF!
Name \M10: #REF!
Name \M11: #REF!
Name \M11: #REF!
Name \M12: #REF!
Name \M12: #REF!
Name \M13: #REF!
Name \M13: #REF!
Name \M2: #REF!
Name \M2: #REF!
Name \M3: #REF!
Name \M3: #REF!
Name \M4: #REF!
Name \M4: #REF!
Name \M5: #REF!
Name \M5: #REF!

Sheet Anexo VI - MODELO PLANILHA
A1: ANEXO VI - PLANILHA ESTIMATIVA DE QUANTIDADES E PREÇOS
A2: EXECUÇÃO DE OBRAS E SERVIÇOS DE MANUTENÇÃO CONTINUADA PREVENTIVA E CORRETIVA EM ASSENTAMENTOS PRECÁRIOS
A3: (FAVELAS ÁREAS DE RISCO E LOTEAMENTOS IRREGULARES ) OCUPADOS POR POPULAÇÃO DE BAIXA RENDA
D4: Concorrência Eletrônica n° 402/2025
A5: ITEM | B5: FONTE | C5: CÓDIGO | D5: DESCRIÇÃO | E5: UNID | F5: QUANTIDADE | G5: PREÇO UNITÁRIO R$ | I5: PREÇO TOTAL R$
G6: SEM BDI | H6: COM BDI | I6: SEM BDI | J6: COM BDI
A7: 1 | D7: SERVIÇOS DE CONSERVAÇÃO EM GERAL | I7: =SUBTOTAL(9,I8:I202) -> 0 | J7: =SUBTOTAL(9,J8:J202) -> 0
A8: 1.1 | D8: SERVIÇOS PRELIMINARES | I8: =SUBTOTAL(9,I9:I15) -> 0 | J8: =SUBTOTAL(9,J9:J15) -> 0
A9: 1.1.1 | B9: SIURB_INFRA | C9: 1010000 | D9: =IF(B9="SIURB_INFRA",VLOOKUP(C9,'[25]Custos Unit INFRA ComDes Jan25'!$A:$D,2,0),IF(B9="SIURB_EDIF",VLOOKUP(C9,'[25]Custos Unit EDIF ComDes Jan25'!$A:$D,2,0),IF(B9="SINAPI",VLOOKUP(C9,[25]SINAPI!$G:$K,2,0),IF(B9="CDHU",VLOOKUP(C9,[25]CDHU!$A:$F,2,0),IF(B9="EQUIP_SIURB",VLOOKUP(C9,'[25]Equip Com Des Jan25'!$A:$D,2,0),""))))) -> LEVANTAMENTO PLANIALTIMÉTRICO CADASTRAL | E9: =IF(B9="SIURB_INFRA",VLOOKUP(C9,'[25]Custos Unit INFRA ComDes Jan25'!$A:$D,3,0),IF(B9="SIURB_EDIF",VLOOKUP(C9,'[25]Custos Unit EDIF ComDes Jan25'!$A:$D,3,0),IF(B9="SINAPI",VLOOKUP(C9,[25]SINAPI!$G:$K,3,0),IF(B9="CDHU",VLOOKUP(C9,[25]CDHU!$A:$F,3,0),IF(B9="EQUIP_SIURB","H",""))))) -> M2 | F9: =VLOOKUP(A9,[25]MEMÓRIA!$B$9:$V$1635,17,FALSE) -> 30000 | H9: =ROUND(G9*(1+$I$433),2) -> 0 | I9: =ROUND(G9*F9,2) -> 0 | J9: =ROUND(H9*F9,2) -> 0
A10: 1.1.2 | B10: SIURB_INFRA | C10: 1014000 | D10: =IF(B10="SIURB_INFRA",VLOOKUP(C10,'[25]Custos Unit INFRA ComDes Jan25'!$A:$D,2,0),IF(B10="SIURB_EDIF",VLOOKUP(C10,'[25]Custos Unit EDIF ComDes Jan25'!$A:$D,2,0),IF(B10="SINAPI",VLOOKUP(C10,[25]SINAPI!$G:$K,2,0),IF(B10="CDHU",VLOOKUP(C10,[25]CDHU!$A:$F,2,0),IF(B10="EQUIP_SIURB",VLOOKUP(C10,'[25]Equip Com Des Jan25'!$A:$D,2,0),""))))) -> LEVANTAMENTO PLANIMÉTRICO DE VIA PÚBLICA E SEMI-CADASTRO DE IMÓVEIS | E10: =IF(B10="SIURB_INFRA",VLOOKUP(C10,'[25]Custos Unit INFRA ComDes Jan25'!$A:$D,3,0),IF(B10="SIURB_EDIF",VLOOKUP(C10,'[25]Custos Unit EDIF ComDes Jan25'!$A:$D,3,0),IF(B10="SINAPI",VLOOKUP(C10,[25]SINAPI!$G:$K,3,0),IF(B10="CDHU",VLOOKUP(C10,[25]CDHU!$A:$F,3,0),IF(B10="EQUIP_SIURB","H",""))))) -> M | F10: =VLOOKUP(A10,[25]MEMÓRIA!$B$9:$V$1635,17,FALSE) -> 600 | H10: =ROUND(G10*(1+$I$433),2) -> 0 | I10: =ROUND(G10*F10,2) -> 0 | J10: =ROUND(H10*F10,2) -> 0
A11: 1.1.3 | B11: SIURB_INFRA | C11: 1015000 | D11: =IF(B11="SIURB_INFRA",VLOOKUP(C11,'[25]Custos Unit INFRA ComDes Jan25'!$A:$D,2,0),IF(B11="SIURB_EDIF",VLOOKUP(C11,'[25]Custos Unit EDIF ComDes Jan25'!$A:$D,2,0),IF(B11="SINAPI",VLOOKUP(C11,[25]SINAPI!$G:$K,2,0),IF(B11="CDHU",VLOOKUP(C11,[25]CDHU!$A:$F,2,0),IF(B11="EQUIP_SIURB",VLOOKUP(C11,'[25]Equip Com Des Jan25'!$A:$D,2,0),""))))) -> NIVELAMENTO DO EIXO DE VIA PÚBLICA INCLUSIVE SOLEIRAS, GUIAS E TAMPÕES | E11: =IF(B11="SIURB_INFRA",VLOOKUP(C11,'[25]Custos Unit INFRA ComDes Jan25'!$A:$D,3,0),IF(B11="SIURB_EDIF",VLOOKUP(C11,'[25]Custos Unit EDIF ComDes Jan25'!$A:$D,3,0),IF(B11="SINAPI",VLOOKUP(C11,[25]SINAPI!$G:$K,3,0),IF(B11="CDHU",VLOOKUP(C11,[25]CDHU!$A:$F,3,0),IF(B11="EQUIP_SIURB","H",""))))) -> M | F11: =VLOOKUP(A11,[25]MEMÓRIA!$B$9:$V$1635,17,FALSE) -> 300 | H11: =ROUND(G11*(1+$I$433),2) -> 0 | I11: =ROUND(G11*F11,2) -> 0 | J11: =ROUND(H11*F11,2) -> 0
A12: 1.1.4 | B12: SIURB_INFRA | C12: 10016001 | D12: =IF(B12="SIURB_INFRA",VLOOKUP(C12,'[25]Custos Unit INFRA ComDes Jan25'!$A:$D,2,0),IF(B12="SIURB_EDIF",VLOOKUP(C12,'[25]Custos Unit EDIF ComDes Jan25'!$A:$D,2,0),IF(B12="SINAPI",VLOOKUP(C12,[25]SINAPI!$G:$K,2,0),IF(B12="CDHU",VLOOKUP(C12,[25]CDHU!$A:$F,2,0),IF(B12="EQUIP_SIURB",VLOOKUP(C12,'[25]Equip Com Des Jan25'!$A:$D,2,0),""))))) -> SINALIZAÇÃO - TAPUME MÓVEL | E12: =IF(B12="SIURB_INFRA",VLOOKUP(C12,'[25]Custos Unit INFRA ComDes Jan25'!$A:$D,3,0),IF(B12="SIURB_EDIF",VLOOKUP(C12,'[25]Custos Unit EDIF ComDes Jan25'!$A:$D,3,0),IF(B12="SINAPI",VLOOKUP(C12,[25]SINAPI!$G:$K,3,0),IF(B12="CDHU",VLOOKUP(C12,[25]CDHU!$A:$F,3,0),IF(B12="EQUIP_SIURB","H",""))))) -> M2 | F12: =VLOOKUP(A12,[25]MEMÓRIA!$B$9:$V$1635,17,FALSE) -> 180 | H12: =ROUND(G12*(1+$I$433),2) -> 0 | I12: =ROUND(G12*F12,2) -> 0 | J12: =ROUND(H12*F12,2) -> 0
A13: 1.1.5 | B13: SIURB_INFRA | C13: 10018000 | D13: =IF(B13="SIURB_INFRA",VLOOKUP(C13,'[25]Custos Unit INFRA ComDes Jan25'!$A:$D,2,0),IF(B13="SIURB_EDIF",VLOOKUP(C13,'[25]Custos Unit EDIF ComDes Jan25'!$A:$D,2,0),IF(B13="SINAPI",VLOOKUP(C13,[25]SINAPI!$G:$K,2,0),IF(B13="CDHU",VLOOKUP(C13,[25]CDHU!$A:$F,2,0),IF(B13="EQUIP_SIURB",VLOOKUP(C13,'[25]Equip Com Des Jan25'!$A:$D,2,0),""))))) -> PROTEÇÃO PARA TERCEIROS COM TELA DE NYLON | E13: =IF(B13="SIURB_INFRA",VLOOKUP(C13,'[25]Custos Unit INFRA ComDes Jan25'!$A:$D,3,0),IF(B13="SIURB_EDIF",VLOOKUP(C13,'[25]Custos Unit EDIF ComDes Jan25'!$A:$D,3,0),IF(B13="SINAPI",VLOOKUP(C13,[25]SINAPI!$G:$K,3,0),IF(B13="CDHU",VLOOKUP(C13,[25]CDHU!$A:$F,3,0),IF(B13="EQUIP_SIURB","H",""))))) -> M2 | F13: =VLOOKUP(A13,[25]MEMÓRIA!$B$9:$V$1635,17,FALSE) -> 500 | H13: =ROUND(G13*(1+$I$433),2) -> 0 | I13: =ROUND(G13*F13,2) -> 0 | J13: =ROUND(H13*F13,2) -> 0
A14: 1.1.6 | B14: SINAPI | C14: 99059 | D14: =IF(B14="SIURB_INFRA",VLOOKUP(C14,'[25]Custos Unit INFRA ComDes Jan25'!$A:$D,2,0),IF(B14="SIURB_EDIF",VLOOKUP(C14,'[25]Custos Unit EDIF ComDes Jan25'!$A:$D,2,0),IF(B14="SINAPI",VLOOKUP(C14,[25]SINAPI!$G:$K,2,0),IF(B14="CDHU",VLOOKUP(C14,[25]CDHU!$A:$F,2,0),IF(B14="EQUIP_SIURB",VLOOKUP(C14,'[25]Equip Com Des Jan25'!$A:$D,2,0),""))))) -> LOCAÇÃO CONVENCIONAL DE OBRA, UTILIZANDO GABARITO DE TÁBUAS CORRIDAS PONTALETADAS A CADA 2,00M - 2 UTILIZAÇÕES. AF_03/2024 | E14: =IF(B14="SIURB_INFRA",VLOOKUP(C14,'[25]Custos Unit INFRA ComDes Jan25'!$A:$D,3,0),IF(B14="SIURB_EDIF",VLOOKUP(C14,'[25]Custos Unit EDIF ComDes Jan25'!$A:$D,3,0),IF(B14="SINAPI",VLOOKUP(C14,[25]SINAPI!$G:$K,3,0),IF(B14="CDHU",VLOOKUP(C14,[25]CDHU!$A:$F,3,0),IF(B14="EQUIP_SIURB","H",""))))) -> M | F14: =VLOOKUP(A14,[25]MEMÓRIA!$B$9:$V$1635,17,FALSE) -> 95 | H14: =ROUND(G14*(1+$I$433),2) -> 0 | I14: =ROUND(G14*F14,2) -> 0 | J14: =ROUND(H14*F14,2) -> 0
A15: 1.1.7 | B15: SINAPI | C15: 99063 | D15: =IF(B15="SIURB_INFRA",VLOOKUP(C15,'[25]Custos Unit INFRA ComDes Jan25'!$A:$D,2,0),IF(B15="SIURB_EDIF",VLOOKUP(C15,'[25]Custos Unit EDIF ComDes Jan25'!$A:$D,2,0),IF(B15="SINAPI",VLOOKUP(C15,[25]SINAPI!$G:$K,2,0),IF(B15="CDHU",VLOOKUP(C15,[25]CDHU!$A:$F,2,0),IF(B15="EQUIP_SIURB",VLOOKUP(C15,'[25]Equip Com Des Jan25'!$A:$D,2,0),""))))) -> LOCAÇÃO DE REDE DE ÁGUA OU ESGOTO. AF_03/2024 | E15: =IF(B15="SIURB_INFRA",VLOOKUP(C15,'[25]Custos Unit INFRA ComDes Jan25'!$A:$D,3,0),IF(B15="SIURB_EDIF",VLOOKUP(C15,'[25]Custos Unit EDIF ComDes Jan25'!$A:$D,3,0),IF(B15="SINAPI",VLOOKUP(C15,[25]SINAPI!$G:$K,3,0),IF(B15="CDHU",VLOOKUP(C15,[25]CDHU!$A:$F,3,0),IF(B15="EQUIP_SIURB","H",""))))) -> M | F15: =VLOOKUP(A15,[25]MEMÓRIA!$B$9:$V$1635,17,FALSE) -> 700 | H15: =ROUND(G15*(1+$I$433),2) -> 0 | I15: =ROUND(G15*F15,2) -> 0 | J15: =ROUND(H15*F15,2) -> 0
A16: 1.2 | D16: MOVIMENTAÇÃO TERRA | I16: =SUBTOTAL(9,I17:I36) -> 0 | J16: =SUBTOTAL(9,J17:J36) -> 0
A17: 1.2.1 | B17: SIURB_EDIF | C17: 1001001 | D17: =IF(B17="SIURB_INFRA",VLOOKUP(C17,'[25]Custos Unit INFRA ComDes Jan25'!$A:$D,2,0),IF(B17="SIURB_EDIF",VLOOKUP(C17,'[25]Custos Unit EDIF ComDes Jan25'!$A:$D,2,0),IF(B17="SINAPI",VLOOKUP(C17,[25]SINAPI!$G:$K,2,0),IF(B17="CDHU",VLOOKUP(C17,[25]CDHU!$A:$F,2,0),IF(B17="EQUIP_SIURB",VLOOKUP(C17,'[25]Equip Com Des Jan25'!$A:$D,2,0),""))))) -> LIMPEZA MECANIZADA GERAL, INCLUSIVE REMOÇÃO DA COBERTURA VEGETAL - TRONCOS COM DIÂMETRO ATÉ 10CM - SEM TRANSPORTE | E17: =IF(B17="SIURB_INFRA",VLOOKUP(C17,'[25]Custos Unit INFRA ComDes Jan25'!$A:$D,3,0),IF(B17="SIURB_EDIF",VLOOKUP(C17,'[25]Custos Unit EDIF ComDes Jan25'!$A:$D,3,0),IF(B17="SINAPI",VLOOKUP(C17,[25]SINAPI!$G:$K,3,0),IF(B17="CDHU",VLOOKUP(C17,[25]CDHU!$A:$F,3,0),IF(B17="EQUIP_SIURB","H",""))))) -> M2 | F17: =VLOOKUP(A17,[25]MEMÓRIA!$B$9:$V$1635,17,FALSE) -> 6500 | H17: =ROUND(G17*(1+$I$433),2) -> 0 | I17: =ROUND(G17*F17,2) -> 0 | J17: =ROUND(H17*F17,2) -> 0
A18: 1.2.2 | B18: SIURB_EDIF | C18: 1001005 | D18: =IF(B18="SIURB_INFRA",VLOOKUP(C18,'[25]Custos Unit INFRA ComDes Jan25'!$A:$D,2,0),IF(B18="SIURB_EDIF",VLOOKUP(C18,'[25]Custos Unit EDIF ComDes Jan25'!$A:$D,2,0),IF(B18="SINAPI",VLOOKUP(C18,[25]SINAPI!$G:$K,2,0),IF(B18="CDHU",VLOOKUP(C18,[25]CDHU!$A:$F,2,0),IF(B18="EQUIP_SIURB",VLOOKUP(C18,'[25]Equip Com Des Jan25'!$A:$D,2,0),""))))) -> CARGA MECANIZADA E REMOÇÃO DE ENTULHO, INCLUSIVE TRANSPORTE ATÉ 1KM | E18: =IF(B18="SIURB_INFRA",VLOOKUP(C18,'[25]Custos Unit INFRA ComDes Jan25'!$A:$D,3,0),IF(B18="SIURB_EDIF",VLOOKUP(C18,'[25]Custos Unit EDIF ComDes Jan25'!$A:$D,3,0),IF(B18="SINAPI",VLOOKUP(C18,[25]SINAPI!$G:$K,3,0),IF(B18="CDHU",VLOOKUP(C18,[25]CDHU!$A:$F,3,0),IF(B18="EQUIP_SIURB","H",""))))) -> M3 | F18: =VLOOKUP(A18,[25]MEMÓRIA!$B$9:$V$1635,17,FALSE) -> 8000 | H18: =ROUND(G18*(1+$I$433),2) -> 0 | I18: =ROUND(G18*F18,2) -> 0 | J18: =ROUND(H18*F18,2) -> 0
A19: 1.2.3 | B19: SIURB_EDIF | C19: 1001007 | D19: =IF(B19="SIURB_INFRA",VLOOKUP(C19,'[25]Custos Unit INFRA ComDes Jan25'!$A:$D,2,0),IF(B19="SIURB_EDIF",VLOOKUP(C19,'[25]Custos Unit EDIF ComDes Jan25'!$A:$D,2,0),IF(B19="SINAPI",VLOOKUP(C19,[25]SINAPI!$G:$K,2,0),IF(B19="CDHU",VLOOKUP(C19,[25]CDHU!$A:$F,2,0),IF(B19="EQUIP_SIURB",VLOOKUP(C19,'[25]Equip Com Des Jan25'!$A:$D,2,0),""))))) -> REMOÇÃO DE ENTULHO COM CAÇAMBA METÁLICA, INCLUSIVE CARGA MANUAL E DESCARGA EM BOTA-FORA | E19: =IF(B19="SIURB_INFRA",VLOOKUP(C19,'[25]Custos Unit INFRA ComDes Jan25'!$A:$D,3,0),IF(B19="SIURB_EDIF",VLOOKUP(C19,'[25]Custos Unit EDIF ComDes Jan25'!$A:$D,3,0),IF(B19="SINAPI",VLOOKUP(C19,[25]SINAPI!$G:$K,3,0),IF(B19="CDHU",VLOOKUP(C19,[25]CDHU!$A:$F,3,0),IF(B19="EQUIP_SIURB","H",""))))) -> M3 | F19: =VLOOKUP(A19,[25]MEMÓRIA!$B$9:$V$1635,17,FALSE) -> 120 | H19: =ROUND(G19*(1+$I$433),2) -> 0 | I19: =ROUND(G19*F19,2) -> 0 | J19: =ROUND(H19*F19,2) -> 0
A20: 1.2.4 | B20: SIURB_EDIF | C20: 1001008 | D20: =IF(B20="SIURB_INFRA",VLOOKUP(C20,'[25]Custos Unit INFRA ComDes Jan25'!$A:$D,2,0),IF(B20="SIURB_EDIF",VLOOKUP(C20,'[25]Custos Unit EDIF ComDes Jan25'!$A:$D,2,0),IF(B20="SINAPI",VLOOKUP(C20,[25]SINAPI!$G:$K,2,0),IF(B20="CDHU",VLOOKUP(C20,[25]CDHU!$A:$F,2,0),IF(B20="EQUIP_SIURB",VLOOKUP(C20,'[25]Equip Com Des Jan25'!$A:$D,2,0),""))))) -> LIMPEZA MANUAL GERAL INCLUSIVE REMOÇÃO DE COBERTURA VEGETAL - TRONCO ATÉ 10CM - SEM TRANSPORTE | E20: =IF(B20="SIURB_INFRA",VLOOKUP(C20,'[25]Custos Unit INFRA ComDes Jan25'!$A:$D,3,0),IF(B20="SIURB_EDIF",VLOOKUP(C20,'[25]Custos Unit EDIF ComDes Jan25'!$A:$D,3,0),IF(B20="SINAPI",VLOOKUP(C20,[25]SINAPI!$G:$K,3,0),IF(B20="CDHU",VLOOKUP(C20,[25]CDHU!$A:$F,3,0),IF(B20="EQUIP_SIURB","H",""))))) -> M2 | F20: =VLOOKUP(A20,[25]MEMÓRIA!$B$9:$V$1635,17,FALSE) -> 600 | H20: =ROUND(G20*(1+$I$433),2) -> 0 | I20: =ROUND(G20*F20,2) -> 0 | J20: =ROUND(H20*F20,2) -> 0
A21: 1.2.5 | B21: SIURB_EDIF | C21: 1001009 | D21: =IF(B21="SIURB_INFRA",VLOOKUP(C21,'[25]Custos Unit INFRA ComDes Jan25'!$A:$D,2,0),IF(B21="SIURB_EDIF",VLOOKUP(C21,'[25]Custos Unit EDIF ComDes Jan25'!$A:$D,2,0),IF(B21="SINAPI",VLOOKUP(C21,[25]SINAPI!$G:$K,2,0),IF(B21="CDHU",VLOOKUP(C21,[25]CDHU!$A:$F,2,0),IF(B21="EQUIP_SIURB",VLOOKUP(C21,'[25]Equip Com Des Jan25'!$A:$D,2,0),""))))) -> DESTOCAMENTO MANUAL, INCLUSIVE REMOÇÃO DE RAÍZES - DIÂMETRO 10,01 À 30 CM | E21: =IF(B21="SIURB_INFRA",VLOOKUP(C21,'[25]Custos Unit INFRA ComDes Jan25'!$A:$D,3,0),IF(B21="SIURB_EDIF",VLOOKUP(C21,'[25]Custos Unit EDIF ComDes Jan25'!$A:$D,3,0),IF(B21="SINAPI",VLOOKUP(C21,[25]SINAPI!$G:$K,3,0),IF(B21="CDHU",VLOOKUP(C21,[25]CDHU!$A:$F,3,0),IF(B21="EQUIP_SIURB","H",""))))) -> UN | F21: =VLOOKUP(A21,[25]MEMÓRIA!$B$9:$V$1635,17,FALSE) -> 9 | H21: =ROUND(G21*(1+$I$433),2) -> 0 | I21: =ROUND(G21*F21,2) -> 0 | J21: =ROUND(H21*F21,2) -> 0
A22: 1.2.6 | B22: SIURB_EDIF | C22: 1001020 | D22: =IF(B22="SIURB_INFRA",VLOOKUP(C22,'[25]Custos Unit INFRA ComDes Jan25'!$A:$D,2,0),IF(B22="SIURB_EDIF",VLOOKUP(C22,'[25]Custos Unit EDIF ComDes Jan25'!$A:$D,2,0),IF(B22="SINAPI",VLOOKUP(C22,[25]SINAPI!$G:$K,2,0),IF(B22="CDHU",VLOOKUP(C22,[25]CDHU!$A:$F,2,0),IF(B22="EQUIP_SIURB",VLOOKUP(C22,'[25]Equip Com Des Jan25'!$A:$D,2,0),""))))) -> CORTE, RECORTE E REMOÇÃO DE ÁRVORES INCLUSIVE RAIZES DIÂM. > 5 E < 15CM | E22: =IF(B22="SIURB_INFRA",VLOOKUP(C22,'[25]Custos Unit INFRA ComDes Jan25'!$A:$D,3,0),IF(B22="SIURB_EDIF",VLOOKUP(C22,'[25]Custos Unit EDIF ComDes Jan25'!$A:$D,3,0),IF(B22="SINAPI",VLOOKUP(C22,[25]SINAPI!$G:$K,3,0),IF(B22="CDHU",VLOOKUP(C22,[25]CDHU!$A:$F,3,0),IF(B22="EQUIP_SIURB","H",""))))) -> UN | F22: =VLOOKUP(A22,[25]MEMÓRIA!$B$9:$V$1635,17,FALSE) -> 9 | H22: =ROUND(G22*(1+$I$433),2) -> 0 | I22: =ROUND(G22*F22,2) -> 0 | J22: =ROUND(H22*F22,2) -> 0
A23: 1.2.7 | B23: SIURB_EDIF | C23: 1001021 | D23: =IF(B23="SIURB_INFRA",VLOOKUP(C23,'[25]Custos Unit INFRA ComDes Jan25'!$A:$D,2,0),IF(B23="SIURB_EDIF",VLOOKUP(C23,'[25]Custos Unit EDIF ComDes Jan25'!$A:$D,2,0),IF(B23="SINAPI",VLOOKUP(C23,[25]SINAPI!$G:$K,2,0),IF(B23="CDHU",VLOOKUP(C23,[25]CDHU!$A:$F,2,0),IF(B23="EQUIP_SIURB",VLOOKUP(C23,'[25]Equip Com Des Jan25'!$A:$D,2,0),""))))) -> CORTE, RECORTE E REMOÇÃO DE ÁRVORES INCLUSIVE RAIZES DIÂM. > 15 E < 30CM | E23: =IF(B23="SIURB_INFRA",VLOOKUP(C23,'[25]Custos Unit INFRA ComDes Jan25'!$A:$D,3,0),IF(B23="SIURB_EDIF",VLOOKUP(C23,'[25]Custos Unit EDIF ComDes Jan25'!$A:$D,3,0),IF(B23="SINAPI",VLOOKUP(C23,[25]SINAPI!$G:$K,3,0),IF(B23="CDHU",VLOOKUP(C23,[25]CDHU!$A:$F,3,0),IF(B23="EQUIP_SIURB","H",""))))) -> UN | F23: =VLOOKUP(A23,[25]MEMÓRIA!$B$9:$V$1635,17,FALSE) -> 4 | H23: =ROUND(G23*(1+$I$433),2) -> 0 | I23: =ROUND(G23*F23,2) -> 0 | J23: =ROUND(H23*F23,2) -> 0
A24: 1.2.8 | B24: SIURB_EDIF | C24: 1003005 | D24: =IF(B24="SIURB_INFRA",VLOOKUP(C24,'[25]Custos Unit INFRA ComDes Jan25'!$A:$D,2,0),IF(B24="SIURB_EDIF",VLOOKUP(C24,'[25]Custos Unit EDIF ComDes Jan25'!$A:$D,2,0),IF(B24="SINAPI",VLOOKUP(C24,[25]SINAPI!$G:$K,2,0),IF(B24="CDHU",VLOOKUP(C24,[25]CDHU!$A:$F,2,0),IF(B24="EQUIP_SIURB",VLOOKUP(C24,'[25]Equip Com Des Jan25'!$A:$D,2,0),""))))) -> FORNECIMENTO DE TERRA, INCLUSIVE CORTE, CARGA, DESCARGA E TRANSPORTE ATÉ 1KM | E24: =IF(B24="SIURB_INFRA",VLOOKUP(C24,'[25]Custos Unit INFRA ComDes Jan25'!$A:$D,3,0),IF(B24="SIURB_EDIF",VLOOKUP(C24,'[25]Custos Unit EDIF ComDes Jan25'!$A:$D,3,0),IF(B24="SINAPI",VLOOKUP(C24,[25]SINAPI!$G:$K,3,0),IF(B24="CDHU",VLOOKUP(C24,[25]CDHU!$A:$F,3,0),IF(B24="EQUIP_SIURB","H",""))))) -> M3 | F24: =VLOOKUP(A24,[25]MEMÓRIA!$B$9:$V$1635,17,FALSE) -> 7000 | H24: =ROUND(G24*(1+$I$433),2) -> 0 | I24: =ROUND(G24*F24,2) -> 0 | J24: =ROUND(H24*F24,2) -> 0
A25: 1.2.9 | B25: SIURB_EDIF | C25: 1003006 | D25: =IF(B25="SIURB_INFRA",VLOOKUP(C25,'[25]Custos Unit INFRA ComDes Jan25'!$A:$D,2,0),IF(B25="SIURB_EDIF",VLOOKUP(C25,'[25]Custos Unit EDIF ComDes Jan25'!$A:$D,2,0),IF(B25="SINAPI",VLOOKUP(C25,[25]SINAPI!$G:$K,2,0),IF(B25="CDHU",VLOOKUP(C25,[25]CDHU!$A:$F,2,0),IF(B25="EQUIP_SIURB",VLOOKUP(C25,'[25]Equip Com Des Jan25'!$A:$D,2,0),""))))) -> ATERRO, INCLUSIVE COMPACTAÇÃO | E25: =IF(B25="SIURB_INFRA",VLOOKUP(C25,'[25]Custos Unit INFRA ComDes Jan25'!$A:$D,3,0),IF(B25="SIURB_EDIF",VLOOKUP(C25,'[25]Custos Unit EDIF ComDes Jan25'!$A:$D,3,0),IF(B25="SINAPI",VLOOKUP(C25,[25]SINAPI!$G:$K,3,0),IF(B25="CDHU",VLOOKUP(C25,[25]CDHU!$A:$F,3,0),IF(B25="EQUIP_SIURB","H",""))))) -> M3 | F25: =VLOOKUP(A25,[25]MEMÓRIA!$B$9:$V$1635,17,FALSE) -> 5400 | H25: =ROUND(G25*(1+$I$433),2) -> 0 | I25: =ROUND(G25*F25,2) -> 0 | J25: =ROUND(H25*F25,2) -> 0
A26: 1.2.10 | B26: SIURB_EDIF | C26: 1003010 | D26: =IF(B26="SIURB_INFRA",VLOOKUP(C26,'[25]Custos Unit INFRA ComDes Jan25'!$A:$D,2,0),IF(B26="SIURB_EDIF",VLOOKUP(C26,'[25]Custos Unit EDIF ComDes Jan25'!$A:$D,2,0),IF(B26="SINAPI",VLOOKUP(C26,[25]SINAPI!$G:$K,2,0),IF(B26="CDHU",VLOOKUP(C26,[25]CDHU!$A:$F,2,0),IF(B26="EQUIP_SIURB",VLOOKUP(C26,'[25]Equip Com Des Jan25'!$A:$D,2,0),""))))) -> TRANSPORTE DE TERRA POR CAMINHÃO BASCULANTE, A PARTIR DE 1KM | E26: =IF(B26="SIURB_INFRA",VLOOKUP(C26,'[25]Custos Unit INFRA ComDes Jan25'!$A:$D,3,0),IF(B26="SIURB_EDIF",VLOOKUP(C26,'[25]Custos Unit EDIF ComDes Jan25'!$A:$D,3,0),IF(B26="SINAPI",VLOOKUP(C26,[25]SINAPI!$G:$K,3,0),IF(B26="CDHU",VLOOKUP(C26,[25]CDHU!$A:$F,3,0),IF(B26="EQUIP_SIURB","H",""))))) -> M3XKM | F26: =VLOOKUP(A26,[25]MEMÓRIA!$B$9:$V$1635,17,FALSE) -> 60000 | H26: =ROUND(G26*(1+$I$433),2) -> 0 | I26: =ROUND(G26*F26,2) -> 0 | J26: =ROUND(H26*F26,2) -> 0
A27: 1.2.11 | B27: SIURB_EDIF | C27: 1004001 | D27: =IF(B27="SIURB_INFRA",VLOOKUP(C27,'[25]Custos Unit INFRA ComDes Jan25'!$A:$D,2,0),IF(B27="SIURB_EDIF",VLOOKUP(C27,'[25]Custos Unit EDIF ComDes Jan25'!$A:$D,2,0),IF(B27="SINAPI",VLOOKUP(C27,[25]SINAPI!$G:$K,2,0),IF(B27="CDHU",VLOOKUP(C27,[25]CDHU!$A:$F,2,0),IF(B27="EQUIP_SIURB",VLOOKUP(C27,'[25]Equip Com Des Jan25'!$A:$D,2,0),""))))) -> ESCAVAÇÃO MANUAL, PROFUNDIDADE IGUAL OU INFERIOR A 1,50M | E27: =IF(B27="SIURB_INFRA",VLOOKUP(C27,'[25]Custos Unit INFRA ComDes Jan25'!$A:$D,3,0),IF(B27="SIURB_EDIF",VLOOKUP(C27,'[25]Custos Unit EDIF ComDes Jan25'!$A:$D,3,0),IF(B27="SINAPI",VLOOKUP(C27,[25]SINAPI!$G:$K,3,0),IF(B27="CDHU",VLOOKUP(C27,[25]CDHU!$A:$F,3,0),IF(B27="EQUIP_SIURB","H",""))))) -> M3 | F27: =VLOOKUP(A27,[25]MEMÓRIA!$B$9:$V$1635,17,FALSE) -> 300 | H27: =ROUND(G27*(1+$I$433),2) -> 0 | I27: =ROUND(G27*F27,2) -> 0 | J27: =ROUND(H27*F27,2) -> 0
A28: 1.2.12 | B28: SIURB_EDIF | C28: 1004010 | D28: =IF(B28="SIURB_INFRA",VLOOKUP(C28,'[25]Custos Unit INFRA ComDes Jan25'!$A:$D,2,0),IF(B28="SIURB_EDIF",VLOOKUP(C28,'[25]Custos Unit EDIF ComDes Jan25'!$A:$D,2,0),IF(B28="SINAPI",VLOOKUP(C28,[25]SINAPI!$G:$K,2,0),IF(B28="CDHU",VLOOKUP(C28,[25]CDHU!$A:$F,2,0),IF(B28="EQUIP_SIURB",VLOOKUP(C28,'[25]Equip Com Des Jan25'!$A:$D,2,0),""))))) -> APILOAMENTO DO FUNDO DE VALAS, PARA SIMPLES REGULARIZAÇÃO | E28: =IF(B28="SIURB_INFRA",VLOOKUP(C28,'[25]Custos Unit INFRA ComDes Jan25'!$A:$D,3,0),IF(B28="SIURB_EDIF",VLOOKUP(C28,'[25]Custos Unit EDIF ComDes Jan25'!$A:$D,3,0),IF(B28="SINAPI",VLOOKUP(C28,[25]SINAPI!$G:$K,3,0),IF(B28="CDHU",VLOOKUP(C28,[25]CDHU!$A:$F,3,0),IF(B28="EQUIP_SIURB","H",""))))) -> M2 | F28: =VLOOKUP(A28,[25]MEMÓRIA!$B$9:$V$1635,17,FALSE) -> 2000 | H28: =ROUND(G28*(1+$I$433),2) -> 0 | I28: =ROUND(G28*F28,2) -> 0 | J28: =ROUND(H28*F28,2) -> 0
... A34: 1.2.18 | B34: SIURB_INFRA | C34: 8080000 | D34: =IF(B34="SIURB_INFRA",VLOOKUP(C34,'[25]Custos Unit INFRA ComDes Jan25'!$A:$D,2,0),IF(B34="SIURB_EDIF",VLOOKUP(C34,'[25]Custos Unit EDIF ComDes Jan25'!$A:$D,2,0),IF(B34="SINAPI",VLOOKUP(C34,[25]SINAPI!$G:$K,2,0),IF(B34="CDHU",VLOOKUP(C34,[25]CDHU!$A:$F,2,0),IF(B34="EQUIP_SIURB",VLOOKUP(C34,'[25]Equip Com Des Jan25'!$A:$D,2,0),""))))) -> CARGA E REMOÇÃO DE ENTULHO ATÉ A DISTÂNCIA MÉDIA DE IDA E VOLTA DE 1KM | E34: =IF(B34="SIURB_INFRA",VLOOKUP(C34,'[25]Custos Unit INFRA ComDes Jan25'!$A:$D,3,0),IF(B34="SIURB_EDIF",VLOOKUP(C34,'[25]Custos Unit EDIF ComDes Jan25'!$A:$D,3,0),IF(B34="SINAPI",VLOOKUP(C34,[25]SINAPI!$G:$K,3,0),IF(B34="CDHU",VLOOKUP(C34,[25]CDHU!$A:$F,3,0),IF(B34="EQUIP_SIURB","H",""))))) -> M3 | F34: =VLOOKUP(A34,[25]MEMÓRIA!$B$9:$V$1635,17,FALSE) -> 15000 | H34: =ROUND(G34*(1+$I$433),2) -> 0 | I34: =ROUND(G34*F34,2) -> 0 | J34: =ROUND(H34*F34,2) -> 0
A35: 1.2.19 | B35: COMPOSIÇÃO | C35: CPU-1 | D35: REMOÇÃO DE MATERIAL PROVENIENTE DE CÓRREGO (CLASSE II-A) ALÉM DO 1.º KM, INCLUSO TRANSPORTE E DESCARTE EM LOCAL ADEQUADO. | E35: M3 | F35: =VLOOKUP(A35,[25]MEMÓRIA!$B$9:$V$1635,17,FALSE) -> 2864 | H35: =ROUND(G35*(1+$I$433),2) -> 0 | I35: =ROUND(G35*F35,2) -> 0 | J35: =ROUND(H35*F35,2) -> 0
A36: 1.2.20 | B36: COMPOSIÇÃO | C36: CPU-2 | D36: REMOÇÃO DE MATERIAL PROVENIENTE DE CÓRREGO (CLASSE II-B) ALÉM DO 1.º KM, INCLUSO TRANSPORTE E DESCARTE EM LOCAL ADEQUADO. | E36: M3 | F36: =VLOOKUP(A36,[25]MEMÓRIA!$B$9:$V$1635,17,FALSE) -> 8000 | H36: =ROUND(G36*(1+$I$433),2) -> 0 | I36: =ROUND(G36*F36,2) -> 0 | J36: =ROUND(H36*F36,2) -> 0
A37: 1.3 | D37: PAVIMENTAÇÃO | I37: =SUBTOTAL(9,I38:I84) -> 0 | J37: =SUBTOTAL(9,J38:J84) -> 0
A38: 1.3.1 | B38: SIURB_INFRA | C38: 5001000 | D38: =IF(B38="SIURB_INFRA",VLOOKUP(C38,'[25]Custos Unit INFRA ComDes Jan25'!$A:$D,2,0),IF(B38="SIURB_EDIF",VLOOKUP(C38,'[25]Custos Unit EDIF ComDes Jan25'!$A:$D,2,0),IF(B38="SINAPI",VLOOKUP(C38,[25]SINAPI!$G:$K,2,0),IF(B38="CDHU",VLOOKUP(C38,[25]CDHU!$A:$F,2,0),IF(B38="EQUIP_SIURB",VLOOKUP(C38,'[25]Equip Com Des Jan25'!$A:$D,2,0),""))))) -> ARRANCAMENTO DE GUIAS, INCLUI CARGA EM CAMINHÃO | E38: =IF(B38="SIURB_INFRA",VLOOKUP(C38,'[25]Custos Unit INFRA ComDes Jan25'!$A:$D,3,0),IF(B38="SIURB_EDIF",VLOOKUP(C38,'[25]Custos Unit EDIF ComDes Jan25'!$A:$D,3,0),IF(B38="SINAPI",VLOOKUP(C38,[25]SINAPI!$G:$K,3,0),IF(B38="CDHU",VLOOKUP(C38,[25]CDHU!$A:$F,3,0),IF(B38="EQUIP_SIURB","H",""))))) -> M | F38: =VLOOKUP(A38,[25]MEMÓRIA!$B$9:$V$1635,17,FALSE) -> 500 | H38: =ROUND(G38*(1+$I$433),2) -> 0 | I38: =ROUND(G38*F38,2) -> 0 | J38: =ROUND(H38*F38,2) -> 0
A39: 1.3.2 | B39: SIURB_INFRA | C39: 5003000 | D39: =IF(B39="SIURB_INFRA",VLOOKUP(C39,'[25]Custos Unit INFRA ComDes Jan25'!$A:$D,2,0),IF(B39="SIURB_EDIF",VLOOKUP(C39,'[25]Custos Unit EDIF ComDes Jan25'!$A:$D,2,0),IF(B39="SINAPI",VLOOKUP(C39,[25]SINAPI!$G:$K,2,0),IF(B39="CDHU",VLOOKUP(C39,[25]CDHU!$A:$F,2,0),IF(B39="EQUIP_SIURB",VLOOKUP(C39,'[25]Equip Com Des Jan25'!$A:$D,2,0),""))))) -> DEMOLIÇÃO DE PAVIMENTO DE CONCRETO, SARJETA OU SARJETÃO, INCLUI CARGA EM CAMINHÃO | E39: =IF(B39="SIURB_INFRA",VLOOKUP(C39,'[25]Custos Unit INFRA ComDes Jan25'!$A:$D,3,0),IF(B39="SIURB_EDIF",VLOOKUP(C39,'[25]Custos Unit EDIF ComDes Jan25'!$A:$D,3,0),IF(B39="SINAPI",VLOOKUP(C39,[25]SINAPI!$G:$K,3,0),IF(B39="CDHU",VLOOKUP(C39,[25]CDHU!$A:$F,3,0),IF(B39="EQUIP_SIURB","H",""))))) -> M2 | F39: =VLOOKUP(A39,[25]MEMÓRIA!$B$9:$V$1635,17,FALSE) -> 1500 | H39: =ROUND(G39*(1+$I$433),2) -> 0 | I39: =ROUND(G39*F39,2) -> 0 | J39: =ROUND(H39*F39,2) -> 0
A40: 1.3.3 | B40: SIURB_INFRA | C40: 5081000 | D40: =IF(B40="SIURB_INFRA",VLOOKUP(C40,'[25]Custos Unit INFRA ComDes Jan25'!$A:$D,2,0),IF(B40="SIURB_EDIF",VLOOKUP(C40,'[25]Custos Unit EDIF ComDes Jan25'!$A:$D,2,0),IF(B40="SINAPI",VLOOKUP(C40,[25]SINAPI!$G:$K,2,0),IF(B40="CDHU",VLOOKUP(C40,[25]CDHU!$A:$F,2,0),IF(B40="EQUIP_SIURB",VLOOKUP(C40,'[25]Equip Com Des Jan25'!$A:$D,2,0),""))))) -> TRANSPORTE DE PAVIMENTO DE CONCRETO, SARJETA E SARJETÃO | E40: =IF(B40="SIURB_INFRA",VLOOKUP(C40,'[25]Custos Unit INFRA ComDes Jan25'!$A:$D,3,0),IF(B40="SIURB_EDIF",VLOOKUP(C40,'[25]Custos Unit EDIF ComDes Jan25'!$A:$D,3,0),IF(B40="SINAPI",VLOOKUP(C40,[25]SINAPI!$G:$K,3,0),IF(B40="CDHU",VLOOKUP(C40,[25]CDHU!$A:$F,3,0),IF(B40="EQUIP_SIURB","H",""))))) -> M2XKM | F40: =VLOOKUP(A40,[25]MEMÓRIA!$B$9:$V$1635,17,FALSE) -> 9750 | H40: =ROUND(G40*(1+$I$433),2) -> 0 | I40: =ROUND(G40*F40,2) -> 0 | J40: =ROUND(H40*F40,2) -> 0
A41: 1.3.4 | B41: SIURB_INFRA | C41: 5004000 | D41: =IF(B41="SIURB_INFRA",VLOOKUP(C41,'[25]Custos Unit INFRA ComDes Jan25'!$A:$D,2,0),IF(B41="SIURB_EDIF",VLOOKUP(C41,'[25]Custos Unit EDIF ComDes Jan25'!$A:$D,2,0),IF(B41="SINAPI",VLOOKUP(C41,[25]SINAPI!$G:$K,2,0),IF(B41="CDHU",VLOOKUP(C41,[25]CDHU!$A:$F,2,0),IF(B41="EQUIP_SIURB",VLOOKUP(C41,'[25]Equip Com Des Jan25'!$A:$D,2,0),""))))) -> DEMOLIÇÃO DE PAVIMENTO ASFÁLTICO, INCLUSIVE CAPA, INCLUI CARGA NO CAMINHÃO | E41: =IF(B41="SIURB_INFRA",VLOOKUP(C41,'[25]Custos Unit INFRA ComDes Jan25'!$A:$D,3,0),IF(B41="SIURB_EDIF",VLOOKUP(C41,'[25]Custos Unit EDIF ComDes Jan25'!$A:$D,3,0),IF(B41="SINAPI",VLOOKUP(C41,[25]SINAPI!$G:$K,3,0),IF(B41="CDHU",VLOOKUP(C41,[25]CDHU!$A:$F,3,0),IF(B41="EQUIP_SIURB","H",""))))) -> M2 | F41: =VLOOKUP(A41,[25]MEMÓRIA!$B$9:$V$1635,17,FALSE) -> 600 | H41: =ROUND(G41*(1+$I$433),2) -> 0 | I41: =ROUND(G41*F41,2) -> 0 | J41: =ROUND(H41*F41,2) -> 0
A42: 1.3.5 | B42: SIURB_EDIF | C42: 17050040 | D42: =IF(B42="SIURB_INFRA",VLOOKUP(C42,'[25]Custos Unit INFRA ComDes Jan25'!$A:$D,2,0),IF(B42="SIURB_EDIF",VLOOKUP(C42,'[25]Custos Unit EDIF ComDes Jan25'!$A:$D,2,0),IF(B42="SINAPI",VLOOKUP(C42,[25]SINAPI!$G:$K,2,0),IF(B42="CDHU",VLOOKUP(C42,[25]CDHU!$A:$F,2,0),IF(B42="EQUIP_SIURB",VLOOKUP(C42,'[25]Equip Com Des Jan25'!$A:$D,2,0),""))))) -> DEMOLIÇÃO DE PAVIMENTAÇÃO ASFÁLTICA, CAPA E BASE - MANUAL | E42: =IF(B42="SIURB_INFRA",VLOOKUP(C42,'[25]Custos Unit INFRA ComDes Jan25'!$A:$D,3,0),IF(B42="SIURB_EDIF",VLOOKUP(C42,'[25]Custos Unit EDIF ComDes Jan25'!$A:$D,3,0),IF(B42="SINAPI",VLOOKUP(C42,[25]SINAPI!$G:$K,3,0),IF(B42="CDHU",VLOOKUP(C42,[25]CDHU!$A:$F,3,0),IF(B42="EQUIP_SIURB","H",""))))) -> M2 | F42: =VLOOKUP(A42,[25]MEMÓRIA!$B$9:$V$1635,17,FALSE) -> 400 | H42: =ROUND(G42*(1+$I$433),2) -> 0 | I42: =ROUND(G42*F42,2) -> 0 | J42: =ROUND(H42*F42,2) -> 0
A43: 1.3.6 | B43: SIURB_INFRA | C43: 5067000 | D43: =IF(B43="SIURB_INFRA",VLOOKUP(C43,'[25]Custos Unit INFRA ComDes Jan25'!$A:$D,2,0),IF(B43="SIURB_EDIF",VLOOKUP(C43,'[25]Custos Unit EDIF ComDes Jan25'!$A:$D,2,0),IF(B43="SINAPI",VLOOKUP(C43,[25]SINAPI!$G:$K,2,0),IF(B43="CDHU",VLOOKUP(C43,[25]CDHU!$A:$F,2,0),IF(B43="EQUIP_SIURB",VLOOKUP(C43,'[25]Equip Com Des Jan25'!$A:$D,2,0),""))))) -> TRANSPORTE DE PAVIMENTO ASFÁLTICO | E43: =IF(B43="SIURB_INFRA",VLOOKUP(C43,'[25]Custos Unit INFRA ComDes Jan25'!$A:$D,3,0),IF(B43="SIURB_EDIF",VLOOKUP(C43,'[25]Custos Unit EDIF ComDes Jan25'!$A:$D,3,0),IF(B43="SINAPI",VLOOKUP(C43,[25]SINAPI!$G:$K,3,0),IF(B43="CDHU",VLOOKUP(C43,[25]CDHU!$A:$F,3,0),IF(B43="EQUIP_SIURB","H",""))))) -> M2XKM | F43: =VLOOKUP(A43,[25]MEMÓRIA!$B$9:$V$1635,17,FALSE) -> 5500 | H43: =ROUND(G43*(1+$I$433),2) -> 0 | I43: =ROUND(G43*F43,2) -> 0 | J43: =ROUND(H43*F43,2) -> 0
A44: 1.3.7 | B44: SIURB_INFRA | C44: 5007000 | D44: =IF(B44="SIURB_INFRA",VLOOKUP(C44,'[25]Custos Unit INFRA ComDes Jan25'!$A:$D,2,0),IF(B44="SIURB_EDIF",VLOOKUP(C44,'[25]Custos Unit EDIF ComDes Jan25'!$A:$D,2,0),IF(B44="SINAPI",VLOOKUP(C44,[25]SINAPI!$G:$K,2,0),IF(B44="CDHU",VLOOKUP(C44,[25]CDHU!$A:$F,2,0),IF(B44="EQUIP_SIURB",VLOOKUP(C44,'[25]Equip Com Des Jan25'!$A:$D,2,0),""))))) -> REGULARIZAÇÃO E COMPACTAÇÃO DE RUAS DE TERRA (IE-5) | E44: =IF(B44="SIURB_INFRA",VLOOKUP(C44,'[25]Custos Unit INFRA ComDes Jan25'!$A:$D,3,0),IF(B44="SIURB_EDIF",VLOOKUP(C44,'[25]Custos Unit EDIF ComDes Jan25'!$A:$D,3,0),IF(B44="SINAPI",VLOOKUP(C44,[25]SINAPI!$G:$K,3,0),IF(B44="CDHU",VLOOKUP(C44,[25]CDHU!$A:$F,3,0),IF(B44="EQUIP_SIURB","H",""))))) -> M2 | F44: =VLOOKUP(A44,[25]MEMÓRIA!$B$9:$V$1635,17,FALSE) -> 8000 | H44: =ROUND(G44*(1+$I$433),2) -> 0 | I44: =ROUND(G44*F44,2) -> 0 | J44: =ROUND(H44*F44,2) -> 0
A45: 1.3.8 | B45: SIURB_INFRA | C45: 5011000 | D45: =IF(B45="SIURB_INFRA",VLOOKUP(C45,'[25]Custos Unit INFRA ComDes Jan25'!$A:$D,2,0),IF(B45="SIURB_EDIF",VLOOKUP(C45,'[25]Custos Unit EDIF ComDes Jan25'!$A:$D,2,0),IF(B45="SINAPI",VLOOKUP(C45,[25]SINAPI!$G:$K,2,0),IF(B45="CDHU",VLOOKUP(C45,[25]CDHU!$A:$F,2,0),IF(B45="EQUIP_SIURB",VLOOKUP(C45,'[25]Equip Com Des Jan25'!$A:$D,2,0),""))))) -> ABERTURA DE CAIXA ATÉ 25CM, INCLUI ESCAVAÇÃO, COMPACTAÇÃO, TRANSPORTE E PREPARO DO SUB-LEITO | E45: =IF(B45="SIURB_INFRA",VLOOKUP(C45,'[25]Custos Unit INFRA ComDes Jan25'!$A:$D,3,0),IF(B45="SIURB_EDIF",VLOOKUP(C45,'[25]Custos Unit EDIF ComDes Jan25'!$A:$D,3,0),IF(B45="SINAPI",VLOOKUP(C45,[25]SINAPI!$G:$K,3,0),IF(B45="CDHU",VLOOKUP(C45,[25]CDHU!$A:$F,3,0),IF(B45="EQUIP_SIURB","H",""))))) -> M2 | F45: =VLOOKUP(A45,[25]MEMÓRIA!$B$9:$V$1635,17,FALSE) -> 3500 | H45: =ROUND(G45*(1+$I$433),2) -> 0 | I45: =ROUND(G45*F45,2) -> 0 | J45: =ROUND(H45*F45,2) -> 0
...
