Workbook
Name _______SE2: #REF!
Name ______REC3: #REF!
Name ______REC35: #REF!
Name ______REC4: #REF!
Name ______REP1: #REF!
Name ______REP15: #REF!
Name ______REP2: #REF!
Name ______SE2: #REF!
Name _____REC3: #REF!
Name _____REC35: #REF!
Name _____REC4: #REF!
Name _____REP1: #REF!
Name _____REP15: #REF!
Name _____REP2: #REF!
Name _____SE2: #REF!
Name ____REC3: #REF!
Name ____REC35: #REF!
Name ____REC4: #REF!
Name ____REP1: #REF!
Name ____REP15: #REF!
Name ____REP2: #REF!
Name ____SE2: #REF!
Name ___REC3: #REF!
Name ___REC35: #REF!
Name ___REC4: #REF!
Name ___REP1: #REF!
Name ___REP15: #REF!
Name ___REP2: #REF!
Name ___SE2: #REF!
Name __REC3: #REF!
Name __REC35: #REF!
Name __REC4: #REF!
Name __REP1: #REF!
Name __REP15: #REF!
Name __REP2: #REF!
Name __SE2: #REF!
Name _REC3: #REF!
Name _REC35: #REF!
Name _REC4: #REF!
Name _REP1: #REF!
Name _REP15: #REF!
Name _REP2: #REF!
Name _SE2: #REF!
Name a: #REF!
Name AC: #REF!
Name ADASDASD: #REF!
Name APOIO: #REF!
Name arquivo: #REF!
Name asfa: #REF!
Name ASFASDF: #REF!
Name aux: #REF!
Name BE: #REF!
Name BI: #REF!
Name BL: #REF!
Name CER: #REF!
Name CI: #REF!
Name CL: #REF!
Name çl: #REF!
Name CR: #REF!
Name dasd: #REF!

Sheet PLANILHA_ORC
I2: Revitalização do Córrego Corumbiara, Pq. Miami, Município de Santo André/SP - APRM-B | M2: data: | P2: 45658
M3: BDI | P3: =BDI!B13 -> 0.2411
A4: ORDEM_FEHIDRO | B4: REFERÊNCIA | C4: CÓDIGO | G4: ITEM | H4: TIPO | I4: DESCRIÇÃO | J4: UNIDADE | K4: CUSTO UNIT | L4: PREÇO UNIT | M4: QUANTIDADE | N4: PREÇO FEHIDRO | O4: PREÇO CONTRAPARTIDA | P4: PREÇO TOTAL
G5: 0.0 | I5: TOTAL | N5: =SUBTOTAL(9,N6:N99) -> 2297836.6 | O5: =SUBTOTAL(9,O6:O99) -> 289380.55 | P5: =SUBTOTAL(9,P6:P99) -> 2587217.1
D6: 1 | G6: 1.0 | I6: PROJETO EXECUTIVO | N6: =SUBTOTAL(9,N7:N31) -> 73855.31 | O6: =SUBTOTAL(9,O7:O31) -> 0 | P6: =SUBTOTAL(9,P7:P31) -> 73855.31
A7: 1 | D7: 1 | E7: 1 | G7: 1.1 | H7: PLANO DE TRABALHO | I7: PLANO DE TRABALHO | N7: =SUBTOTAL(9,N8:N9) -> 7670.28 | O7: =SUBTOTAL(9,O8:O9) -> 0 | P7: =SUBTOTAL(9,P8:P9) -> 7670.28
A8: 1.1 | B8: SIURB | C8: 1115 | D8: 1 | E8: 1 | F8: 1 | G8: 1.1.1 | H8: PLANO DE TRABALHO | I8: =VLOOKUP(C8,'Mobra Mensalista Sem Des Jul24'!$A:$D,2,0) -> ENGENHEIRO CIVIL/ ARQUITETO COORDENADOR SETORIAL - 20 ANOS EXPERIÊNCIA (SGSP) | J8: H | K8: =VLOOKUP(C8,'Mobra Mensalista Sem Des Jul24'!$A:$D,4,0) -> 472.73 | L8: =ROUND(K8*(1+$P$3),2) -> 586.71 | M8: =VLOOKUP(G8,MEMO!$B:$N,13,0) -> 4 | N8: =P8 -> 2346.84 | P8: =ROUND(M8*L8,2) -> 2346.84
A9: 1.2 | B9: SIURB | C9: 1125 | D9: 1 | E9: 1 | F9: 2 | G9: 1.1.2 | H9: PLANO DE TRABALHO | I9: =VLOOKUP(C9,'Mobra Mensalista Sem Des Jul24'!$A:$D,2,0) -> ENGENHEIRO/ ARQUITETO PLENO - DE 5 A 15 ANOS DE EXPERIÊNCIA (SGSP) | J9: H | K9: =VLOOKUP(C9,'Mobra Mensalista Sem Des Jul24'!$A:$D,4,0) -> 178.72 | L9: =ROUND(K9*(1+$P$3),2) -> 221.81 | M9: =VLOOKUP(G9,MEMO!$B:$N,13,0) -> 24 | N9: =P9 -> 5323.44 | P9: =ROUND(M9*L9,2) -> 5323.44
A10: 2 | D10: 1 | E10: 2 | G10: 1.2 | H10: LEVANTAMENTO TOPOGRÁFICO E DE INTERFERÊNCIAS | I10: LEVANTAMENTO TOPOGRÁFICO E DE INTERFERÊNCIAS | N10: =SUBTOTAL(9,N11:N15) -> 15666.23 | O10: =SUBTOTAL(9,O11:O15) -> 0 | P10: =SUBTOTAL(9,P11:P15) -> 15666.23
A11: 2.1 | B11: SIURB | C11: 1115 | D11: 1 | E11: 2 | F11: 1 | G11: 1.2.1 | H11: LEVANTAMENTO TOPOGRÁFICO E DE INTERFERÊNCIAS | I11: =VLOOKUP(C11,'Mobra Mensalista Sem Des Jul24'!$A:$D,2,0) -> ENGENHEIRO CIVIL/ ARQUITETO COORDENADOR SETORIAL - 20 ANOS EXPERIÊNCIA (SGSP) | J11: H | K11: =VLOOKUP(C11,'Mobra Mensalista Sem Des Jul24'!$A:$D,4,0) -> 472.73 | L11: =ROUND(K11*(1+$P$3),2) -> 586.71 | M11: =VLOOKUP(G11,MEMO!$B:$N,13,0) -> 4 | N11: =P11 -> 2346.84 | P11: =ROUND(M11*L11,2) -> 2346.84
A12: 2.2 | B12: SIURB | C12: 1125 | D12: 1 | E12: 2 | F12: 2 | G12: 1.2.2 | H12: LEVANTAMENTO TOPOGRÁFICO E DE INTERFERÊNCIAS | I12: =VLOOKUP(C12,'Mobra Mensalista Sem Des Jul24'!$A:$D,2,0) -> ENGENHEIRO/ ARQUITETO PLENO - DE 5 A 15 ANOS DE EXPERIÊNCIA (SGSP) | J12: H | K12: =VLOOKUP(C12,'Mobra Mensalista Sem Des Jul24'!$A:$D,4,0) -> 178.72 | L12: =ROUND(K12*(1+$P$3),2) -> 221.81 | M12: =VLOOKUP(G12,MEMO!$B:$N,13,0) -> 16 | N12: =P12 -> 3548.96 | P12: =ROUND(M12*L12,2) -> 3548.96
A13: 2.3 | B13: SIURB | C13: 1181 | D13: 1 | E13: 2 | F13: 3 | G13: 1.2.3 | H13: LEVANTAMENTO TOPOGRÁFICO E DE INTERFERÊNCIAS | I13: =VLOOKUP(C13,'Mobra Mensalista Sem Des Jul24'!$A:$D,2,0) -> TOPÓGRAFO (SGSP) | J13: H | K13: =VLOOKUP(C13,'Mobra Mensalista Sem Des Jul24'!$A:$D,4,0) -> 66.13 | L13: =ROUND(K13*(1+$P$3),2) -> 82.07 | M13: =VLOOKUP(G13,MEMO!$B:$N,13,0) -> 24 | N13: =P13 -> 1969.68 | P13: =ROUND(M13*L13,2) -> 1969.68
A14: 2.4 | B14: SIURB_INFRA | C14: 1010000 | D14: 1 | E14: 2 | F14: 4 | G14: 1.2.4 | H14: LEVANTAMENTO TOPOGRÁFICO E DE INTERFERÊNCIAS | I14: =IF(B14="SINAPI",VLOOKUP(C14,SINAPI!$G$5:$K$10218,2,0),IF(B14="SICRO",VLOOKUP(C14,SICRO!$A:$D,2,0),IF(B14="SIURB_EDIF",VLOOKUP(C14,SIURB_EDIF_SemDes_Julho24!$A:$D,2,0),IF(B14="CDHU",VLOOKUP(C14,CDHU!$A:$F,2,0),IF(B14="SIURB_INFRA",VLOOKUP(C14,'SIURB_INFRA SemDes Jul24'!$A:$D,2,0),""))))) -> LEVANTAMENTO PLANIALTIMÉTRICO CADASTRAL | J14: =IF(B14="SINAPI",VLOOKUP(C14,SINAPI!$G$5:$K$10218,3,0),IF(B14="SICRO",VLOOKUP(C14,SICRO!$A:$D,3,0),IF(B14="SIURB_EDIF",VLOOKUP(C14,SIURB_EDIF_SemDes_Julho24!$A:$D,3,0),IF(B14="CDHU",VLOOKUP(C14,CDHU!$A:$F,3,0),IF(B14="SIURB_INFRA",VLOOKUP(C14,'SIURB_INFRA SemDes Jul24'!$A:$D,3,0),""))))) -> M2 | K14: =IF(B14="SINAPI",VLOOKUP(C14,SINAPI!$G$5:$K$10218,5,0),IF(B14="SICRO",VLOOKUP(C14,SICRO!$A:$D,4,0),IF(B14="SIURB_EDIF",VLOOKUP(C14,SIURB_EDIF_SemDes_Julho24!$A:$D,4,0),IF(B14="CDHU",VLOOKUP(C14,CDHU!$A:$F,6,0),IF(B14="SIURB_INFRA",VLOOKUP(C14,'SIURB_INFRA SemDes Jul24'!$A:$D,4,0),""))))) -> 0.8 | L14: =ROUND(K14*(1+$P$3),2) -> 0.99 | M14: =VLOOKUP(G14,MEMO!$B:$N,13,0) -> 2600 | N14: =P14 -> 2574 | P14: =ROUND(M14*L14,2) -> 2574
A15: 2.5 | B15: SIURB_INFRA | C15: 2001001 | D15: 1 | E15: 2 | F15: 5 | G15: 1.2.5 | H15: LEVANTAMENTO TOPOGRÁFICO E DE INTERFERÊNCIAS | I15: =IF(B15="SINAPI",VLOOKUP(C15,SINAPI!$G$5:$K$10218,2,0),IF(B15="SICRO",VLOOKUP(C15,SICRO!$A:$D,2,0),IF(B15="SIURB_EDIF",VLOOKUP(C15,SIURB_EDIF_SemDes_Julho24!$A:$D,2,0),IF(B15="CDHU",VLOOKUP(C15,CDHU!$A:$F,2,0),IF(B15="SIURB_INFRA",VLOOKUP(C15,'SIURB_INFRA SemDes Jul24'!$A:$D,2,0),""))))) -> SONDAGEM A TRADO MANUAL | J15: =IF(B15="SINAPI",VLOOKUP(C15,SINAPI!$G$5:$K$10218,3,0),IF(B15="SICRO",VLOOKUP(C15,SICRO!$A:$D,3,0),IF(B15="SIURB_EDIF",VLOOKUP(C15,SIURB_EDIF_SemDes_Julho24!$A:$D,3,0),IF(B15="CDHU",VLOOKUP(C15,CDHU!$A:$F,3,0),IF(B15="SIURB_INFRA",VLOOKUP(C15,'SIURB_INFRA SemDes Jul24'!$A:$D,3,0),""))))) -> M | K15: =IF(B15="SINAPI",VLOOKUP(C15,SINAPI!$G$5:$K$10218,5,0),IF(B15="SICRO",VLOOKUP(C15,SICRO!$A:$D,4,0),IF(B15="SIURB_EDIF",VLOOKUP(C15,SIURB_EDIF_SemDes_Julho24!$A:$D,4,0),IF(B15="CDHU",VLOOKUP(C15,CDHU!$A:$F,6,0),IF(B15="SIURB_INFRA",VLOOKUP(C15,'SIURB_INFRA SemDes Jul24'!$A:$D,4,0),""))))) -> 93.59 | L15: =ROUND(K15*(1+$P$3),2) -> 116.15 | M15: =VLOOKUP(G15,MEMO!$B:$N,13,0) -> 45 | N15: =P15 -> 5226.75 | P15: =ROUND(M15*L15,2) -> 5226.75
A16: 3 | D16: 1 | E16: 3 | G16: 1.3 | H16: PROJETO HIDRÁULICO E HIDROLÓGICO | I16: PROJETO HIDRÁULICO E HIDROLÓGICO | N16: =SUBTOTAL(9,N17:N19) -> 16730.48 | O16: =SUBTOTAL(9,O17:O19) -> 0 | P16: =SUBTOTAL(9,P17:P19) -> 16730.48
A17: 3.1 | B17: SIURB | C17: 1115 | D17: 1 | E17: 3 | F17: 1 | G17: 1.3.1 | H17: PROJETO HIDRÁULICO E HIDROLÓGICO | I17: =VLOOKUP(C17,'Mobra Mensalista Sem Des Jul24'!$A:$D,2,0) -> ENGENHEIRO CIVIL/ ARQUITETO COORDENADOR SETORIAL - 20 ANOS EXPERIÊNCIA (SGSP) | J17: H | K17: =VLOOKUP(C17,'Mobra Mensalista Sem Des Jul24'!$A:$D,4,0) -> 472.73 | L17: =ROUND(K17*(1+$P$3),2) -> 586.71 | M17: =VLOOKUP(G17,MEMO!$B:$N,13,0) -> 8 | N17: =P17 -> 4693.68 | P17: =ROUND(M17*L17,2) -> 4693.68
A18: 3.2 | B18: SIURB | C18: 1125 | D18: 1 | E18: 3 | F18: 2 | G18: 1.3.2 | H18: PROJETO HIDRÁULICO E HIDROLÓGICO | I18: =VLOOKUP(C18,'Mobra Mensalista Sem Des Jul24'!$A:$D,2,0) -> ENGENHEIRO/ ARQUITETO PLENO - DE 5 A 15 ANOS DE EXPERIÊNCIA (SGSP) | J18: H | K18: =VLOOKUP(C18,'Mobra Mensalista Sem Des Jul24'!$A:$D,4,0) -> 178.72 | L18: =ROUND(K18*(1+$P$3),2) -> 221.81 | M18: =VLOOKUP(G18,MEMO!$B:$N,13,0) -> 40 | N18: =P18 -> 8872.4 | P18: =ROUND(M18*L18,2) -> 8872.4
A19: 3.3 | B19: SIURB | C19: 1164 | D19: 1 | E19: 3 | F19: 3 | G19: 1.3.3 | H19: PROJETO HIDRÁULICO E HIDROLÓGICO | I19: =VLOOKUP(C19,'Mobra Mensalista Sem Des Jul24'!$A:$D,2,0) -> DESENHISTA PROJETISTA (SGSP) | J19: H | K19: =VLOOKUP(C19,'Mobra Mensalista Sem Des Jul24'!$A:$D,4,0) -> 63.74 | L19: =ROUND(K19*(1+$P$3),2) -> 79.11 | M19: =VLOOKUP(G19,MEMO!$B:$N,13,0) -> 40 | N19: =P19 -> 3164.4 | P19: =ROUND(M19*L19,2) -> 3164.4
A20: 4 | D20: 1 | E20: 4 | G20: 1.4 | H20: PROJETO ESTRUTURAL | I20: PROJETO ESTRUTURAL | N20: =SUBTOTAL(9,N21:N23) -> 16730.48 | O20: =SUBTOTAL(9,O21:O23) -> 0 | P20: =SUBTOTAL(9,P21:P23) -> 16730.48
A21: 4.1 | B21: SIURB | C21: 1115 | D21: 1 | E21: 4 | F21: 1 | G21: 1.4.1 | H21: PROJETO ESTRUTURAL | I21: =VLOOKUP(C21,'Mobra Mensalista Sem Des Jul24'!$A:$D,2,0) -> ENGENHEIRO CIVIL/ ARQUITETO COORDENADOR SETORIAL - 20 ANOS EXPERIÊNCIA (SGSP) | J21: H | K21: =VLOOKUP(C21,'Mobra Mensalista Sem Des Jul24'!$A:$D,4,0) -> 472.73 | L21: =ROUND(K21*(1+$P$3),2) -> 586.71 | M21: =VLOOKUP(G21,MEMO!$B:$N,13,0) -> 8 | N21: =P21 -> 4693.68 | P21: =ROUND(M21*L21,2) -> 4693.68
A22: 4.2 | B22: SIURB | C22: 1125 | D22: 1 | E22: 4 | F22: 2 | G22: 1.4.2 | H22: PROJETO ESTRUTURAL | I22: =VLOOKUP(C22,'Mobra Mensalista Sem Des Jul24'!$A:$D,2,0) -> ENGENHEIRO/ ARQUITETO PLENO - DE 5 A 15 ANOS DE EXPERIÊNCIA (SGSP) | J22: H | K22: =VLOOKUP(C22,'Mobra Mensalista Sem Des Jul24'!$A:$D,4,0) -> 178.72 | L22: =ROUND(K22*(1+$P$3),2) -> 221.81 | M22: =VLOOKUP(G22,MEMO!$B:$N,13,0) -> 40 | N22: =P22 -> 8872.4 | P22: =ROUND(M22*L22,2) -> 8872.4
A23: 4.3 | B23: SIURB | C23: 1164 | D23: 1 | E23: 4 | F23: 3 | G23: 1.4.3 | H23: PROJETO ESTRUTURAL | I23: =VLOOKUP(C23,'Mobra Mensalista Sem Des Jul24'!$A:$D,2,0) -> DESENHISTA PROJETISTA (SGSP) | J23: H | K23: =VLOOKUP(C23,'Mobra Mensalista Sem Des Jul24'!$A:$D,4,0) -> 63.74 | L23: =ROUND(K23*(1+$P$3),2) -> 79.11 | M23: =VLOOKUP(G23,MEMO!$B:$N,13,0) -> 40 | N23: =P23 -> 3164.4 | P23: =ROUND(M23*L23,2) -> 3164.4
A24: 5 | D24: 1 | E24: 5 | G24: 1.5 | H24: PLANILHA ORÇAMENTÁRIA | I24: PLANILHA ORÇAMENTÁRIA | N24: =SUBTOTAL(9,N25:N27) -> 8528.92 | O24: =SUBTOTAL(9,O25:O27) -> 0 | P24: =SUBTOTAL(9,P25:P27) -> 8528.92
A25: 5.1 | B25: SIURB | C25: 1115 | D25: 1 | E25: 5 | F25: 1 | G25: 1.5.1 | H25: PLANILHA ORÇAMENTÁRIA | I25: =VLOOKUP(C25,'Mobra Mensalista Sem Des Jul24'!$A:$D,2,0) -> ENGENHEIRO CIVIL/ ARQUITETO COORDENADOR SETORIAL - 20 ANOS EXPERIÊNCIA (SGSP) | J25: H | K25: =VLOOKUP(C25,'Mobra Mensalista Sem Des Jul24'!$A:$D,4,0) -> 472.73 | L25: =ROUND(K25*(1+$P$3),2) -> 586.71 | M25: =VLOOKUP(G25,MEMO!$B:$N,13,0) -> 4 | N25: =P25 -> 2346.84 | P25: =ROUND(M25*L25,2) -> 2346.84
A26: 5.2 | B26: SIURB | C26: 1125 | D26: 1 | E26: 5 | F26: 2 | G26: 1.5.2 | H26: PLANILHA ORÇAMENTÁRIA | I26: =VLOOKUP(C26,'Mobra Mensalista Sem Des Jul24'!$A:$D,2,0) -> ENGENHEIRO/ ARQUITETO PLENO - DE 5 A 15 ANOS DE EXPERIÊNCIA (SGSP) | J26: H | K26: =VLOOKUP(C26,'Mobra Mensalista Sem Des Jul24'!$A:$D,4,0) -> 178.72 | L26: =ROUND(K26*(1+$P$3),2) -> 221.81 | M26: =VLOOKUP(G26,MEMO!$B:$N,13,0) -> 16 | N26: =P26 -> 3548.96 | P26: =ROUND(M26*L26,2) -> 3548.96
A27: 5.3 | B27: SIURB | C27: 1128 | D27: 1 | E27: 5 | F27: 3 | G27: 1.5.3 | H27: PLANILHA ORÇAMENTÁRIA | I27: =VLOOKUP(C27,'Mobra Mensalista Sem Des Jul24'!$A:$D,2,0) -> ENGENHEIRO/ ARQUITETO JÚNIOR - ATÉ 5 ANOS DE EXPERIÊNCIA (SGSP) | J27: H | K27: =VLOOKUP(C27,'Mobra Mensalista Sem Des Jul24'!$A:$D,4,0) -> 132.6 | L27: =ROUND(K27*(1+$P$3),2) -> 164.57 | M27: =VLOOKUP(G27,MEMO!$B:$N,13,0) -> 16 | N27: =P27 -> 2633.12 | P27: =ROUND(M27*L27,2) -> 2633.12
A28: 6 | D28: 1 | E28: 6 | G28: 1.6 | H28: CRONOGRAMA | I28: CRONOGRAMA | N28: =SUBTOTAL(9,N29:N31) -> 8528.92 | O28: =SUBTOTAL(9,O29:O31) -> 0 | P28: =SUBTOTAL(9,P29:P31) -> 8528.92
A29: 6.1 | B29: SIURB | C29: 1115 | D29: 1 | E29: 6 | F29: 1 | G29: 1.6.1 | H29: CRONOGRAMA | I29: =VLOOKUP(C29,'Mobra Mensalista Sem Des Jul24'!$A:$D,2,0) -> ENGENHEIRO CIVIL/ ARQUITETO COORDENADOR SETORIAL - 20 ANOS EXPERIÊNCIA (SGSP) | J29: H | K29: =VLOOKUP(C29,'Mobra Mensalista Sem Des Jul24'!$A:$D,4,0) -> 472.73 | L29: =ROUND(K29*(1+$P$3),2) -> 586.71 | M29: =VLOOKUP(G29,MEMO!$B:$N,13,0) -> 4 | N29: =P29 -> 2346.84 | P29: =ROUND(M29*L29,2) -> 2346.84
A30: 6.2 | B30: SIURB | C30: 1125 | D30: 1 | E30: 6 | F30: 2 | G30: 1.6.2 | H30: CRONOGRAMA | I30: =VLOOKUP(C30,'Mobra Mensalista Sem Des Jul24'!$A:$D,2,0) -> ENGENHEIRO/ ARQUITETO PLENO - DE 5 A 15 ANOS DE EXPERIÊNCIA (SGSP) | J30: H | K30: =VLOOKUP(C30,'Mobra Mensalista Sem Des Jul24'!$A:$D,4,0) -> 178.72 | L30: =ROUND(K30*(1+$P$3),2) -> 221.81 | M30: =VLOOKUP(G30,MEMO!$B:$N,13,0) -> 16 | N30: =P30 -> 3548.96 | P30: =ROUND(M30*L30,2) -> 3548.96
A31: 6.3 | B31: SIURB | C31: 1128 | D31: 1 | E31: 6 | F31: 3 | G31: 1.6.3 | H31: CRONOGRAMA | I31: =VLOOKUP(C31,'Mobra Mensalista Sem Des Jul24'!$A:$D,2,0) -> ENGENHEIRO/ ARQUITETO JÚNIOR - ATÉ 5 ANOS DE EXPERIÊNCIA (SGSP) | J31: H | K31: =VLOOKUP(C31,'Mobra Mensalista Sem Des Jul24'!$A:$D,4,0) -> 132.6 | L31: =ROUND(K31*(1+$P$3),2) -> 164.57 | M31: =VLOOKUP(G31,MEMO!$B:$N,13,0) -> 16 | N31: =P31 -> 2633.12 | P31: =ROUND(M31*L31,2) -> 2633.12
D32: 2 | G32: 2.0 | I32: OBRAS DE REVITALIZAÇÃO DO CÓRREGO CORUMBIARA | N32: =SUBTOTAL(9,N33:N94) -> 2223981.3 | P32: =SUBTOTAL(9,P33:P94) -> 2505136.8
A33: 7 | D33: 2 | E33: 1 | G33: 2.1 | H33: ADMINISTRAÇÃO LOCAL | I33: ADMINISTRAÇÃO LOCAL | N33: =SUBTOTAL(9,N34:N36) -> 133002.64 | P33: =SUBTOTAL(9,P34:P36) -> 133002.64
A34: 7.1 | B34: SINAPI | C34: 90778 | D34: 2 | E34: 1 | F34: 1 | G34: 2.1.1 | H34: ADMINISTRAÇÃO LOCAL | I34: =IF(B34="SINAPI",VLOOKUP(C34,SINAPI!$G$5:$K$10218,2,0),IF(B34="SICRO",VLOOKUP(C34,SICRO!$A:$D,2,0),IF(B34="SIURB_EDIF",VLOOKUP(C34,SIURB_EDIF_SemDes_Julho24!$A:$D,2,0),IF(B34="CDHU",VLOOKUP(C34,CDHU!$A:$F,2,0),IF(B34="SIURB_INFRA",VLOOKUP(C34,'SIURB_INFRA SemDes Jul24'!$A:$D,2,0),""))))) -> ENGENHEIRO CIVIL DE OBRA PLENO COM ENCARGOS COMPLEMENTARES | J34: =IF(B34="SINAPI",VLOOKUP(C34,SINAPI!$G$5:$K$10218,3,0),IF(B34="SICRO",VLOOKUP(C34,SICRO!$A:$D,3,0),IF(B34="SIURB_EDIF",VLOOKUP(C34,SIURB_EDIF_SemDes_Julho24!$A:$D,3,0),IF(B34="CDHU",VLOOKUP(C34,CDHU!$A:$F,3,0),IF(B34="SIURB_INFRA",VLOOKUP(C34,'SIURB_INFRA SemDes Jul24'!$A:$D,3,0),""))))) -> H | K34: =IF(B34="SINAPI",VLOOKUP(C34,SINAPI!$G$5:$K$10218,5,0),IF(B34="SICRO",VLOOKUP(C34,SICRO!$A:$D,4,0),IF(B34="SIURB_EDIF",VLOOKUP(C34,SIURB_EDIF_SemDes_Julho24!$A:$D,4,0),IF(B34="CDHU",VLOOKUP(C34,CDHU!$A:$F,6,0),IF(B34="SIURB_INFRA",VLOOKUP(C34,'SIURB_INFRA SemDes Jul24'!$A:$D,4,0),""))))) -> 123.76 | L34: =ROUND(K34*(1+$P$3),2) -> 153.6 | M34: =SUMIF(MEMO!$B:$B,PLANILHA_ORC!C34,MEMO!$N:$N) -> 200 | N34: =P34 -> 30720 | P34: =ROUND(M34*L34,2) -> 30720
A35: 7.2 | B35: SINAPI | C35: 94295 | D35: 2 | E35: 1 | F35: 2 | G35: 2.1.2 | H35: ADMINISTRAÇÃO LOCAL | I35: =IF(B35="SINAPI",VLOOKUP(C35,SINAPI!$G$5:$K$10218,2,0),IF(B35="SICRO",VLOOKUP(C35,SICRO!$A:$D,2,0),IF(B35="SIURB_EDIF",VLOOKUP(C35,SIURB_EDIF_SemDes_Julho24!$A:$D,2,0),IF(B35="CDHU",VLOOKUP(C35,CDHU!$A:$F,2,0),IF(B35="SIURB_INFRA",VLOOKUP(C35,'SIURB_INFRA SemDes Jul24'!$A:$D,2,0),""))))) -> MESTRE DE OBRAS COM ENCARGOS COMPLEMENTARES | J35: =IF(B35="SINAPI",VLOOKUP(C35,SINAPI!$G$5:$K$10218,3,0),IF(B35="SICRO",VLOOKUP(C35,SICRO!$A:$D,3,0),IF(B35="SIURB_EDIF",VLOOKUP(C35,SIURB_EDIF_SemDes_Julho24!$A:$D,3,0),IF(B35="CDHU",VLOOKUP(C35,CDHU!$A:$F,3,0),IF(B35="SIURB_INFRA",VLOOKUP(C35,'SIURB_INFRA SemDes Jul24'!$A:$D,3,0),""))))) -> MES | K35: =IF(B35="SINAPI",VLOOKUP(C35,SINAPI!$G$5:$K$10218,5,0),IF(B35="SICRO",VLOOKUP(C35,SICRO!$A:$D,4,0),IF(B35="SIURB_EDIF",VLOOKUP(C35,SIURB_EDIF_SemDes_Julho24!$A:$D,4,0),IF(B35="CDHU",VLOOKUP(C35,CDHU!$A:$F,6,0),IF(B35="SIURB_INFRA",VLOOKUP(C35,'SIURB_INFRA SemDes Jul24'!$A:$D,4,0),""))))) -> 13697.09 | L35: =ROUND(K35*(1+$P$3),2) -> 16999.46 | M35: =SUMIF(MEMO!$B:$B,PLANILHA_ORC!C35,MEMO!$N:$N) -> 4 | N35: =P35 -> 67997.84 | P35: =ROUND(M35*L35,2) -> 67997.84
A36: 7.3 | B36: SINAPI | C36: 100289 | D36: 2 | E36: 1 | F36: 3 | G36: 2.1.3 | H36: ADMINISTRAÇÃO LOCAL | I36: =IF(B36="SINAPI",VLOOKUP(C36,SINAPI!$G$5:$K$10218,2,0),IF(B36="SICRO",VLOOKUP(C36,SICRO!$A:$D,2,0),IF(B36="SIURB_EDIF",VLOOKUP(C36,SIURB_EDIF_SemDes_Julho24!$A:$D,2,0),IF(B36="CDHU",VLOOKUP(C36,CDHU!$A:$F,2,0),IF(B36="SIURB_INFRA",VLOOKUP(C36,'SIURB_INFRA SemDes Jul24'!$A:$D,2,0),""))))) -> VIGIA DIURNO COM ENCARGOS COMPLEMENTARES | J36: =IF(B36="SINAPI",VLOOKUP(C36,SINAPI!$G$5:$K$10218,3,0),IF(B36="SICRO",VLOOKUP(C36,SICRO!$A:$D,3,0),IF(B36="SIURB_EDIF",VLOOKUP(C36,SIURB_EDIF_SemDes_Julho24!$A:$D,3,0),IF(B36="CDHU",VLOOKUP(C36,CDHU!$A:$F,3,0),IF(B36="SIURB_INFRA",VLOOKUP(C36,'SIURB_INFRA SemDes Jul24'!$A:$D,3,0),""))))) -> H | K36: =IF(B36="SINAPI",VLOOKUP(C36,SINAPI!$G$5:$K$10218,5,0),IF(B36="SICRO",VLOOKUP(C36,SICRO!$A:$D,4,0),IF(B36="SIURB_EDIF",VLOOKUP(C36,SIURB_EDIF_SemDes_Julho24!$A:$D,4,0),IF(B36="CDHU",VLOOKUP(C36,CDHU!$A:$F,6,0),IF(B36="SIURB_INFRA",VLOOKUP(C36,'SIURB_INFRA SemDes Jul24'!$A:$D,4,0),""))))) -> 31.39 | L36: =ROUND(K36*(1+$P$3),2) -> 38.96 | M36: =SUMIF(MEMO!$B:$B,PLANILHA_ORC!C36,MEMO!$N:$N) -> 880 | N36: =P36 -> 34284.8 | P36: =ROUND(M36*L36,2) -> 34284.8
A37: 8 | D37: 2 | E37: 2 | G37: 2.2 | H37: CANTEIRO DE OBRAS | I37: CANTEIRO DE OBRAS | N37: =SUBTOTAL(9,N38:N41) -> 21726.72 | P37: =SUBTOTAL(9,P38:P41) -> 21726.72
A38: 8.1 | B38: SINAPI | C38: 103689 | D38: 2 | E38: 2 | F38: 1 | G38: 2.2.1 | H38: CANTEIRO DE OBRAS | I38: =IF(B38="SINAPI",VLOOKUP(C38,SINAPI!$G$5:$K$10218,2,0),IF(B38="SICRO",VLOOKUP(C38,SICRO!$A:$D,2,0),IF(B38="SIURB_EDIF",VLOOKUP(C38,SIURB_EDIF_SemDes_Julho24!$A:$D,2,0),IF(B38="CDHU",VLOOKUP(C38,CDHU!$A:$F,2,0),IF(B38="SIURB_INFRA",VLOOKUP(C38,'SIURB_INFRA SemDes Jul24'!$A:$D,2,0),""))))) -> FORNECIMENTO E INSTALAÇÃO DE PLACA DE OBRA COM CHAPA GALVANIZADA E ESTRUTURA DE MADEIRA. AF_03/2022_PS | J38: =IF(B38="SINAPI",VLOOKUP(C38,SINAPI!$G$5:$K$10218,3,0),IF(B38="SICRO",VLOOKUP(C38,SICRO!$A:$D,3,0),IF(B38="SIURB_EDIF",VLOOKUP(C38,SIURB_EDIF_SemDes_Julho24!$A:$D,3,0),IF(B38="CDHU",VLOOKUP(C38,CDHU!$A:$F,3,0),IF(B38="SIURB_INFRA",VLOOKUP(C38,'SIURB_INFRA SemDes Jul24'!$A:$D,3,0),""))))) -> M2 | K38: =IF(B38="SINAPI",VLOOKUP(C38,SINAPI!$G$5:$K$10218,5,0),IF(B38="SICRO",VLOOKUP(C38,SICRO!$A:$D,4,0),IF(B38="SIURB_EDIF",VLOOKUP(C38,SIURB_EDIF_SemDes_Julho24!$A:$D,4,0),IF(B38="CDHU",VLOOKUP(C38,CDHU!$A:$F,6,0),IF(B38="SIURB_INFRA",VLOOKUP(C38,'SIURB_INFRA SemDes Jul24'!$A:$D,4,0),""))))) -> 470.5 | L38: =ROUND(K38*(1+$P$3),2) -> 583.94 | M38: =SUMIF(MEMO!$B:$B,PLANILHA_ORC!C38,MEMO!$N:$N) -> 12 | N38: =P38 -> 7007.28 | P38: =ROUND(M38*L38,2) -> 7007.28
A39: 8.2 | B39: CDHU | C39: 02.02.150 | D39: 2 | E39: 2 | F39: 2 | G39: 2.2.2 | H39: CANTEIRO DE OBRAS | I39: =IF(B39="SINAPI",VLOOKUP(C39,SINAPI!$G$5:$K$10218,2,0),IF(B39="SICRO",VLOOKUP(C39,SICRO!$A:$D,2,0),IF(B39="SIURB_EDIF",VLOOKUP(C39,SIURB_EDIF_SemDes_Julho24!$A:$D,2,0),IF(B39="CDHU",VLOOKUP(C39,CDHU!$A:$F,2,0),IF(B39="SIURB_INFRA",VLOOKUP(C39,'SIURB_INFRA SemDes Jul24'!$A:$D,2,0),""))))) -> Locação de container tipo depósito - área mínima de 13,80 m² | J39: =IF(B39="SINAPI",VLOOKUP(C39,SINAPI!$G$5:$K$10218,3,0),IF(B39="SICRO",VLOOKUP(C39,SICRO!$A:$D,3,0),IF(B39="SIURB_EDIF",VLOOKUP(C39,SIURB_EDIF_SemDes_Julho24!$A:$D,3,0),IF(B39="CDHU",VLOOKUP(C39,CDHU!$A:$F,3,0),IF(B39="SIURB_INFRA",VLOOKUP(C39,'SIURB_INFRA SemDes Jul24'!$A:$D,3,0),""))))) -> UNMES | K39: =IF(B39="SINAPI",VLOOKUP(C39,SINAPI!$G$5:$K$10218,5,0),IF(B39="SICRO",VLOOKUP(C39,SICRO!$A:$D,4,0),IF(B39="SIURB_EDIF",VLOOKUP(C39,SIURB_EDIF_SemDes_Julho24!$A:$D,4,0),IF(B39="CDHU",VLOOKUP(C39,CDHU!$A:$F,6,0),IF(B39="SIURB_INFRA",VLOOKUP(C39,'SIURB_INFRA SemDes Jul24'!$A:$D,4,0),""))))) -> 907.29 | L39: =ROUND(K39*(1+$P$3),2) -> 1126.04 | M39: =SUMIF(MEMO!$B:$B,PLANILHA_ORC!C39,MEMO!$N:$N) -> 4 | N39: =P39 -> 4504.16 | P39: =ROUND(M39*L39,2) -> 4504.16
A40: 8.3 | B40: CDHU | C40: 02.02.160 | D40: 2 | E40: 2 | F40: 3 | G40: 2.2.3 | H40: CANTEIRO DE OBRAS | I40: =IF(B40="SINAPI",VLOOKUP(C40,SINAPI!$G$5:$K$10218,2,0),IF(B40="SICRO",VLOOKUP(C40,SICRO!$A:$D,2,0),IF(B40="SIURB_EDIF",VLOOKUP(C40,SIURB_EDIF_SemDes_Julho24!$A:$D,2,0),IF(B40="CDHU",VLOOKUP(C40,CDHU!$A:$F,2,0),IF(B40="SIURB_INFRA",VLOOKUP(C40,'SIURB_INFRA SemDes Jul24'!$A:$D,2,0),""))))) -> Locação de container tipo guarita - área mínima de 4,60 m² | J40: =IF(B40="SINAPI",VLOOKUP(C40,SINAPI!$G$5:$K$10218,3,0),IF(B40="SICRO",VLOOKUP(C40,SICRO!$A:$D,3,0),IF(B40="SIURB_EDIF",VLOOKUP(C40,SIURB_EDIF_SemDes_Julho24!$A:$D,3,0),IF(B40="CDHU",VLOOKUP(C40,CDHU!$A:$F,3,0),IF(B40="SIURB_INFRA",VLOOKUP(C40,'SIURB_INFRA SemDes Jul24'!$A:$D,3,0),""))))) -> UNMES | K40: =IF(B40="SINAPI",VLOOKUP(C40,SINAPI!$G$5:$K$10218,5,0),IF(B40="SICRO",VLOOKUP(C40,SICRO!$A:$D,4,0),IF(B40="SIURB_EDIF",VLOOKUP(C40,SIURB_EDIF_SemDes_Julho24!$A:$D,4,0),IF(B40="CDHU",VLOOKUP(C40,CDHU!$A:$F,6,0),IF(B40="SIURB_INFRA",VLOOKUP(C40,'SIURB_INFRA SemDes Jul24'!$A:$D,4,0),""))))) -> 906.55 | L40: =ROUND(K40*(1+$P$3),2) -> 1125.12 | M40: =SUMIF(MEMO!$B:$B,PLANILHA_ORC!C40,MEMO!$N:$N) -> 4 | N40: =P40 -> 4500.48 | P40: =ROUND(M40*L40,2) -> 4500.48
A41: 8.4 | B41: CDHU | C41: 02.01.180 | D41: 2 | E41: 2 | F41: 4 | G41: 2.2.4 | H41: CANTEIRO DE OBRAS | I41: =IF(B41="SINAPI",VLOOKUP(C41,SINAPI!$G$5:$K$10218,2,0),IF(B41="SICRO",VLOOKUP(C41,SICRO!$A:$D,2,0),IF(B41="SIURB_EDIF",VLOOKUP(C41,SIURB_EDIF_SemDes_Julho24!$A:$D,2,0),IF(B41="CDHU",VLOOKUP(C41,CDHU!$A:$F,2,0),IF(B41="SIURB_INFRA",VLOOKUP(C41,'SIURB_INFRA SemDes Jul24'!$A:$D,2,0),""))))) -> Banheiro químico modelo Standard, com manutenção conforme exigências da CETESB | J41: =IF(B41="SINAPI",VLOOKUP(C41,SINAPI!$G$5:$K$10218,3,0),IF(B41="SICRO",VLOOKUP(C41,SICRO!$A:$D,3,0),IF(B41="SIURB_EDIF",VLOOKUP(C41,SIURB_EDIF_SemDes_Julho24!$A:$D,3,0),IF(B41="CDHU",VLOOKUP(C41,CDHU!$A:$F,3,0),IF(B41="SIURB_INFRA",VLOOKUP(C41,'SIURB_INFRA SemDes Jul24'!$A:$D,3,0),""))))) -> UNMES | K41: =IF(B41="SINAPI",VLOOKUP(C41,SINAPI!$G$5:$K$10218,5,0),IF(B41="SICRO",VLOOKUP(C41,SICRO!$A:$D,4,0),IF(B41="SIURB_EDIF",VLOOKUP(C41,SIURB_EDIF_SemDes_Julho24!$A:$D,4,0),IF(B41="CDHU",VLOOKUP(C41,CDHU!$A:$F,6,0),IF(B41="SIURB_INFRA",VLOOKUP(C41,'SIURB_INFRA SemDes Jul24'!$A:$D,4,0),""))))) -> 1151.16 | L41: =ROUND(K41*(1+$P$3),2) -> 1428.7 | M41: =SUMIF(MEMO!$B:$B,PLANILHA_ORC!C41,MEMO!$N:$N) -> 4 | N41: =P41 -> 5714.8 | P41: =ROUND(M41*L41,2) -> 5714.8
...

Sheet Cronograma fis-fin_FEHIDRO
A1: CRONOGRAMA FÍSICO-FINANCEIRO - INVESTIMENTO FEHIDRO
A2: Revitalização do Córrego Corumbiara, Pq. Miami, Município de Santo André/SP - APRM-B | H2: data: | I2: =PLANILHA_ORC!P2 -> 45658
H3: BDI | I3: =BDI!B13 -> 0.2411
A4: REFERÊNCIA | B4: CÓDIGO | D4: TIPO | E4: DESCRIÇÃO | F4: UNIDADE | G4: PREÇO UNIT | H4: QUANTIDADE | I4: PREÇO TOTAL | K4: 1º mês | L4: 2º mês | M4: 3º mês | N4: 4º mês | O4: 5º mês | P4: 6º mês | Q4: TOTAL
C5: 0.0 | E5: TOTAL | I5: =VLOOKUP(C5,PLANILHA_ORC!$G:$P,8,0) -> 2297836.6 | K5: =SUM(K6,K51,K164) -> 23336.51 | L5: =SUM(L6,L51,L164) -> 50518.8 | M5: =SUM(M6,M51,M164) -> 525644.46 | N5: =SUM(N6,N51,N164) -> 778491.34 | O5: =SUM(O6,O51,O164) -> 778491.34 | P5: =SUM(P6,P51,P164) -> 141354.14 | Q5: =SUM(K5:P5) -> 2297836.6
C6: 1.0 | E6: PROJETO EXECUTIVO | I6: =VLOOKUP(C6,PLANILHA_ORC!$G:$P,8,0) -> 73855.31 | K6: =SUM(K7,K12,K23,K30,K37,K44) -> 23336.51 | L6: =SUM(L7,L12,L23,L30,L37,L44) -> 50518.8 | M6: =SUM(M7,M12,M23,M30,M37,M44) -> 0 | N6: =SUM(N7,N12,N23,N30,N37,N44) -> 0 | O6: =SUM(O7,O12,O23,O30,O37,O44) -> 0 | P6: =SUM(P7,P12,P23,P30,P37,P44) -> 0 | Q6: =SUM(K6:P6) -> 73855.31
C7: 1.1 | D7: PLANO DE TRABALHO | E7: PLANO DE TRABALHO | I7: =VLOOKUP(C7,PLANILHA_ORC!$G:$P,8,0) -> 7670.28 | K7: =SUM(K9,K11) -> 7670.28 | L7: =SUM(L9,L11) -> 0 | M7: =SUM(M9,M11) -> 0 | N7: =SUM(N9,N11) -> 0 | O7: =SUM(O9,O11) -> 0 | P7: =SUM(P9,P11) -> 0 | Q7: =SUM(K7:P7) -> 7670.28 | R7: =Q7=I7 -> TRUE
A8: SIURB | B8: 1115 | C8: 1.1.1 | D8: PLANO DE TRABALHO | E8: =VLOOKUP(C8,PLANILHA_ORC!$G:$J,3,0) -> ENGENHEIRO CIVIL/ ARQUITETO COORDENADOR SETORIAL - 20 ANOS EXPERIÊNCIA (SGSP) | F8: =VLOOKUP(C8,PLANILHA_ORC!$G:$J,4,0) -> H | G8: =VLOOKUP(C8,PLANILHA_ORC!$G:$P,6,0) -> 586.71 | H8: =VLOOKUP(C8,PLANILHA_ORC!$G:$P,7,0) -> 4 | I8: =VLOOKUP(C8,PLANILHA_ORC!$G:$P,8,0) -> 2346.84 | K8: 1
K9: =ROUND(K8*$I8,2) -> 2346.84 | L9: =ROUND(L8*$I8,2) -> 0 | M9: =ROUND(M8*$I8,2) -> 0 | N9: =ROUND(N8*$I8,2) -> 0 | O9: =ROUND(O8*$I8,2) -> 0 | P9: =ROUND(P8*$I8,2) -> 0 | Q9: =SUM(K9:P9) -> 2346.84 | R9: =Q9=I8 -> TRUE
A10: SIURB | B10: 1125 | C10: 1.1.2 | D10: PLANO DE TRABALHO | E10: =VLOOKUP(C10,PLANILHA_ORC!$G:$J,3,0) -> ENGENHEIRO/ ARQUITETO PLENO - DE 5 A 15 ANOS DE EXPERIÊNCIA (SGSP) | F10: =VLOOKUP(C10,PLANILHA_ORC!$G:$J,4,0) -> H | G10: =VLOOKUP(C10,PLANILHA_ORC!$G:$M,6,0) -> 221.81 | H10: =VLOOKUP(C10,PLANILHA_ORC!$G:$M,7,0) -> 24 | I10: =VLOOKUP(C10,PLANILHA_ORC!$G:$P,8,0) -> 5323.44 | K10: 1
K11: =ROUND(K10*$I10,2) -> 5323.44 | L11: =ROUND(L10*$I10,2) -> 0 | M11: =ROUND(M10*$I10,2) -> 0 | N11: =ROUND(N10*$I10,2) -> 0 | O11: =ROUND(O10*$I10,2) -> 0 | P11: =ROUND(P10*$I10,2) -> 0 | Q11: =SUM(K11:P11) -> 5323.44 | R11: =Q11=I10 -> TRUE
C12: 1.2 | D12: LEVANTAMENTO TOPOGRÁFICO E DE INTERFERÊNCIAS | E12: LEVANTAMENTO TOPOGRÁFICO E DE INTERFERÊNCIAS | I12: =VLOOKUP(C12,PLANILHA_ORC!$G:$P,8,0) -> 15666.23 | K12: =SUM(K14,K16,K18,K20,K22) -> 15666.23 | L12: =SUM(L14,L16,L18,L20,L22) -> 0 | M12: =SUM(M14,M16,M18,M20,M22) -> 0 | N12: =SUM(N14,N16,N18,N20,N22) -> 0 | O12: =SUM(O14,O16,O18,O20,O22) -> 0 | P12: =SUM(P14,P16,P18,P20,P22) -> 0 | Q12: =SUM(K12:P12) -> 15666.23 | R12: =Q12=I12 -> TRUE
A13: SIURB | B13: 1115 | C13: 1.2.1 | D13: LEVANTAMENTO TOPOGRÁFICO E DE INTERFERÊNCIAS | E13: =VLOOKUP(C13,PLANILHA_ORC!$G:$J,3,0) -> ENGENHEIRO CIVIL/ ARQUITETO COORDENADOR SETORIAL - 20 ANOS EXPERIÊNCIA (SGSP) | F13: =VLOOKUP(C13,PLANILHA_ORC!$G:$J,4,0) -> H | G13: =VLOOKUP(C13,PLANILHA_ORC!$G:$M,6,0) -> 586.71 | H13: =VLOOKUP(C13,PLANILHA_ORC!$G:$M,7,0) -> 4 | I13: =VLOOKUP(C13,PLANILHA_ORC!$G:$P,8,0) -> 2346.84 | K13: 1
K14: =ROUND(K13*$I13,2) -> 2346.84 | L14: =ROUND(L13*$I13,2) -> 0 | M14: =ROUND(M13*$I13,2) -> 0 | N14: =ROUND(N13*$I13,2) -> 0 | O14: =ROUND(O13*$I13,2) -> 0 | P14: =ROUND(P13*$I13,2) -> 0 | Q14: =SUM(K14:P14) -> 2346.84 | R14: =Q14=I13 -> TRUE
A15: SIURB | B15: 1125 | C15: 1.2.2 | D15: LEVANTAMENTO TOPOGRÁFICO E DE INTERFERÊNCIAS | E15: =VLOOKUP(C15,PLANILHA_ORC!$G:$J,3,0) -> ENGENHEIRO/ ARQUITETO PLENO - DE 5 A 15 ANOS DE EXPERIÊNCIA (SGSP) | F15: =VLOOKUP(C15,PLANILHA_ORC!$G:$J,4,0) -> H | G15: =VLOOKUP(C15,PLANILHA_ORC!$G:$M,6,0) -> 221.81 | H15: =VLOOKUP(C15,PLANILHA_ORC!$G:$M,7,0) -> 16 | I15: =VLOOKUP(C15,PLANILHA_ORC!$G:$P,8,0) -> 3548.96 | K15: 1
K16: =ROUND(K15*$I15,2) -> 3548.96 | L16: =ROUND(L15*$I15,2) -> 0 | M16: =ROUND(M15*$I15,2) -> 0 | N16: =ROUND(N15*$I15,2) -> 0 | O16: =ROUND(O15*$I15,2) -> 0 | P16: =ROUND(P15*$I15,2) -> 0 | Q16: =SUM(K16:P16) -> 3548.96 | R16: =Q16=I15 -> TRUE
A17: SIURB | B17: 1181 | C17: 1.2.3 | D17: LEVANTAMENTO TOPOGRÁFICO E DE INTERFERÊNCIAS | E17: =VLOOKUP(C17,PLANILHA_ORC!$G:$J,3,0) -> TOPÓGRAFO (SGSP) | F17: =VLOOKUP(C17,PLANILHA_ORC!$G:$J,4,0) -> H | G17: =VLOOKUP(C17,PLANILHA_ORC!$G:$M,6,0) -> 82.07 | H17: =VLOOKUP(C17,PLANILHA_ORC!$G:$M,7,0) -> 24 | I17: =VLOOKUP(C17,PLANILHA_ORC!$G:$P,8,0) -> 1969.68 | K17: 1
K18: =ROUND(K17*$I17,2) -> 1969.68 | L18: =ROUND(L17*$I17,2) -> 0 | M18: =ROUND(M17*$I17,2) -> 0 | N18: =ROUND(N17*$I17,2) -> 0 | O18: =ROUND(O17*$I17,2) -> 0 | P18: =ROUND(P17*$I17,2) -> 0 | Q18: =SUM(K18:P18) -> 1969.68 | R18: =Q18=I17 -> TRUE
A19: SIURB_INFRA | B19: 1010000 | C19: 1.2.4 | D19: LEVANTAMENTO TOPOGRÁFICO E DE INTERFERÊNCIAS | E19: =VLOOKUP(C19,PLANILHA_ORC!$G:$J,3,0) -> LEVANTAMENTO PLANIALTIMÉTRICO CADASTRAL | F19: =VLOOKUP(C19,PLANILHA_ORC!$G:$J,4,0) -> M2 | G19: =VLOOKUP(C19,PLANILHA_ORC!$G:$M,6,0) -> 0.99 | H19: =VLOOKUP(C19,PLANILHA_ORC!$G:$M,7,0) -> 2600 | I19: =VLOOKUP(C19,PLANILHA_ORC!$G:$P,8,0) -> 2574 | K19: 1
K20: =ROUND(K19*$I19,2) -> 2574 | L20: =ROUND(L19*$I19,2) -> 0 | M20: =ROUND(M19*$I19,2) -> 0 | N20: =ROUND(N19*$I19,2) -> 0 | O20: =ROUND(O19*$I19,2) -> 0 | P20: =ROUND(P19*$I19,2) -> 0 | Q20: =SUM(K20:P20) -> 2574 | R20: =Q20=I19 -> TRUE
A21: SIURB_INFRA | B21: 2001001 | C21: 1.2.5 | D21: LEVANTAMENTO TOPOGRÁFICO E DE INTERFERÊNCIAS | E21: =VLOOKUP(C21,PLANILHA_ORC!$G:$J,3,0) -> SONDAGEM A TRADO MANUAL | F21: =VLOOKUP(C21,PLANILHA_ORC!$G:$J,4,0) -> M | G21: =VLOOKUP(C21,PLANILHA_ORC!$G:$M,6,0) -> 116.15 | H21: =VLOOKUP(C21,PLANILHA_ORC!$G:$M,7,0) -> 45 | I21: =VLOOKUP(C21,PLANILHA_ORC!$G:$P,8,0) -> 5226.75 | K21: 1
K22: =ROUND(K21*$I21,2) -> 5226.75 | L22: =ROUND(L21*$I21,2) -> 0 | M22: =ROUND(M21*$I21,2) -> 0 | N22: =ROUND(N21*$I21,2) -> 0 | O22: =ROUND(O21*$I21,2) -> 0 | P22: =ROUND(P21*$I21,2) -> 0 | Q22: =SUM(K22:P22) -> 5226.75 | R22: =Q22=I21 -> TRUE
C23: 1.3 | D23: PROJETO HIDRÁULICO E HIDROLÓGICO | E23: PROJETO HIDRÁULICO E HIDROLÓGICO | I23: =VLOOKUP(C23,PLANILHA_ORC!$G:$P,8,0) -> 16730.48 | K23: =SUM(K25,K27,K29) -> 0 | L23: =SUM(L25,L27,L29) -> 16730.48 | M23: =SUM(M25,M27,M29) -> 0 | N23: =SUM(N25,N27,N29) -> 0 | O23: =SUM(O25,O27,O29) -> 0 | P23: =SUM(P25,P27,P29) -> 0 | Q23: =SUM(K23:P23) -> 16730.48 | R23: =Q23=I23 -> TRUE
A24: SIURB | B24: 1115 | C24: 1.3.1 | D24: PROJETO HIDRÁULICO E HIDROLÓGICO | E24: =VLOOKUP(C24,PLANILHA_ORC!$G:$J,3,0) -> ENGENHEIRO CIVIL/ ARQUITETO COORDENADOR SETORIAL - 20 ANOS EXPERIÊNCIA (SGSP) | F24: =VLOOKUP(C24,PLANILHA_ORC!$G:$J,4,0) -> H | G24: =VLOOKUP(C24,PLANILHA_ORC!$G:$M,6,0) -> 586.71 | H24: =VLOOKUP(C24,PLANILHA_ORC!$G:$M,7,0) -> 8 | I24: =VLOOKUP(C24,PLANILHA_ORC!$G:$P,8,0) -> 4693.68 | L24: 1
K25: =ROUND(K24*$I24,2) -> 0 | L25: =ROUND(L24*$I24,2) -> 4693.68 | M25: =ROUND(M24*$I24,2) -> 0 | N25: =ROUND(N24*$I24,2) -> 0 | O25: =ROUND(O24*$I24,2) -> 0 | P25: =ROUND(P24*$I24,2) -> 0 | Q25: =SUM(K25:P25) -> 4693.68 | R25: =Q25=I24 -> TRUE
A26: SIURB | B26: 1125 | C26: 1.3.2 | D26: PROJETO HIDRÁULICO E HIDROLÓGICO | E26: =VLOOKUP(C26,PLANILHA_ORC!$G:$J,3,0) -> ENGENHEIRO/ ARQUITETO PLENO - DE 5 A 15 ANOS DE EXPERIÊNCIA (SGSP) | F26: =VLOOKUP(C26,PLANILHA_ORC!$G:$J,4,0) -> H | G26: =VLOOKUP(C26,PLANILHA_ORC!$G:$M,6,0) -> 221.81 | H26: =VLOOKUP(C26,PLANILHA_ORC!$G:$M,7,0) -> 40 | I26: =VLOOKUP(C26,PLANILHA_ORC!$G:$P,8,0) -> 8872.4 | L26: 1
K27: =ROUND(K26*$I26,2) -> 0 | L27: =ROUND(L26*$I26,2) -> 8872.4 | M27: =ROUND(M26*$I26,2) -> 0 | N27: =ROUND(N26*$I26,2) -> 0 | O27: =ROUND(O26*$I26,2) -> 0 | P27: =ROUND(P26*$I26,2) -> 0 | Q27: =SUM(K27:P27) -> 8872.4 | R27: =Q27=I26 -> TRUE
A28: SIURB | B28: 1164 | C28: 1.3.3 | D28: PROJETO HIDRÁULICO E HIDROLÓGICO | E28: =VLOOKUP(C28,PLANILHA_ORC!$G:$J,3,0) -> DESENHISTA PROJETISTA (SGSP) | F28: =VLOOKUP(C28,PLANILHA_ORC!$G:$J,4,0) -> H | G28: =VLOOKUP(C28,PLANILHA_ORC!$G:$M,6,0) -> 79.11 | H28: =VLOOKUP(C28,PLANILHA_ORC!$G:$M,7,0) -> 40 | I28: =VLOOKUP(C28,PLANILHA_ORC!$G:$P,8,0) -> 3164.4 | L28: 1
K29: =ROUND(K28*$I28,2) -> 0 | L29: =ROUND(L28*$I28,2) -> 3164.4 | M29: =ROUND(M28*$I28,2) -> 0 | N29: =ROUND(N28*$I28,2) -> 0 | O29: =ROUND(O28*$I28,2) -> 0 | P29: =ROUND(P28*$I28,2) -> 0 | Q29: =SUM(K29:P29) -> 3164.4 | R29: =Q29=I28 -> TRUE
C30: 1.4 | D30: PROJETO ESTRUTURAL | E30: PROJETO ESTRUTURAL | I30: =VLOOKUP(C30,PLANILHA_ORC!$G:$P,8,0) -> 16730.48 | K30: =SUM(K32,K34,K36) -> 0 | L30: =SUM(L32,L34,L36) -> 16730.48 | M30: =SUM(M32,M34,M36) -> 0 | N30: =SUM(N32,N34,N36) -> 0 | O30: =SUM(O32,O34,O36) -> 0 | P30: =SUM(P32,P34,P36) -> 0 | Q30: =SUM(K30:P30) -> 16730.48 | R30: =Q30=I30 -> TRUE
A31: SIURB | B31: 1115 | C31: 1.4.1 | D31: PROJETO ESTRUTURAL | E31: =VLOOKUP(C31,PLANILHA_ORC!$G:$J,3,0) -> ENGENHEIRO CIVIL/ ARQUITETO COORDENADOR SETORIAL - 20 ANOS EXPERIÊNCIA (SGSP) | F31: =VLOOKUP(C31,PLANILHA_ORC!$G:$J,4,0) -> H | G31: =VLOOKUP(C31,PLANILHA_ORC!$G:$M,6,0) -> 586.71 | H31: =VLOOKUP(C31,PLANILHA_ORC!$G:$M,7,0) -> 8 | I31: =VLOOKUP(C31,PLANILHA_ORC!$G:$P,8,0) -> 4693.68 | L31: 1
K32: =ROUND(K31*$I31,2) -> 0 | L32: =ROUND(L31*$I31,2) -> 4693.68 | M32: =ROUND(M31*$I31,2) -> 0 | N32: =ROUND(N31*$I31,2) -> 0 | O32: =ROUND(O31*$I31,2) -> 0 | P32: =ROUND(P31*$I31,2) -> 0 | Q32: =SUM(K32:P32) -> 4693.68 | R32: =Q32=I31 -> TRUE
A33: SIURB | B33: 1125 | C33: 1.4.2 | D33: PROJETO ESTRUTURAL | E33: =VLOOKUP(C33,PLANILHA_ORC!$G:$J,3,0) -> ENGENHEIRO/ ARQUITETO PLENO - DE 5 A 15 ANOS DE EXPERIÊNCIA (SGSP) | F33: =VLOOKUP(C33,PLANILHA_ORC!$G:$J,4,0) -> H | G33: =VLOOKUP(C33,PLANILHA_ORC!$G:$M,6,0) -> 221.81 | H33: =VLOOKUP(C33,PLANILHA_ORC!$G:$M,7,0) -> 40 | I33: =VLOOKUP(C33,PLANILHA_ORC!$G:$P,8,0) -> 8872.4 | L33: 1
K34: =ROUND(K33*$I33,2) -> 0 | L34: =ROUND(L33*$I33,2) -> 8872.4 | M34: =ROUND(M33*$I33,2) -> 0 | N34: =ROUND(N33*$I33,2) -> 0 | O34: =ROUND(O33*$I33,2) -> 0 | P34: =ROUND(P33*$I33,2) -> 0 | Q34: =SUM(K34:P34) -> 8872.4 | R34: =Q34=I33 -> TRUE
A35: SIURB | B35: 1164 | C35: 1.4.3 | D35: PROJETO ESTRUTURAL | E35: =VLOOKUP(C35,PLANILHA_ORC!$G:$J,3,0) -> DESENHISTA PROJETISTA (SGSP) | F35: =VLOOKUP(C35,PLANILHA_ORC!$G:$J,4,0) -> H | G35: =VLOOKUP(C35,PLANILHA_ORC!$G:$M,6,0) -> 79.11 | H35: =VLOOKUP(C35,PLANILHA_ORC!$G:$M,7,0) -> 40 | I35: =VLOOKUP(C35,PLANILHA_ORC!$G:$P,8,0) -> 3164.4 | L35: 1
K36: =ROUND(K35*$I35,2) -> 0 | L36: =ROUND(L35*$I35,2) -> 3164.4 | M36: =ROUND(M35*$I35,2) -> 0 | N36: =ROUND(N35*$I35,2) -> 0 | O36: =ROUND(O35*$I35,2) -> 0 | P36: =ROUND(P35*$I35,2) -> 0 | Q36: =SUM(K36:P36) -> 3164.4 | R36: =Q36=I35 -> TRUE
C37: 1.5 | D37: PLANILHA ORÇAMENTÁRIA | E37: PLANILHA ORÇAMENTÁRIA | I37: =VLOOKUP(C37,PLANILHA_ORC!$G:$P,8,0) -> 8528.92 | K37: =SUM(K39,K41,K43) -> 0 | L37: =SUM(L39,L41,L43) -> 8528.92 | M37: =SUM(M39,M41,M43) -> 0 | N37: =SUM(N39,N41,N43) -> 0 | O37: =SUM(O39,O41,O43) -> 0 | P37: =SUM(P39,P41,P43) -> 0 | Q37: =SUM(K37:P37) -> 8528.92 | R37: =Q37=I37 -> TRUE
A38: SIURB | B38: 1115 | C38: 1.5.1 | D38: PLANILHA ORÇAMENTÁRIA | E38: =VLOOKUP(C38,PLANILHA_ORC!$G:$J,3,0) -> ENGENHEIRO CIVIL/ ARQUITETO COORDENADOR SETORIAL - 20 ANOS EXPERIÊNCIA (SGSP) | F38: =VLOOKUP(C38,PLANILHA_ORC!$G:$J,4,0) -> H | G38: =VLOOKUP(C38,PLANILHA_ORC!$G:$M,6,0) -> 586.71 | H38: =VLOOKUP(C38,PLANILHA_ORC!$G:$M,7,0) -> 4 | I38: =VLOOKUP(C38,PLANILHA_ORC!$G:$P,8,0) -> 2346.84 | L38: 1
K39: =ROUND(K38*$I38,2) -> 0 | L39: =ROUND(L38*$I38,2) -> 2346.84 | M39: =ROUND(M38*$I38,2) -> 0 | N39: =ROUND(N38*$I38,2) -> 0 | O39: =ROUND(O38*$I38,2) -> 0 | P39: =ROUND(P38*$I38,2) -> 0 | Q39: =SUM(K39:P39) -> 2346.84 | R39: =Q39=I38 -> TRUE
A40: SIURB | B40: 1125 | C40: 1.5.2 | D40: PLANILHA ORÇAMENTÁRIA | E40: =VLOOKUP(C40,PLANILHA_ORC!$G:$J,3,0) -> ENGENHEIRO/ ARQUITETO PLENO - DE 5 A 15 ANOS DE EXPERIÊNCIA (SGSP) | F40: =VLOOKUP(C40,PLANILHA_ORC!$G:$J,4,0) -> H | G40: =VLOOKUP(C40,PLANILHA_ORC!$G:$M,6,0) -> 221.81 | H40: =VLOOKUP(C40,PLANILHA_ORC!$G:$M,7,0) -> 16 | I40: =VLOOKUP(C40,PLANILHA_ORC!$G:$P,8,0) -> 3548.96 | L40: 1
...

Sheet Cronograma fis-fin_CONTRAPARTID
A1: CRONOGRAMA FÍSICO-FINANCEIRO - INVESTIMENTO CONTRAPARTIDA
A2: Revitalização do Córrego Corumbiara, Pq. Miami, Município de Santo André/SP - APRM-B | H2: data: | I2: =PLANILHA_ORC!P2 -> 45658
H3: BDI | I3: =BDI!B13 -> 0.2411
A4: REFERÊNCIA | B4: CÓDIGO | D4: TIPO | E4: DESCRIÇÃO | F4: UNIDADE | G4: PREÇO UNIT | H4: QUANTIDADE | I4: PREÇO TOTAL | K4: 1º mês | L4: 2º mês | M4: 3º mês | N4: 4º mês | O4: 5º mês | P4: 6º mês | Q4: TOTAL
C5: 0.0 | E5: TOTAL | I5: =VLOOKUP(C5,PLANILHA_ORC!$G:$P,9,0) -> 289380.55 | K5: =SUM(K6,K51,K164) -> 0 | L5: =SUM(L6,L51,L164) -> 0 | M5: =SUM(M6,M51,M164) -> 0 | N5: =SUM(N6,N51,N164) -> 0 | O5: =SUM(O6,O51,O164) -> 0 | P5: =SUM(P6,P51,P164) -> 289380.55 | Q5: =SUM(K5:P5) -> 289380.55
C6: 1.0 | E6: PROJETO EXECUTIVO | I6: =VLOOKUP(C6,PLANILHA_ORC!$G:$P,9,0) -> 0 | K6: =SUM(K7,K12,K23,K30,K37,K44) -> 0 | L6: =SUM(L7,L12,L23,L30,L37,L44) -> 0 | M6: =SUM(M7,M12,M23,M30,M37,M44) -> 0 | N6: =SUM(N7,N12,N23,N30,N37,N44) -> 0 | O6: =SUM(O7,O12,O23,O30,O37,O44) -> 0 | P6: =SUM(P7,P12,P23,P30,P37,P44) -> 0 | Q6: =SUM(K6:P6) -> 0
C7: 1.1 | D7: PLANO DE TRABALHO | E7: PLANO DE TRABALHO | I7: =VLOOKUP(C7,PLANILHA_ORC!$G:$P,9,0) -> 0 | K7: =SUM(K9,K11) -> 0 | L7: =SUM(L9,L11) -> 0 | M7: =SUM(M9,M11) -> 0 | N7: =SUM(N9,N11) -> 0 | O7: =SUM(O9,O11) -> 0 | P7: =SUM(P9,P11) -> 0 | Q7: =SUM(K7:P7) -> 0 | R7: =Q7=I7 -> TRUE
A8: SIURB | B8: 1115 | C8: 1.1.1 | D8: PLANO DE TRABALHO | E8: =VLOOKUP(C8,PLANILHA_ORC!$G:$J,3,0) -> ENGENHEIRO CIVIL/ ARQUITETO COORDENADOR SETORIAL - 20 ANOS EXPERIÊNCIA (SGSP) | F8: =VLOOKUP(C8,PLANILHA_ORC!$G:$J,4,0) -> H | G8: =VLOOKUP(C8,PLANILHA_ORC!$G:$P,6,0) -> 586.71 | H8: =VLOOKUP(C8,PLANILHA_ORC!$G:$P,7,0) -> 4 | I8: =VLOOKUP(C8,PLANILHA_ORC!$G:$P,9,0) -> 0 | K8: 1
K9: =ROUND(K8*$I8,2) -> 0 | L9: =ROUND(L8*$I8,2) -> 0 | M9: =ROUND(M8*$I8,2) -> 0 | N9: =ROUND(N8*$I8,2) -> 0 | O9: =ROUND(O8*$I8,2) -> 0 | P9: =ROUND(P8*$I8,2) -> 0 | Q9: =SUM(K9:P9) -> 0 | R9: =Q9=I8 -> TRUE
A10: SIURB | B10: 1125 | C10: 1.1.2 | D10: PLANO DE TRABALHO | E10: =VLOOKUP(C10,PLANILHA_ORC!$G:$J,3,0) -> ENGENHEIRO/ ARQUITETO PLENO - DE 5 A 15 ANOS DE EXPERIÊNCIA (SGSP) | F10: =VLOOKUP(C10,PLANILHA_ORC!$G:$J,4,0) -> H | G10: =VLOOKUP(C10,PLANILHA_ORC!$G:$M,6,0) -> 221.81 | H10: =VLOOKUP(C10,PLANILHA_ORC!$G:$M,7,0) -> 24 | I10: =VLOOKUP(C10,PLANILHA_ORC!$G:$P,9,0) -> 0 | K10: 1
K11: =ROUND(K10*$I10,2) -> 0 | L11: =ROUND(L10*$I10,2) -> 0 | M11: =ROUND(M10*$I10,2) -> 0 | N11: =ROUND(N10*$I10,2) -> 0 | O11: =ROUND(O10*$I10,2) -> 0 | P11: =ROUND(P10*$I10,2) -> 0 | Q11: =SUM(K11:P11) -> 0 | R11: =Q11=I10 -> TRUE
C12: 1.2 | D12: LEVANTAMENTO TOPOGRÁFICO E DE INTERFERÊNCIAS | E12: LEVANTAMENTO TOPOGRÁFICO E DE INTERFERÊNCIAS | I12: =VLOOKUP(C12,PLANILHA_ORC!$G:$P,9,0) -> 0 | K12: =SUM(K14,K16,K18,K20,K22) -> 0 | L12: =SUM(L14,L16,L18,L20,L22) -> 0 | M12: =SUM(M14,M16,M18,M20,M22) -> 0 | N12: =SUM(N14,N16,N18,N20,N22) -> 0 | O12: =SUM(O14,O16,O18,O20,O22) -> 0 | P12: =SUM(P14,P16,P18,P20,P22) -> 0 | Q12: =SUM(K12:P12) -> 0 | R12: =Q12=I12 -> TRUE
A13: SIURB | B13: 1115 | C13: 1.2.1 | D13: LEVANTAMENTO TOPOGRÁFICO E DE INTERFERÊNCIAS | E13: =VLOOKUP(C13,PLANILHA_ORC!$G:$J,3,0) -> ENGENHEIRO CIVIL/ ARQUITETO COORDENADOR SETORIAL - 20 ANOS EXPERIÊNCIA (SGSP) | F13: =VLOOKUP(C13,PLANILHA_ORC!$G:$J,4,0) -> H | G13: =VLOOKUP(C13,PLANILHA_ORC!$G:$M,6,0) -> 586.71 | H13: =VLOOKUP(C13,PLANILHA_ORC!$G:$M,7,0) -> 4 | I13: =VLOOKUP(C13,PLANILHA_ORC!$G:$P,9,0) -> 0 | K13: 1
K14: =ROUND(K13*$I13,2) -> 0 | L14: =ROUND(L13*$I13,2) -> 0 | M14: =ROUND(M13*$I13,2) -> 0 | N14: =ROUND(N13*$I13,2) -> 0 | O14: =ROUND(O13*$I13,2) -> 0 | P14: =ROUND(P13*$I13,2) -> 0 | Q14: =SUM(K14:P14) -> 0 | R14: =Q14=I13 -> TRUE
A15: SIURB | B15: 1125 | C15: 1.2.2 | D15: LEVANTAMENTO TOPOGRÁFICO E DE INTERFERÊNCIAS | E15: =VLOOKUP(C15,PLANILHA_ORC!$G:$J,3,0) -> ENGENHEIRO/ ARQUITETO PLENO - DE 5 A 15 ANOS DE EXPERIÊNCIA (SGSP) | F15: =VLOOKUP(C15,PLANILHA_ORC!$G:$J,4,0) -> H | G15: =VLOOKUP(C15,PLANILHA_ORC!$G:$M,6,0) -> 221.81 | H15: =VLOOKUP(C15,PLANILHA_ORC!$G:$M,7,0) -> 16 | I15: =VLOOKUP(C15,PLANILHA_ORC!$G:$P,9,0) -> 0 | K15: 1
K16: =ROUND(K15*$I15,2) -> 0 | L16: =ROUND(L15*$I15,2) -> 0 | M16: =ROUND(M15*$I15,2) -> 0 | N16: =ROUND(N15*$I15,2) -> 0 | O16: =ROUND(O15*$I15,2) -> 0 | P16: =ROUND(P15*$I15,2) -> 0 | Q16: =SUM(K16:P16) -> 0 | R16: =Q16=I15 -> TRUE
A17: SIURB | B17: 1181 | C17: 1.2.3 | D17: LEVANTAMENTO TOPOGRÁFICO E DE INTERFERÊNCIAS | E17: =VLOOKUP(C17,PLANILHA_ORC!$G:$J,3,0) -> TOPÓGRAFO (SGSP) | F17: =VLOOKUP(C17,PLANILHA_ORC!$G:$J,4,0) -> H | G17: =VLOOKUP(C17,PLANILHA_ORC!$G:$M,6,0) -> 82.07 | H17: =VLOOKUP(C17,PLANILHA_ORC!$G:$M,7,0) -> 24 | I17: =VLOOKUP(C17,PLANILHA_ORC!$G:$P,9,0) -> 0 | K17: 1
K18: =ROUND(K17*$I17,2) -> 0 | L18: =ROUND(L17*$I17,2) -> 0 | M18: =ROUND(M17*$I17,2) -> 0 | N18: =ROUND(N17*$I17,2) -> 0 | O18: =ROUND(O17*$I17,2) -> 0 | P18: =ROUND(P17*$I17,2) -> 0 | Q18: =SUM(K18:P18) -> 0 | R18: =Q18=I17 -> TRUE
A19: SIURB_INFRA | B19: 1010000 | C19: 1.2.4 | D19: LEVANTAMENTO TOPOGRÁFICO E DE INTERFERÊNCIAS | E19: =VLOOKUP(C19,PLANILHA_ORC!$G:$J,3,0) -> LEVANTAMENTO PLANIALTIMÉTRICO CADASTRAL | F19: =VLOOKUP(C19,PLANILHA_ORC!$G:$J,4,0) -> M2 | G19: =VLOOKUP(C19,PLANILHA_ORC!$G:$M,6,0) -> 0.99 | H19: =VLOOKUP(C19,PLANILHA_ORC!$G:$M,7,0) -> 2600 | I19: =VLOOKUP(C19,PLANILHA_ORC!$G:$P,9,0) -> 0 | K19: 1
K20: =ROUND(K19*$I19,2) -> 0 | L20: =ROUND(L19*$I19,2) -> 0 | M20: =ROUND(M19*$I19,2) -> 0 | N20: =ROUND(N19*$I19,2) -> 0 | O20: =ROUND(O19*$I19,2) -> 0 | P20: =ROUND(P19*$I19,2) -> 0 | Q20: =SUM(K20:P20) -> 0 | R20: =Q20=I19 -> TRUE
A21: SIURB_INFRA | B21: 2001001 | C21: 1.2.5 | D21: LEVANTAMENTO TOPOGRÁFICO E DE INTERFERÊNCIAS | E21: =VLOOKUP(C21,PLANILHA_ORC!$G:$J,3,0) -> SONDAGEM A TRADO MANUAL | F21: =VLOOKUP(C21,PLANILHA_ORC!$G:$J,4,0) -> M | G21: =VLOOKUP(C21,PLANILHA_ORC!$G:$M,6,0) -> 116.15 | H21: =VLOOKUP(C21,PLANILHA_ORC!$G:$M,7,0) -> 45 | I21: =VLOOKUP(C21,PLANILHA_ORC!$G:$P,9,0) -> 0 | K21: 1
K22: =ROUND(K21*$I21,2) -> 0 | L22: =ROUND(L21*$I21,2) -> 0 | M22: =ROUND(M21*$I21,2) -> 0 | N22: =ROUND(N21*$I21,2) -> 0 | O22: =ROUND(O21*$I21,2) -> 0 | P22: =ROUND(P21*$I21,2) -> 0 | Q22: =SUM(K22:P22) -> 0 | R22: =Q22=I21 -> TRUE
C23: 1.3 | D23: PROJETO HIDRÁULICO E HIDROLÓGICO | E23: PROJETO HIDRÁULICO E HIDROLÓGICO | I23: =VLOOKUP(C23,PLANILHA_ORC!$G:$P,9,0) -> 0 | K23: =SUM(K25,K27,K29) -> 0 | L23: =SUM(L25,L27,L29) -> 0 | M23: =SUM(M25,M27,M29) -> 0 | N23: =SUM(N25,N27,N29) -> 0 | O23: =SUM(O25,O27,O29) -> 0 | P23: =SUM(P25,P27,P29) -> 0 | Q23: =SUM(K23:P23) -> 0 | R23: =Q23=I23 -> TRUE
A24: SIURB | B24: 1115 | C24: 1.3.1 | D24: PROJETO HIDRÁULICO E HIDROLÓGICO | E24: =VLOOKUP(C24,PLANILHA_ORC!$G:$J,3,0) -> ENGENHEIRO CIVIL/ ARQUITETO COORDENADOR SETORIAL - 20 ANOS EXPERIÊNCIA (SGSP) | F24: =VLOOKUP(C24,PLANILHA_ORC!$G:$J,4,0) -> H | G24: =VLOOKUP(C24,PLANILHA_ORC!$G:$M,6,0) -> 586.71 | H24: =VLOOKUP(C24,PLANILHA_ORC!$G:$M,7,0) -> 8 | I24: =VLOOKUP(C24,PLANILHA_ORC!$G:$P,9,0) -> 0 | L24: 1
K25: =ROUND(K24*$I24,2) -> 0 | L25: =ROUND(L24*$I24,2) -> 0 | M25: =ROUND(M24*$I24,2) -> 0 | N25: =ROUND(N24*$I24,2) -> 0 | O25: =ROUND(O24*$I24,2) -> 0 | P25: =ROUND(P24*$I24,2) -> 0 | Q25: =SUM(K25:P25) -> 0 | R25: =Q25=I24 -> TRUE
A26: SIURB | B26: 1125 | C26: 1.3.2 | D26: PROJETO HIDRÁULICO E HIDROLÓGICO | E26: =VLOOKUP(C26,PLANILHA_ORC!$G:$J,3,0) -> ENGENHEIRO/ ARQUITETO PLENO - DE 5 A 15 ANOS DE EXPERIÊNCIA (SGSP) | F26: =VLOOKUP(C26,PLANILHA_ORC!$G:$J,4,0) -> H | G26: =VLOOKUP(C26,PLANILHA_ORC!$G:$M,6,0) -> 221.81 | H26: =VLOOKUP(C26,PLANILHA_ORC!$G:$M,7,0) -> 40 | I26: =VLOOKUP(C26,PLANILHA_ORC!$G:$P,9,0) -> 0 | L26: 1
K27: =ROUND(K26*$I26,2) -> 0 | L27: =ROUND(L26*$I26,2) -> 0 | M27: =ROUND(M26*$I26,2) -> 0 | N27: =ROUND(N26*$I26,2) -> 0 | O27: =ROUND(O26*$I26,2) -> 0 | P27: =ROUND(P26*$I26,2) -> 0 | Q27: =SUM(K27:P27) -> 0 | R27: =Q27=I26 -> TRUE
A28: SIURB | B28: 1164 | C28: 1.3.3 | D28: PROJETO HIDRÁULICO E HIDROLÓGICO | E28: =VLOOKUP(C28,PLANILHA_ORC!$G:$J,3,0) -> DESENHISTA PROJETISTA (SGSP) | F28: =VLOOKUP(C28,PLANILHA_ORC!$G:$J,4,0) -> H | G28: =VLOOKUP(C28,PLANILHA_ORC!$G:$M,6,0) -> 79.11 | H28: =VLOOKUP(C28,PLANILHA_ORC!$G:$M,7,0) -> 40 | I28: =VLOOKUP(C28,PLANILHA_ORC!$G:$P,9,0) -> 0 | L28: 1
K29: =ROUND(K28*$I28,2) -> 0 | L29: =ROUND(L28*$I28,2) -> 0 | M29: =ROUND(M28*$I28,2) -> 0 | N29: =ROUND(N28*$I28,2) -> 0 | O29: =ROUND(O28*$I28,2) -> 0 | P29: =ROUND(P28*$I28,2) -> 0 | Q29: =SUM(K29:P29) -> 0 | R29: =Q29=I28 -> TRUE
C30: 1.4 | D30: PROJETO ESTRUTURAL | E30: PROJETO ESTRUTURAL | I30: =VLOOKUP(C30,PLANILHA_ORC!$G:$P,9,0) -> 0 | K30: =SUM(K32,K34,K36) -> 0 | L30: =SUM(L32,L34,L36) -> 0 | M30: =SUM(M32,M34,M36) -> 0 | N30: =SUM(N32,N34,N36) -> 0 | O30: =SUM(O32,O34,O36) -> 0 | P30: =SUM(P32,P34,P36) -> 0 | Q30: =SUM(K30:P30) -> 0 | R30: =Q30=I30 -> TRUE
A31: SIURB | B31: 1115 | C31: 1.4.1 | D31: PROJETO ESTRUTURAL | E31: =VLOOKUP(C31,PLANILHA_ORC!$G:$J,3,0) -> ENGENHEIRO CIVIL/ ARQUITETO COORDENADOR SETORIAL - 20 ANOS EXPERIÊNCIA (SGSP) | F31: =VLOOKUP(C31,PLANILHA_ORC!$G:$J,4,0) -> H | G31: =VLOOKUP(C31,PLANILHA_ORC!$G:$M,6,0) -> 586.71 | H31: =VLOOKUP(C31,PLANILHA_ORC!$G:$M,7,0) -> 8 | I31: =VLOOKUP(C31,PLANILHA_ORC!$G:$P,9,0) -> 0 | L31: 1
K32: =ROUND(K31*$I31,2) -> 0 | L32: =ROUND(L31*$I31,2) -> 0 | M32: =ROUND(M31*$I31,2) -> 0 | N32: =ROUND(N31*$I31,2) -> 0 | O32: =ROUND(O31*$I31,2) -> 0 | P32: =ROUND(P31*$I31,2) -> 0 | Q32: =SUM(K32:P32) -> 0 | R32: =Q32=I31 -> TRUE
A33: SIURB | B33: 1125 | C33: 1.4.2 | D33: PROJETO ESTRUTURAL | E33: =VLOOKUP(C33,PLANILHA_ORC!$G:$J,3,0) -> ENGENHEIRO/ ARQUITETO PLENO - DE 5 A 15 ANOS DE EXPERIÊNCIA (SGSP) | F33: =VLOOKUP(C33,PLANILHA_ORC!$G:$J,4,0) -> H | G33: =VLOOKUP(C33,PLANILHA_ORC!$G:$M,6,0) -> 221.81 | H33: =VLOOKUP(C33,PLANILHA_ORC!$G:$M,7,0) -> 40 | I33: =VLOOKUP(C33,PLANILHA_ORC!$G:$P,9,0) -> 0 | L33: 1
K34: =ROUND(K33*$I33,2) -> 0 | L34: =ROUND(L33*$I33,2) -> 0 | M34: =ROUND(M33*$I33,2) -> 0 | N34: =ROUND(N33*$I33,2) -> 0 | O34: =ROUND(O33*$I33,2) -> 0 | P34: =ROUND(P33*$I33,2) -> 0 | Q34: =SUM(K34:P34) -> 0 | R34: =Q34=I33 -> TRUE
A35: SIURB | B35: 1164 | C35: 1.4.3 | D35: PROJETO ESTRUTURAL | E35: =VLOOKUP(C35,PLANILHA_ORC!$G:$J,3,0) -> DESENHISTA PROJETISTA (SGSP) | F35: =VLOOKUP(C35,PLANILHA_ORC!$G:$J,4,0) -> H | G35: =VLOOKUP(C35,PLANILHA_ORC!$G:$M,6,0) -> 79.11 | H35: =VLOOKUP(C35,PLANILHA_ORC!$G:$M,7,0) -> 40 | I35: =VLOOKUP(C35,PLANILHA_ORC!$G:$P,9,0) -> 0 | L35: 1
K36: =ROUND(K35*$I35,2) -> 0 | L36: =ROUND(L35*$I35,2) -> 0 | M36: =ROUND(M35*$I35,2) -> 0 | N36: =ROUND(N35*$I35,2) -> 0 | O36: =ROUND(O35*$I35,2) -> 0 | P36: =ROUND(P35*$I35,2) -> 0 | Q36: =SUM(K36:P36) -> 0 | R36: =Q36=I35 -> TRUE
C37: 1.5 | D37: PLANILHA ORÇAMENTÁRIA | E37: PLANILHA ORÇAMENTÁRIA | I37: =VLOOKUP(C37,PLANILHA_ORC!$G:$P,9,0) -> 0 | K37: =SUM(K39,K41,K43) -> 0 | L37: =SUM(L39,L41,L43) -> 0 | M37: =SUM(M39,M41,M43) -> 0 | N37: =SUM(N39,N41,N43) -> 0 | O37: =SUM(O39,O41,O43) -> 0 | P37: =SUM(P39,P41,P43) -> 0 | Q37: =SUM(K37:P37) -> 0 | R37: =Q37=I37 -> TRUE
A38: SIURB | B38: 1115 | C38: 1.5.1 | D38: PLANILHA ORÇAMENTÁRIA | E38: =VLOOKUP(C38,PLANILHA_ORC!$G:$J,3,0) -> ENGENHEIRO CIVIL/ ARQUITETO COORDENADOR SETORIAL - 20 ANOS EXPERIÊNCIA (SGSP) | F38: =VLOOKUP(C38,PLANILHA_ORC!$G:$J,4,0) -> H | G38: =VLOOKUP(C38,PLANILHA_ORC!$G:$M,6,0) -> 586.71 | H38: =VLOOKUP(C38,PLANILHA_ORC!$G:$M,7,0) -> 4 | I38: =VLOOKUP(C38,PLANILHA_ORC!$G:$P,9,0) -> 0 | L38: 1
K39: =ROUND(K38*$I38,2) -> 0 | L39: =ROUND(L38*$I38,2) -> 0 | M39: =ROUND(M38*$I38,2) -> 0 | N39: =ROUND(N38*$I38,2) -> 0 | O39: =ROUND(O38*$I38,2) -> 0 | P39: =ROUND(P38*$I38,2) -> 0 | Q39: =SUM(K39:P39) -> 0 | R39: =Q39=I38 -> TRUE
A40: SIURB | B40: 1125 | C40: 1.5.2 | D40: PLANILHA ORÇAMENTÁRIA | E40: =VLOOKUP(C40,PLANILHA_ORC!$G:$J,3,0) -> ENGENHEIRO/ ARQUITETO PLENO - DE 5 A 15 ANOS DE EXPERIÊNCIA (SGSP) | F40: =VLOOKUP(C40,PLANILHA_ORC!$G:$J,4,0) -> H | G40: =VLOOKUP(C40,PLANILHA_ORC!$G:$M,6,0) -> 221.81 | H40: =VLOOKUP(C40,PLANILHA_ORC!$G:$M,7,0) -> 16 | I40: =VLOOKUP(C40,PLANILHA_ORC!$G:$P,9,0) -> 0 | L40: 1
...

Sheet MEMO
B1: MEMORIAL DE CÁLCULO
A2: REFERÊNCIA | B2: CÓDIGO | C2: DESCRIÇÃO | D2: X | E2: X | F2: X | G2: X | H2: X | I2: X | J2: X | K2: X | L2: X | M2: X | N2: QUANTIDADE | O2: UNIDADE
C3: PROJETO EXECUTIVO
C4: PLANO DE TRABALHO
B5: 1.1.1 | C5: =VLOOKUP(B5,PLANILHA_ORC!$G:$I,3,0) -> ENGENHEIRO CIVIL/ ARQUITETO COORDENADOR SETORIAL - 20 ANOS EXPERIÊNCIA (SGSP) | N5: =SUBTOTAL(9,N6:N7) -> 4 | O5: H
C6: HORAS
C7: 4 | D7: =IF(E7<>"","X","") | F7: =IF(G7<>"","X","") | M7: = | N7: =PRODUCT(C7:L7) -> 4
B9: 1.1.2 | C9: =VLOOKUP(B9,PLANILHA_ORC!$G:$I,3,0) -> ENGENHEIRO/ ARQUITETO PLENO - DE 5 A 15 ANOS DE EXPERIÊNCIA (SGSP) | N9: =SUBTOTAL(9,N10:N11) -> 24 | O9: H
C10: HORAS
C11: 24 | D11: =IF(E11<>"","X","") | F11: =IF(G11<>"","X","") | M11: = | N11: =PRODUCT(C11:L11) -> 24
C13: LEVANTAMENTO TOPOGRÁFICO E DE INTERFERÊNCIAS
B14: 1.2.1 | C14: =VLOOKUP(B14,PLANILHA_ORC!$G:$I,3,0) -> ENGENHEIRO CIVIL/ ARQUITETO COORDENADOR SETORIAL - 20 ANOS EXPERIÊNCIA (SGSP) | N14: =SUBTOTAL(9,N15:N16) -> 4 | O14: H
C15: HORAS
C16: 4 | D16: =IF(E16<>"","X","") | F16: =IF(G16<>"","X","") | M16: = | N16: =PRODUCT(C16:L16) -> 4
B18: 1.2.2 | C18: =VLOOKUP(B18,PLANILHA_ORC!$G:$I,3,0) -> ENGENHEIRO/ ARQUITETO PLENO - DE 5 A 15 ANOS DE EXPERIÊNCIA (SGSP) | N18: =SUBTOTAL(9,N19:N20) -> 16 | O18: H
C19: HORAS
C20: 16 | D20: =IF(E20<>"","X","") | F20: =IF(G20<>"","X","") | M20: = | N20: =PRODUCT(C20:L20) -> 16
B22: 1.2.3 | C22: =VLOOKUP(B22,PLANILHA_ORC!$G:$I,3,0) -> TOPÓGRAFO (SGSP) | N22: =SUBTOTAL(9,N23:N24) -> 24 | O22: H
C23: HORAS
C24: 24 | D24: =IF(E24<>"","X","") | F24: =IF(G24<>"","X","") | M24: = | N24: =PRODUCT(C24:L24) -> 24
B26: 1.2.4 | C26: =VLOOKUP(B26,PLANILHA_ORC!$G:$I,3,0) -> LEVANTAMENTO PLANIALTIMÉTRICO CADASTRAL | N26: =SUBTOTAL(9,N27:N28) -> 2600 | O26: M2
C27: COMPRIMENTO (M) | E27: LARGURA (M)
C28: 260 | D28: =IF(E28<>"","X","") -> X | E28: 10 | F28: =IF(G28<>"","X","") | M28: = | N28: =PRODUCT(C28:L28) -> 2600
B30: 1.2.5 | C30: =VLOOKUP(B30,PLANILHA_ORC!$G:$I,3,0) -> SONDAGEM A TRADO MANUAL | N30: =SUBTOTAL(9,N31:N32) -> 45 | O30: M
C31: QUANTIDADE DE FUROS | E31: COMPRIMENTO
C32: 3 | D32: =IF(E32<>"","X","") -> X | E32: 15 | F32: =IF(G32<>"","X","") | M32: = | N32: =PRODUCT(C32:L32) -> 45
C34: PROJETO HIDRÁULICO E HIDROLÓGICO
B35: 1.3.1 | C35: =VLOOKUP(B35,PLANILHA_ORC!$G:$I,3,0) -> ENGENHEIRO CIVIL/ ARQUITETO COORDENADOR SETORIAL - 20 ANOS EXPERIÊNCIA (SGSP) | N35: =SUBTOTAL(9,N36:N37) -> 8 | O35: H
C36: HORAS
C37: 8 | D37: =IF(E37<>"","X","") | F37: =IF(G37<>"","X","") | M37: = | N37: =PRODUCT(C37:L37) -> 8
B39: 1.3.2 | C39: =VLOOKUP(B39,PLANILHA_ORC!$G:$I,3,0) -> ENGENHEIRO/ ARQUITETO PLENO - DE 5 A 15 ANOS DE EXPERIÊNCIA (SGSP) | N39: =SUBTOTAL(9,N40:N41) -> 40 | O39: H
C40: HORAS
C41: =5*8 -> 40 | D41: =IF(E41<>"","X","") | F41: =IF(G41<>"","X","") | M41: = | N41: =PRODUCT(C41:L41) -> 40
B43: 1.3.3 | C43: =VLOOKUP(B43,PLANILHA_ORC!$G:$I,3,0) -> DESENHISTA PROJETISTA (SGSP) | N43: =SUBTOTAL(9,N44:N45) -> 40 | O43: H
C44: HORAS
C45: =5*8 -> 40 | D45: =IF(E45<>"","X","") | F45: =IF(G45<>"","X","") | M45: = | N45: =PRODUCT(C45:L45) -> 40
C47: PROJETO ESTRUTURAL
B48: 1.4.1 | C48: =VLOOKUP(B48,PLANILHA_ORC!$G:$I,3,0) -> ENGENHEIRO CIVIL/ ARQUITETO COORDENADOR SETORIAL - 20 ANOS EXPERIÊNCIA (SGSP) | N48: =SUBTOTAL(9,N49:N50) -> 8 | O48: H
C49: HORAS
C50: 8 | D50: =IF(E50<>"","X","") | F50: =IF(G50<>"","X","") | M50: = | N50: =PRODUCT(C50:L50) -> 8
...

Sheet BDI
A2: BDI - SEM DESONERAÇÃO
A4: Lucro | B4: 0.057
A5: Administração Central | B5: 0.0493
A6: Despesas financeiras | B6: 0.0099
A7: ISS | B7: 0.05
A8: COFINS | B8: 0.03
A9: PIS | B9: 0.0065
A10: Seguros/imprevistos | B10: =(0.28+1)/100 -> 0.0128
A13: BDI = | B13: =ROUND((((1+B5+B10)*(1+B6)*(1+B4))/(1-B7-B8-B9))-1,4) -> 0.2411

Sheet Corte Aterro_ATUAL
B1: Seção | C1: Dist (m) | E1: Cota Fundo | F1: Escavação | H1: Aterro
C2: Simpl. | D2: Acum. | F2: Área (m²) | G2: Vol. (m³) | H2: Área (m²) | I2: Vol. (m³)
B3: S-00 | D3: 0 | F3: 5.48 | H3: 1.3
A4: S-00 A S-01 | C4: 20 | G4: =(AVERAGE(F3:F5)*C4) -> 116.8 | I4: =(AVERAGE(H3:H5)*C4) -> 32.9
B5: S-01 | D5: =C4+D3 -> 20 | F5: 6.2 | H5: 1.99
A6: S-01 A S-02 | C6: 20 | G6: =(AVERAGE(F5:F7)*C6) -> 89 | I6: =(AVERAGE(H5:H7)*C6) -> 38.7
B7: S-02 | D7: =C6+D5 -> 40 | E7: 751.996 | F7: 2.7 | H7: 1.88
A8: S-02 A S-03 | C8: 20 | G8: =(AVERAGE(F7:F9)*C8) -> 60.1 | I8: =(AVERAGE(H7:H9)*C8) -> 34.4
B9: S-03 | D9: =C8+D7 -> 60 | E9: 751.968 | F9: 3.31 | H9: 1.56
A10: S-03 A S-04 | C10: 20 | G10: =(AVERAGE(F9:F11)*C10) -> 56.3 | I10: =(AVERAGE(H9:H11)*C10) -> 45.3
B11: S-04 | D11: =C10+D9 -> 80 | E11: 751.668 | F11: 2.32 | H11: 2.97
A12: S-04 A S-05 | C12: 20 | G12: =(AVERAGE(F11:F13)*C12) -> 94.4 | I12: =(AVERAGE(H11:H13)*C12) -> 95.6
B13: S-05 | D13: =C12+D11 -> 100 | E13: 751.368 | F13: 7.12 | H13: 6.59
A14: S-05 A S-06 | C14: 20 | G14: =(AVERAGE(F13:F15)*C14) -> 178.2 | I14: =(AVERAGE(H13:H15)*C14) -> 127.2
B15: S-06 | D15: =C14+D13 -> 120 | E15: 751.068 | F15: 10.7 | H15: 6.13
A16: S-06 A S-07 | C16: 20 | G16: =(AVERAGE(F15:F17)*C16) -> 173.1 | I16: =(AVERAGE(H15:H17)*C16) -> 104.9
B17: S-07 | D17: =C16+D15 -> 140 | E17: 750.768 | F17: 6.61 | H17: 4.36
A18: S-07 A S-08 | C18: 20 | G18: =(AVERAGE(F17:F19)*C18) -> 162.8 | I18: =(AVERAGE(H17:H19)*C18) -> 97.5
B19: S-08 | D19: =C18+D17 -> 160 | E19: 750.468 | F19: 9.67 | H19: 5.39
A20: S-08 A S-09 | C20: 20 | G20: =(AVERAGE(F19:F21)*C20) -> 143.5 | I20: =(AVERAGE(H19:H21)*C20) -> 66.4
B21: S-09 | D21: =C20+D19 -> 180 | E21: 750.168 | F21: 4.68 | H21: 1.25
A22: S-09 A S-10 | C22: 20 | G22: =(AVERAGE(F21:F23)*C22) -> 135.8 | I22: =(AVERAGE(H21:H23)*C22) -> 24
B23: S-10 | D23: =C22+D21 -> 200 | E23: 749.868 | F23: 8.9 | H23: 1.15
A24: S-10 A S-11 | C24: 20 | G24: =(AVERAGE(F23:F25)*C24) -> 192.2 | I24: =(AVERAGE(H23:H25)*C24) -> 22.7
B25: S-11 | D25: =C24+D23 -> 220 | E25: 749.568 | F25: 10.32 | H25: 1.12
A26: S-11 A S-11+7,25 | C26: 7.25 | G26: =(AVERAGE(F25:F27)*C26) -> 98.49125 | I26: =(AVERAGE(H25:H27)*C26) -> 10.76625
B27: Final | D27: =C26+D25 -> 227.25 | E27: 749.268 | F27: 16.85 | H27: 1.85
B28: Total (m³) | G28: =SUM(G4:G27) -> 1500.6913 | I28: =SUM(I4:I27) -> 700.36625

Sheet SINAPI
A1: PCI.817.01 - CUSTO DE COMPOSIÇÕES - SINTÉTICO DATA DE EMISSÃO: 13/12/2024 00:07:06 DATA DE RT: 12/12/2024
A2: ENCARGOS SOCIAIS SOBRE PREÇOS DA MÃO-DE-OBRA: 115,54%(HORA) 71,46%(MÊS)
A3: ABRANGÊNCIA : NACIONAL LOCALIDADE : SAO PAULO DATA DE PREÇO : 11/2024 REFERÊNCIA COLETA : MEDIANO
A5: DESCRICAO DA CLASSE | B5: SIGLA DA CLASSE | C5: DESCRICAO DO TIPO 1 | D5: SIGLA DO TIPO 1 | E5: CODIGO DO AGRUPADOR | F5: DESCRICAO DO AGRUPADOR | G5: CODIGO DA COMPOSICAO | H5: DESCRICAO DA COMPOSICAO | I5: UNIDADE | J5: ORIGEM DE PREÇO | K5: CUSTO TOTAL | L5: VINCULO
A7: ASSENTAMENTO DE TUBOS E PECAS | B7: ASTU | C7: FORNEC E/OU ASSENT DE TUBO DE FERRO FUNDIDO JUNTA ELASTICA | D7: 0045 | G7: 97141 | H7: ASSENTAMENTO DE TUBO DE FERRO FUNDIDO PARA REDE DE ÁGUA, DN 80 MM, JUNTA ELÁSTICA, INSTALADO EM LOCAL COM NÍVEL ALTO DE INTERFERÊNCIAS (NÃO INCLUI FORNECIMENTO). AF_05/2024 | I7: M | J7: COEFICIENTE DE REPRESENTATIVIDADE | K7: 5.4 | L7: CAIXA REFERENCIAL
A8: ASSENTAMENTO DE TUBOS E PECAS | B8: ASTU | C8: FORNEC E/OU ASSENT DE TUBO DE FERRO FUNDIDO JUNTA ELASTICA | D8: 0045 | G8: 97142 | H8: ASSENTAMENTO DE TUBO DE FERRO FUNDIDO PARA REDE DE ÁGUA, DN 100 MM, JUNTA ELÁSTICA, INSTALADO EM LOCAL COM NÍVEL ALTO DE INTERFERÊNCIAS (NÃO INCLUI FORNECIMENTO). AF_05/2024 | I8: M | J8: COEFICIENTE DE REPRESENTATIVIDADE | K8: 6.28 | L8: CAIXA REFERENCIAL
A9: ASSENTAMENTO DE TUBOS E PECAS | B9: ASTU | C9: FORNEC E/OU ASSENT DE TUBO DE FERRO FUNDIDO JUNTA ELASTICA | D9: 0045 | G9: 97143 | H9: ASSENTAMENTO DE TUBO DE FERRO FUNDIDO PARA REDE DE ÁGUA, DN 150 MM, JUNTA ELÁSTICA, INSTALADO EM LOCAL COM NÍVEL ALTO DE INTERFERÊNCIAS (NÃO INCLUI FORNECIMENTO). AF_05/2024 | I9: M | J9: COEFICIENTE DE REPRESENTATIVIDADE | K9: 8.4 | L9: CAIXA REFERENCIAL
A10: ASSENTAMENTO DE TUBOS E PECAS | B10: ASTU | C10: FORNEC E/OU ASSENT DE TUBO DE FERRO FUNDIDO JUNTA ELASTICA | D10: 0045 | G10: 97144 | H10: ASSENTAMENTO DE TUBO DE FERRO FUNDIDO PARA REDE DE ÁGUA, DN 200 MM, JUNTA ELÁSTICA, INSTALADO EM LOCAL COM NÍVEL ALTO DE INTERFERÊNCIAS (NÃO INCLUI FORNECIMENTO). AF_05/2024 | I10: M | J10: COEFICIENTE DE REPRESENTATIVIDADE | K10: 10.54 | L10: CAIXA REFERENCIAL
A11: ASSENTAMENTO DE TUBOS E PECAS | B11: ASTU | C11: FORNEC E/OU ASSENT DE TUBO DE FERRO FUNDIDO JUNTA ELASTICA | D11: 0045 | G11: 97145 | H11: ASSENTAMENTO DE TUBO DE FERRO FUNDIDO PARA REDE DE ÁGUA, DN 250 MM, JUNTA ELÁSTICA, INSTALADO EM LOCAL COM NÍVEL ALTO DE INTERFERÊNCIAS (NÃO INCLUI FORNECIMENTO). AF_05/2024 | I11: M | J11: COEFICIENTE DE REPRESENTATIVIDADE | K11: 12.69 | L11: CAIXA REFERENCIAL
A12: ASSENTAMENTO DE TUBOS E PECAS | B12: ASTU | C12: FORNEC E/OU ASSENT DE TUBO DE FERRO FUNDIDO JUNTA ELASTICA | D12: 0045 | G12: 97146 | H12: ASSENTAMENTO DE TUBO DE FERRO FUNDIDO PARA REDE DE ÁGUA, DN 300 MM, JUNTA ELÁSTICA, INSTALADO EM LOCAL COM NÍVEL ALTO DE INTERFERÊNCIAS (NÃO INCLUI FORNECIMENTO). AF_05/2024 | I12: M | J12: COEFICIENTE DE REPRESENTATIVIDADE | K12: 14.84 | L12: CAIXA REFERENCIAL
A13: ASSENTAMENTO DE TUBOS E PECAS | B13: ASTU | C13: FORNEC E/OU ASSENT DE TUBO DE FERRO FUNDIDO JUNTA ELASTICA | D13: 0045 | G13: 97147 | H13: ASSENTAMENTO DE TUBO DE FERRO FUNDIDO PARA REDE DE ÁGUA, DN 350 MM, JUNTA ELÁSTICA, INSTALADO EM LOCAL COM NÍVEL ALTO DE INTERFERÊNCIAS (NÃO INCLUI FORNECIMENTO). AF_05/2024 | I13: M | J13: COEFICIENTE DE REPRESENTATIVIDADE | K13: 16.99 | L13: CAIXA REFERENCIAL
A14: ASSENTAMENTO DE TUBOS E PECAS | B14: ASTU | C14: FORNEC E/OU ASSENT DE TUBO DE FERRO FUNDIDO JUNTA ELASTICA | D14: 0045 | G14: 97148 | H14: ASSENTAMENTO DE TUBO DE FERRO FUNDIDO PARA REDE DE ÁGUA, DN 400 MM, JUNTA ELÁSTICA, INSTALADO EM LOCAL COM NÍVEL ALTO DE INTERFERÊNCIAS (NÃO INCLUI FORNECIMENTO). AF_05/2024 | I14: M | J14: COEFICIENTE DE REPRESENTATIVIDADE | K14: 19.13 | L14: CAIXA REFERENCIAL
A15: ASSENTAMENTO DE TUBOS E PECAS | B15: ASTU | C15: FORNEC E/OU ASSENT DE TUBO DE FERRO FUNDIDO JUNTA ELASTICA | D15: 0045 | G15: 97149 | H15: ASSENTAMENTO DE TUBO DE FERRO FUNDIDO PARA REDE DE ÁGUA, DN 450 MM, JUNTA ELÁSTICA, INSTALADO EM LOCAL COM NÍVEL ALTO DE INTERFERÊNCIAS (NÃO INCLUI FORNECIMENTO). AF_05/2024 | I15: M | J15: COEFICIENTE DE REPRESENTATIVIDADE | K15: 21.31 | L15: CAIXA REFERENCIAL
A16: ASSENTAMENTO DE TUBOS E PECAS | B16: ASTU | C16: FORNEC E/OU ASSENT DE TUBO DE FERRO FUNDIDO JUNTA ELASTICA | D16: 0045 | G16: 97150 | H16: ASSENTAMENTO DE TUBO DE FERRO FUNDIDO PARA REDE DE ÁGUA, DN 500 MM, JUNTA ELÁSTICA, INSTALADO EM LOCAL COM NÍVEL ALTO DE INTERFERÊNCIAS (NÃO INCLUI FORNECIMENTO). AF_05/2024 | I16: M | J16: COEFICIENTE DE REPRESENTATIVIDADE | K16: 26.78 | L16: CAIXA REFERENCIAL
A17: ASSENTAMENTO DE TUBOS E PECAS | B17: ASTU | C17: FORNEC E/OU ASSENT DE TUBO DE FERRO FUNDIDO JUNTA ELASTICA | D17: 0045 | G17: 97151 | H17: ASSENTAMENTO DE TUBO DE FERRO FUNDIDO PARA REDE DE ÁGUA, DN 600 MM, JUNTA ELÁSTICA, INSTALADO EM LOCAL COM NÍVEL ALTO DE INTERFERÊNCIAS (NÃO INCLUI FORNECIMENTO). AF_05/2024 | I17: M | J17: COEFICIENTE DE REPRESENTATIVIDADE | K17: 31.61 | L17: CAIXA REFERENCIAL
A18: ASSENTAMENTO DE TUBOS E PECAS | B18: ASTU | C18: FORNEC E/OU ASSENT DE TUBO DE FERRO FUNDIDO JUNTA ELASTICA | D18: 0045 | G18: 97152 | H18: ASSENTAMENTO DE TUBO DE FERRO FUNDIDO PARA REDE DE ÁGUA, DN 700 MM, JUNTA ELÁSTICA, INSTALADO EM LOCAL COM NÍVEL ALTO DE INTERFERÊNCIAS (NÃO INCLUI FORNECIMENTO). AF_05/2024 | I18: M | J18: COEFICIENTE DE REPRESENTATIVIDADE | K18: 36.21 | L18: CAIXA REFERENCIAL
... A7822: SERVICOS DIVERSOS | B7822: SEDI | C7822: OUTROS | D7822: 0318 | G7822: 101460 | H7822: VIGIA DIURNO COM ENCARGOS COMPLEMENTARES | I7822: MES | J7822: COEFICIENTE DE REPRESENTATIVIDADE | K7822: 5602.92 | L7822: ENCARGOS COMPLEMENTARES REFERENCIAL

Sheet SIURB_EDIF_SemDes_Julho24
A1: CÓDIGO | B1: DESCRIÇÃO | C1: UNIDADE | D1: CUSTO UNIT R$
A2: 1000000 | B2: SERVICOS PRELIMINARES
A3: 1001000 | B3: LIMPEZA DO TERRENO | C3: . | D3: .
A4: 1001001 | B4: LIMPEZA MECANIZADA GERAL, INCLUSIVE REMOÇÃO DA COBERTURA VEGETAL - TRONCOS COM DIÂMETRO ATÉ 10CM - SEM TRANSPORTE | C4: M2 | D4: 1.74
A5: 1001002 | B5: DESTOCAMENTO, INCLUSIVE REMOÇÃO DAS RAÍZES - DIÂMETROS DE 10,01 À 30CM | C5: UN | D5: 56.9
A6: 1001003 | B6: DESTOCAMENTO, INCLUSIVE REMOÇÃO DAS RAÍZES - DIÂMETRO 30,01 À 50 CM | C6: UN | D6: 158.17
A7: 1001004 | B7: DESTOCAMENTO, INCLUSIVE REMOÇÃO DAS RAÍZES - DIÂMETROS MAIORES QUE 50 CM | C7: UN | D7: 188.44
A8: 1001005 | B8: CARGA MECANIZADA E REMOÇÃO DE ENTULHO, INCLUSIVE TRANSPORTE ATÉ 1KM | C8: M3 | D8: 11.9
A9: 1001006 | B9: CARGA MANUAL E REMOÇÃO DE ENTULHO, INCLUSIVE TRANSPORTE ATÉ 1 KM | C9: M3 | D9: 51.66
A10: 1001007 | B10: REMOÇÃO DE ENTULHO COM CAÇAMBA METÁLICA, INCLUSIVE CARGA MANUAL E DESCARGA EM BOTA-FORA | C10: M3 | D10: 129.38
A11: 1001008 | B11: LIMPEZA MANUAL GERAL INCLUSIVE REMOÇÃO DE COBERTURA VEGETAL - TRONCO ATÉ 10CM - SEM TRANSPORTE | C11: M2 | D11: 6.03
A12: 1001009 | B12: DESTOCAMENTO MANUAL, INCLUSIVE REMOÇÃO DE RAÍZES - DIÂMETRO 10,01 À 30 CM | C12: UN | D12: 72.31
A13: 1001010 | B13: TRANSPORTE DE ENTULHO POR CAMINHÃO BASCULANTE, A PARTIR DE 1KM | C13: M3XKM | D13: 1.66
