Workbook

Sheet I - Capa
B7: ANEXO II - Plano de Negócios
C11: Sumário:
C12: I - Capa
C13: II - Premissas
C14: III - Instruções de Preenchimento
C15: IV - Insumos e Mão de Obra
C16: V - Proposta - Outorga
C17: VI - DRE - Fluxo de Caixa
C18: VII - WACC
C19: VIII - Encargos sociais e trabalhistas
C20: IX - Arrecadação

Sheet II - Premissas
B2: Premissas Básicas para Determinação do Custo do Serviço
B4: Ordem | C4: Descrição | D4: Dados
B5: 1 | C5: Referência anual é o ano de 2024, para a estimativa dos preços dos insumos e base de cálculo. Valores estão baseados nos dados e informações do Projeto Básico. | D5: Ano Base
B6: 3 | C6: Custos formulados em função da demanda e ajustados aos parâmetros e coeficientes de consumo previstos no Projeto Básico. | D6: Despesa com Pessoal
B7: 4 | C7: Custos formulados em função da demanda e ajustados aos parâmetros e coeficientes de consumo previstos no Projeto Básico. | D7: Despesas Operacional
B8: 5 | C8: Previsão de investimentos em equipamentos, dispositivos eletrônicos, aplicativos e infraestrutura operacional, considerando o período de operação | D8: Investimentos
B9: 6 | C9: Os custos operacionais e demais gastos incorridos na execução dos serviços serão de competência da Concessionária, assim como o gerenciamento dos serviços, cabendo à Concessionária recolher aos cofres públicos municipais o valor da outorga onerosa, assim como, os demais tributos. | D9: Gerenciamento
B10: 7 | C10: Tarifa Fixada no Edital e Projeto Básico, a iniciar a partir da Ordem de Inicio dos Serviços, bem como outras tarifas remuneratórias | D10: Tarifa fixada no Edital
B11: 8 | C11: % De outorga a ser repassado ao municipio, sendo o percentual mínimo de 12% (doze) sobre o valor bruto arrecadado mensalmente. | D11: Valor de Outorga
B12: 9 | C12: Do Anexo II do Edital contam as orientações para o preenchimento uniformizado da Proposta Comercial, bem como, a composição dos investimentos, dos custos e despesas, para composição do Fluxo de Caixa Projetado. | D12: Proposta Comercial
B14: Razão Social da Licitante
B16: Premissas Básicas para Composição do Plano de Negócios
B18: 1. | C18: Número de Vagas | D18: ='IX - Arrecadação'!C8 -> 711
B20: 2. | C20: Projeção Mèdia de Crescimento Anual | D20: ='IX - Arrecadação'!E20 -> 0.023685963
B22: 3. | C22: Taxa Média de Respeito no Período | D22: ='IX - Arrecadação'!I8 -> 0.8362
B24: 4. | C24: Taxa Média de Ocupação Efetiva no Período | D24: =(+'IX - Arrecadação'!G8*'IX - Arrecadação'!H8*'IX - Arrecadação'!I8)/'IX - Arrecadação'!G8 -> 0.367928
B26: 6. | C26: Período da Concessão (em meses) | D26: 60
B28: 7. | C28: Aumento Salarial Médio (Anual) - Considerado Média Inflação (IPCA) + 1,5% de aumento real | D28: 0.0558
B30: 8. | C30: Inflação média no Período (IPCA) | D30: =+'[1]IX - Arrecadação'!E27 -> 0.040751333

Sheet III - Instruções
B2: Instruções de Preenchimento
C4: Planilhas editáveis (Céluas em amarelo à preencher)
B6: IV - Insumos e Mão de Obra
B7: São os investimentos necessários para a operação, os quantitativos foram estimados de acordo com o Projeto Básico e os valores Unitários deverão ser preenchidos pela Empresa Licitante. Divide-se em três grupos, Investimento Inicial, sendo o valor inicial estimado obrigatório para desempenho da operação, custo fixo são as despesas recorrentes que não sofrem variação de valor no decorrer do período, custo variável são as despesas recorrentes que sofrem variação de valor de acordo com a prestação dos serviços
B15: V - Proposta - Outorga
B16: É o percentual ofertado de outorga sobre o valor bruto arrecadado mensalmente. Para o certame o valor mínimo considerado é de 12 % (doze) estando desclassificada as propostas inferior a este.
B20: VIII - Encagos Sociais e Trabalhistas
B21: Os encargos sociais são compreendidos como aqueles impostos que são pagos pela empresa a fim de serem revertidos em benefícios indiretos e a longo prazo aos trabalhadores. Por encargos trabalhistas, contudo, entende-se os tributos que representam um benefício direto ao colaborador.
C27: Planilhas não editáveis
B29: VI - DRE - Fluxo de Caixa
B30: A Demonstração do Resultado do Exercício – DRE – é um relatório contábil que evidencia se as operações de uma empresa estão gerando um lucro ou prejuízo, considerando um determinado período de tempo. Fluxo de Caixa é o movimento de entradas e saídas de dinheiro com o cálculo de retorno sobre o investimento e análise do risco do negócio
B36: VII - Cálculo da WACC (Weighted Average Capital Cost)
B37: Custo médio ponderado do capital - WACC é um instrumento de gestão financeira que revela muito sobre a saúde de uma empresa.

Sheet IV - Insumos e Mão de Obra
B2: Insumos e Mão de Obra
C4: Unidade | D4: Quantidade | E4: Valor Unitário | G4: Valor Total
B6: Investimento Inicial | G6: =SUM(G8:G30) -> 454653
B8: Setup de Plataforma | C8: Unit. | D8: 1 | E8: 25000 | G8: =E8*D8 -> 25000 | I8: Investimentos | J8: =+G6 -> 454653
B9: Sinalização Giroflex Veículo OCR | C9: Unit. | D9: 1 | E9: 5000 | G9: =E9*D9 -> 5000
B10: Plotagem Veículo OCR | C10: Unit. | D10: 1 | E10: 3500 | G10: =E10*D10 -> 3500
B11: Instalações e Equipamentos OCR Veículo | C11: Unit. | D11: 1 | E11: 50000 | G11: =E11*D11 -> 50000
B12: Smartphone AIT (Agentes + Monitores) | C12: Unit. | D12: 8 | E12: 1350 | G12: =E12*D12 -> 10800 | I12: Itens | J12: Ferramentas | K12: Máq. Equipamentos | L12: Instalações | M12: Moveis /utensilios | N12: veículos | O12: computadores
B13: Impressora (Agentes + Monitores) | C13: Unit. | D13: 8 | E13: 1000 | G13: =E13*D13 -> 8000 | K13: =+G12+G13 -> 18800 | L13: =+G11 -> 50000 | M13: =+G15 -> 10000 | N13: =+G9+G10+G23 -> 85500 | O13: =+G8+G22 -> 29500
B14: Computador para Concedente | C14: Unit. | D14: 1 | E14: 4500 | G14: =E14*D14 -> 4500
B15: Instalações/Mobiliário e Reformas da Filial | C15: Unit. | D15: 1 | E15: 10000 | G15: =E15*D15 -> 10000 | I15: Depreciações | J15: =+J13*0.1 -> 0 | K15: =+K13*0.1 -> 1880 | L15: =+L13*0.1 -> 5000 | M15: =+M13*0.1 -> 1000 | N15: =+N13*0.2 -> 17100 | O15: =+O13*0.2 -> 5900
B16: Campanha de Divulgação | C16: Unit. | D16: 1 | E16: 20000 | G16: =E16*D16 -> 20000
B17: Projeto Executivo - Levantamento Cadastral das Vagas | C17: Unit. | D17: 1 | E17: 10000 | G17: =E17*D17 -> 10000
B18: Viagens Iniciais | C18: Serviço | D18: 1 | E18: 3500 | G18: =E18*D18 -> 3500
B19: Sinalização Horizontal - Extrudado | C19: Ser. m² | D19: 730 | E19: 100 | G19: =E19*D19 -> 73000
B20: Sinalização Vertical | C20: Ser. m² | D20: 125 | E20: 350 | G20: 135603
B21: Uniformes | C21: Unit. | D21: 35 | E21: 200 | G21: =E21*D21 -> 7000
B22: Computador / Impressora - Escritório | C22: Unit. | D22: 1 | E22: 4500 | G22: =E22*D22 -> 4500
B23: Veículo para Operações (PDV) - modelo Kwid zero km | C23: Serviço | D23: 1 | E23: 77000 | G23: =E23*D23 -> 77000
B24: Sistema de videomonitoramento e alarme | C24: Conj. | D24: 1 | E24: 5000 | G24: =E24*D24 -> 5000
B25: EPI's | C25: Conj. | D25: 9 | E25: 250 | G25: =E25*D25 -> 2250
B26: Outros (especificar) | G26: =E26*D26 -> 0
B27: Outros (especificar) | G27: =E27*D27 -> 0
B28: Outros (especificar) | G28: =E28*D28 -> 0
B29: Outros (especificar) | G29: =E29*D29 -> 0
B30: Outros (especificar) | G30: =E30*D30 -> 0
B32: Item | C32: Unidade | D32: Quantidade | E32: Mês | F32: Valor Unitário | G32: Valor Total
B34: Custo Fixo | G34: =SUM(G36:G54) -> 346440
B37: Links de Dados (Veículos OCR) | C37: Mês | D37: 1 | E37: 12 | F37: 150 | G37: =D37*E37*F37 -> 1800
B38: Plataforma | C38: Mês | D38: 1 | E38: 12 | F38: 8000 | G38: =D38*E38*F38 -> 96000
B39: Site (WEB) (Gestão , Atualização Tecnológica, manutenção e suporte a operação | C39: Mês | D39: 1 | E39: 12 | F39: 1500 | G39: =D39*E39*F39 -> 18000
B40: Aplicativo de Usuário para dispositivos moveis (APP) | C40: Mês | D40: 1 | E40: 12 | F40: 8500 | G40: =D40*E40*F40 -> 102000
B41: Aplicativo para PDV | C41: Mês | D41: 1 | E41: 12 | F41: 650 | G41: =D41*E41*F41 -> 7800
B42: Aplicativo de Fiscalização para Agentes de Trânsito | C42: Mês | D42: 1 | E42: 12 | F42: 3000 | G42: =D42*E42*F42 -> 36000
B43: Licença de Módulo de Fiscalização de Trânsito | C43: Mês | D43: 1 | E43: 12 | F43: 1500 | G43: =D43*E43*F43 -> 18000
B44: Seguro de veículo | C44: Mês | D44: 1 | E44: 12 | F44: 210 | G44: =D44*E44*F44 -> 2520
B45: Serviço em Nuvem (Cloud) | C45: Mês | D45: 1 | E45: 12 | F45: 1000 | G45: =D45*E45*F45 -> 12000
B46: Telefonia e internet | C46: Mês | D46: 1 | E46: 12 | F46: 200 | G46: =D46*E46*F46 -> 2400
B47: Serviços jurídicos | C47: Mês | D47: 1 | E47: 12 | F47: 1300 | G47: =D47*E47*F47 -> 15600
B48: Contabilidade | C48: Mês | D48: 1 | E48: 12 | F48: 260 | G48: =D48*E48*F48 -> 3120
...

Sheet V - Proposta - Outorga
B3: % OFERTADO SOBRE O FATURAMENTO
E6: 0.12
B11: Razão Social da Licitante

Sheet VI - DRE - Fluxo de Caixa
C1: A. Demonstrativo de Resultado Econômico - DRE | I1: =IF('[1]II - Premissas'!$D$26>=I2,"1","0") -> 1 | J1: =IF('[1]II - Premissas'!$D$26>=J2,"1","0") -> 1 | K1: =IF('[1]II - Premissas'!$D$26>=K2,"1","0") -> 1 | L1: =IF('[1]II - Premissas'!$D$26>=L2,"1","0") -> 1
H2: =H5 -> 12 | I2: =H2+H5 -> 24 | J2: =I2+I5 -> 36 | K2: =J2+J5 -> 48 | L2: =K2+K5 -> 60
H3: Ano 01 | I3: Ano 02 | J3: Ano 03 | K3: Ano 04 | L3: Ano 05
C4: Histórico | H4: Meses | I4: Meses | J4: Meses | K4: Meses | L4: Meses
H5: 12 | I5: 12 | J5: 12 | K5: 12 | L5: 12
B6: 1. | C6: Número Anual de Vagas Pagantes Equivalentes | H6: ='II - Premissas'!D18 -> 711 | I6: =H6*I1 -> 711 | J6: =I6*J1 -> 711 | K6: =J6*K1 -> 711 | L6: =K6*L1 -> 711
B8: 2. | C8: Projeção de Crescimento | H8: ='II - Premissas'!D20 -> 0.023685963 | I8: =H8*I1 -> 0.023685963 | J8: =I8*J1 -> 0.023685963 | K8: =J8*K1 -> 0.023685963 | L8: =K8*L1 -> 0.023685963
B10: 3. | C10: Taxa Média de Respeito | H10: ='II - Premissas'!D22 -> 0.8362 | I10: ='II - Premissas'!D22 -> 0.8362 | J10: ='II - Premissas'!D22 -> 0.8362 | K10: ='II - Premissas'!D22 -> 0.8362 | L10: ='II - Premissas'!D22 -> 0.8362
B12: 4. | C12: Taxa Mèdia de Ocupação Efetiva | H12: ='II - Premissas'!D24 -> 0.367928 | I12: =H12*I1 -> 0.367928 | J12: =I12*J1 -> 0.367928 | K12: =J12*K1 -> 0.367928 | L12: =K12*L1 -> 0.367928
B14: 5. | C14: Receita Bruta | H14: ='IX - Arrecadação'!E14 -> 1883497 | I14: ='IX - Arrecadação'!F14 -> 1988972.9 | J14: ='IX - Arrecadação'!G14 -> 2075493.2 | K14: ='IX - Arrecadação'!H14 -> 2158512.9 | L14: ='IX - Arrecadação'!I14 -> 2240320.5
C16: 5.1 | D16: Receita Prestação de Serviços | H16: =H14 -> 1883497 | I16: =I14 -> 1988972.9 | J16: =J14 -> 2075493.2 | K16: =K14 -> 2158512.9 | L16: =L14 -> 2240320.5
B18: 6. | C18: Tributos e Repasses sobre o Faturamento
C20: 6.1 | D20: Imposto sobre Serviço de qualquer natureza - ISS (5%) | H20: =-(H16*5%) -> -94174.851 | I20: =-(I16*5%) -> -99448.643 | J20: =-(J16*5%) -> -103774.66 | K20: =-(K16*5%) -> -107925.64 | L20: =-(L16*5%) -> -112016.03
C21: 6.2 | D21: Contribuição Social sobre o Faturamento - COFINS (3,00%) | H21: =-(H16*3%) -> -56504.911 | I21: =-(I16*3%) -> -59669.186 | J21: =-(J16*3%) -> -62264.795 | K21: =-(K16*3%) -> -64755.387 | L21: =-(L16*3%) -> -67209.616
C22: 6.3 | D22: Programa de Integração Social - PIS (0,65%) | H22: =-(H16*0.65%) -> -12242.731 | I22: =-(I16*0.65%) -> -12928.324 | J22: =-(J16*0.65%) -> -13490.706 | K22: =-(K16*0.65%) -> -14030.334 | L22: =-(L16*0.65%) -> -14562.083
C23: 6.4 | D23: Contribuição Previdenciária sobre a Receita Bruta - CPRB (0,00%) | H23: =0 -> 0 | I23: =0 -> 0 | J23: =0 -> 0 | K23: =0 -> 0 | L23: =0 -> 0
C24: 6.5 | D24: Valor de Outorga (% Ofertado) | H24: =-(H16*'V - Proposta - Outorga'!$E$6) -> -226019.64 | I24: =-(I16*'V - Proposta - Outorga'!$E$6) -> -238676.74 | J24: =-(J16*'V - Proposta - Outorga'!$E$6) -> -249059.18 | K24: =-(K16*'V - Proposta - Outorga'!$E$6) -> -259021.55 | L24: =-(L16*'V - Proposta - Outorga'!$E$6) -> -268838.46
B26: 7. | C26: Receita Líquida | H26: =H14+H20+H21+H22+H23+H24 -> 1494554.9 | I26: =I14+I20+I21+I22+I23+I24 -> 1578250 | J26: =J14+J20+J21+J22+J23+J24 -> 1646903.8 | K26: =K14+K20+K21+K22+K23+K24 -> 1712780 | L26: =L14+L20+L21+L22+L23+L24 -> 1777694.3
B28: 8. | C28: Custos Operacionais | H28: =H30+H32 -> -1080517.6 | I28: =I30+I32 -> -1134132.5 | J28: =J30+J32 -> -1190466.9 | K28: =K30+K32 -> -1249661.6 | L28: =L30+L32 -> -1311864.6
C30: 8.1 | D30: Despesa com Pessoal | H30: =-'IV - Insumos e Mão de Obra'!G79 -> -636757.6 | I30: =H30*$I$1*(1+'II - Premissas'!$D$28) -> -672288.68 | J30: =I30*$I$1*(1+'II - Premissas'!$D$28) -> -709802.38 | K30: =J30*$I$1*(1+'II - Premissas'!$D$28) -> -749409.36 | L30: =K30*$I$1*(1+'II - Premissas'!$D$28) -> -791226.4
C32: 8.2 | D32: Despesas Gerais | H32: =SUM(H33:H34) -> -443760 | I32: =SUM(I33:I34) -> -461843.81 | J32: =SUM(J33:J34) -> -480664.56 | K32: =SUM(K33:K34) -> -500252.28 | L32: =SUM(L33:L34) -> -520638.23
D33: 8.2.1 | E33: Variáveis | H33: =-'IV - Insumos e Mão de Obra'!G58 -> -97320 | I33: =(H33*$I$1)+((H33*$I$1)*'II - Premissas'!$D$30) -> -101285.92 | J33: =(I33*$I$1)+((I33*$I$1)*'II - Premissas'!$D$30) -> -105413.46 | K33: =(J33*$I$1)+((J33*$I$1)*'II - Premissas'!$D$30) -> -109709.19 | L33: =(K33*$I$1)+((K33*$I$1)*'II - Premissas'!$D$30) -> -114179.99
D34: 8.2.2 | E34: Fixos | H34: =-'IV - Insumos e Mão de Obra'!G34 -> -346440 | I34: =(H34*$I$1)+((H34*$I$1)*'II - Premissas'!$D$30) -> -360557.89 | J34: =(I34*$I$1)+((I34*$I$1)*'II - Premissas'!$D$30) -> -375251.11 | K34: =(J34*$I$1)+((J34*$I$1)*'II - Premissas'!$D$30) -> -390543.09 | L34: =(K34*$I$1)+((K34*$I$1)*'II - Premissas'!$D$30) -> -406458.24
B36: 9. | C36: EBITDA (Lucro antes de juros, impostos, depreciação e amortização) | H36: =H26+H28 -> 414037.28 | I36: =I26+I28 -> 444117.47 | J36: =J26+J28 -> 456436.88 | K36: =K26+K28 -> 463118.34 | L36: =L26+L28 -> 465829.71
C38: 9.1 | D38: Ganho efetivo da Operação | H38: =H36/H14 -> 0.2198237 | I38: =I36/I14 -> 0.22328986 | J38: =J36/J14 -> 0.21991731 | K38: =K36/K14 -> 0.21455436 | L38: =L36/L14 -> 0.20792994
B40: 10. | C40: Depreciação | H40: =SUM(H42:H42) -> -24880 | I40: =SUM(I42:I42) -> -24880 | J40: =SUM(J42:J42) -> -24880 | K40: =SUM(K42:K42) -> -24880 | L40: =SUM(L42:L42) -> -24880
C42: 10.1 | D42: Depreciação de Máquinas e Equipamentos (Computador, Impressoras etc) | H42: =-'IV - Insumos e Mão de Obra'!K15-'IV - Insumos e Mão de Obra'!N15-'IV - Insumos e Mão de Obra'!O15 -> -24880 | I42: =H42*$I$1 -> -24880 | J42: =I42*$J$1 -> -24880 | K42: =J42*$K$1 -> -24880 | L42: =K42*$L$1 -> -24880
B44: 11. | C44: EBIT (Lucro antes de juros e imposto de renda) | H44: =H36+H40 -> 389157.28 | I44: =I36+I40 -> 419237.47 | J44: =J36+J40 -> 431556.88 | K44: =K36+K40 -> 438238.34 | L44: =L36+L40 -> 440949.71
B46: 12. | C46: Despesas com Arrecadação | F46: % | G46: % Uso | H46: =SUM(H48:H50) -> -43320.431 | I46: =SUM(I48:I50) -> -43320.431 | J46: =SUM(J48:J50) -> -43320.431 | K46: =SUM(K48:K50) -> -43320.431 | L46: =SUM(L48:L50) -> -43320.431
C48: 12.1 | D48: Cartão de Crédito/Débito | F48: 0.02 | G48: 0.5 | H48: =-(F48*G48)*H14 -> -18834.97 | I48: =H48*$I$1 -> -18834.97 | J48: =I48*$J$1 -> -18834.97 | K48: =J48*$K$1 -> -18834.97 | L48: =K48*$L$1 -> -18834.97
C49: 12.2 | D49: PIX | F49: 0.01 | G49: 0.3 | H49: =-(F49*G49)*H14 -> -5650.4911 | I49: =H49*$I$1 -> -5650.4911 | J49: =I49*$J$1 -> -5650.4911 | K49: =J49*$K$1 -> -5650.4911 | L49: =K49*$L$1 -> -5650.4911
C50: 12.3 | D50: Comissão de Posto de Venda - PDV | F50: 0.1 | G50: 0.1 | H50: =-(F50*G50)*H14 -> -18834.97 | I50: =H50*$I$1 -> -18834.97 | J50: =I50*$J$1 -> -18834.97 | K50: =J50*$K$1 -> -18834.97 | L50: =K50*$L$1 -> -18834.97
B52: 13. | C52: EBT (Lucro antes de imposto de renda) | H52: =H44+H46 -> 345836.85 | I52: =I44+I46 -> 375917.04 | J52: =J44+J46 -> 388236.45 | K52: =K44+K46 -> 394917.91 | L52: =L44+L46 -> 397629.28
B54: 14. | C54: Imposto de Renda e CSLL | H54: =SUM(H56:H58) -> -93584.529 | I54: =SUM(I56:I58) -> -103811.79 | J54: =SUM(J56:J58) -> -108000.39 | K54: =SUM(K56:K58) -> -110272.09 | L54: =SUM(L56:L58) -> -111193.96
C56: 14.1 | D56: Contribuição Social Sobre Lucro - CSLL (9%) | G56: 0.09 | H56: =-(IF(H52>=0,$G$56*H52,0)) -> -31125.317 | I56: =-(IF(I52>=0,$G$56*I52,0)) -> -33832.533 | J56: =-(IF(J52>=0,$G$56*J52,0)) -> -34941.281 | K56: =-(IF(K52>=0,$G$56*K52,0)) -> -35542.612 | L56: =-(IF(L52>=0,$G$56*L52,0)) -> -35786.635
C57: 14.2 | D57: Imposto de Renda - IR (15%) | G57: 0.15 | H57: =-(IF(H52>=0,$G$57*H52,0)) -> -51875.528 | I57: =-(IF(I52>=0,$G$57*I52,0)) -> -56387.556 | J57: =-(IF(J52>=0,$G$57*J52,0)) -> -58235.468 | K57: =-(IF(K52>=0,$G$57*K52,0)) -> -59237.687 | L57: =-(IF(L52>=0,$G$57*L52,0)) -> -59644.392
C58: 14.3 | D58: Adicional de Imposto de Renda (10%) | G58: 0.1 | H58: =-(IF(H52>240000,(H52-240000)*$G$58,0)) -> -10583.685 | I58: =-(IF(I52>240000,(I52-240000)*$G$58,0)) -> -13591.704 | J58: =-(IF(J52>240000,(J52-240000)*$G$58,0)) -> -14823.645 | K58: =-(IF(K52>240000,(K52-240000)*$G$58,0)) -> -15491.791 | L58: =-(IF(L52>240000,(L52-240000)*$G$58,0)) -> -15762.928
B60: 15. | C60: Lucro Líquido do Exercício | H60: =H52+H54 -> 252252.32 | I60: =I52+I54 -> 272105.25 | J60: =J52+J54 -> 280236.06 | K60: =K52+K54 -> 284645.82 | L60: =L52+L54 -> 286435.33
C62: 15.1 | D62: Taxa de Lucratividade sobre a Receita | H62: =H60/H14 -> 0.13392765 | I62: =I60/I14 -> 0.13680692 | J62: =J60/J14 -> 0.13502143 | K62: =K60/K14 -> 0.13187126 | L62: =L60/L14 -> 0.12785462
A64: B. Fluxo de Caixa
...

Sheet VII - WACC
A2: Cálculo da WACC (Weighted Average Capital Cost)
A4: Premissas para o cálculo:
A5: Descrição | D5: Base | G5: Índice | H5: Und.
A6: EMBI+Risco-Brasil | D6: 45503 | E6: 228 | F6: pontos | G6: 0.0192 | H6: a.a. | J6: http://ipeadata.gov.br/ExibeSerie.aspx?serid=40940&module=Mhttp://ipeadata.gov.br/ExibeSerie.aspx?serid=40940&module=M
A7: SELIC | D7: 45658 | G7: 0.1325 | H7: a.a. | J7: https://www.bcb.gov.br/controleinflacao/historicotaxasjuros
A8: Taxa do Banco Central do Brasil | D8: 45658 | G8: 0.1325 | H8: a.a. | J8: https://www.bcb.gov.br/acessoinformacao/legado?url=https:%2F%2Fwww4.bcb.gov.br%2Fpec%2Ftaxas%2Fport%2Fptaxnpesq.asp%3Fid%3Dtxcotacao
A9: Brazilian 10Y - Government Bond | D9: 45689 | G9: 0.1451 | H9: a.a. | J9: https://tradingeconomics.com/brazil/government-bond-yield
A10: US 10Y - Government Bond | D10: 45689 | G10: 0.04414 | H10: a.a. | J10: https://www.bloomberg.com/quote/USGG10YR:IND
A11: Taxa do Banco Central - USA | D11: 45658 | G11: 0.055 | H11: a.a. | J11: https://g1.globo.com/economia/noticia/2021/12/15/banco-central-dos-eua-preve-tres-altas-de-juros-em-2022.ghtml
A12: Inflação - EUA | D12: 45658 | G12: 0.03 | H12: a.a. | J12: https://pt.inflation.eu/taxas-de-inflacao/estados-unidos/inflacao-historica/ipc-inflacao-estados-unidos.aspx
A13: Inflação - BRA | D13: 45657 | G13: 0.0579 | H13: a.a. | J13: https://pt.global-rates.com/estatisticas-economicas/inflacao/indice-de-precos-ao-consumidor/ipc/brasil.aspx
A14: BNDES (Custo Financeiro) | D14: 45657 | G14: 0.07 | H14: a.a. | J14: https://www.bndes.gov.br/wps/portal/site/home/financiamento/guia/taxa-de-juros
A15: Beta não alavancado | D15: 45657 | G15: 1 | H15: a.a. | J15: http://pages.stern.nyu.edu/~adamodar/
A16: CSLL e IR | D16: 45657 | G16: 0.24 | H16: a.a. | J16: http://pages.stern.nyu.edu/~adamodar/
A17: Remuneração básica BNDES (Taxa do BNDES) | D17: 45657 | G17: 0.005 | H17: a.a. | J17: https://www.bndes.gov.br/wps/portal/site/home/financiamento/guia/taxa-de-juros
A18: Taxa de intermediação financeira (Taxa do Agente) | D18: 45657 | G18: 0.03 | H18: a.a. | J18: https://www.bndes.gov.br/wps/portal/site/home/financiamento/guia/taxa-de-juros
A19: Remuneração instituição credenciada | D19: =D18 -> 45657 | G19: 0.01 | H19: a.a. | J19: https://www.bndes.gov.br/wps/portal/site/home/financiamento/guia/taxa-de-juros
A20: Benefício tributário | D20: =D19 -> 45657 | G20: 0 | H20: a.a.
A21: Capital Próprio | D21: =D20 -> 45657 | G21: 0.5 | H21: a.a.
A22: Capital de Terceiro | D22: =D21 -> 45657 | G22: 0.5 | H22: a.a.
A23: A. Cálculo:
A24: Fonte | B24: Base | C24: Sigla | D24: Item | E24: Descrição | F24: Como encontrá-lo | G24: Valor
A25: U.S. Tr Bond - 10Y | B25: =D10 -> 45689 | C25: Rf | D25: Taxa livre de risco (Risk free) | E25: É o retorno que o investidor pode esperar de um investimento sem risco. O prêmio de risco de mercado é uma função da oferta e demanda. Quando em equilíbrio, não há necessidade de pagar um prêmio, isto é, a oferta está alinhada à demanda. Se a demanda aumenta e a oferta não a supre, o preço daquele ativo sobre. A diferença de preço é o prêmio. O prêmio de risco de mercado é a diferença de preço em relação ao risco de equilíbrio | F25: Defina o risco de equilíbrio ou a taxa livre de risco. O investimento com menor risco são os títulos da dívida do governo dos EUA, isto é, há uma chance muito remota de que o governo americano dê um calote. Por essa razão, a taxa de retorno desses títulos é sempre usada como uma aproximação para a taxa de retorno livre de risco. Outra aproximação é a LIBOR ("London interbank offer rate" - Taxa interbancária de Londres). Determine a taxa livre de risco. Novamente, como os títulos possuem a confiança e o crédito do governo dos EUA, usaremos os títulos do governo de 10 anos como uma aproximação para a taxa livre de risco. Essa é a taxa básica. | G25: =G10 -> 0.04414 | H25: a.a
A26: SELIC | B26: =D7 -> 45658 | C26: Rm | D26: Risco de mercado | F26: Utilizar a taxa SELIC | G26: =G7 -> 0.1325 | H26: a.a
A27: S&P 500 (30 anos) | B27: - | C27: (Rm-Rf) | D27: Prêmio de risco de mercado (Rm-Rf) | E27: Refere-se a um adicional sobre o rendimento em um ativo livre de risco que é requerido por investidores daquele mercado e obtém-se a partir de uma série histórica longa de rendimentos médios anuais históricos de um portfólio de mercado de referência. | F27: Determine a taxa de retorno de mercado. Encontre o prêmio de risco de mercado. Encontre a diferença entre a taxa média de retorno de mercado e a taxa livre de risco. Diferença entre a taxa SELIC e a taxa livre de risco (U.S. Tr.Bond). | G27: =G26-G25 -> 0.08836 | H27: a.a
A28: Website Damodaran Online | B28: =D15 -> 45657 | C28: Bu | D28: Beta não alavancado | E28: Reflete a sensibilidade, volatilidade do investimento em relação aos movimentos do mercado como um todo e pode ser definido como o grau de incerteza em relação à projeção do retorno sobre o ativo inerente ao negócio que não pode ser eliminado pela diversificação. | F28: Adotando como referência a base de dados de Aswath Damodaran que contempla empresas internacionais de transporte público, identificou-se os respectivos Betas, o perfil de endividamento e os impostos cobrados em seus respectivos países. | G28: =G15 -> 1
A29: Balanço Social Empresas de Ônibus | B29: - | C29: E | D29: Capital próprio (Equity) | E29: Considerando o equilíbrio entre capital próprio (Equity, E) e capital de terceiros (Dívida, D), estima-se que a estrutura de capital alvo da Concessão contempla estrutura alavancada. Esta estrutura representa a média de alavancagem da vida do projeto tendo em vista o horizonte de 20 anos da Concessão. | G29: =G21 -> 0.5
B30: - | C30: D | D30: Capital de terceiros | F30: Empresa (D=25%) | G30: =G22 -> 0.5
B31: - | C31: D/E | D31: Estrutura de capital | G31: =G30/G29 -> 1
A32: Website Damodaran Online | B32: =D16 -> 45657 | C32: T | D32: Impostos | F32: Corresponde a soma da CSLL (Contribuição Social sobre Lucro Líquido, equivalente a 9% a.a., o IR de 15% a.a. e o Adicional de IR, de 10% a.a. | G32: =G16 -> 0.24
A33: IPEADATA | B33: =D6 -> 45503 | C33: Rb | D33: Risco país | E33: Conceito que considera a possibilidade de alterações no cenário econômico-financeiro de determinado país com reflexos nos ativos de empresas estrangeiras a partir dos investimentos realizados. Esse indicador representa o risco percebido pela comunidade internacional de investidores a investimentos feitos no Brasil. | F33: Média anual do índice EMBI+- Emerging Markets Bond. Corresponde ao spread entre os títulos da dívida externa brasileira e os títulos da dívida pública americana. | G33: =G6 -> 0.0192 | H33: a.a
C34: BL | D34: Beta Alavancado (BL) | G34: =G28*(1+((1-G32)*G31)) -> 1.76
C38: Re (US, nominal) | D38: Custo de capital próprio nominal (Re) | G38: =G25+(G34*G27)+G33 -> 0.2188536 | H38: a.a
A42: FED | B42: =D12 -> 45658 | D42: Inflação US | E42: Considera-se a taxa de inflação de longo prazo projetada dos Estados Unidos¹ e a projeção de inflação de longo prazo do Banco Central do Brasil (BACEN) na data de outubro de 2017 para obtenção do custo de capital próprio em moeda nacional. | G42: =G12 -> 0.03 | H42: a.a
A43: BACEN | B43: =D13 -> 45657 | D43: Inflação Br | G43: 0.0423 | H43: a.a
D44: Re (Br, nominal) | G44: =(1+G38)*(1+G43)/(1+G42)-1 -> 0.23340884 | H44: =H43 -> a.a
A45: BNDES | B45: =D14 -> 45657 | D45: TJLP | E45: FINAME | F45: 70% TJLP (7% aa) + 30% TJ462 (TJLP + 1%) | G45: =G14*70%+30%*(G14+1%) -> 0.073 | H45: a.a
A46: BNDES | B46: =D17 -> 45657 | D46: Remuneração básica BNDES | F46: Máximo de 3% a.a. | G46: =G17 -> 0.005 | H46: a.a
B47: =D18 -> 45657 | D47: Taxa de intermediação financeira | G47: =G18 -> 0.03 | H47: a.a
A48: BNDES | B48: =D6 -> 45503 | D48: Risco de crédito | G48: =G6 -> 0.0192 | H48: a.a
...

Sheet VIII - Encargos Sociais
B2: Encargos Sociais
B4: ENCARGOS SOBRE A REMUNERAÇÃO NORMAL DIURNA DO EMPREGADO | G4: Cálculo do Número de Dias Úteis no Ano
B5: GERAL | I5: Dias | K5: Ref. | M5: Dias
G6: Dias | I6: 365 | L6: = | M6: 365
B7: [A] | C7: Obrigações incidentes diretamente sobre a folha de pagamento: | D7: Horista | E7: Mensalista | G7: Domingo | H7: = | I7: 52 | J7: x | K7: 1 | L7: = | M7: =I7*K7 -> 52
B8: Encargos (1) | D8: % | E8: % | G8: Feriados | H8: = | I8: 11 | J8: x | K8: 1 | L8: = | M8: =I8*K8 -> 11
B9: 1 | C9: INSS | D9: 0.2 | E9: 0.2 | G9: Dias Úteis (*) | L9: = | M9: =M6-M7-M8 -> 302
B10: 2 | C10: SESI / SESC / SEST | D10: 0.015 | E10: 0.015 | G10: (*) Sem considerar o período aquisitivo de férias.
B11: 3 | C11: SENAI / SENAC / SENAT | D11: 0.01 | E11: 0.01
B12: 4 | C12: INCRA | D12: 0.002 | E12: 0.002 | G12: Cálculo do Número de Dias Produtivos no Ano
B13: 5 | C13: SEBRAE | D13: 0.006 | E13: 0.006 | I13: Dias | K13: Ref. | M13: Dias
B14: 6 | C14: SALÁRIO EDUCAÇÃO | D14: 0.025 | E14: 0.025 | G14: Dias | I14: =I6 -> 365 | L14: = | M14: 365
B15: 7 | C15: SAT (Seguro Acidente Trabalho) | D15: 0.03 | E15: 0.03 | G15: Domingo | H15: = | I15: =I7 -> 52 | J15: x | K15: 1 | L15: = | M15: =I15*K15 -> 52
B16: 8 | C16: FGTS | D16: 0.085 | E16: 0.08 | G16: Feriados | H16: = | I16: =I8 -> 11 | J16: x | K16: 1 | L16: = | M16: =I16*K16 -> 11
B17: TOTAL | D17: =SUM(D9:D16) -> 0.373 | E17: =SUM(E9:E16) -> 0.368 | G17: Férias | H17: = | I17: 30 | J17: - | K17: 4 | L17: = | M17: =I17-K17 -> 26
G18: Dias Produtivos/Úteis | L18: = | M18: =M14-M15-M16-M17 -> 276
B19: [B] | C19: Parcelas agregadas a remuneração e pagas diretamente ao empregado: | D19: Horista | E19: Mensalista
G20: Parâmetros de Cálculo
B21: Parcela agregadas (1) e (3) | D21: % | E21: % | G21: Domingo em Férias | H21: = | I21: =K17 -> 4 | L21: = | M21: 4
B22: 9 | C22: DSR (Descanso Semanal Remunerado = 52 dom: 275 dias/ano) (*) | D22: =I15/M18 -> 0.1884058 | E22: 0 | G22: Domingos DSR | H22: = | I22: =I15 -> 52 | J22: - | K22: =K17 -> 4 | L22: = | M22: =I22-K22 -> 48
B23: 10 | C23: Férias (1 mês : 11 meses) | D23: =M17/M18 -> 0.094202899 | E23: =I25/I24 -> 0.090909091 | G23: Adicional de Férias | H23: = | I23: 1 | J23: / | K23: 3
B24: 11 | C24: Adicional de 1/3 Férias (9,09% : 3) | D24: =I17/(M18*K23) -> 0.036231884 | E24: =E23/3 -> 0.03030303 | G24: Meses Produtivos | H24: = | I24: 11 | J24: mês | K24: no ano
B25: 12 | C25: Feriados (11 dias por ano : 276 dias/ano) (**) | D25: =I16/M18 -> 0.039855072 | E25: 0 | G25: Mês de Férias | H25: = | I25: 1 | J25: mês | K25: ao ano
B26: 13 | C26: Auxílio Doença [(15 dias : 332 dias/ano)xPercentual de Participação | D26: =(M17/M18)*I31*I33 -> 0.0016617391 | E26: =I26/(M18+I22+K22)*I40 -> 0.0038403614 | G26: Auxílio Doença | H26: = | I26: 15 | J26: dias
B27: 14 | C27: Décimo Terceiro Salário (1 mês : 12 meses) | D27: =(I29*M17/(M28*M18))*I30 -> 0.0001284585 | E27: =1/12 -> 0.083333333 | G27: Jornada Semanal | H27: = | I27: 44 | J27: horas
B28: 15 | C28: Licença Remunerada (4 dias : 4 anos de 276 dias/ano) | D28: =I26/M18*#REF! -> #REF! | E28: =I36/(K36*M18) -> 0.0036231884 | G28: Jornada Diária | H28: = | I28: =I27 -> 44 | J28: / | K28: 6 | L28: = | M28: =I28/K28 -> 7.3333333
B29: 16 | C29: Licença Paternidade (5 dias : 4 anos de 276 dias/ano) | D29: =(I32/M28)/M18 -> 0.10869565 | E29: =I35/(K35*M18) -> 0.0045289855 | G29: Horas diária não trabalhada | H29: = | I29: 0.5 | J29: hora
B30: 17 | C30: Licença Maternidade (120 dias : 4 anos de 276 dias/ano 3%) | E30: 0 | G30: Aviso Prévio Trabalhando | H30: = | I30: 0.02 | J30: Percentual de Participação
B31: TOTAL | D31: =SUM(D22:D30) -> #REF! | E31: =SUM(E22:E30) -> 0.21653799 | G31: Aviso Prévio Não Trabalhando | H31: = | I31: 0.98 | J31: Percentual de Participação
G32: Horista | H32: = | I32: 220 | J32: h/m
B33: (365 dias do ano – 52 domingos – 26 dias de férias – 11 dias feriados: 276 dias úteis ano) | G33: Turn Over | H33: = | I33: 0.018
G34: Mensalista | H34: = | I34: 1 | K34: mês
B35: [C] | C35: Benefícios e encargos que não incidem sobre os demais encargos: | D35: Horista | E35: Mensalista | G35: Licença Paternidade | H35: = | I35: 5 | J35: dia | K35: 4 | L35: anos
B36: Benefícios e encargos (1) | D36: % | E36: % | G36: Licenças Remuneradas | I36: 4 | J36: dia | K36: 4 | L36: anos
B37: 18 | C37: Aviso Prévio Trabalhando (1% de 2h dia em 25 dias : 7,33h em 276 dias) | E37: =(I29*25)/(M28*M18)*I30 -> 0.00012351779 | G37: Dispensa Sem Justa Causa | H37: = | I37: 0.95
B38: 19 | C38: Aviso Prévio Não Trabalhando (25 dias : 276 dias/ano x 98%) | E38: =(25)/M18*I31 -> 0.088768116 | G38: FGTS | H38: = | I38: 0.08
B39: 20 | C39: Aviso Prévio indenizado (Trabalhando e Não Trabalhando) | E39: =E38+E37 -> 0.088891634 | G39: Multa FGTS | H39: = | I39: 0.5
B40: 21 | C40: Multa 50% do FGTS nas rescisões (50% x 8,5% FGTS x 95% dos empregados demitidos x (1+ total do grupo B) | D40: =I39*I38*I37*(1+D31) -> #REF! | E40: 0.0486 | G40: Auxilio Doença | H40: = | I40: 0.085 | J40: mês (Percentual de Partic.)
B41: 22 | C41: Lei 6.708 art 9 ( 8,0% do Aviso Prévio Indenizado) | D41: =I38*(D26+D27) -> 0.00014321581 | E41: =I38*(E39) -> 0.0071113307 | G41: Reversão de Reajuste Sindical | H41: = | I41: 0.025 | J41: ano | L41: =I41*I42/12 -> 9.375e-05 | M41: mês
B42: 23 | C42: Contribuição do Sindicato - Reversão de Reajuste Salarial | D42: 0 | E42: 0 | G42: Previsão de Reajuste (*) | H42: = | I42: 0.045 | J42: ano
...

Sheet IX - Arrecadação
C3: Considerado para o estudo o valor de 1 (uma) hora : R$ 2,50 - Veículos
B5: Zona Azul - Francisco Morato - SP
B6: Tipo | C6: Vagas | D6: Tarifa/Hora | E6: Horas | F6: Semanas/ | G6: Horas | H6: Taxa Média | J6: Horas | K6: Arrecadação Mensal
E7: Semanais | F7: Mês | G7: Mensais | H7: Ocupação | I7: Obediência | J7: Eficazes
B8: Veículos | C8: 711 | D8: 2.5 | E8: 60 | F8: 4 | G8: =+E8*F8 -> 240 | H8: 0.44 | I8: 0.8362 | J8: =+G8*H8*I8*C8 -> 62783.234 | K8: =+J8*D8 -> 156958.08
E12: 1º Ano | F12: 2º Ano | G12: 3º Ano | H12: 4º Ano | I12: 5º Ano
C13: Arrecadação Estimada Mês: | E13: =K8 -> 156958.08 | F13: =(E17+1)*E13 -> 165747.74 | G13: =(F17+1)*F13 -> 172957.76 | H13: =(G17+1)*G13 -> 179876.07 | I13: =(H17+1)*H13 -> 186693.38
C14: Arrecadação Estimada Ano: | E14: =+E13*12 -> 1883497 | F14: =+F13*12 -> 1988972.9 | G14: =+G13*12 -> 2075493.2 | H14: =+H13*12 -> 2158512.9 | I14: =+I13*12 -> 2240320.5
C15: Arrecadação Estimada Contrato: | E15: =SUM(E14:N14) -> 10346796
C17: Projeção de IPCA (Reajuste Tarifa) | E17: 0.056 | F17: 0.0435 | G17: 0.04 | H17: 0.0379 | I17: 0.0379
E19: =+E17+1 -> 1.056 | F19: =(F17+1)*E19 -> 1.101936 | G19: =(G17+1)*F19 -> 1.1460134 | H19: =(H17+1)*G19 -> 1.1894473 | I19: =(I17+1)*H19 -> 1.2345274 | J19: =(J17+1)*I19 -> 1.2345274 | K19: =(K17+1)*J19 -> 1.2345274 | L19: =(L17+1)*K19 -> 1.2345274 | M19: =(M17+1)*L19 -> 1.2345274
C20: Crescimento Médio Anual | E20: =(+M19^(1/9))-1 -> 0.023685963
