Workbook

Sheet 0.Instruções
A1: 0. Instruções
A3: 1. Esta planilha eletrônica segue as definições do documento ¨Custos dos serviços de transporte público por ônibus - Método de Cálculo". ANTP (2017).
A4: 2. As abas da planilha seguem a numeração dos capitulos desse documento.
A5: 3. No caso dos anexos, o numeral romano que identifica o anexo é precedido da letra "A".
A6: 4. As células em laranja | E6: são entradas de dados e precisam de preenchimento.
A7: 5. As células em verde | E7: são entradas de dados preenchidas com valores de referência, conforme o respectivo anexo do método de cálculo.
A8: 6. As células em azul | E8: são resultados e não devem ser preenchidas.
A10: AVISO:
A11: Esta planilha eletrônica foi criada como instrumento de apoio.
A12: A ANTP (Associação Nacional de Transportes Públicos) não assume qualquer responsabilidade pela aplicação da planilha e do método.
A13: O documento ¨Custos dos serviços de transporte público por ônibus - Método de Cálculo". ANTP (2017) está disponível no site www.antp.org.br
A14: Quaisquer contribuições e dúvidas deve ser encaminhadas a contato@antp.org.br
A17: Versão 1.1 (Agosto, 2017)

Sheet 1.1. Passageiros
A1: 1.1 Passageiros
H2: Legenda
A3: 1.1.1. Passageiros Transportados por mês (PT)
J4: Entrada de dados
B5: Comum | D5: 258000 | J5: Entrada de dados com valor de referência
B6: Vale-Transporte | D6: 387000 | J6: Resultado
B7: Estudante | D7: 115000
B8: Gratuidade | D8: 250000
B9: Outros
B11: Passageiros Transportados (PT) | D11: =D5+D6+D7+D8+D9+D57 -> 1010000
A13: 1.1.2. Passageiros Equivalentes (PE)
A15: 1.1.2.a Tarifa Pública Vigente (TPU)
B17: Tarifas públicas "i" vigentes (TPi) (em R$)
B18: TP1 | C18: TP2 | D18: TP3 | E18: TP4 | F18: TP5 | G18: TP6 | H18: TP7 | I18: TP8 | J18: TP9 | K18: TP10
B19: 6
A21: 1.1.2.b Deseja informar dados de modo (marcar X):
B22: Detalhado: | E22: (ir para o item 1.1.2.c)
B23: Média mensal consolidada: | D23: x | E23: (ir para o item 1.1.2.d)
A25: 1.1.2.c. Passageiros pagantes por tarifa pública (Anexo I)
C27: Passageiros Pagantes por mês [m] e Tarifa Pública [TP]i (passageiros/mês)
C28: TP1 | D28: TP2 | E28: TP3 | F28: TP4 | G28: TP5 | H28: TP6 | I28: TP7 | J28: TP8 | K28: TP9 | L28: TP10
A29: Mês [m]i | B29: 45658
B30: 45689
B31: 45717
B32: 45748
B33: 45778
B34: 45809
B35: 45839
B36: 45870
B37: 45901
B38: 45931
B39: 45962
B40: 45992
A42: 1.1.2.d. Média mensal de Passageiros pagantes por tarifa pública
C44: TP1 | D44: TP2 | E44: TP3 | F44: TP4 | G44: TP5 | H44: TP6 | I44: TP7 | J44: TP8 | K44: TP9 | L44: TP10
A45: Média mensal de passageiros pagantes | C45: 702000
A48: 1.1.2.e. Receita média mensal por tarifa pública (RT)
C50: Receita média mensal por tarifa pública (em R$)
C51: TP1 | D51: TP2 | E51: TP3 | F51: TP4 | G51: TP5 | H51: TP6 | I51: TP7 | J51: TP8 | K51: TP9 | L51: TP10
C52: =IFERROR(IF($D$22<>0,AVERAGE(C29:C40)*B19,C45*B19),"") -> 4212000 | D52: =IFERROR(IF($D$22<>0,AVERAGE(D29:D40)*C19,D45*C19),"") -> 0 | E52: =IFERROR(IF($D$22<>0,AVERAGE(E29:E40)*D19,E45*D19),"") -> 0 | F52: =IFERROR(IF($D$22<>0,AVERAGE(F29:F40)*E19,F45*E19),"") -> 0 | G52: =IFERROR(IF($D$22<>0,AVERAGE(G29:G40)*F19,G45*F19),"") -> 0 | H52: =IFERROR(IF($D$22<>0,AVERAGE(H29:H40)*G19,H45*G19),"") -> 0 | I52: =IFERROR(IF($D$22<>0,AVERAGE(I29:I40)*H19,I45*H19),"") -> 0 | J52: =IFERROR(IF($D$22<>0,AVERAGE(J29:J40)*I19,J45*I19),"") -> 0 | ... L52: =IFERROR(IF($D$22<>0,AVERAGE(L29:L40)*K19,L45*K19),"") -> 0
...

Sheet 1.2. KM programada
A1: 1.2 Quilometragem Programada (KP)
K2: Legenda
A3: 1.2.a. | B3: Periodo de análise M (em meses): | D3: 3
M4: Entrada de dados
A5: 1.2.b. | B5: Deseja informar dados de modo (marcar X): | M5: Entrada de dados com valor de referência
B6: Consolidado mensal: | D6: x | E6: (ir para o item 1.2.c) | M6: Resultado
B7: Detalhado: | E7: (ir para o item 1.2.d)
A9: 1.2.c. | B9: Quilometragem programada média mensal do sistema (consolidada):
B10: Extensão programada: | D10: 396500 | F10: km
A12: 1.2.d. | B12: Quilometragem programanda por linha (detalhada)[Anexo II]:
A13: ID | B13: Linha (nº) | C13: Quant. de dias de operação no período de análise M (QD[K]) | G13: Quant. viagens prog. p/ linhas de ônibus "l" em um tipo de dia de operação "k" (KV[k]l) | J13: km prog. p/ linha de ônibus "l" em um tipo de dia de operação "k" (KL[k]l) | M13: km mensal improdutiva (IK) | Q13: Quilometragem programada mensal
C14: Unidade: dias | G14: Unidade: viagens | J14: Unidade: km | M14: Unidade: km | Q14: Unidade: km
C15: Dias úteis | E15: Sábados | F15: Domingos / Feriados | G15: Dias úteis | H15: Sábados | I15: Domingos / Feriados | J15: Dias úteis | K15: Sábados | L15: Domingos / Feriados | M15: Dias úteis | N15: Sábados | O15: Domingos / Feriados | Q15: Dias úteis | R15: Sábados | S15: Domingos / Feriados
A16: 1 | Q16: =((C16*G16*J16)/$D$3)+M16 -> 0 | R16: =((E16*H16*K16)/$D$3)+N16 -> 0 | S16: =((F16*I16*L16)/$D$3)+O16 -> 0
A17: 2 | Q17: =((C17*G17*J17)/$D$3)+M17 -> 0 | R17: =((E17*H17*K17)/$D$3)+N17 -> 0 | S17: =((F17*I17*L17)/$D$3)+O17 -> 0
A18: 3 | Q18: =((C18*G18*J18)/$D$3)+M18 -> 0 | R18: =((E18*H18*K18)/$D$3)+N18 -> 0 | S18: =((F18*I18*L18)/$D$3)+O18 -> 0
A19: 4 | Q19: =((C19*G19*J19)/$D$3)+M19 -> 0 | R19: =((E19*H19*K19)/$D$3)+N19 -> 0 | S19: =((F19*I19*L19)/$D$3)+O19 -> 0
A20: 5 | Q20: =((C20*G20*J20)/$D$3)+M20 -> 0 | R20: =((E20*H20*K20)/$D$3)+N20 -> 0 | S20: =((F20*I20*L20)/$D$3)+O20 -> 0
A21: 6 | Q21: =((C21*G21*J21)/$D$3)+M21 -> 0 | R21: =((E21*H21*K21)/$D$3)+N21 -> 0 | S21: =((F21*I21*L21)/$D$3)+O21 -> 0
A22: 7 | Q22: =((C22*G22*J22)/$D$3)+M22 -> 0 | R22: =((E22*H22*K22)/$D$3)+N22 -> 0 | S22: =((F22*I22*L22)/$D$3)+O22 -> 0
A23: 8 | Q23: =((C23*G23*J23)/$D$3)+M23 -> 0 | R23: =((E23*H23*K23)/$D$3)+N23 -> 0 | S23: =((F23*I23*L23)/$D$3)+O23 -> 0
A24: 9 | Q24: =((C24*G24*J24)/$D$3)+M24 -> 0 | R24: =((E24*H24*K24)/$D$3)+N24 -> 0 | S24: =((F24*I24*L24)/$D$3)+O24 -> 0
A25: 10 | Q25: =((C25*G25*J25)/$D$3)+M25 -> 0 | R25: =((E25*H25*K25)/$D$3)+N25 -> 0 | S25: =((F25*I25*L25)/$D$3)+O25 -> 0
A26: 11 | Q26: =((C26*G26*J26)/$D$3)+M26 -> 0 | R26: =((E26*H26*K26)/$D$3)+N26 -> 0 | S26: =((F26*I26*L26)/$D$3)+O26 -> 0
A27: 12 | Q27: =((C27*G27*J27)/$D$3)+M27 -> 0 | R27: =((E27*H27*K27)/$D$3)+N27 -> 0 | S27: =((F27*I27*L27)/$D$3)+O27 -> 0
... A115: 100 | Q115: =((C115*G115*J115)/$D$3)+M115 -> 0 | R115: =((E115*H115*K115)/$D$3)+N115 -> 0 | S115: =((F115*I115*L115)/$D$3)+O115 -> 0

Sheet 1.3 Frota Total
A1: 1.3 Frota total (FT)
A3: 1.3.1. Classificação dos veículos (PT) | C3: ABNT NBR 15570:2009 | J3: Legenda
C4: Capacidade | D4: PBT mínimo | E4: Comprimento total máximo
A5: Microônibus | C5: Entre 10 e 20 passageiros (exclusivamente sentados) | D5: 5t | E5: 7,4m | L5: Entrada de dados
A6: Miniônibus | C6: Mínimo de 30 passageiros (sentados e em pé) | D6: 8t | E6: 9,6m | L6: Entrada de dados com valor de referência
A7: Midiônibus | C7: Mínimo de 40 passageiros (sentados e em pé) | D7: 10t | E7: 11,5m | L7: Resultado
A8: Ônibus básico | C8: Mínimo de 70 passageiros (sentados e em pé) | D8: 16t | E8: 14m
A9: Ônibus padron | C9: Mínimo de 80 passageiros (sentados e em pé) | D9: 16t | E9: 14m
A10: Ônibus articulado | C10: Mínimo de 100 passageiros (sentados e em pé) | D10: 26t | E10: 18,6m
A11: Ônibus biarticulado | C11: Mínimo de 160 passageiros (sentados e em pé) | D11: 36t | E11: 30m
A13: 1.3.2. Cálculo da Frota
A15: 1.3.2.a Composição da frota (tipologia do veículo)
A17: Classe do veículo | C17: Sem ar condicionado | E17: Com ar condicionado
C18: Sem transmissão automática | D18: Com transmissão automática | E18: Sem transmissão automática | F18: Com transmissão automática
A19: Microônibus
A20: Miniônibus
A21: Midiônibus
A22: Ônibus básico
A23: Ônibus padron
A24: Ônibus articulado
A25: Ônibus biarticulado
A27: 1.3.2.b Composição da frota (classe e idade do veículo)
A29: Classe do veículo | D29: Idade do veículo | E29: Sem ar condicionado | G29: Com ar condicionado
E30: Sem transmissão automática | F30: Com transmissão automática | G30: Sem transmissão automática | H30: Com transmissão automática
A31: Microônibus | D31: 0
D32: 1
D33: 2
D34: 3
D35: 4
D36: 5
A37: Miniônibus | D37: 0
D38: 1
D39: 2
D40: 3
D41: 4
D42: 5
A43: Midiônibus | D43: 0
D44: 1
D45: 2
D46: 3
...

Sheet 1.4 Indicadores
A1: 1.4 Indicadores
J2: Legenda
A3: 1.4.1. Índice de Passageiros por Quilômetro (IPK)
L4: Entrada de dados
A5: 1.4.1.1 | B5: Tarifa pública de preponderante vigente (TPU) | E5: 6 | F5: R$ | L5: Entrada de dados com valor de referência
A6: 1.4.1.2 | B6: Receita média mensal total do sistema (RT) | E6: =SUM('1.1. Passageiros'!C52:L52) -> 4212000 | F6: R$/mês | L6: Resultado
A7: 1.4.1.3 | B7: Média mensal de passageiros transportados (PT) | E7: ='1.1. Passageiros'!D11 -> 1010000 | F7: passageiros/mês
A8: 1.4.1.4 | B8: Média mensal de passageiros pagantes equivalentes (PE) | E8: =E6/E5 -> 702000 | F8: passageiros/mês
A9: 1.4.1.5 | B9: Média mensal da quilometragem programada (KP) | E9: =IF('1.2. KM programada'!D7<>"",SUM('1.2. KM programada'!Q16:S115),'1.2. KM programada'!D10) -> 396500 | F9: km/mês
A11: 1.4.1.6 | B11: Índice de passageiro por quilômetro (IPK) | E11: =E7/E9 -> 2.5472888 | F11: pass./km
A12: 1.4.1.7 | B12: Índice de passageiro equivalentes por quilômetro (IPKe) | E12: =E8/E9 -> 1.7704918 | F12: pass./km
A14: 1.4.2. Percurso Médio Mensal (PMM)
A16: 1.4.2.1 | B16: Frota total= | E16: =SUM('1.3 Frota Total'!C19:F25) -> 0 | F16: ônibus
A17: 1.4.2.2 | B17: Frota operante = | C17: =72/80 -> 0.9 | D17: x FT | E17: =ROUNDDOWN($E$16*C17,0) -> 0 | F17: ônibus
A18: 1.4.2.3 | B18: Frota funcional = | C18: =1-C17 -> 0.1 | D18: x FT | E18: =ROUNDUP($E$16*C18,0) -> 0 | F18: ônibus
A20: 1.4.2.4 | B20: Percurso Médio Mensal | E20: =E9/E17 -> #DIV/0! | F20: km/veículo
A22: 1.4.3. Passageiros Transportados por Veículos por Dia (PVD)
A24: 1.4.3.1 | B24: Periodo de análise N (em dias) | E24: 30 | F24: dias
A25: 1.4.3.2 | B25: Passageiros transportados por dia | E25: ='1.1. Passageiros'!D11/('1.4 Indicadores'!E17*'1.4 Indicadores'!E24) -> #DIV/0! | F25: Pass/veículo/dia
A27: 1.4.4. Passageiros Equivalentes por Veículos (PMV)
A29: 1.4.4.1 | B29: Passageiros equivalentes por veículo | E29: =E8/E17 -> #DIV/0! | F29: pass/veículo/mês

Sheet 2.1.a Combustível
A1: 2.1.a Consumo de Combustível | C1: Consultar a aba A.III.Combustível
A3: 2.1.a.i | B3: Deseja informar dados de modo (marcar X):
B4: Consolidado: | C4: x | D4: (ir para o item 2.1.a.ii)
B5: Detalhado: | D5: (ir para o item 2.1.a.iii)
A7: 2.1.a.ii Consumo σz (l/km) para cada tipo de veículo (consolidado)
A8: Classe do veículo | C8: Sem ar condicionado | E8: Com ar condicionado
C9: Sem transmissão automática | D9: Com transmissão automática | E9: Sem transmissão automática | F9: Com transmissão automática
A10: Microônibus
A11: Miniônibus
A12: Midiônibus
A13: Ônibus básico
A14: Ônibus padron
A15: Ônibus articulado
A16: Ônibus biarticulado
A18: 2.1.a.iii Quantidade de combustível utilizada por tipo de veículo (detalhado)
A19: Classe do veículo | C19: Sem ar condicionado | E19: Com ar condicionado | H19: Legenda
C20: Sem transmissão automática | D20: Com transmissão automática | E20: Sem transmissão automática | F20: Com transmissão automática
A21: Microônibus | J21: Entrada de dados
A22: Miniônibus | J22: Entrada de dados com valor de referência
A23: Midiônibus | J23: Resultado
A24: Ônibus básico
A25: Ônibus padron
A26: Ônibus articulado
A27: Ônibus biarticulado
A29: 2.1.a.iv Quantidade de quilometros percorridos por tipo de veículo (detalhado)
A30: Classe do veículo | C30: Sem ar condicionado | E30: Com ar condicionado
C31: Sem transmissão automática | D31: Com transmissão automática | E31: Sem transmissão automática | F31: Com transmissão automática
A32: Microônibus
A33: Miniônibus
A34: Midiônibus
A35: Ônibus básico
A36: Ônibus padron
A37: Ônibus articulado
A38: Ônibus biarticulado
A40: 2.1.a.v Consumo σz (l/km) para cada tipo de veículo (detalhado)
A41: Classe do veículo | C41: Sem ar condicionado | E41: Com ar condicionado
C42: Sem transmissão automática | D42: Com transmissão automática | E42: Sem transmissão automática | F42: Com transmissão automática
A43: Microônibus | C43: =IFERROR(C21/C32,"") | D43: =IFERROR(D21/D32,"") | E43: =IFERROR(E21/E32,"") | F43: =IFERROR(F21/F32,"")
A44: Miniônibus | C44: =IFERROR(C22/C33,"") | D44: =IFERROR(D22/D33,"") | E44: =IFERROR(E22/E33,"") | F44: =IFERROR(F22/F33,"")
A45: Midiônibus | C45: =IFERROR(C23/C34,"") | D45: =IFERROR(D23/D34,"") | E45: =IFERROR(E23/E34,"") | F45: =IFERROR(F23/F34,"")
...

Sheet 2.1.b Veículos
A1: 2.1.b Cálculo do Valor do Veículo Básico (VEC[básico])
A3: 2.1.b.i | B3: Valor do veículo novo por classe de veículo (VECz)
A4: Classe do veículo | D4: Sem ar condicionado | F4: Com ar condicionado
D5: Sem transmissão automática | E5: Com transmissão automática | F5: Sem transmissão automática | G5: Com transmissão automática
A6: Microônibus
A7: Miniônibus
A8: Midiônibus
A9: Ônibus básico
A10: Ônibus padron
A11: Ônibus articulado
A12: Ônibus biarticulado
A14: 2.1.b.ii | B14: Valor do investimento (veículos de apoio )
A15: Classificação do veículo | D15: Valor do veículo
A17: Caminhão-oficina | D17: 0
A18: Caminhão-guincho | D18: 0
A19: Caminhoneta | D19: 0
A20: Automóvel (básico) | D20: 0
A21: Motocicleta | D21: 0
A23: 2.1.b.iii | B23: Nominador para ponderação do VEC
A24: Classe do veículo | D24: Sem ar condicionado | F24: Com ar condicionado
D25: Sem transmissão automática | E25: Com transmissão automática | F25: Sem transmissão automática | G25: Com transmissão automática
A26: Microônibus | D26: =D6*'1.3 Frota Total'!C19 -> 0 | E26: =E6*'1.3 Frota Total'!D19 -> 0 | F26: =F6*'1.3 Frota Total'!E19 -> 0 | G26: =G6*'1.3 Frota Total'!F19 -> 0
A27: Miniônibus | D27: =D7*'1.3 Frota Total'!C20 -> 0 | E27: =E7*'1.3 Frota Total'!D20 -> 0 | F27: =F7*'1.3 Frota Total'!E20 -> 0 | G27: =G7*'1.3 Frota Total'!F20 -> 0
A28: Midiônibus | D28: =D8*'1.3 Frota Total'!C21 -> 0 | E28: =E8*'1.3 Frota Total'!D21 -> 0 | F28: =F8*'1.3 Frota Total'!E21 -> 0 | G28: =G8*'1.3 Frota Total'!F21 -> 0
A29: Ônibus básico | D29: 0 | E29: 0 | F29: 0 | G29: =G9*'1.3 Frota Total'!F22 -> 0
A30: Ônibus padron | D30: =D10*'1.3 Frota Total'!C23 -> 0 | E30: =E10*'1.3 Frota Total'!D23 -> 0 | F30: =F10*'1.3 Frota Total'!E23 -> 0 | G30: =G10*'1.3 Frota Total'!F23 -> 0
A31: Ônibus articulado | D31: =D11*'1.3 Frota Total'!C24 -> 0 | E31: =E11*'1.3 Frota Total'!D24 -> 0 | F31: =F11*'1.3 Frota Total'!E24 -> 0 | G31: =G11*'1.3 Frota Total'!F24 -> 0
A32: Ônibus biarticulado | D32: =D12*'1.3 Frota Total'!C25 -> 0 | E32: =E12*'1.3 Frota Total'!D25 -> 0 | F32: =F12*'1.3 Frota Total'!E25 -> 0 | G32: =G12*'1.3 Frota Total'!F25 -> 0
A34: 2.1.b.iv | B34: Denominador para ponderação do VEC
A35: Classe do veículo | D35: Sem ar condicionado | F35: Com ar condicionado
D36: Sem transmissão automática | E36: Com transmissão automática | F36: Sem transmissão automática | G36: Com transmissão automática
A37: Microônibus | D37: =IF(D26<>0,'1.3 Frota Total'!C19,"") | E37: =IF(E26<>0,'1.3 Frota Total'!D19,"") | F37: =IF(F26<>0,'1.3 Frota Total'!E19,"") | G37: =IF(G26<>0,'1.3 Frota Total'!F19,"")
A38: Miniônibus | D38: =IF(D27<>0,'1.3 Frota Total'!C20,"") | E38: =IF(E27<>0,'1.3 Frota Total'!D20,"") | F38: =IF(F27<>0,'1.3 Frota Total'!E20,"") | G38: =IF(G27<>0,'1.3 Frota Total'!F20,"")
A39: Midiônibus | D39: =IF(D28<>0,'1.3 Frota Total'!C21,"") | E39: =IF(E28<>0,'1.3 Frota Total'!D21,"") | F39: =IF(F28<>0,'1.3 Frota Total'!E21,"") | G39: =IF(G28<>0,'1.3 Frota Total'!F21,"")
A40: Ônibus básico | D40: =IF(D29<>0,'1.3 Frota Total'!C22,"") | E40: =IF(E29<>0,'1.3 Frota Total'!D22,"") | F40: =IF(F29<>0,'1.3 Frota Total'!E22,"") | G40: =IF(G29<>0,'1.3 Frota Total'!F22,"")
A41: Ônibus padron | D41: =IF(D30<>0,'1.3 Frota Total'!C23,"") | E41: =IF(E30<>0,'1.3 Frota Total'!D23,"") | F41: =IF(F30<>0,'1.3 Frota Total'!E23,"") | G41: =IF(G30<>0,'1.3 Frota Total'!F23,"")
A42: Ônibus articulado | D42: =IF(D31<>0,'1.3 Frota Total'!C24,"") | E42: =IF(E31<>0,'1.3 Frota Total'!D24,"") | F42: =IF(F31<>0,'1.3 Frota Total'!E24,"") | G42: =IF(G31<>0,'1.3 Frota Total'!F24,"")
A43: Ônibus biarticulado | D43: =IF(D32<>0,'1.3 Frota Total'!C25,"") | E43: =IF(E32<>0,'1.3 Frota Total'!D25,"") | F43: =IF(F32<>0,'1.3 Frota Total'!E25,"") | G43: =IF(G32<>0,'1.3 Frota Total'!F25,"")
A45: 2.1.b.v | B45: Valor do veículo novo por classe de veículo sem rodagem (VECz[Ø])
A46: Classe do veículo | D46: Sem ar condicionado | F46: Com ar condicionado
...

Sheet 2.1.c Insumos
B3: ¹ Deve-se preencher todas as celulas abaixo. Se não houver investimentos em determinados itens ou taxas e tributos, por exemplo, preenche-se com o valor zero. Caso a celula não seja preenchida com alguma valor adotar-se-á os valores de referência para o respectivo item
B4: ² Os valores de referência para os insumos abaixo estão descritos no Capítulo 3 da publicação "Cálculo dos Custos dos Serviços de Transporte Coletivo Urbano por Ônibus"
J7: Instrução de preenchimento
A8: 3.1. | B8: Óleo diesel (OLD)
C9: 3.1.1 | D9: Preço do óleo diesel ..................................................... | F9: 5.27 | H9: R$/litro | J9: Pesquisa de mercado
L10: Legenda
A11: 3.2. | B11: Lubrificantes (CLB)
C12: 3.2.1 | D12: Coeficiente de correlação do consumo de lubrificante relacionado ao consumo de óleo diesel .......................... | F12: ='A.IV. Lub.'!D7 -> 0.0265 | H12: litro/km | J12: Buscar valor na aba A.IV - Lubrificantes | N12: Entrada de dados
N13: Entrada de dados com valor de referência
A14: 3.3. | B14: ARLA 32 (ARL) | N14: Resultado
C15: 3.3.1 | D15: Preço do Arla 32 .......................................................... | F15: 1.97 | H15: R$/litro | J15: Pesquisa de mercado
C16: 3.3.2 | D16: Coeficiente de correlação do consumo do ARLA 32 relacionado ao preço do óleo diesel ............................... | F16: =AVERAGE('A.V. Arla32'!E6:F6) -> 0.04 | H16: adimensional | J16: Buscar valor no Anexo V
A18: 3.4. | B18: Rodagem (ROD) | D18: Verificar Anexo VI
C19: 3.4.1 | D19: Preço do pneu novo | E19: 215/75 R17,6 .............................. | F19: 0 | H19: R$/unidade | J19: Pesquisa de mercado
E20: 275/80 R22,6 .............................. | F20: 2493.43 | H20: R$/unidade | J20: Pesquisa de mercado
E21: 295/80 R22,6 .............................. | F21: 0 | H21: R$/unidade | J21: Pesquisa de mercado
C22: 3.4.2 | D22: Preço da recapagem | E22: 215/75 R17,6 .............................. | F22: 0 | H22: R$/unidade | J22: Pesquisa de mercado
E23: 275/80 R22,6 .............................. | F23: 745 | H23: R$/unidade | J23: Pesquisa de mercado
E24: 295/80 R22,6 .............................. | F24: 0 | H24: R$/unidade | J24: Pesquisa de mercado
A27: 3.5 | B27: Custos Ambientais (CAB)
C28: 3.5.1 | D28: Fator de correlação entre os custos ambientais e o preço médio do ônibus básico novo ............................... | F28: =AVERAGE('A.VIII. Custos ambientais'!E6:F6) -> 0.0125 | H28: adimensional | J28: Buscar valor no Anexo VIII
A30: 3.6 | B30: Veículo (VEC)
C31: 3.6.1 | D31: Preço médio ônibus básico novo ......................... | F31: ='2.1.b Veículos'!D58 -> 0 | H31: R$/veículo | J31: Buscar valor na aba 4.7.1.VEC
A33: 3.7 | B33: Salários e benefícios (SAB)
C34: 3.7.1 | D34: Salário do Motorista (SALmot) ....................................… | F34: 3407.8 | H34: R$/mês | J34: Valor praticado
C35: 3.7.2 | D35: Salário do Cobrador (SALcob) ....................................... | F35: 1960.2 | H35: R$/mês | J35: Valor praticado
C36: 3.7.3 | D36: Salário do Despachante (SALdes) ................................. | F36: 4136 | H36: R$/mês | J36: Valor praticado
C37: 3.7.4 | D37: Salário do Fiscal (SAL fisc) ................................. | F37: 2890.8 | H37: R$/mês
C38: 3.7.5 | D38: Benefícios do Motorista (BENmot) ................................. | F38: 1818.26 | H38: R$/mês | J38: Valor praticado
C39: 3.7.6 | D39: Benefícios do Cobrador (BENcob) ................................. | F39: 1536.78 | H39: R$/mês | J39: Valor praticado
C40: 3.7.7 | D40: Benefícios do Despachante (BENdes) ........................... | F40: 1959.85 | H40: R$/mês | J40: Valor praticado
C41: 3.7.8 | D41: Benefícios do Fiscal (BEN fisc) ........................... | F41: 1717.73 | H41: R$/mês
C42: 3.7.9 | D42: Fator de utilização dos Motoristas (FUTmot) .................. | F42: 2.63 | H42: adimensional | J42: Buscar valor no Anexo XII
C43: 3.7.10 | D43: Fator de utilização dos Cobradores (FUTcob) ................ | F43: =30/72 -> 0.41666667 | H43: adimensional | J43: Buscar valor no Anexo XII
C44: 3.7.11 | D44: Fator de utilização dos Despachantes (FUTdes) ............. | F44: 0 | H44: adimensional | J44: Buscar valor no Anexo XII
C45: 3.7.12 | D45: Fator de utilização dos Fiscais (FUT fisc)....................... | F45: 1 | H45: adimensional | J45: Buscar valor no Anexo XII
C46: 3.7.13 | D46: Fator de utilização físico dos Motoristas (FUFmot) .......... | F46: 2.63 | H46: adimensional | J46: Buscar valor no Anexo XII
C47: 3.7.14 | D47: Fator de utilização físico dos Cobradores (FUFcob) ........ | F47: =F43 -> 0.41666667 | H47: adimensional | J47: Buscar valor no Anexo XII
C48: 3.7.15 | D48: Fator de utilização físico dos Despachantes (FUFdes) .... | F48: 0 | H48: adimensional | J48: Buscar valor no Anexo XII
C49: 3.7.16 | D49: Fator de utilização físico dos Fiscais (FUF fisc)............... | F49: 1 | H49: adimensional | J49: Buscar valor no Anexo XII
...

Sheet 2.1. Custo Variável
A1: 2.1 | B1: Custo Variável | D1: R$ | E1: =SUM(E3:E8) -> #DIV/0!
B3: 2.1.1 | C3: Combustível (CMB) | D3: R$ | E3: ='2.1.c Insumos'!F9*'2.1.a Combustível'!C73 -> 0 | H3: Legenda
B4: 2.1.2 | C4: Lubrificantes (CLB) | D4: R$ | E4: ='2.1.c Insumos'!F9*'2.1.c Insumos'!F12*'1.4 Indicadores'!E9 -> 55373.207
B5: 2.1.3 | C5: ARLA 32 (CAR) | D5: R$ | E5: ='2.1.c Insumos'!F15*'2.1.c Insumos'!F16*'2.1.a Combustível'!C73 -> 0 | J5: Entrada de dados
B6: 2.1.4 | C6: Rodagem (CRD) | D6: R$ | E6: =('1.4 Indicadores'!E9/'1.4 Indicadores'!E16)*SUM('A.VI. Rodagem'!E54:F60) -> #DIV/0! | J6: Entrada de dados com valor de referência
B7: 2.1.5 | C7: Peças e Acessórios (CPA) | D7: R$ | E7: =((((SUM('1.3 Frota Total'!E31:H33)+SUM('1.3 Frota Total'!E37:H39)+SUM('1.3 Frota Total'!E43:H45)+SUM('1.3 Frota Total'!E52:H54)+SUM('1.3 Frota Total'!E61:H63)+SUM('1.3 Frota Total'!E72:H74)+SUM('1.3 Frota Total'!E85:H87))*'A.VII. Peças e acessórios '!F7)+((SUM('1.3 Frota Total'!E34:H35)+SUM('1.3 Frota Total'!E40:H41)+SUM('1.3 Frota Total'!E46:H47)+SUM('1.3 Frota Total'!E55:H56)+SUM('1.3 Frota Total'!E64:H65)+SUM('1.3 Frota Total'!E75:H76)+SUM('1.3 Frota Total'!E88:H89))*'A.VII. Peças e acessórios '!F8)+((SUM('1.3 Frota Total'!E36:H36)+SUM('1.3 Frota Total'!E42:H42)+SUM('1.3 Frota Total'!E48:H49)+SUM('1.3 Frota Total'!E57:H58)+SUM('1.3 Frota Total'!E66:H67)+SUM('1.3 Frota Total'!E77:H78)+SUM('1.3 Frota Total'!E90:H91))*'A.VII. Peças e acessórios '!F9)+((SUM('1.3 Frota Total'!E50:H51)+SUM('1.3 Frota Total'!E59:H60)+SUM('1.3 Frota Total'!E68:H69)+SUM('1.3 Frota Total'!E79:H80)+SUM('1.3 Frota Total'!E92:H93))*'A.VII. Peças e acessórios '!F10)+((SUM('1.3 Frota Total'!E70:H71)+SUM('1.3 Frota Total'!E81:H82)+SUM('1.3 Frota Total'!E94:H95))*'A.VII. Peças e acessórios '!F11)+((SUM('1.3 Frota Total'!E83:H84)+SUM('1.3 Frota Total'!E96:H97))*'A.VII. Peças e acessórios '!F12))*('2.1.b Veículos'!D58/12)) -> 0 | J7: Resultado
B8: 2.1.6 | C8: Custos Ambientais (CAB) | D8: R$ | E8: ='2.1.c Insumos'!F28*'2.1.b Veículos'!D58*'1.4 Indicadores'!E16/12 -> 0

Sheet 2.2 Custo Fixo
A1: 2.2 | B1: Custo Fixo | F1: R$ | H1: =H3+H10+H18+H22+H30+H31+H32 -> #DIV/0!
B3: 2.2.1. | C3: Depreciação (CDP) | F3: R$ | H3: =SUM(H4:H8) -> #DIV/0! | J3: Legenda
D4: 2.2.1.1 | E4: Veículos (DVE) | G4: R$ | H4: ='A.IX.a. Deprec. veículos'!G248 -> 0
D5: 2.2.1.2 | E5: Edificações e equipamentos de garagem (DED) | G5: R$ | H5: =((((IF('2.1.c Insumos'!F72="",'A.IX.b. Deprec. garagem equip. '!H13,'A.IX.b. Deprec. garagem equip. '!D13)))*(IF('2.1.c Insumos'!F73="",(1/'A.IX.b. Deprec. garagem equip. '!E8),(1/IF('2.1.c Insumos'!F73=0,'A.IX.b. Deprec. garagem equip. '!E8,'2.1.c Insumos'!F73)))))+(IF('2.1.c Insumos'!F75="",'A.IX.b. Deprec. garagem equip. '!H17,'A.IX.b. Deprec. garagem equip. '!D17))*(IF('2.1.c Insumos'!F76="",(1/'A.IX.b. Deprec. garagem equip. '!E9),(1/IF('2.1.c Insumos'!F76=0,'A.IX.b. Deprec. garagem equip. '!E9,'2.1.c Insumos'!F76)))))*'2.1.b Veículos'!D58*(SUM('1.3 Frota Total'!C19:F25))/12 -> #DIV/0! | L5: Entrada de dados
D6: 2.2.1.3 | E6: Equipamentos de bilhetagem e ITS (DEQ) | G6: R$ | H6: =(IF('2.1.c Insumos'!F78="",'A.IX.b. Deprec. garagem equip. '!H26,'A.IX.b. Deprec. garagem equip. '!D26))*(IF('2.1.c Insumos'!F79="",(1/'A.IX.b. Deprec. garagem equip. '!E22),(1/IF('2.1.c Insumos'!F79=0,'A.IX.b. Deprec. garagem equip. '!E22,'2.1.c Insumos'!F79))))*'2.1.b Veículos'!D58*(SUM('1.3 Frota Total'!C19:F25))/12 -> #DIV/0! | L6: Entrada de dados com valor de referência
D7: 2.2.1.4 | E7: Veículos de apoio (DVA) | G7: R$ | H7: =(('2.1.b Veículos'!D17*(1/'A.IX.b. Deprec. garagem equip. '!E31)*(1-'A.IX.b. Deprec. garagem equip. '!F31))+('2.1.b Veículos'!D18*(1/'A.IX.b. Deprec. garagem equip. '!E32)*(1-'A.IX.b. Deprec. garagem equip. '!F32))+('2.1.b Veículos'!D19*(1/'A.IX.b. Deprec. garagem equip. '!E33)*(1-'A.IX.b. Deprec. garagem equip. '!F33))+('2.1.b Veículos'!D20*(1/'A.IX.b. Deprec. garagem equip. '!E34)*(1-'A.IX.b. Deprec. garagem equip. '!F34))+('2.1.b Veículos'!D21*(1/'A.IX.b. Deprec. garagem equip. '!E35)*(1-'A.IX.b. Deprec. garagem equip. '!F35)))/12 -> 0 | L7: Resultado
D8: 2.2.1.5 | E8: Infraestrutura (DIN) | G8: R$ | H8: =IF('2.1.c Insumos'!F60=0,0,('2.1.c Insumos'!F61/(('2.1.c Insumos'!F60)*12))) -> 0
B10: 2.2.2. | C10: Remuneração do Capital Imobilizado (CRC) | F10: R$ | H10: =SUM(H11:H16) -> #DIV/0!
D11: 2.2.2.1 | E11: Veículos (RVE) | G11: R$ | H11: ='A.X.a. Remun. veículos '!G231 -> 0
D12: 2.2.2.2 | E12: Terrenos, edificações e equipamentos de garagem (RTE) | G12: R$ | H12: ='A.X.b. Remun. garagem equip.'!D20 -> #DIV/0!
D13: 2.2.2.3 | E13: Almoxarifado (RAL) | G13: R$ | H13: ='2.1.c Insumos'!F63*'2.1. Custo Variável'!E7*('2.1.c Insumos'!F68/100)/12 -> 0
D14: 2.2.2.4 | E14: Equipamentos de bilhetagem e ITS (REQ) | G14: R$ | H14: =IF('2.1.c Insumos'!F78="",('A.X.c. Remun. Eq. Bilhet. ITS'!D9*('2.1.c Insumos'!F68/100)*'2.1.b Veículos'!D58*SUM('1.3 Frota Total'!C19:F25)/12),('A.X.c. Remun. Eq. Bilhet. ITS'!D7*('2.1.c Insumos'!F68/100)*'2.1.b Veículos'!D58*SUM('1.3 Frota Total'!C19:F25)/12)) -> #DIV/0!
D15: 2.2.2.5 | E15: Veículos de apoio (RVA) | G15: R$ | H15: =SUM('1.3 Frota Total'!C19:F25)*'2.1.c Insumos'!F31*('2.1.c Insumos'!F68/100)*'A.X.d. Remun. Vec. Apoio'!D7/12 -> #DIV/0!
D16: 2.2.2.6 | E16: Infraestrutura (RIN) | G16: R$ | H16: ='2.1.c Insumos'!F61*('2.1.c Insumos'!F68/100)*'A.X.e. Remun. Infraes'!C7/12 -> 0
B18: 2.2.3. | C18: Custos com pessoal (CPS) | F18: R$ | H18: =SUM(H19:H20) -> 0
D19: 2.2.3.1 | E19: Operação (DOP) | G19: R$ | H19: =(((('2.1.c Insumos'!F34*'2.1.c Insumos'!F42)+('2.1.c Insumos'!F35*'2.1.c Insumos'!F43)+('2.1.c Insumos'!F36*'2.1.c Insumos'!F44)+('2.1.c Insumos'!F37*'2.1.c Insumos'!F45))*((1+('2.1.c Insumos'!F50/100)))+(('2.1.c Insumos'!F38*'2.1.c Insumos'!F46)+('2.1.c Insumos'!F39*'2.1.c Insumos'!F47)+('2.1.c Insumos'!F40*'2.1.c Insumos'!F48)+('2.1.c Insumos'!F41*'2.1.c Insumos'!F49)))*'1.4 Indicadores'!E17) -> 0
D20: 2.2.3.2 | E20: Pessoal de manutenção, administrativo e diretoria (DMA) | G20: R$ | H20: =H19*('2.1.c Insumos'!F51/100) -> 0
B22: 2.2.4. | C22: Despesas administrativas (CAD) | F22: R$ | H22: =SUM(H23:H27) -> 282078.82
D23: 2.2.4.1 | E23: Despesas gerais (CDG) | G23: R$ | H23: ='2.1.c Insumos'!F93/12 -> 207078.82
D24: 2.2.4.2 | E24: Seguro obrigatório e taxa de licenciamento (CDS) | G24: R$ | H24: =('2.1.c Insumos'!F54+'2.1.c Insumos'!F55)*SUM('1.3 Frota Total'!C19:F25)/12 -> 0
D25: 2.2.4.3 | E25: Seguro de responsabilidade civil facultativo (CDR) | G25: R$ | H25: ='2.1.c Insumos'!F56/12 -> 0
D26: 2.2.4.4 | E26: IPVA | G26: R$ | H26: ='2.1.c Insumos'!F57/12 -> 0
D27: 2.2.4.5 | E27: Outras despesas operacionais (CCM) | G27: R$ | H27: ='2.1.c Insumos'!F83 -> 75000
B30: 2.2.5. | C30: Locação dos equipamentos e sistemas de bilhetagem e ITS (CLQ) | F30: R$ | H30: =(1/12)*(('2.1.c Insumos'!F84*SUM('1.3 Frota Total'!C19:F25))+('2.1.c Insumos'!F85*'2.1.c Insumos'!F86)) -> 0
B31: 2.2.6. | C31: Locação de garagem (CLG) | F31: R$ | H31: ='2.1.c Insumos'!F87 -> 0
B32: 2.2.7. | C32: Locação de Veículos de Apoio (CLA) | F32: R$ | H32: ='2.1.c Insumos'!F88 -> 0

Sheet 2.3 RPS
A1: 2.3 | B1: Remuneração da prestação dos serviços (RPS) | F1: R$ | H1: =(H3+H5)*('2.1.c Insumos'!F91/100) -> #DIV/0!
B3: 2.3.1. | C3: Custo Variável | F3: R$ | H3: ='2.1. Custo Variável'!E1 -> #DIV/0! | J3: Legenda
B5: 2.3.2. | C5: Custo Fixo | F5: R$ | H5: ='2.2 Custo Fixo'!H1 -> #DIV/0! | L5: Entrada de dados
L6: Entrada de dados com valor de referência

Sheet 4. Custo Total
A1: 4. | B1: Cálculo do custo total mensal com impostos e tributos (CT) | F1: R$ | H1: =(H3+H5+H7)/(1-H9) -> #DIV/0!
B3: 2.1 | C3: Custo Variável | F3: R$ | H3: ='2.1. Custo Variável'!E1 -> #DIV/0! | J3: Legenda
B5: 2.2 | C5: Custo Fixo | F5: R$ | H5: ='2.2 Custo Fixo'!H1 -> #DIV/0! | L5: Entrada de dados
L6: Entrada de dados com valor de referência
B7: 2.3 | C7: Remuneração da prestação dos serviços (RPS) | F7: R$ | H7: ='2.3 RPS'!H1 -> #DIV/0! | L7: Resultado
B9: 2.4 | C9: Tributos Diretos (ITR) | H9: =SUM('2.1.c Insumos'!F96:F102)/100 -> 0.08

Sheet 4.1. Custo Pass. Transp.
A1: 4.1 | B1: Custo por Passageiro Transportado | F1: R$ | H1: =H3/H5 -> #DIV/0!
B3: 4.3.1 | C3: Custo total | F3: R$ | H3: ='4. Custo Total'!H1 -> #DIV/0! | J3: Legenda
B5: 4.3.2 | C5: Passageiros transportados | F5: R$ | H5: ='1.1. Passageiros'!D11 -> 1010000 | L5: Entrada de dados
L6: Entrada de dados com valor de referência
L7: Resultado

Sheet 4.2. Tarifa Pública
A1: 4.2 | B1: Tarifa Pública | F1: R$ | H1: =(H3-H7)/H5 -> #DIV/0!
B3: 4.2.1 | C3: Custo total | F3: R$ | H3: ='4. Custo Total'!H1 -> #DIV/0! | J3: Legenda
B5: 4.2.2 | C5: Passageiros pagantes | F5: R$ | H5: ='1.4 Indicadores'!E8 -> 702000 | L5: Entrada de dados
L6: Entrada de dados com valor de referência
B7: 4.2.3 | C7: Subsídio | F7: R$ | H7: ='2.1.c Insumos'!F105 -> 540000 | L7: Resultado

Sheet 5. Composição CT
B2: QUADRO RESUMO DOS CUSTOS (R$/MÊS)
B4: DESCRIÇÃO | J4: VALOR MENSAL | K4: CUSTO/KM | L4: CUSTO/VEÍCULO | M4: % | N4: % Custo Total
B5: CUSTOS VARIÁVEIS
B6: Combustível (CMB)......................................................................................................................... | J6: ='2.1. Custo Variável'!E3 -> 0 | K6: =J6/(IF('1.2. KM programada'!$D$7="x",SUM('1.2. KM programada'!$Q$16:$S$115),IF('1.2. KM programada'!$D$7="X",SUM('1.2. KM programada'!$Q$16:$S$115),'1.2. KM programada'!$D$10))) -> 0 | L6: =J6/SUM('1.3 Frota Total'!$C$19:$F$25) -> #DIV/0! | M6: =J6/$J$12 -> #DIV/0! | N6: =J6/$J$63 -> #DIV/0!
B7: Lubrificantes (CLB)...................................................................................................... | J7: ='2.1. Custo Variável'!E4 -> 55373.207 | K7: =J7/(IF('1.2. KM programada'!$D$7="x",SUM('1.2. KM programada'!$Q$16:$S$115),IF('1.2. KM programada'!$D$7="X",SUM('1.2. KM programada'!$Q$16:$S$115),'1.2. KM programada'!$D$10))) -> 0.139655 | L7: =J7/SUM('1.3 Frota Total'!$C$19:$F$25) -> #DIV/0! | M7: =J7/$J$12 -> #DIV/0! | N7: =J7/$J$63 -> #DIV/0!
B8: ARLA 32 (CAR)............................................................................................. | J8: ='2.1. Custo Variável'!E5 -> 0 | K8: =J8/(IF('1.2. KM programada'!$D$7="x",SUM('1.2. KM programada'!$Q$16:$S$115),IF('1.2. KM programada'!$D$7="X",SUM('1.2. KM programada'!$Q$16:$S$115),'1.2. KM programada'!$D$10))) -> 0 | L8: =J8/SUM('1.3 Frota Total'!$C$19:$F$25) -> #DIV/0! | M8: =J8/$J$12 -> #DIV/0! | N8: =J8/$J$63 -> #DIV/0!
B9: Material de rodagem (CRD)................................................................................................................................................ | J9: ='2.1. Custo Variável'!E6 -> #DIV/0! | K9: =J9/(IF('1.2. KM programada'!$D$7="x",SUM('1.2. KM programada'!$Q$16:$S$115),IF('1.2. KM programada'!$D$7="X",SUM('1.2. KM programada'!$Q$16:$S$115),'1.2. KM programada'!$D$10))) -> #DIV/0! | L9: =J9/SUM('1.3 Frota Total'!$C$19:$F$25) -> #DIV/0! | M9: =J9/$J$12 -> #DIV/0! | N9: =J9/$J$63 -> #DIV/0!
B10: Peças e acessórios (CPA)............................................................................... | J10: ='2.1. Custo Variável'!E7 -> 0 | K10: =J10/(IF('1.2. KM programada'!$D$7="x",SUM('1.2. KM programada'!$Q$16:$S$115),IF('1.2. KM programada'!$D$7="X",SUM('1.2. KM programada'!$Q$16:$S$115),'1.2. KM programada'!$D$10))) -> 0 | L10: =J10/SUM('1.3 Frota Total'!$C$19:$F$25) -> #DIV/0! | M10: =J10/$J$12 -> #DIV/0! | N10: =J10/$J$63 -> #DIV/0!
B11: Custos ambientais (CAB)...................................................................................... | J11: ='2.1. Custo Variável'!E8 -> 0 | K11: =J11/(IF('1.2. KM programada'!$D$7="x",SUM('1.2. KM programada'!$Q$16:$S$115),IF('1.2. KM programada'!$D$7="X",SUM('1.2. KM programada'!$Q$16:$S$115),'1.2. KM programada'!$D$10))) -> 0 | L11: =J11/SUM('1.3 Frota Total'!$C$19:$F$25) -> #DIV/0! | M11: =J11/$J$12 -> #DIV/0! | N11: =J11/$J$63 -> #DIV/0!
B12: TOTAL CUSTOS VARIÁVEIS | J12: =SUM(J6:J11) -> #DIV/0! | K12: =SUM(K6:K11) -> #DIV/0! | L12: =SUM(L6:L11) -> #DIV/0! | M12: =SUM(M6:M11) -> #DIV/0! | N12: =J12/$J$63 -> #DIV/0!
B13: CUSTOS FIXOS
B14: Pessoal
B15: Operação ............................................................................. | J15: ='2.2 Custo Fixo'!H19 -> 0 | K15: =J15/(IF('1.2. KM programada'!$D$7="x",SUM('1.2. KM programada'!$Q$16:$S$115),IF('1.2. KM programada'!$D$7="X",SUM('1.2. KM programada'!$Q$16:$S$115),'1.2. KM programada'!$D$10))) -> 0 | L15: =J15/SUM('1.3 Frota Total'!$C$19:$F$25) -> #DIV/0! | M15: =J15/$J$46 -> #DIV/0! | N15: =J15/$J$63 -> #DIV/0!
B16: Manutenção, administrativo e diretoria (DMA)............................................................... | J16: ='2.2 Custo Fixo'!H20 -> 0 | K16: =J16/(IF('1.2. KM programada'!$D$7="x",SUM('1.2. KM programada'!$Q$16:$S$115),IF('1.2. KM programada'!$D$7="X",SUM('1.2. KM programada'!$Q$16:$S$115),'1.2. KM programada'!$D$10))) -> 0 | L16: =J16/SUM('1.3 Frota Total'!$C$19:$F$25) -> #DIV/0! | M16: =J16/$J$46 -> #DIV/0! | N16: =J16/$J$63 -> #DIV/0!
B17: subtotal | J17: =SUM(J15:J16) -> 0 | K17: =SUM(K15:K16) -> 0 | L17: =SUM(L15:L16) -> #DIV/0! | M17: =SUM(M15:M16) -> #DIV/0! | N17: =J17/$J$63 -> #DIV/0!
B18: Administrativas
B19: Despesas gerais (CDG)..................................................................................................... | J19: ='2.2 Custo Fixo'!H23 -> 207078.82 | K19: =J19/(IF('1.2. KM programada'!$D$7="x",SUM('1.2. KM programada'!$Q$16:$S$115),IF('1.2. KM programada'!$D$7="X",SUM('1.2. KM programada'!$Q$16:$S$115),'1.2. KM programada'!$D$10))) -> 0.52226688 | L19: =J19/SUM('1.3 Frota Total'!$C$19:$F$25) -> #DIV/0! | M19: =J19/$J$46 -> #DIV/0! | N19: =J19/$J$63 -> #DIV/0!
B20: DPVAT e licenciamento (CDS).......................................................................................................................... | J20: ='2.2 Custo Fixo'!H24 -> 0 | K20: =J20/(IF('1.2. KM programada'!$D$7="x",SUM('1.2. KM programada'!$Q$16:$S$115),IF('1.2. KM programada'!$D$7="X",SUM('1.2. KM programada'!$Q$16:$S$115),'1.2. KM programada'!$D$10))) -> 0 | L20: =J20/SUM('1.3 Frota Total'!$C$19:$F$25) -> #DIV/0! | M20: =J20/$J$46 -> #DIV/0! | N20: =J20/$J$63 -> #DIV/0!
B21: IPVA............................................................................................................. | J21: ='2.2 Custo Fixo'!H26 -> 0 | K21: =J21/(IF('1.2. KM programada'!$D$7="x",SUM('1.2. KM programada'!$Q$16:$S$115),IF('1.2. KM programada'!$D$7="X",SUM('1.2. KM programada'!$Q$16:$S$115),'1.2. KM programada'!$D$10))) -> 0 | L21: =J21/SUM('1.3 Frota Total'!$C$19:$F$25) -> #DIV/0! | M21: =J21/$J$46 -> #DIV/0! | N21: =J21/$J$63 -> #DIV/0!
B22: Seguros (CRD).......................................................................................................... | J22: ='2.2 Custo Fixo'!H25 -> 0 | K22: =J22/(IF('1.2. KM programada'!$D$7="x",SUM('1.2. KM programada'!$Q$16:$S$115),IF('1.2. KM programada'!$D$7="X",SUM('1.2. KM programada'!$Q$16:$S$115),'1.2. KM programada'!$D$10))) -> 0 | L22: =J22/SUM('1.3 Frota Total'!$C$19:$F$25) -> #DIV/0! | M22: =J22/$J$46 -> #DIV/0! | N22: =J22/$J$63 -> #DIV/0!
B23: Outras despesas operacionais (CCM)......................................................................................... | J23: ='2.2 Custo Fixo'!H27 -> 75000 | K23: =J22/(IF('1.2. KM programada'!$D$7="x",SUM('1.2. KM programada'!$Q$16:$S$115),IF('1.2. KM programada'!$D$7="X",SUM('1.2. KM programada'!$Q$16:$S$115),'1.2. KM programada'!$D$10))) -> 0 | L23: =J23/SUM('1.3 Frota Total'!$C$19:$F$25) -> #DIV/0! | M23: =J23/$J$46 -> #DIV/0! | N23: =J23/$J$63 -> #DIV/0!
B24: subtotal | J24: =SUM(J19:J23) -> 282078.82 | K24: =SUM(K19:K23) -> 0.52226688 | L24: =SUM(L19:L23) -> #DIV/0! | M24: =SUM(M19:M23) -> #DIV/0! | N24: =J24/$J$63 -> #DIV/0!
B25: Depreciação
B26: Veículos da frota (DVE).............................................................................................. | J26: ='2.2 Custo Fixo'!H4 -> 0 | K26: =J26/(IF('1.2. KM programada'!$D$7="x",SUM('1.2. KM programada'!$Q$16:$S$115),IF('1.2. KM programada'!$D$7="X",SUM('1.2. KM programada'!$Q$16:$S$115),'1.2. KM programada'!$D$10))) -> 0 | L26: =J26/SUM('1.3 Frota Total'!$C$19:$F$25) -> #DIV/0! | M26: =J26/$J$46 -> #DIV/0! | N26: =J26/$J$63 -> #DIV/0!
B27: Edificações e equipamentos de garagem (DED).......................................................................................................... | J27: ='2.2 Custo Fixo'!H5 -> #DIV/0! | K27: =J27/(IF('1.2. KM programada'!$D$7="x",SUM('1.2. KM programada'!$Q$16:$S$115),IF('1.2. KM programada'!$D$7="X",SUM('1.2. KM programada'!$Q$16:$S$115),'1.2. KM programada'!$D$10))) -> #DIV/0! | L27: =J27/SUM('1.3 Frota Total'!$C$19:$F$25) -> #DIV/0! | M27: =J27/$J$46 -> #DIV/0! | N27: =J27/$J$63 -> #DIV/0!
B28: Equipamentos de bilhetagem e ITS (DEQ)..................................................................................... | J28: ='2.2 Custo Fixo'!H6 -> #DIV/0! | K28: =J28/(IF('1.2. KM programada'!$D$7="x",SUM('1.2. KM programada'!$Q$16:$S$115),IF('1.2. KM programada'!$D$7="X",SUM('1.2. KM programada'!$Q$16:$S$115),'1.2. KM programada'!$D$10))) -> #DIV/0! | L28: =J28/SUM('1.3 Frota Total'!$C$19:$F$25) -> #DIV/0! | M28: =J28/$J$46 -> #DIV/0! | N28: =J28/$J$63 -> #DIV/0!
B29: Veículos de apoio (DVA)..................................................................................................... | J29: ='2.2 Custo Fixo'!H7 -> 0 | K29: =J29/(IF('1.2. KM programada'!$D$7="x",SUM('1.2. KM programada'!$Q$16:$S$115),IF('1.2. KM programada'!$D$7="X",SUM('1.2. KM programada'!$Q$16:$S$115),'1.2. KM programada'!$D$10))) -> 0 | L29: =J29/SUM('1.3 Frota Total'!$C$19:$F$25) -> #DIV/0! | M29: =J29/$J$46 -> #DIV/0! | N29: =J29/$J$63 -> #DIV/0!
B30: Infraestrutura (DIN)......................................................................................... | J30: ='2.2 Custo Fixo'!H8 -> 0 | K30: =J30/(IF('1.2. KM programada'!$D$7="x",SUM('1.2. KM programada'!$Q$16:$S$115),IF('1.2. KM programada'!$D$7="X",SUM('1.2. KM programada'!$Q$16:$S$115),'1.2. KM programada'!$D$10))) -> 0 | L30: =J30/SUM('1.3 Frota Total'!$C$19:$F$25) -> #DIV/0! | M30: =J30/$J$46 -> #DIV/0! | N30: =J30/$J$63 -> #DIV/0!
B32: subtotal | J32: =SUM(J26:J30) -> #DIV/0! | K32: =SUM(K26:K30) -> #DIV/0! | L32: =SUM(L26:L30) -> #DIV/0! | M32: =SUM(M26:M30) -> #DIV/0! | N32: =J32/$J$63 -> #DIV/0!
B33: Remuneração
B34: Veículos da frota (RVE)....................................................................................................... | J34: ='2.2 Custo Fixo'!H11 -> 0 | K34: =J34/(IF('1.2. KM programada'!$D$7="x",SUM('1.2. KM programada'!$Q$16:$S$115),IF('1.2. KM programada'!$D$7="X",SUM('1.2. KM programada'!$Q$16:$S$115),'1.2. KM programada'!$D$10))) -> 0 | L34: =J34/SUM('1.3 Frota Total'!$C$19:$F$25) -> #DIV/0! | M34: =J34/$J$46 -> #DIV/0! | N34: =J34/$J$63 -> #DIV/0!
B35: Terrenos, edificações e equipamentos de garagem (RTE)............................................................................................................... | J35: ='2.2 Custo Fixo'!H12 -> #DIV/0! | K35: =J35/(IF('1.2. KM programada'!$D$7="x",SUM('1.2. KM programada'!$Q$16:$S$115),IF('1.2. KM programada'!$D$7="X",SUM('1.2. KM programada'!$Q$16:$S$115),'1.2. KM programada'!$D$10))) -> #DIV/0! | L35: =J35/SUM('1.3 Frota Total'!$C$19:$F$25) -> #DIV/0! | M35: =J35/$J$46 -> #DIV/0! | N35: =J35/$J$63 -> #DIV/0!
B36: Almoxarifado (RAL)............................................................................................. | J36: ='2.2 Custo Fixo'!H13 -> 0 | K36: =J36/(IF('1.2. KM programada'!$D$7="x",SUM('1.2. KM programada'!$Q$16:$S$115),IF('1.2. KM programada'!$D$7="X",SUM('1.2. KM programada'!$Q$16:$S$115),'1.2. KM programada'!$D$10))) -> 0 | L36: =J36/SUM('1.3 Frota Total'!$C$19:$F$25) -> #DIV/0! | M36: =J36/$J$46 -> #DIV/0! | N36: =J36/$J$63 -> #DIV/0!
B37: Equipamentos de bilhetagem e ITS (REQ).................................................................................... | J37: ='2.2 Custo Fixo'!H14 -> #DIV/0! | K37: =J37/(IF('1.2. KM programada'!$D$7="x",SUM('1.2. KM programada'!$Q$16:$S$115),IF('1.2. KM programada'!$D$7="X",SUM('1.2. KM programada'!$Q$16:$S$115),'1.2. KM programada'!$D$10))) -> #DIV/0! | L37: =J37/SUM('1.3 Frota Total'!$C$19:$F$25) -> #DIV/0! | M37: =J37/$J$46 -> #DIV/0! | N37: =J37/$J$63 -> #DIV/0!
B38: Veículos de apoio (RVA)................................................................................................ | J38: ='2.2 Custo Fixo'!H15 -> #DIV/0! | K38: =J38/(IF('1.2. KM programada'!$D$7="x",SUM('1.2. KM programada'!$Q$16:$S$115),IF('1.2. KM programada'!$D$7="X",SUM('1.2. KM programada'!$Q$16:$S$115),'1.2. KM programada'!$D$10))) -> #DIV/0! | L38: =J38/SUM('1.3 Frota Total'!$C$19:$F$25) -> #DIV/0! | M38: =J38/$J$46 -> #DIV/0! | N38: =J38/$J$63 -> #DIV/0!
B39: Infraestrutura (RIN)................................................................................................ | J39: ='2.2 Custo Fixo'!H16 -> 0 | K39: =J39/(IF('1.2. KM programada'!$D$7="x",SUM('1.2. KM programada'!$Q$16:$S$115),IF('1.2. KM programada'!$D$7="X",SUM('1.2. KM programada'!$Q$16:$S$115),'1.2. KM programada'!$D$10))) -> 0 | L39: =J39/SUM('1.3 Frota Total'!$C$19:$F$25) -> #DIV/0! | M39: =J39/$J$46 -> #DIV/0! | N39: =J39/$J$63 -> #DIV/0!
B40: subtotal | J40: =SUM(J34:J39) -> #DIV/0! | K40: =SUM(K34:K39) -> #DIV/0! | L40: =SUM(L34:L39) -> #DIV/0! | M40: =SUM(M34:M39) -> #DIV/0! | N40: =J40/$J$63 -> #DIV/0!
B41: Outras despesas
B42: Locação dos equipamentos e sistemas de bilhetagem e ITS (CLQ)............................................................. | J42: ='2.2 Custo Fixo'!H30 -> 0 | K42: =J42/(IF('1.2. KM programada'!$D$7="x",SUM('1.2. KM programada'!$Q$16:$S$115),IF('1.2. KM programada'!$D$7="X",SUM('1.2. KM programada'!$Q$16:$S$115),'1.2. KM programada'!$D$10))) -> 0 | L42: =J42/SUM('1.3 Frota Total'!$C$19:$F$25) -> #DIV/0! | M42: =J42/$J$46 -> #DIV/0! | N42: =J42/$J$63 -> #DIV/0!
B43: Locação de garagem (CLG)....................................................................................................................... | J43: ='2.2 Custo Fixo'!H31 -> 0 | K43: =J43/(IF('1.2. KM programada'!$D$7="x",SUM('1.2. KM programada'!$Q$16:$S$115),IF('1.2. KM programada'!$D$7="X",SUM('1.2. KM programada'!$Q$16:$S$115),'1.2. KM programada'!$D$10))) -> 0 | L43: =J43/SUM('1.3 Frota Total'!$C$19:$F$25) -> #DIV/0! | M43: =J43/$J$46 -> #DIV/0! | N43: =J43/$J$63 -> #DIV/0!
...

Sheet A.III. Combustível
A1: ANEXO III – Consumo de combustível
A3: III.a Valores de referência (litros/km)*
C5: σz[mínimo] | D5: σz[máximo] | G5: Legenda
B6: Micro-ônibus | C6: 0.24 | D6: 0.29
B7: Miniônibus | C7: 0.3 | D7: 0.34 | I7: Entrada de dados
A8: Classe | B8: Midiônibus | C8: 0.34 | D8: 0.38 | I8: Entrada de dados com valor de referência
A9: De | B9: Ônibus básico | C9: 0.37 | D9: 0.45 | I9: Resultado
A10: Veículo | B10: Ônibus padron | C10: 0.45 | D10: 0.65
B11: Ônibus articulado | C11: 0.65 | D11: 0.85
B12: Ônibus biarticulado | C12: 0.86 | D12: 0.95
A15: *esses valores se referem a veículos operando sem ar-condicionado e sem transmissão automática.

Sheet A.IV. Lub.
A1: ANEXO IV – RELAÇÃO ENTRE O PREÇO DE LUBRIFICANTES E CONSUMO DE ÓLEO DIESEL
A3: IV.a Valor de referência
A5: coeficiente de correlação do consumo de lubrificante relacionado ao consumo do óleo diesel | D5: j | E5: médio | G5: Legenda
D7: 0.0265 | E7: l/km | I7: Entrada de dados
I8: Entrada de dados com valor de referência
I9: Resultado

Sheet A.V. Arla32
A1: ANEXO V – CONSUMO DO ARLA 32 EM ÔNIBUS
A3: V.a | B3: Valores de referência para Consumo do Arla 32 em ônibus
A5: Consumo do Arla 32 | E5: δ [minimo] | F5: δ [máximo] | H5: Legenda
E6: 0.03 | F6: 0.05
J7: Entrada de dados
J8: Entrada de dados com valor de referência
J9: Resultado

Sheet A.VI. Rodagem
A1: ANEXO VI – VIDA ÚTIL E RECAPAGEM DE PNEUS
A3: VI.a. | B3: Valores de Referência de número de recapagens
A4: βMinimo | D4: 2 | J4: Legenda
A5: βMáximo | D5: 2.5
L6: Entrada de dados
A7: VI.b. | B7: Valores de Referência para vida útil dos pneus | L7: Entrada de dados com valor de referência
A8: Classe do veículo | D8: PNUz Mínimo | E8: PNUz Máximo | L8: Resultado
A10: Microônibus | D10: 85000 | E10: 125000 | G10: km
A11: Miniônibus | D11: 85000 | E11: 125000
A12: Midiônibus | D12: 85000 | E12: 125000
A13: Ônibus básico | D13: 85000 | E13: 105000
A14: Ônibus padron | D14: 85000 | E14: 125000
A15: Ônibus articulado | D15: 85000 | E15: 125000
A16: Ônibus biarticulado | D16: 85000 | E16: 125000
A18: VI.c. | B18: Especificações de pneus por classe de veículo
A19: Classe do veículo | D19: Dimensões | E19: Tipo | G19: Número de Pneus (NP)
A21: Microônibus | D21: 215/75 R17,5 | E21: Radiais sem câmara | G21: 6 | H21: pneus
A22: Miniônibus | D22: 215/75 R17,5 | G22: 6
A23: Midiônibus | D23: 275/80 R22,5 | G23: 6
A24: Ônibus básico | D24: 275/80 R22,5 | G24: 6
A25: Ônibus padron | D25: 295/80 R22,5 | G25: 6
A26: Ônibus articulado | D26: 295/80 R22,5 | G26: 10
A27: Ônibus biarticulado | D27: 295/80 R22,5 | G27: 14
A29: VI.d. | B29: Custo da recapagem por estrato da frota
A30: Classe do veículo | D30: Número de recapagens (β) | E30: Custo da recapagem (RECz)
A32: Microônibus | D32: =$D$5 -> 2.5 | E32: =G21*D32*'2.1.c Insumos'!$F$22 -> 0
A33: Miniônibus | D33: =$D$5 -> 2.5 | E33: =G22*D33*'2.1.c Insumos'!$F$22 -> 0
A34: Midiônibus | D34: =$D$5 -> 2.5 | E34: =G23*D34*'2.1.c Insumos'!$F$23 -> 11175
A35: Ônibus básico | D35: =$D$5 -> 2.5 | E35: =G24*D35*'2.1.c Insumos'!$F$23 -> 11175
A36: Ônibus padron | D36: =$D$5 -> 2.5 | E36: =G25*D36*'2.1.c Insumos'!$F$24 -> 0
A37: Ônibus articulado | D37: =$D$5 -> 2.5 | E37: =G26*D37*'2.1.c Insumos'!$F$24 -> 0
A38: Ônibus biarticulado | D38: =$D$5 -> 2.5 | E38: =G27*D38*'2.1.c Insumos'!$F$24 -> 0
A40: VI.e. | B40: Custo do pneu novo por estrato da frota
A41: Classe do veículo | D41: Custo de pneus (PNUz)
J42: Legenda
A43: Microônibus | D43: =G21*'2.1.c Insumos'!$F$19 -> 0
A44: Miniônibus | D44: =G22*'2.1.c Insumos'!$F$19 -> 0 | L44: Entrada de dados
A45: Midiônibus | D45: =G23*'2.1.c Insumos'!$F$20 -> 14960.58 | L45: Entrada de dados com valor de referência
A46: Ônibus básico | D46: =G24*'2.1.c Insumos'!$F$20 -> 14960.58 | L46: Resultado
A47: Ônibus padron | D47: =G25*'2.1.c Insumos'!$F$21 -> 0
...

Sheet A.VII. Peças e acessórios 
A1: ANEXO VII – PEÇAS E ACESSÓRIOS
A3: VII.a | B3: Valores de referência para consumo anual de peças e acessórios
B5: Consumo de Peças e Acessórios | F5: μ | H5: Legenda
B6: Faixa etária (t)
B7: 0 a 2 anos | F7: 0.06 | J7: Entrada de dados
B8: 3 a 4 anos | F8: 0.07 | J8: Entrada de dados com valor de referência
B9: 5 a 6 anos | F9: 0.08 | J9: Resultado
B10: 7 a 8 anos | F10: 0.09
B11: 9 a 10 anos | F11: 0.1
B12: acima de 10 anos | F12: 0.12

Sheet A.VIII. Custos ambientais
A1: ANEXO VIII – CUSTOS AMBIENTAIS
A3: VIII.a | B3: Valores de referência para custos ambientais
A5: Custos ambientais | E5: α [minimo] | F5: α [máximo] | H5: Legenda
E6: 0.01 | F6: 0.015
J7: Entrada de dados
J8: Entrada de dados com valor de referência
J9: Resultado

Sheet A.IX.a. Deprec. veículos
A1: ANEXO IX – DEPRECIAÇÃO
A3: IX.a. Depreciação de veículos
A5: IX.a.1 | B5: Valores de referência para vida útil e valor residual por tipo de veículo
A6: Classe do veículo | E6: Vida Útil (Anos) | F6: Valor Residual (%) | K6: Legenda
A8: Microônibus | E8: 5 | F8: 0.15 | M8: Entrada de dados
A9: Miniônibus | M9: Entrada de dados com valor de referência
A10: Midiônibus | E10: 8 | F10: 0.1 | M10: Resultado
A11: Ônibus básico
A12: Ônibus padron | E12: 10 | F12: 0.1
A13: Ônibus articulado | E13: 12 | F13: 0.05
A14: Ônibus biarticulado
A16: IX.a.2 | B16: Fatores anuais de depreciação de veículos (λz^[t])
A17: Faixa etária (t) anos | D17: Microônibus e Miniônibus | E17: Midiônibus e Básico | F17: Padron | G17: Articulado e Biarticulado
A19: 0 | B19: - | C19: 1 | D19: =(1-$F$8)*($E$8-C19+1)/15 -> 0.28333333 | E19: =(1-$F$10)*($E$10-C19+1)/36 -> 0.2 | F19: =(1-$F$12)*($E$12-C19+1)/55 -> 0.16363636 | G19: =(1-$F$13)*($E$13-C19+1)/78 -> 0.14615385
A20: 1 | B20: - | C20: 2 | D20: =(1-$F$8)*($E$8-C20+1)/15 -> 0.22666667 | E20: =(1-$F$10)*($E$10-C20+1)/36 -> 0.175 | F20: =(1-$F$12)*($E$12-C20+1)/55 -> 0.14727273 | G20: =(1-$F$13)*($E$13-C20+1)/78 -> 0.13397436
A21: 2 | B21: - | C21: 3 | D21: =(1-$F$8)*($E$8-C21+1)/15 -> 0.17 | E21: =(1-$F$10)*($E$10-C21+1)/36 -> 0.15 | F21: =(1-$F$12)*($E$12-C21+1)/55 -> 0.13090909 | G21: =(1-$F$13)*($E$13-C21+1)/78 -> 0.12179487
A22: 3 | B22: - | C22: 4 | D22: =(1-$F$8)*($E$8-C22+1)/15 -> 0.11333333 | E22: =(1-$F$10)*($E$10-C22+1)/36 -> 0.125 | F22: =(1-$F$12)*($E$12-C22+1)/55 -> 0.11454545 | G22: =(1-$F$13)*($E$13-C22+1)/78 -> 0.10961538
A23: 4 | B23: - | C23: 5 | D23: =(1-$F$8)*($E$8-C23+1)/15 -> 0.056666667 | E23: =(1-$F$10)*($E$10-C23+1)/36 -> 0.1 | F23: =(1-$F$12)*($E$12-C23+1)/55 -> 0.098181818 | G23: =(1-$F$13)*($E$13-C23+1)/78 -> 0.097435897
A24: 5 | B24: - | C24: 6 | D24: =(1-$F$8)*($E$8-C24+1)/15 -> 0 | E24: =(1-$F$10)*($E$10-C24+1)/36 -> 0.075 | F24: =(1-$F$12)*($E$12-C24+1)/55 -> 0.081818182 | G24: =(1-$F$13)*($E$13-C24+1)/78 -> 0.08525641
A25: 6 | B25: - | C25: 7 | E25: =(1-$F$10)*($E$10-C25+1)/36 -> 0.05 | F25: =(1-$F$12)*($E$12-C25+1)/55 -> 0.065454545 | G25: =(1-$F$13)*($E$13-C25+1)/78 -> 0.073076923
A26: 7 | B26: - | C26: 8 | E26: =(1-$F$10)*($E$10-C26+1)/36 -> 0.025 | F26: =(1-$F$12)*($E$12-C26+1)/55 -> 0.049090909 | G26: =(1-$F$13)*($E$13-C26+1)/78 -> 0.060897436
A27: 8 | B27: - | C27: 9 | E27: =(1-$F$10)*($E$10-C27+1)/36 -> 0 | F27: =(1-$F$12)*($E$12-C27+1)/55 -> 0.032727273 | G27: =(1-$F$13)*($E$13-C27+1)/78 -> 0.048717949
A28: 9 | B28: - | C28: 10 | F28: =(1-$F$12)*($E$12-C28+1)/55 -> 0.016363636 | G28: =(1-$F$13)*($E$13-C28+1)/78 -> 0.036538462
A29: 10 | B29: - | C29: 11 | F29: =(1-$F$12)*($E$12-C29+1)/55 -> 0 | G29: =(1-$F$13)*($E$13-C29+1)/78 -> 0.024358974
A30: 11 | B30: - | C30: 12 | G30: =(1-$F$13)*($E$13-C30+1)/78 -> 0.012179487
B31: > | C31: 12 | G31: =(1-$F$13)*($E$13-C31)/78 -> 0
A33: IX.a.3 | B33: Número de veículos por classe e idade
A34: Classe do veículo | E34: Idade do veículo | F34: Sem ar condicionado | H34: Com ar condicionado
F35: Sem transmissão automática | G35: Com transmissão automática | H35: Sem transmissão automática | I35: Com transmissão automática
A36: Microônibus | E36: 0 | F36: ='1.3 Frota Total'!E31 -> 0 | G36: ='1.3 Frota Total'!F31 -> 0 | H36: ='1.3 Frota Total'!G31 -> 0 | I36: ='1.3 Frota Total'!H31 -> 0
E37: 1 | F37: ='1.3 Frota Total'!E32 -> 0 | G37: ='1.3 Frota Total'!F32 -> 0 | H37: ='1.3 Frota Total'!G32 -> 0 | I37: ='1.3 Frota Total'!H32 -> 0
E38: 2 | F38: ='1.3 Frota Total'!E33 -> 0 | G38: ='1.3 Frota Total'!F33 -> 0 | H38: ='1.3 Frota Total'!G33 -> 0 | I38: ='1.3 Frota Total'!H33 -> 0
E39: 3 | F39: ='1.3 Frota Total'!E34 -> 0 | G39: ='1.3 Frota Total'!F34 -> 0 | H39: ='1.3 Frota Total'!G34 -> 0 | I39: ='1.3 Frota Total'!H34 -> 0
E40: 4 | F40: ='1.3 Frota Total'!E35 -> 0 | G40: ='1.3 Frota Total'!F35 -> 0 | H40: ='1.3 Frota Total'!G35 -> 0 | I40: ='1.3 Frota Total'!H35 -> 0
E41: 5 | F41: ='1.3 Frota Total'!E36 -> 0 | G41: ='1.3 Frota Total'!F36 -> 0 | H41: ='1.3 Frota Total'!G36 -> 0 | I41: ='1.3 Frota Total'!H36 -> 0
A42: Miniônibus | E42: 0 | F42: ='1.3 Frota Total'!E37 -> 0 | G42: ='1.3 Frota Total'!F37 -> 0 | H42: ='1.3 Frota Total'!G37 -> 0 | I42: ='1.3 Frota Total'!H37 -> 0
E43: 1 | F43: ='1.3 Frota Total'!E38 -> 0 | G43: ='1.3 Frota Total'!F38 -> 0 | H43: ='1.3 Frota Total'!G38 -> 0 | I43: ='1.3 Frota Total'!H38 -> 0
E44: 2 | F44: ='1.3 Frota Total'!E39 -> 0 | G44: ='1.3 Frota Total'!F39 -> 0 | H44: ='1.3 Frota Total'!G39 -> 0 | I44: ='1.3 Frota Total'!H39 -> 0
E45: 3 | F45: ='1.3 Frota Total'!E40 -> 0 | G45: ='1.3 Frota Total'!F40 -> 0 | H45: ='1.3 Frota Total'!G40 -> 0 | I45: ='1.3 Frota Total'!H40 -> 0
E46: 4 | F46: ='1.3 Frota Total'!E41 -> 0 | G46: ='1.3 Frota Total'!F41 -> 0 | H46: ='1.3 Frota Total'!G41 -> 0 | I46: ='1.3 Frota Total'!H41 -> 0
...

Sheet A.IX.b. Deprec. garagem equip. 
A1: ANEXO IX – DEPRECIAÇÃO
A3: IX.b. Depreciação de edificações e equipamentos e mobiliário de garagem | M3: Legenda
A5: IX.b.1 | B5: Valores de referência para vida útil e valor residual das edificações e equipamentos de garagem | O5: Entrada de dados
O6: Entrada de dados com valor de referência
E7: Vida Útil (Anos) | F7: Valor Residual (%) | O7: Resultado
A8: Edificações | E8: 25 | F8: 10
A9: Equipamentos de garagem | E9: 10 | F9: 0
A11: IX.b.2 | B11: Coeficiente de depreciação das edificações (ϖ)
B13: ϖ= | D13: =IF('2.1.c Insumos'!F72="","Preencher CIE em Dados de Insumo",'2.1.c Insumos'!F72*(IF('2.1.c Insumos'!F74="",(1-'A.IX.b. Deprec. garagem equip. '!F8/100),(1-'2.1.c Insumos'!F74/100)))/(('2.1.b Veículos'!D58*SUM('1.3 Frota Total'!C19:F25)))) -> #DIV/0! | G13: ϖ= | H13: =8.16/100 -> 0.0816
A15: IX.b.3 | B15: Coeficiente de depreciação dos equipamentos (τ)
B17: τ= | D17: =IF('2.1.c Insumos'!F75="","Preencher CIG em Dados de Insumo",'2.1.c Insumos'!F75*(IF('2.1.c Insumos'!F77="",(1-'A.IX.b. Deprec. garagem equip. '!F9/100),(1-'2.1.c Insumos'!F77/100)))/(('2.1.b Veículos'!D58*SUM('1.3 Frota Total'!C19:F25)))) -> #DIV/0! | G17: τ= | H17: =2.74/100 -> 0.0274
A19: IX.b.4 | B19: Valores de referência para vida útil dos equipamentos de bilhetagem e ITS
A21: Equip. Bilhetagem e ITS | E21: Vida Útil (Anos) | F21: Valor Residual (%)
E22: 5 | F22: 0
A24: IX.b.5 | B24: Coeficiente de depreciação dos equipamentos de bilhetagem e ITS (χ)
B26: χ= | D26: =IF('2.1.c Insumos'!F78="","Preencher CEB em Dados de Insumo",'2.1.c Insumos'!F78*(IF('2.1.c Insumos'!F80="",(1-'A.IX.b. Deprec. garagem equip. '!F22/100),(1-'2.1.c Insumos'!F80/100)))/(('2.1.b Veículos'!D58*SUM('1.3 Frota Total'!C19:F25)))) -> #DIV/0! | G26: χ= | H26: 0.04
A28: IX.b.6 | B28: Valores de referência para vida útil e valor residual dos veículos de apoio
A30: Veículos de apoio | E30: Vida Útil (Anos) | F30: Valor Residual
A31: Caminhão-oficina | E31: 15 | F31: 0.1
A32: Caminhão-guincho | E32: 15 | F32: 0.1
A33: Caminhoneta | E33: 8 | F33: 0.15
A34: Automóvel (básico) | E34: 5 | F34: 0.2
A35: Motocicleta | E35: 5 | F35: 0.2

Sheet A.X.a. Remun. veículos 
A1: ANEXO X – REMUNERAÇÃO DO CAPITAL IMOBILIZADO
A3: X.a | B3: Remuneração do capital imobilizado em veículos
A5: X.a.1 | B5: Valores de referência para vida útil e valor residual por tipo de veículo
A6: Classe do veículo | E6: Vida Útil (Anos) | F6: Valor Residual (%) | L6: Legenda
A8: Microônibus | E8: 5 | F8: 0.15 | N8: Entrada de dados
A9: Miniônibus | E9: 5 | F9: 0.15 | N9: Entrada de dados com valor de referência
A10: Midiônibus | E10: 8 | F10: 0.1 | N10: Resultado
A11: Ônibus básico | E11: 8 | F11: 0.1
A12: Ônibus padron | E12: 10 | F12: 0.1
A13: Ônibus articulado | E13: 12 | F13: 0.05
A14: Ônibus biarticulado | E14: 12 | F14: 0.05
A16: X.a.2 | B16: Número de veículos por classe e idade
A17: Classe do veículo | E17: Idade do veículo | F17: Sem ar condicionado | H17: Com ar condicionado | J17: κz [t]
F18: Sem transmissão automática | G18: Com transmissão automática | H18: Sem transmissão automática | I18: Com transmissão automática
A19: Microônibus | E19: 0 | F19: ='1.3 Frota Total'!E31 -> 0 | G19: ='1.3 Frota Total'!F31 -> 0 | H19: ='1.3 Frota Total'!G31 -> 0 | I19: ='1.3 Frota Total'!H31 -> 0 | J19: 1
E20: 1 | F20: ='1.3 Frota Total'!E32 -> 0 | G20: ='1.3 Frota Total'!F32 -> 0 | H20: ='1.3 Frota Total'!G32 -> 0 | I20: ='1.3 Frota Total'!H32 -> 0 | J20: =1-'A.IX.a. Deprec. veículos'!D19 -> 0.71666667
E21: 2 | F21: ='1.3 Frota Total'!E33 -> 0 | G21: ='1.3 Frota Total'!F33 -> 0 | H21: ='1.3 Frota Total'!G33 -> 0 | I21: ='1.3 Frota Total'!H33 -> 0 | J21: =1-SUM('A.IX.a. Deprec. veículos'!D19:D20) -> 0.49
E22: 3 | F22: ='1.3 Frota Total'!E34 -> 0 | G22: ='1.3 Frota Total'!F34 -> 0 | H22: ='1.3 Frota Total'!G34 -> 0 | I22: ='1.3 Frota Total'!H34 -> 0 | J22: =1-SUM('A.IX.a. Deprec. veículos'!D19:D21) -> 0.32
E23: 4 | F23: ='1.3 Frota Total'!E35 -> 0 | G23: ='1.3 Frota Total'!F35 -> 0 | H23: ='1.3 Frota Total'!G35 -> 0 | I23: ='1.3 Frota Total'!H35 -> 0 | J23: =1-SUM('A.IX.a. Deprec. veículos'!D19:D22) -> 0.20666667
E24: 5 | F24: ='1.3 Frota Total'!E36 -> 0 | G24: ='1.3 Frota Total'!F36 -> 0 | H24: ='1.3 Frota Total'!G36 -> 0 | I24: ='1.3 Frota Total'!H36 -> 0 | J24: =1-SUM('A.IX.a. Deprec. veículos'!D19:D23) -> 0.15
A25: Miniônibus | E25: 0 | F25: ='1.3 Frota Total'!E37 -> 0 | G25: ='1.3 Frota Total'!F37 -> 0 | H25: ='1.3 Frota Total'!G37 -> 0 | I25: ='1.3 Frota Total'!H37 -> 0 | J25: 1
E26: 1 | F26: ='1.3 Frota Total'!E38 -> 0 | G26: ='1.3 Frota Total'!F38 -> 0 | H26: ='1.3 Frota Total'!G38 -> 0 | I26: ='1.3 Frota Total'!H38 -> 0 | J26: =1-'A.IX.a. Deprec. veículos'!D19 -> 0.71666667
E27: 2 | F27: ='1.3 Frota Total'!E39 -> 0 | G27: ='1.3 Frota Total'!F39 -> 0 | H27: ='1.3 Frota Total'!G39 -> 0 | I27: ='1.3 Frota Total'!H39 -> 0 | J27: =1-SUM('A.IX.a. Deprec. veículos'!D19:D20) -> 0.49
E28: 3 | F28: ='1.3 Frota Total'!E40 -> 0 | G28: ='1.3 Frota Total'!F40 -> 0 | H28: ='1.3 Frota Total'!G40 -> 0 | I28: ='1.3 Frota Total'!H40 -> 0 | J28: =1-SUM('A.IX.a. Deprec. veículos'!D19:D21) -> 0.32
E29: 4 | F29: ='1.3 Frota Total'!E41 -> 0 | G29: ='1.3 Frota Total'!F41 -> 0 | H29: ='1.3 Frota Total'!G41 -> 0 | I29: ='1.3 Frota Total'!H41 -> 0 | J29: =1-SUM('A.IX.a. Deprec. veículos'!D19:D22) -> 0.20666667
E30: 5 | F30: ='1.3 Frota Total'!E42 -> 0 | G30: ='1.3 Frota Total'!F42 -> 0 | H30: ='1.3 Frota Total'!G42 -> 0 | I30: ='1.3 Frota Total'!H42 -> 0 | J30: =1-SUM('A.IX.a. Deprec. veículos'!D19:D23) -> 0.15
A31: Midiônibus | E31: 0 | F31: ='1.3 Frota Total'!E43 -> 0 | G31: ='1.3 Frota Total'!F43 -> 0 | H31: ='1.3 Frota Total'!G43 -> 0 | I31: ='1.3 Frota Total'!H43 -> 0 | J31: 1
E32: 1 | F32: ='1.3 Frota Total'!E44 -> 0 | G32: ='1.3 Frota Total'!F44 -> 0 | H32: ='1.3 Frota Total'!G44 -> 0 | I32: ='1.3 Frota Total'!H44 -> 0 | J32: =1-'A.IX.a. Deprec. veículos'!E19 -> 0.8
E33: 2 | F33: ='1.3 Frota Total'!E45 -> 0 | G33: ='1.3 Frota Total'!F45 -> 0 | H33: ='1.3 Frota Total'!G45 -> 0 | I33: ='1.3 Frota Total'!H45 -> 0 | J33: =1-SUM('A.IX.a. Deprec. veículos'!E19:E20) -> 0.625
E34: 3 | F34: ='1.3 Frota Total'!E46 -> 0 | G34: ='1.3 Frota Total'!F46 -> 0 | H34: ='1.3 Frota Total'!G46 -> 0 | I34: ='1.3 Frota Total'!H46 -> 0 | J34: =1-SUM('A.IX.a. Deprec. veículos'!E19:E21) -> 0.475
E35: 4 | F35: ='1.3 Frota Total'!E47 -> 0 | G35: ='1.3 Frota Total'!F47 -> 0 | H35: ='1.3 Frota Total'!G47 -> 0 | I35: ='1.3 Frota Total'!H47 -> 0 | J35: =1-SUM('A.IX.a. Deprec. veículos'!E19:E22) -> 0.35
E36: 5 | F36: ='1.3 Frota Total'!E48 -> 0 | G36: ='1.3 Frota Total'!F48 -> 0 | H36: ='1.3 Frota Total'!G48 -> 0 | I36: ='1.3 Frota Total'!H48 -> 0 | J36: =1-SUM('A.IX.a. Deprec. veículos'!E19:E23) -> 0.25
