Workbook
Name ASDF: ROUND(#REF!,15-13*#REF!)
Name Dados.Lista.BDI: [1]DADOS!$T$37:$X$37
Name Import.DataBase: [1]DADOS!$A$38
Name PO.PrecoUnitario: ROUND(#REF!,15-13*#REF!)
Name PO.Quantidade: ROUND(#REF!,15-13*#REF!)

Sheet ESCADA
E2: PREFEITURA DO MUNICÍPIO DE ITAPECERICA DA SERRA SECRETARIA MUNICIPAL DE SERVIÇOS URBANOS
D3: Orçamento Estimado
D4: Obra: Reparo Viela Antonio Piu
D5: LOCAL: Viela Antônio Piu - Jardim das Oliveiras
D6: 23°45'12.5"S 46°48'37.7"W
I10: BDI | J10: 0.2338 | K10: =TODAY() -> 45951
B11: Tabela | C11: Código | D11: Item | E11: ESPECIFICAÇÃO DOS SERVIÇOS | F11: Unid. | G11: Quant. | H11: Memória de Cálculo | I11: Custo Unit. | J11: P Unit. | K11: Valor Total
D12: 1.0 | E12: REFORMA DA VIELA
B14: =VLOOKUP($C14,[2]Plan1!$A$1:$E$40000,5,0) -> CDHU 198 | C14: 17.01.020 | D14: 1.1 | E14: =VLOOKUP($C14,[2]Plan1!$A$1:$E$40000,2,0) -> Argamassa de regularização e/ou proteção | F14: =VLOOKUP($C14,[2]Plan1!$A$1:$E$40000,3,0) -> M3 | G14: =ROUND((42*4.8+44*1.5)*0.025,2)-0.948724 -> 5.741276 | H14: 42m x 4,80m + 44m x 1,50m | I14: =VLOOKUP($C14,[2]Plan1!$A$1:$E$40000,4,0) -> 788.97 | J14: =ROUND(I14+($J$10*I14),2) -> 973.43 | K14: =ROUND(G14*J14,2) -> 5588.73 | O14: =K24/J14 -> 0
B15: =VLOOKUP($C15,[2]Plan1!$A$1:$E$40000,5,0) -> CDHU 198 | C15: 54.07.110 | D15: 1.2 | E15: =VLOOKUP($C15,[2]Plan1!$A$1:$E$40000,2,0) -> Piso em ladrilho hidráulico preto, branco e cinza, assentado com argamassa colante industrializada | F15: m² | G15: =ROUND(42*4.8,2) -> 201.6 | H15: 42m x 4,80m | I15: =VLOOKUP($C15,[2]Plan1!$A$1:$E$40000,4,0) -> 112.68 | J15: =ROUND(I15+($J$10*I15),2) -> 139.02 | K15: =ROUND(G15*J15,2) -> 28026.43 | O15: =K15/K18 -> 0.70066075
B16: =VLOOKUP($C16,[2]Plan1!$A$1:$E$40000,5,0) -> SINAPI - JUN/25 | C16: 99855 | D16: 1.3 | E16: =VLOOKUP($C16,[2]Plan1!$A$1:$E$40000,2,0) -> CORRIMÃO SIMPLES, DIÂMETRO EXTERNO = 1 1/2", EM AÇO GALVANIZADO. AF_04/2019_PS | F16: m | G16: 44 | H16: 44 metros | I16: =VLOOKUP($C16,[2]Plan1!$A$1:$E$40000,4,0) -> 117.61 | J16: =ROUND(I16+($J$10*I16),2) -> 145.11 | K16: =ROUND(G16*J16,2) -> 6384.84
E18: Sub Total | K18: =SUM(K14:K16) -> 40000
E20: Total Geral com BDI | K20: =SUM(K18) -> 40000
K23: 40000
K24: =K20-K23 -> 0

Sheet CRONOGRAMA
B3: =[3]Planilha!C1 -> PREFEITURA DO MUNICÍPIO DE ITAPECERICA DA SERRA SECRETARIA MUNICIPAL DE OBRAS E SERVIÇOS
B4: =[3]Planilha!C2 -> Orçamento Estimado
B5: =ESCADA!D4 -> Obra: Reparo Viela Antonio Piu
B6: =ESCADA!D5 -> LOCAL: Viela Antônio Piu - Jardim das Oliveiras
B7: =ESCADA!D6 -> 23°45'12.5"S 46°48'37.7"W
B9: Cronograma
B11: =ESCADA!K10 -> 45951
B13: 44705
B14: ITEM | C14: DESCRIÇÃO | D14: 1° MÊS | H14: 2° MÊS | L14: 3° MÊS | P14: TOTAL
B15: 1.0 | C15: REFORMA DA VIELA | P15: =ESCADA!K20 -> 40000
D16: =P15/3 -> 13333.333 | H16: =P15/3 -> 13333.333 | L16: =P15/3 -> 13333.333
C18: TOTAL GERAL | D18: =D16 -> 13333.333 | H18: =H16 -> 13333.333 | L18: =L16 -> 13333.333 | P18: =P15 -> 40000 | Q18: =D18+H18+L18 -> 40000
