Workbook
Name \0: #REF!
Name \a: #REF!
Name \df: #N/A
Name \e: #REF!
Name \G: #REF!
Name \L: #REF!
Name \O: #REF!
Name \p: #REF!
Name \R: #REF!
Name \V: #REF!
Name \x: #REF!
Name _________________________________inv2: #REF!
Name ________________________________inv2: #REF!
Name _______________________________inv2: #REF!
Name ______________________________inv2: #REF!
Name _____________________________inv2: #REF!
Name ____________________________inv2: #REF!
Name ___________________________inv2: #REF!
Name __________________________inv2: #REF!
Name _________________________inv2: #REF!
Name ________________________inv2: #REF!
Name _______________________inv2: #REF!
Name ______________________inv2: #REF!
Name _____________________inv2: #REF!
Name ____________________inv2: #REF!
Name ___________________inv2: #REF!
Name __________________inv2: #REF!
Name _________________inv2: #REF!
Name ________________inv2: #REF!
Name _______________inv2: #REF!
Name ______________inv2: #REF!
Name ______________SE2: #REF!
Name _____________inv2: #REF!
Name _____________SE2: #REF!
Name ____________inv2: #REF!
Name ____________SE2: #REF!
Name ___________inv2: #REF!
Name ___________SE2: #REF!
Name __________inv2: #REF!
Name __________SE2: #REF!
Name _________AUX1: #REF!
Name _________aux2: #REF!
Name _________dre1: #REF!
Name _________inv2: #REF!
Name _________oae1: #REF!
Name _________pav1: #REF!
Name _________pre1: #REF!
Name _________rev1: #REF!
Name _________SE2: #REF!
Name _________seg1: #REF!
Name _________sih1: #REF!
Name _________tab1: #REF!
Name ________AUX1: #REF!
Name ________aux2: #REF!
Name ________dre1: #REF!
Name ________inv2: #REF!
Name ________LOC10: #REF!
Name ________LOC11: #REF!
Name ________LOC12: #REF!
Name ________LOC13: #REF!

Sheet DER INFRA 2025 01 SEM
A1: SECRETARIA DE MEIO AMBIENTE, INFRAESTRUTURA E LOGÍSTICA
A2: DEPARTAMENTO DE ESTRADAS DE RODAGEM DO ESTADO DE SÃO PAULO
A4: TABELA DE PREÇOS UNITÁRIOS NÃO DESONERADOS
A5: Atendendo à Lei Federal nº 13.161 de 31/08/2015
A6: Data de Referência: 31/01/2025 | E6: BDI
E7: 0.35
A8: Subitem | B8: Descrição | C8: Unidade | D8: Preço Unitário | E8: Preço Unitário s/ BDI
A10: 21.01.01 | B10: SONDAGEM A PERCUSSAO ATE 15M | C10: m | D10: 212.1 | E10: =ROUND(D10/(1+$E$7),2) -> 157.11
A11: 21.01.02 | B11: SONDAGEM A PERC. ATE 15M LOC. ALAG.<50CM | C11: m | D11: 233.87 | E11: =ROUND(D11/(1+$E$7),2) -> 173.24
A12: 21.01.03 | B12: SONDAGEM A PERCUSSAO DE 15 A 30M | C12: m | D12: 196.09 | E12: =ROUND(D12/(1+$E$7),2) -> 145.25
A13: 21.01.04 | B13: SONDAGEM A PERC.15A30M LOC.ALAG.<50CM | C13: m | D13: 267.6 | E13: =ROUND(D13/(1+$E$7),2) -> 198.22
A14: 21.01.05 | B14: SONDAGEM PERCUSSAO SUPERIOR A 30M | C14: m | D14: 222.22 | E14: =ROUND(D14/(1+$E$7),2) -> 164.61
A15: 21.01.06 | B15: SONDAGEM PERC.+30M LOC.ALAG.<50CM | C15: m | D15: 303.21 | E15: =ROUND(D15/(1+$E$7),2) -> 224.6
A16: 21.01.07 | B16: TAXA FIXA INSTALACAO SONDAGEM PERCUSSAO | C16: un | D16: 1756.3 | E16: =ROUND(D16/(1+$E$7),2) -> 1300.96
A17: 21.01.08 | B17: TAXA FIXA INSTALACAO SONDAGEM ROTATIVA | C17: un | D17: 5965.52 | E17: =ROUND(D17/(1+$E$7),2) -> 4418.9
A18: 21.01.09 | B18: TRANSPORTE DE EQUIPAMENTO DE SONDAGEM | C18: km*equip | D18: 17.86 | E18: =ROUND(D18/(1+$E$7),2) -> 13.23
A19: 21.01.10 | B19: DESLOCAMENTO DE EQUIPAMENTO DE SONDAGEM | C19: m | D19: 12.74 | E19: =ROUND(D19/(1+$E$7),2) -> 9.44
A20: 21.01.11 | B20: PLATAFORMA OU BANQUETA SOND.PERCUSSAO | C20: equip | D20: 2768.78 | E20: =ROUND(D20/(1+$E$7),2) -> 2050.95
A21: 21.01.12 | B21: PLATAFORMA OU BANQUETA P/ SOND. ROTATIVA | C21: equip | D21: 3051.03 | E21: =ROUND(D21/(1+$E$7),2) -> 2260.02
... A1535: 72.63.01.04 | B1535: MAQUINA DE JATO COND. D | C1535: hora | D1535: 50.63 | E1535: =ROUND(D1535/(1+$E$7),2) -> 37.5

Sheet Fator K
A1: Órgão | B1: Fator K CLT | C1: Fator K PJ (temp) | E1: K1 | F1: K2 | G1: K3 | H1: K4
A2: DER/SP | B2: 3.05 | C2: 1.72
A3: DNIT
A4: SIURB | E4: 0.99692631 | F4: 0 | G4: 0 | H4: 0
E7: K1: encargos sociais incidentes sobre a mão de obra
E8: K2: administração central da empresa de consultoria (ou overhead)
E9: K3: remuneração bruta da empresa de consultoria
E10: K4: fator relativo aos tributos incidentes sobre o preço de venda, dado pela equação K4 = 1/(1-I), em que “I” são os referidos tributos.
E11: K = (1+k1+k2)(1+k3)(1+k4)

Sheet Equipe resumo
F10: Coordenador Geral | G10: =SUMIFS(#REF!,#REF!,$F10) -> #REF! | J10: =F10&" ("&G10&")" -> #REF!
F11: Consultor | G11: =SUMIFS(#REF!,#REF!,$F11) -> #REF! | J11: =F11&" ("&G11&")" -> #REF!
F12: Engenheiro / Arquiteto Sênior | G12: =SUMIFS(#REF!,#REF!,$F12) -> #REF! | J12: =F12&" ("&G12&")" -> #REF!
F13: Engenheiro / Arquiteto Pleno | G13: =SUMIFS(#REF!,#REF!,$F13) -> #REF! | J13: =F13&" ("&G13&")" -> #REF!
F14: Engenheiro / Arquiteto Junior | G14: =SUMIFS(#REF!,#REF!,$F14) -> #REF! | J14: =F14&" ("&G14&")" -> #REF!
F15: Economista / Administrador Senior | G15: =SUMIFS(#REF!,#REF!,$F15) -> #REF! | J15: =F15&" ("&G15&")" -> #REF!
F16: Assistente Social Senior | G16: =SUMIFS(#REF!,#REF!,$F16) -> #REF! | J16: =F16&" ("&G16&")" -> #REF!
F17: Desenhista - Cadista | G17: =SUMIFS(#REF!,#REF!,$F17) -> #REF! | J17: =F17&" ("&G17&")" -> #REF!
F19: Projetista B / Assistente Técnico II | G19: =SUMIFS(#REF!,#REF!,$F19) -> #REF! | J19: =F19&" ("&G19&")" -> #REF!
F20: Fiscal de Obras | G20: =SUMIFS(#REF!,#REF!,$F20) -> #REF! | J20: =F20&" ("&G20&")" -> #REF!
F21: Técnico Nível - Médio | G21: =SUMIFS(#REF!,#REF!,$F21) -> #REF! | J21: =F21&" ("&G21&")" -> #REF!
F22: Motorista | G22: =SUMIFS(#REF!,#REF!,$F22) -> #REF! | J22: =F22&" ("&G22&")" -> #REF!
... F24: Secretária | G24: =SUMIFS(#REF!,#REF!,$F24) -> #REF! | J24: =F24&" ("&G24&")" -> #REF!

Sheet BDI
A2: COMPOSIÇÃO DE TAXA DE B.D.I. SEM DESONERAÇÃO
A4: Item | B4: Descrição | C4: Taxa (percentual)
A5: 1. | B5: ADMINISTRAÇÃO CENTRAL
A6: 2. | B6: SEGURO / GARANTIA
A7: 3. | B7: RISCO
A8: 4. | B8: DESPESAS FINANCEIRAS
A9: 5. | B9: LUCRO
A10: 6. | B10: TRIBUTOS | C10: =SUM(C11:C13) -> 0
A11: 6.1. | B11: ISS
A12: 6.2. | B12: PIS
A13: 6.3. | B13: COFINS
A14: 7. | B14: Contribuição Previdenciária (conforme Lei 12.844/2013 – Desoneração)
B16: Para cálculo do BDI (LDI) considerou-se a seguinte fórmula:
A18: BDI = | B18: (1+AC+S+R+G)x(1+DF)x(1+L) -1
A19: (1-I)
A20: Onde:
A21: AC = | B21: Taxa de rateio da Administração Central | C21: =C5 -> 0
A22: DF = | B22: Taxa das Despesas Financeiras | C22: =C8 -> 0
A23: S+R+G = | B23: Taxa de Risco, seguro e garantia do empreendimento | C23: =C7+C6 -> 0
A24: I = | B24: Taxa de tributos + Contribuição Previdenciária | C24: =C10+C14 -> 0
A25: L = | B25: Taxa de Lucro | C25: =C9 -> 0
A27: TOTAL BDI | C27: =ROUNDDOWN((((1+C21/100+C23/100)*(1+C22/100)*(1+C25/100)/(1-(C24)/100))-1)*100,1)/100 -> 0

Sheet CPU_Produtos
A2: =Orçamento!A2 -> OBJETO: CONTRATAÇÃO DE EMPRESA PARA PRESTAÇÃO DE SERVIÇOS DE AUDITORIA EXTERNA DO PROGRAMA DE INFRAESTRUTURA URBANA DE SÃO BERNARDO DO CAMPO - PROINFRA II/CAF.
A4: Composição de Preço Unitário - Produtos
A6: Item | B6: Tabela | C6: Código | D6: Descrição | E6: Unidade | F6: Quant. | G6: Custo Unit. (sem BDI) (R$) | H6: Preço Total (R$)
A7: 1.1. | B7: RT-1 – Relatório de Auditoria Externa | H7: =SUBTOTAL(9,H8:H11) -> 0
A8: 1.1.1. | B8: DER | C8: 35.03.17 | D8: Consultor Auditor Sênior | E8: h | F8: =176/2 -> 88
A9: 1.1.2. | B9: DER | C9: 35.03.20 | D9: Coordenador | E9: h | F9: 176
A10: 1.1.3. | B10: DER | C10: 35.03.29 | D10: Economista Sênior Encarregado | E10: h | F10: 176
A11: 1.1.4. | B11: DER | C11: 35.03.13 | D11: Auxiliar Técnico de Campo | E11: h | F11: =176*3 -> 528

Sheet Orçamento
A2: OBJETO: CONTRATAÇÃO DE EMPRESA PARA PRESTAÇÃO DE SERVIÇOS DE AUDITORIA EXTERNA DO PROGRAMA DE INFRAESTRUTURA URBANA DE SÃO BERNARDO DO CAMPO - PROINFRA II/CAF.
A4: PLANILHA ORÇAMENTÁRIA DE REFERÊNCIA
A6: Item | B6: Tabela | C6: Código | D6: Descrição | E6: Unidade | F6: Quant. | G6: Custo Unit. (sem BDI) (R$) | H6: BDI (%) | I6: Preço Unitário (R$) | J6: Preço Total (R$)
A7: 1. | D7: Produtos | J7: =SUBTOTAL(9,J8:J8) -> 0
A8: 1.1. | B8: CPU | C8: - | D8: =INDEX(CPU_Produtos!B:B,MATCH(Orçamento!A8,CPU_Produtos!$A:$A,0)) -> RT-1 – Relatório de Auditoria Externa | E8: un. | F8: 5 | J8: =ROUND(F8*I8,2) -> 0
D9: TOTAL GERAL | J9: =SUBTOTAL(9,J7:J8) -> 0

Sheet Adaptação nomes
A1: Equipes - nomes originais | B1: Adaptação, conforme modelo DER
A2: Equipe de Coordenação | B2: Grupo de coordenação das equipes responsáveis pelas atividades de apoio
A3: Equipe A - Apoio Técnico Operacional | B3: Apoio técnico e operacional às atividades de coordenação, acompanhamento e gestão
A4: Equipe B - Interface com SEHAB | B4: Apoio técnico para gestão administrativa em interface com Secretaria de Habitação
A5: Equipe C - Apoio Técnico Econômico Financeiro | B5: Apoio técnico, econômico e financeiro para gestão administrativa e gerenciamento de contratos
A6: Equipe D - Apoio - Fiscalização de Obras | B6: Apoio técnico operacional nas visitas e fiscalizações e vistoria de obras
A7: Equipe E - Apoio - Supervisão de Projetos | B7: Apoio técnico à supervisão dos contratos de projetos

Sheet Cronograma
D1: =Orçamento!$A$2 -> OBJETO: CONTRATAÇÃO DE EMPRESA PARA PRESTAÇÃO DE SERVIÇOS DE AUDITORIA EXTERNA DO PROGRAMA DE INFRAESTRUTURA URBANA DE SÃO BERNARDO DO CAMPO - PROINFRA II/CAF.
D2: CRONOGRAMA FÍSICO-FINANCEIRO
A4: ITEM | B4: DESCRIÇÃO DOS SERVIÇOS | C4: PREÇO TOTAL | D4: MESES
D5: 1 | E5: 2 | F5: 3 | G5: 4 | H5: 5 | I5: 6 | J5: 7 | K5: 8 | L5: 9 | M5: 10 | N5: 11 | O5: 12
A6: 1. | B6: =INDEX(Orçamento!D:D,MATCH(Cronograma!A6,Orçamento!$A:$A,0)) -> Produtos | C6: =SUBTOTAL(9,C7:C9) -> 0
A7: 1.1. | B7: =INDEX(Orçamento!D:D,MATCH(Cronograma!A7,Orçamento!A:A,0)) -> RT-1 – Relatório de Auditoria Externa | C7: =INDEX(Orçamento!J:J,MATCH(Cronograma!A7,Orçamento!A:A,0)) -> 0
A10: TOTAL GERAL | C10: =ROUND(SUBTOTAL(9,C7:C9),2) -> 0 | D10: =ROUND(SUBTOTAL(9,D7:D9),2) -> 0 | E10: =ROUND(SUBTOTAL(9,E7:E9),2) -> 0 | F10: =ROUND(SUBTOTAL(9,F7:F9),2) -> 0 | G10: =ROUND(SUBTOTAL(9,G7:G9),2) -> 0 | H10: =ROUND(SUBTOTAL(9,H7:H9),2) -> 0 | I10: =ROUND(SUBTOTAL(9,I7:I9),2) -> 0 | J10: =ROUND(SUBTOTAL(9,J7:J9),2) -> 0 | ... O10: =ROUND(SUBTOTAL(9,O7:O9),2) -> 0
A11: % | D11: =D10/$C10 -> #DIV/0! | E11: =E10/$C10 -> #DIV/0! | F11: =F10/$C10 -> #DIV/0! | G11: =G10/$C10 -> #DIV/0! | H11: =H10/$C10 -> #DIV/0! | I11: =I10/$C10 -> #DIV/0! | J11: =J10/$C10 -> #DIV/0! | K11: =K10/$C10 -> #DIV/0! | ... O11: =O10/$C10 -> #DIV/0!
A12: ACUMULADO | D12: =SUM($D$10:D$10) -> 0 | E12: =SUM($D$10:E$10) -> 0 | F12: =SUM($D$10:F$10) -> 0 | G12: =SUM($D$10:G$10) -> 0 | H12: =SUM($D$10:H$10) -> 0 | I12: =SUM($D$10:I$10) -> 0 | J12: =SUM($D$10:J$10) -> 0 | K12: =SUM($D$10:K$10) -> 0 | ... O12: =SUM($D$10:O$10) -> 0
A14: ITEM | B14: DESCRIÇÃO DOS SERVIÇOS | C14: PREÇO TOTAL | D14: MESES
D15: 13 | E15: 14 | F15: 15 | G15: 16 | H15: 17 | I15: 18 | J15: 19 | K15: 20 | L15: 21 | M15: 22 | N15: 23 | O15: 24
A16: 1. | B16: =INDEX(Orçamento!D:D,MATCH(Cronograma!A16,Orçamento!$A:$A,0)) -> Produtos | C16: =SUBTOTAL(9,C17:C19) -> 0
A17: 1.1. | B17: =INDEX(Orçamento!D:D,MATCH(Cronograma!A17,Orçamento!A:A,0)) -> RT-1 – Relatório de Auditoria Externa | C17: =INDEX(Orçamento!J:J,MATCH(Cronograma!A17,Orçamento!A:A,0)) -> 0
A20: TOTAL GERAL | C20: =SUBTOTAL(9,C16:C19) -> 0 | D20: =ROUND(SUBTOTAL(9,D17:D19),2) -> 0 | E20: =ROUND(SUBTOTAL(9,E17:E19),2) -> 0 | F20: =ROUND(SUBTOTAL(9,F17:F19),2) -> 0 | G20: =ROUND(SUBTOTAL(9,G17:G19),2) -> 0 | H20: =ROUND(SUBTOTAL(9,H17:H19),2) -> 0 | I20: =ROUND(SUBTOTAL(9,I17:I19),2) -> 0 | J20: =ROUND(SUBTOTAL(9,J17:J19),2) -> 0 | K20: =ROUND(SUBTOTAL(9,K17:K19),2) -> 0 | ... O20: =ROUND(SUBTOTAL(9,O17:O19),2) -> 0
A21: % | D21: =D20/$C20 -> #DIV/0! | E21: =E20/$C20 -> #DIV/0! | F21: =F20/$C20 -> #DIV/0! | G21: =G20/$C20 -> #DIV/0! | H21: =H20/$C20 -> #DIV/0! | I21: =I20/$C20 -> #DIV/0! | J21: =J20/$C20 -> #DIV/0! | K21: =K20/$C20 -> #DIV/0! | ... O21: =O20/$C20 -> #DIV/0!
A22: ACUMULADO | D22: =SUM($D$10:L$10)+SUM($D$20) -> 0 | E22: =SUM($D$10:M$10)+SUM($D$20) -> 0 | F22: =SUM($D$10:N$10)+SUM($D$20) -> 0 | G22: =SUM($D$10:O$10)+SUM($D$20:$G$20) -> 0 | H22: =SUM($D$10:P$10)+SUM($D$20:$G$20) -> 0 | I22: =SUM($D$10:Q$10)+SUM($D$20:$G$20) -> 0 | J22: =SUM($D$10:R$10)+SUM($D$20:$G$20) -> 0 | K22: =SUM($D$10:S$10)+SUM($D$20:$G$20) -> 0 | L22: =SUM($D$10:T$10)+SUM($D$20:$G$20) -> 0 | M22: =SUM($D$10:U$10)+SUM($D$20:$G$20) -> 0 | N22: =SUM($D$10:V$10)+SUM($D$20:$G$20) -> 0 | O22: =SUM($D$10:W$10)+SUM($D$20:$G$20) -> 0
A24: ITEM | B24: DESCRIÇÃO DOS SERVIÇOS | C24: PREÇO TOTAL | D24: MESES
D25: 25 | E25: 26 | F25: 27 | G25: 28 | H25: 29 | I25: 30 | J25: 31 | K25: 32 | L25: 33 | M25: 34 | N25: 35 | O25: 36
A26: 1. | B26: =INDEX(Orçamento!D:D,MATCH(Cronograma!A26,Orçamento!$A:$A,0)) -> Produtos | C26: =SUBTOTAL(9,C27:C29) -> 0
A27: 1.1. | B27: =INDEX(Orçamento!D:D,MATCH(Cronograma!A27,Orçamento!A:A,0)) -> RT-1 – Relatório de Auditoria Externa | C27: =INDEX(Orçamento!J:J,MATCH(Cronograma!A27,Orçamento!A:A,0)) -> 0
A30: TOTAL GERAL | C30: =ROUND(SUBTOTAL(9,C$27:C$29),2) -> 0 | D30: =ROUND(SUBTOTAL(9,D$27:D$29),2) -> 0 | E30: =ROUND(SUBTOTAL(9,E$27:E$29),2) -> 0 | F30: =ROUND(SUBTOTAL(9,F$27:F$29),2) -> 0 | G30: =ROUND(SUBTOTAL(9,G$27:G$29),2) -> 0 | H30: =ROUND(SUBTOTAL(9,H$27:H$29),2) -> 0 | I30: =ROUND(SUBTOTAL(9,I$27:I$29),2) -> 0 | J30: =ROUND(SUBTOTAL(9,J$27:J$29),2) -> 0 | ... O30: =ROUND(SUBTOTAL(9,O$27:O$29),2) -> 0
A31: % | D31: =D30/$C30 -> #DIV/0! | E31: =E30/$C30 -> #DIV/0! | F31: =F30/$C30 -> #DIV/0! | G31: =G30/$C30 -> #DIV/0! | H31: =H30/$C30 -> #DIV/0! | I31: =I30/$C30 -> #DIV/0! | J31: =J30/$C30 -> #DIV/0! | K31: =K30/$C30 -> #DIV/0! | ... O31: =O30/$C30 -> #DIV/0!
A32: ACUMULADO | D32: =SUM($D$10:M$10)+SUM($D$20:$O$20)+SUM($D$30) -> 0 | E32: =SUM($D$10:N$10)+SUM($D$20:$O$20)+SUM($D$30) -> 0 | F32: =SUM($D$10:O$10)+SUM($D$20:$O$20)+SUM($D$30) -> 0 | G32: =SUM($D$10:P$10)+SUM($D$20:$O$20)+SUM($D$30:$G$30) -> 0 | H32: =SUM($D$10:Q$10)+SUM($D$20:$O$20)+SUM($D$30:$G$30) -> 0 | I32: =SUM($D$10:R$10)+SUM($D$20:$O$20)+SUM($D$30:$G$30) -> 0 | J32: =SUM($D$10:S$10)+SUM($D$20:$O$20)+SUM($D$30:$G$30) -> 0 | K32: =SUM($D$10:T$10)+SUM($D$20:$O$20)+SUM($D$30:$G$30) -> 0 | L32: =SUM($D$10:U$10)+SUM($D$20:$O$20)+SUM($D$30:$G$30) -> 0 | M32: =SUM($D$10:V$10)+SUM($D$20:$O$20)+SUM($D$30:$G$30) -> 0 | N32: =SUM($D$10:W$10)+SUM($D$20:$O$20)+SUM($D$30:$G$30) -> 0 | O32: =SUM($D$10:X$10)+SUM($D$20:$O$20)+SUM($D$30:$G$30) -> 0
A34: ITEM | B34: DESCRIÇÃO DOS SERVIÇOS | C34: PREÇO TOTAL | D34: MESES
D35: 37 | E35: 38 | F35: 39 | G35: 40 | H35: 41 | I35: 42 | J35: 43 | K35: 44 | L35: 45 | M35: 46 | N35: 47 | O35: 48
A36: 1. | B36: =INDEX(Orçamento!D:D,MATCH(Cronograma!A36,Orçamento!$A:$A,0)) -> Produtos | C36: =SUBTOTAL(9,C37:C39) -> 0
A37: 1.1. | B37: =INDEX(Orçamento!D:D,MATCH(Cronograma!A37,Orçamento!A:A,0)) -> RT-1 – Relatório de Auditoria Externa | C37: =INDEX(Orçamento!J:J,MATCH(Cronograma!A37,Orçamento!A:A,0)) -> 0
A40: TOTAL GERAL | C40: =ROUND(SUBTOTAL(9,C$37:C$39),2) -> 0 | D40: =ROUND(SUBTOTAL(9,D$37:D$39),2) -> 0 | E40: =ROUND(SUBTOTAL(9,E$37:E$39),2) -> 0 | F40: =ROUND(SUBTOTAL(9,F$37:F$39),2) -> 0 | G40: =ROUND(SUBTOTAL(9,G$37:G$39),2) -> 0 | H40: =ROUND(SUBTOTAL(9,H$37:H$39),2) -> 0 | I40: =ROUND(SUBTOTAL(9,I$37:I$39),2) -> 0 | J40: =ROUND(SUBTOTAL(9,J$37:J$39),2) -> 0 | ... O40: =ROUND(SUBTOTAL(9,O$37:O$39),2) -> 0
A41: % | D41: =D40/$C40 -> #DIV/0! | E41: =E40/$C40 -> #DIV/0! | F41: =F40/$C40 -> #DIV/0! | G41: =G40/$C40 -> #DIV/0! | H41: =H40/$C40 -> #DIV/0! | I41: =I40/$C40 -> #DIV/0! | J41: =J40/$C40 -> #DIV/0! | K41: =K40/$C40 -> #DIV/0! | ... O41: =O40/$C40 -> #DIV/0!
A42: ACUMULADO | D42: =SUM($D$10:M$10)+SUM($D$20:$O$20)+SUM($D$30:$O$30)+SUM($D$40) -> 0 | E42: =SUM($D$10:N$10)+SUM($D$20:$O$20)+SUM($D$30:$O$30)+SUM($D$40) -> 0 | F42: =SUM($D$10:O$10)+SUM($D$20:$O$20)+SUM($D$30:$O$30)+SUM($D$40) -> 0 | G42: =SUM($D$10:P$10)+SUM($D$20:$O$20)+SUM($D$30:$O$30)+SUM($D$40:$G$40) -> 0 | H42: =SUM($D$10:Q$10)+SUM($D$20:$O$20)+SUM($D$30:$O$30)+SUM($D$40:$G$40) -> 0 | I42: =SUM($D$10:R$10)+SUM($D$20:$O$20)+SUM($D$30:$O$30)+SUM($D$40:$G$40) -> 0 | J42: =SUM($D$10:S$10)+SUM($D$20:$O$20)+SUM($D$30:$O$30)+SUM($D$40:$G$40) -> 0 | K42: =SUM($D$10:T$10)+SUM($D$20:$O$20)+SUM($D$30:$O$30)+SUM($D$40:$G$40) -> 0 | L42: =SUM($D$10:U$10)+SUM($D$20:$O$20)+SUM($D$30:$O$30)+SUM($D$40:$G$40) -> 0 | M42: =SUM($D$10:V$10)+SUM($D$20:$O$20)+SUM($D$30:$O$30)+SUM($D$40:$G$40) -> 0 | N42: =SUM($D$10:W$10)+SUM($D$20:$O$20)+SUM($D$30:$O$30)+SUM($D$40:$G$40) -> 0 | O42: =SUM($D$10:X$10)+SUM($D$20:$O$20)+SUM($D$30:$O$30)+SUM($D$40:$G$40) -> 0
A44: ITEM | B44: DESCRIÇÃO DOS SERVIÇOS | C44: PREÇO TOTAL | D44: MESES
D45: 49 | E45: 50 | F45: 51 | G45: 52 | H45: 53 | I45: 54 | J45: 55 | K45: 56 | L45: 57 | M45: 58 | N45: 59 | O45: 60
A46: 1. | B46: =INDEX(Orçamento!D:D,MATCH(Cronograma!A46,Orçamento!$A:$A,0)) -> Produtos | C46: =SUBTOTAL(9,C47:C49) -> 0
A47: 1.1. | B47: =INDEX(Orçamento!D:D,MATCH(Cronograma!A47,Orçamento!A:A,0)) -> RT-1 – Relatório de Auditoria Externa | C47: =INDEX(Orçamento!J:J,MATCH(Cronograma!A47,Orçamento!A:A,0)) -> 0
A50: TOTAL GERAL | C50: =ROUND(SUBTOTAL(9,C$37:C$39),2) -> 0 | D50: =ROUND(SUBTOTAL(9,D$47:D$49),2) -> 0 | E50: =ROUND(SUBTOTAL(9,E$47:E$49),2) -> 0 | F50: =ROUND(SUBTOTAL(9,F$47:F$49),2) -> 0 | G50: =ROUND(SUBTOTAL(9,G$47:G$49),2) -> 0 | H50: =ROUND(SUBTOTAL(9,H$47:H$49),2) -> 0 | I50: =ROUND(SUBTOTAL(9,I$47:I$49),2) -> 0 | J50: =ROUND(SUBTOTAL(9,J$47:J$49),2) -> 0 | K50: =ROUND(SUBTOTAL(9,K$47:K$49),2) -> 0 | ... O50: =ROUND(SUBTOTAL(9,O$47:O$49),2) -> 0
A51: % | D51: =D50/$C50 -> #DIV/0! | E51: =E50/$C50 -> #DIV/0! | F51: =F50/$C50 -> #DIV/0! | G51: =G50/$C50 -> #DIV/0! | H51: =H50/$C50 -> #DIV/0! | I51: =I50/$C50 -> #DIV/0! | J51: =J50/$C50 -> #DIV/0! | K51: =K50/$C50 -> #DIV/0! | ... O51: =O50/$C50 -> #DIV/0!
A52: ACUMULADO | D52: =SUM($D$10:N$10)+SUM($D$20:$O$20)+SUM($D$30:$O$30)+SUM($D$40:$O$40)+SUM($D$50) -> 0 | E52: =SUM($D$10:O$10)+SUM($D$20:$O$20)+SUM($D$30:$O$30)+SUM($D$40:$O$40)+SUM($D$50) -> 0 | F52: =SUM($D$10:P$10)+SUM($D$20:$O$20)+SUM($D$30:$O$30)+SUM($D$40:$O$40)+SUM($D$50) -> 0 | G52: =SUM($D$10:Q$10)+SUM($D$20:$O$20)+SUM($D$30:$O$30)+SUM($D$40:$O$40)+SUM($D$50:$G$50) -> 0 | H52: =SUM($D$10:R$10)+SUM($D$20:$O$20)+SUM($D$30:$O$30)+SUM($D$40:$O$40)+SUM($D$50:$G$50) -> 0 | I52: =SUM($D$10:S$10)+SUM($D$20:$O$20)+SUM($D$30:$O$30)+SUM($D$40:$O$40)+SUM($D$50:$G$50) -> 0 | J52: =SUM($D$10:T$10)+SUM($D$20:$O$20)+SUM($D$30:$O$30)+SUM($D$40:$O$40)+SUM($D$50:$G$50) -> 0 | K52: =SUM($D$10:U$10)+SUM($D$20:$O$20)+SUM($D$30:$O$30)+SUM($D$40:$O$40)+SUM($D$50:$G$50) -> 0 | L52: =SUM($D$10:V$10)+SUM($D$20:$O$20)+SUM($D$30:$O$30)+SUM($D$40:$O$40)+SUM($D$50:$G$50) -> 0 | M52: =SUM($D$10:W$10)+SUM($D$20:$O$20)+SUM($D$30:$O$30)+SUM($D$40:$O$40)+SUM($D$50:$G$50) -> 0 | N52: =SUM($D$10:X$10)+SUM($D$20:$O$20)+SUM($D$30:$O$30)+SUM($D$40:$O$40)+SUM($D$50:$G$50) -> 0 | O52: =SUM($D$10:Y$10)+SUM($D$20:$O$20)+SUM($D$30:$O$30)+SUM($D$40:$O$40)+SUM($D$50:$G$50) -> 0

Sheet Quantidades
A1: ITEM | B1: DESCRIÇÃO | C1: UNID | D1: QUANT.
A2: 1 | B2: EQUIPE CHAVE
A3: 1.1 | B3: Coordenador Geral | C3: h | D3: =SUMIFS(CPU_Produtos!#REF!,CPU_Produtos!$D$6:$D$11,$B3) -> #REF!
A4: 1.2 | B4: Engenheiro/ Arquiteto Pleno | C4: h | D4: =SUMIFS(CPU_Produtos!#REF!,CPU_Produtos!$D$6:$D$11,$B4) -> #REF!
A5: 2 | B5: EQUIPE DE APOIO
A6: 2.1 | B6: Engenheiro/ Arquiteto Junior | C6: h | D6: =SUMIFS(CPU_Produtos!#REF!,CPU_Produtos!$D$6:$D$11,$B6) -> #REF!
A7: 2.2 | B7: Técnico - Nível Médio | C7: h | D7: =SUMIFS(CPU_Produtos!#REF!,CPU_Produtos!$D$6:$D$11,$B7) -> #REF!
A8: 2.3 | B8: Laboratorista De Solo/Pavimentação | C8: h | D8: =SUMIFS(CPU_Produtos!#REF!,CPU_Produtos!$D$6:$D$11,$B8) -> #REF!
A9: 2.4 | B9: Auxiliar De Laboratório | C9: h | D9: =SUMIFS(CPU_Produtos!#REF!,CPU_Produtos!$D$6:$D$11,$B9) -> #REF!
A10: 2.5 | B10: Topógrafo | C10: h | D10: =SUMIFS(CPU_Produtos!#REF!,CPU_Produtos!$D$6:$D$11,$B10) -> #REF!
A11: 2.6 | B11: Auxiliar De Topografia | C11: h | D11: =SUMIFS(CPU_Produtos!#REF!,CPU_Produtos!$D$6:$D$11,$B11) -> #REF!
A12: 2.7 | B12: Secretária | C12: h | D12: =SUMIFS(CPU_Produtos!#REF!,CPU_Produtos!$D$6:$D$11,$B12) -> #REF!
A13: 3 | B13: EQUIPAMENTOS
A14: 3.1 | B14: Carro Popular 50% Em Operação | C14: h | D14: =SUMIFS(CPU_Produtos!#REF!,CPU_Produtos!$D$6:$D$11,$B14) -> #REF!

Sheet Cronograma Apoio
C2: Declaração de ordenador
C3: Exercício | D3: Início | E3: Fim | F3: Valor
C4: 2025 | D4: 1 | E4: 6 | F4: =Cronograma!I12 -> 0
C5: 2026 | D5: =E4+1 -> 7 | E5: =D5+11 -> 18 | F5: =Cronograma!#REF!-'Cronograma Apoio'!F4 -> #REF!
C6: 2027 | D6: =E5+1 -> 19 | E6: =D6+11 -> 30 | F6: =Cronograma!#REF!-F5-F4 -> #REF!
C7: Saldo | D7: =E6+1 -> 31 | E7: =MAX(Cronograma!$D$5:$M$5) -> 10 | F7: =Orçamento!#REF!-F6-F5-F4 -> #REF!
C8: Total | F8: =SUM(F4:F7) -> #REF! | G8: =F8=Orçamento!#REF! -> #REF!
C10: Exercício atual - 2025
C11: Mês | D11: Medição | E11: CAF 90% | F11: PMSBC 10% | G11: Total
C12: 45658 | E12: =IF(D12="",0,ROUND(90%*_xlfn.XLOOKUP(D12,Cronograma!$D$5:$M$5,Cronograma!$D$10:$M$10),2)) -> 0 | F12: =IF(D12="",0,_xlfn.XLOOKUP(D12,Cronograma!$D$5:$M$5,Cronograma!$D$10:$M$10)-E12) -> 0 | G12: =IF(D12="",0,_xlfn.XLOOKUP(D12,Cronograma!$D$5:$M$5,Cronograma!$D$10:$M$10)) -> 0
C13: =EDATE(C12,1) -> 45689 | E13: =IF(D13="",0,ROUND(90%*_xlfn.XLOOKUP(D13,Cronograma!$D$5:$M$5,Cronograma!$D$10:$M$10),2)) -> 0 | F13: =IF(D13="",0,_xlfn.XLOOKUP(D13,Cronograma!$D$5:$M$5,Cronograma!$D$10:$M$10)-E13) -> 0 | G13: =IF(D13="",0,_xlfn.XLOOKUP(D13,Cronograma!$D$5:$M$5,Cronograma!$D$10:$M$10)) -> 0
C14: =EDATE(C13,1) -> 45717 | E14: =IF(D14="",0,ROUND(90%*_xlfn.XLOOKUP(D14,Cronograma!$D$5:$M$5,Cronograma!$D$10:$M$10),2)) -> 0 | F14: =IF(D14="",0,_xlfn.XLOOKUP(D14,Cronograma!$D$5:$M$5,Cronograma!$D$10:$M$10)-E14) -> 0 | G14: =IF(D14="",0,_xlfn.XLOOKUP(D14,Cronograma!$D$5:$M$5,Cronograma!$D$10:$M$10)) -> 0
C15: =EDATE(C14,1) -> 45748 | E15: =IF(D15="",0,ROUND(90%*_xlfn.XLOOKUP(D15,Cronograma!$D$5:$M$5,Cronograma!$D$10:$M$10),2)) -> 0 | F15: =IF(D15="",0,_xlfn.XLOOKUP(D15,Cronograma!$D$5:$M$5,Cronograma!$D$10:$M$10)-E15) -> 0 | G15: =IF(D15="",0,_xlfn.XLOOKUP(D15,Cronograma!$D$5:$M$5,Cronograma!$D$10:$M$10)) -> 0
C16: =EDATE(C15,1) -> 45778 | E16: =IF(D16="",0,ROUND(90%*_xlfn.XLOOKUP(D16,Cronograma!$D$5:$M$5,Cronograma!$D$10:$M$10),2)) -> 0 | F16: =IF(D16="",0,_xlfn.XLOOKUP(D16,Cronograma!$D$5:$M$5,Cronograma!$D$10:$M$10)-E16) -> 0 | G16: =IF(D16="",0,_xlfn.XLOOKUP(D16,Cronograma!$D$5:$M$5,Cronograma!$D$10:$M$10)) -> 0
C17: =EDATE(C16,1) -> 45809 | E17: =IF(D17="",0,ROUND(90%*_xlfn.XLOOKUP(D17,Cronograma!$D$5:$M$5,Cronograma!$D$10:$M$10),2)) -> 0 | F17: =IF(D17="",0,_xlfn.XLOOKUP(D17,Cronograma!$D$5:$M$5,Cronograma!$D$10:$M$10)-E17) -> 0 | G17: =IF(D17="",0,_xlfn.XLOOKUP(D17,Cronograma!$D$5:$M$5,Cronograma!$D$10:$M$10)) -> 0
C18: =EDATE(C17,1) -> 45839 | D18: 1 | E18: =IF(D18="",0,ROUND(90%*_xlfn.XLOOKUP(D18,Cronograma!$D$5:$M$5,Cronograma!$D$10:$M$10),2)) -> 0 | F18: =IF(D18="",0,_xlfn.XLOOKUP(D18,Cronograma!$D$5:$M$5,Cronograma!$D$10:$M$10)-E18) -> 0 | G18: =IF(D18="",0,_xlfn.XLOOKUP(D18,Cronograma!$D$5:$M$5,Cronograma!$D$10:$M$10)) -> 0
C19: =EDATE(C18,1) -> 45870 | D19: =D18+1 -> 2 | E19: =IF(D19="",0,ROUND(90%*_xlfn.XLOOKUP(D19,Cronograma!$D$5:$M$5,Cronograma!$D$10:$M$10),2)) -> 0 | F19: =IF(D19="",0,_xlfn.XLOOKUP(D19,Cronograma!$D$5:$M$5,Cronograma!$D$10:$M$10)-E19) -> 0 | G19: =IF(D19="",0,_xlfn.XLOOKUP(D19,Cronograma!$D$5:$M$5,Cronograma!$D$10:$M$10)) -> 0
C20: =EDATE(C19,1) -> 45901 | D20: =D19+1 -> 3 | E20: =IF(D20="",0,ROUND(90%*_xlfn.XLOOKUP(D20,Cronograma!$D$5:$M$5,Cronograma!$D$10:$M$10),2)) -> 0 | F20: =IF(D20="",0,_xlfn.XLOOKUP(D20,Cronograma!$D$5:$M$5,Cronograma!$D$10:$M$10)-E20) -> 0 | G20: =IF(D20="",0,_xlfn.XLOOKUP(D20,Cronograma!$D$5:$M$5,Cronograma!$D$10:$M$10)) -> 0
C21: =EDATE(C20,1) -> 45931 | D21: =D20+1 -> 4 | E21: =IF(D21="",0,ROUND(90%*_xlfn.XLOOKUP(D21,Cronograma!$D$5:$M$5,Cronograma!$D$10:$M$10),2)) -> 0 | F21: =IF(D21="",0,_xlfn.XLOOKUP(D21,Cronograma!$D$5:$M$5,Cronograma!$D$10:$M$10)-E21) -> 0 | G21: =IF(D21="",0,_xlfn.XLOOKUP(D21,Cronograma!$D$5:$M$5,Cronograma!$D$10:$M$10)) -> 0
C22: =EDATE(C21,1) -> 45962 | D22: =D21+1 -> 5 | E22: =IF(D22="",0,ROUND(90%*_xlfn.XLOOKUP(D22,Cronograma!$D$5:$M$5,Cronograma!$D$10:$M$10),2)) -> 0 | F22: =IF(D22="",0,_xlfn.XLOOKUP(D22,Cronograma!$D$5:$M$5,Cronograma!$D$10:$M$10)-E22) -> 0 | G22: =IF(D22="",0,_xlfn.XLOOKUP(D22,Cronograma!$D$5:$M$5,Cronograma!$D$10:$M$10)) -> 0
C23: =EDATE(C22,1) -> 45992 | D23: =D22+1 -> 6 | E23: =IF(D23="",0,ROUND(90%*_xlfn.XLOOKUP(D23,Cronograma!$D$5:$M$5,Cronograma!$D$10:$M$10),2)) -> 0 | F23: =IF(D23="",0,_xlfn.XLOOKUP(D23,Cronograma!$D$5:$M$5,Cronograma!$D$10:$M$10)-E23) -> 0 | G23: =IF(D23="",0,_xlfn.XLOOKUP(D23,Cronograma!$D$5:$M$5,Cronograma!$D$10:$M$10)) -> 0

Sheet Cronograma-gráfico

Sheet Profissionais (apoio)
A1: #VALUE!
A2: OBJETO: CONTRATAÇÃO DE EMPRESA PARA PRESTAÇÃO DE SERVIÇOS TÉCNICOS ESPECIALIZADOS DE ENGENHARIA CONSULTIVA PARA APOIO AO GERENCIAMENTO DO PROGRAMA DE INFRAESTRUTURA URBANA DE SÃO BERNARDO DO CAMPO - PROINFRA II/CAF
A4: PLANILHA ORÇAMENTÁRIA DE REFERÊNCIA
G5: Data-base do orçamento: 02/2025
G7: Referências (sem desoneração):
G8: SIURB: 07/2024
A10: Item | B10: Tabela | C10: Código | D10: Descrição | E10: Unidade | F10: Quant. | G10: Custo Unit. (sem BDI) (R$) | H10: BDI (%) | I10: Preço Unitário (R$) | J10: Preço Total (R$) | L10: Saldo a distribuir | N10: Mensal
A11: 1. | D11: Recursos Humanos | J11: =SUBTOTAL(9,J13:J18) -> #REF!
A12: 1.1. | D12: Equipe Chave | J12: =SUBTOTAL(9,J13:J14) -> #REF!
A13: 1.1.1. | B13: SIURB-MOM | C13: 1120 | D13: Coordenador Geral | E13: =LOWER( IF($B13="SIURB INFRA",VLOOKUP($C13,#REF!,3,FALSE), IF($B13="SIURB-MOM","h"))) -> h | F13: =N13*60 -> 1920 | G13: =IF($B13="SIURB INFRA",VLOOKUP($C13,#REF!,4,FALSE), IF($B13="SIURB-MOM",VLOOKUP($C13,#REF!,4,FALSE))) -> #REF! | H13: =BDI -> 0 | I13: =ROUND(G13*(1+H13),2) -> #REF! | J13: =ROUND(F13*I13,2) -> #REF! | L13: =F13-SUMIFS(CPU_Produtos!$I$8:$I$11,CPU_Produtos!$D$8:$D$11,'Profissionais (apoio)'!$D13) -> 1920 | N13: 32
A14: 1.1.2. | B14: SIURB-MOM | C14: 1124 | D14: Especialista Técnico: Engenheiro Civil / Arquiteto Sênior | E14: =LOWER( IF($B14="SIURB INFRA",VLOOKUP($C14,#REF!,3,FALSE), IF($B14="SIURB-MOM","h"))) -> h | F14: =N14*60 -> 10080 | G14: =IF($B14="SIURB INFRA",VLOOKUP($C14,#REF!,4,FALSE), IF($B14="SIURB-MOM",VLOOKUP($C14,#REF!,4,FALSE))) -> #REF! | H14: =BDI -> 0 | I14: =ROUND(G14*(1+H14),2) -> #REF! | J14: =ROUND(F14*I14,2) -> #REF! | L14: =F14-SUMIFS(CPU_Produtos!$I$8:$I$11,CPU_Produtos!$D$8:$D$11,'Profissionais (apoio)'!$D14) -> 10080 | N14: 168
A15: 1.2. | D15: Equipe de Apoio | J15: =SUBTOTAL(9,J16:J18) -> #REF!
A16: 1.2.1. | B16: SIURB-MOM | C16: 1125 | D16: Especialista Administrativo Financeiro Pleno | E16: =LOWER( IF($B16="SIURB INFRA",VLOOKUP($C16,#REF!,3,FALSE), IF($B16="SIURB-MOM","h"))) -> h | F16: =N16*60 -> 2520 | G16: =IF($B16="SIURB INFRA",VLOOKUP($C16,#REF!,4,FALSE), IF($B16="SIURB-MOM",VLOOKUP($C16,#REF!,4,FALSE))) -> #REF! | H16: =BDI -> 0 | I16: =ROUND(G16*(1+H16),2) -> #REF! | J16: =ROUND(F16*I16,2) -> #REF! | L16: =F16-SUMIFS(CPU_Produtos!$I$8:$I$11,CPU_Produtos!$D$8:$D$11,'Profissionais (apoio)'!$D16) -> 2520 | N16: 42
A17: 1.2.2. | B17: SIURB-MOM | C17: 1125 | D17: Especialista em Planejamento Pleno | E17: =LOWER( IF($B17="SIURB INFRA",VLOOKUP($C17,#REF!,3,FALSE), IF($B17="SIURB-MOM","h"))) -> h | F17: =N17*60 -> 2520 | G17: =IF($B17="SIURB INFRA",VLOOKUP($C17,#REF!,4,FALSE), IF($B17="SIURB-MOM",VLOOKUP($C17,#REF!,4,FALSE))) -> #REF! | H17: =BDI -> 0 | I17: =ROUND(G17*(1+H17),2) -> #REF! | J17: =ROUND(F17*I17,2) -> #REF! | L17: =F17-SUMIFS(CPU_Produtos!$I$8:$I$11,CPU_Produtos!$D$8:$D$11,'Profissionais (apoio)'!$D17) -> 2520 | N17: 42
A18: 1.2.3. | B18: SIURB-MOM | C18: 1131 | D18: Técnico - Nível Médio | E18: =LOWER( IF($B18="SIURB INFRA",VLOOKUP($C18,#REF!,3,FALSE), IF($B18="SIURB-MOM","h"))) -> h | F18: =N18*60 -> 10080 | G18: =IF($B18="SIURB INFRA",VLOOKUP($C18,#REF!,4,FALSE), IF($B18="SIURB-MOM",VLOOKUP($C18,#REF!,4,FALSE))) -> #REF! | H18: =BDI -> 0 | I18: =ROUND(G18*(1+H18),2) -> #REF! | J18: =ROUND(F18*I18,2) -> #REF! | L18: =F18-SUMIFS(CPU_Produtos!$I$8:$I$11,CPU_Produtos!$D$8:$D$11,'Profissionais (apoio)'!$D18) -> 10080 | N18: 168

Sheet Concomitância (apoio)
B2: Cronograma - Projeção do prazo de execução dos contratos
B3: Objeto dos contratos | C3: =YEAR(C4) -> 2024 | E3: =YEAR(E4) -> 2025 | Q3: =YEAR(Q4) -> 2026 | AC3: =YEAR(AC4) -> 2027 | AO3: =YEAR(AO4) -> 2028 | BA3: =YEAR(BA4) -> 2029 | BM3: =YEAR(BM4) -> 2030
C4: 45597 | D4: =EDATE(C4,1) -> 45627 | E4: =EDATE(D4,1) -> 45658 | F4: =EDATE(E4,1) -> 45689 | G4: =EDATE(F4,1) -> 45717 | H4: =EDATE(G4,1) -> 45748 | I4: =EDATE(H4,1) -> 45778 | J4: =EDATE(I4,1) -> 45809 | K4: =EDATE(J4,1) -> 45839 | ... BS4: =EDATE(BR4,1) -> 47665
B5: Prazo de Desembolso do PROINFRA | D5: 1 | E5: =D5+1 -> 2 | F5: =E5+1 -> 3 | G5: =F5+1 -> 4 | H5: =G5+1 -> 5 | I5: =H5+1 -> 6 | J5: =I5+1 -> 7 | K5: =J5+1 -> 8 | L5: =K5+1 -> 9 | ... BK5: =BJ5+1 -> 60
B6: Apoio ao Gerenciamento | K6: =J6+1 -> 1 | L6: =K6+1 -> 2 | M6: =L6+1 -> 3 | N6: =M6+1 -> 4 | O6: =N6+1 -> 5 | P6: =O6+1 -> 6 | Q6: =P6+1 -> 7 | R6: =Q6+1 -> 8 | ... BR6: =BQ6+1 -> 60
B7: Apoio à Supervisão | L7: =K7+1 -> 1 | M7: =L7+1 -> 2 | N7: =M7+1 -> 3 | O7: =N7+1 -> 4 | P7: =O7+1 -> 5 | Q7: =P7+1 -> 6 | R7: =Q7+1 -> 7 | S7: =R7+1 -> 8 | ... BG7: =BF7+1 -> 48
B8: Rotatório da Scania | L8: =K8+1 -> 1 | M8: =L8+1 -> 2 | N8: =M8+1 -> 3 | O8: =N8+1 -> 4 | P8: =O8+1 -> 5 | Q8: =P8+1 -> 6 | R8: =Q8+1 -> 7 | S8: =R8+1 -> 8 | ... W8: =V8+1 -> 12
B9: Viaduto - km 15 da Rodovia Anchieta | O9: =N9+1 -> 1 | P9: =O9+1 -> 2 | Q9: =P9+1 -> 3 | R9: =Q9+1 -> 4 | S9: =R9+1 -> 5 | T9: =S9+1 -> 6 | U9: =T9+1 -> 7 | V9: =U9+1 -> 8 | ... AN9: =AM9+1 -> 26
B10: Viaduto - km 16 da Rodovia Anchieta | L10: =K10+1 -> 1 | M10: =L10+1 -> 2 | N10: =M10+1 -> 3 | O10: =N10+1 -> 4 | P10: =O10+1 -> 5 | Q10: =P10+1 -> 6 | R10: =Q10+1 -> 7 | S10: =R10+1 -> 8 | ... AI10: =AH10+1 -> 24
B11: Viaduto - km 18 da Rodovia Anchieta | O11: =N11+1 -> 1 | P11: =O11+1 -> 2 | Q11: =P11+1 -> 3 | R11: =Q11+1 -> 4 | S11: =R11+1 -> 5 | T11: =S11+1 -> 6 | U11: =T11+1 -> 7 | V11: =U11+1 -> 8 | ... AR11: =AQ11+1 -> 30
B12: Viaduto Lucas Nogueira Garcez | N12: =M12+1 -> 1 | O12: =N12+1 -> 2 | P12: =O12+1 -> 3 | Q12: =P12+1 -> 4 | R12: =Q12+1 -> 5 | S12: =R12+1 -> 6 | T12: =S12+1 -> 7 | U12: =T12+1 -> 8 | ... BG12: =BF12+1 -> 46
B13: Períodos do contrato (previsão) (Obras em execução simultânea) | L13: 2 | O13: 5 | X13: 4 | AJ13: 3 | AO13: 2 | AS13: 1
B15: Produtos (PROGRAMA)
B16: Relatório inicial | E16: X
B17: Relatório Semestral | G17: X | M17: X | S17: X | Y17: X | AE17: X | AK17: X | AQ17: X | AW17: X | BC17: X | BI17: X
B18: Relatório final | BL18: X
B19: Auditoria | T19: X | AF19: X | AR19: X | BD19: X | BP19: X
B20: Plano de Contratações e Aquisições do Programa | F20: X | R20: X | AD20: X | AP20: X | BB20: X
B21: Solicitação de desembolso | J21: X | N21: X | R21: X | V21: X | Z21: X | AD21: X | AH21: X | AL21: X | AP21: X | AT21: X | AX21: X | BB21: X | BF21: X
B22: Justificativa (prestação de contas) | P22: X | T22: X | X22: X | AB22: X | AF22: X | AJ22: X | AN22: X | AR22: X | AV22: X | AZ22: X | BD22: X | BH22: X
B24: Produtos (Gerenciamento)
B25: RT-1 - Acompanhamento gerencial | I25: =COUNTA(K25:BR25) -> 60 | K25: X | L25: X | M25: X | N25: X | O25: X | P25: X | Q25: X | R25: X | S25: X | T25: X | U25: X | V25: X | W25: X | X25: X | Y25: X | Z25: X | AA25: X | AB25: X | AC25: X | AD25: X | AE25: X | AF25: X | AG25: X | AH25: X | AI25: X | AJ25: X | AK25: X | AL25: X | AM25: X | AN25: X | AO25: X | AP25: X | AQ25: X | AR25: X | AS25: X | AT25: X | AU25: X | AV25: X | AW25: X | AX25: X | AY25: X | AZ25: X | BA25: X | BB25: X | BC25: X | BD25: X | BE25: X | BF25: X | BG25: X | BH25: X | BI25: X | BJ25: X | BK25: X | BL25: X | BM25: X | BN25: X | BO25: X | BP25: X | BQ25: X | BR25: X
B26: RT-2 - Plano de Aquisições | I26: =COUNTA(K26:BR26) -> 8 | M26: X | S26: X | Y26: X | AE26: X | AK26: X | AQ26: X | AW26: X | BC26: X
B27: RT-3 - Riscos, problemas e medidas adotadas | I27: =COUNTA(K27:BR27) -> 60 | K27: X | L27: X | M27: X | N27: X | O27: X | P27: X | Q27: X | R27: X | S27: X | T27: X | U27: X | V27: X | W27: X | X27: X | Y27: X | Z27: X | AA27: X | AB27: X | AC27: X | AD27: X | AE27: X | AF27: X | AG27: X | AH27: X | AI27: X | AJ27: X | AK27: X | AL27: X | AM27: X | AN27: X | AO27: X | AP27: X | AQ27: X | AR27: X | AS27: X | AT27: X | AU27: X | AV27: X | AW27: X | AX27: X | AY27: X | AZ27: X | BA27: X | BB27: X | BC27: X | BD27: X | BE27: X | BF27: X | BG27: X | BH27: X | BI27: X | BJ27: X | BK27: X | BL27: X | BM27: X | BN27: X | BO27: X | BP27: X | BQ27: X | BR27: X
B28: RT-4 - Execução financeira (consultorias etc.) | I28: =COUNTA(K28:BR28) -> 60 | K28: X | L28: X | M28: X | N28: X | O28: X | P28: X | Q28: X | R28: X | S28: X | T28: X | U28: X | V28: X | W28: X | X28: X | Y28: X | Z28: X | AA28: X | AB28: X | AC28: X | AD28: X | AE28: X | AF28: X | AG28: X | AH28: X | AI28: X | AJ28: X | AK28: X | AL28: X | AM28: X | AN28: X | AO28: X | AP28: X | AQ28: X | AR28: X | AS28: X | AT28: X | AU28: X | AV28: X | AW28: X | AX28: X | AY28: X | AZ28: X | BA28: X | BB28: X | BC28: X | BD28: X | BE28: X | BF28: X | BG28: X | BH28: X | BI28: X | BJ28: X | BK28: X | BL28: X | BM28: X | BN28: X | BO28: X | BP28: X | BQ28: X | BR28: X
B29: RT-4 - Execução financeira (obra 1) | I29: =COUNTA(K29:BR29) -> 12 | M29: X | N29: X | O29: X | P29: X | Q29: X | R29: X | S29: X | T29: X | U29: X | V29: X | W29: X | X29: X
B30: RT-4 - Execução financeira (obra 2) | I30: =COUNTA(K30:BR30) -> 26 | P30: X | Q30: X | R30: X | S30: X | T30: X | U30: X | V30: X | W30: X | X30: X | Y30: X | Z30: X | AA30: X | AB30: X | AC30: X | AD30: X | AE30: X | AF30: X | AG30: X | AH30: X | AI30: X | AJ30: X | AK30: X | AL30: X | AM30: X | AN30: X | AO30: X
B31: RT-4 - Execução financeira (obra 3) | I31: =COUNTA(K31:BR31) -> 24 | M31: X | N31: X | O31: X | P31: X | Q31: X | R31: X | S31: X | T31: X | U31: X | V31: X | W31: X | X31: X | Y31: X | Z31: X | AA31: X | AB31: X | AC31: X | AD31: X | AE31: X | AF31: X | AG31: X | AH31: X | AI31: X | AJ31: X
B32: RT-4 - Execução financeira (obra 4) | I32: =COUNTA(K32:BR32) -> 30 | P32: X | Q32: X | R32: X | S32: X | T32: X | U32: X | V32: X | W32: X | X32: X | Y32: X | Z32: X | AA32: X | AB32: X | AC32: X | AD32: X | AE32: X | AF32: X | AG32: X | AH32: X | AI32: X | AJ32: X | AK32: X | AL32: X | AM32: X | AN32: X | AO32: X | AP32: X | AQ32: X | AR32: X | AS32: X
B33: RT-4 - Execução financeira (obra 5) | I33: =COUNTA(K33:BR33) -> 46 | O33: X | P33: X | Q33: X | R33: X | S33: X | T33: X | U33: X | V33: X | W33: X | X33: X | Y33: X | Z33: X | AA33: X | AB33: X | AC33: X | AD33: X | AE33: X | AF33: X | AG33: X | AH33: X | AI33: X | AJ33: X | AK33: X | AL33: X | AM33: X | AN33: X | AO33: X | AP33: X | AQ33: X | AR33: X | AS33: X | AT33: X | AU33: X | AV33: X | AW33: X | AX33: X | AY33: X | AZ33: X | BA33: X | BB33: X | BC33: X | BD33: X | BE33: X | BF33: X | BG33: X | BH33: X
B34: RT-5 - Execução física (obra 1) | I34: =COUNTA(K34:BR34) -> 12 | L34: X | M34: X | N34: X | O34: X | P34: X | Q34: X | R34: X | S34: X | T34: X | U34: X | V34: X | W34: X
B35: RT-5 - Execução física (obra 2) | I35: =COUNTA(K35:BR35) -> 26 | O35: X | P35: X | Q35: X | R35: X | S35: X | T35: X | U35: X | V35: X | W35: X | X35: X | Y35: X | Z35: X | AA35: X | AB35: X | AC35: X | AD35: X | AE35: X | AF35: X | AG35: X | AH35: X | AI35: X | AJ35: X | AK35: X | AL35: X | AM35: X | AN35: X
B36: RT-5 - Execução física (obra 3) | I36: =COUNTA(K36:BR36) -> 24 | L36: X | M36: X | N36: X | O36: X | P36: X | Q36: X | R36: X | S36: X | T36: X | U36: X | V36: X | W36: X | X36: X | Y36: X | Z36: X | AA36: X | AB36: X | AC36: X | AD36: X | AE36: X | AF36: X | AG36: X | AH36: X | AI36: X
B37: RT-5 - Execução física (obra 4) | I37: =COUNTA(K37:BR37) -> 30 | O37: X | P37: X | Q37: X | R37: X | S37: X | T37: X | U37: X | V37: X | W37: X | X37: X | Y37: X | Z37: X | AA37: X | AB37: X | AC37: X | AD37: X | AE37: X | AF37: X | AG37: X | AH37: X | AI37: X | AJ37: X | AK37: X | AL37: X | AM37: X | AN37: X | AO37: X | AP37: X | AQ37: X | AR37: X
B38: RT-5 - Execução física (obra 5) | I38: =COUNTA(K38:BR38) -> 46 | N38: X | O38: X | P38: X | Q38: X | R38: X | S38: X | T38: X | U38: X | V38: X | W38: X | X38: X | Y38: X | Z38: X | AA38: X | AB38: X | AC38: X | AD38: X | AE38: X | AF38: X | AG38: X | AH38: X | AI38: X | AJ38: X | AK38: X | AL38: X | AM38: X | AN38: X | AO38: X | AP38: X | AQ38: X | AR38: X | AS38: X | AT38: X | AU38: X | AV38: X | AW38: X | AX38: X | AY38: X | AZ38: X | BA38: X | BB38: X | BC38: X | BD38: X | BE38: X | BF38: X | BG38: X
B39: MOP | I39: =COUNTA(K39:BR39) -> 1 | M39: X
B40: Semestral | I40: =COUNTA(K40:BR40) -> 9 | M40: X | S40: X | Y40: X | AE40: X | AK40: X | AQ40: X | AW40: X | BC40: X | BI40: X
B41: Final | I41: =COUNTA(K41:BR41) -> 1 | BL41: X
B49: Legenda:
B50: Preparação do Processo
...
