Workbook
Name Climatização: #REF!
Name Climatização: #REF!
Name Climatização: #REF!
Name Crit_deprec_fiscal: #REF!
Name Crit_deprec_fiscal: #REF!
Name Crit_deprec_fiscal: #REF!
Name Nível_segurança: #REF!
Name Nível_segurança: #REF!
Name Nível_segurança: #REF!
Name Oferta: #REF!
Name Oferta: #REF!
Name Oferta: #REF!
Name Prazo_concessão: #REF!
Name Prazo_concessão: #REF!
Name Prazo_concessão: #REF!
Name Ref_data: #REF!
Name Ref_data: #REF!
Name Ref_data: #REF!
Name Risco: #REF!
Name Risco: #REF!
Name Risco: #REF!
Name Seleção_coeficiente: #REF!
Name Seleção_coeficiente: #REF!
Name Seleção_coeficiente: #REF!
Name Sim_ou_não: #REF!
Name Sim_ou_não: #REF!
Name Sim_ou_não: #REF!
Name Tipo_padron: #REF!
Name Tipo_padron: #REF!
Name Tipo_padron: #REF!

Sheet Sumário
A1: Transporte Municipal - Guararema
A3: PROPONENTE:
A4: DATA BASE: | B4: agosto de 2023
A6: Aba | B6: Assunto
A7: 01 | B7: ='01'!A2 -> Quadro 01 - DADOS OPERACIONAIS
A8: 02 | B8: ='02'!A2 -> Quadro 02 - PREÇOS E SALÁRIOS
A9: 03 | B9: ='03'!A2 -> Quadro 3 - MEMÓRIA DE CÁLCULO DA EQUIPE DE PROFISSIONAIS DA OPERADORA
A10: 04 | B10: ='04'!A2 -> Quadro 04 - COEFICIENTES E PARÂMETROS
A11: 05 | B11: ='05'!A2 -> Quadro 05 - ENCARGOS SOCIAIS
A12: 06 | B12: ='06'!A2 -> Quadro 06 - MEMÓRIA DE CÁLCULO DOS CUSTOS
A13: 07 | B13: ='07'!A2 -> Quadro 07 - MEMÓRIA DE CÁLCULO DOS CUSTOS COM PEÇAS E ACESSÓRIOS
A14: 08 | B14: ='08'!A2 -> Quadro 08 - PLANEJAMENTO DA FROTA, AQUISIÇÕES, VENDAS E DEPRECIAÇÃO REAL
A15: 09 | B15: ='09'!A2 -> Quadro 09 - INVESTIMENTO EM EQUIPAMENTOS TECNOLÓGICOS EMBARCADOS (SBE, SMTC, E OUTROS)
A16: 10 | B16: ='10'!A2 -> Quadro 10 - INVESTIMENTO EM GARAGEM E OUTROS EQUIPAMENTOS
A17: 11 | B17: ='11'!A2 -> Quadro 11 -DEPRECIAÇÃO FISCAL DA FROTA
A18: 12 | B18: ='12'!A2 -> Quadro 12 - INVESTIMENTOS ADICIONAIS
A19: 13 | B19: ='13'!A2 -> Quadro 13 - DRE e FLUXO DE CAIXA
A20: 14 | B20: Quadro 14 - PREMISSAS MACROECONÔMICAS

Sheet 01
A1: =Sumário!$A$1 -> Transporte Municipal - Guararema
A2: Quadro 01 - DADOS OPERACIONAIS
A3: PROPONENTE: | B3: =Sumário!$B$3 -> 0
A4: DATA BASE: | B4: =Sumário!$B$4 -> agosto de 2023
A6: Q1. Painel de dados operacionais
A7: Q1.1. Frota
A8: Tipo | B8: Frota necessária
B9: Quantidade Operac. | C9: Quantidade RT | D9: Quantidade Total
A10: Microônibus | D10: =B10+C10 -> 0
A11: Miniônibus | D11: =B11+C11 -> 0
A12: Básico | D12: =B12+C12 -> 0
A13: Padron | D13: =B13+C13 -> 0
A14: Articulado | D14: =B14+C14 -> 0
A15: Van | D15: =B15+C15 -> 0
A16: Total | B16: =SUM(B10:B15) -> 0 | C16: =SUM(C10:C15) -> 0 | D16: =SUM(D10:D15) -> 0
A18: Q1.2. Frota Inicial
A19: Idade do veículo | B19: Microônibus | C19: Miniônibus | D19: Básico | E19: Padron | F19: Articulado | G19: Van | H19: Total
A20: 0 | H20: =SUM(B20:G20) -> 0
A21: 1 | H21: =SUM(B21:G21) -> 0
A22: 2 | H22: =SUM(B22:G22) -> 0
A23: 3 | H23: =SUM(B23:G23) -> 0
A24: 4 | H24: =SUM(B24:G24) -> 0
A25: 5 | H25: =SUM(B25:G25) -> 0
A26: 6 | H26: =SUM(B26:G26) -> 0
A27: 7 | H27: =SUM(B27:G27) -> 0
A28: 8 | H28: =SUM(B28:G28) -> 0
A29: 9 | H29: =SUM(B29:G29) -> 0
A30: 10 | H30: =SUM(B30:G30) -> 0
A31: 11 | H31: =SUM(B31:G31) -> 0
... A34: 14 | H34: =SUM(B34:G34) -> 0
A35: 15
A36: Total | B36: =SUM(B20:B35) -> 0 | C36: =SUM(C20:C35) -> 0 | D36: =SUM(D20:D35) -> 0 | E36: =SUM(E20:E35) -> 0 | F36: =SUM(F20:F35) -> 0 | G36: =SUM(G20:G35) -> 0 | H36: =SUM(H20:H35) -> 0
A37: Idade da frota | B37: =IF(B36=0,"",SUMPRODUCT($A$20:$A$35,B20:B35)/B36) | C37: =IF(C36=0,"",SUMPRODUCT($A$20:$A$35,C20:C35)/C36) | D37: =IF(D36=0,"",SUMPRODUCT($A$20:$A$35,D20:D35)/D36) | E37: =IF(E36=0,"",SUMPRODUCT($A$20:$A$35,E20:E35)/E36) | F37: =IF(F36=0,"",SUMPRODUCT($A$20:$A$35,F20:F35)/F36) | G37: =IF(G36=0,"",SUMPRODUCT($A$20:$A$35,G20:G35)/G36) | H37: =IF(H36=0,"",SUMPRODUCT($A$20:$A$35,H20:H35)/H36)
A39: Q1.3. Produção Quilométrica Mensal
A40: Informação | B40: Microônibus | C40: Miniônibus | D40: Básico | E40: Padron | F40: Articulado | G40: Van | H40: Total | X40: Total Km
A41: Produção Quilométrica produtiva | H41: =SUM(B41:G41) -> 0 | X41: =H41*12+O41*12+V41*12*13 -> 0
A42: Produção Quilométrica ociosa | H42: =SUM(B42:G42) -> 0 | X42: =H42*12+O42*12+V42*12*13 -> 0
A43: Produção Quilométrica total | B43: =SUM(B41:B42) -> 0 | C43: =SUM(C41:C42) -> 0 | D43: =SUM(D41:D42) -> 0 | E43: =SUM(E41:E42) -> 0 | F43: =SUM(F41:F42) -> 0 | G43: =SUM(G41:G42) -> 0 | H43: =SUM(B43:G43) -> 0 | X43: =H43*12+O43*12+V43*12*13 -> 0
A45: PMM | H45: =IFERROR(H43/$B$16,0) -> 0
O46: 1.05 | V46: 1.04

Sheet 02
A1: =Sumário!$A$1 -> Transporte Municipal - Guararema
A2: Quadro 02 - PREÇOS E SALÁRIOS
A3: PROPONENTE: | B3: =Sumário!$B$3 -> 0
A4: DATA BASE: | B4: =Sumário!$B$4 -> agosto de 2023
A6: Q2.1. Preço de insumos
A7: Item | B7: Unidade | C7: Valor
A8: Óleo Diesel | B8: R$/litro
A9: Arla 32 | B9: R$/litro
A10: Pneu novo
A11: Van (215/75R17.5 127/124M) | B11: R$/unidade
A12: Microônibus /Miniônibus (Pneu 275 / 88 R22.5 - RADIAL LISO - Michelin) | B12: R$/unidade
A13: Básico/Padron (Pneu 275 / 88 R22.5 - RADIAL LISO - Michelin) | B13: R$/unidade
A14: Articulado (Pneu 295 / 80 R22.5 - RADIAL LISO - Pirelli) | B14: R$/unidade
A15: Serviço de recapagem
A16: Van | B16: R$/unidade
A17: Microônibus /Miniônibus | B17: R$/unidade
A18: Básico/Padron | B18: R$/unidade
A19: Articulado | B19: R$/unidade
A20: Preço do veículo novo completo
A21: Van | B21: R$/unidade
A22: Microônibus | B22: R$/unidade
A23: Miniônibus | B23: R$/unidade
A24: Básico | B24: R$/unidade
A25: Padron LE c/ar | B25: R$/unidade
A26: Articulado | B26: R$/unidade
A28: Q2.2. Salários e benefícios
A29: Salários | B29: Unidade | C29: Valor
A30: Cobrador | B30: R$/mês
A31: Motorista | B31: R$/mês
A32: Pessoal de tráfego | B32: R$/mês
A33: Benefícios | B33: Unidade | C33: Valor
A34: Benefícios | B34: R$/mês
A36: Q2.3. Custos com Bilhetagem Eletrônica
A37: Custo com Software de Controle de Usuário e GPS | B37: Unidade | C37: Valor
A38: Software de Controle de Usuário e GPS | B38: R$/mês/carro
A40: Q2.4. Licenciamento da frota
A41: Item | B41: Unidade | C41: Valor
A42: Seguro obrigatório | B42: R$/veíc./ano | C42: 0
A43: Licenciamento | B43: R$/veíc./ano
A44: Total | C44: =C42+C43 -> 0
...

Sheet 03
A1: =Sumário!$A$1 -> Transporte Municipal - Guararema
A2: Quadro 3 - MEMÓRIA DE CÁLCULO DA EQUIPE DE PROFISSIONAIS DA OPERADORA
A3: PROPONENTE: | B3: =Sumário!$B$3 -> 0
A4: DATA BASE: | B4: =Sumário!$B$4 -> agosto de 2023
A6: Q3.1. Equipe de operação
A7: Função | F7: Quantidade | G7: Salário (R$)
A8: Motoristas | F8: ='06'!J87 -> 0 | G8: ='06'!J92 -> 0
A9: Cobradores | F9: ='06'!J101 -> 0 | G9: ='06'!J106 -> 0
A10: Total | F10: =SUM(F8:F9) -> 0 | G10: =SUM(G8:G9) -> 0
A12: Q3.2. Pessoal de tráfego
A13: Função | F13: Quantidade | G13: Salário (R$)
A14: Fiscal | F14: ='06'!J115 -> 0 | G14: =F14*'02'!C32 -> 0
A15: Função 2
A16: Função 3
A17: Função 4
A18: Função 5
A19: Função 6
A20: Função 7
A21: Função 8
A22: ...
A23: Função "n"
A24: Total | F24: =SUM(F14:F23) -> 0 | G24: =SUM(G14:G23) -> 0
A25: Salário médio (R$) | F25: =G24/F24 -> #DIV/0!

Sheet 04
A1: =Sumário!$A$1 -> Transporte Municipal - Guararema
A2: Quadro 04 - COEFICIENTES E PARÂMETROS
A3: PROPONENTE: | B3: =Sumário!$B$3 -> 0
A4: DATA BASE: | B4: =Sumário!$B$4 -> agosto de 2023
A6: Consumo de combustível (litros por km)
A7: Van
A8: Microônibus
A9: Miniônibus
A10: Ônibus básico
A11: Ônibus Padron | C11: =1/B11 -> #DIV/0!
A12: Articulado | C12: =1/B12 -> #DIV/0!
A14: Lubrificantes (% do consumo de diesel)
A15: Lubrificantes em geral
A17: Arla 32 (l/km)
A18: Consumo de ARLA
A20: Vida útil pneu (km)
A21: Micro
A22: Miniônibus
A23: Ônibus básico
A24: Ônibus Padron
A25: Articulado
A27: Quantidade de recapagens (unidade/pneu)
A28: Consumo de recapagens
A30: Peças e acessórios (% do valor do veículo/ano)
A31: Idade dos veículos | B31: % do valor do veículo/ano
A32: 0 a 2 anos | B32: 0.06
A33: 3 a 4 anos | B33: 0.07
A34: 5 a 6 anos | B34: 0.08
A35: 7 a 8 anos | B35: 0.09
A36: 9 a 10 anos | B36: 0.1
A37: acima de 10 anos | B37: 0.12
A39: Custos ambientais (% do valor do ônibus básico/ano)
A40: Estimativa dos custos ambientais
A42: Fatores de utilização (empregados por veículo operacional)
A43: Motoristas
A44: Fator de utilização físico
A45: Fator de utilização econômico
A46: Cobrador
A47: Fator de utilização físico
A48: Fator de utilização econômico
...

Sheet 05
A1: =Sumário!$A$1 -> Transporte Municipal - Guararema
A2: Quadro 05 - ENCARGOS SOCIAIS | V2: Vai p/ o índice
A3: PROPONENTE:
A4: =Sumário!B3 -> 0
A5: DATA BASE: | B5: =Sumário!$B$4 -> agosto de 2023
A8: Item | B8: % sobre a Folha
A9: Grupo A
A10: INSS - Contribuição da empresa
A11: SEST
A12: SENAT
A13: INCRA
A14: Salário Educação
A15: Seguro de Acidente de Trabalho - SAT
A16: SEBRAE
A17: FGTS
A18: Sub-total | B18: =SUM(B10:B17) -> 0
A20: Grupo B - Encargos Trabalhistas
A21: Abono de Férias (1/3 adicional de férias)
A22: Aviso Prévio trabalhado
A23: Auxílio Doença, Acidente de Trabalho, Licença Paternidade
A24: 13o. Salário
A25: Adicional Noturno
A26: Sub-total | B26: =SUM(B21:B25) -> 0
A28: Grupo C
A29: Aviso Prévio indenizado
A30: FGTS sobre Aviso Prévio Indenizado
A31: Multa sobre FGTS em rescião sem justa causa
A32: Constribuição Social Artigo 1 Lei Compl. 110/01
A33: Férias e 13º salário referente ao aviso prévio indenizado
A34: FGTS do cálculo de férias e 13º salário referente ao aviso prévio indenizado
A35: Sub-total | B35: =SUM(B29:B34) -> 0
A37: Grupo D - Incidência do Grupo A no Grupo B
A38: Incidência cumulativa do Grupo A no Grupo B | B38: =B18*B26 -> 0
A40: Total | B40: =B38+B35+B26+B18 -> 0

Sheet 06
A1: =Sumário!$A$1 -> Transporte Municipal - Guararema
A2: Quadro 06 - MEMÓRIA DE CÁLCULO DOS CUSTOS
A3: PROPONENTE: | B3: =Sumário!B3 -> 0
A4: DATA BASE: | B4: =Sumário!$B$4 -> agosto de 2023
A6: Q6.1. Custos variáveis
A8: Q6.1.1. Diesel
A9: Informação | B9: Unidade | C9: Global | D9: Microônbus | E9: Miniônibus | F9: Básico | G9: Padron | H9: Articulado | I9: Van | J9: Total
A10: Coeficiente | B10: l/km | D10: {=TRANSPOSE('04'!$B$8:$B$12)} -> 0 | E10: 0 | F10: 0 | G10: 0 | H10: 0 | I10: ='04'!B7 -> 0
A11: Produção Quilométrica | B11: km/mês | D11: ='01'!B43 -> 0 | E11: ='01'!C43 -> 0 | F11: ='01'!D43 -> 0 | G11: ='01'!E43 -> 0 | H11: ='01'!F43 -> 0 | I11: ='01'!G43 -> 0 | J11: =SUM(D11:I11) -> 0
A12: Consumo | B12: litros/mês | D12: =D10*D11 -> 0 | E12: =E10*E11 -> 0 | F12: =F10*F11 -> 0 | G12: =G10*G11 -> 0 | H12: =H10*H11 -> 0 | I12: =I10*I11 -> 0 | J12: =SUM(D12:I12) -> 0
A13: Custo | B13: R$/mês | D13: =D12*'02'!$C$8 -> 0 | E13: =E12*'02'!$C$8 -> 0 | F13: =F12*'02'!$C$8 -> 0 | G13: =G12*'02'!$C$8 -> 0 | H13: =H12*'02'!$C$8 -> 0 | I13: =I12*'02'!$C$8 -> 0 | J13: =SUM(D13:I13) -> 0
A14: Custo por km | B14: R$/km | D14: =IF(D11=0,"",ROUND(D13/D11,4)) | E14: =IF(E11=0,"",ROUND(E13/E11,4)) | F14: =IF(F11=0,"",ROUND(F13/F11,4)) | G14: =IF(G11=0,"",ROUND(G13/G11,4)) | H14: =IF(H11=0,"",ROUND(H13/H11,4)) | I14: =IF(I11=0,"",ROUND(I13/I11,4)) | J14: =IF(J11=0,"",ROUND(J13/J11,4))
A16: Q6.1.2. Lubrificantes e ARLA 32
A17: Q6.1.2.1. Lubrificantes
A18: Informação | B18: Unidade | C18: Global | D18: Microônbus | E18: Miniônibus | F18: Básico | G18: Padron | H18: Articulado | I18: Van | J18: Total
A19: Coeficiente | B19: % do diesel | D19: ='04'!$B$15 -> 0 | E19: ='04'!$B$15 -> 0 | F19: ='04'!$B$15 -> 0 | G19: ='04'!$B$15 -> 0 | H19: ='04'!$B$15 -> 0 | I19: ='04'!$B$15 -> 0
A20: Custo | B20: R$/mês | D20: =D13*D19 -> 0 | E20: =E13*E19 -> 0 | F20: =F13*F19 -> 0 | G20: =G13*G19 -> 0 | H20: =H13*H19 -> 0 | I20: =I13*I19 -> 0 | J20: =SUM(D20:I20) -> 0
A22: Q6.1.2.2. ARLA 32
A23: Informação | B23: Unidade | C23: Global | D23: Microônbus | E23: Miniônibus | F23: Básico | G23: Padron | H23: Articulado | I23: Van | J23: Total
A24: Coeficiente | B24: l/km | D24: =4%*D10 -> 0 | E24: =4%*E10 -> 0 | F24: =4%*F10 -> 0 | G24: =4%*G10 -> 0 | H24: =4%*H10 -> 0 | I24: =4%*I10 -> 0
A25: Consumo | B25: litros | D25: =D24*D11 -> 0 | E25: =E24*E11 -> 0 | F25: =F24*F11 -> 0 | G25: =G24*G11 -> 0 | H25: =H24*H11 -> 0 | I25: =I24*I11 -> 0 | J25: =SUM(D25:I25) -> 0
A26: Preço | B26: R$/l | D26: ='02'!$C$9 -> 0 | E26: ='02'!$C$9 -> 0 | F26: ='02'!$C$9 -> 0 | G26: ='02'!$C$9 -> 0 | H26: ='02'!$C$9 -> 0 | I26: ='02'!$C$9 -> 0
A27: Custo | B27: R$/mês | D27: =D25*D26 -> 0 | E27: =E25*E26 -> 0 | F27: =F25*F26 -> 0 | G27: =G25*G26 -> 0 | H27: =H25*H26 -> 0 | I27: =I25*I26 -> 0 | J27: =SUM(D27:I27) -> 0
A29: Q6.1.2.3 Total de lubrificantes e ARLA
A30: Informação | B30: Unidade | C30: Global | D30: Microônbus | E30: Miniônibus | F30: Básico | G30: Padron | H30: Articulado | I30: Van | J30: Total
A31: Lubrificante | B31: R$/mês | D31: =D20 -> 0 | E31: =E20 -> 0 | F31: =F20 -> 0 | G31: =G20 -> 0 | H31: =H20 -> 0 | I31: =I20 -> 0 | J31: =SUM(D31:I31) -> 0
A32: ARLA | B32: R$/mês | D32: =D27 -> 0 | E32: =E27 -> 0 | F32: =F27 -> 0 | G32: =G27 -> 0 | H32: =H27 -> 0 | I32: =I27 -> 0 | J32: =SUM(D32:I32) -> 0
A33: Custo total | B33: R$/mês | D33: =SUM(D31:D32) -> 0 | E33: =SUM(E31:E32) -> 0 | F33: =SUM(F31:F32) -> 0 | G33: =SUM(G31:G32) -> 0 | H33: =SUM(H31:H32) -> 0 | I33: =SUM(I31:I32) -> 0 | J33: =SUM(D33:I33) -> 0
A34: Custo/km | B34: R$/km | D34: =IFERROR(D33/D11,0) -> 0 | E34: =IFERROR(E33/E11,0) -> 0 | F34: =IFERROR(F33/F11,0) -> 0 | G34: =IFERROR(G33/G11,0) -> 0 | H34: =IFERROR(H33/H11,0) -> 0 | I34: =IFERROR(I33/I11,0) -> 0 | J34: =J33/J11 -> #DIV/0!
A36: Q6.1.3. Rodagem
A38: Q6.1.3.1 Pneu novo
A39: Informação | B39: Unidade | C39: Global | D39: Microônbus | E39: Miniônibus | F39: Básico | G39: Padron | H39: Articulado | I39: Van | J39: Total
A40: Vida útil | B40: Km | D40: ='04'!$B$22 -> 0 | E40: ='04'!$B$22 -> 0 | F40: ='04'!$B$23 -> 0 | G40: ='04'!$B$24 -> 0 | H40: ='04'!$B$25 -> 0 | I40: ='04'!B21 -> 0
A41: Quant. pneus | B41: un/veículo | D41: 6 | E41: 6 | F41: 6 | G41: 6 | H41: 10 | I41: 4
A42: Coeficiente | B42: un/veículo/km | D42: =IFERROR(D41/D40,0) -> 0 | E42: =IFERROR(E41/E40,0) -> 0 | F42: =IFERROR(F41/F40,0) -> 0 | G42: =IFERROR(G41/G40,0) -> 0 | H42: =IFERROR(H41/H40,0) -> 0 | I42: =IFERROR(I41/I40,0) -> 0
A43: Produção Quilométrica | B43: km/mês | D43: ='01'!B43 -> 0 | E43: ='01'!C43 -> 0 | F43: ='01'!D43 -> 0 | G43: ='01'!E43 -> 0 | H43: ='01'!F43 -> 0 | I43: ='01'!G43 -> 0 | J43: =SUM(D43:I43) -> 0
A44: Quantidade | B44: un/mês | D44: =D42*D43 -> 0 | E44: =E42*E43 -> 0 | F44: =F42*F43 -> 0 | G44: =G42*G43 -> 0 | H44: =H42*H43 -> 0 | I44: =I42*I43 -> 0
A45: Preço | B45: R$/un | D45: ='02'!$C$12 -> 0 | E45: ='02'!$C$12 -> 0 | F45: ='02'!$C$13 -> 0 | G45: ='02'!$C$14 -> 0 | H45: ='02'!$C$15 -> 0 | I45: ='02'!$C$11 -> 0
A46: Custo | B46: R$/mês | D46: =IFERROR(D44*D45,0) -> 0 | E46: =IFERROR(E44*E45,0) -> 0 | F46: =IFERROR(F44*F45,0) -> 0 | G46: =IFERROR(G44*G45,0) -> 0 | H46: =IFERROR(H44*H45,0) -> 0 | I46: =IFERROR(I44*I45,0) -> 0 | J46: =SUM(D46:I46) -> 0
A48: Q6.1.3.2 Recapagem
...

Sheet 07
A1: =Sumário!$A$1 -> Transporte Municipal - Guararema
A2: Quadro 07 - MEMÓRIA DE CÁLCULO DOS CUSTOS COM PEÇAS E ACESSÓRIOS
A3: PROPONENTE: | B3: =Sumário!B3 -> 0
A4: DATA BASE: | B4: =Sumário!$B$4 -> agosto de 2023
A6: Van | D6: Preço do veículo s/ pneus | G6: ='02'!$C$21-('02'!$C$11*4) -> 0
A8: Faixa | B8: Idade | C8: Coef. | D8: 1 | E8: =D8+1 -> 2 | F8: =E8+1 -> 3 | G8: =F8+1 -> 4 | H8: =G8+1 -> 5
A9: 0 - 1 | B9: 0 | C9: ='04'!$B$32 -> 0.06 | D9: ='08'!C48 -> 0 | E9: ='08'!D48 -> 0 | F9: ='08'!E48 -> 0 | G9: ='08'!F48 -> 0 | H9: ='08'!G48 -> 0
A10: 1 - 2 | B10: 1 | C10: ='04'!$B$32 -> 0.06 | D10: ='08'!C49 -> 0 | E10: ='08'!D49 -> 0 | F10: ='08'!E49 -> 0 | G10: ='08'!F49 -> 0 | H10: ='08'!G49 -> 0
A11: 2 - 3 | B11: 2 | C11: ='04'!$B$33 -> 0.07 | D11: ='08'!C50 -> 0 | E11: ='08'!D50 -> 0 | F11: ='08'!E50 -> 0 | G11: ='08'!F50 -> 0 | H11: ='08'!G50 -> 0
A12: 3 - 4 | B12: 3 | C12: ='04'!$B$33 -> 0.07 | D12: ='08'!C51 -> 0 | E12: ='08'!D51 -> 0 | F12: ='08'!E51 -> 0 | G12: ='08'!F51 -> 0 | H12: ='08'!G51 -> 0
A13: 4 - 5 | B13: 4 | C13: ='04'!$B$34 -> 0.08 | D13: ='08'!C52 -> 0 | E13: ='08'!D52 -> 0 | F13: ='08'!E52 -> 0 | G13: ='08'!F52 -> 0 | H13: ='08'!G52 -> 0
A14: 5 - 6 | B14: 5 | C14: ='04'!$B$34 -> 0.08 | D14: ='08'!C53 -> 0 | E14: ='08'!D53 -> 0 | F14: ='08'!E53 -> 0 | G14: ='08'!F53 -> 0 | H14: ='08'!G53 -> 0
A15: 6 - 7 | B15: 6 | C15: ='04'!$B$35 -> 0.09 | D15: ='08'!C54 -> 0 | E15: ='08'!D54 -> 0 | F15: ='08'!E54 -> 0 | G15: ='08'!F54 -> 0 | H15: ='08'!G54 -> 0
A16: 7 - 8 | B16: 7 | C16: ='04'!$B$35 -> 0.09 | D16: ='08'!C55 -> 0 | E16: ='08'!D55 -> 0 | F16: ='08'!E55 -> 0 | G16: ='08'!F55 -> 0 | H16: ='08'!G55 -> 0
A17: 8 - 9 | B17: 8 | C17: ='04'!$B$36 -> 0.1 | D17: ='08'!C56 -> 0 | E17: ='08'!D56 -> 0 | F17: ='08'!E56 -> 0 | G17: ='08'!F56 -> 0 | H17: ='08'!G56 -> 0
A18: 9 - 10 | B18: 9 | C18: ='04'!$B$36 -> 0.1 | D18: ='08'!C57 -> 0 | E18: ='08'!D57 -> 0 | F18: ='08'!E57 -> 0 | G18: ='08'!F57 -> 0 | H18: ='08'!G57 -> 0
A19: 10 - 11 | B19: 10 | C19: ='04'!$B$37 -> 0.12 | D19: ='08'!C58 -> 0 | E19: ='08'!D58 -> 0 | F19: ='08'!E58 -> 0 | G19: ='08'!F58 -> 0 | H19: ='08'!G58 -> 0
A20: 11 - 12 | B20: 11 | C20: ='04'!$B$37 -> 0.12 | D20: ='08'!C59 -> 0 | E20: ='08'!D59 -> 0 | F20: ='08'!E59 -> 0 | G20: ='08'!F59 -> 0 | H20: ='08'!G59 -> 0
A21: 12 - 13 | B21: 12 | C21: ='04'!$B$37 -> 0.12 | D21: ='08'!C60 -> 0 | E21: ='08'!D60 -> 0 | F21: ='08'!E60 -> 0 | G21: ='08'!F60 -> 0 | H21: ='08'!G60 -> 0
A22: Total | D22: =SUM(D9:D21) -> 0 | E22: =SUM(E9:E21) -> 0 | F22: =SUM(F9:F21) -> 0 | G22: =SUM(G9:G21) -> 0 | H22: =SUM(H9:H21) -> 0
A23: Valor mensal | D23: =SUMPRODUCT($C$9:$C$21,D9:D21)*$G$6/12 -> 0 | E23: =SUMPRODUCT($C$9:$C$21,E9:E21)*$G$6/12 -> 0 | F23: =SUMPRODUCT($C$9:$C$21,F9:F21)*$G$6/12 -> 0 | G23: =SUMPRODUCT($C$9:$C$21,G9:G21)*$G$6/12 -> 0 | H23: =SUMPRODUCT($C$9:$C$21,H9:H21)*$G$6/12 -> 0
A25: Microônibus | D25: Preço do veículo s/ pneus | G25: ='02'!$C$22-('02'!$C$12*4) -> 0
A27: Faixa | B27: Idade | C27: Coef. | D27: 1 | E27: =D27+1 -> 2 | F27: =E27+1 -> 3 | G27: =F27+1 -> 4 | H27: =G27+1 -> 5
A28: 0 - 1 | B28: 0 | C28: ='04'!$B$32 -> 0.06 | D28: ='08'!D109 -> 0 | E28: ='08'!E109 -> 0 | F28: ='08'!F109 -> 0 | G28: ='08'!G109 -> 0 | H28: ='08'!H109 -> 0
A29: 1 - 2 | B29: 1 | C29: ='04'!$B$32 -> 0.06 | D29: ='08'!D110 -> 0 | E29: ='08'!E110 -> 0 | F29: ='08'!F110 -> 0 | G29: ='08'!G110 -> 0 | H29: ='08'!H110 -> 0
A30: 2 - 3 | B30: 2 | C30: ='04'!$B$33 -> 0.07 | D30: ='08'!D111 -> 0 | E30: ='08'!E111 -> 0 | F30: ='08'!F111 -> 0 | G30: ='08'!G111 -> 0 | H30: ='08'!H111 -> 0
A31: 3 - 4 | B31: 3 | C31: ='04'!$B$33 -> 0.07 | D31: ='08'!D112 -> 0 | E31: ='08'!E112 -> 0 | F31: ='08'!F112 -> 0 | G31: ='08'!G112 -> 0 | H31: ='08'!H112 -> 0
A32: 4 - 5 | B32: 4 | C32: ='04'!$B$34 -> 0.08 | D32: ='08'!D113 -> 0 | E32: ='08'!E113 -> 0 | F32: ='08'!F113 -> 0 | G32: ='08'!G113 -> 0 | H32: ='08'!H113 -> 0
A33: 5 - 6 | B33: 5 | C33: ='04'!$B$34 -> 0.08 | D33: ='08'!D114 -> 0 | E33: ='08'!E114 -> 0 | F33: ='08'!F114 -> 0 | G33: ='08'!G114 -> 0 | H33: ='08'!H114 -> 0
A34: 6 - 7 | B34: 6 | C34: ='04'!$B$35 -> 0.09 | D34: ='08'!D115 -> 0 | E34: ='08'!E115 -> 0 | F34: ='08'!F115 -> 0 | G34: ='08'!G115 -> 0 | H34: ='08'!H115 -> 0
A35: 7 - 8 | B35: 7 | C35: ='04'!$B$35 -> 0.09 | D35: ='08'!D116 -> 0 | E35: ='08'!E116 -> 0 | F35: ='08'!F116 -> 0 | G35: ='08'!G116 -> 0 | H35: ='08'!H116 -> 0
A36: 8 - 9 | B36: 8 | C36: ='04'!$B$36 -> 0.1 | D36: ='08'!D117 -> 0 | E36: ='08'!E117 -> 0 | F36: ='08'!F117 -> 0 | G36: ='08'!G117 -> 0 | H36: ='08'!H117 -> 0
A37: 9 - 10 | B37: 9 | C37: ='04'!$B$36 -> 0.1 | D37: ='08'!D118 -> 0 | E37: ='08'!E118 -> 0 | F37: ='08'!F118 -> 0 | G37: ='08'!G118 -> 0 | H37: ='08'!H118 -> 0
A38: 10 - 11 | B38: 10 | C38: ='04'!$B$37 -> 0.12 | D38: ='08'!D119 -> 0 | E38: ='08'!E119 -> 0 | F38: ='08'!F119 -> 0 | G38: ='08'!G119 -> 0 | H38: ='08'!H119 -> 0
A39: 11 - 12 | B39: 11 | C39: ='04'!$B$37 -> 0.12 | D39: ='08'!D120 -> 0 | E39: ='08'!E120 -> 0 | F39: ='08'!F120 -> 0 | G39: ='08'!G120 -> 0 | H39: ='08'!H120 -> 0
A40: 12 - 13 | B40: 12 | C40: ='04'!$B$37 -> 0.12 | D40: ='08'!D121 -> 0 | E40: ='08'!E121 -> 0 | F40: ='08'!F121 -> 0 | G40: ='08'!G121 -> 0 | H40: ='08'!H121 -> 0
A41: Total | D41: =SUM(D28:D40) -> 0 | E41: =SUM(E28:E40) -> 0 | F41: =SUM(F28:F40) -> 0 | G41: =SUM(G28:G40) -> 0 | H41: =SUM(H28:H40) -> 0
A42: Valor mensal | D42: =SUMPRODUCT($C$28:$C$40,D28:D40)*$G$25/12 -> 0 | E42: =SUMPRODUCT($C$28:$C$40,E28:E40)*$G$25/12 -> 0 | F42: =SUMPRODUCT($C$28:$C$40,F28:F40)*$G$25/12 -> 0 | G42: =SUMPRODUCT($C$28:$C$40,G28:G40)*$G$25/12 -> 0 | H42: =SUMPRODUCT($C$28:$C$40,H28:H40)*$G$25/12 -> 0
A44: Miniônibus | D44: Preço do veículo s/ pneus | G44: ='02'!C23-6*'02'!C12 -> 0
A46: Faixa | B46: Idade | C46: Coef. | D46: 1 | E46: =D46+1 -> 2 | F46: =E46+1 -> 3 | G46: =F46+1 -> 4 | H46: =G46+1 -> 5
...

Sheet 08
A1: =Sumário!$A$1 -> Transporte Municipal - Guararema
A2: Quadro 08 - PLANEJAMENTO DA FROTA, AQUISIÇÕES, VENDAS E DEPRECIAÇÃO REAL
A3: PROPONENTE: | B3: =Sumário!B3 -> 0
A4: DATA BASE: | B4: =Sumário!$B$4 -> agosto de 2023
A6: Q8.1 - VAN
A8: Q8.1.1 - Aquisições
A9: Faixa | B9: Idade | C9: Pré-oper. | D9: Ano 1 | E9: Ano 2 | F9: Ano 3 | G9: Ano 4 | H9: Ano 5 | I9: Ano 6 | J9: Fator de dep. | K9: % valor do veíc. Novo | L9: Valor do veículo (R$) | M9: % Valor Contábil | N9: % Valor para IR | O9: Valor do veículo p/ IR (R$)
A10: 0 - 1 | B10: 0 | C10: ='01'!G20 -> 0 | E10: =SUM(E29:E41) -> 0 | F10: =SUM(F29:F41) -> 0 | G10: =SUM(G29:G41) -> 0 | H10: =SUM(H29:H41) -> 0 | J10: =$K$132-K10 -> 0 | K10: 1 | L10: =K10*$L$24 -> 0
A11: 1 - 2 | B11: 1.5 | C11: ='01'!G21 -> 0 | J11: =P11*(1-'04'!$C$58)/SUM($P$194:$P$203) -> 0.18888889 | K11: =$K$193-J11 -> 0.81111111 | L11: =K11*$L$24 -> 0 | M11: 0.75 | N11: =K11-M11 -> 0.061111111 | O11: =N11*$L$24 -> 0 | P11: ='04'!$B$60 -> 8
A12: 2 - 3 | B12: 2.5 | C12: ='01'!G22 -> 0 | J12: =(P12*(1-'04'!$C$58)/SUM($P$194:$P$203))+J11 -> 0.35416667 | K12: =$K$193-J12 -> 0.64583333 | L12: =K12*$L$24 -> 0 | M12: 0.5 | N12: =K12-M12 -> 0.14583333 | O12: =N12*$L$24 -> 0 | P12: =P11-1 -> 7
A13: 3 - 4 | B13: 3.5 | C13: ='01'!G23 -> 0 | J13: =(P13*(1-'04'!$C$58)/SUM($P$194:$P$203))+J12 -> 0.49583333 | K13: =$K$193-J13 -> 0.50416667 | L13: =K13*$L$24 -> 0 | M13: 0.25 | N13: =K13-M13 -> 0.25416667 | O13: =N13*$L$24 -> 0 | P13: =P12-1 -> 6
A14: 4 - 5 | B14: 4.5 | C14: ='01'!G24 -> 0 | J14: =(P14*(1-'04'!$C$58)/SUM($P$194:$P$203))+J13 -> 0.61388889 | K14: =$K$193-J14 -> 0.38611111 | L14: =K14*$L$24 -> 0 | N14: =K14-M14 -> 0.38611111 | O14: =N14*$L$24 -> 0 | P14: =P13-1 -> 5
A15: 5 - 6 | B15: 5.5 | C15: ='01'!G25 -> 0 | J15: =(P15*(1-'04'!$C$58)/SUM($P$194:$P$203))+J14 -> 0.70833333 | K15: =$K$193-J15 -> 0.29166667 | L15: =K15*$L$24 -> 0 | N15: =K15-M15 -> 0.29166667 | O15: =N15*$L$24 -> 0 | P15: =P14-1 -> 4
A16: 6 - 7 | B16: 6.5 | C16: ='01'!G26 -> 0 | J16: =(P16*(1-'04'!$C$58)/SUM($P$194:$P$203))+J15 -> 0.77916667 | K16: =$K$193-J16 -> 0.22083333 | L16: =K16*$L$24 -> 0 | N16: =K16-M16 -> 0.22083333 | O16: =N16*$L$24 -> 0 | P16: =P15-1 -> 3
A17: 7 - 8 | B17: 7.5 | C17: ='01'!G27 -> 0 | J17: =(P17*(1-'04'!$C$58)/SUM($P$194:$P$203))+J16 -> 0.82638889 | K17: =$K$193-J17 -> 0.17361111 | L17: =K17*$L$24 -> 0 | N17: =K17-M17 -> 0.17361111 | O17: =N17*$L$24 -> 0 | P17: =P16-1 -> 2
A18: 8 - 9 | B18: 8.5 | C18: ='01'!G28 -> 0 | J18: =(P18*(1-'04'!$C$58)/SUM($P$194:$P$203))+J17 -> 0.85 | K18: =$K$193-J18 -> 0.15 | L18: =K18*$L$24 -> 0 | N18: =K18-M18 -> 0.15 | O18: =N18*$L$24 -> 0 | P18: =P17-1 -> 1
A19: 9 - 10 | B19: 9.5 | C19: ='01'!G29 -> 0 | J19: =(P19*(1-'04'!$C$58)/SUM($P$194:$P$203))+J18 -> 0.85 | K19: =$K$193-J19 -> 0.15 | L19: =K19*$L$24 -> 0 | N19: =K19-M19 -> 0.15 | O19: =N19*$L$24 -> 0 | P19: =P18-1 -> 0
A20: 10 - 11 | B20: 10.5 | C20: ='01'!G30 -> 0 | J20: =(P20*(1-'04'!$C$58)/SUM($P$194:$P$203))+J19 -> 0.85 | K20: =$K$193-J20 -> 0.15 | L20: =K20*$L$24 -> 0 | N20: =K20-M20 -> 0.15 | O20: =N20*$L$24 -> 0
A21: 11 - 12 | B21: 11.5 | C21: ='01'!G31 -> 0 | J21: =(P21*(1-'04'!$C$58)/SUM($P$194:$P$203))+J20 -> 0.85 | K21: =K20 -> 0.15 | L21: =K21*$L$24 -> 0 | O21: =N21*$L$24 -> 0
A22: 12 - 13 | B22: 12.5 | L22: =K22*$M$207 -> 0 | O22: =N22*$L$24 -> 0
A23: Total | C23: =SUM(C10:C22) -> 0 | D23: =SUM(D10:D22) -> 0 | E23: =SUM(E10:E22) -> 0 | F23: =SUM(F10:F22) -> 0 | G23: =SUM(G10:G22) -> 0 | H23: =SUM(H10:H22) -> 0
A24: Investimento | C24: =SUMPRODUCT(C10:C22,$L$10:$L$22) -> 0 | D24: =SUMPRODUCT(D10:D22,$L$10:$L$22) -> 0 | E24: =SUMPRODUCT(E10:E22,$L$10:$L$22) -> 0 | F24: =SUMPRODUCT(F10:F22,$L$10:$L$22) -> 0 | G24: =SUMPRODUCT(G10:G22,$L$10:$L$22) -> 0 | H24: =SUMPRODUCT(H10:H22,$L$10:$L$22) -> 0 | J24: Valor do veículo novo | L24: ='02'!$C$21 -> 0
A27: Q8.1.2 - Venda
A28: Faixa | B28: Idade | C28: Pré-oper. | D28: Ano 1 | E28: Ano 2 | F28: Ano 3 | G28: Ano 4 | H28: Ano 5 | I28: Ano 6
A29: 0 - 1 | B29: 0
A30: 1 - 2 | B30: 1 | I30: =H48 -> 0
A31: 2 - 3 | B31: 2 | I31: =H49 -> 0
A32: 3 - 4 | B32: 3 | I32: =H50 -> 0
A33: 4 - 5 | B33: 4 | H33: 0 | I33: =H51 -> 0
A34: 5 - 6 | B34: 5 | I34: =H52 -> 0
A35: 6 - 7 | B35: 6 | I35: =H53 -> 0
A36: 7 - 8 | B36: 7 | I36: =H54 -> 0
A37: 8 - 9 | B37: 8 | E37: =D55 -> 0 | F37: =E55 -> 0 | G37: =F55 -> 0 | H37: =G55 -> 0 | I37: =H55 -> 0
A38: 9 - 10 | B38: 9 | I38: =H56 -> 0
A39: 10 - 11 | B39: 10 | I39: =H57 -> 0
A40: 11 - 12 | B40: 11 | I40: =H58 -> 0
A41: 12 - 13 | B41: 12 | I41: =H59 -> 0
A42: Total | C42: =SUM(C29:C41) -> 0 | D42: =SUM(D29:D41) -> 0 | E42: =SUM(E29:E41) -> 0 | F42: =SUM(F29:F41) -> 0 | G42: =SUM(G29:G41) -> 0 | H42: =SUM(H29:H41) -> 0
A43: Receita | C43: =SUMPRODUCT(C29:C41,$L$10:$L$22) -> 0 | D43: =SUMPRODUCT(D29:D41,$L$10:$L$22) -> 0 | E43: =SUMPRODUCT(E29:E41,$L$10:$L$22) -> 0 | F43: =SUMPRODUCT(F29:F41,$L$10:$L$22) -> 0 | G43: =SUMPRODUCT(G29:G41,$L$10:$L$22) -> 0 | H43: =SUMPRODUCT(H29:H41,$L$10:$L$22) -> 0 | I43: =SUMPRODUCT(I29:I41,$L$10:$L$22) -> 0
I44: =SUMPRODUCT(I29:I41,$O$10:$O$22) -> 0
...

Sheet 09
A1: =Sumário!$A$1 -> Transporte Municipal - Guararema
A2: Quadro 09 - INVESTIMENTO EM EQUIPAMENTOS TECNOLÓGICOS EMBARCADOS (SBE, SMTC, E OUTROS) | Y2: Vai p/ o índice
A3: PROPONENTE: | B3: =Sumário!B3 -> 0
A4: DATA BASE: | B4: =Sumário!$B$4 -> agosto de 2023
A6: Q9.1 - Quantidades
A8: Equipamento | B8: Unidade | D8: Quantidades adquiridas ao longo do contrato
D9: Pré-operac. | E9: 1 | F9: 2 | G9: 3 | H9: 4 | I9: 5
A10: ='02'!A48 -> Equipamentos embarcados do SBE | B10: ='02'!B48 -> un. / veíc. | D10: ='01'!$H$36 -> 0
A11: ='02'!A49 -> Equipamentos de garagem do SBE | B11: ='02'!B49 -> un. / garagem | D11: 1
A12: ='02'!A50 -> Conjunto de câmeras de vigilância (04 por veículo) | B12: ='02'!B50 -> un. / veíc.
A13: ='02'!A51 -> Painéis nos veículos padron e articulado | B13: ='02'!B51 -> cj. / veíc.
A14: ='02'!A52 -> Monitor para mídia Indor | B14: ='02'!B52 -> un. / Veic. | D14: =2*'01'!D12+1*'01'!D11 -> 0
A15: ='02'!A53 -> Sistema Wi-fi nos ônibus | B15: ='02'!B53 -> un. / veíc. | D15: ='01'!$H$36 -> 0
A22: Q9.2 - Investimentos
A24: Equipamento | B24: Unidade | C24: Preço Unitário (R$)
D25: Pré-operac. | E25: 1 | F25: 2 | G25: 3 | H25: 4 | I25: 5
A26: =A10 -> Equipamentos embarcados do SBE | B26: =B10 -> un. / veíc. | C26: ='02'!C48 -> 0 | D26: =$C$26*D10 -> 0 | E26: =$C$26*E10 -> 0 | F26: =$C$26*F10 -> 0 | G26: =$C$26*G10 -> 0 | H26: =$C$26*H10 -> 0 | I26: =$C$26*I10 -> 0
A27: =A11 -> Equipamentos de garagem do SBE | B27: =B11 -> un. / garagem | C27: ='02'!C49 -> 0 | D27: =$C$27*D11 -> 0 | E27: =$C$27*E11 -> 0 | F27: =$C$27*F11 -> 0 | G27: =$C$27*G11 -> 0 | H27: =$C$27*H11 -> 0 | I27: =$C$27*I11 -> 0
A28: =A12 -> Conjunto de câmeras de vigilância (04 por veículo) | B28: =B12 -> un. / veíc. | C28: ='02'!C50 -> 0 | D28: =$C$28*D12 -> 0 | E28: =$C$28*E12 -> 0 | F28: =$C$28*F12 -> 0 | G28: =$C$28*G12 -> 0 | H28: =$C$28*H12 -> 0 | I28: =$C$28*I12 -> 0
A29: =A13 -> Painéis nos veículos padron e articulado | B29: =B13 -> cj. / veíc. | C29: ='02'!C51 -> 0 | D29: =$C$29*D13 -> 0 | E29: =$C$29*E13 -> 0 | F29: =$C$29*F13 -> 0 | G29: =$C$29*G13 -> 0 | H29: =$C$29*H13 -> 0 | I29: =$C$29*I13 -> 0
A30: =A14 -> Monitor para mídia Indor | B30: =B14 -> un. / Veic. | C30: ='02'!C52 -> 0 | D30: =$C$30*D14 -> 0 | E30: =$C$30*E14 -> 0 | F30: =$C$30*F14 -> 0 | G30: =$C$30*G14 -> 0 | H30: =$C$30*H14 -> 0 | I30: =$C$30*I14 -> 0
A31: =A15 -> Sistema Wi-fi nos ônibus | B31: =B15 -> un. / veíc. | C31: ='02'!C53 -> 0 | D31: =$C$31*D15 -> 0 | E31: =$C$31*E15 -> 0 | F31: =$C$31*F15 -> 0 | G31: =$C$31*G15 -> 0 | H31: =$C$31*H15 -> 0 | I31: =$C$31*I15 -> 0
D32: =$C$32*D16 -> 0 | E32: =$C$32*E16 -> 0 | F32: =$C$32*F16 -> 0 | G32: =$C$32*G16 -> 0 | H32: =$C$32*H16 -> 0 | I32: =$C$32*I16 -> 0
D33: =$C$33*D17 -> 0 | E33: =$C$33*E17 -> 0 | F33: =$C$33*F17 -> 0 | G33: =$C$33*G17 -> 0 | H33: =$C$33*H17 -> 0 | I33: =$C$33*I17 -> 0
D34: =$C$34*D18 -> 0 | E34: =$C$34*E18 -> 0 | F34: =$C$34*F18 -> 0 | G34: =$C$34*G18 -> 0 | H34: =$C$34*H18 -> 0 | I34: =$C$34*I18 -> 0
D35: =$C$35*D19 -> 0 | E35: =$C$35*E19 -> 0 | F35: =$C$35*F19 -> 0 | G35: =$C$35*G19 -> 0 | H35: =$C$35*H19 -> 0 | I35: =$C$35*I19 -> 0
A36: Total | D36: =SUM(D26:D35) -> 0 | E36: =SUM(E26:E35) -> 0 | F36: =SUM(F26:F35) -> 0 | G36: =SUM(G26:G35) -> 0 | H36: =SUM(H26:H35) -> 0 | I36: =SUM(I26:I35) -> 0
A39: Q9.3 - Depreciação
A41: Equipamento | B41: Taxa anual de depreciação e amortização (%) | C41: Número de anos a serem depreciados
A43: =A10 -> Equipamentos embarcados do SBE | B43: =IF(C43=0,"",(1-D43)/C43) -> 0.2 | C43: 5
A44: =A11 -> Equipamentos de garagem do SBE | B44: =IF(C44=0,"",(1-D44)/C44) -> 0.2 | C44: 5
A45: =A12 -> Conjunto de câmeras de vigilância (04 por veículo) | B45: =IF(C45=0,"",(1-D45)/C45) -> 0.2 | C45: 5
A46: =A13 -> Painéis nos veículos padron e articulado | B46: =IF(C46=0,"",(1-D46)/C46) -> 0.2 | C46: 5
A47: =A14 -> Monitor para mídia Indor | B47: =IF(C47=0,"",(1-D47)/C47) -> 0.2 | C47: 5
A48: =A15 -> Sistema Wi-fi nos ônibus | B48: =IF(C48=0,"",(1-D48)/C48) -> 0.2 | C48: 5
B49: =IF(C49=0,"",(1-D49)/C49)
B50: =IF(C50=0,"",(1-D50)/C50)
B51: =IF(C51=0,"",(1-D51)/C51)
B52: =IF(C52=0,"",(1-D52)/C52)
A53: Total
...

Sheet 10
A1: =Sumário!$A$1 -> Transporte Municipal - Guararema
A2: Quadro 10 - INVESTIMENTO EM GARAGEM E OUTROS EQUIPAMENTOS
A3: PROPONENTE: | B3: =Sumário!B3 -> 0
A4: DATA BASE: | B4: =Sumário!$B$4 -> agosto de 2023
A6: Q10.1 - Investimento
A8: Item | B8: Unidade | C8: Valor total (R$)
D9: Pré-operac. | E9: 1 | F9: 2 | G9: 3 | H9: 4 | I9: 5
A10: Terreno para instalações de garagem | B10: vb | D10: =C10 -> 0
A11: Infra e equipamentos da garagem | B11: vb | C11: ='06'!$D$184 -> 0 | D11: =C11 -> 0 | E11: =IF(OR(E$9=$C84+1,E$9=$C84*2+1,E$9=$C84*3+1,E$9=$C84*4+1,E$9=$C84*5+1),$D11,0) -> 0 | F11: =IF(OR(F$9=$C84+1,F$9=$C84*2+1,F$9=$C84*3+1,F$9=$C84*4+1,F$9=$C84*5+1),$D11,0) -> 0 | G11: =IF(OR(G$9=$C84+1,G$9=$C84*2+1,G$9=$C84*3+1,G$9=$C84*4+1,G$9=$C84*5+1),$D11,0) -> 0 | H11: =IF(OR(H$9=$C84+1,H$9=$C84*2+1,H$9=$C84*3+1,H$9=$C84*4+1,H$9=$C84*5+1),$D11,0) -> 0 | I11: =IF(OR(I$9=$C84+1,I$9=$C84*2+1,I$9=$C84*3+1,I$9=$C84*4+1,I$9=$C84*5+1),$D11,0) -> 0
A12: Veículos de apoio leves | B12: vb | D12: =C12 -> 0 | E12: =IF(OR(E$9=$C85+1,E$9=$C85*2+1,E$9=$C85*3+1,E$9=$C85*4+1,E$9=$C85*5+1),$D12,0) -> 0 | F12: =IF(OR(F$9=$C85+1,F$9=$C85*2+1,F$9=$C85*3+1,F$9=$C85*4+1,F$9=$C85*5+1),$D12,0) -> 0 | G12: =IF(OR(G$9=$C85+1,G$9=$C85*2+1,G$9=$C85*3+1,G$9=$C85*4+1,G$9=$C85*5+1),$D12,0) -> 0 | H12: =IF(OR(H$9=$C85+1,H$9=$C85*2+1,H$9=$C85*3+1,H$9=$C85*4+1,H$9=$C85*5+1),$D12,0) -> 0 | I12: =IF(OR(I$9=$C85+1,I$9=$C85*2+1,I$9=$C85*3+1,I$9=$C85*4+1,I$9=$C85*5+1),$D12,0) -> 0
A13: Veículos de apoio pesados | B13: vb | D13: =C13 -> 0 | E13: =IF(OR(E$9=$C86+1,E$9=$C86*2+1,E$9=$C86*3+1,E$9=$C86*4+1,E$9=$C86*5+1),$D13,0) -> 0 | F13: =IF(OR(F$9=$C86+1,F$9=$C86*2+1,F$9=$C86*3+1,F$9=$C86*4+1,F$9=$C86*5+1),$D13,0) -> 0 | G13: =IF(OR(G$9=$C86+1,G$9=$C86*2+1,G$9=$C86*3+1,G$9=$C86*4+1,G$9=$C86*5+1),$D13,0) -> 0 | H13: =IF(OR(H$9=$C86+1,H$9=$C86*2+1,H$9=$C86*3+1,H$9=$C86*4+1,H$9=$C86*5+1),$D13,0) -> 0 | I13: =IF(OR(I$9=$C86+1,I$9=$C86*2+1,I$9=$C86*3+1,I$9=$C86*4+1,I$9=$C86*5+1),$D13,0) -> 0
A19: Total | D19: =SUM(D10:D18) -> 0 | E19: =SUM(E10:E18) -> 0 | F19: =SUM(F10:F18) -> 0 | G19: =SUM(G10:G18) -> 0 | H19: =SUM(H10:H18) -> 0 | I19: =SUM(I10:I18) -> 0
A20: Subtotal Veiculos | D20: =SUM(D12:D13) -> 0 | E20: =SUM(E12:E13) -> 0 | F20: =SUM(F12:F13) -> 0 | G20: =SUM(G12:G13) -> 0 | H20: =SUM(H12:H13) -> 0 | I20: =SUM(I12:I13) -> 0
A22: Q10.2 - Depreciação
A24: Item | B24: Taxa anual de depreciação e amortização (%) | C24: Número de anos a serem depreciados | D24: Valor residual (%)
A26: =A10 -> Terreno para instalações de garagem | B26: =IF(C26=0,"",(1-D26)/C26) | D26: 1
A27: =A11 -> Infra e equipamentos da garagem | B27: =1/C27 -> 0.066666667 | C27: 15 | D27: 0
A28: Veículos de apoio leves | B28: =1/C28 -> 0.2 | C28: 5 | D28: 0.3
A29: =A13 -> Veículos de apoio pesados | B29: =1/C29 -> 0.2 | C29: 5 | D29: 0.1
A30: =A14 -> 0 | B30: =1/C30 -> 0.1 | C30: 10 | D30: 0
A31: =A15 -> 0
A32: =A16 -> 0
A35: Total
C38: 0 | D38: 1 | E38: 2 | F38: 3 | G38: 4 | H38: 5
B39: Deprec. Infra | C39: Ano 0 | D39: Ano 1 | E39: Ano 2 | F39: Ano 3 | G39: Ano 4 | H39: Ano 5 | I39: Total
A40: 0 | B40: Ano 0 | C40: {=TRANSPOSE($D$11:$I$11)} -> 0 | D40: =C40*$B$27 -> 0 | E40: =IF(E$38<=$A40,0,IF(SUM($D40:D40)=$C40,0,$C40*$B$27)) -> 0 | F40: =IF(F$38<=$A40,0,IF(SUM($D40:E40)=$C40,0,$C40*$B$27)) -> 0 | G40: =IF(G$38<=$A40,0,IF(SUM($D40:F40)=$C40,0,$C40*$B$27)) -> 0 | H40: =IF(H$38<=$A40,0,IF(SUM($D40:G40)=$C40,0,$C40*$B$27)) -> 0 | I40: =SUM(D40:H40) -> 0
A41: 1 | B41: Ano 1 | C41: 0 | D41: 0 | E41: =IF(E$38<=$A41,0,IF(SUM($D41:D41)=$C41,0,$C41*$B$27)) -> 0 | F41: =IF(F$38<=$A41,0,IF(SUM($D41:E41)=$C41,0,$C41*$B$27)) -> 0 | G41: =IF(G$38<=$A41,0,IF(SUM($D41:F41)=$C41,0,$C41*$B$27)) -> 0 | H41: =IF(H$38<=$A41,0,IF(SUM($D41:G41)=$C41,0,$C41*$B$27)) -> 0 | I41: =SUM(D41:H41) -> 0
A42: 2 | B42: Ano 2 | C42: 0 | D42: 0 | E42: =IF(E$38<=$A42,0,IF(SUM($D42:D42)=$C42,0,$C42*$B$27)) -> 0 | F42: =IF(F$38<=$A42,0,IF(SUM($D42:E42)=$C42,0,$C42*$B$27)) -> 0 | G42: =IF(G$38<=$A42,0,IF(SUM($D42:F42)=$C42,0,$C42*$B$27)) -> 0 | H42: =IF(H$38<=$A42,0,IF(SUM($D42:G42)=$C42,0,$C42*$B$27)) -> 0 | I42: =SUM(D42:H42) -> 0
A43: 3 | B43: Ano 3 | C43: 0 | D43: 0 | E43: =IF(E$38<=$A43,0,IF(SUM($D43:D43)=$C43,0,$C43*$B$27)) -> 0 | F43: =IF(F$38<=$A43,0,IF(SUM($D43:E43)=$C43,0,$C43*$B$27)) -> 0 | G43: =IF(G$38<=$A43,0,IF(SUM($D43:F43)=$C43,0,$C43*$B$27)) -> 0 | H43: =IF(H$38<=$A43,0,IF(SUM($D43:G43)=$C43,0,$C43*$B$27)) -> 0 | I43: =SUM(D43:H43) -> 0
A44: 4 | B44: Ano 4 | C44: 0 | D44: 0 | E44: =IF(E$38<=$A44,0,IF(SUM($D44:D44)=$C44,0,$C44*$B$27)) -> 0 | F44: =IF(F$38<=$A44,0,IF(SUM($D44:E44)=$C44,0,$C44*$B$27)) -> 0 | G44: =IF(G$38<=$A44,0,IF(SUM($D44:F44)=$C44,0,$C44*$B$27)) -> 0 | H44: =IF(H$38<=$A44,0,IF(SUM($D44:G44)=$C44,0,$C44*$B$27)) -> 0 | I44: =SUM(D44:H44) -> 0
A45: 5 | B45: Ano 5 | C45: 0 | D45: 0 | E45: =IF(E$38<=$A45,0,IF(SUM($D45:D45)=$C45,0,$C45*$B$27)) -> 0 | F45: =IF(F$38<=$A45,0,IF(SUM($D45:E45)=$C45,0,$C45*$B$27)) -> 0 | G45: =IF(G$38<=$A45,0,IF(SUM($D45:F45)=$C45,0,$C45*$B$27)) -> 0 | H45: =IF(H$38<=$A45,0,IF(SUM($D45:G45)=$C45,0,$C45*$B$27)) -> 0 | I45: =SUM(D45:H45) -> 0
B46: Total | C46: =SUM(C40:C45) -> 0 | D46: =SUM(D40:D45) -> 0 | E46: =SUM(E40:E45) -> 0 | F46: =SUM(F40:F45) -> 0 | G46: =SUM(G40:G45) -> 0 | H46: =SUM(H40:H45) -> 0 | I46: =SUM(I40:I45) -> 0
B48: Com efeito Inflação (para fuxo real) | D48: 1 | E48: 2 | F48: 3 | G48: 4 | H48: 5
B49: Deprec. Infra | C49: Ano 0 | D49: Ano 1 | E49: Ano 2 | F49: Ano 3 | G49: Ano 4 | H49: Ano 5 | I49: Total
B50: Ano 0 | C50: =C40 -> 0 | D50: =D40/(1+(HLOOKUP(COUNTIF($D40:D40,">0"),'14'!$B$1:$AI$5,5,FALSE))) -> 0 | E50: =E40/(1+(HLOOKUP(COUNTIF($D40:E40,">0"),'14'!$B$1:$AI$5,5,FALSE))) -> 0 | F50: =F40/(1+(HLOOKUP(COUNTIF($D40:F40,">0"),'14'!$B$1:$AI$5,5,FALSE))) -> 0 | G50: =G40/(1+(HLOOKUP(COUNTIF($D40:G40,">0"),'14'!$B$1:$AI$5,5,FALSE))) -> 0 | H50: =H40/(1+(HLOOKUP(COUNTIF($D40:H40,">0"),'14'!$B$1:$AI$5,5,FALSE))) -> 0 | I50: =SUM(D50:H50) -> 0
B51: Ano 1 | C51: =C41 -> 0 | D51: =D41/(1+(HLOOKUP(COUNTIF($D41:D41,">0"),'14'!$B$1:$AI$5,5,FALSE))) -> 0 | E51: =E41/(1+(HLOOKUP(COUNTIF($D41:E41,">0"),'14'!$B$1:$AI$5,5,FALSE))) -> 0 | F51: =F41/(1+(HLOOKUP(COUNTIF($D41:F41,">0"),'14'!$B$1:$AI$5,5,FALSE))) -> 0 | G51: =G41/(1+(HLOOKUP(COUNTIF($D41:G41,">0"),'14'!$B$1:$AI$5,5,FALSE))) -> 0 | H51: =H41/(1+(HLOOKUP(COUNTIF($D41:H41,">0"),'14'!$B$1:$AI$5,5,FALSE))) -> 0 | I51: =SUM(D51:H51) -> 0
B52: Ano 2 | C52: =C42 -> 0 | D52: =D42/(1+(HLOOKUP(COUNTIF($D42:D42,">0"),'14'!$B$1:$AI$5,5,FALSE))) -> 0 | E52: =E42/(1+(HLOOKUP(COUNTIF($D42:E42,">0"),'14'!$B$1:$AI$5,5,FALSE))) -> 0 | F52: =F42/(1+(HLOOKUP(COUNTIF($D42:F42,">0"),'14'!$B$1:$AI$5,5,FALSE))) -> 0 | G52: =G42/(1+(HLOOKUP(COUNTIF($D42:G42,">0"),'14'!$B$1:$AI$5,5,FALSE))) -> 0 | H52: =H42/(1+(HLOOKUP(COUNTIF($D42:H42,">0"),'14'!$B$1:$AI$5,5,FALSE))) -> 0 | I52: =SUM(D52:H52) -> 0
B53: Ano 3 | C53: =C43 -> 0 | D53: =D43/(1+(HLOOKUP(COUNTIF($D43:D43,">0"),'14'!$B$1:$AI$5,5,FALSE))) -> 0 | E53: =E43/(1+(HLOOKUP(COUNTIF($D43:E43,">0"),'14'!$B$1:$AI$5,5,FALSE))) -> 0 | F53: =F43/(1+(HLOOKUP(COUNTIF($D43:F43,">0"),'14'!$B$1:$AI$5,5,FALSE))) -> 0 | G53: =G43/(1+(HLOOKUP(COUNTIF($D43:G43,">0"),'14'!$B$1:$AI$5,5,FALSE))) -> 0 | H53: =H43/(1+(HLOOKUP(COUNTIF($D43:H43,">0"),'14'!$B$1:$AI$5,5,FALSE))) -> 0 | I53: =SUM(D53:H53) -> 0
B54: Ano 4 | C54: =C44 -> 0 | D54: =D44/(1+(HLOOKUP(COUNTIF($D44:D44,">0"),'14'!$B$1:$AI$5,5,FALSE))) -> 0 | E54: =E44/(1+(HLOOKUP(COUNTIF($D44:E44,">0"),'14'!$B$1:$AI$5,5,FALSE))) -> 0 | F54: =F44/(1+(HLOOKUP(COUNTIF($D44:F44,">0"),'14'!$B$1:$AI$5,5,FALSE))) -> 0 | G54: =G44/(1+(HLOOKUP(COUNTIF($D44:G44,">0"),'14'!$B$1:$AI$5,5,FALSE))) -> 0 | H54: =H44/(1+(HLOOKUP(COUNTIF($D44:H44,">0"),'14'!$B$1:$AI$5,5,FALSE))) -> 0 | I54: =SUM(D54:H54) -> 0
B55: Ano 5 | C55: =C45 -> 0 | D55: =D45/(1+(HLOOKUP(COUNTIF($D45:D45,">0"),'14'!$B$1:$AI$5,5,FALSE))) -> 0 | E55: =E45/(1+(HLOOKUP(COUNTIF($D45:E45,">0"),'14'!$B$1:$AI$5,5,FALSE))) -> 0 | F55: =F45/(1+(HLOOKUP(COUNTIF($D45:F45,">0"),'14'!$B$1:$AI$5,5,FALSE))) -> 0 | G55: =G45/(1+(HLOOKUP(COUNTIF($D45:G45,">0"),'14'!$B$1:$AI$5,5,FALSE))) -> 0 | H55: =H45/(1+(HLOOKUP(COUNTIF($D45:H45,">0"),'14'!$B$1:$AI$5,5,FALSE))) -> 0 | I55: =SUM(D55:H55) -> 0
...

Sheet 11
A1: =Sumário!$A$1 -> Transporte Municipal - Guararema
A2: Quadro 11 -DEPRECIAÇÃO FISCAL DA FROTA
A3: PROPONENTE: | B3: =Sumário!B3 -> 0
A4: DATA BASE: | B4: =Sumário!$B$4 -> agosto de 2023
A6: Q11.1 - Investimento
A8: Item | B8: Taxa anual de depreciação e amortização (%) | C8: Número de anos a serem depreciados
D9: Pré-operac. | E9: 1 | F9: 2 | G9: 3 | H9: 4 | I9: 5
A10: Van | B10: 0.2 | C10: =1/B10 -> 5 | D10: ='08'!C$24 -> 0 | E10: ='08'!D$24 -> 0 | F10: ='08'!E$24 -> 0 | G10: ='08'!F$24 -> 0 | H10: ='08'!G$24 -> 0 | I10: ='08'!H$24 -> 0
A11: Microônibus | B11: 0.2 | C11: =1/B11 -> 5 | D11: =+'08'!C85 -> 0 | E11: =+'08'!D85 -> 0 | F11: =+'08'!E85 -> 0 | G11: =+'08'!F85 -> 0 | H11: =+'08'!G85 -> 0 | I11: =+'08'!H85 -> 0
A12: Miniônibus | B12: 0.2 | C12: =1/B12 -> 5 | D12: =+'08'!C146 -> 0 | E12: =+'08'!D146 -> 0 | F12: =+'08'!E146 -> 0 | G12: =+'08'!F146 -> 0 | H12: =+'08'!G146 -> 0 | I12: =+'08'!H146 -> 0
A13: Ônibus Básico | B13: 0.2 | C13: =1/B13 -> 5 | D13: =+'08'!C207 -> 0 | E13: =+'08'!D207 -> 0 | F13: =+'08'!E207 -> 0 | G13: =+'08'!F207 -> 0 | H13: =+'08'!G207 -> 0 | I13: =+'08'!H207 -> 0
A14: Padron | B14: 0.2 | C14: =1/B14 -> 5 | D14: =+'08'!C267 -> 0 | E14: =+'08'!D267 -> 0 | F14: =+'08'!E267 -> 0 | G14: =+'08'!F267 -> 0 | H14: =+'08'!G267 -> 0 | I14: =+'08'!H267 -> 0
A15: Articulado | B15: 0.2 | C15: =1/B15 -> 5 | D15: =+'08'!C340 -> 0 | E15: =+'08'!D340 -> 0 | F15: =+'08'!E340 -> 0 | G15: =+'08'!F340 -> 0 | H15: =+'08'!G340 -> 0 | I15: =+'08'!H340 -> 0
A16: Total | D16: =SUM(D10:D15) -> 0 | E16: =SUM(E10:E15) -> 0 | F16: =SUM(F10:F15) -> 0 | G16: =SUM(G10:G15) -> 0 | H16: =SUM(H10:H15) -> 0 | I16: =SUM(I10:I15) -> 0
A19: Q11.2 - Depreciação Frota
C21: 0 | D21: 1 | E21: 2 | F21: 3 | G21: 4 | H21: 5 | I21: 16
B22: Deprec. Frota | C22: Ano 0 | D22: Ano 1 | E22: Ano 2 | F22: Ano 3 | G22: Ano 4 | H22: Ano 5 | I22: Total
A23: 0 | B23: Ano 0 | C23: {=TRANSPOSE($D$16:$I$16)} -> 0 | D23: =C23*$B$11 -> 0 | E23: =IF(E$21<=$A23,0,IF(SUM($D23:D23)=$C23,0,$C23*$B$11)) -> 0 | F23: =IF(F$21<=$A23,0,IF(SUM($D23:E23)=$C23,0,$C23*$B$11)) -> 0 | G23: =IF(G$21<=$A23,0,IF(SUM($D23:F23)=$C23,0,$C23*$B$11)) -> 0 | H23: =IF(H$21<=$A23,0,IF(SUM($D23:G23)=$C23,0,$C23*$B$11)) -> 0 | I23: =SUM(D23:H23) -> 0
A24: 1 | B24: Ano 1 | C24: 0 | D24: 0 | E24: =IF(E$21<=$A24,0,IF(SUM($D24:D24)=$C24,0,$C24*$B$11)) -> 0 | F24: =IF(F$21<=$A24,0,IF(SUM($D24:E24)=$C24,0,$C24*$B$11)) -> 0 | G24: =IF(G$21<=$A24,0,IF(SUM($D24:F24)=$C24,0,$C24*$B$11)) -> 0 | H24: =IF(H$21<=$A24,0,IF(SUM($D24:G24)=$C24,0,$C24*$B$11)) -> 0 | I24: =SUM(D24:H24) -> 0
A25: 2 | B25: Ano 2 | C25: 0 | D25: 0 | E25: =IF(E$21<=$A25,0,IF(SUM($D25:D25)=$C25,0,$C25*$B$11)) -> 0 | F25: =IF(F$21<=$A25,0,IF(SUM($D25:E25)=$C25,0,$C25*$B$11)) -> 0 | G25: =IF(G$21<=$A25,0,IF(SUM($D25:F25)=$C25,0,$C25*$B$11)) -> 0 | H25: =IF(H$21<=$A25,0,IF(SUM($D25:G25)=$C25,0,$C25*$B$11)) -> 0 | I25: =SUM(D25:H25) -> 0
A26: 3 | B26: Ano 3 | C26: 0 | D26: 0 | E26: =IF(E$21<=$A26,0,IF(SUM($D26:D26)=$C26,0,$C26*$B$11)) -> 0 | F26: =IF(F$21<=$A26,0,IF(SUM($D26:E26)=$C26,0,$C26*$B$11)) -> 0 | G26: =IF(G$21<=$A26,0,IF(SUM($D26:F26)=$C26,0,$C26*$B$11)) -> 0 | H26: =IF(H$21<=$A26,0,IF(SUM($D26:G26)=$C26,0,$C26*$B$11)) -> 0 | I26: =SUM(D26:H26) -> 0
A27: 4 | B27: Ano 4 | C27: 0 | D27: 0 | E27: =IF(E$21<=$A27,0,IF(SUM($D27:D27)=$C27,0,$C27*$B$11)) -> 0 | F27: =IF(F$21<=$A27,0,IF(SUM($D27:E27)=$C27,0,$C27*$B$11)) -> 0 | G27: =IF(G$21<=$A27,0,IF(SUM($D27:F27)=$C27,0,$C27*$B$11)) -> 0 | H27: =IF(H$21<=$A27,0,IF(SUM($D27:G27)=$C27,0,$C27*$B$11)) -> 0 | I27: =SUM(D27:H27) -> 0
A28: 5 | B28: Ano 5 | C28: 0 | D28: 0 | E28: =IF(E$21<=$A28,0,IF(SUM($D28:D28)=$C28,0,$C28*$B$11)) -> 0 | F28: =IF(F$21<=$A28,0,IF(SUM($D28:E28)=$C28,0,$C28*$B$11)) -> 0 | G28: =IF(G$21<=$A28,0,IF(SUM($D28:F28)=$C28,0,$C28*$B$11)) -> 0 | H28: =IF(H$21<=$A28,0,IF(SUM($D28:G28)=$C28,0,$C28*$B$11)) -> 0 | I28: =SUM(D28:H28) -> 0
B29: Total | C29: =SUM(C23:C28) -> 0 | D29: =SUM(D23:D28) -> 0 | E29: =SUM(E23:E28) -> 0 | F29: =SUM(F23:F28) -> 0 | G29: =SUM(G23:G28) -> 0 | H29: =SUM(H23:H28) -> 0 | I29: =SUM(I23:I28) -> 0
B31: Com efeito Inflação (para fuxo real) | D31: 1 | E31: 2 | F31: 3 | G31: 4 | H31: 5
B32: Deprec. Frota | C32: Ano 0 | D32: Ano 1 | E32: Ano 2 | F32: Ano 3 | G32: Ano 4 | H32: Ano 5 | I32: Total
B33: Ano 0 | C33: =C23 -> 0 | D33: =D23/(1+(HLOOKUP(COUNTIF($D23:D23,">0"),'14'!$B$1:$AI$5,5,FALSE))) -> 0 | E33: =E23/(1+(HLOOKUP(COUNTIF($D23:E23,">0"),'14'!$B$1:$AI$5,5,FALSE))) -> 0 | F33: =F23/(1+(HLOOKUP(COUNTIF($D23:F23,">0"),'14'!$B$1:$AI$5,5,FALSE))) -> 0 | G33: =G23/(1+(HLOOKUP(COUNTIF($D23:G23,">0"),'14'!$B$1:$AI$5,5,FALSE))) -> 0 | H33: =H23/(1+(HLOOKUP(COUNTIF($D23:H23,">0"),'14'!$B$1:$AI$5,5,FALSE))) -> 0 | I33: =SUM(D33:H33) -> 0
B34: Ano 1 | C34: =C24 -> 0 | D34: =D24/(1+(HLOOKUP(COUNTIF($D24:D24,">0"),'14'!$B$1:$AI$5,5,FALSE))) -> 0 | E34: =E24/(1+(HLOOKUP(COUNTIF($D24:E24,">0"),'14'!$B$1:$AI$5,5,FALSE))) -> 0 | F34: =F24/(1+(HLOOKUP(COUNTIF($D24:F24,">0"),'14'!$B$1:$AI$5,5,FALSE))) -> 0 | G34: =G24/(1+(HLOOKUP(COUNTIF($D24:G24,">0"),'14'!$B$1:$AI$5,5,FALSE))) -> 0 | H34: =H24/(1+(HLOOKUP(COUNTIF($D24:H24,">0"),'14'!$B$1:$AI$5,5,FALSE))) -> 0 | I34: =SUM(D34:H34) -> 0
B35: Ano 2 | C35: =C25 -> 0 | D35: =D25/(1+(HLOOKUP(COUNTIF($D25:D25,">0"),'14'!$B$1:$AI$5,5,FALSE))) -> 0 | E35: =E25/(1+(HLOOKUP(COUNTIF($D25:E25,">0"),'14'!$B$1:$AI$5,5,FALSE))) -> 0 | F35: =F25/(1+(HLOOKUP(COUNTIF($D25:F25,">0"),'14'!$B$1:$AI$5,5,FALSE))) -> 0 | G35: =G25/(1+(HLOOKUP(COUNTIF($D25:G25,">0"),'14'!$B$1:$AI$5,5,FALSE))) -> 0 | H35: =H25/(1+(HLOOKUP(COUNTIF($D25:H25,">0"),'14'!$B$1:$AI$5,5,FALSE))) -> 0 | I35: =SUM(D35:H35) -> 0
B36: Ano 3 | C36: =C26 -> 0 | D36: =D26/(1+(HLOOKUP(COUNTIF($D26:D26,">0"),'14'!$B$1:$AI$5,5,FALSE))) -> 0 | E36: =E26/(1+(HLOOKUP(COUNTIF($D26:E26,">0"),'14'!$B$1:$AI$5,5,FALSE))) -> 0 | F36: =F26/(1+(HLOOKUP(COUNTIF($D26:F26,">0"),'14'!$B$1:$AI$5,5,FALSE))) -> 0 | G36: =G26/(1+(HLOOKUP(COUNTIF($D26:G26,">0"),'14'!$B$1:$AI$5,5,FALSE))) -> 0 | H36: =H26/(1+(HLOOKUP(COUNTIF($D26:H26,">0"),'14'!$B$1:$AI$5,5,FALSE))) -> 0 | I36: =SUM(D36:H36) -> 0
B37: Ano 4 | C37: =C27 -> 0 | D37: =D27/(1+(HLOOKUP(COUNTIF($D27:D27,">0"),'14'!$B$1:$AI$5,5,FALSE))) -> 0 | E37: =E27/(1+(HLOOKUP(COUNTIF($D27:E27,">0"),'14'!$B$1:$AI$5,5,FALSE))) -> 0 | F37: =F27/(1+(HLOOKUP(COUNTIF($D27:F27,">0"),'14'!$B$1:$AI$5,5,FALSE))) -> 0 | G37: =G27/(1+(HLOOKUP(COUNTIF($D27:G27,">0"),'14'!$B$1:$AI$5,5,FALSE))) -> 0 | H37: =H27/(1+(HLOOKUP(COUNTIF($D27:H27,">0"),'14'!$B$1:$AI$5,5,FALSE))) -> 0 | I37: =SUM(D37:H37) -> 0
B38: Ano 5 | C38: =C28 -> 0 | D38: =D28/(1+(HLOOKUP(COUNTIF($D28:D28,">0"),'14'!$B$1:$AI$5,5,FALSE))) -> 0 | E38: =E28/(1+(HLOOKUP(COUNTIF($D28:E28,">0"),'14'!$B$1:$AI$5,5,FALSE))) -> 0 | F38: =F28/(1+(HLOOKUP(COUNTIF($D28:F28,">0"),'14'!$B$1:$AI$5,5,FALSE))) -> 0 | G38: =G28/(1+(HLOOKUP(COUNTIF($D28:G28,">0"),'14'!$B$1:$AI$5,5,FALSE))) -> 0 | H38: =H28/(1+(HLOOKUP(COUNTIF($D28:H28,">0"),'14'!$B$1:$AI$5,5,FALSE))) -> 0 | I38: =SUM(D38:H38) -> 0
B39: Total | C39: =SUM(C33:C38) -> 0 | D39: =SUM(D33:D38) -> 0 | E39: =SUM(E33:E38) -> 0 | F39: =SUM(F33:F38) -> 0 | G39: =SUM(G33:G38) -> 0 | H39: =SUM(H33:H38) -> 0 | I39: =SUM(I33:I38) -> 0

Sheet 12
A1: =Sumário!$A$1 -> Transporte Municipal - Guararema
A2: Quadro 12 - INVESTIMENTOS ADICIONAIS
A3: PROPONENTE:
A4: =Sumário!B3 -> 0
A5: DATA BASE: | B5: =Sumário!$B$4 -> agosto de 2023
A7: Item | B7: Total (R$) | C7: Mês 01 | D7: Mês 02 | E7: Mês 03 | F7: Mês 04 | G7: Mês 05 | H7: Mês 06 | I7: Mês 07 | J7: Mês 08 | K7: Mês 09 | L7: Mês 10 | M7: Mês 11 | N7: Mês 12 | O7: Mês 13 | P7: Mês 14 | Q7: Mês 15 | R7: Mês 16 | S7: Mês 17 | T7: Mês 18
C8: =$B8/18 -> 0 | D8: =$B8/18 -> 0 | E8: =$B8/18 -> 0 | F8: =$B8/18 -> 0 | G8: =$B8/18 -> 0 | H8: =$B8/18 -> 0 | I8: =$B8/18 -> 0 | J8: =$B8/18 -> 0 | ... T8: =$B8/18 -> 0
C9: =$B9/18 -> 0 | D9: =$B9/18 -> 0 | E9: =$B9/18 -> 0 | F9: =$B9/18 -> 0 | G9: =$B9/18 -> 0 | H9: =$B9/18 -> 0 | I9: =$B9/18 -> 0 | J9: =$B9/18 -> 0 | ... T9: =$B9/18 -> 0
C10: =$B10/18 -> 0 | D10: =$B10/18 -> 0 | E10: =$B10/18 -> 0 | F10: =$B10/18 -> 0 | G10: =$B10/18 -> 0 | H10: =$B10/18 -> 0 | I10: =$B10/18 -> 0 | J10: =$B10/18 -> 0 | ... T10: =$B10/18 -> 0
C11: =$B11/18 -> 0 | D11: =$B11/18 -> 0 | E11: =$B11/18 -> 0 | F11: =$B11/18 -> 0 | G11: =$B11/18 -> 0 | H11: =$B11/18 -> 0 | I11: =$B11/18 -> 0 | J11: =$B11/18 -> 0 | ... T11: =$B11/18 -> 0
B14: =SUM(B8:B11) -> 0

Sheet 13
A1: =Sumário!$A$1 -> Transporte Municipal - Guararema | I1: =B104 | L1: =$B$106 -> 0 | BQ1: ANUAL | BW1: =$B$103 -> 0
A2: Quadro 13 - DRE e FLUXO DE CAIXA | I2: =$B$103 -> 0
A3: PROPONENTE: | B3: =Sumário!$B$3 -> 0
A4: DATA BASE: | B4: =Sumário!$B$4 -> agosto de 2023
C5: Pré-Oper | D5: =ROUNDUP(D6/12,0) -> 1 | E5: =ROUNDUP(E6/12,0) -> 1 | F5: =ROUNDUP(F6/12,0) -> 1 | G5: =ROUNDUP(G6/12,0) -> 1 | H5: =ROUNDUP(H6/12,0) -> 1 | I5: =ROUNDUP(I6/12,0) -> 1 | J5: =ROUNDUP(J6/12,0) -> 1 | K5: =ROUNDUP(K6/12,0) -> 1 | ... BL5: =ROUNDUP(BL6/12,0) -> 6
D6: 1 | E6: =D6+1 -> 2 | F6: =E6+1 -> 3 | G6: =F6+1 -> 4 | H6: =G6+1 -> 5 | I6: =H6+1 -> 6 | J6: =I6+1 -> 7 | K6: =J6+1 -> 8 | L6: =K6+1 -> 9 | ... BL6: =BK6+1 -> 61 | BQ6: Pré-Oper | BR6: 1 | BS6: 2 | BT6: 3 | BU6: 4 | BV6: 5 | BW6: 6
A11: Valor Fixo Mês | B11: =-SUM(D35,D41)*1000 -> 0
A12: Valor Fixo por veículo Mês | B12: =IFERROR(B11/'01'!D16,"") | C12: Receita Fixa | D12: =$B$11/1000 -> 0 | E12: =$B$11/1000 -> 0 | F12: =$B$11/1000 -> 0 | G12: =$B$11/1000 -> 0 | H12: =$B$11/1000 -> 0 | I12: =$B$11/1000 -> 0 | J12: =$B$11/1000 -> 0 | K12: =$B$11/1000 -> 0 | ... BK12: =$B$11/1000 -> 0 | BQ12: =SUMIF($C$5:$BL$5,BQ$6,$C12:$BL12) -> 0 | BR12: =SUMIF($C$5:$BL$5,BR$6,$C12:$BL12) -> 0 | BS12: =SUMIF($C$5:$BL$5,BS$6,$C12:$BL12) -> 0 | BT12: =SUMIF($C$5:$BL$5,BT$6,$C12:$BL12) -> 0 | BU12: =SUMIF($C$5:$BL$5,BU$6,$C12:$BL12) -> 0 | BV12: =SUMIF($C$5:$BL$5,BV$6,$C12:$BL12) -> 0 | BW12: =SUMIF($C$5:$BL$5,BW$6,$C12:$BL12) -> 0
A13: Valor Variável (R$/KM) | C13: Receita Var. | D13: =$B$13*'01'!$H$41/1000 -> 0 | E13: =$B$13*'01'!$H$41/1000 -> 0 | F13: =$B$13*'01'!$H$41/1000 -> 0 | G13: =$B$13*'01'!$H$41/1000 -> 0 | H13: =$B$13*'01'!$H$41/1000 -> 0 | I13: =$B$13*'01'!$H$41/1000 -> 0 | J13: =$B$13*'01'!$H$41/1000 -> 0 | K13: =$B$13*'01'!$H$41/1000 -> 0 | ... BK13: =$B$13*'01'!$H$41/1000 -> 0 | BQ13: =SUMIF($C$5:$BL$5,BQ$6,$C13:$BL13) -> 0 | BR13: =SUMIF($C$5:$BL$5,BR$6,$C13:$BL13) -> 0 | BS13: =SUMIF($C$5:$BL$5,BS$6,$C13:$BL13) -> 0 | BT13: =SUMIF($C$5:$BL$5,BT$6,$C13:$BL13) -> 0 | BU13: =SUMIF($C$5:$BL$5,BU$6,$C13:$BL13) -> 0 | BV13: =SUMIF($C$5:$BL$5,BV$6,$C13:$BL13) -> 0 | BW13: =SUMIF($C$5:$BL$5,BW$6,$C13:$BL13) -> 0
A15: Receita Bruta | D15: =D12+D13 -> 0 | E15: =E12+E13 -> 0 | F15: =F12+F13 -> 0 | G15: =G12+G13 -> 0 | H15: =H12+H13 -> 0 | I15: =I12+I13 -> 0 | J15: =J12+J13 -> 0 | K15: =K12+K13 -> 0 | ... BL15: =BL12+BL13 -> 0 | BQ15: =SUMIF($C$5:$BL$5,BQ$6,$C15:$BL15) -> 0 | BR15: =SUMIF($C$5:$BL$5,BR$6,$C15:$BL15) -> 0 | BS15: =SUMIF($C$5:$BL$5,BS$6,$C15:$BL15) -> 0 | BT15: =SUMIF($C$5:$BL$5,BT$6,$C15:$BL15) -> 0 | BU15: =SUMIF($C$5:$BL$5,BU$6,$C15:$BL15) -> 0 | BV15: =SUMIF($C$5:$BL$5,BV$6,$C15:$BL15) -> 0 | BW15: =SUMIF($C$5:$BL$5,BW$6,$C15:$BL15) -> 0
A17: (-) Tributos sobre faturamento
A18: INSS sobre receita bruta | D18: =-$B$18*D15 -> 0 | E18: =-$B$18*E15 -> 0 | F18: =-$B$18*F15 -> 0 | G18: =-$B$18*G15 -> 0 | H18: =-$B$18*H15 -> 0 | I18: =-$B$18*I15 -> 0 | J18: =-$B$18*J15 -> 0 | K18: =-$B$18*K15 -> 0 | ... BL18: =-$B$18*BL15 -> 0 | BQ18: =SUMIF($C$5:$BL$5,BQ$6,$C18:$BL18) -> 0 | BR18: =SUMIF($C$5:$BL$5,BR$6,$C18:$BL18) -> 0 | BS18: =SUMIF($C$5:$BL$5,BS$6,$C18:$BL18) -> 0 | BT18: =SUMIF($C$5:$BL$5,BT$6,$C18:$BL18) -> 0 | BU18: =SUMIF($C$5:$BL$5,BU$6,$C18:$BL18) -> 0 | BV18: =SUMIF($C$5:$BL$5,BV$6,$C18:$BL18) -> 0 | BW18: =SUMIF($C$5:$BL$5,BW$6,$C18:$BL18) -> 0
A19: ISS sobre receita tarifaria | B19: 0.05 | D19: =-$B$19*D15 -> 0 | E19: =-$B$19*E15 -> 0 | F19: =-$B$19*F15 -> 0 | G19: =-$B$19*G15 -> 0 | H19: =-$B$19*H15 -> 0 | I19: =-$B$19*I15 -> 0 | J19: =-$B$19*J15 -> 0 | K19: =-$B$19*K15 -> 0 | ... BL19: =-$B$19*BL15 -> 0 | BQ19: =SUMIF($C$5:$BL$5,BQ$6,$C19:$BL19) -> 0 | BR19: =SUMIF($C$5:$BL$5,BR$6,$C19:$BL19) -> 0 | BS19: =SUMIF($C$5:$BL$5,BS$6,$C19:$BL19) -> 0 | BT19: =SUMIF($C$5:$BL$5,BT$6,$C19:$BL19) -> 0 | BU19: =SUMIF($C$5:$BL$5,BU$6,$C19:$BL19) -> 0 | BV19: =SUMIF($C$5:$BL$5,BV$6,$C19:$BL19) -> 0 | BW19: =SUMIF($C$5:$BL$5,BW$6,$C19:$BL19) -> 0
A20: ISS sobre receita acessória | B20: 0 | D20: =-$B$20*D13 -> 0 | E20: =-$B$20*E13 -> 0 | F20: =-$B$20*F13 -> 0 | G20: =-$B$20*G13 -> 0 | H20: =-$B$20*H13 -> 0 | I20: =-$B$20*I13 -> 0 | J20: =-$B$20*J13 -> 0 | K20: =-$B$20*K13 -> 0 | ... BL20: =-$B$20*BL13 -> 0 | BQ20: =SUMIF($C$5:$BL$5,BQ$6,$C20:$BL20) -> 0 | BR20: =SUMIF($C$5:$BL$5,BR$6,$C20:$BL20) -> 0 | BS20: =SUMIF($C$5:$BL$5,BS$6,$C20:$BL20) -> 0 | BT20: =SUMIF($C$5:$BL$5,BT$6,$C20:$BL20) -> 0 | BU20: =SUMIF($C$5:$BL$5,BU$6,$C20:$BL20) -> 0 | BV20: =SUMIF($C$5:$BL$5,BV$6,$C20:$BL20) -> 0 | BW20: =SUMIF($C$5:$BL$5,BW$6,$C20:$BL20) -> 0
A21: PIS e COFINS | B21: 0 | D21: =-$B$21*D12 -> 0 | E21: =-$B$21*E12 -> 0 | F21: =-$B$21*F12 -> 0 | G21: =-$B$21*G12 -> 0 | H21: =-$B$21*H12 -> 0 | I21: =-$B$21*I12 -> 0 | J21: =-$B$21*J12 -> 0 | K21: =-$B$21*K12 -> 0 | ... BK21: =-$B$21*BK12 -> 0 | BQ21: =SUMIF($C$5:$BL$5,BQ$6,$C21:$BL21) -> 0 | BR21: =SUMIF($C$5:$BL$5,BR$6,$C21:$BL21) -> 0 | BS21: =SUMIF($C$5:$BL$5,BS$6,$C21:$BL21) -> 0 | BT21: =SUMIF($C$5:$BL$5,BT$6,$C21:$BL21) -> 0 | BU21: =SUMIF($C$5:$BL$5,BU$6,$C21:$BL21) -> 0 | BV21: =SUMIF($C$5:$BL$5,BV$6,$C21:$BL21) -> 0 | BW21: =SUMIF($C$5:$BL$5,BW$6,$C21:$BL21) -> 0
A22: Total de tributos | D22: =SUM(D18:D21) -> 0 | E22: =SUM(E18:E21) -> 0 | F22: =SUM(F18:F21) -> 0 | G22: =SUM(G18:G21) -> 0 | H22: =SUM(H18:H21) -> 0 | I22: =SUM(I18:I21) -> 0 | J22: =SUM(J18:J21) -> 0 | K22: =SUM(K18:K21) -> 0 | ... BL22: =SUM(BL18:BL21) -> 0 | BQ22: =SUMIF($C$5:$BL$5,BQ$6,$C22:$BL22) -> 0 | BR22: =SUMIF($C$5:$BL$5,BR$6,$C22:$BL22) -> 0 | BS22: =SUMIF($C$5:$BL$5,BS$6,$C22:$BL22) -> 0 | BT22: =SUMIF($C$5:$BL$5,BT$6,$C22:$BL22) -> 0 | BU22: =SUMIF($C$5:$BL$5,BU$6,$C22:$BL22) -> 0 | BV22: =SUMIF($C$5:$BL$5,BV$6,$C22:$BL22) -> 0 | BW22: =SUMIF($C$5:$BL$5,BW$6,$C22:$BL22) -> 0
A24: (-) Taxa de Gerenciamento (Sobre receita tarifária) | B24: 0 | D24: =-$B$24*D12 -> 0 | E24: =-$B$24*E12 -> 0 | F24: =-$B$24*F12 -> 0 | G24: =-$B$24*G12 -> 0 | H24: =-$B$24*H12 -> 0 | I24: =-$B$24*I12 -> 0 | J24: =-$B$24*J12 -> 0 | K24: =-$B$24*K12 -> 0 | ... BL24: =-$B$24*BL12 -> 0 | BQ24: =SUMIF($C$5:$BL$5,BQ$6,$C24:$BL24) -> 0 | BR24: =SUMIF($C$5:$BL$5,BR$6,$C24:$BL24) -> 0 | BS24: =SUMIF($C$5:$BL$5,BS$6,$C24:$BL24) -> 0 | BT24: =SUMIF($C$5:$BL$5,BT$6,$C24:$BL24) -> 0 | BU24: =SUMIF($C$5:$BL$5,BU$6,$C24:$BL24) -> 0 | BV24: =SUMIF($C$5:$BL$5,BV$6,$C24:$BL24) -> 0 | BW24: =SUMIF($C$5:$BL$5,BW$6,$C24:$BL24) -> 0
A26: (=) Receita Líquida | D26: =D15+D22+D24 -> 0 | E26: =E15+E22+E24 -> 0 | F26: =F15+F22+F24 -> 0 | G26: =G15+G22+G24 -> 0 | H26: =H15+H22+H24 -> 0 | I26: =I15+I22+I24 -> 0 | J26: =J15+J22+J24 -> 0 | K26: =K15+K22+K24 -> 0 | ... BL26: =BL15+BL22+BL24 -> 0 | BQ26: =SUMIF($C$5:$BL$5,BQ$6,$C26:$BL26) -> 0 | BR26: =SUMIF($C$5:$BL$5,BR$6,$C26:$BL26) -> 0 | BS26: =SUMIF($C$5:$BL$5,BS$6,$C26:$BL26) -> 0 | BT26: =SUMIF($C$5:$BL$5,BT$6,$C26:$BL26) -> 0 | BU26: =SUMIF($C$5:$BL$5,BU$6,$C26:$BL26) -> 0 | BV26: =SUMIF($C$5:$BL$5,BV$6,$C26:$BL26) -> 0 | BW26: =SUMIF($C$5:$BL$5,BW$6,$C26:$BL26) -> 0
A28: Custos Variáveis | D28: =-SUM(D29:D33) -> 0 | E28: =-SUM(E29:E33) -> 0 | F28: =-SUM(F29:F33) -> 0 | G28: =-SUM(G29:G33) -> 0 | H28: =-SUM(H29:H33) -> 0 | I28: =-SUM(I29:I33) -> 0 | J28: =-SUM(J29:J33) -> 0 | K28: =-SUM(K29:K33) -> 0 | ... BL28: =-SUM(BL29:BL33) -> 0 | BQ28: =SUMIF($C$5:$BL$5,BQ$6,$C28:$BL28) -> 0 | BR28: =SUMIF($C$5:$BL$5,BR$6,$C28:$BL28) -> 0 | BS28: =SUMIF($C$5:$BL$5,BS$6,$C28:$BL28) -> 0 | BT28: =SUMIF($C$5:$BL$5,BT$6,$C28:$BL28) -> 0 | BU28: =SUMIF($C$5:$BL$5,BU$6,$C28:$BL28) -> 0 | BV28: =SUMIF($C$5:$BL$5,BV$6,$C28:$BL28) -> 0 | BW28: =SUMIF($C$5:$BL$5,BW$6,$C28:$BL28) -> 0 | BY28: =SUM(BR28:BW28)/SUM($BR$48:$BW$48,$BR$53:$BW$53) -> #DIV/0!
A29: Combustível | D29: ='06'!$J$13/1000 -> 0 | E29: ='06'!$J$13/1000 -> 0 | F29: ='06'!$J$13/1000 -> 0 | G29: ='06'!$J$13/1000 -> 0 | H29: ='06'!$J$13/1000 -> 0 | I29: ='06'!$J$13/1000 -> 0 | J29: ='06'!$J$13/1000 -> 0 | K29: ='06'!$J$13/1000 -> 0 | ... BK29: ='06'!$J$13/1000 -> 0 | BQ29: =SUMIF($C$5:$BL$5,BQ$6,$C29:$BL29) -> 0 | BR29: =SUMIF($C$5:$BL$5,BR$6,$C29:$BL29) -> 0 | BS29: =SUMIF($C$5:$BL$5,BS$6,$C29:$BL29) -> 0 | BT29: =SUMIF($C$5:$BL$5,BT$6,$C29:$BL29) -> 0 | BU29: =SUMIF($C$5:$BL$5,BU$6,$C29:$BL29) -> 0 | BV29: =SUMIF($C$5:$BL$5,BV$6,$C29:$BL29) -> 0 | BW29: =SUMIF($C$5:$BL$5,BW$6,$C29:$BL29) -> 0
A30: Lubrificantes | D30: ='06'!$J$33/1000 -> 0 | E30: ='06'!$J$33/1000 -> 0 | F30: ='06'!$J$33/1000 -> 0 | G30: ='06'!$J$33/1000 -> 0 | H30: ='06'!$J$33/1000 -> 0 | I30: ='06'!$J$33/1000 -> 0 | J30: ='06'!$J$33/1000 -> 0 | K30: ='06'!$J$33/1000 -> 0 | ... BK30: ='06'!$J$33/1000 -> 0 | BQ30: =SUMIF($C$5:$BL$5,BQ$6,$C30:$BL30) -> 0 | BR30: =SUMIF($C$5:$BL$5,BR$6,$C30:$BL30) -> 0 | BS30: =SUMIF($C$5:$BL$5,BS$6,$C30:$BL30) -> 0 | BT30: =SUMIF($C$5:$BL$5,BT$6,$C30:$BL30) -> 0 | BU30: =SUMIF($C$5:$BL$5,BU$6,$C30:$BL30) -> 0 | BV30: =SUMIF($C$5:$BL$5,BV$6,$C30:$BL30) -> 0 | BW30: =SUMIF($C$5:$BL$5,BW$6,$C30:$BL30) -> 0
A31: Custos ambientais | D31: ='06'!$C$74/1000 -> 0 | E31: ='06'!$C$74/1000 -> 0 | F31: ='06'!$C$74/1000 -> 0 | G31: ='06'!$C$74/1000 -> 0 | H31: ='06'!$C$74/1000 -> 0 | I31: ='06'!$C$74/1000 -> 0 | J31: ='06'!$C$74/1000 -> 0 | K31: ='06'!$C$74/1000 -> 0 | ... BK31: ='06'!$C$74/1000 -> 0 | BQ31: =SUMIF($C$5:$BL$5,BQ$6,$C31:$BL31) -> 0 | BR31: =SUMIF($C$5:$BL$5,BR$6,$C31:$BL31) -> 0 | BS31: =SUMIF($C$5:$BL$5,BS$6,$C31:$BL31) -> 0 | BT31: =SUMIF($C$5:$BL$5,BT$6,$C31:$BL31) -> 0 | BU31: =SUMIF($C$5:$BL$5,BU$6,$C31:$BL31) -> 0 | BV31: =SUMIF($C$5:$BL$5,BV$6,$C31:$BL31) -> 0 | BW31: =SUMIF($C$5:$BL$5,BW$6,$C31:$BL31) -> 0
A32: Rodagem (pneus novos e serv. recapagem) | D32: ='06'!$J$63/1000 -> 0 | E32: ='06'!$J$63/1000 -> 0 | F32: ='06'!$J$63/1000 -> 0 | G32: ='06'!$J$63/1000 -> 0 | H32: ='06'!$J$63/1000 -> 0 | I32: ='06'!$J$63/1000 -> 0 | J32: ='06'!$J$63/1000 -> 0 | K32: ='06'!$J$63/1000 -> 0 | ... BK32: ='06'!$J$63/1000 -> 0 | BQ32: =SUMIF($C$5:$BL$5,BQ$6,$C32:$BL32) -> 0 | BR32: =SUMIF($C$5:$BL$5,BR$6,$C32:$BL32) -> 0 | BS32: =SUMIF($C$5:$BL$5,BS$6,$C32:$BL32) -> 0 | BT32: =SUMIF($C$5:$BL$5,BT$6,$C32:$BL32) -> 0 | BU32: =SUMIF($C$5:$BL$5,BU$6,$C32:$BL32) -> 0 | BV32: =SUMIF($C$5:$BL$5,BV$6,$C32:$BL32) -> 0 | BW32: =SUMIF($C$5:$BL$5,BW$6,$C32:$BL32) -> 0
A33: Peças e acessórios | D33: =HLOOKUP(D$5,'07'!$D$136:$I$143,8,FALSE)/1000 -> 0 | E33: =HLOOKUP(E$5,'07'!$D$136:$I$143,8,FALSE)/1000 -> 0 | F33: =HLOOKUP(F$5,'07'!$D$136:$I$143,8,FALSE)/1000 -> 0 | G33: =HLOOKUP(G$5,'07'!$D$136:$I$143,8,FALSE)/1000 -> 0 | H33: =HLOOKUP(H$5,'07'!$D$136:$I$143,8,FALSE)/1000 -> 0 | I33: =HLOOKUP(I$5,'07'!$D$136:$I$143,8,FALSE)/1000 -> 0 | J33: =HLOOKUP(J$5,'07'!$D$136:$I$143,8,FALSE)/1000 -> 0 | K33: =HLOOKUP(K$5,'07'!$D$136:$I$143,8,FALSE)/1000 -> 0 | ... BK33: =HLOOKUP(BK$5,'07'!$D$136:$I$143,8,FALSE)/1000 -> 0 | BQ33: =SUMIF($C$5:$BL$5,BQ$6,$C33:$BL33) -> 0 | BR33: =SUMIF($C$5:$BL$5,BR$6,$C33:$BL33) -> 0 | BS33: =SUMIF($C$5:$BL$5,BS$6,$C33:$BL33) -> 0 | BT33: =SUMIF($C$5:$BL$5,BT$6,$C33:$BL33) -> 0 | BU33: =SUMIF($C$5:$BL$5,BU$6,$C33:$BL33) -> 0 | BV33: =SUMIF($C$5:$BL$5,BV$6,$C33:$BL33) -> 0 | BW33: =SUMIF($C$5:$BL$5,BW$6,$C33:$BL33) -> 0
A35: Custo com pessoal | D35: =-SUM(D36:D39) -> 0 | E35: =-SUM(E36:E39) -> 0 | F35: =-SUM(F36:F39) -> 0 | G35: =-SUM(G36:G39) -> 0 | H35: =-SUM(H36:H39) -> 0 | I35: =-SUM(I36:I39) -> 0 | J35: =-SUM(J36:J39) -> 0 | K35: =-SUM(K36:K39) -> 0 | ... BL35: =-SUM(BL36:BL39) -> 0 | BQ35: =SUMIF($C$5:$BL$5,BQ$6,$C35:$BL35) -> 0 | BR35: =SUMIF($C$5:$BL$5,BR$6,$C35:$BL35) -> 0 | BS35: =SUMIF($C$5:$BL$5,BS$6,$C35:$BL35) -> 0 | BT35: =SUMIF($C$5:$BL$5,BT$6,$C35:$BL35) -> 0 | BU35: =SUMIF($C$5:$BL$5,BU$6,$C35:$BL35) -> 0 | BV35: =SUMIF($C$5:$BL$5,BV$6,$C35:$BL35) -> 0 | BW35: =SUMIF($C$5:$BL$5,BW$6,$C35:$BL35) -> 0 | BY35: =SUM(BR35:BW35)/SUM($BR$48:$BW$48,$BR$53:$BW$53) -> #DIV/0!
A36: Motoristas | D36: ='06'!$J$95/1000 -> 0 | E36: ='06'!$J$95/1000 -> 0 | F36: ='06'!$J$95/1000 -> 0 | G36: ='06'!$J$95/1000 -> 0 | H36: ='06'!$J$95/1000 -> 0 | I36: ='06'!$J$95/1000 -> 0 | J36: ='06'!$J$95/1000 -> 0 | K36: ='06'!$J$95/1000 -> 0 | ... BK36: ='06'!$J$95/1000 -> 0 | BQ36: =SUMIF($C$5:$BL$5,BQ$6,$C36:$BL36) -> 0 | BR36: =SUMIF($C$5:$BL$5,BR$6,$C36:$BL36) -> 0 | BS36: =SUMIF($C$5:$BL$5,BS$6,$C36:$BL36) -> 0 | BT36: =SUMIF($C$5:$BL$5,BT$6,$C36:$BL36) -> 0 | BU36: =SUMIF($C$5:$BL$5,BU$6,$C36:$BL36) -> 0 | BV36: =SUMIF($C$5:$BL$5,BV$6,$C36:$BL36) -> 0 | BW36: =SUMIF($C$5:$BL$5,BW$6,$C36:$BL36) -> 0
A37: Cobradores | D37: ='06'!$J$109/1000 -> 0 | E37: ='06'!$J$109/1000 -> 0 | F37: ='06'!$J$109/1000 -> 0 | G37: ='06'!$J$109/1000 -> 0 | H37: ='06'!$J$109/1000 -> 0 | I37: ='06'!$J$109/1000 -> 0 | J37: ='06'!$J$109/1000 -> 0 | K37: ='06'!$J$109/1000 -> 0 | ... BK37: ='06'!$J$109/1000 -> 0 | BQ37: =SUMIF($C$5:$BL$5,BQ$6,$C37:$BL37) -> 0 | BR37: =SUMIF($C$5:$BL$5,BR$6,$C37:$BL37) -> 0 | BS37: =SUMIF($C$5:$BL$5,BS$6,$C37:$BL37) -> 0 | BT37: =SUMIF($C$5:$BL$5,BT$6,$C37:$BL37) -> 0 | BU37: =SUMIF($C$5:$BL$5,BU$6,$C37:$BL37) -> 0 | BV37: =SUMIF($C$5:$BL$5,BV$6,$C37:$BL37) -> 0 | BW37: =SUMIF($C$5:$BL$5,BW$6,$C37:$BL37) -> 0
A38: Pessoal de tráfego | D38: ='06'!$J$123/1000 -> 0 | E38: ='06'!$J$123/1000 -> 0 | F38: ='06'!$J$123/1000 -> 0 | G38: ='06'!$J$123/1000 -> 0 | H38: ='06'!$J$123/1000 -> 0 | I38: ='06'!$J$123/1000 -> 0 | J38: ='06'!$J$123/1000 -> 0 | K38: ='06'!$J$123/1000 -> 0 | ... BK38: ='06'!$J$123/1000 -> 0 | BQ38: =SUMIF($C$5:$BL$5,BQ$6,$C38:$BL38) -> 0 | BR38: =SUMIF($C$5:$BL$5,BR$6,$C38:$BL38) -> 0 | BS38: =SUMIF($C$5:$BL$5,BS$6,$C38:$BL38) -> 0 | BT38: =SUMIF($C$5:$BL$5,BT$6,$C38:$BL38) -> 0 | BU38: =SUMIF($C$5:$BL$5,BU$6,$C38:$BL38) -> 0 | BV38: =SUMIF($C$5:$BL$5,BV$6,$C38:$BL38) -> 0 | BW38: =SUMIF($C$5:$BL$5,BW$6,$C38:$BL38) -> 0
