Workbook
Name asd: OFFSET('[1]4A Deprec Amor'!$J$13,'[1]4A Deprec Amor'!$D1-1,0,1,'[1]4A Deprec Amor'!$E1-'[1]4A Deprec Amor'!$D1)

Sheet Investimento
B1: Investimentos | D1: 1600
G4: 1 º Mês | H4: 2 º Mês | I4: 3 º Mês | J4: 4 º Mês | K4: 5 º Mês | L4: 6 º Mês | M4: 7 º Mês | N4: 8 º Mês | O4: 9 º Mês | P4: 10 º Mês | Q4: 11 º Mês | R4: 12 º Mês | S4: 2 ano | T4: 3 ano | U4: 4 ano | V4: 5 ano | W4: 6 ano | X4: 7 ano | Y4: 8 ano | Z4: 9 ano | AA4: 10 ano | AL4: TOTAL
B5: Itens | C5: Unidades | D5: Valor unit. | E5: Valor Total.
A6: 1 | B6: Equipamentos da Operação
A7: 1.1 | B7: Terminal POS - Ponto de Venda Comercio | C7: =1600/80 -> 20 | D7: 1340 | E7: =C7*D7 -> 26800 | G7: =E7 -> 26800 | V7: =E7/2 -> 13400 | W7: =V7 -> 13400 | AL7: =SUM(G7:AK7) -> 53600
A8: 1.2 | B8: Terminal POS - Fiscalização - 120 vagas | C8: =1600/120 -> 13.333333 | D8: 1340 | E8: =C8*D8 -> 17866.667 | G8: =E8 -> 17866.667 | V8: =E8/2 -> 8933.3333 | W8: =V8 -> 8933.3333 | AL8: =SUM(G8:AK8) -> 35733.333
A9: 1.3 | B9: Suprimentos POS | C9: 1 | D9: 3000 | E9: =C9*D9 -> 3000 | G9: =E9 -> 3000 | AL9: =SUM(G9:AK9) -> 3000
A10: 1.6 | B10: Parquimetro | C10: 16 | D10: 24000 | E10: =C10*D10 -> 384000 | G10: =E10 -> 384000 | AL10: =SUM(G10:AK10) -> 384000
A11: 1.7 | B11: Parquimetro inteligente Tela Toutch 10" | C11: 4 | D11: 31000 | E11: =C11*D11 -> 124000 | G11: =E11 -> 124000 | AL11: =SUM(G11:AK11) -> 124000
A12: 1.8 | B12: Totem 24" | C12: 4 | D12: 35000 | E12: =C12*D12 -> 140000 | G12: =E12 -> 140000
A13: 1.9 | B13: Sistema Fiscalização embarcado OCR | C13: 1 | D13: 200000 | E13: =C13*D13 -> 200000 | G13: =E13 -> 200000 | AL13: =SUM(M13:AK13) -> 0
A14: 2 | B14: Equipamento de Informatica
A15: 2.1 | B15: Computadores | C15: 5 | D15: 5500 | E15: =C15*D15 -> 27500 | G15: =E15 -> 27500 | V15: =E15 -> 27500 | AL15: =SUM(G15:AK15) -> 55000
A16: 2.2 | B16: Perifericos de Informatica | C16: 1 | D16: 10000 | E16: =C16*D16 -> 10000 | G16: =E16 -> 10000 | AL16: =SUM(G16:AK16) -> 10000
A17: 2.3 | B17: Smartphone Coorporativo | C17: 2 | D17: 1800 | E17: =C17*D17 -> 3600 | G17: =E17 -> 3600 | S17: =E17 -> 3600 | V17: =S17 -> 3600 | Y17: =V17 -> 3600 | AL17: =SUM(G17:AK17) -> 14400
A18: 2.4 | B18: Impressora Multifuncional | C18: 2 | D18: 2500 | E18: =C18*D18 -> 5000 | G18: =E18 -> 5000 | AL18: =SUM(G18:AK18) -> 5000
A19: 2.5 | B19: TV 43" Central de Operações / Atendimento | C19: 4 | D19: 1900 | E19: =C19*D19 -> 7600 | G19: =E19 -> 7600 | AL19: =SUM(G19:AK19) -> 7600
A20: 2.6 | B20: TV 58" Sala de Treinamento | C20: 1 | D20: 2700 | E20: =C20*D20 -> 2700 | G20: =E20 -> 2700 | AL20: =SUM(G20:AK20) -> 2700
A21: 2.8 | B21: REP - Relogio de Ponto | C21: 1 | D21: 1500 | E21: =C21*D21 -> 1500 | G21: =E21 -> 1500 | AL21: =SUM(G21:AK21) -> 1500
A22: 3 | B22: Infraestrutura da Sede
A23: 3.1 | B23: Filtro Bebedouro de agua 20 l | C23: 1 | D23: 2000 | E23: =C23*D23 -> 2000 | G23: =E23 -> 2000 | AL23: =SUM(G23:AK23) -> 2000
A24: 3.3 | B24: Geladeira 460L | C24: 1 | D24: 3700 | E24: =C24*D24 -> 3700 | G24: =E24 -> 3700 | AL24: =SUM(G24:AK24) -> 3700
A25: 3.5 | B25: Ar Condiconado 12000 Btus | C25: 4 | D25: 2700 | E25: =C25*D25 -> 10800 | G25: =E25 -> 10800 | AL25: =SUM(G25:AK25) -> 10800
A26: 3.6 | B26: Instalação ar condicionado 12000 Btus | C26: 4 | D26: 450 | E26: =C26*D26 -> 1800 | G26: =E26 -> 1800 | AL26: =SUM(G26:AK26) -> 1800
A27: 3.7 | B27: Mobiliario de Escritorio | C27: 1 | D27: 30000 | E27: =C27*D27 -> 30000 | G27: =E27 -> 30000 | AL27: =SUM(G27:AK27) -> 30000
AL28: =SUM(G28:AK28) -> 0
A29: 4 | B29: Veiculos
A30: 4.1 | B30: Carro Automotor 1.0 | C30: 1 | D30: 110000 | E30: =D30 -> 110000 | G30: =D30 -> 110000 | AL30: =SUM(G30:AK30) -> 110000
AL31: =SUM(G31:AK31) -> 0
A32: 5 | B32: Marketing
A33: 5.1 | B33: Divulgação Inicial ( radio, tv, redes sociais) | C33: 1 | D33: 50000 | E33: =D33*C33 -> 50000 | G33: =E33 -> 50000 | AL33: =SUM(G33:AK33) -> 50000
A34: 5.3 | B34: Impressao de Folders/Planfletos | C34: 1 | D34: 5000 | E34: =D34*C34 -> 5000 | G34: =E34 -> 5000 | AL34: =SUM(G34:AK34) -> 5000
AL35: =SUM(G35:AK35) -> 0
A36: 6 | B36: Sinalização
A37: 6.1 | B37: Sinalização Vertical - Poste | C37: =(800/16)*7 -> 350 | D37: 190 | E37: =D37*C37 -> 66500 | G37: =E37 -> 66500 | AL37: =SUM(G37:AK37) -> 66500
A38: 6.2 | B38: Sinalização Vertical - Placas | C38: =(1600/16)*7 -> 700 | D38: 250 | E38: =D38*C38 -> 175000 | G38: =E38 -> 175000 | AL38: =SUM(G38:AK38) -> 175000
A39: 6.3 | B39: Mão de Obra - Sinalização Vertical | C39: =C38 -> 700 | D39: 50 | E39: =D39*C39 -> 35000 | G39: =E39 -> 35000 | V39: =E39*0.8 -> 28000 | AL39: =SUM(G39:AK39) -> 63000
A40: 6.4 | B40: Mão de Obra - Sinalização Horizontal | C40: 1600 | D40: 73 | E40: =D40*C40 -> 116800 | G40: =E40 -> 116800 | V40: =E40*0.8 -> 93440 | AL40: =SUM(G40:AK40) -> 210240
A41: 6.5 | B41: Sinalização Horizontal - TINTA Azul | C41: 80 | D41: 435 | E41: =D41*C41 -> 34800 | G41: =E41 -> 34800 | V41: =E41*0.8 -> 27840 | AL41: =SUM(G41:AK41) -> 62640
A42: 6.6 | B42: Sinalização Horizontal - TINTA Branca | C42: 80 | D42: 410 | E42: =D42*C42 -> 32800 | G42: =E42 -> 32800 | V42: =E42*0.8 -> 26240 | AL42: =SUM(G42:AK42) -> 59040
...

Sheet Mão de Obra
A1: FOLHA DE MÃO DE OBRA
A3: Mão de Obra | B3: Salário | C3: Quantidade | E3: 1º mês | F3: 2º mês | G3: 3º mês | H3: 4º mês | I3: 5º mês | J3: 6º mês | K3: 7º mês | L3: 8º mês | M3: 9º mês | N3: 10º mês | O3: 11º mês | P3: 12º mês | Q3: 13º mês | R3: 14º mês | S3: 15º mês | T3: 16º mês | U3: 17º mês | V3: 18º mês | W3: 19º mês | X3: 20º mês | Y3: 21º mês | Z3: 22º mês | AA3: 23º mês | AB3: 24º mês | AC3: 25º mês | AD3: 26º mês | AE3: 27º mês | AF3: 28º mês | AG3: 29º mês | AH3: 30º mês | AI3: 31º mês | AJ3: 32º mês | AK3: 33º mês | AL3: 34º mês | AM3: 35º mês | AN3: 36º mês | AO3: 37º mês | AP3: 38º mês | AQ3: 39º mês | AR3: 40º mês | AS3: 41º mês | AT3: 42º mês | AU3: 43º mês | AV3: 44º mês | AW3: 45º mês | AX3: 46º mês | AY3: 47º mês | AZ3: 48º mês | BA3: 49º mês | BB3: 50º mês | BC3: 51º mês | BD3: 52º mês | BE3: 53º mês | BF3: 54º mês | BG3: 55º mês | BH3: 56º mês | BI3: 57º mês | BJ3: 58º mês | BK3: 59º mês | BL3: 60º mês | BM3: 61º mês | BN3: 62º mês | BO3: 63º mês | BP3: 64º mês | BQ3: 65º mês | BR3: 66º mês | BS3: 67º mês | BT3: 68º mês | BU3: 69º mês | BV3: 70º mês | BW3: 71º mês | BX3: 72º mês | BY3: 73º mês | BZ3: 74º mês | CA3: 75º mês | CB3: 76º mês | CC3: 77º mês | CD3: 78º mês | CE3: 79º mês | CF3: 80º mês | CG3: 81º mês | CH3: 82º mês | CI3: 83º mês | CJ3: 84º mês | CK3: 85º mês | CL3: 86º mês | CM3: 87º mês | CN3: 88º mês | CO3: 89º mês | CP3: 90º mês | CQ3: 91º mês | CR3: 92º mês | CS3: 93º mês | CT3: 94º mês | CU3: 95º mês | CV3: 96º mês | CW3: 97º mês | CX3: 98º mês | CY3: 99º mês | CZ3: 100º mês | DA3: 101º mês | DB3: 102º mês | DC3: 103º mês | DD3: 104º mês | DE3: 105º mês | DF3: 106º mês | DG3: 107º mês | DH3: 108º mês | DI3: 109º mês | DJ3: 110º mês | DK3: 111º mês | DL3: 112º mês | DM3: 113º mês | DN3: 114º mês | DO3: 115º mês | DP3: 116º mês | DQ3: 117º mês | DR3: 118º mês | DS3: 119º mês | DT3: 120º mês
A4: Gerente Operacional | B4: 4500 | C4: 1 | E4: =B4*C4 -> 4500 | F4: =E4 -> 4500 | G4: =F4 -> 4500 | H4: =G4 -> 4500 | I4: =H4 -> 4500 | J4: =I4 -> 4500 | K4: =J4 -> 4500 | L4: =K4 -> 4500 | M4: =L4 -> 4500 | ... DT4: =DS4 -> 4500
A5: Tecnico Operacional - TI | B5: 3500 | C5: 1 | E5: =B5*C5 -> 3500 | F5: =E5 -> 3500 | G5: =F5 -> 3500 | H5: =G5 -> 3500 | I5: =H5 -> 3500 | J5: =I5 -> 3500 | K5: =J5 -> 3500 | L5: =K5 -> 3500 | M5: =L5 -> 3500 | ... DT5: =DS5 -> 3500
A6: Aux. Financeiro | B6: 3000 | C6: 1 | E6: =B6*C6 -> 3000 | F6: =E6 -> 3000 | G6: =F6 -> 3000 | H6: =G6 -> 3000 | I6: =H6 -> 3000 | J6: =I6 -> 3000 | K6: =J6 -> 3000 | L6: =K6 -> 3000 | M6: =L6 -> 3000 | ... DT6: =DS6 -> 3000
A7: Aux. DP/RH | B7: 3000 | C7: 1 | E7: =B7*C7 -> 3000 | F7: =E7 -> 3000 | G7: =F7 -> 3000 | H7: =G7 -> 3000 | I7: =H7 -> 3000 | J7: =I7 -> 3000 | K7: =J7 -> 3000 | L7: =K7 -> 3000 | M7: =L7 -> 3000 | ... DT7: =DS7 -> 3000
A8: Motorista Carro OCR | B8: 2300 | C8: 1 | E8: =B8*C8 -> 2300 | F8: =E8 -> 2300 | G8: =F8 -> 2300 | H8: =G8 -> 2300 | I8: =H8 -> 2300 | J8: =I8 -> 2300 | K8: =J8 -> 2300 | L8: =K8 -> 2300 | M8: =L8 -> 2300 | ... DT8: =DS8 -> 2300
A9: Copeira | B9: 1518 | C9: 1 | E9: =B9*C9 -> 1518 | F9: =E9 -> 1518 | G9: =F9 -> 1518 | H9: =G9 -> 1518 | I9: =H9 -> 1518 | J9: =I9 -> 1518 | K9: =J9 -> 1518 | L9: =K9 -> 1518 | M9: =L9 -> 1518 | ... DT9: =DS9 -> 1518
A10: Recepcionista | B10: 1600 | C10: 2 | E10: =B10*C10 -> 3200 | F10: =E10 -> 3200 | G10: =F10 -> 3200 | H10: =G10 -> 3200 | I10: =H10 -> 3200 | J10: =I10 -> 3200 | K10: =J10 -> 3200 | L10: =K10 -> 3200 | M10: =L10 -> 3200 | ... DT10: =DS10 -> 3200
A11: Supervisora de Operação | B11: 2800 | C11: 1 | E11: =B11*C11 -> 2800 | F11: =E11 -> 2800 | G11: =F11 -> 2800 | H11: =G11 -> 2800 | I11: =H11 -> 2800 | J11: =I11 -> 2800 | K11: =J11 -> 2800 | L11: =K11 -> 2800 | M11: =L11 -> 2800 | ... DT11: =DS11 -> 2800
A12: Monitora | B12: 1800 | C12: =1661/120 -> 13.841667 | E12: =B12*C12 -> 24915 | F12: =E12 -> 24915 | G12: =F12 -> 24915 | H12: =G12 -> 24915 | I12: =H12 -> 24915 | J12: =I12 -> 24915 | K12: =J12 -> 24915 | L12: =K12 -> 24915 | M12: =L12 -> 24915 | ... DT12: =DS12 -> 24915
A13: Total do Custo de Mão de Obra | D13: =SUM(D4:D12) -> 0 | E13: =SUM(E4:E12) -> 48733 | F13: =SUM(F4:F12) -> 48733 | G13: =SUM(G4:G12) -> 48733 | H13: =SUM(H4:H12) -> 48733 | I13: =SUM(I4:I12) -> 48733 | J13: =SUM(J4:J12) -> 48733 | K13: =SUM(K4:K12) -> 48733 | ... DT13: =SUM(DT4:DT12) -> 48733
A14: Efetivo mensal | E14: =SUM(C4:C12) -> 22.841667 | F14: =SUM(C4:C12) -> 22.841667 | G14: =SUM(C4:C12) -> 22.841667 | H14: =SUM(C4:C12) -> 22.841667 | I14: =SUM(C4:C12) -> 22.841667 | J14: =I14 -> 22.841667 | K14: =J14 -> 22.841667 | L14: =K14 -> 22.841667 | M14: =L14 -> 22.841667 | N14: =M14 -> 22.841667 | O14: =N14 -> 22.841667 | P14: =O14 -> 22.841667 | Q14: =P14 -> 22.841667 | ... DT14: =DS14 -> 22.841667
A15: Encargos Sociais | C15: 0.95 | E15: =E13*$C$15 -> 46296.35 | F15: =F13*$C$15 -> 46296.35 | G15: =G13*$C$15 -> 46296.35 | H15: =H13*$C$15 -> 46296.35 | I15: =I13*$C$15 -> 46296.35 | J15: =I15 -> 46296.35 | K15: =J15 -> 46296.35 | L15: =L13*$C$15 -> 46296.35 | M15: =M13*$C$15 -> 46296.35 | N15: =N13*$C$15 -> 46296.35 | O15: =O13*$C$15 -> 46296.35 | P15: =P13*$C$15 -> 46296.35 | Q15: =Q13*$C$15 -> 46296.35 | R15: =R13*$C$15 -> 46296.35 | S15: =S13*$C$15 -> 46296.35 | ... DT15: =DT13*$C$15 -> 46296.35
A16: Uniforme | B16: 300 | E16: =B16*E14 -> 6852.5 | F16: =E16 -> 6852.5 | G16: =F16 -> 6852.5 | H16: =G16 -> 6852.5 | I16: =H16 -> 6852.5 | J16: =I16 -> 6852.5 | K16: =J16 -> 6852.5 | L16: =K16 -> 6852.5 | M16: =L16 -> 6852.5 | ... DT16: =DS16 -> 6852.5
A17: Vale Refeição | B17: 300 | D17: =$B$17*D14 -> 0 | E17: =$B$17*E14 -> 6852.5 | F17: =$B$17*F14 -> 6852.5 | G17: =$B$17*G14 -> 6852.5 | H17: =$B$17*H14 -> 6852.5 | I17: =$B$17*I14 -> 6852.5 | J17: =I17 -> 6852.5 | K17: =$B$17*K14 -> 6852.5 | L17: =$B$17*L14 -> 6852.5 | M17: =$B$17*M14 -> 6852.5 | N17: =$B$17*N14 -> 6852.5 | O17: =$B$17*O14 -> 6852.5 | P17: =$B$17*P14 -> 6852.5 | Q17: =$B$17*Q14 -> 6852.5 | R17: =$B$17*R14 -> 6852.5 | ... DT17: =$B$17*DT14 -> 6852.5
A18: Vale Transporte | B18: 180 | D18: =$B$18*D14*0.3 -> 0 | E18: =$B$18*E14*0.3 -> 1233.45 | F18: =$B$18*F14*0.3 -> 1233.45 | G18: =$B$18*G14*0.3 -> 1233.45 | H18: =$B$18*H14*0.3 -> 1233.45 | I18: =$B$18*I14*0.3 -> 1233.45 | J18: =I18 -> 1233.45 | K18: =J18 -> 1233.45 | L18: =K18 -> 1233.45 | M18: =L18 -> 1233.45 | N18: =M18 -> 1233.45 | O18: =N18 -> 1233.45 | P18: =O18 -> 1233.45 | Q18: =P18 -> 1233.45 | ... BK18: =BJ18 -> 1233.45 | BL18: =BJ18 -> 1233.45 | BM18: =BK18 -> 1233.45 | BN18: =BL18 -> 1233.45 | BO18: =BM18 -> 1233.45 | BP18: =BN18 -> 1233.45 | BQ18: =BO18 -> 1233.45 | BR18: =BP18 -> 1233.45 | BS18: =BQ18 -> 1233.45 | ... DT18: =DR18 -> 1233.45
A19: Sub-Total de Mão de Obra | E19: =SUM(E15:E18) -> 61234.8 | F19: =SUM(F15:F18) -> 61234.8 | G19: =SUM(G15:G18) -> 61234.8 | H19: =SUM(H15:H18) -> 61234.8 | I19: =SUM(I15:I18) -> 61234.8 | J19: =SUM(J15:J18) -> 61234.8 | K19: =SUM(K15:K18) -> 61234.8 | L19: =SUM(L15:L18) -> 61234.8 | ... DT19: =SUM(DT15:DT18) -> 61234.8
A25: Sub-Total | D25: =SUM(D20:D24)-D21 -> 0 | E25: =SUM(E20:E24)-E21 -> 0 | F25: =SUM(F20:F24)-F21 -> 0 | G25: =SUM(G20:G24)-G21 -> 0 | H25: =SUM(H20:H24)-H21 -> 0 | I25: =SUM(I20:I24)-I21 -> 0 | J25: =SUM(J20:J24)-J21 -> 0 | K25: =SUM(K20:K24)-K21 -> 0 | ... DT25: =SUM(DT20:DT24)-DT21 -> 0
A27: TOTAL FINAL | D27: =D13+D19+D25 -> 0 | E27: =E13+E19+E25 -> 109967.8 | F27: =F13+F19+F25 -> 109967.8 | G27: =G13+G19+G25 -> 109967.8 | H27: =H13+H19+H25 -> 109967.8 | I27: =I13+I19+I25 -> 109967.8 | J27: =J13+J19+J25 -> 109967.8 | K27: =K13+K19+K25 -> 109967.8 | ... DT27: =DT13+DT19+DT25 -> 109967.8

Sheet Operacional
H2: 0º mês | I2: 1º mês | J2: 2º mês | K2: 3º mês | L2: 4º mês | M2: 5º mês | N2: 6º mês | O2: 7º mês | P2: 8º mês | Q2: 9º mês | R2: 10º mês | S2: 11º mês | T2: 12º mês | U2: 1º ANO | V2: 13º mês | W2: 14º mês | X2: 15º mês | Y2: 16º mês | Z2: 17º mês | AA2: 18º mês | AB2: 19º mês | AC2: 20º mês | AD2: 21º mês | AE2: 22º mês | AF2: 23º mês | AG2: 24º mês | AH2: 2º ANO | AI2: 25º mês | AJ2: 26º mês | AK2: 27º mês | AL2: 28º mês | AM2: 29º mês | AN2: 30º mês | AO2: 31º mês | AP2: 32º mês | AQ2: 33º mês | AR2: 34º mês | AS2: 35º mês | AT2: 36º mês | AU2: 3º ANO | AV2: 37º mês | AW2: 38º mês | AX2: 39º mês | AY2: 40º mês | AZ2: 41º mês | BA2: 42º mês | BB2: 43º mês | BC2: 44º mês | BD2: 45º mês | BE2: 46º mês | BF2: 47º mês | BG2: 48º mês | BH2: 4º ANO | BI2: 49º mês | BJ2: 50º mês | BK2: 51º mês | BL2: 52º mês | BM2: 53º mês | BN2: 54º mês | BO2: 55º mês | BP2: 56º mês | BQ2: 57º mês | BR2: 58º mês | BS2: 59º mês | BT2: 60º mês | BU2: 5º ANO | BV2: 61º mês | BW2: 62º mês | BX2: 63º mês | BY2: 64º mês | BZ2: 65º mês | CA2: 66º mês | CB2: 67º mês | CC2: 68º mês | CD2: 69º mês | CE2: 70º mês | CF2: 71º mês | CG2: 72º mês | CH2: 6º ANO | CI2: 73º mês | CJ2: 74º mês | CK2: 75º mês | CL2: 76º mês | CM2: 77º mês | CN2: 78º mês | CO2: 79º mês | CP2: 80º mês | CQ2: 81º mês | CR2: 82º mês | CS2: 83º mês | CT2: 84º mês | CU2: 7º ANO | CV2: 85º mês | CW2: 86º mês | CX2: 87º mês | CY2: 88º mês | CZ2: 89º mês | DA2: 90º mês | DB2: 91º mês | DC2: 92º mês | DD2: 93º mês | DE2: 94º mês | DF2: 95º mês | DG2: 96º mês | DH2: 8º ANO | DI2: 97º mês | DJ2: 98º mês | DK2: 99º mês | DL2: 100º mês | DM2: 101º mês | DN2: 102º mês | DO2: 103º mês | DP2: 104º mês | DQ2: 105º mês | DR2: 106º mês | DS2: 107º mês | DT2: 108º mês | DU2: 9º ANO | DV2: 109º mês | DW2: 110º mês | DX2: 111º mês | DY2: 112º mês | DZ2: 113º mês | EA2: 114º mês | EB2: 115º mês | EC2: 116º mês | ED2: 117º mês | EE2: 118º mês | EF2: 119º mês | EG2: 120º mês | EH2: 10º ANO
A3: RECEITA LÍQUIDA | H3: =H4-H14 -> 0 | I3: =I4-I14 -> 205151.42 | J3: =J4-J14 -> 205151.42 | K3: =K4-K14 -> 205151.42 | L3: =L4-L14 -> 205151.42 | M3: =M4-M14 -> 205151.42 | N3: =N4-N14 -> 205151.42 | O3: =O4-O14 -> 205151.42 | ... EH3: =EH4-EH14 -> 2461817.1
A4: Receita Bruta (Rotativo | B4: Quantidade | C4: Tx.Ocup. | D4: Tx Resp. | E4: Tarifa | F4: Horas | H4: =SUM(H5:H13) -> 0 | I4: =SUM(I5:I13) -> 232862 | J4: =SUM(J5:J13) -> 232862 | K4: =SUM(K5:K13) -> 232862 | L4: =SUM(L5:L13) -> 232862 | M4: =SUM(M5:M13) -> 232862 | N4: =SUM(N5:N13) -> 232862 | O4: =SUM(O5:O13) -> 232862 | ... EH4: =SUM(EH5:EH13) -> 2794344
A5: Rotativo Carros - Semanal | B5: 840 | C5: 0.35 | D5: 0.7 | E5: 3 | F5: 180 | I5: =$B$5*$C$5*$D$5*$E$5*$F$5 -> 111132 | J5: =$B$5*$C$5*$D$5*$E$5*$F$5 -> 111132 | K5: =$B$5*$C$5*$D$5*$E$5*$F$5 -> 111132 | L5: =$B$5*$C$5*$D$5*$E$5*$F$5 -> 111132 | M5: =$B$5*$C$5*$D$5*$E$5*$F$5 -> 111132 | N5: =$B$5*$C$5*$D$5*$E$5*$F$5 -> 111132 | O5: =$B$5*$C$5*$D$5*$E$5*$F$5 -> 111132 | P5: =$B$5*$C$5*$D$5*$E$5*$F$5 -> 111132 | ... T5: =$B$5*$C$5*$D$5*$E$5*$F$5 -> 111132 | U5: =SUM(I5:T5) -> 1333584 | V5: =$B$5*$C$5*$D$5*$E$5*$F$5 -> 111132 | W5: =$B$5*$C$5*$D$5*$E$5*$F$5 -> 111132 | X5: =$B$5*$C$5*$D$5*$E$5*$F$5 -> 111132 | Y5: =$B$5*$C$5*$D$5*$E$5*$F$5 -> 111132 | Z5: =$B$5*$C$5*$D$5*$E$5*$F$5 -> 111132 | AA5: =$B$5*$C$5*$D$5*$E$5*$F$5 -> 111132 | AB5: =$B$5*$C$5*$D$5*$E$5*$F$5 -> 111132 | AC5: =$B$5*$C$5*$D$5*$E$5*$F$5 -> 111132 | ... AG5: =$B$5*$C$5*$D$5*$E$5*$F$5 -> 111132 | AH5: =SUM(V5:AG5) -> 1333584 | AI5: =$B$5*$C$5*$D$5*$E$5*$F$5 -> 111132 | AJ5: =$B$5*$C$5*$D$5*$E$5*$F$5 -> 111132 | AK5: =$B$5*$C$5*$D$5*$E$5*$F$5 -> 111132 | AL5: =$B$5*$C$5*$D$5*$E$5*$F$5 -> 111132 | AM5: =$B$5*$C$5*$D$5*$E$5*$F$5 -> 111132 | AN5: =$B$5*$C$5*$D$5*$E$5*$F$5 -> 111132 | AO5: =$B$5*$C$5*$D$5*$E$5*$F$5 -> 111132 | AP5: =$B$5*$C$5*$D$5*$E$5*$F$5 -> 111132 | ... AT5: =$B$5*$C$5*$D$5*$E$5*$F$5 -> 111132 | AU5: =SUM(AI5:AT5) -> 1333584 | AV5: =$B$5*$C$5*$D$5*$E$5*$F$5 -> 111132 | AW5: =$B$5*$C$5*$D$5*$E$5*$F$5 -> 111132 | AX5: =$B$5*$C$5*$D$5*$E$5*$F$5 -> 111132 | AY5: =$B$5*$C$5*$D$5*$E$5*$F$5 -> 111132 | AZ5: =$B$5*$C$5*$D$5*$E$5*$F$5 -> 111132 | BA5: =$B$5*$C$5*$D$5*$E$5*$F$5 -> 111132 | BB5: =$B$5*$C$5*$D$5*$E$5*$F$5 -> 111132 | BC5: =$B$5*$C$5*$D$5*$E$5*$F$5 -> 111132 | ... BG5: =$B$5*$C$5*$D$5*$E$5*$F$5 -> 111132 | BH5: =SUM(AV5:BG5) -> 1333584 | BI5: =$B$5*$C$5*$D$5*$E$5*$F$5 -> 111132 | BJ5: =$B$5*$C$5*$D$5*$E$5*$F$5 -> 111132 | BK5: =$B$5*$C$5*$D$5*$E$5*$F$5 -> 111132 | BL5: =$B$5*$C$5*$D$5*$E$5*$F$5 -> 111132 | BM5: =$B$5*$C$5*$D$5*$E$5*$F$5 -> 111132 | BN5: =$B$5*$C$5*$D$5*$E$5*$F$5 -> 111132 | BO5: =$B$5*$C$5*$D$5*$E$5*$F$5 -> 111132 | BP5: =$B$5*$C$5*$D$5*$E$5*$F$5 -> 111132 | ... BT5: =$B$5*$C$5*$D$5*$E$5*$F$5 -> 111132 | BU5: =SUM(BI5:BT5) -> 1333584 | BV5: =$B$5*$C$5*$D$5*$E$5*$F$5 -> 111132 | BW5: =$B$5*$C$5*$D$5*$E$5*$F$5 -> 111132 | BX5: =$B$5*$C$5*$D$5*$E$5*$F$5 -> 111132 | BY5: =$B$5*$C$5*$D$5*$E$5*$F$5 -> 111132 | BZ5: =$B$5*$C$5*$D$5*$E$5*$F$5 -> 111132 | CA5: =$B$5*$C$5*$D$5*$E$5*$F$5 -> 111132 | CB5: =$B$5*$C$5*$D$5*$E$5*$F$5 -> 111132 | CC5: =$B$5*$C$5*$D$5*$E$5*$F$5 -> 111132 | ... CG5: =$B$5*$C$5*$D$5*$E$5*$F$5 -> 111132 | CH5: =SUM(BV5:CG5) -> 1333584 | CI5: =$B$5*$C$5*$D$5*$E$5*$F$5 -> 111132 | CJ5: =$B$5*$C$5*$D$5*$E$5*$F$5 -> 111132 | CK5: =$B$5*$C$5*$D$5*$E$5*$F$5 -> 111132 | CL5: =$B$5*$C$5*$D$5*$E$5*$F$5 -> 111132 | CM5: =$B$5*$C$5*$D$5*$E$5*$F$5 -> 111132 | CN5: =$B$5*$C$5*$D$5*$E$5*$F$5 -> 111132 | CO5: =$B$5*$C$5*$D$5*$E$5*$F$5 -> 111132 | CP5: =$B$5*$C$5*$D$5*$E$5*$F$5 -> 111132 | ... CT5: =$B$5*$C$5*$D$5*$E$5*$F$5 -> 111132 | CU5: =SUM(CI5:CT5) -> 1333584 | CV5: =$B$5*$C$5*$D$5*$E$5*$F$5 -> 111132 | CW5: =$B$5*$C$5*$D$5*$E$5*$F$5 -> 111132 | CX5: =$B$5*$C$5*$D$5*$E$5*$F$5 -> 111132 | CY5: =$B$5*$C$5*$D$5*$E$5*$F$5 -> 111132 | CZ5: =$B$5*$C$5*$D$5*$E$5*$F$5 -> 111132 | DA5: =$B$5*$C$5*$D$5*$E$5*$F$5 -> 111132 | DB5: =$B$5*$C$5*$D$5*$E$5*$F$5 -> 111132 | DC5: =$B$5*$C$5*$D$5*$E$5*$F$5 -> 111132 | ... DG5: =$B$5*$C$5*$D$5*$E$5*$F$5 -> 111132 | DH5: =SUM(CV5:DG5) -> 1333584 | DI5: =$B$5*$C$5*$D$5*$E$5*$F$5 -> 111132 | DJ5: =$B$5*$C$5*$D$5*$E$5*$F$5 -> 111132 | DK5: =$B$5*$C$5*$D$5*$E$5*$F$5 -> 111132 | DL5: =$B$5*$C$5*$D$5*$E$5*$F$5 -> 111132 | DM5: =$B$5*$C$5*$D$5*$E$5*$F$5 -> 111132 | DN5: =$B$5*$C$5*$D$5*$E$5*$F$5 -> 111132 | DO5: =$B$5*$C$5*$D$5*$E$5*$F$5 -> 111132 | DP5: =$B$5*$C$5*$D$5*$E$5*$F$5 -> 111132 | ... DT5: =$B$5*$C$5*$D$5*$E$5*$F$5 -> 111132 | DU5: =SUM(DI5:DT5) -> 1333584 | DV5: =$B$5*$C$5*$D$5*$E$5*$F$5 -> 111132 | DW5: =$B$5*$C$5*$D$5*$E$5*$F$5 -> 111132 | DX5: =$B$5*$C$5*$D$5*$E$5*$F$5 -> 111132 | DY5: =$B$5*$C$5*$D$5*$E$5*$F$5 -> 111132 | DZ5: =$B$5*$C$5*$D$5*$E$5*$F$5 -> 111132 | EA5: =$B$5*$C$5*$D$5*$E$5*$F$5 -> 111132 | EB5: =$B$5*$C$5*$D$5*$E$5*$F$5 -> 111132 | EC5: =$B$5*$C$5*$D$5*$E$5*$F$5 -> 111132 | ... EG5: =$B$5*$C$5*$D$5*$E$5*$F$5 -> 111132 | EH5: =SUM(DV5:EG5) -> 1333584
A6: Rotativo Carros - Final de Semana/Feriados | B6: 840 | C6: 0.6 | D6: 0.5 | E6: 5 | F6: 26 | I6: =B6*C6*D6*E6*F6 -> 32760 | J6: =I6 -> 32760 | K6: =J6 -> 32760 | L6: =K6 -> 32760 | M6: =L6 -> 32760 | N6: =M6 -> 32760 | O6: =N6 -> 32760 | P6: =O6 -> 32760 | Q6: =P6 -> 32760 | ... T6: =S6 -> 32760 | U6: =SUM(I6:T6) -> 393120 | V6: =I6 -> 32760 | W6: =J6 -> 32760 | X6: =K6 -> 32760 | Y6: =L6 -> 32760 | Z6: =M6 -> 32760 | AA6: =N6 -> 32760 | AB6: =O6 -> 32760 | AC6: =P6 -> 32760 | ... EG6: =DT6 -> 32760 | EH6: =SUM(DV6:EG6) -> 393120
A7: Rotativo Moto - Semanal | B7: 840 | C7: 0.35 | D7: 0.7 | E7: 1 | F7: 180 | I7: =B7*C7*D7*E7*F7 -> 37044 | J7: =I7 -> 37044 | K7: =J7 -> 37044 | L7: =K7 -> 37044 | M7: =L7 -> 37044 | N7: =M7 -> 37044 | O7: =N7 -> 37044 | P7: =O7 -> 37044 | Q7: =P7 -> 37044 | ... T7: =S7 -> 37044 | U7: =SUM(I7:T7) -> 444528 | V7: =I7 -> 37044 | W7: =J7 -> 37044 | X7: =K7 -> 37044 | Y7: =L7 -> 37044 | Z7: =M7 -> 37044 | AA7: =N7 -> 37044 | AB7: =O7 -> 37044 | AC7: =P7 -> 37044 | ... EG7: =DT7 -> 37044 | EH7: =SUM(DV7:EG7) -> 444528
A8: Rotativo Moto - Final de Semana/Feriados | B8: 840 | C8: 0.6 | D8: 0.5 | E8: 3 | F8: 26 | I8: =B8*C8*D8*E8*F8 -> 19656 | J8: =I8 -> 19656 | K8: =J8 -> 19656 | L8: =K8 -> 19656 | M8: =L8 -> 19656 | N8: =M8 -> 19656 | O8: =N8 -> 19656 | P8: =O8 -> 19656 | Q8: =P8 -> 19656 | ... T8: =S8 -> 19656 | U8: =SUM(I8:T8) -> 235872 | V8: =I8 -> 19656 | W8: =J8 -> 19656 | X8: =K8 -> 19656 | Y8: =L8 -> 19656 | Z8: =M8 -> 19656 | AA8: =N8 -> 19656 | AB8: =O8 -> 19656 | AC8: =P8 -> 19656 | ... EG8: =DT8 -> 19656 | EH8: =SUM(DV8:EG8) -> 235872
A9: TPU Carros - Semanal | B9: 1500 | E9: 12 | I9: =B9*E9 -> 18000 | J9: =I9 -> 18000 | K9: =J9 -> 18000 | L9: =K9 -> 18000 | M9: =L9 -> 18000 | N9: =M9 -> 18000 | O9: =N9 -> 18000 | P9: =O9 -> 18000 | Q9: =P9 -> 18000 | ... T9: =S9 -> 18000 | U9: =SUM(I9:T9) -> 216000 | V9: =I9 -> 18000 | W9: =J9 -> 18000 | X9: =K9 -> 18000 | Y9: =L9 -> 18000 | Z9: =M9 -> 18000 | AA9: =N9 -> 18000 | AB9: =O9 -> 18000 | AC9: =P9 -> 18000 | ... EG9: =DT9 -> 18000 | EH9: =SUM(DV9:EG9) -> 216000
A10: TPU Carros - Final de Semana/Feriados | B10: 250 | E10: 20 | I10: =B10*E10 -> 5000 | J10: =I10 -> 5000 | K10: =J10 -> 5000 | L10: =K10 -> 5000 | M10: =L10 -> 5000 | N10: =M10 -> 5000 | O10: =N10 -> 5000 | P10: =O10 -> 5000 | Q10: =P10 -> 5000 | ... T10: =S10 -> 5000 | U10: =SUM(I10:T10) -> 60000 | V10: =I10 -> 5000 | W10: =J10 -> 5000 | X10: =K10 -> 5000 | Y10: =L10 -> 5000 | Z10: =M10 -> 5000 | AA10: =N10 -> 5000 | AB10: =O10 -> 5000 | AC10: =P10 -> 5000 | ... EG10: =DT10 -> 5000 | EH10: =SUM(DV10:EG10) -> 60000
A11: TPU Moto - Semanal | B11: 1500 | E11: 4 | I11: =B11*E11 -> 6000 | J11: =I11 -> 6000 | K11: =J11 -> 6000 | L11: =K11 -> 6000 | M11: =L11 -> 6000 | N11: =M11 -> 6000 | O11: =N11 -> 6000 | P11: =O11 -> 6000 | Q11: =P11 -> 6000 | ... T11: =S11 -> 6000 | U11: =SUM(I11:T11) -> 72000 | V11: =I11 -> 6000 | W11: =J11 -> 6000 | X11: =K11 -> 6000 | Y11: =L11 -> 6000 | Z11: =M11 -> 6000 | AA11: =N11 -> 6000 | AB11: =O11 -> 6000 | AC11: =P11 -> 6000 | ... EG11: =DT11 -> 6000 | EH11: =SUM(DV11:EG11) -> 72000
A12: TPU Moto - Final de Semana/Feriados | B12: 250 | E12: 12 | I12: =B12*E12 -> 3000 | J12: =I12 -> 3000 | K12: =J12 -> 3000 | L12: =K12 -> 3000 | M12: =L12 -> 3000 | N12: =M12 -> 3000 | O12: =N12 -> 3000 | P12: =O12 -> 3000 | Q12: =P12 -> 3000 | ... T12: =S12 -> 3000 | U12: =SUM(I12:T12) -> 36000 | V12: =I12 -> 3000 | W12: =J12 -> 3000 | X12: =K12 -> 3000 | Y12: =L12 -> 3000 | Z12: =M12 -> 3000 | AA12: =N12 -> 3000 | AB12: =O12 -> 3000 | AC12: =P12 -> 3000 | ... EG12: =DT12 -> 3000 | EH12: =SUM(DV12:EG12) -> 36000
A13: Caçamba - Mensal | B13: 1 | E13: 270 | I13: =B13*E13 -> 270 | J13: =$B$13*$E$13 -> 270 | K13: =$B$13*$E$13 -> 270 | L13: =$B$13*$E$13 -> 270 | M13: =$B$13*$E$13 -> 270 | N13: =$B$13*$E$13 -> 270 | O13: =$B$13*$E$13 -> 270 | P13: =$B$13*$E$13 -> 270 | Q13: =$B$13*$E$13 -> 270 | ... T13: =$B$13*$E$13 -> 270 | U13: =SUM(I13:T13) -> 3240 | V13: =$B$13*$E$13 -> 270 | W13: =$B$13*$E$13 -> 270 | X13: =$B$13*$E$13 -> 270 | Y13: =$B$13*$E$13 -> 270 | Z13: =$B$13*$E$13 -> 270 | AA13: =$B$13*$E$13 -> 270 | AB13: =$B$13*$E$13 -> 270 | AC13: =$B$13*$E$13 -> 270 | ... AG13: =$B$13*$E$13 -> 270 | AH13: =SUM(V13:AG13) -> 3240 | AI13: =$B$13*$E$13 -> 270 | AJ13: =$B$13*$E$13 -> 270 | AK13: =$B$13*$E$13 -> 270 | AL13: =$B$13*$E$13 -> 270 | AM13: =$B$13*$E$13 -> 270 | AN13: =$B$13*$E$13 -> 270 | AO13: =$B$13*$E$13 -> 270 | AP13: =$B$13*$E$13 -> 270 | ... AT13: =$B$13*$E$13 -> 270 | AU13: =SUM(AI13:AT13) -> 3240 | AV13: =$B$13*$E$13 -> 270 | AW13: =$B$13*$E$13 -> 270 | AX13: =$B$13*$E$13 -> 270 | AY13: =$B$13*$E$13 -> 270 | AZ13: =$B$13*$E$13 -> 270 | BA13: =$B$13*$E$13 -> 270 | BB13: =$B$13*$E$13 -> 270 | BC13: =$B$13*$E$13 -> 270 | ... BG13: =$B$13*$E$13 -> 270 | BH13: =SUM(AV13:BG13) -> 3240 | BI13: =$B$13*$E$13 -> 270 | BJ13: =$B$13*$E$13 -> 270 | BK13: =$B$13*$E$13 -> 270 | BL13: =$B$13*$E$13 -> 270 | BM13: =$B$13*$E$13 -> 270 | BN13: =$B$13*$E$13 -> 270 | BO13: =$B$13*$E$13 -> 270 | BP13: =$B$13*$E$13 -> 270 | ... BT13: =$B$13*$E$13 -> 270 | BU13: =SUM(BI13:BT13) -> 3240 | BV13: =$B$13*$E$13 -> 270 | BW13: =$B$13*$E$13 -> 270 | BX13: =$B$13*$E$13 -> 270 | BY13: =$B$13*$E$13 -> 270 | BZ13: =$B$13*$E$13 -> 270 | CA13: =$B$13*$E$13 -> 270 | CB13: =$B$13*$E$13 -> 270 | CC13: =$B$13*$E$13 -> 270 | ... CG13: =$B$13*$E$13 -> 270 | CH13: =SUM(BV13:CG13) -> 3240 | CI13: =$B$13*$E$13 -> 270 | CJ13: =$B$13*$E$13 -> 270 | CK13: =$B$13*$E$13 -> 270 | CL13: =$B$13*$E$13 -> 270 | CM13: =$B$13*$E$13 -> 270 | CN13: =$B$13*$E$13 -> 270 | CO13: =$B$13*$E$13 -> 270 | CP13: =$B$13*$E$13 -> 270 | ... CT13: =$B$13*$E$13 -> 270 | CU13: =SUM(CI13:CT13) -> 3240 | CV13: =$B$13*$E$13 -> 270 | CW13: =$B$13*$E$13 -> 270 | CX13: =$B$13*$E$13 -> 270 | CY13: =$B$13*$E$13 -> 270 | CZ13: =$B$13*$E$13 -> 270 | DA13: =$B$13*$E$13 -> 270 | DB13: =$B$13*$E$13 -> 270 | DC13: =$B$13*$E$13 -> 270 | ... DG13: =$B$13*$E$13 -> 270 | DH13: =SUM(CV13:DG13) -> 3240 | DI13: =$B$13*$E$13 -> 270 | DJ13: =$B$13*$E$13 -> 270 | DK13: =$B$13*$E$13 -> 270 | DL13: =$B$13*$E$13 -> 270 | DM13: =$B$13*$E$13 -> 270 | DN13: =$B$13*$E$13 -> 270 | DO13: =$B$13*$E$13 -> 270 | DP13: =$B$13*$E$13 -> 270 | ... DT13: =$B$13*$E$13 -> 270 | DU13: =SUM(DI13:DT13) -> 3240 | DV13: =$B$13*$E$13 -> 270 | DW13: =$B$13*$E$13 -> 270 | DX13: =$B$13*$E$13 -> 270 | DY13: =$B$13*$E$13 -> 270 | DZ13: =$B$13*$E$13 -> 270 | EA13: =$B$13*$E$13 -> 270 | EB13: =$B$13*$E$13 -> 270 | EC13: =$B$13*$E$13 -> 270 | ... EG13: =$B$13*$E$13 -> 270 | EH13: =SUM(DV13:EG13) -> 3240
A14: Impostos Previsto | B14: =SUM(B15,B21) -> 0.119 | H14: =SUM(H15,H21) -> 0 | I14: =SUM(I15,I21) -> 27710.578 | J14: =SUM(J15,J21) -> 27710.578 | K14: =SUM(K15,K21) -> 27710.578 | L14: =SUM(L15,L21) -> 27710.578 | M14: =SUM(M15,M21) -> 27710.578 | N14: =SUM(N15,N21) -> 27710.578 | O14: =SUM(O15,O21) -> 27710.578 | ... EH14: =SUM(EH15,EH21) -> 332526.94
A15: Total Tributos da Pessoa Jurídica | B15: =SUM(B16:B20) -> 0.079 | H15: =SUM(H16:H20) -> 0 | I15: =SUM(I16:I20) -> 18396.098 | J15: =SUM(J16:J20) -> 18396.098 | K15: =SUM(K16:K20) -> 18396.098 | L15: =SUM(L16:L20) -> 18396.098 | M15: =SUM(M16:M20) -> 18396.098 | N15: =SUM(N16:N20) -> 18396.098 | O15: =SUM(O16:O20) -> 18396.098 | ... EH15: =SUM(EH16:EH20) -> 220753.18
A16: IRPJ | B16: 0.023 | I16: =I4*$B16 -> 5355.826 | J16: =J4*$B16 -> 5355.826 | K16: =K4*$B16 -> 5355.826 | L16: =L4*$B16 -> 5355.826 | M16: =M4*$B16 -> 5355.826 | N16: =N4*$B16 -> 5355.826 | O16: =O4*$B16 -> 5355.826 | P16: =P4*$B16 -> 5355.826 | ... T16: =T4*$B16 -> 5355.826 | U16: =SUM(I16:T16) -> 64269.912 | V16: =V4*$B16 -> 5355.826 | W16: =W4*$B16 -> 5355.826 | X16: =X4*$B16 -> 5355.826 | Y16: =Y4*$B16 -> 5355.826 | Z16: =Z4*$B16 -> 5355.826 | AA16: =AA4*$B16 -> 5355.826 | AB16: =AB4*$B16 -> 5355.826 | AC16: =AC4*$B16 -> 5355.826 | ... AG16: =AG4*$B16 -> 5355.826 | AH16: =SUM(V16:AG16) -> 64269.912 | AI16: =AI4*$B16 -> 5355.826 | AJ16: =AJ4*$B16 -> 5355.826 | AK16: =AK4*$B16 -> 5355.826 | AL16: =AL4*$B16 -> 5355.826 | AM16: =AM4*$B16 -> 5355.826 | AN16: =AN4*$B16 -> 5355.826 | AO16: =AO4*$B16 -> 5355.826 | AP16: =AP4*$B16 -> 5355.826 | ... AT16: =AT4*$B16 -> 5355.826 | AU16: =SUM(AI16:AT16) -> 64269.912 | AV16: =AV4*$B16 -> 5355.826 | AW16: =AW4*$B16 -> 5355.826 | AX16: =AX4*$B16 -> 5355.826 | AY16: =AY4*$B16 -> 5355.826 | AZ16: =AZ4*$B16 -> 5355.826 | BA16: =BA4*$B16 -> 5355.826 | BB16: =BB4*$B16 -> 5355.826 | BC16: =BC4*$B16 -> 5355.826 | ... BG16: =BG4*$B16 -> 5355.826 | BH16: =SUM(AV16:BG16) -> 64269.912 | BI16: =BI4*$B16 -> 5355.826 | BJ16: =BJ4*$B16 -> 5355.826 | BK16: =BK4*$B16 -> 5355.826 | BL16: =BL4*$B16 -> 5355.826 | BM16: =BM4*$B16 -> 5355.826 | BN16: =BN4*$B16 -> 5355.826 | BO16: =BO4*$B16 -> 5355.826 | BP16: =BP4*$B16 -> 5355.826 | ... BT16: =BT4*$B16 -> 5355.826 | BU16: =SUM(BI16:BT16) -> 64269.912 | BV16: =BV4*$B16 -> 5355.826 | BW16: =BW4*$B16 -> 5355.826 | BX16: =BX4*$B16 -> 5355.826 | BY16: =BY4*$B16 -> 5355.826 | BZ16: =BZ4*$B16 -> 5355.826 | CA16: =CA4*$B16 -> 5355.826 | CB16: =CB4*$B16 -> 5355.826 | CC16: =CC4*$B16 -> 5355.826 | ... CG16: =CG4*$B16 -> 5355.826 | CH16: =SUM(BV16:CG16) -> 64269.912 | CI16: =CI4*$B16 -> 5355.826 | CJ16: =CJ4*$B16 -> 5355.826 | CK16: =CK4*$B16 -> 5355.826 | CL16: =CL4*$B16 -> 5355.826 | CM16: =CM4*$B16 -> 5355.826 | CN16: =CN4*$B16 -> 5355.826 | CO16: =CO4*$B16 -> 5355.826 | CP16: =CP4*$B16 -> 5355.826 | ... CT16: =CT4*$B16 -> 5355.826 | CU16: =SUM(CI16:CT16) -> 64269.912 | CV16: =CV4*$B16 -> 5355.826 | CW16: =CW4*$B16 -> 5355.826 | CX16: =CX4*$B16 -> 5355.826 | CY16: =CY4*$B16 -> 5355.826 | CZ16: =CZ4*$B16 -> 5355.826 | DA16: =DA4*$B16 -> 5355.826 | DB16: =DB4*$B16 -> 5355.826 | DC16: =DC4*$B16 -> 5355.826 | ... DG16: =DG4*$B16 -> 5355.826 | DH16: =SUM(CV16:DG16) -> 64269.912 | DI16: =DI4*$B16 -> 5355.826 | DJ16: =DJ4*$B16 -> 5355.826 | DK16: =DK4*$B16 -> 5355.826 | DL16: =DL4*$B16 -> 5355.826 | DM16: =DM4*$B16 -> 5355.826 | DN16: =DN4*$B16 -> 5355.826 | DO16: =DO4*$B16 -> 5355.826 | DP16: =DP4*$B16 -> 5355.826 | ... DT16: =DT4*$B16 -> 5355.826 | DU16: =SUM(DI16:DT16) -> 64269.912 | DV16: =DV4*$B16 -> 5355.826 | DW16: =DW4*$B16 -> 5355.826 | DX16: =DX4*$B16 -> 5355.826 | DY16: =DY4*$B16 -> 5355.826 | DZ16: =DZ4*$B16 -> 5355.826 | EA16: =EA4*$B16 -> 5355.826 | EB16: =EB4*$B16 -> 5355.826 | EC16: =EC4*$B16 -> 5355.826 | ... EG16: =EG4*$B16 -> 5355.826 | EH16: =SUM(DV16:EG16) -> 64269.912
A17: IRPJ Adicional | B17: 0.006 | I17: =I4*$B17 -> 1397.172 | J17: =J4*$B17 -> 1397.172 | K17: =K4*$B17 -> 1397.172 | L17: =L4*$B17 -> 1397.172 | M17: =M4*$B17 -> 1397.172 | N17: =N4*$B17 -> 1397.172 | O17: =O4*$B17 -> 1397.172 | P17: =P4*$B17 -> 1397.172 | ... T17: =T4*$B17 -> 1397.172 | U17: =SUM(I17:T17) -> 16766.064 | V17: =V4*$B17 -> 1397.172 | W17: =W4*$B17 -> 1397.172 | X17: =X4*$B17 -> 1397.172 | Y17: =Y4*$B17 -> 1397.172 | Z17: =Z4*$B17 -> 1397.172 | AA17: =AA4*$B17 -> 1397.172 | AB17: =AB4*$B17 -> 1397.172 | AC17: =AC4*$B17 -> 1397.172 | ... AG17: =AG4*$B17 -> 1397.172 | AH17: =SUM(V17:AG17) -> 16766.064 | AI17: =AI4*$B17 -> 1397.172 | AJ17: =AJ4*$B17 -> 1397.172 | AK17: =AK4*$B17 -> 1397.172 | AL17: =AL4*$B17 -> 1397.172 | AM17: =AM4*$B17 -> 1397.172 | AN17: =AN4*$B17 -> 1397.172 | AO17: =AO4*$B17 -> 1397.172 | AP17: =AP4*$B17 -> 1397.172 | ... AT17: =AT4*$B17 -> 1397.172 | AU17: =SUM(AI17:AT17) -> 16766.064 | AV17: =AV4*$B17 -> 1397.172 | AW17: =AW4*$B17 -> 1397.172 | AX17: =AX4*$B17 -> 1397.172 | AY17: =AY4*$B17 -> 1397.172 | AZ17: =AZ4*$B17 -> 1397.172 | BA17: =BA4*$B17 -> 1397.172 | BB17: =BB4*$B17 -> 1397.172 | BC17: =BC4*$B17 -> 1397.172 | ... BG17: =BG4*$B17 -> 1397.172 | BH17: =SUM(AV17:BG17) -> 16766.064 | BI17: =BI4*$B17 -> 1397.172 | BJ17: =BJ4*$B17 -> 1397.172 | BK17: =BK4*$B17 -> 1397.172 | BL17: =BL4*$B17 -> 1397.172 | BM17: =BM4*$B17 -> 1397.172 | BN17: =BN4*$B17 -> 1397.172 | BO17: =BO4*$B17 -> 1397.172 | BP17: =BP4*$B17 -> 1397.172 | ... BT17: =BT4*$B17 -> 1397.172 | BU17: =SUM(BI17:BT17) -> 16766.064 | BV17: =BV4*$B17 -> 1397.172 | BW17: =BW4*$B17 -> 1397.172 | BX17: =BX4*$B17 -> 1397.172 | BY17: =BY4*$B17 -> 1397.172 | BZ17: =BZ4*$B17 -> 1397.172 | CA17: =CA4*$B17 -> 1397.172 | CB17: =CB4*$B17 -> 1397.172 | CC17: =CC4*$B17 -> 1397.172 | ... CG17: =CG4*$B17 -> 1397.172 | CH17: =SUM(BV17:CG17) -> 16766.064 | CI17: =CI4*$B17 -> 1397.172 | CJ17: =CJ4*$B17 -> 1397.172 | CK17: =CK4*$B17 -> 1397.172 | CL17: =CL4*$B17 -> 1397.172 | CM17: =CM4*$B17 -> 1397.172 | CN17: =CN4*$B17 -> 1397.172 | CO17: =CO4*$B17 -> 1397.172 | CP17: =CP4*$B17 -> 1397.172 | ... CT17: =CT4*$B17 -> 1397.172 | CU17: =SUM(CI17:CT17) -> 16766.064 | CV17: =CV4*$B17 -> 1397.172 | CW17: =CW4*$B17 -> 1397.172 | CX17: =CX4*$B17 -> 1397.172 | CY17: =CY4*$B17 -> 1397.172 | CZ17: =CZ4*$B17 -> 1397.172 | DA17: =DA4*$B17 -> 1397.172 | DB17: =DB4*$B17 -> 1397.172 | DC17: =DC4*$B17 -> 1397.172 | ... DG17: =DG4*$B17 -> 1397.172 | DH17: =SUM(CV17:DG17) -> 16766.064 | DI17: =DI4*$B17 -> 1397.172 | DJ17: =DJ4*$B17 -> 1397.172 | DK17: =DK4*$B17 -> 1397.172 | DL17: =DL4*$B17 -> 1397.172 | DM17: =DM4*$B17 -> 1397.172 | DN17: =DN4*$B17 -> 1397.172 | DO17: =DO4*$B17 -> 1397.172 | DP17: =DP4*$B17 -> 1397.172 | ... DT17: =DT4*$B17 -> 1397.172 | DU17: =SUM(DI17:DT17) -> 16766.064 | DV17: =DV4*$B17 -> 1397.172 | DW17: =DW4*$B17 -> 1397.172 | DX17: =DX4*$B17 -> 1397.172 | DY17: =DY4*$B17 -> 1397.172 | DZ17: =DZ4*$B17 -> 1397.172 | EA17: =EA4*$B17 -> 1397.172 | EB17: =EB4*$B17 -> 1397.172 | EC17: =EC4*$B17 -> 1397.172 | ... EG17: =EG4*$B17 -> 1397.172 | EH17: =SUM(DV17:EG17) -> 16766.064
A18: CSLL | B18: 0.0135 | I18: =I4*$B18 -> 3143.637 | J18: =J4*$B18 -> 3143.637 | K18: =K4*$B18 -> 3143.637 | L18: =L4*$B18 -> 3143.637 | M18: =M4*$B18 -> 3143.637 | N18: =N4*$B18 -> 3143.637 | O18: =O4*$B18 -> 3143.637 | P18: =P4*$B18 -> 3143.637 | ... T18: =T4*$B18 -> 3143.637 | U18: =SUM(I18:T18) -> 37723.644 | V18: =V4*$B18 -> 3143.637 | W18: =W4*$B18 -> 3143.637 | X18: =X4*$B18 -> 3143.637 | Y18: =Y4*$B18 -> 3143.637 | Z18: =Z4*$B18 -> 3143.637 | AA18: =AA4*$B18 -> 3143.637 | AB18: =AB4*$B18 -> 3143.637 | AC18: =AC4*$B18 -> 3143.637 | ... AG18: =AG4*$B18 -> 3143.637 | AH18: =SUM(V18:AG18) -> 37723.644 | AI18: =AI4*$B18 -> 3143.637 | AJ18: =AJ4*$B18 -> 3143.637 | AK18: =AK4*$B18 -> 3143.637 | AL18: =AL4*$B18 -> 3143.637 | AM18: =AM4*$B18 -> 3143.637 | AN18: =AN4*$B18 -> 3143.637 | AO18: =AO4*$B18 -> 3143.637 | AP18: =AP4*$B18 -> 3143.637 | ... AT18: =AT4*$B18 -> 3143.637 | AU18: =SUM(AI18:AT18) -> 37723.644 | AV18: =AV4*$B18 -> 3143.637 | AW18: =AW4*$B18 -> 3143.637 | AX18: =AX4*$B18 -> 3143.637 | AY18: =AY4*$B18 -> 3143.637 | AZ18: =AZ4*$B18 -> 3143.637 | BA18: =BA4*$B18 -> 3143.637 | BB18: =BB4*$B18 -> 3143.637 | BC18: =BC4*$B18 -> 3143.637 | ... BG18: =BG4*$B18 -> 3143.637 | BH18: =SUM(AV18:BG18) -> 37723.644 | BI18: =BI4*$B18 -> 3143.637 | BJ18: =BJ4*$B18 -> 3143.637 | BK18: =BK4*$B18 -> 3143.637 | BL18: =BL4*$B18 -> 3143.637 | BM18: =BM4*$B18 -> 3143.637 | BN18: =BN4*$B18 -> 3143.637 | BO18: =BO4*$B18 -> 3143.637 | BP18: =BP4*$B18 -> 3143.637 | ... BT18: =BT4*$B18 -> 3143.637 | BU18: =SUM(BI18:BT18) -> 37723.644 | BV18: =BV4*$B18 -> 3143.637 | BW18: =BW4*$B18 -> 3143.637 | BX18: =BX4*$B18 -> 3143.637 | BY18: =BY4*$B18 -> 3143.637 | BZ18: =BZ4*$B18 -> 3143.637 | CA18: =CA4*$B18 -> 3143.637 | CB18: =CB4*$B18 -> 3143.637 | CC18: =CC4*$B18 -> 3143.637 | ... CG18: =CG4*$B18 -> 3143.637 | CH18: =SUM(BV18:CG18) -> 37723.644 | CI18: =CI4*$B18 -> 3143.637 | CJ18: =CJ4*$B18 -> 3143.637 | CK18: =CK4*$B18 -> 3143.637 | CL18: =CL4*$B18 -> 3143.637 | CM18: =CM4*$B18 -> 3143.637 | CN18: =CN4*$B18 -> 3143.637 | CO18: =CO4*$B18 -> 3143.637 | CP18: =CP4*$B18 -> 3143.637 | ... CT18: =CT4*$B18 -> 3143.637 | CU18: =SUM(CI18:CT18) -> 37723.644 | CV18: =CV4*$B18 -> 3143.637 | CW18: =CW4*$B18 -> 3143.637 | CX18: =CX4*$B18 -> 3143.637 | CY18: =CY4*$B18 -> 3143.637 | CZ18: =CZ4*$B18 -> 3143.637 | DA18: =DA4*$B18 -> 3143.637 | DB18: =DB4*$B18 -> 3143.637 | DC18: =DC4*$B18 -> 3143.637 | ... DG18: =DG4*$B18 -> 3143.637 | DH18: =SUM(CV18:DG18) -> 37723.644 | DI18: =DI4*$B18 -> 3143.637 | DJ18: =DJ4*$B18 -> 3143.637 | DK18: =DK4*$B18 -> 3143.637 | DL18: =DL4*$B18 -> 3143.637 | DM18: =DM4*$B18 -> 3143.637 | DN18: =DN4*$B18 -> 3143.637 | DO18: =DO4*$B18 -> 3143.637 | DP18: =DP4*$B18 -> 3143.637 | ... DT18: =DT4*$B18 -> 3143.637 | DU18: =SUM(DI18:DT18) -> 37723.644 | DV18: =DV4*$B18 -> 3143.637 | DW18: =DW4*$B18 -> 3143.637 | DX18: =DX4*$B18 -> 3143.637 | DY18: =DY4*$B18 -> 3143.637 | DZ18: =DZ4*$B18 -> 3143.637 | EA18: =EA4*$B18 -> 3143.637 | EB18: =EB4*$B18 -> 3143.637 | EC18: =EC4*$B18 -> 3143.637 | ... EG18: =EG4*$B18 -> 3143.637 | EH18: =SUM(DV18:EG18) -> 37723.644
A19: PIS | B19: 0.0065 | I19: =I4*$B19 -> 1513.603 | J19: =J4*$B19 -> 1513.603 | K19: =K4*$B19 -> 1513.603 | L19: =L4*$B19 -> 1513.603 | M19: =M4*$B19 -> 1513.603 | N19: =N4*$B19 -> 1513.603 | O19: =O4*$B19 -> 1513.603 | P19: =P4*$B19 -> 1513.603 | ... T19: =T4*$B19 -> 1513.603 | U19: =SUM(I19:T19) -> 18163.236 | V19: =V4*$B19 -> 1513.603 | W19: =W4*$B19 -> 1513.603 | X19: =X4*$B19 -> 1513.603 | Y19: =Y4*$B19 -> 1513.603 | Z19: =Z4*$B19 -> 1513.603 | AA19: =AA4*$B19 -> 1513.603 | AB19: =AB4*$B19 -> 1513.603 | AC19: =AC4*$B19 -> 1513.603 | ... AG19: =AG4*$B19 -> 1513.603 | AH19: =SUM(V19:AG19) -> 18163.236 | AI19: =AI4*$B19 -> 1513.603 | AJ19: =AJ4*$B19 -> 1513.603 | AK19: =AK4*$B19 -> 1513.603 | AL19: =AL4*$B19 -> 1513.603 | AM19: =AM4*$B19 -> 1513.603 | AN19: =AN4*$B19 -> 1513.603 | AO19: =AO4*$B19 -> 1513.603 | AP19: =AP4*$B19 -> 1513.603 | ... AT19: =AT4*$B19 -> 1513.603 | AU19: =SUM(AI19:AT19) -> 18163.236 | AV19: =AV4*$B19 -> 1513.603 | AW19: =AW4*$B19 -> 1513.603 | AX19: =AX4*$B19 -> 1513.603 | AY19: =AY4*$B19 -> 1513.603 | AZ19: =AZ4*$B19 -> 1513.603 | BA19: =BA4*$B19 -> 1513.603 | BB19: =BB4*$B19 -> 1513.603 | BC19: =BC4*$B19 -> 1513.603 | ... BG19: =BG4*$B19 -> 1513.603 | BH19: =SUM(AV19:BG19) -> 18163.236 | BI19: =BI4*$B19 -> 1513.603 | BJ19: =BJ4*$B19 -> 1513.603 | BK19: =BK4*$B19 -> 1513.603 | BL19: =BL4*$B19 -> 1513.603 | BM19: =BM4*$B19 -> 1513.603 | BN19: =BN4*$B19 -> 1513.603 | BO19: =BO4*$B19 -> 1513.603 | BP19: =BP4*$B19 -> 1513.603 | ... BT19: =BT4*$B19 -> 1513.603 | BU19: =SUM(BI19:BT19) -> 18163.236 | BV19: =BV4*$B19 -> 1513.603 | BW19: =BW4*$B19 -> 1513.603 | BX19: =BX4*$B19 -> 1513.603 | BY19: =BY4*$B19 -> 1513.603 | BZ19: =BZ4*$B19 -> 1513.603 | CA19: =CA4*$B19 -> 1513.603 | CB19: =CB4*$B19 -> 1513.603 | CC19: =CC4*$B19 -> 1513.603 | ... CG19: =CG4*$B19 -> 1513.603 | CH19: =SUM(BV19:CG19) -> 18163.236 | CI19: =CI4*$B19 -> 1513.603 | CJ19: =CJ4*$B19 -> 1513.603 | CK19: =CK4*$B19 -> 1513.603 | CL19: =CL4*$B19 -> 1513.603 | CM19: =CM4*$B19 -> 1513.603 | CN19: =CN4*$B19 -> 1513.603 | CO19: =CO4*$B19 -> 1513.603 | CP19: =CP4*$B19 -> 1513.603 | ... CT19: =CT4*$B19 -> 1513.603 | CU19: =SUM(CI19:CT19) -> 18163.236 | CV19: =CV4*$B19 -> 1513.603 | CW19: =CW4*$B19 -> 1513.603 | CX19: =CX4*$B19 -> 1513.603 | CY19: =CY4*$B19 -> 1513.603 | CZ19: =CZ4*$B19 -> 1513.603 | DA19: =DA4*$B19 -> 1513.603 | DB19: =DB4*$B19 -> 1513.603 | DC19: =DC4*$B19 -> 1513.603 | ... DG19: =DG4*$B19 -> 1513.603 | DH19: =SUM(CV19:DG19) -> 18163.236 | DI19: =DI4*$B19 -> 1513.603 | DJ19: =DJ4*$B19 -> 1513.603 | DK19: =DK4*$B19 -> 1513.603 | DL19: =DL4*$B19 -> 1513.603 | DM19: =DM4*$B19 -> 1513.603 | DN19: =DN4*$B19 -> 1513.603 | DO19: =DO4*$B19 -> 1513.603 | DP19: =DP4*$B19 -> 1513.603 | ... DT19: =DT4*$B19 -> 1513.603 | DU19: =SUM(DI19:DT19) -> 18163.236 | DV19: =DV4*$B19 -> 1513.603 | DW19: =DW4*$B19 -> 1513.603 | DX19: =DX4*$B19 -> 1513.603 | DY19: =DY4*$B19 -> 1513.603 | DZ19: =DZ4*$B19 -> 1513.603 | EA19: =EA4*$B19 -> 1513.603 | EB19: =EB4*$B19 -> 1513.603 | EC19: =EC4*$B19 -> 1513.603 | ... EG19: =EG4*$B19 -> 1513.603 | EH19: =SUM(DV19:EG19) -> 18163.236
A20: COFINS | B20: 0.03 | I20: =I4*$B20 -> 6985.86 | J20: =J4*$B20 -> 6985.86 | K20: =K4*$B20 -> 6985.86 | L20: =L4*$B20 -> 6985.86 | M20: =M4*$B20 -> 6985.86 | N20: =N4*$B20 -> 6985.86 | O20: =O4*$B20 -> 6985.86 | P20: =P4*$B20 -> 6985.86 | ... T20: =T4*$B20 -> 6985.86 | U20: =SUM(I20:T20) -> 83830.32 | V20: =V4*$B20 -> 6985.86 | W20: =W4*$B20 -> 6985.86 | X20: =X4*$B20 -> 6985.86 | Y20: =Y4*$B20 -> 6985.86 | Z20: =Z4*$B20 -> 6985.86 | AA20: =AA4*$B20 -> 6985.86 | AB20: =AB4*$B20 -> 6985.86 | AC20: =AC4*$B20 -> 6985.86 | ... AG20: =AG4*$B20 -> 6985.86 | AH20: =SUM(V20:AG20) -> 83830.32 | AI20: =AI4*$B20 -> 6985.86 | AJ20: =AJ4*$B20 -> 6985.86 | AK20: =AK4*$B20 -> 6985.86 | AL20: =AL4*$B20 -> 6985.86 | AM20: =AM4*$B20 -> 6985.86 | AN20: =AN4*$B20 -> 6985.86 | AO20: =AO4*$B20 -> 6985.86 | AP20: =AP4*$B20 -> 6985.86 | ... AT20: =AT4*$B20 -> 6985.86 | AU20: =SUM(AI20:AT20) -> 83830.32 | AV20: =AV4*$B20 -> 6985.86 | AW20: =AW4*$B20 -> 6985.86 | AX20: =AX4*$B20 -> 6985.86 | AY20: =AY4*$B20 -> 6985.86 | AZ20: =AZ4*$B20 -> 6985.86 | BA20: =BA4*$B20 -> 6985.86 | BB20: =BB4*$B20 -> 6985.86 | BC20: =BC4*$B20 -> 6985.86 | ... BG20: =BG4*$B20 -> 6985.86 | BH20: =SUM(AV20:BG20) -> 83830.32 | BI20: =BI4*$B20 -> 6985.86 | BJ20: =BJ4*$B20 -> 6985.86 | BK20: =BK4*$B20 -> 6985.86 | BL20: =BL4*$B20 -> 6985.86 | BM20: =BM4*$B20 -> 6985.86 | BN20: =BN4*$B20 -> 6985.86 | BO20: =BO4*$B20 -> 6985.86 | BP20: =BP4*$B20 -> 6985.86 | ... BT20: =BT4*$B20 -> 6985.86 | BU20: =SUM(BI20:BT20) -> 83830.32 | BV20: =BV4*$B20 -> 6985.86 | BW20: =BW4*$B20 -> 6985.86 | BX20: =BX4*$B20 -> 6985.86 | BY20: =BY4*$B20 -> 6985.86 | BZ20: =BZ4*$B20 -> 6985.86 | CA20: =CA4*$B20 -> 6985.86 | CB20: =CB4*$B20 -> 6985.86 | CC20: =CC4*$B20 -> 6985.86 | ... CG20: =CG4*$B20 -> 6985.86 | CH20: =SUM(BV20:CG20) -> 83830.32 | CI20: =CI4*$B20 -> 6985.86 | CJ20: =CJ4*$B20 -> 6985.86 | CK20: =CK4*$B20 -> 6985.86 | CL20: =CL4*$B20 -> 6985.86 | CM20: =CM4*$B20 -> 6985.86 | CN20: =CN4*$B20 -> 6985.86 | CO20: =CO4*$B20 -> 6985.86 | CP20: =CP4*$B20 -> 6985.86 | ... CT20: =CT4*$B20 -> 6985.86 | CU20: =SUM(CI20:CT20) -> 83830.32 | CV20: =CV4*$B20 -> 6985.86 | CW20: =CW4*$B20 -> 6985.86 | CX20: =CX4*$B20 -> 6985.86 | CY20: =CY4*$B20 -> 6985.86 | CZ20: =CZ4*$B20 -> 6985.86 | DA20: =DA4*$B20 -> 6985.86 | DB20: =DB4*$B20 -> 6985.86 | DC20: =DC4*$B20 -> 6985.86 | ... DG20: =DG4*$B20 -> 6985.86 | DH20: =SUM(CV20:DG20) -> 83830.32 | DI20: =DI4*$B20 -> 6985.86 | DJ20: =DJ4*$B20 -> 6985.86 | DK20: =DK4*$B20 -> 6985.86 | DL20: =DL4*$B20 -> 6985.86 | DM20: =DM4*$B20 -> 6985.86 | DN20: =DN4*$B20 -> 6985.86 | DO20: =DO4*$B20 -> 6985.86 | DP20: =DP4*$B20 -> 6985.86 | ... DT20: =DT4*$B20 -> 6985.86 | DU20: =SUM(DI20:DT20) -> 83830.32 | DV20: =DV4*$B20 -> 6985.86 | DW20: =DW4*$B20 -> 6985.86 | DX20: =DX4*$B20 -> 6985.86 | DY20: =DY4*$B20 -> 6985.86 | DZ20: =DZ4*$B20 -> 6985.86 | EA20: =EA4*$B20 -> 6985.86 | EB20: =EB4*$B20 -> 6985.86 | EC20: =EC4*$B20 -> 6985.86 | ... EG20: =EG4*$B20 -> 6985.86 | EH20: =SUM(DV20:EG20) -> 83830.32
A21: Tributos Municipais | B21: =SUM(B22) -> 0.04 | H21: =SUM(H22) -> 0 | I21: =SUM(I22) -> 9314.48 | J21: =SUM(J22) -> 9314.48 | K21: =SUM(K22) -> 9314.48 | L21: =SUM(L22) -> 9314.48 | M21: =SUM(M22) -> 9314.48 | N21: =SUM(N22) -> 9314.48 | O21: =SUM(O22) -> 9314.48 | ... EH21: =SUM(EH22) -> 111773.76
A22: ISSQN | B22: 0.04 | I22: =I4*$B22 -> 9314.48 | J22: =J4*$B22 -> 9314.48 | K22: =K4*$B22 -> 9314.48 | L22: =L4*$B22 -> 9314.48 | M22: =M4*$B22 -> 9314.48 | N22: =N4*$B22 -> 9314.48 | O22: =O4*$B22 -> 9314.48 | P22: =P4*$B22 -> 9314.48 | ... T22: =T4*$B22 -> 9314.48 | U22: =SUM(I22:T22) -> 111773.76 | V22: =V4*$B22 -> 9314.48 | W22: =W4*$B22 -> 9314.48 | X22: =X4*$B22 -> 9314.48 | Y22: =Y4*$B22 -> 9314.48 | Z22: =Z4*$B22 -> 9314.48 | AA22: =AA4*$B22 -> 9314.48 | AB22: =AB4*$B22 -> 9314.48 | AC22: =AC4*$B22 -> 9314.48 | ... AG22: =AG4*$B22 -> 9314.48 | AH22: =SUM(V22:AG22) -> 111773.76 | AI22: =AI4*$B22 -> 9314.48 | AJ22: =AJ4*$B22 -> 9314.48 | AK22: =AK4*$B22 -> 9314.48 | AL22: =AL4*$B22 -> 9314.48 | AM22: =AM4*$B22 -> 9314.48 | AN22: =AN4*$B22 -> 9314.48 | AO22: =AO4*$B22 -> 9314.48 | AP22: =AP4*$B22 -> 9314.48 | ... AT22: =AT4*$B22 -> 9314.48 | AU22: =SUM(AI22:AT22) -> 111773.76 | AV22: =AV4*$B22 -> 9314.48 | AW22: =AW4*$B22 -> 9314.48 | AX22: =AX4*$B22 -> 9314.48 | AY22: =AY4*$B22 -> 9314.48 | AZ22: =AZ4*$B22 -> 9314.48 | BA22: =BA4*$B22 -> 9314.48 | BB22: =BB4*$B22 -> 9314.48 | BC22: =BC4*$B22 -> 9314.48 | ... BG22: =BG4*$B22 -> 9314.48 | BH22: =SUM(AV22:BG22) -> 111773.76 | BI22: =BI4*$B22 -> 9314.48 | BJ22: =BJ4*$B22 -> 9314.48 | BK22: =BK4*$B22 -> 9314.48 | BL22: =BL4*$B22 -> 9314.48 | BM22: =BM4*$B22 -> 9314.48 | BN22: =BN4*$B22 -> 9314.48 | BO22: =BO4*$B22 -> 9314.48 | BP22: =BP4*$B22 -> 9314.48 | ... BT22: =BT4*$B22 -> 9314.48 | BU22: =SUM(BI22:BT22) -> 111773.76 | BV22: =BV4*$B22 -> 9314.48 | BW22: =BW4*$B22 -> 9314.48 | BX22: =BX4*$B22 -> 9314.48 | BY22: =BY4*$B22 -> 9314.48 | BZ22: =BZ4*$B22 -> 9314.48 | CA22: =CA4*$B22 -> 9314.48 | CB22: =CB4*$B22 -> 9314.48 | CC22: =CC4*$B22 -> 9314.48 | ... CG22: =CG4*$B22 -> 9314.48 | CH22: =SUM(BV22:CG22) -> 111773.76 | CI22: =CI4*$B22 -> 9314.48 | CJ22: =CJ4*$B22 -> 9314.48 | CK22: =CK4*$B22 -> 9314.48 | CL22: =CL4*$B22 -> 9314.48 | CM22: =CM4*$B22 -> 9314.48 | CN22: =CN4*$B22 -> 9314.48 | CO22: =CO4*$B22 -> 9314.48 | CP22: =CP4*$B22 -> 9314.48 | ... CT22: =CT4*$B22 -> 9314.48 | CU22: =SUM(CI22:CT22) -> 111773.76 | CV22: =CV4*$B22 -> 9314.48 | CW22: =CW4*$B22 -> 9314.48 | CX22: =CX4*$B22 -> 9314.48 | CY22: =CY4*$B22 -> 9314.48 | CZ22: =CZ4*$B22 -> 9314.48 | DA22: =DA4*$B22 -> 9314.48 | DB22: =DB4*$B22 -> 9314.48 | DC22: =DC4*$B22 -> 9314.48 | ... DG22: =DG4*$B22 -> 9314.48 | DH22: =SUM(CV22:DG22) -> 111773.76 | DI22: =DI4*$B22 -> 9314.48 | DJ22: =DJ4*$B22 -> 9314.48 | DK22: =DK4*$B22 -> 9314.48 | DL22: =DL4*$B22 -> 9314.48 | DM22: =DM4*$B22 -> 9314.48 | DN22: =DN4*$B22 -> 9314.48 | DO22: =DO4*$B22 -> 9314.48 | DP22: =DP4*$B22 -> 9314.48 | ... DT22: =DT4*$B22 -> 9314.48 | DU22: =SUM(DI22:DT22) -> 111773.76 | DV22: =DV4*$B22 -> 9314.48 | DW22: =DW4*$B22 -> 9314.48 | DX22: =DX4*$B22 -> 9314.48 | DY22: =DY4*$B22 -> 9314.48 | DZ22: =DZ4*$B22 -> 9314.48 | EA22: =EA4*$B22 -> 9314.48 | EB22: =EB4*$B22 -> 9314.48 | EC22: =EC4*$B22 -> 9314.48 | ... EG22: =EG4*$B22 -> 9314.48 | EH22: =SUM(DV22:EG22) -> 111773.76
A23: OPEX x CAPEX (Despesas Operacionais x Investimentos) | H23: =SUM(H24,H56) -> 1468881 | I23: =SUM(I24,I56) -> 170801.88 | J23: =SUM(J24,J56) -> 170801.88 | K23: =SUM(K24,K56) -> 170801.88 | L23: =SUM(L24,L56) -> 170801.88 | M23: =SUM(M24,M56) -> 170801.88 | N23: =SUM(N24,N56) -> 170801.88 | O23: =SUM(O24,O56) -> 170801.88 | ... EH23: =SUM(EH24,EH56) -> 2010962.6
A24: Despesas Operacionais (OPEX) | H24: =SUM(H25,H41,H49,H52,H54) -> 0 | I24: =SUM(I25,I41,I49,I52,I54) -> 170801.88 | J24: =SUM(J25,J41,J49,J52,J54) -> 170801.88 | K24: =SUM(K25,K41,K49,K52,K54) -> 170801.88 | L24: =SUM(L25,L41,L49,L52,L54) -> 170801.88 | M24: =SUM(M25,M41,M49,M52,M54) -> 170801.88 | N24: =SUM(N25,N41,N49,N52,N54) -> 170801.88 | O24: =SUM(O25,O41,O49,O52,O54) -> 170801.88 | ... EH24: =SUM(EH25,EH41,EH49,EH52,EH54) -> 1842262.6
A25: Custos Mão de Obra | B25: Salário | C25: Quantidade | H25: =SUM(H26,H36) -> 0 | I25: =SUM(I26,I36) -> 95015.68 | J25: =SUM(J26,J36) -> 95015.68 | K25: =SUM(K26,K36) -> 95015.68 | L25: =SUM(L26,L36) -> 95015.68 | M25: =SUM(M26,M36) -> 95015.68 | N25: =SUM(N26,N36) -> 95015.68 | O25: =SUM(O26,O36) -> 95015.68 | ... EH25: =SUM(EH26,EH36) -> 932828.16
A26: Mão de Obra | B26: Salário | C26: =SUM(C27:C35) -> 20 | H26: =SUM(H27:H35) -> 0 | I26: =SUM(I27:I35) -> 43654 | J26: =SUM(J27:J35) -> 43654 | K26: =SUM(K27:K35) -> 43654 | L26: =SUM(L27:L35) -> 43654 | M26: =SUM(M27:M35) -> 43654 | N26: =SUM(N27:N35) -> 43654 | O26: =SUM(O27:O35) -> 43654 | ... EH26: =SUM(EH27:EH35) -> 415848
A27: Coordenadora Operacional | B27: 4500 | C27: 1 | I27: =$B$27*$C$27 -> 4500 | J27: =$B$27*$C$27 -> 4500 | K27: =$B$27*$C$27 -> 4500 | L27: =$B$27*$C$27 -> 4500 | M27: =$B$27*$C$27 -> 4500 | N27: =$B$27*$C$27 -> 4500 | O27: =$B$27*$C$27 -> 4500 | P27: =$B$27*$C$27 -> 4500 | ... T27: =$B$27*$C$27 -> 4500 | U27: =SUM(I27:T27) -> 54000 | V27: =$B$27*$C$27 -> 4500 | W27: =$B$27*$C$27 -> 4500 | X27: =$B$27*$C$27 -> 4500 | Y27: =$B$27*$C$27 -> 4500 | Z27: =$B$27*$C$27 -> 4500 | AA27: =$B$27*$C$27 -> 4500 | AB27: =$B$27*$C$27 -> 4500 | AC27: =$B$27*$C$27 -> 4500 | ... AG27: =$B$27*$C$27 -> 4500 | AH27: =SUM(V27:AG27) -> 54000 | AI27: =$B$27*$C$27 -> 4500 | AJ27: =$B$27*$C$27 -> 4500 | AK27: =$B$27*$C$27 -> 4500 | AL27: =$B$27*$C$27 -> 4500 | AM27: =$B$27*$C$27 -> 4500 | AN27: =$B$27*$C$27 -> 4500 | AO27: =$B$27*$C$27 -> 4500 | AP27: =$B$27*$C$27 -> 4500 | ... AT27: =$B$27*$C$27 -> 4500 | AU27: =SUM(AI27:AT27) -> 54000 | AV27: =$B$27*$C$27 -> 4500 | AW27: =$B$27*$C$27 -> 4500 | AX27: =$B$27*$C$27 -> 4500 | AY27: =$B$27*$C$27 -> 4500 | AZ27: =$B$27*$C$27 -> 4500 | BA27: =$B$27*$C$27 -> 4500 | BB27: =$B$27*$C$27 -> 4500 | BC27: =$B$27*$C$27 -> 4500 | ... BG27: =$B$27*$C$27 -> 4500 | BH27: =SUM(AV27:BG27) -> 54000 | BI27: =$B$27*$C$27 -> 4500 | BJ27: =$B$27*$C$27 -> 4500 | BK27: =$B$27*$C$27 -> 4500 | BL27: =$B$27*$C$27 -> 4500 | BM27: =$B$27*$C$27 -> 4500 | BN27: =$B$27*$C$27 -> 4500 | BO27: =$B$27*$C$27 -> 4500 | BP27: =$B$27*$C$27 -> 4500 | ... BT27: =$B$27*$C$27 -> 4500 | BU27: =SUM(BI27:BT27) -> 54000 | BV27: =$B$27*$C$27 -> 4500 | BW27: =$B$27*$C$27 -> 4500 | BX27: =$B$27*$C$27 -> 4500 | BY27: =$B$27*$C$27 -> 4500 | BZ27: =$B$27*$C$27 -> 4500 | CA27: =$B$27*$C$27 -> 4500 | CB27: =$B$27*$C$27 -> 4500 | CC27: =$B$27*$C$27 -> 4500 | ... CG27: =$B$27*$C$27 -> 4500 | CH27: =SUM(BV27:CG27) -> 54000 | CI27: =$B$27*$C$27 -> 4500 | CJ27: =$B$27*$C$27 -> 4500 | CK27: =$B$27*$C$27 -> 4500 | CL27: =$B$27*$C$27 -> 4500 | CM27: =$B$27*$C$27 -> 4500 | CN27: =$B$27*$C$27 -> 4500 | CO27: =$B$27*$C$27 -> 4500 | CP27: =$B$27*$C$27 -> 4500 | ... CT27: =$B$27*$C$27 -> 4500 | CU27: =SUM(CI27:CT27) -> 54000 | CV27: =$B$27*$C$27 -> 4500 | CW27: =$B$27*$C$27 -> 4500 | CX27: =$B$27*$C$27 -> 4500 | CY27: =$B$27*$C$27 -> 4500 | CZ27: =$B$27*$C$27 -> 4500 | DA27: =$B$27*$C$27 -> 4500 | DB27: =$B$27*$C$27 -> 4500 | DC27: =$B$27*$C$27 -> 4500 | ... DG27: =$B$27*$C$27 -> 4500 | DH27: =SUM(CV27:DG27) -> 54000 | DI27: =$B$27*$C$27 -> 4500 | DJ27: =$B$27*$C$27 -> 4500 | DK27: =$B$27*$C$27 -> 4500 | DL27: =$B$27*$C$27 -> 4500 | DM27: =$B$27*$C$27 -> 4500 | DN27: =$B$27*$C$27 -> 4500 | DO27: =$B$27*$C$27 -> 4500 | DP27: =$B$27*$C$27 -> 4500 | ... DT27: =$B$27*$C$27 -> 4500 | DU27: =SUM(DI27:DT27) -> 54000 | DV27: =$B$27*$C$27 -> 4500 | DW27: =$B$27*$C$27 -> 4500 | DX27: =$B$27*$C$27 -> 4500 | DY27: =$B$27*$C$27 -> 4500 | DZ27: =$B$27*$C$27 -> 4500 | EA27: =$B$27*$C$27 -> 4500 | EB27: =$B$27*$C$27 -> 4500 | EC27: =$B$27*$C$27 -> 4500 | ... EG27: =$B$27*$C$27 -> 4500 | EH27: =SUM(DV27:EG27) -> 54000
A28: Técnico Operacional - TI | B28: 3500 | C28: 1 | I28: =$B$28*$C$28 -> 3500 | J28: =$B$28*$C$28 -> 3500 | K28: =$B$28*$C$28 -> 3500 | L28: =$B$28*$C$28 -> 3500 | M28: =$B$28*$C$28 -> 3500 | N28: =$B$28*$C$28 -> 3500 | O28: =$B$28*$C$28 -> 3500 | P28: =$B$28*$C$28 -> 3500 | ... T28: =$B$28*$C$28 -> 3500 | U28: =SUM(I28:T28) -> 42000 | V28: =$B$28*$C$28 -> 3500 | W28: =$B$28*$C$28 -> 3500 | X28: =$B$28*$C$28 -> 3500 | Y28: =$B$28*$C$28 -> 3500 | Z28: =$B$28*$C$28 -> 3500 | AA28: =$B$28*$C$28 -> 3500 | AB28: =$B$28*$C$28 -> 3500 | AC28: =$B$28*$C$28 -> 3500 | ... AG28: =$B$28*$C$28 -> 3500 | AH28: =SUM(V28:AG28) -> 42000 | AI28: =$B$28*$C$28 -> 3500 | AJ28: =$B$28*$C$28 -> 3500 | AK28: =$B$28*$C$28 -> 3500 | AL28: =$B$28*$C$28 -> 3500 | AM28: =$B$28*$C$28 -> 3500 | AN28: =$B$28*$C$28 -> 3500 | AO28: =$B$28*$C$28 -> 3500 | AP28: =$B$28*$C$28 -> 3500 | ... AT28: =$B$28*$C$28 -> 3500 | AU28: =SUM(AI28:AT28) -> 42000 | AV28: =$B$28*$C$28 -> 3500 | AW28: =$B$28*$C$28 -> 3500 | AX28: =$B$28*$C$28 -> 3500 | AY28: =$B$28*$C$28 -> 3500 | AZ28: =$B$28*$C$28 -> 3500 | BA28: =$B$28*$C$28 -> 3500 | BB28: =$B$28*$C$28 -> 3500 | BC28: =$B$28*$C$28 -> 3500 | ... BG28: =$B$28*$C$28 -> 3500 | BH28: =SUM(AV28:BG28) -> 42000 | BI28: =$B$28*$C$28 -> 3500 | BJ28: =$B$28*$C$28 -> 3500 | BK28: =$B$28*$C$28 -> 3500 | BL28: =$B$28*$C$28 -> 3500 | BM28: =$B$28*$C$28 -> 3500 | BN28: =$B$28*$C$28 -> 3500 | BO28: =$B$28*$C$28 -> 3500 | BP28: =$B$28*$C$28 -> 3500 | ... BT28: =$B$28*$C$28 -> 3500 | BU28: =SUM(BI28:BT28) -> 42000 | BV28: =$B$28*$C$28 -> 3500 | BW28: =$B$28*$C$28 -> 3500 | BX28: =$B$28*$C$28 -> 3500 | BY28: =$B$28*$C$28 -> 3500 | BZ28: =$B$28*$C$28 -> 3500 | CA28: =$B$28*$C$28 -> 3500 | CB28: =$B$28*$C$28 -> 3500 | CC28: =$B$28*$C$28 -> 3500 | ... CG28: =$B$28*$C$28 -> 3500 | CH28: =SUM(BV28:CG28) -> 42000 | CI28: =$B$28*$C$28 -> 3500 | CJ28: =$B$28*$C$28 -> 3500 | CK28: =$B$28*$C$28 -> 3500 | CL28: =$B$28*$C$28 -> 3500 | CM28: =$B$28*$C$28 -> 3500 | CN28: =$B$28*$C$28 -> 3500 | CO28: =$B$28*$C$28 -> 3500 | CP28: =$B$28*$C$28 -> 3500 | ... CT28: =$B$28*$C$28 -> 3500 | CU28: =SUM(CI28:CT28) -> 42000 | CV28: =$B$28*$C$28 -> 3500 | CW28: =$B$28*$C$28 -> 3500 | CX28: =$B$28*$C$28 -> 3500 | CY28: =$B$28*$C$28 -> 3500 | CZ28: =$B$28*$C$28 -> 3500 | DA28: =$B$28*$C$28 -> 3500 | DB28: =$B$28*$C$28 -> 3500 | DC28: =$B$28*$C$28 -> 3500 | ... DG28: =$B$28*$C$28 -> 3500 | DH28: =SUM(CV28:DG28) -> 42000 | DI28: =$B$28*$C$28 -> 3500 | DJ28: =$B$28*$C$28 -> 3500 | DK28: =$B$28*$C$28 -> 3500 | DL28: =$B$28*$C$28 -> 3500 | DM28: =$B$28*$C$28 -> 3500 | DN28: =$B$28*$C$28 -> 3500 | DO28: =$B$28*$C$28 -> 3500 | DP28: =$B$28*$C$28 -> 3500 | ... DT28: =$B$28*$C$28 -> 3500 | DU28: =SUM(DI28:DT28) -> 42000 | DV28: =$B$28*$C$28 -> 3500 | DW28: =$B$28*$C$28 -> 3500 | DX28: =$B$28*$C$28 -> 3500 | DY28: =$B$28*$C$28 -> 3500 | DZ28: =$B$28*$C$28 -> 3500 | EA28: =$B$28*$C$28 -> 3500 | EB28: =$B$28*$C$28 -> 3500 | EC28: =$B$28*$C$28 -> 3500 | ... EG28: =$B$28*$C$28 -> 3500 | EH28: =SUM(DV28:EG28) -> 42000
A29: Aux. Financeiro | B29: 3000 | C29: 1 | I29: =$B$29*$C$29 -> 3000 | J29: =$B$29*$C$29 -> 3000 | K29: =$B$29*$C$29 -> 3000 | L29: =$B$29*$C$29 -> 3000 | M29: =$B$29*$C$29 -> 3000 | N29: =$B$29*$C$29 -> 3000 | O29: =$B$29*$C$29 -> 3000 | P29: =$B$29*$C$29 -> 3000 | ... T29: =$B$29*$C$29 -> 3000 | U29: =SUM(I29:T29) -> 36000 | V29: =$B$29*$C$29 -> 3000 | W29: =$B$29*$C$29 -> 3000 | X29: =$B$29*$C$29 -> 3000 | Y29: =$B$29*$C$29 -> 3000 | Z29: =$B$29*$C$29 -> 3000 | AA29: =$B$29*$C$29 -> 3000 | AB29: =$B$29*$C$29 -> 3000 | AC29: =$B$29*$C$29 -> 3000 | ... AG29: =$B$29*$C$29 -> 3000 | AH29: =SUM(V29:AG29) -> 36000 | AI29: =$B$29*$C$29 -> 3000 | AJ29: =$B$29*$C$29 -> 3000 | AK29: =$B$29*$C$29 -> 3000 | AL29: =$B$29*$C$29 -> 3000 | AM29: =$B$29*$C$29 -> 3000 | AN29: =$B$29*$C$29 -> 3000 | AO29: =$B$29*$C$29 -> 3000 | AP29: =$B$29*$C$29 -> 3000 | ... AT29: =$B$29*$C$29 -> 3000 | AU29: =SUM(AI29:AT29) -> 36000 | AV29: =$B$29*$C$29 -> 3000 | AW29: =$B$29*$C$29 -> 3000 | AX29: =$B$29*$C$29 -> 3000 | AY29: =$B$29*$C$29 -> 3000 | AZ29: =$B$29*$C$29 -> 3000 | BA29: =$B$29*$C$29 -> 3000 | BB29: =$B$29*$C$29 -> 3000 | BC29: =$B$29*$C$29 -> 3000 | ... BG29: =$B$29*$C$29 -> 3000 | BH29: =SUM(AV29:BG29) -> 36000 | BI29: =$B$29*$C$29 -> 3000 | BJ29: =$B$29*$C$29 -> 3000 | BK29: =$B$29*$C$29 -> 3000 | BL29: =$B$29*$C$29 -> 3000 | BM29: =$B$29*$C$29 -> 3000 | BN29: =$B$29*$C$29 -> 3000 | BO29: =$B$29*$C$29 -> 3000 | BP29: =$B$29*$C$29 -> 3000 | ... BT29: =$B$29*$C$29 -> 3000 | BU29: =SUM(BI29:BT29) -> 36000 | BV29: =$B$29*$C$29 -> 3000 | BW29: =$B$29*$C$29 -> 3000 | BX29: =$B$29*$C$29 -> 3000 | BY29: =$B$29*$C$29 -> 3000 | BZ29: =$B$29*$C$29 -> 3000 | CA29: =$B$29*$C$29 -> 3000 | CB29: =$B$29*$C$29 -> 3000 | CC29: =$B$29*$C$29 -> 3000 | ... CG29: =$B$29*$C$29 -> 3000 | CH29: =SUM(BV29:CG29) -> 36000 | CI29: =$B$29*$C$29 -> 3000 | CJ29: =$B$29*$C$29 -> 3000 | CK29: =$B$29*$C$29 -> 3000 | CL29: =$B$29*$C$29 -> 3000 | CM29: =$B$29*$C$29 -> 3000 | CN29: =$B$29*$C$29 -> 3000 | CO29: =$B$29*$C$29 -> 3000 | CP29: =$B$29*$C$29 -> 3000 | ... CT29: =$B$29*$C$29 -> 3000 | CU29: =SUM(CI29:CT29) -> 36000 | CV29: =$B$29*$C$29 -> 3000 | CW29: =$B$29*$C$29 -> 3000 | CX29: =$B$29*$C$29 -> 3000 | CY29: =$B$29*$C$29 -> 3000 | CZ29: =$B$29*$C$29 -> 3000 | DA29: =$B$29*$C$29 -> 3000 | DB29: =$B$29*$C$29 -> 3000 | DC29: =$B$29*$C$29 -> 3000 | ... DG29: =$B$29*$C$29 -> 3000 | DH29: =SUM(CV29:DG29) -> 36000 | DI29: =$B$29*$C$29 -> 3000 | DJ29: =$B$29*$C$29 -> 3000 | DK29: =$B$29*$C$29 -> 3000 | DL29: =$B$29*$C$29 -> 3000 | DM29: =$B$29*$C$29 -> 3000 | DN29: =$B$29*$C$29 -> 3000 | DO29: =$B$29*$C$29 -> 3000 | DP29: =$B$29*$C$29 -> 3000 | ... DT29: =$B$29*$C$29 -> 3000 | DU29: =SUM(DI29:DT29) -> 36000 | DV29: =$B$29*$C$29 -> 3000 | DW29: =$B$29*$C$29 -> 3000 | DX29: =$B$29*$C$29 -> 3000 | DY29: =$B$29*$C$29 -> 3000 | DZ29: =$B$29*$C$29 -> 3000 | EA29: =$B$29*$C$29 -> 3000 | EB29: =$B$29*$C$29 -> 3000 | EC29: =$B$29*$C$29 -> 3000 | ... EG29: =$B$29*$C$29 -> 3000 | EH29: =SUM(DV29:EG29) -> 36000
A30: Aux. DP/RH | B30: 3000 | C30: 1 | I30: =$B$30*$C$30 -> 3000 | J30: =$B$30*$C$30 -> 3000 | K30: =$B$30*$C$30 -> 3000 | L30: =$B$30*$C$30 -> 3000 | M30: =$B$30*$C$30 -> 3000 | N30: =$B$30*$C$30 -> 3000 | O30: =$B$30*$C$30 -> 3000 | P30: =$B$30*$C$30 -> 3000 | ... T30: =$B$30*$C$30 -> 3000 | U30: =SUM(I30:T30) -> 36000 | V30: =$B$30*$C$30 -> 3000 | W30: =$B$30*$C$30 -> 3000 | X30: =$B$30*$C$30 -> 3000 | Y30: =$B$30*$C$30 -> 3000 | Z30: =$B$30*$C$30 -> 3000 | AA30: =$B$30*$C$30 -> 3000 | AB30: =$B$30*$C$30 -> 3000 | AC30: =$B$30*$C$30 -> 3000 | ... AG30: =$B$30*$C$30 -> 3000 | AH30: =SUM(V30:AG30) -> 36000 | AI30: =$B$30*$C$30 -> 3000 | AJ30: =$B$30*$C$30 -> 3000 | AK30: =$B$30*$C$30 -> 3000 | AL30: =$B$30*$C$30 -> 3000 | AM30: =$B$30*$C$30 -> 3000 | AN30: =$B$30*$C$30 -> 3000 | AO30: =$B$30*$C$30 -> 3000 | AP30: =$B$30*$C$30 -> 3000 | ... AT30: =$B$30*$C$30 -> 3000 | AU30: =SUM(AI30:AT30) -> 36000 | AV30: =$B$30*$C$30 -> 3000 | AW30: =$B$30*$C$30 -> 3000 | AX30: =$B$30*$C$30 -> 3000 | AY30: =$B$30*$C$30 -> 3000 | AZ30: =$B$30*$C$30 -> 3000 | BA30: =$B$30*$C$30 -> 3000 | BB30: =$B$30*$C$30 -> 3000 | BC30: =$B$30*$C$30 -> 3000 | ... BG30: =$B$30*$C$30 -> 3000 | BH30: =SUM(AV30:BG30) -> 36000 | BI30: =$B$30*$C$30 -> 3000 | BJ30: =$B$30*$C$30 -> 3000 | BK30: =$B$30*$C$30 -> 3000 | BL30: =$B$30*$C$30 -> 3000 | BM30: =$B$30*$C$30 -> 3000 | BN30: =$B$30*$C$30 -> 3000 | BO30: =$B$30*$C$30 -> 3000 | BP30: =$B$30*$C$30 -> 3000 | ... BT30: =$B$30*$C$30 -> 3000 | BU30: =SUM(BI30:BT30) -> 36000 | BV30: =$B$30*$C$30 -> 3000 | BW30: =$B$30*$C$30 -> 3000 | BX30: =$B$30*$C$30 -> 3000 | BY30: =$B$30*$C$30 -> 3000 | BZ30: =$B$30*$C$30 -> 3000 | CA30: =$B$30*$C$30 -> 3000 | CB30: =$B$30*$C$30 -> 3000 | CC30: =$B$30*$C$30 -> 3000 | ... CG30: =$B$30*$C$30 -> 3000 | CH30: =SUM(BV30:CG30) -> 36000 | CI30: =$B$30*$C$30 -> 3000 | CJ30: =$B$30*$C$30 -> 3000 | CK30: =$B$30*$C$30 -> 3000 | CL30: =$B$30*$C$30 -> 3000 | CM30: =$B$30*$C$30 -> 3000 | CN30: =$B$30*$C$30 -> 3000 | CO30: =$B$30*$C$30 -> 3000 | CP30: =$B$30*$C$30 -> 3000 | ... CT30: =$B$30*$C$30 -> 3000 | CU30: =SUM(CI30:CT30) -> 36000 | CV30: =$B$30*$C$30 -> 3000 | CW30: =$B$30*$C$30 -> 3000 | CX30: =$B$30*$C$30 -> 3000 | CY30: =$B$30*$C$30 -> 3000 | CZ30: =$B$30*$C$30 -> 3000 | DA30: =$B$30*$C$30 -> 3000 | DB30: =$B$30*$C$30 -> 3000 | DC30: =$B$30*$C$30 -> 3000 | ... DG30: =$B$30*$C$30 -> 3000 | DH30: =SUM(CV30:DG30) -> 36000 | DI30: =$B$30*$C$30 -> 3000 | DJ30: =$B$30*$C$30 -> 3000 | DK30: =$B$30*$C$30 -> 3000 | DL30: =$B$30*$C$30 -> 3000 | DM30: =$B$30*$C$30 -> 3000 | DN30: =$B$30*$C$30 -> 3000 | DO30: =$B$30*$C$30 -> 3000 | DP30: =$B$30*$C$30 -> 3000 | ... DT30: =$B$30*$C$30 -> 3000 | DU30: =SUM(DI30:DT30) -> 36000 | DV30: =$B$30*$C$30 -> 3000 | DW30: =$B$30*$C$30 -> 3000 | DX30: =$B$30*$C$30 -> 3000 | DY30: =$B$30*$C$30 -> 3000 | DZ30: =$B$30*$C$30 -> 3000 | EA30: =$B$30*$C$30 -> 3000 | EB30: =$B$30*$C$30 -> 3000 | EC30: =$B$30*$C$30 -> 3000 | ... EG30: =$B$30*$C$30 -> 3000 | EH30: =SUM(DV30:EG30) -> 36000
