Workbook
Name _0: #REF!
Name _0: #REF!
Name _01.01.01: #REF!
Name _01.01.01: #REF!
Name _1_EDIF: #REF!
Name _1_TER: #REF!
Name _2_EDIF: #REF!
Name _2_INFR: #REF!
Name _2_TAB_DESEMB: #REF!
Name _3_ESTACA: #REF!
Name _4_E.C.: #REF!
Name _5_INFR: #REF!
Name _a: #REF!
Name _ATU_ANT: #REF!
Name _BDI1: #REF!
Name _CALC_DIF: #REF!
Name _CC: #REF!
Name _CC: #REF!
Name _CO: #REF!
Name _CO: #REF!
Name _CRON_: #REF!
Name _f: #REF!
Name _GO: #REF!
Name _GO: #REF!
Name _i: #REF!
Name _i: #REF!
Name _I_PF: #REF!
Name _I_PF: #REF!
Name _j: #REF!
Name _jul01: #REF!
Name _m: #REF!
Name _m: #REF!
Name _M_R_AUX: #REF!
Name _M_R_AUX: #REF!
Name _M1: #REF!
Name _M1: #REF!
Name _M10: #REF!
Name _M10: #REF!
Name _M11: #REF!
Name _M12: #REF!
Name _M12: #REF!
Name _M13: #REF!
Name _M2: #REF!
Name _M2: #REF!
Name _M3: #REF!
Name _M3: #REF!
Name _M4: #REF!
Name _M5: #REF!
Name _M6: #REF!
Name _M7: #REF!
Name _M8: #REF!
Name _M9: #REF!
Name _med2: #REF!
Name _med2: #REF!
Name _MENSAG_I: #REF!
Name _MENSAG_I2: #REF!
Name _MENSAG_SALV: #REF!
Name _MENSAGEM_R: #REF!
Name _MM: #REF!
Name _MM: #REF!

Sheet SINTÉTICO READ
B6: OBRA: | C6: ='PQPU READ'!$C$8 -> ELABORAÇÃO DE PROJETO EXECUTIVO E EXECUÇÃO DE OBRAS DE READEQUAÇÕES NO SISTEMA VIÁRIO E OBRA ESTRUTURANTE DE SANEAMENTO NAS PROXIMIDADES DOS CORREDORES VIÁRIOS ECOLÓGICOS SUSTENTÁVEIS PREVISTOS NO PROGRAMA VIVA MOGI VIVA MOGI | D6: DATA: | E6: ='PQPU READ'!F8 -> MARÇO/2024
B8: LOCAL: | C8: ='PQPU READ'!$C$9 -> AVENIDA FRANCISCO RODRIGUES FILHO x AVENIDA YOSUITERU ONISHI x AVENIDA MANOEL BEZERRA FILHO x AVENIDA ÂNTONIO DE ALMEIDA x AVENIDA LOURACI DELLA NINA TAVARES x RUA NEWTON STRAUBE x RUA BENEDITO LOPES DA SILVA x RUA MASUZO NANIWA x RUA ANTENOR LEITE DA CUNHA | D8: BDI: | E8: ='PQPU READ'!$F$9 -> 0.2423
B10: QUADRO SINTÉTICO DA PLANILHA DE QUANTIDADES E PREÇOS UNITÁRIOS (SEM DESONERAÇÃO)
B11: ITEM | C11: DESCRIÇÃO DOS SERVIÇOS | E11: PREÇO TOTAL SEM DESON. (R$)
B12: 1 | C12: =VLOOKUP(B12,'PQPU READ'!B:G,2,0) -> CANTEIRO DE OBRAS, MOBILIZAÇÃO E DESMOBILIZAÇÃO | D12: =(E12/$E$22) -> 0.021688934 | E12: =VLOOKUP(B12,'PQPU READ'!$B$14:$G$249,6,FALSE) -> 129023.73
B13: 2 | C13: =VLOOKUP(B13,'PQPU READ'!B:G,2,0) -> PROJETOS EXECUTIVOS | D13: =(E13/$E$22) -> 0.045453274 | E13: =VLOOKUP(B13,'PQPU READ'!$B$14:$G$249,6,FALSE) -> 270393.7
B14: 3 | C14: =VLOOKUP(B14,'PQPU READ'!B:G,2,0) -> ADMINISTRAÇÃO DA OBRA | D14: =(E14/$E$22) -> 0.065300462 | E14: =VLOOKUP(B14,'PQPU READ'!$B$14:$G$249,6,FALSE) -> 388461.2
B15: 4 | C15: =VLOOKUP(B15,'PQPU READ'!B:G,2,0) -> SERVIÇOS INICIAIS E INTERFERÊNCIAS | D15: =(E15/$E$22) -> 0.0848333 | E15: =VLOOKUP(B15,'PQPU READ'!$B$14:$G$249,6,FALSE) -> 504658.69
B16: 5 | C16: =VLOOKUP(B16,'PQPU READ'!B:G,2,0) -> PAVIMENTAÇÃO | D16: =(E16/$E$22) -> 0.23127524 | E16: =VLOOKUP(B16,'PQPU READ'!$B$14:$G$249,6,FALSE) -> 1375816.6
B17: 6 | C17: =VLOOKUP(B17,'PQPU READ'!B:G,2,0) -> RECAPEAMENTO | D17: =(E17/$E$22) -> 0.200031 | E17: =VLOOKUP(B17,'PQPU READ'!$B$14:$G$249,6,FALSE) -> 1189950
B18: 7 | C18: =VLOOKUP(B18,'PQPU READ'!B:G,2,0) -> ESTRUTURA PONTES | D18: =(E18/$E$22) -> 0.19862709 | E18: =VLOOKUP(B18,'PQPU READ'!$B$14:$G$249,6,FALSE) -> 1181598.3
B19: 8 | C19: =VLOOKUP(B19,'PQPU READ'!B:G,2,0) -> OBRA ESTRUTURANTE B - DMC 6 ÁREA 71 | D19: =(E19/$E$22) -> 0.10229991 | E19: =VLOOKUP(B19,'PQPU READ'!$B$14:$G$249,6,FALSE) -> 608564.52
B20: 9 | C20: =VLOOKUP(B20,'PQPU READ'!B:G,2,0) -> DRENAGEM | D20: =(E20/$E$22) -> 0.02823051 | E20: =VLOOKUP(B20,'PQPU READ'!$B$14:$G$249,6,FALSE) -> 167938.44
B21: 10 | C21: =VLOOKUP(B21,'PQPU READ'!B:G,2,0) -> PAISAGISMO E URBANISMO | D21: =(E21/$E$22) -> 0.022260281 | E21: =VLOOKUP(B21,'PQPU READ'!$B$14:$G$249,6,FALSE) -> 132422.58
C22: ='PQPU READ'!C237 -> TOTAL GERAL C/ BDI (SEM DES) - DATA BASE DAS TABELAS: SIURB JUL 2023, CDHU192 NOV 2023, SINAPI FEV 2024, DER DEZ 2023, SICRO OUT 2023 E SABESP JAN 2024. | D22: =SUM(D12:D21) -> 1 | E22: =SUM(E12:E21,) -> 5948827.7

Sheet PQPU READ
B8: OBRA: | C8: ELABORAÇÃO DE PROJETO EXECUTIVO E EXECUÇÃO DE OBRAS DE READEQUAÇÕES NO SISTEMA VIÁRIO E OBRA ESTRUTURANTE DE SANEAMENTO NAS PROXIMIDADES DOS CORREDORES VIÁRIOS ECOLÓGICOS SUSTENTÁVEIS PREVISTOS NO PROGRAMA VIVA MOGI VIVA MOGI | E8: DATA: | F8: MARÇO/2024
B9: LOCAL: | C9: AVENIDA FRANCISCO RODRIGUES FILHO x AVENIDA YOSUITERU ONISHI x AVENIDA MANOEL BEZERRA FILHO x AVENIDA ÂNTONIO DE ALMEIDA x AVENIDA LOURACI DELLA NINA TAVARES x RUA NEWTON STRAUBE x RUA BENEDITO LOPES DA SILVA x RUA MASUZO NANIWA x RUA ANTENOR LEITE DA CUNHA | E9: BDI: | F9: 0.2423
B11: DATA BASE DAS TABELAS: SIURB JUL 2023, CDHU192 NOV 2023, SINAPI FEV 2024, DER DEZ 2023, SICRO OUT 2023 E SABESP JAN 2024.
C12: PQPU - PLANILHA DE QUANTIDADES E PREÇOS UNITÁRIOS SEM DESONERAÇÃO
B13: ITEM | C13: DESCRIÇÃO DOS SERVIÇOS | D13: QUANT. | E13: UN. | F13: CUSTO UNIT. SEM DESON. COM BDI (R$) | G13: PREÇO TOTAL SEM DESON. COM BDI (R$)
B14: 1 | C14: CANTEIRO DE OBRAS, MOBILIZAÇÃO E DESMOBILIZAÇÃO | G14: =ROUND(SUM(G15:G17),2) -> 129023.73
B15: 1.1 | C15: Inst. Canteiro - TIPO I (1,500%) | D15: 0.015 | E15: % | F15: 5160949.1 | G15: =ROUND((D15*F15),2) -> 77414.24
B16: 1.2 | C16: Oper. E manuitenção Canteiro TIPO I (0,875%) | D16: 0.00875 | E16: % | F16: 5160949.1 | G16: =ROUND((D16*F16),2) -> 45158.3
B17: 1.3 | C17: Desmobilização canteiro TIPO I (0,125%) | D17: 0.00125 | E17: % | F17: 5160949.1 | G17: =ROUND((D17*F17),2) -> 6451.19
B19: 2 | C19: PROJETOS EXECUTIVOS | G19: =ROUND(SUM(G20:G33),2) -> 270393.7
B20: 2.1 | C20: COORDENADOR GERAL | D20: 144 | E20: H | F20: 585.05 | G20: =ROUND((D20*F20),2) -> 84247.2
B21: 2.2 | C21: ENGENHEIRO/ ARQUITETO PLENO | D21: 528 | E21: H | F21: 212.52 | G21: =ROUND((D21*F21),2) -> 112210.56
B22: 2.3 | C22: DESENHISTA PROJETISTA | D22: 352 | E22: H | F22: 69.2 | G22: =ROUND((D22*F22),2) -> 24358.4
B23: 2.4 | C23: TOPÓGRAFO | D23: 64 | E23: H | F23: 81.73 | G23: =ROUND((D23*F23),2) -> 5230.72
B24: 2.5 | C24: AUXILIAR DE TOPOGRAFIA | D24: 64 | E24: H | F24: 32.64 | G24: =ROUND((D24*F24),2) -> 2088.96
B25: 2.6 | C25: MOBILIZAÇÃO E INSTALAÇÃO DE 1 EQUIPAMENTO | D25: 1 | E25: UN | F25: 837.62 | G25: =ROUND((D25*F25),2) -> 837.62
B26: 2.7 | C26: PERFURAÇÃO E EXECUÇÃO DE ENSAIO PENETOMÉTRICO OU DE LAVAGEM POR TEMPO | D26: 160 | E26: M | F26: 171.16 | G26: =ROUND((D26*F26),2) -> 27385.6
B27: 2.8 | C27: ENSAIOS DE LABORATÓRIO - UMIDADE NATURAL | D27: 8 | E27: ENS. | F27: 35.36 | G27: =ROUND((D27*F27),2) -> 282.88
B28: 2.9 | C28: ENSAIOS DE LABORATÓRIO - LIMITE DE LIQUIDEZ | D28: 8 | E28: ENS. | F28: 154.94 | G28: =ROUND((D28*F28),2) -> 1239.52
B29: 2.10 | C29: ENSAIOS DE LABORATÓRIO - PLASTICIDADE | D29: 8 | E29: ENS. | F29: 125.41 | G29: =ROUND((D29*F29),2) -> 1003.28
B30: 2.11 | C30: ENSAIOS DE LABORATÓRIO - COMPACTAÇÃO | D30: 8 | E30: ENS. | F30: 383.42 | G30: =ROUND((D30*F30),2) -> 3067.36
B31: 2.12 | C31: ENSAIOS DE LABORATÓRIO - GRANULOMETRIA | D31: 8 | E31: ENS. | F31: 246.85 | G31: =ROUND((D31*F31),2) -> 1974.8
... B33: 2.14 | C33: ENSAIOS DE LABORATÓRIO - CBR MOLDADO | D33: 8 | E33: ENS. | F33: 370.9 | G33: =ROUND((D33*F33),2) -> 2967.2
B35: 3 | C35: ADMINISTRAÇÃO DA OBRA | G35: =ROUND(SUM(G36:G43),2) -> 388461.2
B36: 3.1 | C36: COORDENADOR GERAL | D36: 80 | E36: H | F36: 585.05 | G36: =ROUND((D36*F36),2) -> 46804
B37: 3.2 | C37: ENGENHEIRO/ ARQUITETO PLENO | D37: 480 | E37: H | F37: 212.52 | G37: =ROUND((D37*F37),2) -> 102009.6
B38: 3.3 | C38: MESTRE DE OBRAS COM ENCARGOS COMPLEMENTARES | D38: 1100 | E38: H | F38: 94.25 | G38: =ROUND((D38*F38),2) -> 103675
B39: 3.4 | C39: TÉCNICO EM SEGURANÇA DO TRABALHO COM ENCARGOS COMPLEMENTARES | D39: 1100 | E39: H | F39: 88.33 | G39: =ROUND((D39*F39),2) -> 97163
B40: 3.5 | C40: AUXILIAR DE TOPOGRAFIA | D40: 160 | E40: H | F40: 32.64 | G40: =ROUND((D40*F40),2) -> 5222.4
B41: 3.6 | C41: TOPÓGRAFO | D41: 160 | E41: H | F41: 81.73 | G41: =ROUND((D41*F41),2) -> 13076.8
B42: 3.7 | C42: LABORATORISTA DE SOLO/PAVIMENTAÇÃO | D42: 160 | E42: H | F42: 98.42 | G42: =ROUND((D42*F42),2) -> 15747.2
B43: 3.8 | C43: AUXILIAR DE LABORATÓRIO | D43: 160 | E43: H | F43: 29.77 | G43: =ROUND((D43*F43),2) -> 4763.2
B45: 4 | C45: SERVIÇOS INICIAIS E INTERFERÊNCIAS | G45: =SUM(G46:G71) -> 504658.69
B46: 4.1 | C46: ARRANCAMENTO DE GUIAS, INCLUI CARGA EM CAMINHÃO | D46: 1227 | E46: M | F46: 12.35 | G46: =ROUND((D46*F46),2) -> 15153.45
B47: 4.2 | C47: DEMOLIÇÃO DE PAVIMENTO ASFÁLTICO, INCLUSIVE CAPA, INCLUI CARGA NO CAMINHÃO | D47: 652 | E47: M2 | F47: 28.6 | G47: =ROUND((D47*F47),2) -> 18647.2
B48: 4.3 | C48: DEMOLIÇÃO DE PAVIMENTO DE CONCRETO, SARJETA OU SARJETÃO, INCLUI CARGA EM CAMINHÃO | D48: 990.5 | E48: M2 | F48: 32.6 | G48: =ROUND((D48*F48),2) -> 32290.3
B49: 4.4 | C49: DEMOLIÇÃO MECANIZADA DE CONCRETO ARMADO | D49: 16.36 | E49: M3 | F49: 485.04 | G49: =ROUND((D49*F49),2) -> 7935.25
B50: 4.5 | C50: DEMOLIÇÃO DE ALVENARIA EM GERAL (TIJOLOS OU BLOCOS) | D50: 22.16 | E50: M3 | F50: 85.91 | G50: =ROUND((D50*F50),2) -> 1903.77
B51: 4.6 | C51: RETIRADA DE PISO INTERTRAVADO | D51: 562 | E51: M2 | F51: 20.05 | G51: =ROUND((D51*F51),2) -> 11268.1
B52: 4.7 | C52: Retirada de guarda-corpo ou gradil em geral | D52: 194.4 | E52: M2 | F52: 39.26 | G52: =ROUND((D52*F52),2) -> 7632.14
...
