Workbook
Name _0: #REF!
Name _0: #REF!
Name _01.01.01: #REF!
Name _01.01.01: #REF!
Name _1_EDIF: #REF!
Name _1_TER: #REF!
Name _2_EDIF: #REF!
Name _2_INFR: #REF!
Name _2_TAB_DESEMB: #REF!
Name _3_ESTACA: #REF!
Name _4_E.C.: #REF!
Name _5_INFR: #REF!
Name _a: #REF!
Name _ATU_ANT: #REF!
Name _BDI1: #REF!
Name _CALC_DIF: #REF!
Name _CC: #REF!
Name _CC: #REF!
Name _CO: #REF!
Name _CO: #REF!
Name _CRON_: #REF!
Name _f: #REF!
Name _GO: #REF!
Name _GO: #REF!
Name _i: #REF!
Name _i: #REF!
Name _I_PF: #REF!
Name _I_PF: #REF!
Name _j: #REF!
Name _jul01: #REF!
Name _m: #REF!
Name _m: #REF!
Name _M_R_AUX: #REF!
Name _M_R_AUX: #REF!
Name _M1: #REF!
Name _M1: #REF!
Name _M10: #REF!
Name _M10: #REF!
Name _M11: #REF!
Name _M12: #REF!
Name _M12: #REF!
Name _M13: #REF!
Name _M2: #REF!
Name _M2: #REF!
Name _M3: #REF!
Name _M3: #REF!
Name _M4: #REF!
Name _M5: #REF!
Name _M6: #REF!
Name _M7: #REF!
Name _M8: #REF!
Name _M9: #REF!
Name _med2: #REF!
Name _med2: #REF!
Name _MENSAG_I: #REF!
Name _MENSAG_I2: #REF!
Name _MENSAG_SALV: #REF!
Name _MENSAGEM_R: #REF!
Name _MM: #REF!
Name _MM: #REF!

Sheet SINTÉTICO READ
B6: OBRA: | C6: ='PQPU READ'!$C$8 -> ELABORAÇÃO DE PROJETO EXECUTIVO E EXECUÇÃO DE OBRAS DE READEQUAÇÕES NO SISTEMA VIÁRIO E OBRA ESTRUTURANTE DE SANEAMENTO NAS PROXIMIDADES DOS CORREDORES VIÁRIOS ECOLÓGICOS SUSTENTÁVEIS PREVISTOS NO PROGRAMA VIVA MOGI VIVA MOGI | D6: DATA: | E6: ='PQPU READ'!F8 -> MARÇO/2024
B8: LOCAL: | C8: ='PQPU READ'!$C$9 -> AVENIDA FRANCISCO RODRIGUES FILHO x AVENIDA YOSUITERU ONISHI x AVENIDA MANOEL BEZERRA FILHO x AVENIDA ÂNTONIO DE ALMEIDA x AVENIDA LOURACI DELLA NINA TAVARES x RUA NEWTON STRAUBE x RUA BENEDITO LOPES DA SILVA x RUA MASUZO NANIWA x RUA ANTENOR LEITE DA CUNHA | D8: BDI: | E8: ='PQPU READ'!$F$9 -> 0.2423
B10: QUADRO SINTÉTICO DA PLANILHA DE QUANTIDADES E PREÇOS UNITÁRIOS (SEM DESONERAÇÃO)
B11: ITEM | C11: DESCRIÇÃO DOS SERVIÇOS | E11: PREÇO TOTAL SEM DESON. (R$)
B12: 1 | C12: =VLOOKUP(B12,'PQPU READ'!B:G,2,0) -> CANTEIRO DE OBRAS, MOBILIZAÇÃO E DESMOBILIZAÇÃO | D12: =(E12/$E$22) -> 0.021688934 | E12: =VLOOKUP(B12,'PQPU READ'!$B$14:$G$249,6,FALSE) -> 129023.73
B13: 2 | C13: =VLOOKUP(B13,'PQPU READ'!B:G,2,0) -> PROJETOS EXECUTIVOS | D13: =(E13/$E$22) -> 0.045453274 | E13: =VLOOKUP(B13,'PQPU READ'!$B$14:$G$249,6,FALSE) -> 270393.7
B14: 3 | C14: =VLOOKUP(B14,'PQPU READ'!B:G,2,0) -> ADMINISTRAÇÃO DA OBRA | D14: =(E14/$E$22) -> 0.065300462 | E14: =VLOOKUP(B14,'PQPU READ'!$B$14:$G$249,6,FALSE) -> 388461.2
B15: 4 | C15: =VLOOKUP(B15,'PQPU READ'!B:G,2,0) -> SERVIÇOS INICIAIS E INTERFERÊNCIAS | D15: =(E15/$E$22) -> 0.0848333 | E15: =VLOOKUP(B15,'PQPU READ'!$B$14:$G$249,6,FALSE) -> 504658.69
B16: 5 | C16: =VLOOKUP(B16,'PQPU READ'!B:G,2,0) -> PAVIMENTAÇÃO | D16: =(E16/$E$22) -> 0.23127524 | E16: =VLOOKUP(B16,'PQPU READ'!$B$14:$G$249,6,FALSE) -> 1375816.6
B17: 6 | C17: =VLOOKUP(B17,'PQPU READ'!B:G,2,0) -> RECAPEAMENTO | D17: =(E17/$E$22) -> 0.200031 | E17: =VLOOKUP(B17,'PQPU READ'!$B$14:$G$249,6,FALSE) -> 1189950
B18: 7 | C18: =VLOOKUP(B18,'PQPU READ'!B:G,2,0) -> ESTRUTURA PONTES | D18: =(E18/$E$22) -> 0.19862709 | E18: =VLOOKUP(B18,'PQPU READ'!$B$14:$G$249,6,FALSE) -> 1181598.3
B19: 8 | C19: =VLOOKUP(B19,'PQPU READ'!B:G,2,0) -> OBRA ESTRUTURANTE B - DMC 6 ÁREA 71 | D19: =(E19/$E$22) -> 0.10229991 | E19: =VLOOKUP(B19,'PQPU READ'!$B$14:$G$249,6,FALSE) -> 608564.52
B20: 9 | C20: =VLOOKUP(B20,'PQPU READ'!B:G,2,0) -> DRENAGEM | D20: =(E20/$E$22) -> 0.02823051 | E20: =VLOOKUP(B20,'PQPU READ'!$B$14:$G$249,6,FALSE) -> 167938.44
B21: 10 | C21: =VLOOKUP(B21,'PQPU READ'!B:G,2,0) -> PAISAGISMO E URBANISMO | D21: =(E21/$E$22) -> 0.022260281 | E21: =VLOOKUP(B21,'PQPU READ'!$B$14:$G$249,6,FALSE) -> 132422.58
C22: ='PQPU READ'!C237 -> TOTAL GERAL C/ BDI (SEM DES) - DATA BASE DAS TABELAS: SIURB JUL 2023, CDHU192 NOV 2023, SINAPI FEV 2024, DER DEZ 2023, SICRO OUT 2023 E SABESP JAN 2024. | D22: =SUM(D12:D21) -> 1 | E22: =SUM(E12:E21,) -> 5948827.7

Sheet PQPU READ
B8: OBRA: | C8: ELABORAÇÃO DE PROJETO EXECUTIVO E EXECUÇÃO DE OBRAS DE READEQUAÇÕES NO SISTEMA VIÁRIO E OBRA ESTRUTURANTE DE SANEAMENTO NAS PROXIMIDADES DOS CORREDORES VIÁRIOS ECOLÓGICOS SUSTENTÁVEIS PREVISTOS NO PROGRAMA VIVA MOGI VIVA MOGI | E8: DATA: | F8: MARÇO/2024
B9: LOCAL: | C9: AVENIDA FRANCISCO RODRIGUES FILHO x AVENIDA YOSUITERU ONISHI x AVENIDA MANOEL BEZERRA FILHO x AVENIDA ÂNTONIO DE ALMEIDA x AVENIDA LOURACI DELLA NINA TAVARES x RUA NEWTON STRAUBE x RUA BENEDITO LOPES DA SILVA x RUA MASUZO NANIWA x RUA ANTENOR LEITE DA CUNHA | E9: BDI: | F9: 0.2423
B11: DATA BASE DAS TABELAS: SIURB JUL 2023, CDHU192 NOV 2023, SINAPI FEV 2024, DER DEZ 2023, SICRO OUT 2023 E SABESP JAN 2024.
C12: PQPU - PLANILHA DE QUANTIDADES E PREÇOS UNITÁRIOS SEM DESONERAÇÃO
B13: ITEM | C13: DESCRIÇÃO DOS SERVIÇOS | D13: QUANT. | E13: UN. | F13: CUSTO UNIT. SEM DESON. COM BDI (R$) | G13: PREÇO TOTAL SEM DESON. COM BDI (R$)
B14: 1 | C14: CANTEIRO DE OBRAS, MOBILIZAÇÃO E DESMOBILIZAÇÃO | G14: =ROUND(SUM(G15:G17),2) -> 129023.73
B15: 1.1 | C15: Inst. Canteiro - TIPO I (1,500%) | D15: 0.015 | E15: % | F15: 5160949.1 | G15: =ROUND((D15*F15),2) -> 77414.24
B16: 1.2 | C16: Oper. E manuitenção Canteiro TIPO I (0,875%) | D16: 0.00875 | E16: % | F16: 5160949.1 | G16: =ROUND((D16*F16),2) -> 45158.3
B17: 1.3 | C17: Desmobilização canteiro TIPO I (0,125%) | D17: 0.00125 | E17: % | F17: 5160949.1 | G17: =ROUND((D17*F17),2) -> 6451.19
B19: 2 | C19: PROJETOS EXECUTIVOS | G19: =ROUND(SUM(G20:G33),2) -> 270393.7
B20: 2.1 | C20: COORDENADOR GERAL | D20: 144 | E20: H | F20: 585.05 | G20: =ROUND((D20*F20),2) -> 84247.2
B21: 2.2 | C21: ENGENHEIRO/ ARQUITETO PLENO | D21: 528 | E21: H | F21: 212.52 | G21: =ROUND((D21*F21),2) -> 112210.56
B22: 2.3 | C22: DESENHISTA PROJETISTA | D22: 352 | E22: H | F22: 69.2 | G22: =ROUND((D22*F22),2) -> 24358.4
B23: 2.4 | C23: TOPÓGRAFO | D23: 64 | E23: H | F23: 81.73 | G23: =ROUND((D23*F23),2) -> 5230.72
B24: 2.5 | C24: AUXILIAR DE TOPOGRAFIA | D24: 64 | E24: H | F24: 32.64 | G24: =ROUND((D24*F24),2) -> 2088.96
B25: 2.6 | C25: MOBILIZAÇÃO E INSTALAÇÃO DE 1 EQUIPAMENTO | D25: 1 | E25: UN | F25: 837.62 | G25: =ROUND((D25*F25),2) -> 837.62
B26: 2.7 | C26: PERFURAÇÃO E EXECUÇÃO DE ENSAIO PENETOMÉTRICO OU DE LAVAGEM POR TEMPO | D26: 160 | E26: M | F26: 171.16 | G26: =ROUND((D26*F26),2) -> 27385.6
B27: 2.8 | C27: ENSAIOS DE LABORATÓRIO - UMIDADE NATURAL | D27: 8 | E27: ENS. | F27: 35.36 | G27: =ROUND((D27*F27),2) -> 282.88
B28: 2.9 | C28: ENSAIOS DE LABORATÓRIO - LIMITE DE LIQUIDEZ | D28: 8 | E28: ENS. | F28: 154.94 | G28: =ROUND((D28*F28),2) -> 1239.52
B29: 2.10 | C29: ENSAIOS DE LABORATÓRIO - PLASTICIDADE | D29: 8 | E29: ENS. | F29: 125.41 | G29: =ROUND((D29*F29),2) -> 1003.28
B30: 2.11 | C30: ENSAIOS DE LABORATÓRIO - COMPACTAÇÃO | D30: 8 | E30: ENS. | F30: 383.42 | G30: =ROUND((D30*F30),2) -> 3067.36
B31: 2.12 | C31: ENSAIOS DE LABORATÓRIO - GRANULOMETRIA | D31: 8 | E31: ENS. | F31: 246.85 | G31: =ROUND((D31*F31),2) -> 1974.8
... B33: 2.14 | C33: ENSAIOS DE LABORATÓRIO - CBR MOLDADO | D33: 8 | E33: ENS. | F33: 370.9 | G33: =ROUND((D33*F33),2) -> 2967.2
B35: 3 | C35: ADMINISTRAÇÃO DA OBRA | G35: =ROUND(SUM(G36:G43),2) -> 388461.2
B36: 3.1 | C36: COORDENADOR GERAL | D36: 80 | E36: H | F36: 585.05 | G36: =ROUND((D36*F36),2) -> 46804
B37: 3.2 | C37: ENGENHEIRO/ ARQUITETO PLENO | D37: 480 | E37: H | F37: 212.52 | G37: =ROUND((D37*F37),2) -> 102009.6
B38: 3.3 | C38: MESTRE DE OBRAS COM ENCARGOS COMPLEMENTARES | D38: 1100 | E38: H | F38: 94.25 | G38: =ROUND((D38*F38),2) -> 103675
B39: 3.4 | C39: TÉCNICO EM SEGURANÇA DO TRABALHO COM ENCARGOS COMPLEMENTARES | D39: 1100 | E39: H | F39: 88.33 | G39: =ROUND((D39*F39),2) -> 97163
B40: 3.5 | C40: AUXILIAR DE TOPOGRAFIA | D40: 160 | E40: H | F40: 32.64 | G40: =ROUND((D40*F40),2) -> 5222.4
B41: 3.6 | C41: TOPÓGRAFO | D41: 160 | E41: H | F41: 81.73 | G41: =ROUND((D41*F41),2) -> 13076.8
B42: 3.7 | C42: LABORATORISTA DE SOLO/PAVIMENTAÇÃO | D42: 160 | E42: H | F42: 98.42 | G42: =ROUND((D42*F42),2) -> 15747.2
B43: 3.8 | C43: AUXILIAR DE LABORATÓRIO | D43: 160 | E43: H | F43: 29.77 | G43: =ROUND((D43*F43),2) -> 4763.2
B45: 4 | C45: SERVIÇOS INICIAIS E INTERFERÊNCIAS | G45: =SUM(G46:G71) -> 504658.69
B46: 4.1 | C46: ARRANCAMENTO DE GUIAS, INCLUI CARGA EM CAMINHÃO | D46: 1227 | E46: M | F46: 12.35 | G46: =ROUND((D46*F46),2) -> 15153.45
B47: 4.2 | C47: DEMOLIÇÃO DE PAVIMENTO ASFÁLTICO, INCLUSIVE CAPA, INCLUI CARGA NO CAMINHÃO | D47: 652 | E47: M2 | F47: 28.6 | G47: =ROUND((D47*F47),2) -> 18647.2
B48: 4.3 | C48: DEMOLIÇÃO DE PAVIMENTO DE CONCRETO, SARJETA OU SARJETÃO, INCLUI CARGA EM CAMINHÃO | D48: 990.5 | E48: M2 | F48: 32.6 | G48: =ROUND((D48*F48),2) -> 32290.3
B49: 4.4 | C49: DEMOLIÇÃO MECANIZADA DE CONCRETO ARMADO | D49: 16.36 | E49: M3 | F49: 485.04 | G49: =ROUND((D49*F49),2) -> 7935.25
B50: 4.5 | C50: DEMOLIÇÃO DE ALVENARIA EM GERAL (TIJOLOS OU BLOCOS) | D50: 22.16 | E50: M3 | F50: 85.91 | G50: =ROUND((D50*F50),2) -> 1903.77
B51: 4.6 | C51: RETIRADA DE PISO INTERTRAVADO | D51: 562 | E51: M2 | F51: 20.05 | G51: =ROUND((D51*F51),2) -> 11268.1
B52: 4.7 | C52: Retirada de guarda-corpo ou gradil em geral | D52: 194.4 | E52: M2 | F52: 39.26 | G52: =ROUND((D52*F52),2) -> 7632.14
B53: 4.8 | C53: ARRANCAMENTO E REMOÇÃO DE CANALIZAÇÃO, 30,0CM < 0 < OU = A 60CM | D53: 210 | E53: M | F53: 145.63 | G53: =ROUND((D53*F53),2) -> 30582.3
B54: 4.9 | C54: Tubo PVC rígido, tipo Coletor Esgoto, junta elástica, DN= 200 mm, inclusive conexões | D54: 30 | E54: M | F54: 185.43 | G54: =ROUND((D54*F54),2) -> 5562.9
B55: 4.10 | C55: Tubo de PVC rígido soldável marrom, DN= 50 mm, (1 1/2´), inclusive conexões | D55: 18 | E55: M | F55: 63.17 | G55: =ROUND((D55*F55),2) -> 1137.06
B56: 4.11 | C56: Tubo de PVC rígido DEFoFo, DN= 100mm (DE= 118mm), inclusive conexões | D56: 18 | E56: M | F56: 117.25 | G56: =ROUND((D56*F56),2) -> 2110.5
B57: 4.12 | C57: Tubo de PVC rígido DEFoFo, DN= 150mm (DE= 170mm), inclusive conexões | D57: 60 | E57: M | F57: 203.44 | G57: =ROUND((D57*F57),2) -> 12206.4
... B71: 4.26 | C71: Taxa de destinação de resíduo sólido em aterro, tipo solo/terra | D71: 547.37 | E71: M3 | F71: 36.52 | G71: =ROUND((D71*F71),2) -> 19989.95
B73: 5 | C73: PAVIMENTAÇÃO | G73: =SUM(G74:G93) -> 1375816.6
B74: 5.1 | C74: ABERTURA DE CAIXA ATÉ 40CM, INCLUI ESCAVAÇÃO, COMPACTAÇÃO, TRANSPORTE E PREPARO DO SUB-LEITO | D74: 2485.5 | E74: M2 | F74: 35.7 | G74: =ROUND((D74*F74),2) -> 88732.35
B75: 5.2 | C75: REMOÇÃO DE TERRA ALÉM DO PRIMEIRO KM, COM CAMINHÃO DE 14M3 | D75: 13918.8 | E75: M3XKM | F75: 1.49 | G75: =ROUND((D75*F75),2) -> 20739.01
B76: 5.3 | C76: Taxa de destinação de resíduo sólido em aterro, tipo solo/terra | D76: 3231.15 | E76: M3 | F76: 36.52 | G76: =ROUND((D76*F76),2) -> 118001.6
B77: 5.4 | C77: REVESTIMENTO DE CONCRETO ASFÁLTICO (SEM TRANSPORTE) | D77: 124.28 | E77: M3 | F77: 1713.08 | G77: =ROUND((D77*F77),2) -> 212901.58
B78: 5.5 | C78: CARGA, DESCARGA E TRANSPORTE DE CONCRETO ASFÁLTICO ATÉ A DISTÂNCIA MÉDIA DE IDA E VOLTA DE 1KM | D78: 124.28 | E78: M3 | F78: 24.06 | G78: =ROUND((D78*F78),2) -> 2990.18
B79: 5.6 | C79: TRANSPORTE DE CONCRETO ASFÁLTICO ALÉM DO PRIMEIRO KM | D79: 3106.88 | E79: M3XKM | F79: 4.26 | G79: =ROUND((D79*F79),2) -> 13235.31
B80: 5.7 | C80: IMPRIMAÇÃO BETUMINOSA LIGANTE | D80: 2485.5 | E80: M2 | F80: 8.61 | G80: =ROUND((D80*F80),2) -> 21400.16
B81: 5.8 | C81: BASE DE BINDER ABERTO (SEM TRANSPORTE) | D81: 124.28 | E81: M3 | F81: 1225.95 | G81: =ROUND((D81*F81),2) -> 152361.07
B82: 5.9 | C82: CARGA, DESCARGA E TRANSPORTE DE BINDER ATÉ A DISTÂNCIA MÉDIA DE IDA E VOLTA DE 1KM | D82: 124.28 | E82: M3 | F82: 24.06 | G82: =ROUND((D82*F82),2) -> 2990.18
B83: 5.10 | C83: TRANSPORTE DE BINDER ALÉM DO PRIMEIRO KM | D83: 3106.88 | E83: M3XKM | F83: 4.26 | G83: =ROUND((D83*F83),2) -> 13235.31
B84: 5.11 | C84: IMPRIMAÇÃO BETUMINOSA IMPERMEABILIZANTE | D84: 2485.5 | E84: M2 | F84: 16.96 | G84: =ROUND((D84*F84),2) -> 42154.08
B85: 5.12 | C85: BASE DE BRITA GRADUADA TRATADA COM CIMENTO - BGTC | D85: 372.83 | E85: M3 | F85: 363.96 | G85: =ROUND((D85*F85),2) -> 135695.21
... B93: 5.20 | C93: CONSTRUÇÃO DE SARJETA OU SARJETÃO DE CONCRETO - FCK=25,0MPA | D93: 67.03 | E93: M3 | F93: 759.03 | G93: =ROUND((D93*F93),2) -> 50877.78
B95: 6 | C95: RECAPEAMENTO | G95: =SUM(G96:G104) -> 1189950
B96: 6.1 | C96: FRESAGEM DE PAVIMENTO ASFÁLTICO COM ESPESSURA ATÉ 5CM, EM VIAS ARTERIAIS, INCLUSIVE REMOÇÃO DO MATERIAL FRESADO ATÉ 10KM E VARRIÇÃO | D96: 10238 | E96: M2 | F96: 23.44 | G96: =ROUND((D96*F96),2) -> 239978.72
B97: 6.2 | C97: IMPRIMAÇÃO BETUMINOSA IMPERMEABILIZANTE | D97: 5119 | E97: M2 | F97: 16.96 | G97: =ROUND((D97*F97),2) -> 86818.24
B98: 6.3 | C98: BASE DE BINDER ABERTO (SEM TRANSPORTE) | D98: 255.95 | E98: M3 | F98: 1225.95 | G98: =ROUND((D98*F98),2) -> 313781.9
B99: 6.4 | C99: CARGA, DESCARGA E TRANSPORTE DE BINDER ATÉ A DISTÂNCIA MÉDIA DE IDA E VOLTA DE 1KM | D99: 255.95 | E99: M3 | F99: 24.06 | G99: =ROUND((D99*F99),2) -> 6158.16
B100: 6.5 | C100: TRANSPORTE DE BINDER ALÉM DO PRIMEIRO KM | D100: 6398.75 | E100: M3XKM | F100: 4.26 | G100: =ROUND((D100*F100),2) -> 27258.68
B101: 6.6 | C101: IMPRIMAÇÃO BETUMINOSA LIGANTE | D101: 5119 | E101: M2 | F101: 8.61 | G101: =ROUND((D101*F101),2) -> 44074.59
B102: 6.7 | C102: REVESTIMENTO DE CONCRETO ASFÁLTICO (SEM TRANSPORTE) | D102: 255.95 | E102: M3 | F102: 1713.08 | G102: =ROUND((D102*F102),2) -> 438462.83
B103: 6.8 | C103: CARGA, DESCARGA E TRANSPORTE DE CONCRETO ASFÁLTICO ATÉ A DISTÂNCIA MÉDIA DE IDA E VOLTA DE 1KM | D103: 255.95 | E103: M3 | F103: 24.06 | G103: =ROUND((D103*F103),2) -> 6158.16
B104: 6.9 | C104: TRANSPORTE DE CONCRETO ASFÁLTICO ALÉM DO PRIMEIRO KM | D104: 6398.75 | E104: M3XKM | F104: 4.26 | G104: =ROUND((D104*F104),2) -> 27258.68
B106: 7 | C106: ESTRUTURA PONTES | G106: =SUM(G107:G127) -> 1181598.3
B107: 7.1 | C107: Taxa de mobilização e desmobilização de equipamentos para execução de estaca tipo hélice contínua em solo | D107: 1 | E107: TX | F107: 42951.67 | G107: =ROUND((D107*F107),2) -> 42951.67
B108: 7.2 | C108: Estaca tipo hélice contínua, diâmetro de 40 cm em solo | D108: 360 | E108: M | F108: 91.66 | G108: =ROUND((D108*F108),2) -> 32997.6
B109: 7.3 | C109: FORNECIMENTO E APLICAÇÃO DE AÇO CA-60 | D109: 425 | E109: KG | F109: 16.39 | G109: =ROUND((D109*F109),2) -> 6965.75
B110: 7.4 | C110: FORNECIMENTO E APLICAÇÃO DE AÇO CA-50 - DIÂMETRO < 1/2" | D110: 7693 | E110: KG | F110: 15.68 | G110: =ROUND((D110*F110),2) -> 120626.24
B111: 7.5 | C111: FORNECIMENTO E APLICAÇÃO DE AÇO CA-50 - DIÂMETRO > OU = 1/2" | D111: 9430 | E111: KG | F111: 15.44 | G111: =ROUND((D111*F111),2) -> 145599.2
B112: 7.6 | C112: VIGA METÁLICA EM PERFIL LAMINADO OU SOLDADO EM AÇO ESTRUTURAL, COM CONEXÕES SOLDADAS, INCLUSOS MÃO DE OBRA, TRANSPORTE E IÇAMENTO UTILIZANDO GUINDASTE - FORNECIMENTO E INSTALAÇÃO. AF_01/2020_PA | D112: 27900 | E112: KG | F112: 19.59 | G112: =ROUND((D112*F112),2) -> 546561
B113: 7.7 | C113: Concreto usinado, fck = 30 MPa - para bombeamento em estaca hélice contínua | D113: 45.24 | E113: M3 | F113: 714.81 | G113: =ROUND((D113*F113),2) -> 32338
B114: 7.8 | C114: Concreto usinado, fck = 35 MPa | D114: 82.28 | E114: M3 | F114: 646.79 | G114: =ROUND((D114*F114),2) -> 53217.88
B115: 7.9 | C115: Placas, vigas e pilares em concreto armado pré-moldado - fck= 35 MPa | D115: 11.7 | E115: M3 | F115: 3944.08 | G115: =ROUND((D115*F115),2) -> 46145.74
B116: 7.10 | C116: FORMA COMUM, INCLUSIVE CIMBRAMENTO | D116: 155.26 | E116: M2 | F116: 121.63 | G116: =ROUND((D116*F116),2) -> 18884.27
B117: 7.11 | C117: LASTRO DE CONCRETO FCK=10MPA | D117: 1.95 | E117: M3 | F117: 533.48 | G117: =ROUND((D117*F117),2) -> 1040.29
B118: 7.12 | C118: BARREIRA DE SEGURANçA PARA O.A.E CONF. PP-DE-C01/293 | D118: 48 | E118: m | F118: 635.35 | G118: =ROUND((D118*F118),2) -> 30496.8
... B127: 7.21 | C127: Taxa de destinação de resíduo sólido em aterro, tipo solo/terra | D127: 114.06 | E127: M3 | F127: 36.52 | G127: =ROUND((D127*F127),2) -> 4165.47
B129: 8 | C129: OBRA ESTRUTURANTE B - DMC 6 ÁREA 71 | G129: =G130+G133+G140+G157 -> 608564.52
B130: 8.1 | C130: LOCAÇÃO E CADASTRO | G130: =SUM(G131:G132) -> 497.77
B131: 8.1.1 | C131: LOCAÇÃO DE ADUTORAS, COLETORES-TRONCO E INTERCEPTORES (ATÉ DIÂM. 500 MM) | D131: 117.4 | E131: M | F131: 1.68 | G131: =ROUND((D131*F131),2) -> 197.23
B132: 8.1.2 | C132: CADASTRO DE REDES | D132: 117.4 | E132: M | F132: 2.56 | G132: =ROUND((D132*F132),2) -> 300.54
B133: 8.2 | C133: ESCAVAÇÃO DE VALA | G133: =SUM(G134:G139) -> 11424.82
B134: 8.2.1 | C134: ESCAVAÇÃO MECÂNICA PARA FUNDAÇÕES E VALAS COM PROFUNDIDADE MENOR OU IGUAL À 4,0M | D134: 185.84 | E134: M3 | F134: 18.46 | G134: =ROUND((D134*F134),2) -> 3430.61
B135: 8.2.2 | C135: ESCAVAÇÃO MANUAL PARA FUNDAÇÕES E VALAS COM PROFUNDIDADE MÉDIA MAIOR QUE 1,5M E MENOR OU IGUAL À 3,0M | D135: 31.52 | E135: M3 | F135: 100.23 | G135: =ROUND((D135*F135),2) -> 3159.25
B136: 8.2.3 | C136: REENCHIMENTO DE VALA COM COMPACTAÇÃO, SEM FORNECIMENTO DE TERRA | D136: 207.03 | E136: M3 | F136: 17.98 | G136: =ROUND((D136*F136),2) -> 3722.4
B137: 8.2.4 | C137: CARGA E REMOÇÃO DE TERRA ATÉ A DISTÂNCIA MÉDIA DE 1,0KM, COM CAMINHÃO BASCULANTE DE 14M3 | D137: 10.33 | E137: M3 | F137: 13.67 | G137: =ROUND((D137*F137),2) -> 141.21
B138: 8.2.5 | C138: REMOÇÃO DE TERRA ALÉM DO PRIMEIRO KM, COM CAMINHÃO DE 14M3 | D138: 196.27 | E138: M3XKM | F138: 1.49 | G138: =ROUND((D138*F138),2) -> 292.44
B139: 8.2.6 | C139: Taxa de destinação de resíduo sólido em aterro, tipo solo/terra | D139: 18.59 | E139: M3 | F139: 36.52 | G139: =ROUND((D139*F139),2) -> 678.91
B140: 8.3 | C140: FUNDAÇÕES E ESTRUTURAS | G140: =SUM(G141:G156) -> 47917.1
B141: 8.3.1 | C141: LASTRO DE AREIA (A) | D141: 12.91 | E141: M3 | F141: 216.95 | G141: =ROUND((D141*F141),2) -> 2800.82
B142: 8.3.2 | C142: ESTACA BROCA DE CONCRETO, DIÂMETRO DE 30CM, ESCAVAÇÃO MANUAL COM TRADO CONCHA, COM ARMADURA DE ARRANQUE. AF_05/2020 | D142: 21.65 | E142: M | F142: 153.76 | G142: =ROUND((D142*F142),2) -> 3328.9
B143: 8.3.3 | C143: LASTRO DE BRITA E PÓ DE PEDRA | D143: 1.29 | E143: M3 | F143: 297.59 | G143: =ROUND((D143*F143),2) -> 383.89
B144: 8.3.4 | C144: LASTRO DE CONCRETO FCK=10MPA | D144: 0.43 | E144: M3 | F144: 533.48 | G144: =ROUND((D144*F144),2) -> 229.4
...
