Workbook
Name EMPRESAS: OFFSET(#REF!,1,0):OFFSET(#REF!,-1,0)
Name EMPRESAS: OFFSET(#REF!,1,0):OFFSET(#REF!,-1,0)
Name EMPRESAS: OFFSET(#REF!,1,0):OFFSET(#REF!,-1,0)
Name INDICES: OFFSET(#REF!,1,0):OFFSET(#REF!,-1,0)
Name INDICES: OFFSET(#REF!,1,0):OFFSET(#REF!,-1,0)
Name INDICES: OFFSET(#REF!,1,0):OFFSET(#REF!,-1,0)
Name NCOMPOSICOES: 6
Name NCOMPOSICOES: 8
Name NCOTACOES: 1
Name NEMPRESAS: 3
Name NINDICES: 0

Sheet Plan1
Q2: DESONERADO
D6: PQPU - PLANILHA DE QUANTIDADES E PREÇOS UNITÁRIOS
D8: OBRA: | I8: REFORMA UBS SANTO ANGELO
D9: LOCAL: | I9: RUA SÃO SIMÃO, 59 - CONJ. RES. SANTO ANGELO, MOGI DAS CRUZES - SP, 08763-240
N10: DATA: | O10: MAIO/2024 | S10: DATA: | T10: JUL/2022
I11: PLANILHA DE QUANTIDADES E PREÇOS UNITÁRIOS SEM DESONERAÇÃO | N11: BDI: | O11: 0.25 | S11: BDI: | T11: 0.2757
A12: COD-REF | B12: REF | C12: CÓDIGO | G12: ITEM | I12: DESCRIÇÃO DOS SERVIÇOS | J12: UN | K12: QUANTIDADE | L12: $ UNITÁRIO S/ BDI | M12: BDI | N12: PREÇO UNITÁRIO | O12: PREÇO TOTAL | Q12: $ UNITÁRIO S/ BDI | R12: BDI | S12: PREÇO UNITÁRIO | T12: PREÇO TOTAL
A14: =B14&C14 | D14: 1 | E14: . | F14: 0 | I14: SERVIÇOS PRELIMINARES
A15: =B15&C15 -> SIURB EDIF17030002 | B15: SIURB EDIF | C15: 17030002 | D15: =$D$14 -> 1 | E15: . | F15: =F14+1 -> 1 | I15: =INDEX(#REF!,MATCH(A15,#REF!,0),0) -> #REF! | J15: =INDEX(#REF!,MATCH(A15,#REF!,0),0) -> #REF! | K15: 3.38 | L15: =INDEX(#REF!,MATCH(A15,#REF!,0),0) -> #REF! | M15: =1+$O$11 -> 1.25 | N15: =ROUND(L15*M15,2) -> #REF! | O15: =ROUND(K15*N15,2) -> #REF! | Q15: =INDEX(#REF!,MATCH(A15,#REF!,0),0) -> #REF! | R15: =1+$T$11 -> 1.2757 | S15: =Q15*K15 -> #REF! | T15: =S15 -> #REF!
A16: =B16&C16 -> SIURB EDIF17045001 | B16: SIURB EDIF | C16: 17045001 | D16: =$D$14 -> 1 | E16: . | F16: =F15+1 -> 2 | I16: =INDEX(#REF!,MATCH(A16,#REF!,0),0) -> #REF! | J16: =INDEX(#REF!,MATCH(A16,#REF!,0),0) -> #REF! | K16: 157.5 | L16: =INDEX(#REF!,MATCH(A16,#REF!,0),0) -> #REF! | M16: =1+$O$11 -> 1.25 | N16: =ROUND(L16*M16,2) -> #REF! | O16: =ROUND(K16*N16,2) -> #REF! | Q16: =INDEX(#REF!,MATCH(A16,#REF!,0),0) -> #REF! | R16: =1+$T$11 -> 1.2757 | S16: =Q16*K16 -> #REF! | T16: =S16 -> #REF!
A17: =B17&C17 -> SIURB EDIF17045002 | B17: SIURB EDIF | C17: 17045002 | D17: =$D$14 -> 1 | E17: . | F17: =F16+1 -> 3 | I17: =INDEX(#REF!,MATCH(A17,#REF!,0),0) -> #REF! | J17: =INDEX(#REF!,MATCH(A17,#REF!,0),0) -> #REF! | K17: 315 | L17: =INDEX(#REF!,MATCH(A17,#REF!,0),0) -> #REF! | M17: =1+$O$11 -> 1.25 | N17: =ROUND(L17*M17,2) -> #REF! | O17: =ROUND(K17*N17,2) -> #REF! | Q17: =INDEX(#REF!,MATCH(A17,#REF!,0),0) -> #REF! | R17: =1+$T$11 -> 1.2757 | S17: =Q17*K17 -> #REF! | T17: =S17 -> #REF!
A18: =B18&C18 -> SIURB EDIF20003061 | B18: SIURB EDIF | C18: 20003061 | D18: =$D$14 -> 1 | E18: . | F18: =F17+1 -> 4 | I18: =INDEX(#REF!,MATCH(A18,#REF!,0),0) -> #REF! | J18: =INDEX(#REF!,MATCH(A18,#REF!,0),0) -> #REF! | K18: 1 | L18: =INDEX(#REF!,MATCH(A18,#REF!,0),0) -> #REF! | M18: =1+$O$11 -> 1.25 | N18: =ROUND(L18*M18,2) -> #REF! | O18: =ROUND(K18*N18,2) -> #REF! | Q18: =INDEX(#REF!,MATCH(A18,#REF!,0),0) -> #REF! | R18: =1+$T$11 -> 1.2757 | S18: =ROUND(Q18*R18,2) -> #REF! | T18: =ROUND(K18*S18,2) -> #REF!
A19: =B19&C19 | I19: TOTAL DO ITEM | O19: =SUM(O15:O18) -> #REF! | T19: =SUM(T15:T18) -> #REF!
A20: =B20&C20 | D20: 2 | E20: . | F20: 0 | I20: DEMOLIÇÕES E RETIRADAS
D21: RECEPÇÃO
A22: =B22&C22 -> SIURB EDIF10060050 | B22: SIURB EDIF | C22: 10060050 | D22: =$D$20 -> 2 | E22: . | F22: 1 | I22: RETIRADA DE TAMPO | J22: =INDEX(#REF!,MATCH(A22,#REF!,0),0) -> #REF! | K22: 0.7 | L22: =INDEX(#REF!,MATCH(A22,#REF!,0),0) -> #REF! | M22: =1+$O$11 -> 1.25 | N22: =ROUND(L22*M22,2) -> #REF! | O22: =ROUND(K22*N22,2) -> #REF! | Q22: =INDEX(#REF!,MATCH(A22,#REF!,0),0) -> #REF! | R22: =1+$T$11 -> 1.2757 | S22: =ROUND(Q22*R22,2) -> #REF! | T22: =ROUND(K22*S22,2) -> #REF!
A23: =B23&C23 -> SIURB EDIF4050004 | B23: SIURB EDIF | C23: 4050004 | D23: =$D$20 -> 2 | E23: . | F23: 2 | I23: =INDEX(#REF!,MATCH(A23,#REF!,0),0) -> #REF! | J23: =INDEX(#REF!,MATCH(A23,#REF!,0),0) -> #REF! | K23: 0.07 | L23: =INDEX(#REF!,MATCH(A23,#REF!,0),0) -> #REF! | M23: =1+$O$11 -> 1.25 | N23: =ROUND(L23*M23,2) -> #REF! | O23: =ROUND(K23*N23,2) -> #REF! | Q23: =INDEX(#REF!,MATCH(A23,#REF!,0),0) -> #REF! | R23: =1+$T$11 -> 1.2757 | S23: =ROUND(Q23*R23,2) -> #REF! | T23: =ROUND(K23*S23,2) -> #REF!
A24: =B24&C24 -> CDHU04.14.020 | B24: CDHU | C24: 04.14.020 | D24: =$D$20 -> 2 | E24: . | F24: 3 | I24: =INDEX(#REF!,MATCH(A24,#REF!,0),0) -> #REF! | J24: =INDEX(#REF!,MATCH(A24,#REF!,0),0) -> #REF! | K24: 2 | L24: =INDEX(#REF!,MATCH(A24,#REF!,0),0) -> #REF! | M24: =1+$O$11 -> 1.25 | N24: =ROUND(L24*M24,2) -> #REF! | O24: =ROUND(K24*N24,2) -> #REF! | Q24: =INDEX(#REF!,MATCH(A24,#REF!,0),0) -> #REF! | R24: =1+$T$11 -> 1.2757 | S24: =ROUND(Q24*R24,2) -> #REF! | T24: =ROUND(K24*S24,2) -> #REF!
D25: FARMÁCIA
A26: =B26&C26 -> SIURB EDIF10060050 | B26: SIURB EDIF | C26: 10060050 | D26: =$D$20 -> 2 | E26: . | F26: 4 | I26: RETIRADA DE TAMPO | J26: =INDEX(#REF!,MATCH(A26,#REF!,0),0) -> #REF! | K26: 0.35 | L26: =INDEX(#REF!,MATCH(A26,#REF!,0),0) -> #REF! | M26: =1+$O$11 -> 1.25 | N26: =ROUND(L26*M26,2) -> #REF! | O26: =ROUND(K26*N26,2) -> #REF! | Q26: =INDEX(#REF!,MATCH(A26,#REF!,0),0) -> #REF! | R26: =1+$T$11 -> 1.2757 | S26: =ROUND(Q26*R26,2) -> #REF! | T26: =ROUND(K26*S26,2) -> #REF!
A27: =B27&C27 -> SIURB EDIF4050004 | B27: SIURB EDIF | C27: 4050004 | D27: =$D$20 -> 2 | E27: . | F27: 5 | I27: =INDEX(#REF!,MATCH(A27,#REF!,0),0) -> #REF! | J27: =INDEX(#REF!,MATCH(A27,#REF!,0),0) -> #REF! | K27: 0.07 | L27: =INDEX(#REF!,MATCH(A27,#REF!,0),0) -> #REF! | M27: =1+$O$11 -> 1.25 | N27: =ROUND(L27*M27,2) -> #REF! | O27: =ROUND(K27*N27,2) -> #REF! | Q27: =INDEX(#REF!,MATCH(A27,#REF!,0),0) -> #REF! | R27: =1+$T$11 -> 1.2757 | S27: =ROUND(Q27*R27,2) -> #REF! | T27: =ROUND(K27*S27,2) -> #REF!
A28: =B28&C28 -> CDHU04.14.020 | B28: CDHU | C28: 04.14.020 | D28: =$D$20 -> 2 | E28: . | F28: =F27+1 -> 6 | I28: =INDEX(#REF!,MATCH(A28,#REF!,0),0) -> #REF! | J28: =INDEX(#REF!,MATCH(A28,#REF!,0),0) -> #REF! | K28: 1 | L28: =INDEX(#REF!,MATCH(A28,#REF!,0),0) -> #REF! | M28: =1+$O$11 -> 1.25 | N28: =ROUND(L28*M28,2) -> #REF! | O28: =ROUND(K28*N28,2) -> #REF! | Q28: =INDEX(#REF!,MATCH(A28,#REF!,0),0) -> #REF! | R28: =1+$T$11 -> 1.2757 | S28: =ROUND(Q28*R28,2) -> #REF! | T28: =ROUND(K28*S28,2) -> #REF!
D29: COLETA
A30: =B30&C30 -> CDHU04.01.040 | B30: CDHU | C30: 04.01.040 | D30: =$D$20 -> 2 | E30: . | F30: =F28+1 -> 7 | I30: =INDEX(#REF!,MATCH(A30,#REF!,0),0) -> #REF! | J30: =INDEX(#REF!,MATCH(A30,#REF!,0),0) -> #REF! | K30: 6.51 | L30: =INDEX(#REF!,MATCH(A30,#REF!,0),0) -> #REF! | M30: =1+$O$11 -> 1.25 | N30: =ROUND(L30*M30,2) -> #REF! | O30: =ROUND(K30*N30,2) -> #REF! | Q30: =INDEX(#REF!,MATCH(A30,#REF!,0),0) -> #REF! | R30: =1+$T$11 -> 1.2757 | S30: =ROUND(Q30*R30,2) -> #REF! | T30: =ROUND(K30*S30,2) -> #REF!
D31: CIRCULAÇÃO (ACESSO RESTRITO)
A32: =B32&C32 -> CDHU04.01.040 | B32: CDHU | C32: 04.01.040 | D32: =$D$20 -> 2 | E32: . | F32: =F30+1 -> 8 | I32: =INDEX(#REF!,MATCH(A32,#REF!,0),0) -> #REF! | J32: =INDEX(#REF!,MATCH(A32,#REF!,0),0) -> #REF! | K32: 6.3 | L32: =INDEX(#REF!,MATCH(A32,#REF!,0),0) -> #REF! | M32: =1+$O$11 -> 1.25 | N32: =ROUND(L32*M32,2) -> #REF! | O32: =ROUND(K32*N32,2) -> #REF! | Q32: =INDEX(#REF!,MATCH(A32,#REF!,0),0) -> #REF! | R32: =1+$T$11 -> 1.2757 | S32: =ROUND(Q32*R32,2) -> #REF! | T32: =ROUND(K32*S32,2) -> #REF!
D33: AREA EXTERNA
A34: =B34&C34 -> SIURB EDIF17050015 | B34: SIURB EDIF | C34: 17050015 | D34: =$D$20 -> 2 | E34: . | F34: =F32+1 -> 9 | I34: =INDEX(#REF!,MATCH(A34,#REF!,0),0) -> #REF! | J34: =INDEX(#REF!,MATCH(A34,#REF!,0),0) -> #REF! | K34: 24.85 | L34: =INDEX(#REF!,MATCH(A34,#REF!,0),0) -> #REF! | M34: =1+$O$11 -> 1.25 | N34: =ROUND(L34*M34,2) -> #REF! | O34: =ROUND(K34*N34,2) -> #REF! | Q34: =INDEX(#REF!,MATCH(A34,#REF!,0),0) -> #REF! | R34: =1+$T$11 -> 1.2757 | S34: =ROUND(Q34*R34,2) -> #REF! | T34: =ROUND(K34*S34,2) -> #REF!
D35: CALÇADA/ESTACIONAMENTO
A36: =B36&C36 -> SIURB EDIF13050001 | B36: SIURB EDIF | C36: 13050001 | D36: =$D$20 -> 2 | E36: . | F36: =F34+1 -> 10 | I36: =INDEX(#REF!,MATCH(A36,#REF!,0),0) -> #REF! | J36: =INDEX(#REF!,MATCH(A36,#REF!,0),0) -> #REF! | K36: 9.85 | L36: =INDEX(#REF!,MATCH(A36,#REF!,0),0) -> #REF! | M36: =1+$O$11 -> 1.25 | N36: =ROUND(L36*M36,2) -> #REF! | O36: =ROUND(K36*N36,2) -> #REF! | Q36: =INDEX(#REF!,MATCH(A36,#REF!,0),0) -> #REF! | R36: =1+$T$11 -> 1.2757 | S36: =ROUND(Q36*R36,2) -> #REF! | T36: =ROUND(K36*S36,2) -> #REF!
D37: RESERVATÓRIOS
A38: =B38&C38 -> FDE08.60.013 | B38: FDE | C38: 08.60.013 | D38: =$D$20 -> 2 | E38: . | F38: =F36+1 -> 11 | I38: =INDEX(#REF!,MATCH(A38,#REF!,0),0) -> #REF! | J38: =INDEX(#REF!,MATCH(A38,#REF!,0),0) -> #REF! | K38: 3 | L38: =INDEX(#REF!,MATCH(A38,#REF!,0),0) -> #REF! | M38: =1+$O$11 -> 1.25 | N38: =ROUND(L38*M38,2) -> #REF! | O38: =ROUND(K38*N38,2) -> #REF! | Q38: =INDEX(#REF!,MATCH(A38,#REF!,0),0) -> #REF! | R38: =1+$T$11 -> 1.2757 | S38: =ROUND(Q38*R38,2) -> #REF! | T38: =ROUND(K38*S38,2) -> #REF!
D39: BOTA-FORA
A40: =B40&C40 -> SIURB EDIF1001007 | B40: SIURB EDIF | C40: 1001007 | D40: =$D$20 -> 2 | E40: . | F40: =F38+1 -> 12 | I40: =INDEX(#REF!,MATCH(A40,#REF!,0),0) -> #REF! | J40: =INDEX(#REF!,MATCH(A40,#REF!,0),0) -> #REF! | K40: 16.79 | L40: =INDEX(#REF!,MATCH(A40,#REF!,0),0) -> #REF! | M40: =1+$O$11 -> 1.25 | N40: =ROUND(L40*M40,2) -> #REF! | O40: =ROUND(K40*N40,2) -> #REF! | Q40: =INDEX(#REF!,MATCH(A40,#REF!,0),0) -> #REF! | R40: =1+$T$11 -> 1.2757 | S40: =ROUND(Q40*R40,2) -> #REF! | T40: =ROUND(K40*S40,2) -> #REF!
A41: =B41&C41 | I41: TOTAL DO ITEM | O41: =SUM(O23:O40) -> #REF! | T41: =SUM(T23:T40) -> #REF!
A42: =B42&C42 | D42: 3 | E42: . | F42: 0 | I42: CONSTRUÇÃO
D43: RECEPÇÃO
A44: =B44&C44 -> SIURB EDIF10014075 | B44: SIURB EDIF | C44: 10014075 | D44: =$D$42 -> 3 | E44: . | F44: 1 | I44: =INDEX(#REF!,MATCH(A44,#REF!,0),0) -> #REF! | J44: =INDEX(#REF!,MATCH(A44,#REF!,0),0) -> #REF! | K44: 1.2 | L44: =INDEX(#REF!,MATCH(A44,#REF!,0),0) -> #REF! | M44: =1+$O$11 -> 1.25 | N44: =ROUND(L44*M44,2) -> #REF! | O44: =ROUND(K44*N44,2) -> #REF! | Q44: =INDEX(#REF!,MATCH(A44,#REF!,0),0) -> #REF! | R44: =1+$T$11 -> 1.2757 | S44: =ROUND(Q44*R44,2) -> #REF! | T44: =ROUND(K44*S44,2) -> #REF!
A45: =B45&C45 -> SIURB EDIF13002043 | B45: SIURB EDIF | C45: 13002043 | D45: =$D$42 -> 3 | E45: . | F45: 2 | I45: =INDEX(#REF!,MATCH(A45,#REF!,0),0) -> #REF! | J45: =INDEX(#REF!,MATCH(A45,#REF!,0),0) -> #REF! | K45: 0.9 | L45: =INDEX(#REF!,MATCH(A45,#REF!,0),0) -> #REF! | M45: =1+$O$11 -> 1.25 | N45: =ROUND(L45*M45,2) -> #REF! | O45: =ROUND(K45*N45,2) -> #REF! | Q45: =INDEX(#REF!,MATCH(A45,#REF!,0),0) -> #REF! | R45: =1+$T$11 -> 1.2757 | S45: =ROUND(Q45*R45,2) -> #REF! | T45: =ROUND(K45*S45,2) -> #REF!
A46: =B46&C46 -> CDHU26.20.020 | B46: CDHU | C46: 26.20.020 | D46: =$D$42 -> 3 | E46: . | F46: 3 | I46: =INDEX(#REF!,MATCH(A46,#REF!,0),0) -> #REF! | J46: =INDEX(#REF!,MATCH(A46,#REF!,0),0) -> #REF! | K46: 2 | L46: =INDEX(#REF!,MATCH(A46,#REF!,0),0) -> #REF! | M46: =1+$O$11 -> 1.25 | N46: =ROUND(L46*M46,2) -> #REF! | O46: =ROUND(K46*N46,2) -> #REF! | Q46: =INDEX(#REF!,MATCH(A46,#REF!,0),0) -> #REF! | R46: =1+$T$11 -> 1.2757 | S46: =ROUND(Q46*R46,2) -> #REF! | T46: =ROUND(K46*S46,2) -> #REF!
...

Sheet PQPU PAREDE DE GESSO
Q2: DESONERADO
D6: PQPU - PLANILHA DE QUANTIDADES E PREÇOS UNITÁRIOS
D8: OBRA: | I8: REFORMA UBS SANTO ANGELO
D9: LOCAL: | I9: RUA SÃO SIMÃO, 59 - CONJ. RES. SANTO ANGELO, MOGI DAS CRUZES - SP, 08763-240
N10: DATA: | O10: JUN/2024 | S10: DATA: | T10: JUL/2022
I11: PLANILHA DE QUANTIDADES E PREÇOS UNITÁRIOS SEM DESONERAÇÃO | N11: BDI: | O11: 0.25 | S11: BDI: | T11: 0.2757
A12: COD-REF | B12: REF | C12: CÓDIGO | G12: ITEM | I12: DESCRIÇÃO DOS SERVIÇOS | J12: UN | K12: QUANTIDADE | L12: $ UNITÁRIO S/ BDI | M12: BDI | N12: PREÇO UNITÁRIO | O12: PREÇO TOTAL | Q12: $ UNITÁRIO S/ BDI | R12: BDI | S12: PREÇO UNITÁRIO | T12: PREÇO TOTAL
A14: =B14&C14 | D14: 1 | E14: . | F14: 0 | I14: SERVIÇOS PRELIMINARES
A15: =B15&C15 -> SIURB EDIF17030002 | B15: SIURB EDIF | C15: 17030002 | D15: =$D$14 -> 1 | E15: . | F15: =F14+1 -> 1 | I15: =INDEX(#REF!,MATCH(A15,#REF!,0),0) -> #REF! | J15: =INDEX(#REF!,MATCH(A15,#REF!,0),0) -> #REF! | K15: =#REF! -> #REF! | L15: =INDEX(#REF!,MATCH(A15,#REF!,0),0) -> #REF! | M15: =1+$O$11 -> 1.25 | N15: =ROUND(L15*M15,2) -> #REF! | O15: =ROUND(K15*N15,2) -> #REF! | Q15: =INDEX(#REF!,MATCH(A15,#REF!,0),0) -> #REF! | R15: =1+$T$11 -> 1.2757 | S15: =Q15*K15 -> #REF! | T15: =S15 -> #REF!
A16: =B16&C16 -> SIURB EDIF17045001 | B16: SIURB EDIF | C16: 17045001 | D16: =$D$14 -> 1 | E16: . | F16: =F15+1 -> 2 | I16: =INDEX(#REF!,MATCH(A16,#REF!,0),0) -> #REF! | J16: =INDEX(#REF!,MATCH(A16,#REF!,0),0) -> #REF! | K16: =#REF! -> #REF! | L16: =INDEX(#REF!,MATCH(A16,#REF!,0),0) -> #REF! | M16: =1+$O$11 -> 1.25 | N16: =ROUND(L16*M16,2) -> #REF! | O16: =ROUND(K16*N16,2) -> #REF! | Q16: =INDEX(#REF!,MATCH(A16,#REF!,0),0) -> #REF! | R16: =1+$T$11 -> 1.2757 | S16: =Q16*K16 -> #REF! | T16: =S16 -> #REF!
A17: =B17&C17 -> SIURB EDIF17045002 | B17: SIURB EDIF | C17: 17045002 | D17: =$D$14 -> 1 | E17: . | F17: =F16+1 -> 3 | I17: =INDEX(#REF!,MATCH(A17,#REF!,0),0) -> #REF! | J17: =INDEX(#REF!,MATCH(A17,#REF!,0),0) -> #REF! | K17: =#REF! -> #REF! | L17: =INDEX(#REF!,MATCH(A17,#REF!,0),0) -> #REF! | M17: =1+$O$11 -> 1.25 | N17: =ROUND(L17*M17,2) -> #REF! | O17: =ROUND(K17*N17,2) -> #REF! | Q17: =INDEX(#REF!,MATCH(A17,#REF!,0),0) -> #REF! | R17: =1+$T$11 -> 1.2757 | S17: =Q17*K17 -> #REF! | T17: =S17 -> #REF!
A18: =B18&C18 -> SIURB EDIF20003061 | B18: SIURB EDIF | C18: 20003061 | D18: =$D$14 -> 1 | E18: . | F18: =F17+1 -> 4 | I18: =INDEX(#REF!,MATCH(A18,#REF!,0),0) -> #REF! | J18: =INDEX(#REF!,MATCH(A18,#REF!,0),0) -> #REF! | K18: =#REF! -> #REF! | L18: =INDEX(#REF!,MATCH(A18,#REF!,0),0) -> #REF! | M18: =1+$O$11 -> 1.25 | N18: =ROUND(L18*M18,2) -> #REF! | O18: =ROUND(K18*N18,2) -> #REF! | Q18: =INDEX(#REF!,MATCH(A18,#REF!,0),0) -> #REF! | R18: =1+$T$11 -> 1.2757 | S18: =ROUND(Q18*R18,2) -> #REF! | T18: =ROUND(K18*S18,2) -> #REF!
A19: =B19&C19 | I19: TOTAL DO ITEM | O19: =SUM(O15:O18) -> #REF! | T19: =SUM(T15:T18) -> #REF!
A20: =B20&C20 | D20: 2 | E20: . | F20: 0 | I20: DEMOLIÇÕES E RETIRADAS
D21: RECEPÇÃO
A22: =B22&C22 -> SIURB EDIF10060050 | B22: SIURB EDIF | C22: 10060050 | D22: =$D$20 -> 2 | E22: . | F22: 1 | I22: RETIRADA DE TAMPO | J22: =INDEX(#REF!,MATCH(A22,#REF!,0),0) -> #REF! | K22: =#REF! -> #REF! | L22: =INDEX(#REF!,MATCH(A22,#REF!,0),0) -> #REF! | M22: =1+$O$11 -> 1.25 | N22: =ROUND(L22*M22,2) -> #REF! | O22: =ROUND(K22*N22,2) -> #REF! | Q22: =INDEX(#REF!,MATCH(A22,#REF!,0),0) -> #REF! | R22: =1+$T$11 -> 1.2757 | S22: =ROUND(Q22*R22,2) -> #REF! | T22: =ROUND(K22*S22,2) -> #REF!
A23: =B23&C23 -> SIURB EDIF4050004 | B23: SIURB EDIF | C23: 4050004 | D23: =$D$20 -> 2 | E23: . | F23: 2 | I23: =INDEX(#REF!,MATCH(A23,#REF!,0),0) -> #REF! | J23: =INDEX(#REF!,MATCH(A23,#REF!,0),0) -> #REF! | K23: =#REF! -> #REF! | L23: =INDEX(#REF!,MATCH(A23,#REF!,0),0) -> #REF! | M23: =1+$O$11 -> 1.25 | N23: =ROUND(L23*M23,2) -> #REF! | O23: =ROUND(K23*N23,2) -> #REF! | Q23: =INDEX(#REF!,MATCH(A23,#REF!,0),0) -> #REF! | R23: =1+$T$11 -> 1.2757 | S23: =ROUND(Q23*R23,2) -> #REF! | T23: =ROUND(K23*S23,2) -> #REF!
A24: =B24&C24 -> CDHU04.14.020 | B24: CDHU | C24: 04.14.020 | D24: =$D$20 -> 2 | E24: . | F24: 3 | I24: =INDEX(#REF!,MATCH(A24,#REF!,0),0) -> #REF! | J24: =INDEX(#REF!,MATCH(A24,#REF!,0),0) -> #REF! | K24: =#REF! -> #REF! | L24: =INDEX(#REF!,MATCH(A24,#REF!,0),0) -> #REF! | M24: =1+$O$11 -> 1.25 | N24: =ROUND(L24*M24,2) -> #REF! | O24: =ROUND(K24*N24,2) -> #REF! | Q24: =INDEX(#REF!,MATCH(A24,#REF!,0),0) -> #REF! | R24: =1+$T$11 -> 1.2757 | S24: =ROUND(Q24*R24,2) -> #REF! | T24: =ROUND(K24*S24,2) -> #REF!
D25: FARMÁCIA
A26: =B26&C26 -> SIURB EDIF10060050 | B26: SIURB EDIF | C26: 10060050 | D26: =$D$20 -> 2 | E26: . | F26: 4 | I26: RETIRADA DE TAMPO | J26: =INDEX(#REF!,MATCH(A26,#REF!,0),0) -> #REF! | K26: =#REF! -> #REF! | L26: =INDEX(#REF!,MATCH(A26,#REF!,0),0) -> #REF! | M26: =1+$O$11 -> 1.25 | N26: =ROUND(L26*M26,2) -> #REF! | O26: =ROUND(K26*N26,2) -> #REF! | Q26: =INDEX(#REF!,MATCH(A26,#REF!,0),0) -> #REF! | R26: =1+$T$11 -> 1.2757 | S26: =ROUND(Q26*R26,2) -> #REF! | T26: =ROUND(K26*S26,2) -> #REF!
A27: =B27&C27 -> SIURB EDIF4050004 | B27: SIURB EDIF | C27: 4050004 | D27: =$D$20 -> 2 | E27: . | F27: 5 | I27: =INDEX(#REF!,MATCH(A27,#REF!,0),0) -> #REF! | J27: =INDEX(#REF!,MATCH(A27,#REF!,0),0) -> #REF! | K27: =#REF! -> #REF! | L27: =INDEX(#REF!,MATCH(A27,#REF!,0),0) -> #REF! | M27: =1+$O$11 -> 1.25 | N27: =ROUND(L27*M27,2) -> #REF! | O27: =ROUND(K27*N27,2) -> #REF! | Q27: =INDEX(#REF!,MATCH(A27,#REF!,0),0) -> #REF! | R27: =1+$T$11 -> 1.2757 | S27: =ROUND(Q27*R27,2) -> #REF! | T27: =ROUND(K27*S27,2) -> #REF!
A28: =B28&C28 -> CDHU04.14.020 | B28: CDHU | C28: 04.14.020 | D28: =$D$20 -> 2 | E28: . | F28: 6 | I28: =INDEX(#REF!,MATCH(A28,#REF!,0),0) -> #REF! | J28: =INDEX(#REF!,MATCH(A28,#REF!,0),0) -> #REF! | K28: =#REF! -> #REF! | L28: =INDEX(#REF!,MATCH(A28,#REF!,0),0) -> #REF! | M28: =1+$O$11 -> 1.25 | N28: =ROUND(L28*M28,2) -> #REF! | O28: =ROUND(K28*N28,2) -> #REF! | Q28: =INDEX(#REF!,MATCH(A28,#REF!,0),0) -> #REF! | R28: =1+$T$11 -> 1.2757 | S28: =ROUND(Q28*R28,2) -> #REF! | T28: =ROUND(K28*S28,2) -> #REF!
D29: COLETA
A30: =B30&C30 -> CDHU04.01.040 | B30: CDHU | C30: 04.01.040 | D30: =$D$20 -> 2 | E30: . | F30: =F28+1 -> 7 | I30: =INDEX(#REF!,MATCH(A30,#REF!,0),0) -> #REF! | J30: =INDEX(#REF!,MATCH(A30,#REF!,0),0) -> #REF! | K30: =#REF! -> #REF! | L30: =INDEX(#REF!,MATCH(A30,#REF!,0),0) -> #REF! | M30: =1+$O$11 -> 1.25 | N30: =ROUND(L30*M30,2) -> #REF! | O30: =ROUND(K30*N30,2) -> #REF! | Q30: =INDEX(#REF!,MATCH(A30,#REF!,0),0) -> #REF! | R30: =1+$T$11 -> 1.2757 | S30: =ROUND(Q30*R30,2) -> #REF! | T30: =ROUND(K30*S30,2) -> #REF!
D31: CIRCULAÇÃO (ACESSO RESTRITO)
A32: =B32&C32 -> CDHU04.01.040 | B32: CDHU | C32: 04.01.040 | D32: =$D$20 -> 2 | E32: . | F32: =F30+1 -> 8 | I32: =INDEX(#REF!,MATCH(A32,#REF!,0),0) -> #REF! | J32: =INDEX(#REF!,MATCH(A32,#REF!,0),0) -> #REF! | K32: =#REF! -> #REF! | L32: =INDEX(#REF!,MATCH(A32,#REF!,0),0) -> #REF! | M32: =1+$O$11 -> 1.25 | N32: =ROUND(L32*M32,2) -> #REF! | O32: =ROUND(K32*N32,2) -> #REF! | Q32: =INDEX(#REF!,MATCH(A32,#REF!,0),0) -> #REF! | R32: =1+$T$11 -> 1.2757 | S32: =ROUND(Q32*R32,2) -> #REF! | T32: =ROUND(K32*S32,2) -> #REF!
D33: AREA EXTERNA
A34: =B34&C34 -> SIURB EDIF17050015 | B34: SIURB EDIF | C34: 17050015 | D34: =$D$20 -> 2 | E34: . | F34: =F32+1 -> 9 | I34: =INDEX(#REF!,MATCH(A34,#REF!,0),0) -> #REF! | J34: =INDEX(#REF!,MATCH(A34,#REF!,0),0) -> #REF! | K34: =#REF! -> #REF! | L34: =INDEX(#REF!,MATCH(A34,#REF!,0),0) -> #REF! | M34: =1+$O$11 -> 1.25 | N34: =ROUND(L34*M34,2) -> #REF! | O34: =ROUND(K34*N34,2) -> #REF! | Q34: =INDEX(#REF!,MATCH(A34,#REF!,0),0) -> #REF! | R34: =1+$T$11 -> 1.2757 | S34: =ROUND(Q34*R34,2) -> #REF! | T34: =ROUND(K34*S34,2) -> #REF!
D35: CALÇADA/ESTACIONAMENTO
A36: =B36&C36 -> SIURB EDIF13050001 | B36: SIURB EDIF | C36: 13050001 | D36: =$D$20 -> 2 | E36: . | F36: =F34+1 -> 10 | I36: =INDEX(#REF!,MATCH(A36,#REF!,0),0) -> #REF! | J36: =INDEX(#REF!,MATCH(A36,#REF!,0),0) -> #REF! | K36: =#REF! -> #REF! | L36: =INDEX(#REF!,MATCH(A36,#REF!,0),0) -> #REF! | M36: =1+$O$11 -> 1.25 | N36: =ROUND(L36*M36,2) -> #REF! | O36: =ROUND(K36*N36,2) -> #REF! | Q36: =INDEX(#REF!,MATCH(A36,#REF!,0),0) -> #REF! | R36: =1+$T$11 -> 1.2757 | S36: =ROUND(Q36*R36,2) -> #REF! | T36: =ROUND(K36*S36,2) -> #REF!
D37: RESERVATÓRIOS
A38: =B38&C38 -> FDE08.60.013 | B38: FDE | C38: 08.60.013 | D38: =$D$20 -> 2 | E38: . | F38: =F36+1 -> 11 | I38: =INDEX(#REF!,MATCH(A38,#REF!,0),0) -> #REF! | J38: =INDEX(#REF!,MATCH(A38,#REF!,0),0) -> #REF! | K38: =#REF! -> #REF! | L38: =INDEX(#REF!,MATCH(A38,#REF!,0),0) -> #REF! | M38: =1+$O$11 -> 1.25 | N38: =ROUND(L38*M38,2) -> #REF! | O38: =ROUND(K38*N38,2) -> #REF! | Q38: =INDEX(#REF!,MATCH(A38,#REF!,0),0) -> #REF! | R38: =1+$T$11 -> 1.2757 | S38: =ROUND(Q38*R38,2) -> #REF! | T38: =ROUND(K38*S38,2) -> #REF!
D39: BOTA-FORA
A40: =B40&C40 -> SIURB EDIF1001007 | B40: SIURB EDIF | C40: 1001007 | D40: =$D$20 -> 2 | E40: . | F40: =F38+1 -> 12 | I40: =INDEX(#REF!,MATCH(A40,#REF!,0),0) -> #REF! | J40: =INDEX(#REF!,MATCH(A40,#REF!,0),0) -> #REF! | K40: =#REF! -> #REF! | L40: =INDEX(#REF!,MATCH(A40,#REF!,0),0) -> #REF! | M40: =1+$O$11 -> 1.25 | N40: =ROUND(L40*M40,2) -> #REF! | O40: =ROUND(K40*N40,2) -> #REF! | Q40: =INDEX(#REF!,MATCH(A40,#REF!,0),0) -> #REF! | R40: =1+$T$11 -> 1.2757 | S40: =ROUND(Q40*R40,2) -> #REF! | T40: =ROUND(K40*S40,2) -> #REF!
A41: =B41&C41 | I41: TOTAL DO ITEM | O41: =SUM(O23:O40) -> #REF! | T41: =SUM(T23:T40) -> #REF!
A42: =B42&C42 | D42: 3 | E42: . | F42: 0 | I42: CONSTRUÇÃO
D43: RECEPÇÃO
A44: =B44&C44 -> SIURB EDIF10014075 | B44: SIURB EDIF | C44: 10014075 | D44: =$D$42 -> 3 | E44: . | F44: 1 | I44: =INDEX(#REF!,MATCH(A44,#REF!,0),0) -> #REF! | J44: =INDEX(#REF!,MATCH(A44,#REF!,0),0) -> #REF! | K44: =#REF! -> #REF! | L44: =INDEX(#REF!,MATCH(A44,#REF!,0),0) -> #REF! | M44: =1+$O$11 -> 1.25 | N44: =ROUND(L44*M44,2) -> #REF! | O44: =ROUND(K44*N44,2) -> #REF! | Q44: =INDEX(#REF!,MATCH(A44,#REF!,0),0) -> #REF! | R44: =1+$T$11 -> 1.2757 | S44: =ROUND(Q44*R44,2) -> #REF! | T44: =ROUND(K44*S44,2) -> #REF!
A45: =B45&C45 -> SIURB EDIF13002043 | B45: SIURB EDIF | C45: 13002043 | D45: =$D$42 -> 3 | E45: . | F45: 2 | I45: =INDEX(#REF!,MATCH(A45,#REF!,0),0) -> #REF! | J45: =INDEX(#REF!,MATCH(A45,#REF!,0),0) -> #REF! | K45: =#REF! -> #REF! | L45: =INDEX(#REF!,MATCH(A45,#REF!,0),0) -> #REF! | M45: =1+$O$11 -> 1.25 | N45: =ROUND(L45*M45,2) -> #REF! | O45: =ROUND(K45*N45,2) -> #REF! | Q45: =INDEX(#REF!,MATCH(A45,#REF!,0),0) -> #REF! | R45: =1+$T$11 -> 1.2757 | S45: =ROUND(Q45*R45,2) -> #REF! | T45: =ROUND(K45*S45,2) -> #REF!
A46: =B46&C46 -> CDHU26.20.020 | B46: CDHU | C46: 26.20.020 | D46: =$D$42 -> 3 | E46: . | F46: 3 | I46: =INDEX(#REF!,MATCH(A46,#REF!,0),0) -> #REF! | J46: =INDEX(#REF!,MATCH(A46,#REF!,0),0) -> #REF! | K46: =#REF! -> #REF! | L46: =INDEX(#REF!,MATCH(A46,#REF!,0),0) -> #REF! | M46: =1+$O$11 -> 1.25 | N46: =ROUND(L46*M46,2) -> #REF! | O46: =ROUND(K46*N46,2) -> #REF! | Q46: =INDEX(#REF!,MATCH(A46,#REF!,0),0) -> #REF! | R46: =1+$T$11 -> 1.2757 | S46: =ROUND(Q46*R46,2) -> #REF! | T46: =ROUND(K46*S46,2) -> #REF!
...

Sheet PQPU EUCATEX
Q2: DESONERADO
D6: PQPU - PLANILHA DE QUANTIDADES E PREÇOS UNITÁRIOS
D8: OBRA: | I8: REFORMA UBS SANTO ANGELO
D9: LOCAL: | I9: RUA SÃO SIMÃO, 59 - CONJ. RES. SANTO ANGELO, MOGI DAS CRUZES - SP, 08763-240
N10: DATA: | O10: MAIO/2024 | S10: DATA: | T10: JUL/2022
I11: PLANILHA DE QUANTIDADES E PREÇOS UNITÁRIOS SEM DESONERAÇÃO | N11: BDI: | O11: 0.25 | S11: BDI: | T11: 0.2757
A12: COD-REF | B12: REF | C12: CÓDIGO | G12: ITEM | I12: DESCRIÇÃO DOS SERVIÇOS | J12: UN | K12: QUANTIDADE | L12: $ UNITÁRIO S/ BDI | M12: BDI | N12: PREÇO UNITÁRIO | O12: PREÇO TOTAL | Q12: $ UNITÁRIO S/ BDI | R12: BDI | S12: PREÇO UNITÁRIO | T12: PREÇO TOTAL
A14: =B14&C14 | D14: 1 | E14: . | F14: 0 | I14: SERVIÇOS PRELIMINARES
A15: =B15&C15 -> SIURB EDIF17030002 | B15: SIURB EDIF | C15: 17030002 | D15: =$D$14 -> 1 | E15: . | F15: =F14+1 -> 1 | I15: =INDEX(#REF!,MATCH(A15,#REF!,0),0) -> #REF! | J15: =INDEX(#REF!,MATCH(A15,#REF!,0),0) -> #REF! | K15: 3.38 | L15: =INDEX(#REF!,MATCH(A15,#REF!,0),0) -> #REF! | M15: =1+$O$11 -> 1.25 | N15: =ROUND(L15*M15,2) -> #REF! | O15: =ROUND(K15*N15,2) -> #REF! | Q15: =INDEX(#REF!,MATCH(A15,#REF!,0),0) -> #REF! | R15: =1+$T$11 -> 1.2757 | S15: =Q15*K15 -> #REF! | T15: =S15 -> #REF!
A16: =B16&C16 -> SIURB EDIF17045001 | B16: SIURB EDIF | C16: 17045001 | D16: =$D$14 -> 1 | E16: . | F16: =F15+1 -> 2 | I16: =INDEX(#REF!,MATCH(A16,#REF!,0),0) -> #REF! | J16: =INDEX(#REF!,MATCH(A16,#REF!,0),0) -> #REF! | K16: 157.5 | L16: =INDEX(#REF!,MATCH(A16,#REF!,0),0) -> #REF! | M16: =1+$O$11 -> 1.25 | N16: =ROUND(L16*M16,2) -> #REF! | O16: =ROUND(K16*N16,2) -> #REF! | Q16: =INDEX(#REF!,MATCH(A16,#REF!,0),0) -> #REF! | R16: =1+$T$11 -> 1.2757 | S16: =Q16*K16 -> #REF! | T16: =S16 -> #REF!
A17: =B17&C17 -> SIURB EDIF17045002 | B17: SIURB EDIF | C17: 17045002 | D17: =$D$14 -> 1 | E17: . | F17: =F16+1 -> 3 | I17: =INDEX(#REF!,MATCH(A17,#REF!,0),0) -> #REF! | J17: =INDEX(#REF!,MATCH(A17,#REF!,0),0) -> #REF! | K17: 315 | L17: =INDEX(#REF!,MATCH(A17,#REF!,0),0) -> #REF! | M17: =1+$O$11 -> 1.25 | N17: =ROUND(L17*M17,2) -> #REF! | O17: =ROUND(K17*N17,2) -> #REF! | Q17: =INDEX(#REF!,MATCH(A17,#REF!,0),0) -> #REF! | R17: =1+$T$11 -> 1.2757 | S17: =Q17*K17 -> #REF! | T17: =S17 -> #REF!
A18: =B18&C18 -> SIURB EDIF20003061 | B18: SIURB EDIF | C18: 20003061 | D18: =$D$14 -> 1 | E18: . | F18: =F17+1 -> 4 | I18: =INDEX(#REF!,MATCH(A18,#REF!,0),0) -> #REF! | J18: =INDEX(#REF!,MATCH(A18,#REF!,0),0) -> #REF! | K18: 1 | L18: =INDEX(#REF!,MATCH(A18,#REF!,0),0) -> #REF! | M18: =1+$O$11 -> 1.25 | N18: =ROUND(L18*M18,2) -> #REF! | O18: =ROUND(K18*N18,2) -> #REF! | Q18: =INDEX(#REF!,MATCH(A18,#REF!,0),0) -> #REF! | R18: =1+$T$11 -> 1.2757 | S18: =ROUND(Q18*R18,2) -> #REF! | T18: =ROUND(K18*S18,2) -> #REF!
A19: =B19&C19 | I19: TOTAL DO ITEM | O19: =SUM(O15:O18) -> #REF! | T19: =SUM(T15:T18) -> #REF!
A20: =B20&C20 | D20: 2 | E20: . | F20: 0 | I20: DEMOLIÇÕES E RETIRADAS
D21: RECEPÇÃO
A22: =B22&C22 -> SIURB EDIF4050004 | B22: SIURB EDIF | C22: 4050004 | D22: =$D$20 -> 2 | E22: . | F22: 1 | I22: =INDEX(#REF!,MATCH(A22,#REF!,0),0) -> #REF! | J22: =INDEX(#REF!,MATCH(A22,#REF!,0),0) -> #REF! | K22: 0.14 | L22: =INDEX(#REF!,MATCH(A22,#REF!,0),0) -> #REF! | M22: =1+$O$11 -> 1.25 | N22: =ROUND(L22*M22,2) -> #REF! | O22: =ROUND(K22*N22,2) -> #REF! | Q22: =INDEX(#REF!,MATCH(A22,#REF!,0),0) -> #REF! | R22: =1+$T$11 -> 1.2757 | S22: =ROUND(Q22*R22,2) -> #REF! | T22: =ROUND(K22*S22,2) -> #REF!
A23: =B23&C23 -> CDHU04.14.020 | B23: CDHU | C23: 04.14.020 | D23: =$D$20 -> 2 | E23: . | F23: 2 | I23: =INDEX(#REF!,MATCH(A23,#REF!,0),0) -> #REF! | J23: =INDEX(#REF!,MATCH(A23,#REF!,0),0) -> #REF! | K23: 2 | L23: =INDEX(#REF!,MATCH(A23,#REF!,0),0) -> #REF! | M23: =1+$O$11 -> 1.25 | N23: =ROUND(L23*M23,2) -> #REF! | O23: =ROUND(K23*N23,2) -> #REF! | Q23: =INDEX(#REF!,MATCH(A23,#REF!,0),0) -> #REF! | R23: =1+$T$11 -> 1.2757 | S23: =ROUND(Q23*R23,2) -> #REF! | T23: =ROUND(K23*S23,2) -> #REF!
D24: FARMÁCIA
A25: =B25&C25 -> SIURB EDIF4050004 | B25: SIURB EDIF | C25: 4050004 | D25: =$D$20 -> 2 | E25: . | F25: 3 | I25: =INDEX(#REF!,MATCH(A25,#REF!,0),0) -> #REF! | J25: =INDEX(#REF!,MATCH(A25,#REF!,0),0) -> #REF! | K25: 0.11 | L25: =INDEX(#REF!,MATCH(A25,#REF!,0),0) -> #REF! | M25: =1+$O$11 -> 1.25 | N25: =ROUND(L25*M25,2) -> #REF! | O25: =ROUND(K25*N25,2) -> #REF! | Q25: =INDEX(#REF!,MATCH(A25,#REF!,0),0) -> #REF! | R25: =1+$T$11 -> 1.2757 | S25: =ROUND(Q25*R25,2) -> #REF! | T25: =ROUND(K25*S25,2) -> #REF!
A26: =B26&C26 -> CDHU04.14.020 | B26: CDHU | C26: 04.14.020 | D26: =$D$20 -> 2 | E26: . | F26: =F25+1 -> 4 | I26: =INDEX(#REF!,MATCH(A26,#REF!,0),0) -> #REF! | J26: =INDEX(#REF!,MATCH(A26,#REF!,0),0) -> #REF! | K26: 1 | L26: =INDEX(#REF!,MATCH(A26,#REF!,0),0) -> #REF! | M26: =1+$O$11 -> 1.25 | N26: =ROUND(L26*M26,2) -> #REF! | O26: =ROUND(K26*N26,2) -> #REF! | Q26: =INDEX(#REF!,MATCH(A26,#REF!,0),0) -> #REF! | R26: =1+$T$11 -> 1.2757 | S26: =ROUND(Q26*R26,2) -> #REF! | T26: =ROUND(K26*S26,2) -> #REF!
D27: COLETA
A28: =B28&C28 -> CDHU04.01.040 | B28: CDHU | C28: 04.01.040 | D28: =$D$20 -> 2 | E28: . | F28: =F26+1 -> 5 | I28: =INDEX(#REF!,MATCH(A28,#REF!,0),0) -> #REF! | J28: =INDEX(#REF!,MATCH(A28,#REF!,0),0) -> #REF! | K28: 6.51 | L28: =INDEX(#REF!,MATCH(A28,#REF!,0),0) -> #REF! | M28: =1+$O$11 -> 1.25 | N28: =ROUND(L28*M28,2) -> #REF! | O28: =ROUND(K28*N28,2) -> #REF! | Q28: =INDEX(#REF!,MATCH(A28,#REF!,0),0) -> #REF! | R28: =1+$T$11 -> 1.2757 | S28: =ROUND(Q28*R28,2) -> #REF! | T28: =ROUND(K28*S28,2) -> #REF!
D29: CIRCULAÇÃO (ACESSO RESTRITO)
A30: =B30&C30 -> CDHU04.01.040 | B30: CDHU | C30: 04.01.040 | D30: =$D$20 -> 2 | E30: . | F30: =F28+1 -> 6 | I30: =INDEX(#REF!,MATCH(A30,#REF!,0),0) -> #REF! | J30: =INDEX(#REF!,MATCH(A30,#REF!,0),0) -> #REF! | K30: 6.3 | L30: =INDEX(#REF!,MATCH(A30,#REF!,0),0) -> #REF! | M30: =1+$O$11 -> 1.25 | N30: =ROUND(L30*M30,2) -> #REF! | O30: =ROUND(K30*N30,2) -> #REF! | Q30: =INDEX(#REF!,MATCH(A30,#REF!,0),0) -> #REF! | R30: =1+$T$11 -> 1.2757 | S30: =ROUND(Q30*R30,2) -> #REF! | T30: =ROUND(K30*S30,2) -> #REF!
D31: AREA EXTERNA
A32: =B32&C32 -> SIURB EDIF17050015 | B32: SIURB EDIF | C32: 17050015 | D32: =$D$20 -> 2 | E32: . | F32: =F30+1 -> 7 | I32: =INDEX(#REF!,MATCH(A32,#REF!,0),0) -> #REF! | J32: =INDEX(#REF!,MATCH(A32,#REF!,0),0) -> #REF! | K32: 24.85 | L32: =INDEX(#REF!,MATCH(A32,#REF!,0),0) -> #REF! | M32: =1+$O$11 -> 1.25 | N32: =ROUND(L32*M32,2) -> #REF! | O32: =ROUND(K32*N32,2) -> #REF! | Q32: =INDEX(#REF!,MATCH(A32,#REF!,0),0) -> #REF! | R32: =1+$T$11 -> 1.2757 | S32: =ROUND(Q32*R32,2) -> #REF! | T32: =ROUND(K32*S32,2) -> #REF!
D33: CALÇADA/ESTACIONAMENTO
A34: =B34&C34 -> SIURB EDIF13050001 | B34: SIURB EDIF | C34: 13050001 | D34: =$D$20 -> 2 | E34: . | F34: =F32+1 -> 8 | I34: =INDEX(#REF!,MATCH(A34,#REF!,0),0) -> #REF! | J34: =INDEX(#REF!,MATCH(A34,#REF!,0),0) -> #REF! | K34: 9.85 | L34: =INDEX(#REF!,MATCH(A34,#REF!,0),0) -> #REF! | M34: =1+$O$11 -> 1.25 | N34: =ROUND(L34*M34,2) -> #REF! | O34: =ROUND(K34*N34,2) -> #REF! | Q34: =INDEX(#REF!,MATCH(A34,#REF!,0),0) -> #REF! | R34: =1+$T$11 -> 1.2757 | S34: =ROUND(Q34*R34,2) -> #REF! | T34: =ROUND(K34*S34,2) -> #REF!
D35: RESERVATÓRIOS
A36: =B36&C36 -> FDE08.60.013 | B36: FDE | C36: 08.60.013 | D36: =$D$20 -> 2 | E36: . | F36: =F34+1 -> 9 | I36: =INDEX(#REF!,MATCH(A36,#REF!,0),0) -> #REF! | J36: =INDEX(#REF!,MATCH(A36,#REF!,0),0) -> #REF! | K36: 3 | L36: =INDEX(#REF!,MATCH(A36,#REF!,0),0) -> #REF! | M36: =1+$O$11 -> 1.25 | N36: =ROUND(L36*M36,2) -> #REF! | O36: =ROUND(K36*N36,2) -> #REF! | Q36: =INDEX(#REF!,MATCH(A36,#REF!,0),0) -> #REF! | R36: =1+$T$11 -> 1.2757 | S36: =ROUND(Q36*R36,2) -> #REF! | T36: =ROUND(K36*S36,2) -> #REF!
D37: BOTA-FORA
A38: =B38&C38 -> SIURB EDIF1001007 | B38: SIURB EDIF | C38: 1001007 | D38: =$D$20 -> 2 | E38: . | F38: =F36+1 -> 10 | I38: =INDEX(#REF!,MATCH(A38,#REF!,0),0) -> #REF! | J38: =INDEX(#REF!,MATCH(A38,#REF!,0),0) -> #REF! | K38: 14.75 | L38: =INDEX(#REF!,MATCH(A38,#REF!,0),0) -> #REF! | M38: =1+$O$11 -> 1.25 | N38: =ROUND(L38*M38,2) -> #REF! | O38: =ROUND(K38*N38,2) -> #REF! | Q38: =INDEX(#REF!,MATCH(A38,#REF!,0),0) -> #REF! | R38: =1+$T$11 -> 1.2757 | S38: =ROUND(Q38*R38,2) -> #REF! | T38: =ROUND(K38*S38,2) -> #REF!
A39: =B39&C39 | I39: TOTAL DO ITEM | O39: =SUM(O22:O38) -> #REF! | T39: =SUM(T22:T38) -> #REF!
A40: =B40&C40 | D40: 3 | E40: . | F40: 0 | I40: CONSTRUÇÃO
D41: RECEPÇÃO
A42: =B42&C42 -> FDE05.05.086 | B42: FDE | C42: 05.05.086 | D42: =$D$40 -> 3 | E42: . | F42: 1 | I42: =INDEX(#REF!,MATCH(A42,#REF!,0),0) -> #REF! | J42: =INDEX(#REF!,MATCH(A42,#REF!,0),0) -> #REF! | K42: 1 | L42: =INDEX(#REF!,MATCH(A42,#REF!,0),0) -> #REF! | M42: =1+$O$11 -> 1.25 | N42: =ROUND(L42*M42,2) -> #REF! | O42: =ROUND(K42*N42,2) -> #REF! | Q42: =INDEX(#REF!,MATCH(A42,#REF!,0),0) -> #REF! | R42: =1+$T$11 -> 1.2757 | S42: =ROUND(Q42*R42,2) -> #REF! | T42: =ROUND(K42*S42,2) -> #REF!
A43: =B43&C43 -> SIURB EDIF13002043 | B43: SIURB EDIF | C43: 13002043 | D43: =$D$40 -> 3 | E43: . | F43: 2 | I43: =INDEX(#REF!,MATCH(A43,#REF!,0),0) -> #REF! | J43: =INDEX(#REF!,MATCH(A43,#REF!,0),0) -> #REF! | K43: 0.9 | L43: =INDEX(#REF!,MATCH(A43,#REF!,0),0) -> #REF! | M43: =1+$O$11 -> 1.25 | N43: =ROUND(L43*M43,2) -> #REF! | O43: =ROUND(K43*N43,2) -> #REF! | Q43: =INDEX(#REF!,MATCH(A43,#REF!,0),0) -> #REF! | R43: =1+$T$11 -> 1.2757 | S43: =ROUND(Q43*R43,2) -> #REF! | T43: =ROUND(K43*S43,2) -> #REF!
A44: =B44&C44 -> CDHU26.20.020 | B44: CDHU | C44: 26.20.020 | D44: =$D$40 -> 3 | E44: . | F44: 3 | I44: =INDEX(#REF!,MATCH(A44,#REF!,0),0) -> #REF! | J44: =INDEX(#REF!,MATCH(A44,#REF!,0),0) -> #REF! | K44: 2 | L44: =INDEX(#REF!,MATCH(A44,#REF!,0),0) -> #REF! | M44: =1+$O$11 -> 1.25 | N44: =ROUND(L44*M44,2) -> #REF! | O44: =ROUND(K44*N44,2) -> #REF! | Q44: =INDEX(#REF!,MATCH(A44,#REF!,0),0) -> #REF! | R44: =1+$T$11 -> 1.2757 | S44: =ROUND(Q44*R44,2) -> #REF! | T44: =ROUND(K44*S44,2) -> #REF!
D45: FARMÁCIA
A46: =B46&C46 -> FDE05.05.086 | B46: FDE | C46: 05.05.086 | D46: =$D$40 -> 3 | E46: . | F46: 4 | I46: =INDEX(#REF!,MATCH(A46,#REF!,0),0) -> #REF! | J46: =INDEX(#REF!,MATCH(A46,#REF!,0),0) -> #REF! | K46: 1 | L46: =INDEX(#REF!,MATCH(A46,#REF!,0),0) -> #REF! | M46: =1+$O$11 -> 1.25 | N46: =ROUND(L46*M46,2) -> #REF! | O46: =ROUND(K46*N46,2) -> #REF! | Q46: =INDEX(#REF!,MATCH(A46,#REF!,0),0) -> #REF! | R46: =1+$T$11 -> 1.2757 | S46: =ROUND(Q46*R46,2) -> #REF! | T46: =ROUND(K46*S46,2) -> #REF!
...

Sheet RESUMO
A6: RESUMO DA PQPU - PLANILHA DE QUANTIDADES E PREÇOS UNITÁRIOS
A8: OBRA: | C8: CONTRATAÇÃO DE EMPRESA ESPECIALIZADA CAPACITADA PARA A ELABORAÇÃO DE PROJETOS BÁSICOS E EXECUTIVOS, ABRANGENDO A ELABORAÇÃO DE PEÇAS TÉCNICAS E GRÁFICAS, LEVANTAMENTOS, SONDAGENS, ORÇAMENTOS E ESTUDOS DIVERSOS, COM A FINALIDADE DE ASSEGURAR AS OBRAS DE: (A)-REVITALIZAÇÃO E AMPLIAÇÃO DO PARQUE DA CIDADE, (B)-REVITALIZAÇÃO DO PARQUE LEON FEFFER E (C)-IMPLANTAÇÃO DO PARQUE NÁUTICO MOGIANO, NO MUNICÍPIO DE MOGI DAS CRUZES
A9: LOCAL: | C9: MOGI DAS CRUZES - SP
K10: DATA: | L10: 46054
H11: PLANILHA DE QUANTIDADES E PREÇOS UNITÁRIOS SEM DESONERAÇÃO | K11: BDI: | L11: 0.25
A13: REF | B13: CÓDIGO | F13: ITEM | H13: DESCRIÇÃO DOS SERVIÇOS | L13: PREÇO TOTAL
C15: 1 | D15: . | E15: 0 | H15: SERVIÇOS TOPOGRÁFICOS E ESTUDOS INICIAIS | K15: =L15/L18 -> 0.21755886 | L15: ='PQPU PROJETOS PQ TOTAL'!L21 -> 161296.9
C16: 2 | D16: . | E16: 0 | H16: SONDAGEM | K16: =L16/L18 -> 0.048845588 | L16: ='PQPU PROJETOS PQ TOTAL'!L27 -> 36213.84
C17: 3 | D17: . | E17: 0 | H17: PROJETOS E SERVIÇOS TÉCNICOS | K17: =1-K15-K16 -> 0.73359555 | L17: ='PQPU PROJETOS PQ TOTAL'!L47 -> 543883.55
H18: TOTAL GERAL C/ BDI 25% (SEM DES) CDHU 200, SIURB JUL-2025 | L18: =L15+L16+L17 -> 741394.29
E22: ENGº ALEXANDRE KOPPERSCHMID PIGNATON | I22: Engª LEILA ALCANTARA GALVÃO
H23: Dir. Dep de Obras e Edificações | I23: Secretaria Adjunta de Obras e Infraestrutura
H41: PERFURAÇÃO E EXECUÇÃO DE ENSAIO PENETOMÉTRICO OU DE LAVAGEM POR TEMPO

Sheet PQPU PROJETOS PQ TOTAL
A6: PQPU - PLANILHA DE QUANTIDADES E PREÇOS UNITÁRIOS
A8: OBRA: | C8: CONTRATAÇÃO DE EMPRESA ESPECIALIZADA CAPACITADA PARA A ELABORAÇÃO DE PROJETOS BÁSICOS E EXECUTIVOS, ABRANGENDO A ELABORAÇÃO DE PEÇAS TÉCNICAS E GRÁFICAS, LEVANTAMENTOS, SONDAGENS, ORÇAMENTOS E ESTUDOS DIVERSOS, COM A FINALIDADE DE ASSEGURAR AS OBRAS DE: (A)-REVITALIZAÇÃO E AMPLIAÇÃO DO PARQUE DA CIDADE, (B)-REVITALIZAÇÃO DO PARQUE LEON FEFFER E (C)-IMPLANTAÇÃO DO PARQUE NÁUTICO MOGIANO, NO MUNICÍPIO DE MOGI DAS CRUZES
A9: LOCAL: | C9: MOGI DAS CRUZES - SP
K10: DATA: | L10: 46054
H11: PLANILHA DE QUANTIDADES E PREÇOS UNITÁRIOS SEM DESONERAÇÃO | K11: BDI: | L11: 0.25
A12: REF | B12: CÓDIGO | F12: ITEM | H12: DESCRIÇÃO DOS SERVIÇOS | I12: UN | J12: QUANTIDADE | K12: PREÇO UNITÁRIO C/ BDI | L12: PREÇO TOTAL
C14: 1 | D14: . | E14: 0 | H14: SERVIÇOS TOPOGRÁFICOS E ESTUDOS INICIAIS
A15: SIURB INFRA | B15: 1010000 | C15: 1 | D15: . | E15: 1 | H15: LEVANTAMENTO PLANIALTIMÉTRICO CADASTRAL | I15: M2 | J15: 56500 | K15: 1.1 | L15: =ROUND(J15*K15,2) -> 62150
A16: SIURB EDIF | B16: 20003071 | C16: 1 | D16: . | E16: 2 | H16: LEVANTAMENTO CADASTRAL DE EDIFICAÇÃO ENTRE 501M2 À 2000M2 | I16: M2 | J16: 1500 | K16: 9.29 | L16: =ROUND(J16*K16,2) -> 13935
B17: COMPOSIÇÃO 1 | C17: 1 | D17: . | E17: 3 | H17: RELATÓRIO TÉCNICO PARA REVITALIZAÇÃO E IMPLANTAÇÃO DO PARQUE DA CIDADE | I17: GL | J17: 1 | K17: 14626.37 | L17: =ROUND(J17*K17,2) -> 14626.37
B18: COMPOSIÇÃO 2 | C18: 1 | D18: . | E18: 4 | H18: RELATÓRIO TÉCNICO PARA REVITALIZAÇÃO E IMPLANTAÇÃO DO PARQUE LEON FEFFER | I18: GL | J18: 1 | K18: 7860.22 | L18: =ROUND(J18*K18,2) -> 7860.22
B19: COMPOSIÇÃO 3 | C19: 1 | D19: . | E19: 5 | H19: RELATÓRIO TÉCNICO PARA REVITALIZAÇÃO E IMPLANTAÇÃO DO PARQUE NÁUTICO MOGIANO | I19: GL | J19: 1 | K19: 27680.62 | L19: =ROUND(J19*K19,2) -> 27680.62
B20: COMPOSIÇÃO 10 | C20: 1 | D20: . | E20: 6 | H20: RELATÓRIO AMBIENTAL E OBTENÇÃO DA LAP | I20: GL | J20: 1 | K20: 35044.69 | L20: =ROUND(J20*K20,2) -> 35044.69
K21: TOTAL DO ITEM 1.0 | L21: =SUM(L15:L20) -> 161296.9
C23: 2 | D23: . | E23: 0 | H23: SONDAGEM
A24: SIURB EDIF | B24: 20002009 | C24: 2 | D24: . | E24: 1 | H24: PERFURAÇÃO E EXECUÇÃO DE ENSAIO PENETROMÉTRICO OU DE LAVAGEM POR TEMPO | I24: M | J24: 150 | K24: 224.7 | L24: =ROUND(J24*K24,2) -> 33705 | M24: 25
A25: SIURB EDIF | B25: 20002002 | C25: 2 | D25: . | E25: 2 | H25: MOBILIZAÇÃO E INSTALAÇÃO DE 1 EQUIPAMENTO PARA EXECUÇÃO DE SONDAGEM A PERCUSSÃO | I25: UN | J25: 2 | K25: 940.2 | L25: =ROUND(J25*K25,2) -> 1880.4
A26: SIURB EDIF | B26: 20002003 | C26: 2 | D26: . | E26: 3 | H26: DESLOCAMENTO DE EQUIPAMENTO ENTRE FUROS EM TERRENO PLANO, CONSIDERANDO A DISTÂNCIA ATÉ 100M, PARA SONDAGEM A PERCUSSÃO | I26: UN | J26: 6 | K26: 104.74 | L26: =ROUND(J26*K26,2) -> 628.44
K27: TOTAL DO ITEM 2.0 | L27: =SUM(L24:L26) -> 36213.84
C29: 3 | D29: . | E29: 0 | H29: PROJETOS E SERVIÇOS TÉCNICOS
C30: 3 | D30: . | E30: 1 | H30: PARQUE DA CIDADE
B31: COMPOSIÇÃO 4 | C31: 3 | D31: . | E31: 1 | F31: . | G31: 1 | H31: PROJETO BÁSICO | I31: GL | J31: 1 | K31: 51484.27 | L31: =ROUND(J31*K31,2) -> 51484.27
B32: COMPOSIÇÃO 7 | C32: 3 | D32: . | E32: 1 | F32: . | G32: 2 | H32: PROJETO EXECUTIVO | I32: GL | J32: 1 | K32: 118466.25 | L32: =ROUND(J32*K32,2) -> 118466.25
A33: CDHU | B33: 01.06.031 | C33: 3 | D33: . | E33: 1 | F33: . | G33: 3 | H33: ELABORAÇÃO DE PROJETO DE ADEQUAÇÃO DE ENTRADA DE ENERGIA ELÉTRICA JUNTO A CONCESSIONÁRIA, COM MEDIÇÃO EM MÉDIA TENSÃO, SUBESTAÇÃO SIMPLIFICADA E DEMANDA DE 75 KVA A 300 KVA | I33: UN | J33: 1 | K33: 19484.03 | L33: =ROUND(J33*K33,2) -> 19484.03
K34: TOTAL DO SUB ITEM 3.1 | L34: =SUM(L31:L33) -> 189434.55
C36: 3 | D36: . | E36: 2 | H36: PARQUE LEON FEFFER
B37: COMPOSIÇÃO 5 | C37: 3 | D37: . | E37: 2 | F37: . | G37: 1 | H37: PROJETO BÁSICO | I37: GL | J37: 1 | K37: 57919.81 | L37: =ROUND(J37*K37,2) -> 57919.81
B38: COMPOSIÇÃO 8 | C38: 3 | D38: . | E38: 2 | F38: . | G38: 2 | H38: PROJETO EXECUTIVO | I38: GL | J38: 1 | K38: 113530.16 | L38: =ROUND(J38*K38,2) -> 113530.16
K39: TOTAL DO SUB ITEM 3.2 | L39: =SUM(L37:L38) -> 171449.97
C41: 3 | D41: . | E41: 3 | H41: PARQUE NÁUTICO MOGIANO
B42: COMPOSIÇÃO 6 | C42: 3 | D42: . | E42: 3 | F42: . | G42: 1 | H42: PROJETO BÁSICO | I42: GL | J42: 1 | K42: 45048.75 | L42: =ROUND(J42*K42,2) -> 45048.75
B43: COMPOSIÇÃO 9 | C43: 3 | D43: . | E43: 3 | F43: . | G43: 2 | H43: PROJETO EXECUTIVO | I43: GL | J43: 1 | K43: 118466.25 | L43: =ROUND(J43*K43,2) -> 118466.25
A44: CDHU | B44: 01.06.031 | C44: 3 | D44: . | E44: 3 | F44: . | G44: 3 | H44: ELABORAÇÃO DE PROJETO DE ADEQUAÇÃO DE ENTRADA DE ENERGIA ELÉTRICA JUNTO A CONCESSIONÁRIA, COM MEDIÇÃO EM MÉDIA TENSÃO, SUBESTAÇÃO SIMPLIFICADA E DEMANDA DE 75 KVA A 300 KVA | I44: UN | J44: 1 | K44: 19484.03 | L44: =ROUND(J44*K44,2) -> 19484.03
K45: TOTAL DO SUB ITEM 3.3 | L45: =SUM(L42:L44) -> 182999.03
K47: TOTAL DO ITEM 3.0 | L47: =+L34+L39+L45 -> 543883.55
H49: TOTAL GERAL C/ BDI 25% (SEM DES) CDHU 200, SIURB JUL-2025 | L49: =+L21+L27+L47 -> 741394.29
E51: ENGº ALEXANDRE KOPPERSCHMID PIGNATON | I51: Engª LEILA ALCANTARA GALVÃO
H52: Dir. Dep de Obras e Edificações | I52: Secretaria Adjunta de Obras e Infraestrutura
B54: OBS: Para a Elaboração da proposta, na coluna PREÇO TOTAL, utilizar a função arredondar para duas casas decimais.

Sheet PQPU VER 1
Q2: DESONERADO
B6: PQPU - PLANILHA DE QUANTIDADES E PREÇOS UNITÁRIOS
B8: OBRA: | D8: ATA DE PROJETOS
B9: LOCAL:
N10: DATA: | O10: 45717 | S10: DATA: | T10: JUL/2022
I11: PLANILHA DE QUANTIDADES E PREÇOS UNITÁRIOS SEM DESONERAÇÃO | N11: BDI: | O11: 0.25 | S11: BDI: | T11: 0.2757
A12: COD-REF | B12: REF | C12: CÓDIGO | G12: ITEM | I12: DESCRIÇÃO DOS SERVIÇOS | J12: UN | K12: QUANTIDADE | L12: $ UNITÁRIO S/ BDI | M12: BDI | N12: PREÇO UNITÁRIO | O12: PREÇO TOTAL | Q12: $ UNITÁRIO S/ BDI | R12: BDI | S12: PREÇO UNITÁRIO | T12: PREÇO TOTAL
A14: =B14&C14 | D14: 1 | E14: . | F14: 0 | I14: SERVIÇOS TOPOGRÁFICOS E ESTUDOS INICIAIS
A15: =B15&C15 -> SIURB INFRA1010000 | B15: SIURB INFRA | C15: 1010000 | D15: =$D$14 -> 1 | E15: . | F15: =F14+1 -> 1 | I15: =INDEX(#REF!,MATCH(A15,#REF!,0),0) -> #REF! | J15: =INDEX(#REF!,MATCH(A15,#REF!,0),0) -> #REF! | K15: 400000 | L15: =INDEX(#REF!,MATCH(A15,#REF!,0),0) -> #REF! | M15: =1+$O$11 -> 1.25 | N15: =ROUND(L15*M15,2) -> #REF! | O15: =ROUND(K15*N15,2) -> #REF! | Q15: =INDEX(#REF!,MATCH(A15,#REF!,0),0) -> #REF! | R15: =1+$T$11 -> 1.2757 | S15: =Q15*R15 -> #REF! | T15: =ROUND(S15*K15,2) -> #REF!
A16: =B16&C16 -> SIURB EDIF20003070 | B16: SIURB EDIF | C16: 20003070 | D16: =$D$14 -> 1 | E16: . | F16: =F15+1 -> 2 | I16: =INDEX(#REF!,MATCH(A16,#REF!,0),0) -> #REF! | J16: =INDEX(#REF!,MATCH(A16,#REF!,0),0) -> #REF! | K16: 22 | L16: =INDEX(#REF!,MATCH(A16,#REF!,0),0) -> #REF! | M16: =1+$O$11 -> 1.25 | N16: =ROUND(L16*M16,2) -> #REF! | O16: =ROUND(K16*N16,2) -> #REF! | Q16: =INDEX(#REF!,MATCH(A16,#REF!,0),0) -> #REF! | R16: =1+$T$11 -> 1.2757 | S16: =Q16*R16 -> #REF! | T16: =ROUND(S16*K16,2) -> #REF!
A17: =B17&C17 -> SIURB EDIF20003071 | B17: SIURB EDIF | C17: 20003071 | D17: =$D$14 -> 1 | E17: . | F17: =F16+1 -> 3 | I17: =INDEX(#REF!,MATCH(A17,#REF!,0),0) -> #REF! | J17: =INDEX(#REF!,MATCH(A17,#REF!,0),0) -> #REF! | K17: 8000 | L17: =INDEX(#REF!,MATCH(A17,#REF!,0),0) -> #REF! | M17: =1+$O$11 -> 1.25 | N17: =ROUND(L17*M17,2) -> #REF! | O17: =ROUND(K17*N17,2) -> #REF! | Q17: =INDEX(#REF!,MATCH(A17,#REF!,0),0) -> #REF! | R17: =1+$T$11 -> 1.2757 | S17: =Q17*R17 -> #REF! | T17: =ROUND(S17*K17,2) -> #REF!
A18: =B18&C18 -> SIURB EDIF20003072 | B18: SIURB EDIF | C18: 20003072 | D18: =$D$14 -> 1 | E18: . | F18: =F17+1 -> 4 | I18: =INDEX(#REF!,MATCH(A18,#REF!,0),0) -> #REF! | J18: =INDEX(#REF!,MATCH(A18,#REF!,0),0) -> #REF! | K18: 8000 | L18: =INDEX(#REF!,MATCH(A18,#REF!,0),0) -> #REF! | M18: =1+$O$11 -> 1.25 | N18: =ROUND(L18*M18,2) -> #REF! | O18: =ROUND(K18*N18,2) -> #REF! | Q18: =INDEX(#REF!,MATCH(A18,#REF!,0),0) -> #REF! | R18: =1+$T$11 -> 1.2757 | S18: =Q18*R18 -> #REF! | T18: =ROUND(S18*K18,2) -> #REF!
A19: =B19&C19 -> SIURB INFRA3009000 | B19: SIURB INFRA | C19: 3009000 | D19: =$D$14 -> 1 | E19: . | F19: =F18+1 -> 5 | I19: =INDEX(#REF!,MATCH(A19,#REF!,0),0) -> #REF! | J19: =INDEX(#REF!,MATCH(A19,#REF!,0),0) -> #REF! | K19: 10 | L19: =INDEX(#REF!,MATCH(A19,#REF!,0),0) -> #REF! | M19: =1+$O$11 -> 1.25 | N19: =ROUND(L19*M19,2) -> #REF! | O19: =ROUND(K19*N19,2) -> #REF! | Q19: =INDEX(#REF!,MATCH(A19,#REF!,0),0) -> #REF! | R19: =1+$T$11 -> 1.2757 | S19: =Q19*R19 -> #REF! | T19: =ROUND(S19*K19,2) -> #REF!
A20: =B20&C20 -> SIURB INFRA3010000 | B20: SIURB INFRA | C20: 3010000 | D20: =$D$14 -> 1 | E20: . | F20: =F19+1 -> 6 | I20: =INDEX(#REF!,MATCH(A20,#REF!,0),0) -> #REF! | J20: =INDEX(#REF!,MATCH(A20,#REF!,0),0) -> #REF! | K20: 20 | L20: =INDEX(#REF!,MATCH(A20,#REF!,0),0) -> #REF! | M20: =1+$O$11 -> 1.25 | N20: =ROUND(L20*M20,2) -> #REF! | O20: =ROUND(K20*N20,2) -> #REF! | Q20: =INDEX(#REF!,MATCH(A20,#REF!,0),0) -> #REF! | R20: =1+$T$11 -> 1.2757 | S20: =Q20*R20 -> #REF! | T20: =ROUND(S20*K20,2) -> #REF!
A21: =B21&C21 -> SIURB INFRA3012000 | B21: SIURB INFRA | C21: 3012000 | D21: =$D$14 -> 1 | E21: . | F21: =F20+1 -> 7 | I21: =INDEX(#REF!,MATCH(A21,#REF!,0),0) -> #REF! | J21: =INDEX(#REF!,MATCH(A21,#REF!,0),0) -> #REF! | K21: 3000 | L21: =INDEX(#REF!,MATCH(A21,#REF!,0),0) -> #REF! | M21: =1+$O$11 -> 1.25 | N21: =ROUND(L21*M21,2) -> #REF! | O21: =ROUND(K21*N21,2) -> #REF! | Q21: =INDEX(#REF!,MATCH(A21,#REF!,0),0) -> #REF! | R21: =1+$T$11 -> 1.2757 | S21: =Q21*R21 -> #REF! | T21: =ROUND(S21*K21,2) -> #REF!
A22: =B22&C22 -> CDHU01.02.071 | B22: CDHU | C22: 01.02.071 | D22: =$D$14 -> 1 | E22: . | F22: =F21+1 -> 8 | I22: =INDEX(#REF!,MATCH(A22,#REF!,0),0) -> #REF! | J22: =INDEX(#REF!,MATCH(A22,#REF!,0),0) -> #REF! | K22: 10 | L22: =INDEX(#REF!,MATCH(A22,#REF!,0),0) -> #REF! | M22: =1+$O$11 -> 1.25 | N22: =ROUND(L22*M22,2) -> #REF! | O22: =ROUND(K22*N22,2) -> #REF! | Q22: =INDEX(#REF!,MATCH(A22,#REF!,0),0) -> #REF! | R22: =1+$T$11 -> 1.2757 | S22: =Q22*R22 -> #REF! | T22: =ROUND(S22*K22,2) -> #REF!
A23: =B23&C23 -> CDHU01.02.081 | B23: CDHU | C23: 01.02.081 | D23: =$D$14 -> 1 | E23: . | F23: =F22+1 -> 9 | I23: =INDEX(#REF!,MATCH(A23,#REF!,0),0) -> #REF! | J23: =INDEX(#REF!,MATCH(A23,#REF!,0),0) -> #REF! | K23: 6 | L23: =INDEX(#REF!,MATCH(A23,#REF!,0),0) -> #REF! | M23: =1+$O$11 -> 1.25 | N23: =ROUND(L23*M23,2) -> #REF! | O23: =ROUND(K23*N23,2) -> #REF! | Q23: =INDEX(#REF!,MATCH(A23,#REF!,0),0) -> #REF! | R23: =1+$T$11 -> 1.2757 | S23: =Q23*R23 -> #REF! | T23: =ROUND(S23*K23,2) -> #REF!
A24: =B24&C24 -> CDHU01.02.091 | B24: CDHU | C24: 01.02.091 | D24: =$D$14 -> 1 | E24: . | F24: =F23+1 -> 10 | I24: =INDEX(#REF!,MATCH(A24,#REF!,0),0) -> #REF! | J24: =INDEX(#REF!,MATCH(A24,#REF!,0),0) -> #REF! | K24: 4 | L24: =INDEX(#REF!,MATCH(A24,#REF!,0),0) -> #REF! | M24: =1+$O$11 -> 1.25 | N24: =ROUND(L24*M24,2) -> #REF! | O24: =ROUND(K24*N24,2) -> #REF! | Q24: =INDEX(#REF!,MATCH(A24,#REF!,0),0) -> #REF! | R24: =1+$T$11 -> 1.2757 | S24: =Q24*R24 -> #REF! | T24: =ROUND(S24*K24,2) -> #REF!
A25: =B25&C25 -> CDHU01.02.101 | B25: CDHU | C25: 01.02.101 | D25: =$D$14 -> 1 | E25: . | F25: =F24+1 -> 11 | I25: =INDEX(#REF!,MATCH(A25,#REF!,0),0) -> #REF! | J25: =INDEX(#REF!,MATCH(A25,#REF!,0),0) -> #REF! | K25: 2 | L25: =INDEX(#REF!,MATCH(A25,#REF!,0),0) -> #REF! | M25: =1+$O$11 -> 1.25 | N25: =ROUND(L25*M25,2) -> #REF! | O25: =ROUND(K25*N25,2) -> #REF! | Q25: =INDEX(#REF!,MATCH(A25,#REF!,0),0) -> #REF! | R25: =1+$T$11 -> 1.2757 | S25: =Q25*R25 -> #REF! | T25: =ROUND(S25*K25,2) -> #REF!
A26: =B26&C26 | N26: TOTAL DO ITEM | O26: =SUM(O15:O25) -> #REF! | T26: =SUM(T15:T25) -> #REF!
A28: =B28&C28 | D28: 2 | E28: . | F28: 0 | I28: SONDAGEM, ENSAIOS E CONTROLE TECNÓLOGICO
A29: =B29&C29 -> SIURB INFRA2001001 | B29: SIURB INFRA | C29: 2001001 | D29: =D28 -> 2 | E29: . | F29: =F28+1 -> 1 | I29: =INDEX(#REF!,MATCH(A29,#REF!,0),0) -> #REF! | J29: =INDEX(#REF!,MATCH(A29,#REF!,0),0) -> #REF! | K29: 800 | L29: =INDEX(#REF!,MATCH(A29,#REF!,0),0) -> #REF! | M29: =1+$O$11 -> 1.25 | N29: =ROUND(L29*M29,2) -> #REF! | O29: =ROUND(K29*N29,2) -> #REF! | Q29: =INDEX(#REF!,MATCH(A29,#REF!,0),0) -> #REF! | R29: =1+$T$11 -> 1.2757 | S29: =Q29*R29 -> #REF! | T29: =ROUND(S29*K29,2) -> #REF!
A30: =B30&C30 -> SIURB INFRA2001002 | B30: SIURB INFRA | C30: 2001002 | D30: =$D$28 -> 2 | E30: . | F30: =F29+1 -> 2 | I30: =INDEX(#REF!,MATCH(A30,#REF!,0),0) -> #REF! | J30: =INDEX(#REF!,MATCH(A30,#REF!,0),0) -> #REF! | K30: 140 | L30: =INDEX(#REF!,MATCH(A30,#REF!,0),0) -> #REF! | M30: =1+$O$11 -> 1.25 | N30: =ROUND(L30*M30,2) -> #REF! | O30: =ROUND(K30*N30,2) -> #REF! | P30: =314-358 -> -44 | Q30: =INDEX(#REF!,MATCH(A30,#REF!,0),0) -> #REF! | R30: =1+$T$11 -> 1.2757 | S30: =Q30*R30 -> #REF! | T30: =ROUND(S30*K30,2) -> #REF!
A31: =B31&C31 -> SIURB EDIF20002002 | B31: SIURB EDIF | C31: 20002002 | D31: =$D$28 -> 2 | E31: . | F31: =F29+1 -> 2 | I31: =INDEX(#REF!,MATCH(A31,#REF!,0),0) -> #REF! | J31: =INDEX(#REF!,MATCH(A31,#REF!,0),0) -> #REF! | K31: 20 | L31: =INDEX(#REF!,MATCH(A31,#REF!,0),0) -> #REF! | M31: =1+$O$11 -> 1.25 | N31: =ROUND(L31*M31,2) -> #REF! | O31: =ROUND(K31*N31,2) -> #REF! | P31: =314-358 -> -44 | Q31: =INDEX(#REF!,MATCH(A31,#REF!,0),0) -> #REF! | R31: =1+$T$11 -> 1.2757 | S31: =Q31*R31 -> #REF! | T31: =ROUND(S31*K31,2) -> #REF!
A32: =B32&C32 -> SIURB EDIF20002009 | B32: SIURB EDIF | C32: 20002009 | D32: =$D$28 -> 2 | E32: . | F32: =F30+1 -> 3 | I32: =INDEX(#REF!,MATCH(A32,#REF!,0),0) -> #REF! | J32: =INDEX(#REF!,MATCH(A32,#REF!,0),0) -> #REF! | K32: 1000 | L32: =INDEX(#REF!,MATCH(A32,#REF!,0),0) -> #REF! | M32: =1+$O$11 -> 1.25 | N32: =ROUND(L32*M32,2) -> #REF! | O32: =ROUND(K32*N32,2) -> #REF! | P32: =314-358 -> -44 | Q32: =INDEX(#REF!,MATCH(A32,#REF!,0),0) -> #REF! | R32: =1+$T$11 -> 1.2757 | S32: =Q32*R32 -> #REF! | T32: =ROUND(S32*K32,2) -> #REF!
A33: =B33&C33 -> SIURB INFRA2006001 | B33: SIURB INFRA | C33: 2006001 | D33: =$D$28 -> 2 | E33: . | F33: =F32+1 -> 4 | I33: =INDEX(#REF!,MATCH(A33,#REF!,0),0) -> #REF! | J33: =INDEX(#REF!,MATCH(A33,#REF!,0),0) -> #REF! | K33: 75 | L33: =INDEX(#REF!,MATCH(A33,#REF!,0),0) -> #REF! | M33: =1+$O$11 -> 1.25 | N33: =ROUND(L33*M33,2) -> #REF! | O33: =ROUND(K33*N33,2) -> #REF! | Q33: =INDEX(#REF!,MATCH(A33,#REF!,0),0) -> #REF! | R33: =1+$T$11 -> 1.2757 | S33: =Q33*R33 -> #REF! | T33: =ROUND(S33*K33,2) -> #REF!
A34: =B34&C34 -> SIURB INFRA2006002 | B34: SIURB INFRA | C34: 2006002 | D34: =$D$28 -> 2 | E34: . | F34: =F33+1 -> 5 | I34: =INDEX(#REF!,MATCH(A34,#REF!,0),0) -> #REF! | J34: =INDEX(#REF!,MATCH(A34,#REF!,0),0) -> #REF! | K34: 75 | L34: =INDEX(#REF!,MATCH(A34,#REF!,0),0) -> #REF! | M34: =1+$O$11 -> 1.25 | N34: =ROUND(L34*M34,2) -> #REF! | O34: =ROUND(K34*N34,2) -> #REF! | Q34: =INDEX(#REF!,MATCH(A34,#REF!,0),0) -> #REF! | R34: =1+$T$11 -> 1.2757 | S34: =Q34*R34 -> #REF! | T34: =ROUND(S34*K34,2) -> #REF!
A35: =B35&C35 -> SIURB INFRA2006003 | B35: SIURB INFRA | C35: 2006003 | D35: =$D$28 -> 2 | E35: . | F35: =F34+1 -> 6 | I35: =INDEX(#REF!,MATCH(A35,#REF!,0),0) -> #REF! | J35: =INDEX(#REF!,MATCH(A35,#REF!,0),0) -> #REF! | K35: 75 | L35: =INDEX(#REF!,MATCH(A35,#REF!,0),0) -> #REF! | M35: =1+$O$11 -> 1.25 | N35: =ROUND(L35*M35,2) -> #REF! | O35: =ROUND(K35*N35,2) -> #REF! | Q35: =INDEX(#REF!,MATCH(A35,#REF!,0),0) -> #REF! | R35: =1+$T$11 -> 1.2757 | S35: =Q35*R35 -> #REF! | T35: =ROUND(S35*K35,2) -> #REF!
A36: =B36&C36 -> SIURB INFRA2006004 | B36: SIURB INFRA | C36: 2006004 | D36: =$D$28 -> 2 | E36: . | F36: =F35+1 -> 7 | I36: =INDEX(#REF!,MATCH(A36,#REF!,0),0) -> #REF! | J36: =INDEX(#REF!,MATCH(A36,#REF!,0),0) -> #REF! | K36: 75 | L36: =INDEX(#REF!,MATCH(A36,#REF!,0),0) -> #REF! | M36: =1+$O$11 -> 1.25 | N36: =ROUND(L36*M36,2) -> #REF! | O36: =ROUND(K36*N36,2) -> #REF! | Q36: =INDEX(#REF!,MATCH(A36,#REF!,0),0) -> #REF! | R36: =1+$T$11 -> 1.2757 | S36: =Q36*R36 -> #REF! | T36: =ROUND(S36*K36,2) -> #REF!
A37: =B37&C37 -> SIURB INFRA2006005 | B37: SIURB INFRA | C37: 2006005 | D37: =$D$28 -> 2 | E37: . | F37: =F36+1 -> 8 | I37: =INDEX(#REF!,MATCH(A37,#REF!,0),0) -> #REF! | J37: =INDEX(#REF!,MATCH(A37,#REF!,0),0) -> #REF! | K37: 75 | L37: =INDEX(#REF!,MATCH(A37,#REF!,0),0) -> #REF! | M37: =1+$O$11 -> 1.25 | N37: =ROUND(L37*M37,2) -> #REF! | O37: =ROUND(K37*N37,2) -> #REF! | Q37: =INDEX(#REF!,MATCH(A37,#REF!,0),0) -> #REF! | R37: =1+$T$11 -> 1.2757 | S37: =Q37*R37 -> #REF! | T37: =ROUND(S37*K37,2) -> #REF!
A38: =B38&C38 -> SIURB INFRA2006006 | B38: SIURB INFRA | C38: 2006006 | D38: =$D$28 -> 2 | E38: . | F38: =F37+1 -> 9 | I38: =INDEX(#REF!,MATCH(A38,#REF!,0),0) -> #REF! | J38: =INDEX(#REF!,MATCH(A38,#REF!,0),0) -> #REF! | K38: 75 | L38: =INDEX(#REF!,MATCH(A38,#REF!,0),0) -> #REF! | M38: =1+$O$11 -> 1.25 | N38: =ROUND(L38*M38,2) -> #REF! | O38: =ROUND(K38*N38,2) -> #REF! | Q38: =INDEX(#REF!,MATCH(A38,#REF!,0),0) -> #REF! | R38: =1+$T$11 -> 1.2757 | S38: =Q38*R38 -> #REF! | T38: =ROUND(S38*K38,2) -> #REF!
A39: =B39&C39 -> SIURB INFRA2006007 | B39: SIURB INFRA | C39: 2006007 | D39: =$D$28 -> 2 | E39: . | F39: =F38+1 -> 10 | I39: =INDEX(#REF!,MATCH(A39,#REF!,0),0) -> #REF! | J39: =INDEX(#REF!,MATCH(A39,#REF!,0),0) -> #REF! | K39: 75 | L39: =INDEX(#REF!,MATCH(A39,#REF!,0),0) -> #REF! | M39: =1+$O$11 -> 1.25 | N39: =ROUND(L39*M39,2) -> #REF! | O39: =ROUND(K39*N39,2) -> #REF! | Q39: =INDEX(#REF!,MATCH(A39,#REF!,0),0) -> #REF! | R39: =1+$T$11 -> 1.2757 | S39: =Q39*R39 -> #REF! | T39: =ROUND(S39*K39,2) -> #REF!
A40: =B40&C40 -> SIURB INFRA2006008 | B40: SIURB INFRA | C40: 2006008 | D40: =$D$28 -> 2 | E40: . | F40: =F39+1 -> 11 | I40: =INDEX(#REF!,MATCH(A40,#REF!,0),0) -> #REF! | J40: =INDEX(#REF!,MATCH(A40,#REF!,0),0) -> #REF! | K40: 75 | L40: =INDEX(#REF!,MATCH(A40,#REF!,0),0) -> #REF! | M40: =1+$O$11 -> 1.25 | N40: =ROUND(L40*M40,2) -> #REF! | O40: =ROUND(K40*N40,2) -> #REF! | Q40: =INDEX(#REF!,MATCH(A40,#REF!,0),0) -> #REF! | R40: =1+$T$11 -> 1.2757 | S40: =Q40*R40 -> #REF! | T40: =ROUND(S40*K40,2) -> #REF!
A41: =B41&C41 -> SIURB INFRA2006009 | B41: SIURB INFRA | C41: 2006009 | D41: =$D$28 -> 2 | E41: . | F41: =F40+1 -> 12 | I41: =INDEX(#REF!,MATCH(A41,#REF!,0),0) -> #REF! | J41: =INDEX(#REF!,MATCH(A41,#REF!,0),0) -> #REF! | K41: 50 | L41: =INDEX(#REF!,MATCH(A41,#REF!,0),0) -> #REF! | M41: =1+$O$11 -> 1.25 | N41: =ROUND(L41*M41,2) -> #REF! | O41: =ROUND(K41*N41,2) -> #REF! | Q41: =INDEX(#REF!,MATCH(A41,#REF!,0),0) -> #REF! | R41: =1+$T$11 -> 1.2757 | S41: =Q41*R41 -> #REF! | T41: =ROUND(S41*K41,2) -> #REF!
A42: =B42&C42 -> SIURB INFRA2006010 | B42: SIURB INFRA | C42: 2006010 | D42: =$D$28 -> 2 | E42: . | F42: =F41+1 -> 13 | I42: =INDEX(#REF!,MATCH(A42,#REF!,0),0) -> #REF! | J42: =INDEX(#REF!,MATCH(A42,#REF!,0),0) -> #REF! | K42: 50 | L42: =INDEX(#REF!,MATCH(A42,#REF!,0),0) -> #REF! | M42: =1+$O$11 -> 1.25 | N42: =ROUND(L42*M42,2) -> #REF! | O42: =ROUND(K42*N42,2) -> #REF! | Q42: =INDEX(#REF!,MATCH(A42,#REF!,0),0) -> #REF! | R42: =1+$T$11 -> 1.2757 | S42: =Q42*R42 -> #REF! | T42: =ROUND(S42*K42,2) -> #REF!
A43: =B43&C43 -> SIURB INFRA2006021 | B43: SIURB INFRA | C43: 2006021 | D43: =$D$28 -> 2 | E43: . | F43: =F42+1 -> 14 | I43: =INDEX(#REF!,MATCH(A43,#REF!,0),0) -> #REF! | J43: =INDEX(#REF!,MATCH(A43,#REF!,0),0) -> #REF! | K43: 150 | L43: =INDEX(#REF!,MATCH(A43,#REF!,0),0) -> #REF! | M43: =1+$O$11 -> 1.25 | N43: =ROUND(L43*M43,2) -> #REF! | O43: =ROUND(K43*N43,2) -> #REF! | Q43: =INDEX(#REF!,MATCH(A43,#REF!,0),0) -> #REF! | R43: =1+$T$11 -> 1.2757 | S43: =Q43*R43 -> #REF! | T43: =ROUND(S43*K43,2) -> #REF!
A44: =B44&C44 -> SIURB INFRA2006022 | B44: SIURB INFRA | C44: 2006022 | D44: =$D$28 -> 2 | E44: . | F44: =F43+1 -> 15 | I44: =INDEX(#REF!,MATCH(A44,#REF!,0),0) -> #REF! | J44: =INDEX(#REF!,MATCH(A44,#REF!,0),0) -> #REF! | K44: 192 | L44: =INDEX(#REF!,MATCH(A44,#REF!,0),0) -> #REF! | M44: =1+$O$11 -> 1.25 | N44: =ROUND(L44*M44,2) -> #REF! | O44: =ROUND(K44*N44,2) -> #REF! | Q44: =INDEX(#REF!,MATCH(A44,#REF!,0),0) -> #REF! | R44: =1+$T$11 -> 1.2757 | S44: =Q44*R44 -> #REF! | T44: =ROUND(S44*K44,2) -> #REF!
A45: =B45&C45 -> SIURB INFRA2006101 | B45: SIURB INFRA | C45: 2006101 | D45: =$D$28 -> 2 | E45: . | F45: =F44+1 -> 16 | I45: =INDEX(#REF!,MATCH(A45,#REF!,0),0) -> #REF! | J45: =INDEX(#REF!,MATCH(A45,#REF!,0),0) -> #REF! | K45: 5 | L45: =INDEX(#REF!,MATCH(A45,#REF!,0),0) -> #REF! | M45: =1+$O$11 -> 1.25 | N45: =ROUND(L45*M45,2) -> #REF! | O45: =ROUND(K45*N45,2) -> #REF! | Q45: =INDEX(#REF!,MATCH(A45,#REF!,0),0) -> #REF! | R45: =1+$T$11 -> 1.2757 | S45: =Q45*R45 -> #REF! | T45: =ROUND(S45*K45,2) -> #REF!
A46: =B46&C46 | N46: TOTAL DO ITEM | O46: =SUM(O29:O45) -> #REF! | T46: =SUM(T29:T45) -> #REF!
A48: =B48&C48 | D48: 3 | E48: . | F48: 0 | I48: PROJETOS
...

Sheet MC SEM PAREDE GESSO
B2: SERVIÇOS INICIAIS
B3: PLACA DE OBRA EM CHAPA DE AÇO GALVANIZADO
B4: TIPO | C4: COMPRIMENTO | D4: ALTURA | E4: ÁREA TOTAL
B5: MUNICIPAL (PLACA MÉDIA) | C5: 2.6 | D5: 1.3 | E5: =C5*D5 -> 3.38
E6: =SUM(E5:E5) -> 3.38 | F6: m2
B8: ANDAIMES METÁLICOS - FORNECIMENTO
B9: COMPRIMENTO | C9: LARGURA | D9: ALTURA | E9: VOLUME TOTAL
B10: 22 | C10: 1.5 | D10: 3 | E10: =B10*C10*D10 -> 99 | H10: .
B11: 13 | C11: 1.5 | D11: 3 | E11: =B11*C11*D11 -> 58.5
E12: =SUM(E10:E11) -> 157.5 | F12: m3xMÊS
B14: ANDAIMES METÁLICOS – MONTAGEM E DESMONTAGEM
B15: COMPRIMENTO | C15: LARGURA | D15: ALTURA | E15: VEZES MONTADO | F15: VOLUME TOTAL
B16: =B10 -> 22 | C16: =C10 -> 1.5 | D16: =D10 -> 3 | E16: 2 | F16: =ROUND(B16*C16*D16*E16,2) -> 198
B17: =B11 -> 13 | C17: =C11 -> 1.5 | D17: =D11 -> 3 | E17: 2 | F17: =ROUND(B17*C17*D17*E17,2) -> 117
F18: =SUM(F16:F17) -> 315 | G18: m3
B20: PROJETO EXECUTIVO (PRANCHA A1)
B21: LOCAL | C21: UNIDADE | D21: UNIDADE TOTAL
C23: 1 | D23: =C23 -> 1
C24: TOTAL | D24: =SUM(D23:D23) -> 1 | E24: UNID
B26: DEMOLIÇÃO
B27: RECEPÇÃO
B28: DEMOLIÇÃO DE ALVENARIA
B29: LOCAL | C29: COMPRIMENTO | D29: LARGURA | E29: ESPESSURA | F29: VOLUME
C30: m | D30: m | E30: m | F30: m3
B31: =B27 -> RECEPÇÃO | C31: 1 | D31: 0.35 | E31: 0.2 | F31: =ROUND(C31*D31*E31,2) -> 0.07
E32: TOTAL | F32: =SUM(F31:F31) -> 0.07 | G32: m3
B34: RETIRADA DE BALCÃO
B35: LOCAL | C35: COMPRIMENTO | D35: LARGURA | E35: ESPESSURA | F35: ÁREA
C36: m | D36: m | E36: m | F36: m3
B37: =B31 -> RECEPÇÃO | C37: 2 | D37: 0.35 | E37: 0.1 | F37: =ROUND(C37*D37*E37,2) -> 0.07
E38: TOTAL | F38: =SUM(F37:F37) -> 0.07 | G38: m3
I39: =1*0.35*0.2 -> 0.07
B40: RETIRADA DE ESQUADRIA EM VIDRO
B41: LOCAL | C41: COMPRIMENTO | D41: ALTURA | E41: ÁREA
B42: =B37 -> RECEPÇÃO | C42: 2 | D42: 1 | E42: =ROUND(C42*D42,2) -> 2
D43: TOTAL | E43: =E42 -> 2 | F43: m2
B45: FARMÁCIA
B46: DEMOLIÇÃO DE ALVENARIA
B47: LOCAL | C47: COMPRIMENTO | D47: LARGURA | E47: ESPESSURA | F47: VOLUME
C48: m | D48: m | E48: m | F48: m3
...

Sheet CRONOGRAMA EUCATEX
A7: OBRA: | B7: ='PQPU EUCATEX'!I8 -> REFORMA UBS SANTO ANGELO
A8: LOCAL: | B8: ='PQPU EUCATEX'!I9 -> RUA SÃO SIMÃO, 59 - CONJ. RES. SANTO ANGELO, MOGI DAS CRUZES - SP, 08763-240
C9: DATA: | D9: ABRIL/2024
B10: CRONOGRAMA SEM DESONERAÇÃO | C10: BDI: | D10: ='PQPU EUCATEX'!O11 -> 0.25
B12: DESCRIÇÃO DOS SERVIÇOS | D12: PREÇO TOTAL | E12: 1º MÊS | F12: 2º MÊS | G12: 3º MÊS | H12: TOTAL
A14: 1 | B14: ='PQPU EUCATEX'!I14 -> SERVIÇOS PRELIMINARES | D14: ='PQPU EUCATEX'!O19 -> #REF! | E14: =D14*E15 -> #REF! | F14: =D14*F15 -> #REF! | G14: =D14*G15 -> #REF! | H14: =E14+F14+G14 -> #REF!
E15: 0.8 | F15: 0.1 | G15: 0.1 | H15: =SUM(E15:G15) -> 1
A16: 2 | B16: ='PQPU EUCATEX'!I20 -> DEMOLIÇÕES E RETIRADAS | D16: ='PQPU EUCATEX'!O39 -> #REF! | E16: =D16*E17 -> #REF! | H16: =E16+F16+G16 -> #REF!
E17: 1 | F17: - | G17: - | H17: =SUM(E17:G17) -> 1
A18: 3 | B18: ='PQPU EUCATEX'!I40 -> CONSTRUÇÃO | D18: ='PQPU EUCATEX'!O80 -> #REF! | F18: =D18*F19 -> #REF! | H18: =E18+F18+G18 -> #REF!
E19: - | F19: 1 | G19: - | H19: =SUM(E19:G19) -> 1
A20: 4 | B20: ='PQPU EUCATEX'!I81 -> PINTURA | D20: ='PQPU EUCATEX'!O89 -> #REF! | G20: =D20*G21 -> #REF! | H20: =E20+F20+G20 -> #REF!
E21: - | F21: - | G21: 1 | H21: =SUM(E21:G21) -> 1
A22: 5 | B22: ='PQPU EUCATEX'!I90 -> LIMPEZA FINAL | D22: ='PQPU PAREDE DE GESSO'!O100 -> #REF! | G22: =D22*G23 -> #REF! | H22: =E22+F22+G22 -> #REF!
E23: - | F23: - | G23: 1 | H23: =SUM(E23:G23) -> 1
A24: 6 | B24: ='PQPU EUCATEX'!I95 -> INSTALAÇÕES | D24: ='PQPU PAREDE DE GESSO'!O105 -> #REF! | G24: =D24*G25 -> #REF! | H24: =E24+F24+G24 -> #REF!
E25: - | F25: - | G25: 1 | H25: =SUM(E25:G25) -> 1
B27: TOTAL GERAL C/ BDI 25% (SEM DES) | D27: =D14+D16+D18+D20+D22+D24 -> #REF! | E27: =E14+E16+E18+E20+E22+E24 -> #REF! | F27: =F14+F16+F18+F20+F22+F24 -> #REF! | G27: =G14+G16+G18+G20+G22+G24 -> #REF! | H27: =H14+H16+H18+H20+H22+H24 -> #REF!
E28: =E27/$D$27*100% -> #REF! | F28: =F27/$D$27*100% -> #REF! | G28: =G27/$D$27*100% -> #REF! | H28: =SUM(E28:G28) -> #REF!
B32: ENGº ALEXANDRE KOPPERSCHMID PIGNATON | F32: ENGª GIULIANA SILVERIO MUNIZ CAMARGO
B33: Chefe de Divisão | F33: Diretora do Departamento de Obras e Edificações Públicas
B49: MMM
