Workbook
Name EMPRESAS: OFFSET(#REF!,1,0):OFFSET(#REF!,-1,0)
Name EMPRESAS: OFFSET(#REF!,1,0):OFFSET(#REF!,-1,0)
Name EMPRESAS: OFFSET(#REF!,1,0):OFFSET(#REF!,-1,0)
Name INDICES: OFFSET(#REF!,1,0):OFFSET(#REF!,-1,0)
Name INDICES: OFFSET(#REF!,1,0):OFFSET(#REF!,-1,0)
Name INDICES: OFFSET(#REF!,1,0):OFFSET(#REF!,-1,0)
Name NCOMPOSICOES: 6
Name NCOMPOSICOES: 8
Name NCOTACOES: 1
Name NEMPRESAS: 3
Name NINDICES: 0

Sheet Plan1
Q2: DESONERADO
D6: PQPU - PLANILHA DE QUANTIDADES E PREÇOS UNITÁRIOS
D8: OBRA: | I8: REFORMA UBS SANTO ANGELO
D9: LOCAL: | I9: RUA SÃO SIMÃO, 59 - CONJ. RES. SANTO ANGELO, MOGI DAS CRUZES - SP, 08763-240
N10: DATA: | O10: MAIO/2024 | S10: DATA: | T10: JUL/2022
I11: PLANILHA DE QUANTIDADES E PREÇOS UNITÁRIOS SEM DESONERAÇÃO | N11: BDI: | O11: 0.25 | S11: BDI: | T11: 0.2757
A12: COD-REF | B12: REF | C12: CÓDIGO | G12: ITEM | I12: DESCRIÇÃO DOS SERVIÇOS | J12: UN | K12: QUANTIDADE | L12: $ UNITÁRIO S/ BDI | M12: BDI | N12: PREÇO UNITÁRIO | O12: PREÇO TOTAL | Q12: $ UNITÁRIO S/ BDI | R12: BDI | S12: PREÇO UNITÁRIO | T12: PREÇO TOTAL
A14: =B14&C14 | D14: 1 | E14: . | F14: 0 | I14: SERVIÇOS PRELIMINARES
A15: =B15&C15 -> SIURB EDIF17030002 | B15: SIURB EDIF | C15: 17030002 | D15: =$D$14 -> 1 | E15: . | F15: =F14+1 -> 1 | I15: =INDEX(#REF!,MATCH(A15,#REF!,0),0) -> #REF! | J15: =INDEX(#REF!,MATCH(A15,#REF!,0),0) -> #REF! | K15: 3.38 | L15: =INDEX(#REF!,MATCH(A15,#REF!,0),0) -> #REF! | M15: =1+$O$11 -> 1.25 | N15: =ROUND(L15*M15,2) -> #REF! | O15: =ROUND(K15*N15,2) -> #REF! | Q15: =INDEX(#REF!,MATCH(A15,#REF!,0),0) -> #REF! | R15: =1+$T$11 -> 1.2757 | S15: =Q15*K15 -> #REF! | T15: =S15 -> #REF!
A16: =B16&C16 -> SIURB EDIF17045001 | B16: SIURB EDIF | C16: 17045001 | D16: =$D$14 -> 1 | E16: . | F16: =F15+1 -> 2 | I16: =INDEX(#REF!,MATCH(A16,#REF!,0),0) -> #REF! | J16: =INDEX(#REF!,MATCH(A16,#REF!,0),0) -> #REF! | K16: 157.5 | L16: =INDEX(#REF!,MATCH(A16,#REF!,0),0) -> #REF! | M16: =1+$O$11 -> 1.25 | N16: =ROUND(L16*M16,2) -> #REF! | O16: =ROUND(K16*N16,2) -> #REF! | Q16: =INDEX(#REF!,MATCH(A16,#REF!,0),0) -> #REF! | R16: =1+$T$11 -> 1.2757 | S16: =Q16*K16 -> #REF! | T16: =S16 -> #REF!
A17: =B17&C17 -> SIURB EDIF17045002 | B17: SIURB EDIF | C17: 17045002 | D17: =$D$14 -> 1 | E17: . | F17: =F16+1 -> 3 | I17: =INDEX(#REF!,MATCH(A17,#REF!,0),0) -> #REF! | J17: =INDEX(#REF!,MATCH(A17,#REF!,0),0) -> #REF! | K17: 315 | L17: =INDEX(#REF!,MATCH(A17,#REF!,0),0) -> #REF! | M17: =1+$O$11 -> 1.25 | N17: =ROUND(L17*M17,2) -> #REF! | O17: =ROUND(K17*N17,2) -> #REF! | Q17: =INDEX(#REF!,MATCH(A17,#REF!,0),0) -> #REF! | R17: =1+$T$11 -> 1.2757 | S17: =Q17*K17 -> #REF! | T17: =S17 -> #REF!
A18: =B18&C18 -> SIURB EDIF20003061 | B18: SIURB EDIF | C18: 20003061 | D18: =$D$14 -> 1 | E18: . | F18: =F17+1 -> 4 | I18: =INDEX(#REF!,MATCH(A18,#REF!,0),0) -> #REF! | J18: =INDEX(#REF!,MATCH(A18,#REF!,0),0) -> #REF! | K18: 1 | L18: =INDEX(#REF!,MATCH(A18,#REF!,0),0) -> #REF! | M18: =1+$O$11 -> 1.25 | N18: =ROUND(L18*M18,2) -> #REF! | O18: =ROUND(K18*N18,2) -> #REF! | Q18: =INDEX(#REF!,MATCH(A18,#REF!,0),0) -> #REF! | R18: =1+$T$11 -> 1.2757 | S18: =ROUND(Q18*R18,2) -> #REF! | T18: =ROUND(K18*S18,2) -> #REF!
A19: =B19&C19 | I19: TOTAL DO ITEM | O19: =SUM(O15:O18) -> #REF! | T19: =SUM(T15:T18) -> #REF!
A20: =B20&C20 | D20: 2 | E20: . | F20: 0 | I20: DEMOLIÇÕES E RETIRADAS
D21: RECEPÇÃO
A22: =B22&C22 -> SIURB EDIF10060050 | B22: SIURB EDIF | C22: 10060050 | D22: =$D$20 -> 2 | E22: . | F22: 1 | I22: RETIRADA DE TAMPO | J22: =INDEX(#REF!,MATCH(A22,#REF!,0),0) -> #REF! | K22: 0.7 | L22: =INDEX(#REF!,MATCH(A22,#REF!,0),0) -> #REF! | M22: =1+$O$11 -> 1.25 | N22: =ROUND(L22*M22,2) -> #REF! | O22: =ROUND(K22*N22,2) -> #REF! | Q22: =INDEX(#REF!,MATCH(A22,#REF!,0),0) -> #REF! | R22: =1+$T$11 -> 1.2757 | S22: =ROUND(Q22*R22,2) -> #REF! | T22: =ROUND(K22*S22,2) -> #REF!
A23: =B23&C23 -> SIURB EDIF4050004 | B23: SIURB EDIF | C23: 4050004 | D23: =$D$20 -> 2 | E23: . | F23: 2 | I23: =INDEX(#REF!,MATCH(A23,#REF!,0),0) -> #REF! | J23: =INDEX(#REF!,MATCH(A23,#REF!,0),0) -> #REF! | K23: 0.07 | L23: =INDEX(#REF!,MATCH(A23,#REF!,0),0) -> #REF! | M23: =1+$O$11 -> 1.25 | N23: =ROUND(L23*M23,2) -> #REF! | O23: =ROUND(K23*N23,2) -> #REF! | Q23: =INDEX(#REF!,MATCH(A23,#REF!,0),0) -> #REF! | R23: =1+$T$11 -> 1.2757 | S23: =ROUND(Q23*R23,2) -> #REF! | T23: =ROUND(K23*S23,2) -> #REF!
A24: =B24&C24 -> CDHU04.14.020 | B24: CDHU | C24: 04.14.020 | D24: =$D$20 -> 2 | E24: . | F24: 3 | I24: =INDEX(#REF!,MATCH(A24,#REF!,0),0) -> #REF! | J24: =INDEX(#REF!,MATCH(A24,#REF!,0),0) -> #REF! | K24: 2 | L24: =INDEX(#REF!,MATCH(A24,#REF!,0),0) -> #REF! | M24: =1+$O$11 -> 1.25 | N24: =ROUND(L24*M24,2) -> #REF! | O24: =ROUND(K24*N24,2) -> #REF! | Q24: =INDEX(#REF!,MATCH(A24,#REF!,0),0) -> #REF! | R24: =1+$T$11 -> 1.2757 | S24: =ROUND(Q24*R24,2) -> #REF! | T24: =ROUND(K24*S24,2) -> #REF!
D25: FARMÁCIA
A26: =B26&C26 -> SIURB EDIF10060050 | B26: SIURB EDIF | C26: 10060050 | D26: =$D$20 -> 2 | E26: . | F26: 4 | I26: RETIRADA DE TAMPO | J26: =INDEX(#REF!,MATCH(A26,#REF!,0),0) -> #REF! | K26: 0.35 | L26: =INDEX(#REF!,MATCH(A26,#REF!,0),0) -> #REF! | M26: =1+$O$11 -> 1.25 | N26: =ROUND(L26*M26,2) -> #REF! | O26: =ROUND(K26*N26,2) -> #REF! | Q26: =INDEX(#REF!,MATCH(A26,#REF!,0),0) -> #REF! | R26: =1+$T$11 -> 1.2757 | S26: =ROUND(Q26*R26,2) -> #REF! | T26: =ROUND(K26*S26,2) -> #REF!
A27: =B27&C27 -> SIURB EDIF4050004 | B27: SIURB EDIF | C27: 4050004 | D27: =$D$20 -> 2 | E27: . | F27: 5 | I27: =INDEX(#REF!,MATCH(A27,#REF!,0),0) -> #REF! | J27: =INDEX(#REF!,MATCH(A27,#REF!,0),0) -> #REF! | K27: 0.07 | L27: =INDEX(#REF!,MATCH(A27,#REF!,0),0) -> #REF! | M27: =1+$O$11 -> 1.25 | N27: =ROUND(L27*M27,2) -> #REF! | O27: =ROUND(K27*N27,2) -> #REF! | Q27: =INDEX(#REF!,MATCH(A27,#REF!,0),0) -> #REF! | R27: =1+$T$11 -> 1.2757 | S27: =ROUND(Q27*R27,2) -> #REF! | T27: =ROUND(K27*S27,2) -> #REF!
A28: =B28&C28 -> CDHU04.14.020 | B28: CDHU | C28: 04.14.020 | D28: =$D$20 -> 2 | E28: . | F28: =F27+1 -> 6 | I28: =INDEX(#REF!,MATCH(A28,#REF!,0),0) -> #REF! | J28: =INDEX(#REF!,MATCH(A28,#REF!,0),0) -> #REF! | K28: 1 | L28: =INDEX(#REF!,MATCH(A28,#REF!,0),0) -> #REF! | M28: =1+$O$11 -> 1.25 | N28: =ROUND(L28*M28,2) -> #REF! | O28: =ROUND(K28*N28,2) -> #REF! | Q28: =INDEX(#REF!,MATCH(A28,#REF!,0),0) -> #REF! | R28: =1+$T$11 -> 1.2757 | S28: =ROUND(Q28*R28,2) -> #REF! | T28: =ROUND(K28*S28,2) -> #REF!
D29: COLETA
A30: =B30&C30 -> CDHU04.01.040 | B30: CDHU | C30: 04.01.040 | D30: =$D$20 -> 2 | E30: . | F30: =F28+1 -> 7 | I30: =INDEX(#REF!,MATCH(A30,#REF!,0),0) -> #REF! | J30: =INDEX(#REF!,MATCH(A30,#REF!,0),0) -> #REF! | K30: 6.51 | L30: =INDEX(#REF!,MATCH(A30,#REF!,0),0) -> #REF! | M30: =1+$O$11 -> 1.25 | N30: =ROUND(L30*M30,2) -> #REF! | O30: =ROUND(K30*N30,2) -> #REF! | Q30: =INDEX(#REF!,MATCH(A30,#REF!,0),0) -> #REF! | R30: =1+$T$11 -> 1.2757 | S30: =ROUND(Q30*R30,2) -> #REF! | T30: =ROUND(K30*S30,2) -> #REF!
D31: CIRCULAÇÃO (ACESSO RESTRITO)
A32: =B32&C32 -> CDHU04.01.040 | B32: CDHU | C32: 04.01.040 | D32: =$D$20 -> 2 | E32: . | F32: =F30+1 -> 8 | I32: =INDEX(#REF!,MATCH(A32,#REF!,0),0) -> #REF! | J32: =INDEX(#REF!,MATCH(A32,#REF!,0),0) -> #REF! | K32: 6.3 | L32: =INDEX(#REF!,MATCH(A32,#REF!,0),0) -> #REF! | M32: =1+$O$11 -> 1.25 | N32: =ROUND(L32*M32,2) -> #REF! | O32: =ROUND(K32*N32,2) -> #REF! | Q32: =INDEX(#REF!,MATCH(A32,#REF!,0),0) -> #REF! | R32: =1+$T$11 -> 1.2757 | S32: =ROUND(Q32*R32,2) -> #REF! | T32: =ROUND(K32*S32,2) -> #REF!
D33: AREA EXTERNA
A34: =B34&C34 -> SIURB EDIF17050015 | B34: SIURB EDIF | C34: 17050015 | D34: =$D$20 -> 2 | E34: . | F34: =F32+1 -> 9 | I34: =INDEX(#REF!,MATCH(A34,#REF!,0),0) -> #REF! | J34: =INDEX(#REF!,MATCH(A34,#REF!,0),0) -> #REF! | K34: 24.85 | L34: =INDEX(#REF!,MATCH(A34,#REF!,0),0) -> #REF! | M34: =1+$O$11 -> 1.25 | N34: =ROUND(L34*M34,2) -> #REF! | O34: =ROUND(K34*N34,2) -> #REF! | Q34: =INDEX(#REF!,MATCH(A34,#REF!,0),0) -> #REF! | R34: =1+$T$11 -> 1.2757 | S34: =ROUND(Q34*R34,2) -> #REF! | T34: =ROUND(K34*S34,2) -> #REF!
D35: CALÇADA/ESTACIONAMENTO
A36: =B36&C36 -> SIURB EDIF13050001 | B36: SIURB EDIF | C36: 13050001 | D36: =$D$20 -> 2 | E36: . | F36: =F34+1 -> 10 | I36: =INDEX(#REF!,MATCH(A36,#REF!,0),0) -> #REF! | J36: =INDEX(#REF!,MATCH(A36,#REF!,0),0) -> #REF! | K36: 9.85 | L36: =INDEX(#REF!,MATCH(A36,#REF!,0),0) -> #REF! | M36: =1+$O$11 -> 1.25 | N36: =ROUND(L36*M36,2) -> #REF! | O36: =ROUND(K36*N36,2) -> #REF! | Q36: =INDEX(#REF!,MATCH(A36,#REF!,0),0) -> #REF! | R36: =1+$T$11 -> 1.2757 | S36: =ROUND(Q36*R36,2) -> #REF! | T36: =ROUND(K36*S36,2) -> #REF!
D37: RESERVATÓRIOS
A38: =B38&C38 -> FDE08.60.013 | B38: FDE | C38: 08.60.013 | D38: =$D$20 -> 2 | E38: . | F38: =F36+1 -> 11 | I38: =INDEX(#REF!,MATCH(A38,#REF!,0),0) -> #REF! | J38: =INDEX(#REF!,MATCH(A38,#REF!,0),0) -> #REF! | K38: 3 | L38: =INDEX(#REF!,MATCH(A38,#REF!,0),0) -> #REF! | M38: =1+$O$11 -> 1.25 | N38: =ROUND(L38*M38,2) -> #REF! | O38: =ROUND(K38*N38,2) -> #REF! | Q38: =INDEX(#REF!,MATCH(A38,#REF!,0),0) -> #REF! | R38: =1+$T$11 -> 1.2757 | S38: =ROUND(Q38*R38,2) -> #REF! | T38: =ROUND(K38*S38,2) -> #REF!
D39: BOTA-FORA
A40: =B40&C40 -> SIURB EDIF1001007 | B40: SIURB EDIF | C40: 1001007 | D40: =$D$20 -> 2 | E40: . | F40: =F38+1 -> 12 | I40: =INDEX(#REF!,MATCH(A40,#REF!,0),0) -> #REF! | J40: =INDEX(#REF!,MATCH(A40,#REF!,0),0) -> #REF! | K40: 16.79 | L40: =INDEX(#REF!,MATCH(A40,#REF!,0),0) -> #REF! | M40: =1+$O$11 -> 1.25 | N40: =ROUND(L40*M40,2) -> #REF! | O40: =ROUND(K40*N40,2) -> #REF! | Q40: =INDEX(#REF!,MATCH(A40,#REF!,0),0) -> #REF! | R40: =1+$T$11 -> 1.2757 | S40: =ROUND(Q40*R40,2) -> #REF! | T40: =ROUND(K40*S40,2) -> #REF!
A41: =B41&C41 | I41: TOTAL DO ITEM | O41: =SUM(O23:O40) -> #REF! | T41: =SUM(T23:T40) -> #REF!
A42: =B42&C42 | D42: 3 | E42: . | F42: 0 | I42: CONSTRUÇÃO
D43: RECEPÇÃO
A44: =B44&C44 -> SIURB EDIF10014075 | B44: SIURB EDIF | C44: 10014075 | D44: =$D$42 -> 3 | E44: . | F44: 1 | I44: =INDEX(#REF!,MATCH(A44,#REF!,0),0) -> #REF! | J44: =INDEX(#REF!,MATCH(A44,#REF!,0),0) -> #REF! | K44: 1.2 | L44: =INDEX(#REF!,MATCH(A44,#REF!,0),0) -> #REF! | M44: =1+$O$11 -> 1.25 | N44: =ROUND(L44*M44,2) -> #REF! | O44: =ROUND(K44*N44,2) -> #REF! | Q44: =INDEX(#REF!,MATCH(A44,#REF!,0),0) -> #REF! | R44: =1+$T$11 -> 1.2757 | S44: =ROUND(Q44*R44,2) -> #REF! | T44: =ROUND(K44*S44,2) -> #REF!
A45: =B45&C45 -> SIURB EDIF13002043 | B45: SIURB EDIF | C45: 13002043 | D45: =$D$42 -> 3 | E45: . | F45: 2 | I45: =INDEX(#REF!,MATCH(A45,#REF!,0),0) -> #REF! | J45: =INDEX(#REF!,MATCH(A45,#REF!,0),0) -> #REF! | K45: 0.9 | L45: =INDEX(#REF!,MATCH(A45,#REF!,0),0) -> #REF! | M45: =1+$O$11 -> 1.25 | N45: =ROUND(L45*M45,2) -> #REF! | O45: =ROUND(K45*N45,2) -> #REF! | Q45: =INDEX(#REF!,MATCH(A45,#REF!,0),0) -> #REF! | R45: =1+$T$11 -> 1.2757 | S45: =ROUND(Q45*R45,2) -> #REF! | T45: =ROUND(K45*S45,2) -> #REF!
A46: =B46&C46 -> CDHU26.20.020 | B46: CDHU | C46: 26.20.020 | D46: =$D$42 -> 3 | E46: . | F46: 3 | I46: =INDEX(#REF!,MATCH(A46,#REF!,0),0) -> #REF! | J46: =INDEX(#REF!,MATCH(A46,#REF!,0),0) -> #REF! | K46: 2 | L46: =INDEX(#REF!,MATCH(A46,#REF!,0),0) -> #REF! | M46: =1+$O$11 -> 1.25 | N46: =ROUND(L46*M46,2) -> #REF! | O46: =ROUND(K46*N46,2) -> #REF! | Q46: =INDEX(#REF!,MATCH(A46,#REF!,0),0) -> #REF! | R46: =1+$T$11 -> 1.2757 | S46: =ROUND(Q46*R46,2) -> #REF! | T46: =ROUND(K46*S46,2) -> #REF!
D47: FARMÁCIA
A48: =B48&C48 -> SIURB EDIF10014075 | B48: SIURB EDIF | C48: 10014075 | D48: =$D$42 -> 3 | E48: . | F48: 4 | I48: =INDEX(#REF!,MATCH(A48,#REF!,0),0) -> #REF! | J48: =INDEX(#REF!,MATCH(A48,#REF!,0),0) -> #REF! | K48: 0.6 | L48: =INDEX(#REF!,MATCH(A48,#REF!,0),0) -> #REF! | M48: =1+$O$11 -> 1.25 | N48: =ROUND(L48*M48,2) -> #REF! | O48: =ROUND(K48*N48,2) -> #REF! | Q48: =INDEX(#REF!,MATCH(A48,#REF!,0),0) -> #REF! | R48: =1+$T$11 -> 1.2757 | S48: =ROUND(Q48*R48,2) -> #REF! | T48: =ROUND(K48*S48,2) -> #REF!
A49: =B49&C49 -> SIURB EDIF13002043 | B49: SIURB EDIF | C49: 13002043 | D49: =$D$42 -> 3 | E49: . | F49: 5 | I49: =INDEX(#REF!,MATCH(A49,#REF!,0),0) -> #REF! | J49: =INDEX(#REF!,MATCH(A49,#REF!,0),0) -> #REF! | K49: 0.76 | L49: =INDEX(#REF!,MATCH(A49,#REF!,0),0) -> #REF! | M49: =1+$O$11 -> 1.25 | N49: =ROUND(L49*M49,2) -> #REF! | O49: =ROUND(K49*N49,2) -> #REF! | Q49: =INDEX(#REF!,MATCH(A49,#REF!,0),0) -> #REF! | R49: =1+$T$11 -> 1.2757 | S49: =ROUND(Q49*R49,2) -> #REF! | T49: =ROUND(K49*S49,2) -> #REF!
A50: =B50&C50 -> CDHU26.20.020 | B50: CDHU | C50: 26.20.020 | D50: =$D$42 -> 3 | E50: . | F50: 6 | I50: =INDEX(#REF!,MATCH(A50,#REF!,0),0) -> #REF! | J50: =INDEX(#REF!,MATCH(A50,#REF!,0),0) -> #REF! | K50: 1 | L50: =INDEX(#REF!,MATCH(A50,#REF!,0),0) -> #REF! | M50: =1+$O$11 -> 1.25 | N50: =ROUND(L50*M50,2) -> #REF! | O50: =ROUND(K50*N50,2) -> #REF! | Q50: =INDEX(#REF!,MATCH(A50,#REF!,0),0) -> #REF! | R50: =1+$T$11 -> 1.2757 | S50: =ROUND(Q50*R50,2) -> #REF! | T50: =ROUND(K50*S50,2) -> #REF!
D51: COLETA
A52: =B52&C52 -> SIURB EDIF4001051 | B52: SIURB EDIF | C52: 4001051 | D52: =$D$42 -> 3 | E52: . | F52: 7 | I52: =INDEX(#REF!,MATCH(A52,#REF!,0),0) -> #REF! | J52: =INDEX(#REF!,MATCH(A52,#REF!,0),0) -> #REF! | K52: 1.17 | L52: =INDEX(#REF!,MATCH(A52,#REF!,0),0) -> #REF! | M52: =1+$O$11 -> 1.25 | N52: =ROUND(L52*M52,2) -> #REF! | O52: =ROUND(K52*N52,2) -> #REF! | Q52: =INDEX(#REF!,MATCH(A52,#REF!,0),0) -> #REF! | R52: =1+$T$11 -> 1.2757 | S52: =ROUND(Q52*R52,2) -> #REF! | T52: =ROUND(K52*S52,2) -> #REF!
A53: =B53&C53 -> SIURB EDIF11002001 | B53: SIURB EDIF | C53: 11002001 | D53: =$D$42 -> 3 | E53: . | F53: 8 | I53: =INDEX(#REF!,MATCH(A53,#REF!,0),0) -> #REF! | J53: =INDEX(#REF!,MATCH(A53,#REF!,0),0) -> #REF! | K53: 3.5 | L53: =INDEX(#REF!,MATCH(A53,#REF!,0),0) -> #REF! | M53: =1+$O$11 -> 1.25 | N53: =ROUND(L53*M53,2) -> #REF! | O53: =ROUND(K53*N53,2) -> #REF! | Q53: =INDEX(#REF!,MATCH(A53,#REF!,0),0) -> #REF! | R53: =1+$T$11 -> 1.2757 | S53: =ROUND(Q53*R53,2) -> #REF! | T53: =ROUND(K53*S53,2) -> #REF!
A54: =B54&C54 -> SIURB EDIF11002010 | B54: SIURB EDIF | C54: 11002010 | D54: =$D$42 -> 3 | E54: . | F54: 9 | I54: =INDEX(#REF!,MATCH(A54,#REF!,0),0) -> #REF! | J54: =INDEX(#REF!,MATCH(A54,#REF!,0),0) -> #REF! | K54: 3.5 | L54: =INDEX(#REF!,MATCH(A54,#REF!,0),0) -> #REF! | M54: =1+$O$11 -> 1.25 | N54: =ROUND(L54*M54,2) -> #REF! | O54: =ROUND(K54*N54,2) -> #REF! | Q54: =INDEX(#REF!,MATCH(A54,#REF!,0),0) -> #REF! | R54: =1+$T$11 -> 1.2757 | S54: =ROUND(Q54*R54,2) -> #REF! | T54: =ROUND(K54*S54,2) -> #REF!
A55: =B55&C55 -> SIURB EDIF13003004 | B55: SIURB EDIF | C55: 13003004 | D55: =$D$42 -> 3 | E55: . | F55: 10 | I55: =INDEX(#REF!,MATCH(A55,#REF!,0),0) -> #REF! | J55: =INDEX(#REF!,MATCH(A55,#REF!,0),0) -> #REF! | K55: 11.68 | L55: =INDEX(#REF!,MATCH(A55,#REF!,0),0) -> #REF! | M55: =1+$O$11 -> 1.25 | N55: =ROUND(L55*M55,2) -> #REF! | O55: =ROUND(K55*N55,2) -> #REF! | Q55: =INDEX(#REF!,MATCH(A55,#REF!,0),0) -> #REF! | R55: =1+$T$11 -> 1.2757 | S55: =ROUND(Q55*R55,2) -> #REF! | T55: =ROUND(K55*S55,2) -> #REF!
A56: =B56&C56 -> CDHU14.30.260 | B56: CDHU | C56: 14.30.260 | D56: =$D$42 -> 3 | E56: . | F56: 11 | I56: =INDEX(#REF!,MATCH(A56,#REF!,0),0) -> #REF! | J56: =INDEX(#REF!,MATCH(A56,#REF!,0),0) -> #REF! | K56: 13.32 | L56: =INDEX(#REF!,MATCH(A56,#REF!,0),0) -> #REF! | M56: =1+$O$11 -> 1.25 | N56: =ROUND(L56*M56,2) -> #REF! | O56: =ROUND(K56*N56,2) -> #REF! | Q56: =INDEX(#REF!,MATCH(A56,#REF!,0),0) -> #REF! | R56: =1+$T$11 -> 1.2757 | S56: =ROUND(Q56*R56,2) -> #REF! | T56: =ROUND(K56*S56,2) -> #REF!
A57: =B57&C57 -> SIURB EDIF7001050 | B57: SIURB EDIF | C57: 7001050 | D57: =$D$42 -> 3 | E57: . | F57: 12 | I57: =INDEX(#REF!,MATCH(A57,#REF!,0),0) -> #REF! | J57: =INDEX(#REF!,MATCH(A57,#REF!,0),0) -> #REF! | K57: 1 | L57: =INDEX(#REF!,MATCH(A57,#REF!,0),0) -> #REF! | M57: =1+$O$11 -> 1.25 | N57: =ROUND(L57*M57,2) -> #REF! | O57: =ROUND(K57*N57,2) -> #REF! | Q57: =INDEX(#REF!,MATCH(A57,#REF!,0),0) -> #REF! | R57: =1+$T$11 -> 1.2757 | S57: =ROUND(Q57*R57,2) -> #REF! | T57: =ROUND(K57*S57,2) -> #REF!
A58: =B58&C58 -> SIURB EDIF7001008 | B58: SIURB EDIF | C58: 7001008 | D58: =$D$42 -> 3 | E58: . | F58: 13 | I58: =INDEX(#REF!,MATCH(A58,#REF!,0),0) -> #REF! | J58: =INDEX(#REF!,MATCH(A58,#REF!,0),0) -> #REF! | K58: 1 | L58: =INDEX(#REF!,MATCH(A58,#REF!,0),0) -> #REF! | M58: =1+$O$11 -> 1.25 | N58: =ROUND(L58*M58,2) -> #REF! | O58: =ROUND(K58*N58,2) -> #REF! | Q58: =INDEX(#REF!,MATCH(A58,#REF!,0),0) -> #REF! | R58: =1+$T$11 -> 1.2757 | S58: =ROUND(Q58*R58,2) -> #REF! | T58: =ROUND(K58*S58,2) -> #REF!
A59: =B59&C59 -> SIURB EDIF7002010 | B59: SIURB EDIF | C59: 7002010 | D59: =$D$42 -> 3 | E59: . | F59: 14 | I59: =INDEX(#REF!,MATCH(A59,#REF!,0),0) -> #REF! | J59: =INDEX(#REF!,MATCH(A59,#REF!,0),0) -> #REF! | K59: 1 | L59: =INDEX(#REF!,MATCH(A59,#REF!,0),0) -> #REF! | M59: =1+$O$11 -> 1.25 | N59: =ROUND(L59*M59,2) -> #REF! | O59: =ROUND(K59*N59,2) -> #REF! | Q59: =INDEX(#REF!,MATCH(A59,#REF!,0),0) -> #REF! | R59: =1+$T$11 -> 1.2757 | S59: =ROUND(Q59*R59,2) -> #REF! | T59: =ROUND(K59*S59,2) -> #REF!
D60: CIRCULAÇÃO
A61: =B61&C61 -> SIURB EDIF4001051 | B61: SIURB EDIF | C61: 4001051 | D61: =$D$42 -> 3 | E61: . | F61: 15 | I61: =INDEX(#REF!,MATCH(A61,#REF!,0),0) -> #REF! | J61: =INDEX(#REF!,MATCH(A61,#REF!,0),0) -> #REF! | K61: 0.53 | L61: =INDEX(#REF!,MATCH(A61,#REF!,0),0) -> #REF! | M61: =1+$O$11 -> 1.25 | N61: =ROUND(L61*M61,2) -> #REF! | O61: =ROUND(K61*N61,2) -> #REF! | Q61: =INDEX(#REF!,MATCH(A61,#REF!,0),0) -> #REF! | R61: =1+$T$11 -> 1.2757 | S61: =ROUND(Q61*R61,2) -> #REF! | T61: =ROUND(K61*S61,2) -> #REF!
A62: =B62&C62 -> SIURB EDIF11002001 | B62: SIURB EDIF | C62: 11002001 | D62: =$D$42 -> 3 | E62: . | F62: 16 | I62: =INDEX(#REF!,MATCH(A62,#REF!,0),0) -> #REF! | J62: =INDEX(#REF!,MATCH(A62,#REF!,0),0) -> #REF! | K62: 1.59 | L62: =INDEX(#REF!,MATCH(A62,#REF!,0),0) -> #REF! | M62: =1+$O$11 -> 1.25 | N62: =ROUND(L62*M62,2) -> #REF! | O62: =ROUND(K62*N62,2) -> #REF! | Q62: =INDEX(#REF!,MATCH(A62,#REF!,0),0) -> #REF! | R62: =1+$T$11 -> 1.2757 | S62: =ROUND(Q62*R62,2) -> #REF! | T62: =ROUND(K62*S62,2) -> #REF!
A63: =B63&C63 -> SIURB EDIF11002010 | B63: SIURB EDIF | C63: 11002010 | D63: =$D$42 -> 3 | E63: . | F63: 17 | I63: =INDEX(#REF!,MATCH(A63,#REF!,0),0) -> #REF! | J63: =INDEX(#REF!,MATCH(A63,#REF!,0),0) -> #REF! | K63: 1.59 | L63: =INDEX(#REF!,MATCH(A63,#REF!,0),0) -> #REF! | M63: =1+$O$11 -> 1.25 | N63: =ROUND(L63*M63,2) -> #REF! | O63: =ROUND(K63*N63,2) -> #REF! | Q63: =INDEX(#REF!,MATCH(A63,#REF!,0),0) -> #REF! | R63: =1+$T$11 -> 1.2757 | S63: =ROUND(Q63*R63,2) -> #REF! | T63: =ROUND(K63*S63,2) -> #REF!
A64: =B64&C64 -> SIURB EDIF13003004 | B64: SIURB EDIF | C64: 13003004 | D64: =$D$42 -> 3 | E64: . | F64: 18 | I64: =INDEX(#REF!,MATCH(A64,#REF!,0),0) -> #REF! | J64: =INDEX(#REF!,MATCH(A64,#REF!,0),0) -> #REF! | K64: 5.3 | L64: =INDEX(#REF!,MATCH(A64,#REF!,0),0) -> #REF! | M64: =1+$O$11 -> 1.25 | N64: =ROUND(L64*M64,2) -> #REF! | O64: =ROUND(K64*N64,2) -> #REF! | Q64: =INDEX(#REF!,MATCH(A64,#REF!,0),0) -> #REF! | R64: =1+$T$11 -> 1.2757 | S64: =ROUND(Q64*R64,2) -> #REF! | T64: =ROUND(K64*S64,2) -> #REF!
A65: =B65&C65 -> CDHU14.30.260 | B65: CDHU | C65: 14.30.260 | D65: =$D$42 -> 3 | E65: . | F65: 19 | I65: =INDEX(#REF!,MATCH(A65,#REF!,0),0) -> #REF! | J65: =INDEX(#REF!,MATCH(A65,#REF!,0),0) -> #REF! | K65: 5.3 | L65: =INDEX(#REF!,MATCH(A65,#REF!,0),0) -> #REF! | M65: =1+$O$11 -> 1.25 | N65: =ROUND(L65*M65,2) -> #REF! | O65: =ROUND(K65*N65,2) -> #REF! | Q65: =INDEX(#REF!,MATCH(A65,#REF!,0),0) -> #REF! | R65: =1+$T$11 -> 1.2757 | S65: =ROUND(Q65*R65,2) -> #REF! | T65: =ROUND(K65*S65,2) -> #REF!
D66: CIRCULAÇÃO (ACESSO RESTRITO)
A67: =B67&C67 -> SIURB EDIF4001051 | B67: SIURB EDIF | C67: 4001051 | D67: =$D$42 -> 3 | E67: . | F67: 20 | I67: =INDEX(#REF!,MATCH(A67,#REF!,0),0) -> #REF! | J67: =INDEX(#REF!,MATCH(A67,#REF!,0),0) -> #REF! | K67: 0.42 | L67: =INDEX(#REF!,MATCH(A67,#REF!,0),0) -> #REF! | M67: =1+$O$11 -> 1.25 | N67: =ROUND(L67*M67,2) -> #REF! | O67: =ROUND(K67*N67,2) -> #REF! | Q67: =INDEX(#REF!,MATCH(A67,#REF!,0),0) -> #REF! | R67: =1+$T$11 -> 1.2757 | S67: =ROUND(Q67*R67,2) -> #REF! | T67: =ROUND(K67*S67,2) -> #REF!
A68: =B68&C68 -> SIURB EDIF11002001 | B68: SIURB EDIF | C68: 11002001 | D68: =$D$42 -> 3 | E68: . | F68: 21 | I68: =INDEX(#REF!,MATCH(A68,#REF!,0),0) -> #REF! | J68: =INDEX(#REF!,MATCH(A68,#REF!,0),0) -> #REF! | K68: 1.25 | L68: =INDEX(#REF!,MATCH(A68,#REF!,0),0) -> #REF! | M68: =1+$O$11 -> 1.25 | N68: =ROUND(L68*M68,2) -> #REF! | O68: =ROUND(K68*N68,2) -> #REF! | Q68: =INDEX(#REF!,MATCH(A68,#REF!,0),0) -> #REF! | R68: =1+$T$11 -> 1.2757 | S68: =ROUND(Q68*R68,2) -> #REF! | T68: =ROUND(K68*S68,2) -> #REF!
A69: =B69&C69 -> SIURB EDIF11002010 | B69: SIURB EDIF | C69: 11002010 | D69: =$D$42 -> 3 | E69: . | F69: 22 | I69: =INDEX(#REF!,MATCH(A69,#REF!,0),0) -> #REF! | J69: =INDEX(#REF!,MATCH(A69,#REF!,0),0) -> #REF! | K69: 1.25 | L69: =INDEX(#REF!,MATCH(A69,#REF!,0),0) -> #REF! | M69: =1+$O$11 -> 1.25 | N69: =ROUND(L69*M69,2) -> #REF! | O69: =ROUND(K69*N69,2) -> #REF! | Q69: =INDEX(#REF!,MATCH(A69,#REF!,0),0) -> #REF! | R69: =1+$T$11 -> 1.2757 | S69: =ROUND(Q69*R69,2) -> #REF! | T69: =ROUND(K69*S69,2) -> #REF!
A70: =B70&C70 -> SIURB EDIF13003004 | B70: SIURB EDIF | C70: 13003004 | D70: =$D$42 -> 3 | E70: . | F70: 23 | I70: =INDEX(#REF!,MATCH(A70,#REF!,0),0) -> #REF! | J70: =INDEX(#REF!,MATCH(A70,#REF!,0),0) -> #REF! | K70: 4.16 | L70: =INDEX(#REF!,MATCH(A70,#REF!,0),0) -> #REF! | M70: =1+$O$11 -> 1.25 | N70: =ROUND(L70*M70,2) -> #REF! | O70: =ROUND(K70*N70,2) -> #REF! | Q70: =INDEX(#REF!,MATCH(A70,#REF!,0),0) -> #REF! | R70: =1+$T$11 -> 1.2757 | S70: =ROUND(Q70*R70,2) -> #REF! | T70: =ROUND(K70*S70,2) -> #REF!
A71: =B71&C71 -> CDHU14.30.260 | B71: CDHU | C71: 14.30.260 | D71: =$D$42 -> 3 | E71: . | F71: 24 | I71: =INDEX(#REF!,MATCH(A71,#REF!,0),0) -> #REF! | J71: =INDEX(#REF!,MATCH(A71,#REF!,0),0) -> #REF! | K71: 8.4 | L71: =INDEX(#REF!,MATCH(A71,#REF!,0),0) -> #REF! | M71: =1+$O$11 -> 1.25 | N71: =ROUND(L71*M71,2) -> #REF! | O71: =ROUND(K71*N71,2) -> #REF! | Q71: =INDEX(#REF!,MATCH(A71,#REF!,0),0) -> #REF! | R71: =1+$T$11 -> 1.2757 | S71: =ROUND(Q71*R71,2) -> #REF! | T71: =ROUND(K71*S71,2) -> #REF!
A72: =B72&C72 -> CDHU25.02.042 | B72: CDHU | C72: 25.02.042 | D72: =$D$42 -> 3 | E72: . | F72: 25 | I72: =INDEX(#REF!,MATCH(A72,#REF!,0),0) -> #REF! | J72: =INDEX(#REF!,MATCH(A72,#REF!,0),0) -> #REF! | K72: 1.93 | L72: =INDEX(#REF!,MATCH(A72,#REF!,0),0) -> #REF! | M72: =1+$O$11 -> 1.25 | N72: =ROUND(L72*M72,2) -> #REF! | O72: =ROUND(K72*N72,2) -> #REF! | Q72: =INDEX(#REF!,MATCH(A72,#REF!,0),0) -> #REF! | R72: =1+$T$11 -> 1.2757 | S72: =ROUND(Q72*R72,2) -> #REF! | T72: =ROUND(K72*S72,2) -> #REF!
A73: =B73&C73 -> SIURB EDIF7002012 | B73: SIURB EDIF | C73: 7002012 | D73: =$D$42 -> 3 | E73: . | F73: 26 | I73: =INDEX(#REF!,MATCH(A73,#REF!,0),0) -> #REF! | J73: =INDEX(#REF!,MATCH(A73,#REF!,0),0) -> #REF! | K73: 1 | L73: =INDEX(#REF!,MATCH(A73,#REF!,0),0) -> #REF! | M73: =1+$O$11 -> 1.25 | N73: =ROUND(L73*M73,2) -> #REF! | O73: =ROUND(K73*N73,2) -> #REF! | Q73: =INDEX(#REF!,MATCH(A73,#REF!,0),0) -> #REF! | R73: =1+$T$11 -> 1.2757 | S73: =ROUND(Q73*R73,2) -> #REF! | T73: =ROUND(K73*S73,2) -> #REF!
A74: =B74&C74 -> SIURB EDIF8080050 | B74: SIURB EDIF | C74: 8080050 | D74: =D73 -> 3 | E74: . | F74: 27 | I74: RECUPERAÇÃO/REFORMA DE ESQUADRIAS METALICAS COM FORNECIMENTO DE MATERIAIS E MAO DE OBRA (CHAPA, PERFIS, SOLDAS E ACESSÓRIOS) | J74: =INDEX(#REF!,MATCH(A74,#REF!,0),0) -> #REF! | K74: 32.44 | L74: =INDEX(#REF!,MATCH(A74,#REF!,0),0) -> #REF! | M74: =1+$O$11 -> 1.25 | N74: =ROUND(L74*M74,2) -> #REF! | O74: =ROUND(K74*N74,2) -> #REF! | Q74: =INDEX(#REF!,MATCH(A74,#REF!,0),0) -> #REF! | R74: =1+$T$11 -> 1.2757 | S74: =ROUND(Q74*R74,2) -> #REF! | T74: =ROUND(K74*S74,2) -> #REF!
D75: AREA EXTERNA
A76: =B76&C76 -> SIURB EDIF17001028 | B76: SIURB EDIF | C76: 17001028 | D76: =$D$42 -> 3 | E76: . | F76: 28 | I76: =INDEX(#REF!,MATCH(A76,#REF!,0),0) -> #REF! | J76: =INDEX(#REF!,MATCH(A76,#REF!,0),0) -> #REF! | K76: 24.85 | L76: =INDEX(#REF!,MATCH(A76,#REF!,0),0) -> #REF! | M76: =1+$O$11 -> 1.25 | N76: =ROUND(L76*M76,2) -> #REF! | O76: =ROUND(K76*N76,2) -> #REF! | Q76: =INDEX(#REF!,MATCH(A76,#REF!,0),0) -> #REF! | R76: =1+$T$11 -> 1.2757 | S76: =ROUND(Q76*R76,2) -> #REF! | T76: =ROUND(K76*S76,2) -> #REF!
D77: CALÇADA/ESTACIONAMENTO
A78: =B78&C78 -> SIURB EDIF17002046 | B78: SIURB EDIF | C78: 17002046 | D78: =$D$42 -> 3 | E78: . | F78: 29 | I78: =INDEX(#REF!,MATCH(A78,#REF!,0),0) -> #REF! | J78: =INDEX(#REF!,MATCH(A78,#REF!,0),0) -> #REF! | K78: 11.25 | L78: =INDEX(#REF!,MATCH(A78,#REF!,0),0) -> #REF! | M78: =1+$O$11 -> 1.25 | N78: =ROUND(L78*M78,2) -> #REF! | O78: =ROUND(K78*N78,2) -> #REF! | Q78: =INDEX(#REF!,MATCH(A78,#REF!,0),0) -> #REF! | R78: =1+$T$11 -> 1.2757 | S78: =ROUND(Q78*R78,2) -> #REF! | T78: =ROUND(K78*S78,2) -> #REF!
A79: =B79&C79 -> SIURB EDIF2005005 | B79: SIURB EDIF | C79: 2005005 | D79: =$D$42 -> 3 | E79: . | F79: 30 | I79: =INDEX(#REF!,MATCH(A79,#REF!,0),0) -> #REF! | J79: =INDEX(#REF!,MATCH(A79,#REF!,0),0) -> #REF! | K79: 11.25 | L79: =INDEX(#REF!,MATCH(A79,#REF!,0),0) -> #REF! | M79: =1+$O$11 -> 1.25 | N79: =ROUND(L79*M79,2) -> #REF! | O79: =ROUND(K79*N79,2) -> #REF! | Q79: =INDEX(#REF!,MATCH(A79,#REF!,0),0) -> #REF! | R79: =1+$T$11 -> 1.2757 | S79: =ROUND(Q79*R79,2) -> #REF! | T79: =ROUND(K79*S79,2) -> #REF!
A80: =B80&C80 -> SIURB EDIF3002009 | B80: SIURB EDIF | C80: 3002009 | D80: =$D$42 -> 3 | E80: . | F80: 31 | I80: =INDEX(#REF!,MATCH(A80,#REF!,0),0) -> #REF! | J80: =INDEX(#REF!,MATCH(A80,#REF!,0),0) -> #REF! | K80: 228.9 | L80: =INDEX(#REF!,MATCH(A80,#REF!,0),0) -> #REF! | M80: =1+$O$11 -> 1.25 | N80: =ROUND(L80*M80,2) -> #REF! | O80: =ROUND(K80*N80,2) -> #REF! | Q80: =INDEX(#REF!,MATCH(A80,#REF!,0),0) -> #REF! | R80: =1+$T$11 -> 1.2757 | S80: =ROUND(Q80*R80,2) -> #REF! | T80: =ROUND(K80*S80,2) -> #REF!
A81: =B81&C81 -> SIURB EDIF8080050 | B81: SIURB EDIF | C81: 8080050 | D81: =D79 -> 3 | E81: . | F81: 32 | I81: RECUPERAÇÃO/REFORMA DE ESQUADRIAS METALICAS COM FORNECIMENTO DE MATERIAIS E MAO DE OBRA (CHAPA, PERFIS, SOLDAS E ACESSÓRIOS) | J81: =INDEX(#REF!,MATCH(A81,#REF!,0),0) -> #REF! | K81: 58.48 | L81: =INDEX(#REF!,MATCH(A81,#REF!,0),0) -> #REF! | M81: =1+$O$11 -> 1.25 | N81: =ROUND(L81*M81,2) -> #REF! | O81: =ROUND(K81*N81,2) -> #REF! | Q81: =INDEX(#REF!,MATCH(A81,#REF!,0),0) -> #REF! | R81: =1+$T$11 -> 1.2757 | S81: =ROUND(Q81*R81,2) -> #REF! | T81: =ROUND(K81*S81,2) -> #REF!
D82: RESERVATÓRIOS
A83: =B83&C83 -> COMP SINAPI102624 | B83: COMP SINAPI | C83: 102624 | D83: =$D$42 -> 3 | E83: . | F83: 33 | I83: CAIXA D´ÁGUA EM POLIETILENO, 2000 LITROS, TIPO TANQUE COM TAMPA DE ROSCA (INCLUSOS TUBOS, CONEXÕES E TORNEIRA DE BÓIA) - FORNECIMENTO E INSTALAÇÃO. AF_06/2021 | J83: =INDEX(#REF!,MATCH(A83,#REF!,0),0) -> #REF! | K83: 1 | L83: =INDEX(#REF!,MATCH(A83,#REF!,0),0) -> #REF! | M83: =1+$O$11 -> 1.25 | N83: =ROUND(L83*M83,2) -> #REF! | O83: =ROUND(K83*N83,2) -> #REF! | Q83: =INDEX(#REF!,MATCH(A83,#REF!,0),0) -> #REF! | R83: =1+$T$11 -> 1.2757 | S83: =ROUND(Q83*R83,2) -> #REF! | T83: =ROUND(K83*S83,2) -> #REF!
A84: =B84&C84 -> SINAPI102623 | B84: SINAPI | C84: 102623 | D84: =$D$42 -> 3 | E84: . | F84: 34 | I84: CAIXA D´ÁGUA EM POLIETILENO, 1000 LITROS, TIPO TANQUE COM TAMPA DE ROSCA (INCLUSOS TUBOS, CONEXÕES E TORNEIRA DE BÓIA) - FORNECIMENTO E INSTALAÇÃO. AF_06/2021 | J84: =INDEX(#REF!,MATCH(A84,#REF!,0),0) -> #REF! | K84: 1 | L84: =INDEX(#REF!,MATCH(A84,#REF!,0),0) -> #REF! | M84: =1+$O$11 -> 1.25 | N84: =ROUND(L84*M84,2) -> #REF! | O84: =ROUND(K84*N84,2) -> #REF! | Q84: =INDEX(#REF!,MATCH(A84,#REF!,0),0) -> #REF! | R84: =1+$T$11 -> 1.2757 | S84: =ROUND(Q84*R84,2) -> #REF! | T84: =ROUND(K84*S84,2) -> #REF!
A85: =B85&C85 | I85: TOTAL DO ITEM | O85: =SUM(O44:O84) -> #REF! | T85: =SUM(T44:T84) -> #REF!
A86: =B86&C86 | D86: 4 | E86: . | F86: 0 | I86: PINTURA
A87: =B87&C87 -> CDHU33.02.080 | B87: CDHU | C87: 33.02.080 | D87: =D86 -> 4 | E87: . | F87: 1 | I87: =INDEX(#REF!,MATCH(A87,#REF!,0),0) -> #REF! | J87: =INDEX(#REF!,MATCH(A87,#REF!,0),0) -> #REF! | K87: 54.04 | L87: =INDEX(#REF!,MATCH(A87,#REF!,0),0) -> #REF! | M87: =1+$O$11 -> 1.25 | N87: =ROUND(L87*M87,2) -> #REF! | O87: =ROUND(K87*N87,2) -> #REF!
A88: =B88&C88 -> SIURB EDIF15001010 | B88: SIURB EDIF | C88: 15001010 | D88: =$D$86 -> 4 | E88: . | F88: 2 | I88: =INDEX(#REF!,MATCH(A88,#REF!,0),0) -> #REF! | J88: =INDEX(#REF!,MATCH(A88,#REF!,0),0) -> #REF! | K88: 196.84 | L88: =INDEX(#REF!,MATCH(A88,#REF!,0),0) -> #REF! | M88: =1+$O$11 -> 1.25 | N88: =ROUND(L88*M88,2) -> #REF! | O88: =ROUND(K88*N88,2) -> #REF! | P88: =1079+44 -> 1123 | Q88: =INDEX(#REF!,MATCH(A88,#REF!,0),0) -> #REF! | R88: =1+$T$11 -> 1.2757 | S88: =ROUND(Q88*R88,2) -> #REF! | T88: =ROUND(K88*S88,2) -> #REF!
A89: =B89&C89 -> SIURB EDIF15001008 | B89: SIURB EDIF | C89: 15001008 | D89: =$D$86 -> 4 | E89: . | F89: 3 | I89: =INDEX(#REF!,MATCH(A89,#REF!,0),0) -> #REF! | J89: =INDEX(#REF!,MATCH(A89,#REF!,0),0) -> #REF! | K89: 986.83 | L89: =INDEX(#REF!,MATCH(A89,#REF!,0),0) -> #REF! | M89: =1+$O$11 -> 1.25 | N89: =ROUND(L89*M89,2) -> #REF! | O89: =ROUND(K89*N89,2) -> #REF! | P89: =314-358 -> -44 | Q89: =INDEX(#REF!,MATCH(A89,#REF!,0),0) -> #REF! | R89: =1+$T$11 -> 1.2757 | S89: =ROUND(Q89*R89,2) -> #REF! | T89: =ROUND(K89*S89,2) -> #REF!
A90: =B90&C90 -> SIURB EDIF15001023 | B90: SIURB EDIF | C90: 15001023 | D90: =$D$86 -> 4 | E90: . | F90: 4 | I90: =INDEX(#REF!,MATCH(A90,#REF!,0),0) -> #REF! | J90: =INDEX(#REF!,MATCH(A90,#REF!,0),0) -> #REF! | K90: 358.86 | L90: =INDEX(#REF!,MATCH(A90,#REF!,0),0) -> #REF! | M90: =1+$O$11 -> 1.25 | N90: =ROUND(L90*M90,2) -> #REF! | O90: =ROUND(K90*N90,2) -> #REF! | P90: =314-358 -> -44 | Q90: =INDEX(#REF!,MATCH(A90,#REF!,0),0) -> #REF! | R90: =1+$T$11 -> 1.2757 | S90: =ROUND(Q90*R90,2) -> #REF! | T90: =ROUND(K90*S90,2) -> #REF!
A91: =B91&C91 -> SIURB EDIF15002010 | B91: SIURB EDIF | C91: 15002010 | D91: =$D$86 -> 4 | E91: . | F91: 5 | I91: =INDEX(#REF!,MATCH(A91,#REF!,0),0) -> #REF! | J91: =INDEX(#REF!,MATCH(A91,#REF!,0),0) -> #REF! | K91: 110.25 | L91: =INDEX(#REF!,MATCH(A91,#REF!,0),0) -> #REF! | M91: =1+$O$11 -> 1.25 | N91: =ROUND(L91*M91,2) -> #REF! | O91: =ROUND(K91*N91,2) -> #REF! | Q91: =INDEX(#REF!,MATCH(A91,#REF!,0),0) -> #REF! | R91: =1+$T$11 -> 1.2757 | S91: =ROUND(Q91*R91,2) -> #REF! | T91: =ROUND(K91*S91,2) -> #REF!
A92: =B92&C92 -> SIURB EDIF15003010 | B92: SIURB EDIF | C92: 15003010 | D92: =$D$86 -> 4 | E92: . | F92: 6 | I92: =INDEX(#REF!,MATCH(A92,#REF!,0),0) -> #REF! | J92: =INDEX(#REF!,MATCH(A92,#REF!,0),0) -> #REF! | K92: 154.54 | L92: =INDEX(#REF!,MATCH(A92,#REF!,0),0) -> #REF! | M92: =1+$O$11 -> 1.25 | N92: =ROUND(L92*M92,2) -> #REF! | O92: =ROUND(K92*N92,2) -> #REF! | Q92: =INDEX(#REF!,MATCH(A92,#REF!,0),0) -> #REF! | R92: =1+$T$11 -> 1.2757 | S92: =ROUND(Q92*R92,2) -> #REF! | T92: =ROUND(K92*S92,2) -> #REF!
A93: =B93&C93 -> CDHU33.06.020 | B93: CDHU | C93: 33.06.020 | D93: =$D$86 -> 4 | E93: . | F93: 7 | I93: =INDEX(#REF!,MATCH(A93,#REF!,0),0) -> #REF! | J93: =INDEX(#REF!,MATCH(A93,#REF!,0),0) -> #REF! | K93: 372.05 | L93: =INDEX(#REF!,MATCH(A93,#REF!,0),0) -> #REF! | M93: =1+$O$11 -> 1.25 | N93: =ROUND(L93*M93,2) -> #REF! | O93: =ROUND(K93*N93,2) -> #REF! | Q93: =INDEX(#REF!,MATCH(A93,#REF!,0),0) -> #REF! | R93: =1+$T$11 -> 1.2757 | S93: =ROUND(Q93*R93,2) -> #REF! | T93: =ROUND(K93*S93,2) -> #REF!
A94: =B94&C94 -> CDHU30.06.100 | B94: CDHU | C94: 30.06.100 | D94: =$D$86 -> 4 | E94: . | F94: 8 | I94: =INDEX(#REF!,MATCH(A94,#REF!,0),0) -> #REF! | J94: =INDEX(#REF!,MATCH(A94,#REF!,0),0) -> #REF! | K94: 2 | L94: =INDEX(#REF!,MATCH(A94,#REF!,0),0) -> #REF! | M94: =1+$O$11 -> 1.25 | N94: =ROUND(L94*M94,2) -> #REF! | O94: =ROUND(K94*N94,2) -> #REF! | Q94: =INDEX(#REF!,MATCH(A94,#REF!,0),0) -> #REF! | R94: =1+$T$11 -> 1.2757 | S94: =ROUND(Q94*R94,2) -> #REF! | T94: =ROUND(K94*S94,2) -> #REF!
A95: =B95&C95 -> SIURB EDIF13080061 | B95: SIURB EDIF | C95: 13080061 | D95: =$D$86 -> 4 | E95: . | F95: 9 | I95: =INDEX(#REF!,MATCH(A95,#REF!,0),0) -> #REF! | J95: =INDEX(#REF!,MATCH(A95,#REF!,0),0) -> #REF! | K95: 207.99 | L95: =INDEX(#REF!,MATCH(A95,#REF!,0),0) -> #REF! | M95: =1+$O$11 -> 1.25 | N95: =ROUND(L95*M95,2) -> #REF! | O95: =ROUND(K95*N95,2) -> #REF! | Q95: =INDEX(#REF!,MATCH(A95,#REF!,0),0) -> #REF! | R95: =1+$T$11 -> 1.2757 | S95: =ROUND(Q95*R95,2) -> #REF! | T95: =ROUND(K95*S95,2) -> #REF!
A96: =B96&C96 -> SIURB EDIF13080070 | B96: SIURB EDIF | C96: 13080070 | D96: =$D$86 -> 4 | E96: . | F96: 10 | I96: =INDEX(#REF!,MATCH(A96,#REF!,0),0) -> #REF! | J96: =INDEX(#REF!,MATCH(A96,#REF!,0),0) -> #REF! | K96: 207.99 | L96: =INDEX(#REF!,MATCH(A96,#REF!,0),0) -> #REF! | M96: =1+$O$11 -> 1.25 | N96: =ROUND(L96*M96,2) -> #REF! | O96: =ROUND(K96*N96,2) -> #REF! | Q96: =INDEX(#REF!,MATCH(A96,#REF!,0),0) -> #REF! | R96: =1+$T$11 -> 1.2757 | S96: =ROUND(Q96*R96,2) -> #REF! | T96: =ROUND(K96*S96,2) -> #REF!
A97: =B97&C97 | I97: TOTAL DO ITEM | O97: =SUM(O87:O96) -> #REF! | T97: =SUM(T87:T96) -> #REF!
A98: =B98&C98 | D98: 5 | E98: . | F98: 0 | I98: LIMPEZA FINAL
A99: =B99&C99 -> SIURB EDIF17004001 | B99: SIURB EDIF | C99: 17004001 | D99: =D98 -> 5 | E99: . | F99: 1 | I99: =INDEX(#REF!,MATCH(A99,#REF!,0),0) -> #REF! | J99: =INDEX(#REF!,MATCH(A99,#REF!,0),0) -> #REF! | K99: =#REF! -> #REF! | L99: =INDEX(#REF!,MATCH(A99,#REF!,0),0) -> #REF! | M99: =1+$O$11 -> 1.25 | N99: =ROUND(L99*M99,2) -> #REF! | O99: =ROUND(K99*N99,2) -> #REF! | Q99: =INDEX(#REF!,MATCH(A99,#REF!,0),0) -> #REF! | R99: =1+$T$11 -> 1.2757 | S99: =ROUND(Q99*R99,2) -> #REF! | T99: =ROUND(K99*S99,2) -> #REF!
A100: =B100&C100 | I100: TOTAL DO ITEM | O100: =SUM(O99) -> #REF! | T100: =SUM(T99) -> #REF!
I102: SOMATORIA ITEM 2.0 A 5.0 PARA INSTALAÇÕES | O102: =SUM(O100,O97,O85,O41) -> #REF! | S102: SOMATORIA ITEM 2.0 A 8.0 PARA EVENTUAIS | T102: =SUM(T100,T97,T85,T41,T19) -> #REF!
A103: =B103&C103 | D103: 6 | E103: . | F103: 0 | I103: INSTALAÇÕES
D104: =D103 -> 6 | E104: . | F104: 1 | I104: INSTALAÇÕES HIDRAULICAS | J104: % | K104: 0.02 | L104: =O102 -> #REF! | N104: =L104*K104 -> #REF! | O104: =N104 -> #REF! | Q104: 2 | R104: =1+$T$11 -> 1.2757 | S104: =T102*P104 -> #REF! | T104: =ROUND(K104*S104,2) -> #REF!
A105: =B105&C105 | I105: TOTAL DO ITEM | O105: =SUM(O104) -> #REF! | T105: =SUM(T104) -> #REF!
I107: SOMATORIA ITEM 2.0 A 6.0 PARA SERVIÇOS EVENTUAIS | O107: =SUM(O105,O102) -> #REF! | S107: SOMATORIA ITEM 2.0 A 8.0 PARA EVENTUAIS | T107: =SUM(T105,T102) -> #REF!
A108: =B108&C108 | D108: 7 | E108: . | F108: 0 | I108: SERVIÇOS EVENTUAIS
...

Sheet PQPU PAREDE DE GESSO
Q2: DESONERADO
D6: PQPU - PLANILHA DE QUANTIDADES E PREÇOS UNITÁRIOS
D8: OBRA: | I8: REFORMA UBS SANTO ANGELO
D9: LOCAL: | I9: RUA SÃO SIMÃO, 59 - CONJ. RES. SANTO ANGELO, MOGI DAS CRUZES - SP, 08763-240
N10: DATA: | O10: JUN/2024 | S10: DATA: | T10: JUL/2022
I11: PLANILHA DE QUANTIDADES E PREÇOS UNITÁRIOS SEM DESONERAÇÃO | N11: BDI: | O11: 0.25 | S11: BDI: | T11: 0.2757
A12: COD-REF | B12: REF | C12: CÓDIGO | G12: ITEM | I12: DESCRIÇÃO DOS SERVIÇOS | J12: UN | K12: QUANTIDADE | L12: $ UNITÁRIO S/ BDI | M12: BDI | N12: PREÇO UNITÁRIO | O12: PREÇO TOTAL | Q12: $ UNITÁRIO S/ BDI | R12: BDI | S12: PREÇO UNITÁRIO | T12: PREÇO TOTAL
A14: =B14&C14 | D14: 1 | E14: . | F14: 0 | I14: SERVIÇOS PRELIMINARES
A15: =B15&C15 -> SIURB EDIF17030002 | B15: SIURB EDIF | C15: 17030002 | D15: =$D$14 -> 1 | E15: . | F15: =F14+1 -> 1 | I15: =INDEX(#REF!,MATCH(A15,#REF!,0),0) -> #REF! | J15: =INDEX(#REF!,MATCH(A15,#REF!,0),0) -> #REF! | K15: =#REF! -> #REF! | L15: =INDEX(#REF!,MATCH(A15,#REF!,0),0) -> #REF! | M15: =1+$O$11 -> 1.25 | N15: =ROUND(L15*M15,2) -> #REF! | O15: =ROUND(K15*N15,2) -> #REF! | Q15: =INDEX(#REF!,MATCH(A15,#REF!,0),0) -> #REF! | R15: =1+$T$11 -> 1.2757 | S15: =Q15*K15 -> #REF! | T15: =S15 -> #REF!
A16: =B16&C16 -> SIURB EDIF17045001 | B16: SIURB EDIF | C16: 17045001 | D16: =$D$14 -> 1 | E16: . | F16: =F15+1 -> 2 | I16: =INDEX(#REF!,MATCH(A16,#REF!,0),0) -> #REF! | J16: =INDEX(#REF!,MATCH(A16,#REF!,0),0) -> #REF! | K16: =#REF! -> #REF! | L16: =INDEX(#REF!,MATCH(A16,#REF!,0),0) -> #REF! | M16: =1+$O$11 -> 1.25 | N16: =ROUND(L16*M16,2) -> #REF! | O16: =ROUND(K16*N16,2) -> #REF! | Q16: =INDEX(#REF!,MATCH(A16,#REF!,0),0) -> #REF! | R16: =1+$T$11 -> 1.2757 | S16: =Q16*K16 -> #REF! | T16: =S16 -> #REF!
A17: =B17&C17 -> SIURB EDIF17045002 | B17: SIURB EDIF | C17: 17045002 | D17: =$D$14 -> 1 | E17: . | F17: =F16+1 -> 3 | I17: =INDEX(#REF!,MATCH(A17,#REF!,0),0) -> #REF! | J17: =INDEX(#REF!,MATCH(A17,#REF!,0),0) -> #REF! | K17: =#REF! -> #REF! | L17: =INDEX(#REF!,MATCH(A17,#REF!,0),0) -> #REF! | M17: =1+$O$11 -> 1.25 | N17: =ROUND(L17*M17,2) -> #REF! | O17: =ROUND(K17*N17,2) -> #REF! | Q17: =INDEX(#REF!,MATCH(A17,#REF!,0),0) -> #REF! | R17: =1+$T$11 -> 1.2757 | S17: =Q17*K17 -> #REF! | T17: =S17 -> #REF!
A18: =B18&C18 -> SIURB EDIF20003061 | B18: SIURB EDIF | C18: 20003061 | D18: =$D$14 -> 1 | E18: . | F18: =F17+1 -> 4 | I18: =INDEX(#REF!,MATCH(A18,#REF!,0),0) -> #REF! | J18: =INDEX(#REF!,MATCH(A18,#REF!,0),0) -> #REF! | K18: =#REF! -> #REF! | L18: =INDEX(#REF!,MATCH(A18,#REF!,0),0) -> #REF! | M18: =1+$O$11 -> 1.25 | N18: =ROUND(L18*M18,2) -> #REF! | O18: =ROUND(K18*N18,2) -> #REF! | Q18: =INDEX(#REF!,MATCH(A18,#REF!,0),0) -> #REF! | R18: =1+$T$11 -> 1.2757 | S18: =ROUND(Q18*R18,2) -> #REF! | T18: =ROUND(K18*S18,2) -> #REF!
A19: =B19&C19 | I19: TOTAL DO ITEM | O19: =SUM(O15:O18) -> #REF! | T19: =SUM(T15:T18) -> #REF!
A20: =B20&C20 | D20: 2 | E20: . | F20: 0 | I20: DEMOLIÇÕES E RETIRADAS
D21: RECEPÇÃO
A22: =B22&C22 -> SIURB EDIF10060050 | B22: SIURB EDIF | C22: 10060050 | D22: =$D$20 -> 2 | E22: . | F22: 1 | I22: RETIRADA DE TAMPO | J22: =INDEX(#REF!,MATCH(A22,#REF!,0),0) -> #REF! | K22: =#REF! -> #REF! | L22: =INDEX(#REF!,MATCH(A22,#REF!,0),0) -> #REF! | M22: =1+$O$11 -> 1.25 | N22: =ROUND(L22*M22,2) -> #REF! | O22: =ROUND(K22*N22,2) -> #REF! | Q22: =INDEX(#REF!,MATCH(A22,#REF!,0),0) -> #REF! | R22: =1+$T$11 -> 1.2757 | S22: =ROUND(Q22*R22,2) -> #REF! | T22: =ROUND(K22*S22,2) -> #REF!
A23: =B23&C23 -> SIURB EDIF4050004 | B23: SIURB EDIF | C23: 4050004 | D23: =$D$20 -> 2 | E23: . | F23: 2 | I23: =INDEX(#REF!,MATCH(A23,#REF!,0),0) -> #REF! | J23: =INDEX(#REF!,MATCH(A23,#REF!,0),0) -> #REF! | K23: =#REF! -> #REF! | L23: =INDEX(#REF!,MATCH(A23,#REF!,0),0) -> #REF! | M23: =1+$O$11 -> 1.25 | N23: =ROUND(L23*M23,2) -> #REF! | O23: =ROUND(K23*N23,2) -> #REF! | Q23: =INDEX(#REF!,MATCH(A23,#REF!,0),0) -> #REF! | R23: =1+$T$11 -> 1.2757 | S23: =ROUND(Q23*R23,2) -> #REF! | T23: =ROUND(K23*S23,2) -> #REF!
A24: =B24&C24 -> CDHU04.14.020 | B24: CDHU | C24: 04.14.020 | D24: =$D$20 -> 2 | E24: . | F24: 3 | I24: =INDEX(#REF!,MATCH(A24,#REF!,0),0) -> #REF! | J24: =INDEX(#REF!,MATCH(A24,#REF!,0),0) -> #REF! | K24: =#REF! -> #REF! | L24: =INDEX(#REF!,MATCH(A24,#REF!,0),0) -> #REF! | M24: =1+$O$11 -> 1.25 | N24: =ROUND(L24*M24,2) -> #REF! | O24: =ROUND(K24*N24,2) -> #REF! | Q24: =INDEX(#REF!,MATCH(A24,#REF!,0),0) -> #REF! | R24: =1+$T$11 -> 1.2757 | S24: =ROUND(Q24*R24,2) -> #REF! | T24: =ROUND(K24*S24,2) -> #REF!
D25: FARMÁCIA
A26: =B26&C26 -> SIURB EDIF10060050 | B26: SIURB EDIF | C26: 10060050 | D26: =$D$20 -> 2 | E26: . | F26: 4 | I26: RETIRADA DE TAMPO | J26: =INDEX(#REF!,MATCH(A26,#REF!,0),0) -> #REF! | K26: =#REF! -> #REF! | L26: =INDEX(#REF!,MATCH(A26,#REF!,0),0) -> #REF! | M26: =1+$O$11 -> 1.25 | N26: =ROUND(L26*M26,2) -> #REF! | O26: =ROUND(K26*N26,2) -> #REF! | Q26: =INDEX(#REF!,MATCH(A26,#REF!,0),0) -> #REF! | R26: =1+$T$11 -> 1.2757 | S26: =ROUND(Q26*R26,2) -> #REF! | T26: =ROUND(K26*S26,2) -> #REF!
A27: =B27&C27 -> SIURB EDIF4050004 | B27: SIURB EDIF | C27: 4050004 | D27: =$D$20 -> 2 | E27: . | F27: 5 | I27: =INDEX(#REF!,MATCH(A27,#REF!,0),0) -> #REF! | J27: =INDEX(#REF!,MATCH(A27,#REF!,0),0) -> #REF! | K27: =#REF! -> #REF! | L27: =INDEX(#REF!,MATCH(A27,#REF!,0),0) -> #REF! | M27: =1+$O$11 -> 1.25 | N27: =ROUND(L27*M27,2) -> #REF! | O27: =ROUND(K27*N27,2) -> #REF! | Q27: =INDEX(#REF!,MATCH(A27,#REF!,0),0) -> #REF! | R27: =1+$T$11 -> 1.2757 | S27: =ROUND(Q27*R27,2) -> #REF! | T27: =ROUND(K27*S27,2) -> #REF!
A28: =B28&C28 -> CDHU04.14.020 | B28: CDHU | C28: 04.14.020 | D28: =$D$20 -> 2 | E28: . | F28: 6 | I28: =INDEX(#REF!,MATCH(A28,#REF!,0),0) -> #REF! | J28: =INDEX(#REF!,MATCH(A28,#REF!,0),0) -> #REF! | K28: =#REF! -> #REF! | L28: =INDEX(#REF!,MATCH(A28,#REF!,0),0) -> #REF! | M28: =1+$O$11 -> 1.25 | N28: =ROUND(L28*M28,2) -> #REF! | O28: =ROUND(K28*N28,2) -> #REF! | Q28: =INDEX(#REF!,MATCH(A28,#REF!,0),0) -> #REF! | R28: =1+$T$11 -> 1.2757 | S28: =ROUND(Q28*R28,2) -> #REF! | T28: =ROUND(K28*S28,2) -> #REF!
D29: COLETA
A30: =B30&C30 -> CDHU04.01.040 | B30: CDHU | C30: 04.01.040 | D30: =$D$20 -> 2 | E30: . | F30: =F28+1 -> 7 | I30: =INDEX(#REF!,MATCH(A30,#REF!,0),0) -> #REF! | J30: =INDEX(#REF!,MATCH(A30,#REF!,0),0) -> #REF! | K30: =#REF! -> #REF! | L30: =INDEX(#REF!,MATCH(A30,#REF!,0),0) -> #REF! | M30: =1+$O$11 -> 1.25 | N30: =ROUND(L30*M30,2) -> #REF! | O30: =ROUND(K30*N30,2) -> #REF! | Q30: =INDEX(#REF!,MATCH(A30,#REF!,0),0) -> #REF! | R30: =1+$T$11 -> 1.2757 | S30: =ROUND(Q30*R30,2) -> #REF! | T30: =ROUND(K30*S30,2) -> #REF!
D31: CIRCULAÇÃO (ACESSO RESTRITO)
A32: =B32&C32 -> CDHU04.01.040 | B32: CDHU | C32: 04.01.040 | D32: =$D$20 -> 2 | E32: . | F32: =F30+1 -> 8 | I32: =INDEX(#REF!,MATCH(A32,#REF!,0),0) -> #REF! | J32: =INDEX(#REF!,MATCH(A32,#REF!,0),0) -> #REF! | K32: =#REF! -> #REF! | L32: =INDEX(#REF!,MATCH(A32,#REF!,0),0) -> #REF! | M32: =1+$O$11 -> 1.25 | N32: =ROUND(L32*M32,2) -> #REF! | O32: =ROUND(K32*N32,2) -> #REF! | Q32: =INDEX(#REF!,MATCH(A32,#REF!,0),0) -> #REF! | R32: =1+$T$11 -> 1.2757 | S32: =ROUND(Q32*R32,2) -> #REF! | T32: =ROUND(K32*S32,2) -> #REF!
D33: AREA EXTERNA
A34: =B34&C34 -> SIURB EDIF17050015 | B34: SIURB EDIF | C34: 17050015 | D34: =$D$20 -> 2 | E34: . | F34: =F32+1 -> 9 | I34: =INDEX(#REF!,MATCH(A34,#REF!,0),0) -> #REF! | J34: =INDEX(#REF!,MATCH(A34,#REF!,0),0) -> #REF! | K34: =#REF! -> #REF! | L34: =INDEX(#REF!,MATCH(A34,#REF!,0),0) -> #REF! | M34: =1+$O$11 -> 1.25 | N34: =ROUND(L34*M34,2) -> #REF! | O34: =ROUND(K34*N34,2) -> #REF! | Q34: =INDEX(#REF!,MATCH(A34,#REF!,0),0) -> #REF! | R34: =1+$T$11 -> 1.2757 | S34: =ROUND(Q34*R34,2) -> #REF! | T34: =ROUND(K34*S34,2) -> #REF!
D35: CALÇADA/ESTACIONAMENTO
A36: =B36&C36 -> SIURB EDIF13050001 | B36: SIURB EDIF | C36: 13050001 | D36: =$D$20 -> 2 | E36: . | F36: =F34+1 -> 10 | I36: =INDEX(#REF!,MATCH(A36,#REF!,0),0) -> #REF! | J36: =INDEX(#REF!,MATCH(A36,#REF!,0),0) -> #REF! | K36: =#REF! -> #REF! | L36: =INDEX(#REF!,MATCH(A36,#REF!,0),0) -> #REF! | M36: =1+$O$11 -> 1.25 | N36: =ROUND(L36*M36,2) -> #REF! | O36: =ROUND(K36*N36,2) -> #REF! | Q36: =INDEX(#REF!,MATCH(A36,#REF!,0),0) -> #REF! | R36: =1+$T$11 -> 1.2757 | S36: =ROUND(Q36*R36,2) -> #REF! | T36: =ROUND(K36*S36,2) -> #REF!
D37: RESERVATÓRIOS
A38: =B38&C38 -> FDE08.60.013 | B38: FDE | C38: 08.60.013 | D38: =$D$20 -> 2 | E38: . | F38: =F36+1 -> 11 | I38: =INDEX(#REF!,MATCH(A38,#REF!,0),0) -> #REF! | J38: =INDEX(#REF!,MATCH(A38,#REF!,0),0) -> #REF! | K38: =#REF! -> #REF! | L38: =INDEX(#REF!,MATCH(A38,#REF!,0),0) -> #REF! | M38: =1+$O$11 -> 1.25 | N38: =ROUND(L38*M38,2) -> #REF! | O38: =ROUND(K38*N38,2) -> #REF! | Q38: =INDEX(#REF!,MATCH(A38,#REF!,0),0) -> #REF! | R38: =1+$T$11 -> 1.2757 | S38: =ROUND(Q38*R38,2) -> #REF! | T38: =ROUND(K38*S38,2) -> #REF!
D39: BOTA-FORA
A40: =B40&C40 -> SIURB EDIF1001007 | B40: SIURB EDIF | C40: 1001007 | D40: =$D$20 -> 2 | E40: . | F40: =F38+1 -> 12 | I40: =INDEX(#REF!,MATCH(A40,#REF!,0),0) -> #REF! | J40: =INDEX(#REF!,MATCH(A40,#REF!,0),0) -> #REF! | K40: =#REF! -> #REF! | L40: =INDEX(#REF!,MATCH(A40,#REF!,0),0) -> #REF! | M40: =1+$O$11 -> 1.25 | N40: =ROUND(L40*M40,2) -> #REF! | O40: =ROUND(K40*N40,2) -> #REF! | Q40: =INDEX(#REF!,MATCH(A40,#REF!,0),0) -> #REF! | R40: =1+$T$11 -> 1.2757 | S40: =ROUND(Q40*R40,2) -> #REF! | T40: =ROUND(K40*S40,2) -> #REF!
A41: =B41&C41 | I41: TOTAL DO ITEM | O41: =SUM(O23:O40) -> #REF! | T41: =SUM(T23:T40) -> #REF!
A42: =B42&C42 | D42: 3 | E42: . | F42: 0 | I42: CONSTRUÇÃO
D43: RECEPÇÃO
A44: =B44&C44 -> SIURB EDIF10014075 | B44: SIURB EDIF | C44: 10014075 | D44: =$D$42 -> 3 | E44: . | F44: 1 | I44: =INDEX(#REF!,MATCH(A44,#REF!,0),0) -> #REF! | J44: =INDEX(#REF!,MATCH(A44,#REF!,0),0) -> #REF! | K44: =#REF! -> #REF! | L44: =INDEX(#REF!,MATCH(A44,#REF!,0),0) -> #REF! | M44: =1+$O$11 -> 1.25 | N44: =ROUND(L44*M44,2) -> #REF! | O44: =ROUND(K44*N44,2) -> #REF! | Q44: =INDEX(#REF!,MATCH(A44,#REF!,0),0) -> #REF! | R44: =1+$T$11 -> 1.2757 | S44: =ROUND(Q44*R44,2) -> #REF! | T44: =ROUND(K44*S44,2) -> #REF!
A45: =B45&C45 -> SIURB EDIF13002043 | B45: SIURB EDIF | C45: 13002043 | D45: =$D$42 -> 3 | E45: . | F45: 2 | I45: =INDEX(#REF!,MATCH(A45,#REF!,0),0) -> #REF! | J45: =INDEX(#REF!,MATCH(A45,#REF!,0),0) -> #REF! | K45: =#REF! -> #REF! | L45: =INDEX(#REF!,MATCH(A45,#REF!,0),0) -> #REF! | M45: =1+$O$11 -> 1.25 | N45: =ROUND(L45*M45,2) -> #REF! | O45: =ROUND(K45*N45,2) -> #REF! | Q45: =INDEX(#REF!,MATCH(A45,#REF!,0),0) -> #REF! | R45: =1+$T$11 -> 1.2757 | S45: =ROUND(Q45*R45,2) -> #REF! | T45: =ROUND(K45*S45,2) -> #REF!
A46: =B46&C46 -> CDHU26.20.020 | B46: CDHU | C46: 26.20.020 | D46: =$D$42 -> 3 | E46: . | F46: 3 | I46: =INDEX(#REF!,MATCH(A46,#REF!,0),0) -> #REF! | J46: =INDEX(#REF!,MATCH(A46,#REF!,0),0) -> #REF! | K46: =#REF! -> #REF! | L46: =INDEX(#REF!,MATCH(A46,#REF!,0),0) -> #REF! | M46: =1+$O$11 -> 1.25 | N46: =ROUND(L46*M46,2) -> #REF! | O46: =ROUND(K46*N46,2) -> #REF! | Q46: =INDEX(#REF!,MATCH(A46,#REF!,0),0) -> #REF! | R46: =1+$T$11 -> 1.2757 | S46: =ROUND(Q46*R46,2) -> #REF! | T46: =ROUND(K46*S46,2) -> #REF!
D47: FARMÁCIA
A48: =B48&C48 -> SIURB EDIF10014075 | B48: SIURB EDIF | C48: 10014075 | D48: =$D$42 -> 3 | E48: . | F48: 4 | I48: =INDEX(#REF!,MATCH(A48,#REF!,0),0) -> #REF! | J48: =INDEX(#REF!,MATCH(A48,#REF!,0),0) -> #REF! | K48: =#REF! -> #REF! | L48: =INDEX(#REF!,MATCH(A48,#REF!,0),0) -> #REF! | M48: =1+$O$11 -> 1.25 | N48: =ROUND(L48*M48,2) -> #REF! | O48: =ROUND(K48*N48,2) -> #REF! | Q48: =INDEX(#REF!,MATCH(A48,#REF!,0),0) -> #REF! | R48: =1+$T$11 -> 1.2757 | S48: =ROUND(Q48*R48,2) -> #REF! | T48: =ROUND(K48*S48,2) -> #REF!
A49: =B49&C49 -> SIURB EDIF13002043 | B49: SIURB EDIF | C49: 13002043 | D49: =$D$42 -> 3 | E49: . | F49: 5 | I49: =INDEX(#REF!,MATCH(A49,#REF!,0),0) -> #REF! | J49: =INDEX(#REF!,MATCH(A49,#REF!,0),0) -> #REF! | K49: =#REF! -> #REF! | L49: =INDEX(#REF!,MATCH(A49,#REF!,0),0) -> #REF! | M49: =1+$O$11 -> 1.25 | N49: =ROUND(L49*M49,2) -> #REF! | O49: =ROUND(K49*N49,2) -> #REF! | Q49: =INDEX(#REF!,MATCH(A49,#REF!,0),0) -> #REF! | R49: =1+$T$11 -> 1.2757 | S49: =ROUND(Q49*R49,2) -> #REF! | T49: =ROUND(K49*S49,2) -> #REF!
A50: =B50&C50 -> CDHU26.20.020 | B50: CDHU | C50: 26.20.020 | D50: =$D$42 -> 3 | E50: . | F50: 6 | I50: =INDEX(#REF!,MATCH(A50,#REF!,0),0) -> #REF! | J50: =INDEX(#REF!,MATCH(A50,#REF!,0),0) -> #REF! | K50: =#REF! -> #REF! | L50: =INDEX(#REF!,MATCH(A50,#REF!,0),0) -> #REF! | M50: =1+$O$11 -> 1.25 | N50: =ROUND(L50*M50,2) -> #REF! | O50: =ROUND(K50*N50,2) -> #REF! | Q50: =INDEX(#REF!,MATCH(A50,#REF!,0),0) -> #REF! | R50: =1+$T$11 -> 1.2757 | S50: =ROUND(Q50*R50,2) -> #REF! | T50: =ROUND(K50*S50,2) -> #REF!
D51: COLETA
A52: =B52&C52 -> SIURB EDIF4001051 | B52: SIURB EDIF | C52: 4001051 | D52: =$D$42 -> 3 | E52: . | F52: 7 | I52: =INDEX(#REF!,MATCH(A52,#REF!,0),0) -> #REF! | J52: =INDEX(#REF!,MATCH(A52,#REF!,0),0) -> #REF! | K52: =#REF! -> #REF! | L52: =INDEX(#REF!,MATCH(A52,#REF!,0),0) -> #REF! | M52: =1+$O$11 -> 1.25 | N52: =ROUND(L52*M52,2) -> #REF! | O52: =ROUND(K52*N52,2) -> #REF! | Q52: =INDEX(#REF!,MATCH(A52,#REF!,0),0) -> #REF! | R52: =1+$T$11 -> 1.2757 | S52: =ROUND(Q52*R52,2) -> #REF! | T52: =ROUND(K52*S52,2) -> #REF!
A53: =B53&C53 -> SIURB EDIF11002001 | B53: SIURB EDIF | C53: 11002001 | D53: =$D$42 -> 3 | E53: . | F53: 8 | I53: =INDEX(#REF!,MATCH(A53,#REF!,0),0) -> #REF! | J53: =INDEX(#REF!,MATCH(A53,#REF!,0),0) -> #REF! | K53: =#REF! -> #REF! | L53: =INDEX(#REF!,MATCH(A53,#REF!,0),0) -> #REF! | M53: =1+$O$11 -> 1.25 | N53: =ROUND(L53*M53,2) -> #REF! | O53: =ROUND(K53*N53,2) -> #REF! | Q53: =INDEX(#REF!,MATCH(A53,#REF!,0),0) -> #REF! | R53: =1+$T$11 -> 1.2757 | S53: =ROUND(Q53*R53,2) -> #REF! | T53: =ROUND(K53*S53,2) -> #REF!
A54: =B54&C54 -> SIURB EDIF11002010 | B54: SIURB EDIF | C54: 11002010 | D54: =$D$42 -> 3 | E54: . | F54: 9 | I54: =INDEX(#REF!,MATCH(A54,#REF!,0),0) -> #REF! | J54: =INDEX(#REF!,MATCH(A54,#REF!,0),0) -> #REF! | K54: =#REF! -> #REF! | L54: =INDEX(#REF!,MATCH(A54,#REF!,0),0) -> #REF! | M54: =1+$O$11 -> 1.25 | N54: =ROUND(L54*M54,2) -> #REF! | O54: =ROUND(K54*N54,2) -> #REF! | Q54: =INDEX(#REF!,MATCH(A54,#REF!,0),0) -> #REF! | R54: =1+$T$11 -> 1.2757 | S54: =ROUND(Q54*R54,2) -> #REF! | T54: =ROUND(K54*S54,2) -> #REF!
A55: =B55&C55 -> SIURB EDIF13003004 | B55: SIURB EDIF | C55: 13003004 | D55: =$D$42 -> 3 | E55: . | F55: 10 | I55: =INDEX(#REF!,MATCH(A55,#REF!,0),0) -> #REF! | J55: =INDEX(#REF!,MATCH(A55,#REF!,0),0) -> #REF! | K55: =#REF! -> #REF! | L55: =INDEX(#REF!,MATCH(A55,#REF!,0),0) -> #REF! | M55: =1+$O$11 -> 1.25 | N55: =ROUND(L55*M55,2) -> #REF! | O55: =ROUND(K55*N55,2) -> #REF! | Q55: =INDEX(#REF!,MATCH(A55,#REF!,0),0) -> #REF! | R55: =1+$T$11 -> 1.2757 | S55: =ROUND(Q55*R55,2) -> #REF! | T55: =ROUND(K55*S55,2) -> #REF!
A56: =B56&C56 -> CDHU14.30.260 | B56: CDHU | C56: 14.30.260 | D56: =$D$42 -> 3 | E56: . | F56: 11 | I56: =INDEX(#REF!,MATCH(A56,#REF!,0),0) -> #REF! | J56: =INDEX(#REF!,MATCH(A56,#REF!,0),0) -> #REF! | K56: =#REF! -> #REF! | L56: =INDEX(#REF!,MATCH(A56,#REF!,0),0) -> #REF! | M56: =1+$O$11 -> 1.25 | N56: =ROUND(L56*M56,2) -> #REF! | O56: =ROUND(K56*N56,2) -> #REF! | Q56: =INDEX(#REF!,MATCH(A56,#REF!,0),0) -> #REF! | R56: =1+$T$11 -> 1.2757 | S56: =ROUND(Q56*R56,2) -> #REF! | T56: =ROUND(K56*S56,2) -> #REF!
A57: =B57&C57 -> SIURB EDIF7001050 | B57: SIURB EDIF | C57: 7001050 | D57: =$D$42 -> 3 | E57: . | F57: 12 | I57: =INDEX(#REF!,MATCH(A57,#REF!,0),0) -> #REF! | J57: =INDEX(#REF!,MATCH(A57,#REF!,0),0) -> #REF! | K57: =#REF! -> #REF! | L57: =INDEX(#REF!,MATCH(A57,#REF!,0),0) -> #REF! | M57: =1+$O$11 -> 1.25 | N57: =ROUND(L57*M57,2) -> #REF! | O57: =ROUND(K57*N57,2) -> #REF! | Q57: =INDEX(#REF!,MATCH(A57,#REF!,0),0) -> #REF! | R57: =1+$T$11 -> 1.2757 | S57: =ROUND(Q57*R57,2) -> #REF! | T57: =ROUND(K57*S57,2) -> #REF!
A58: =B58&C58 -> SIURB EDIF7001008 | B58: SIURB EDIF | C58: 7001008 | D58: =$D$42 -> 3 | E58: . | F58: 13 | I58: =INDEX(#REF!,MATCH(A58,#REF!,0),0) -> #REF! | J58: =INDEX(#REF!,MATCH(A58,#REF!,0),0) -> #REF! | K58: =#REF! -> #REF! | L58: =INDEX(#REF!,MATCH(A58,#REF!,0),0) -> #REF! | M58: =1+$O$11 -> 1.25 | N58: =ROUND(L58*M58,2) -> #REF! | O58: =ROUND(K58*N58,2) -> #REF! | Q58: =INDEX(#REF!,MATCH(A58,#REF!,0),0) -> #REF! | R58: =1+$T$11 -> 1.2757 | S58: =ROUND(Q58*R58,2) -> #REF! | T58: =ROUND(K58*S58,2) -> #REF!
A59: =B59&C59 -> SIURB EDIF7002010 | B59: SIURB EDIF | C59: 7002010 | D59: =$D$42 -> 3 | E59: . | F59: 14 | I59: =INDEX(#REF!,MATCH(A59,#REF!,0),0) -> #REF! | J59: =INDEX(#REF!,MATCH(A59,#REF!,0),0) -> #REF! | K59: =#REF! -> #REF! | L59: =INDEX(#REF!,MATCH(A59,#REF!,0),0) -> #REF! | M59: =1+$O$11 -> 1.25 | N59: =ROUND(L59*M59,2) -> #REF! | O59: =ROUND(K59*N59,2) -> #REF! | Q59: =INDEX(#REF!,MATCH(A59,#REF!,0),0) -> #REF! | R59: =1+$T$11 -> 1.2757 | S59: =ROUND(Q59*R59,2) -> #REF! | T59: =ROUND(K59*S59,2) -> #REF!
D60: CIRCULAÇÃO
A61: =B61&C61 -> SIURB EDIF4001051 | B61: SIURB EDIF | C61: 4001051 | D61: =$D$42 -> 3 | E61: . | F61: 15 | I61: =INDEX(#REF!,MATCH(A61,#REF!,0),0) -> #REF! | J61: =INDEX(#REF!,MATCH(A61,#REF!,0),0) -> #REF! | K61: =#REF! -> #REF! | L61: =INDEX(#REF!,MATCH(A61,#REF!,0),0) -> #REF! | M61: =1+$O$11 -> 1.25 | N61: =ROUND(L61*M61,2) -> #REF! | O61: =ROUND(K61*N61,2) -> #REF! | Q61: =INDEX(#REF!,MATCH(A61,#REF!,0),0) -> #REF! | R61: =1+$T$11 -> 1.2757 | S61: =ROUND(Q61*R61,2) -> #REF! | T61: =ROUND(K61*S61,2) -> #REF!
A62: =B62&C62 -> SIURB EDIF11002001 | B62: SIURB EDIF | C62: 11002001 | D62: =$D$42 -> 3 | E62: . | F62: 16 | I62: =INDEX(#REF!,MATCH(A62,#REF!,0),0) -> #REF! | J62: =INDEX(#REF!,MATCH(A62,#REF!,0),0) -> #REF! | K62: =#REF! -> #REF! | L62: =INDEX(#REF!,MATCH(A62,#REF!,0),0) -> #REF! | M62: =1+$O$11 -> 1.25 | N62: =ROUND(L62*M62,2) -> #REF! | O62: =ROUND(K62*N62,2) -> #REF! | Q62: =INDEX(#REF!,MATCH(A62,#REF!,0),0) -> #REF! | R62: =1+$T$11 -> 1.2757 | S62: =ROUND(Q62*R62,2) -> #REF! | T62: =ROUND(K62*S62,2) -> #REF!
A63: =B63&C63 -> SIURB EDIF11002010 | B63: SIURB EDIF | C63: 11002010 | D63: =$D$42 -> 3 | E63: . | F63: 17 | I63: =INDEX(#REF!,MATCH(A63,#REF!,0),0) -> #REF! | J63: =INDEX(#REF!,MATCH(A63,#REF!,0),0) -> #REF! | K63: =#REF! -> #REF! | L63: =INDEX(#REF!,MATCH(A63,#REF!,0),0) -> #REF! | M63: =1+$O$11 -> 1.25 | N63: =ROUND(L63*M63,2) -> #REF! | O63: =ROUND(K63*N63,2) -> #REF! | Q63: =INDEX(#REF!,MATCH(A63,#REF!,0),0) -> #REF! | R63: =1+$T$11 -> 1.2757 | S63: =ROUND(Q63*R63,2) -> #REF! | T63: =ROUND(K63*S63,2) -> #REF!
A64: =B64&C64 -> SIURB EDIF13003004 | B64: SIURB EDIF | C64: 13003004 | D64: =$D$42 -> 3 | E64: . | F64: 18 | I64: =INDEX(#REF!,MATCH(A64,#REF!,0),0) -> #REF! | J64: =INDEX(#REF!,MATCH(A64,#REF!,0),0) -> #REF! | K64: =#REF! -> #REF! | L64: =INDEX(#REF!,MATCH(A64,#REF!,0),0) -> #REF! | M64: =1+$O$11 -> 1.25 | N64: =ROUND(L64*M64,2) -> #REF! | O64: =ROUND(K64*N64,2) -> #REF! | Q64: =INDEX(#REF!,MATCH(A64,#REF!,0),0) -> #REF! | R64: =1+$T$11 -> 1.2757 | S64: =ROUND(Q64*R64,2) -> #REF! | T64: =ROUND(K64*S64,2) -> #REF!
A65: =B65&C65 -> CDHU14.30.260 | B65: CDHU | C65: 14.30.260 | D65: =$D$42 -> 3 | E65: . | F65: 19 | I65: =INDEX(#REF!,MATCH(A65,#REF!,0),0) -> #REF! | J65: =INDEX(#REF!,MATCH(A65,#REF!,0),0) -> #REF! | K65: =#REF! -> #REF! | L65: =INDEX(#REF!,MATCH(A65,#REF!,0),0) -> #REF! | M65: =1+$O$11 -> 1.25 | N65: =ROUND(L65*M65,2) -> #REF! | O65: =ROUND(K65*N65,2) -> #REF! | Q65: =INDEX(#REF!,MATCH(A65,#REF!,0),0) -> #REF! | R65: =1+$T$11 -> 1.2757 | S65: =ROUND(Q65*R65,2) -> #REF! | T65: =ROUND(K65*S65,2) -> #REF!
D66: CIRCULAÇÃO (ACESSO RESTRITO)
A67: =B67&C67 -> SIURB EDIF4001051 | B67: SIURB EDIF | C67: 4001051 | D67: =$D$42 -> 3 | E67: . | F67: 20 | I67: =INDEX(#REF!,MATCH(A67,#REF!,0),0) -> #REF! | J67: =INDEX(#REF!,MATCH(A67,#REF!,0),0) -> #REF! | K67: =#REF! -> #REF! | L67: =INDEX(#REF!,MATCH(A67,#REF!,0),0) -> #REF! | M67: =1+$O$11 -> 1.25 | N67: =ROUND(L67*M67,2) -> #REF! | O67: =ROUND(K67*N67,2) -> #REF! | Q67: =INDEX(#REF!,MATCH(A67,#REF!,0),0) -> #REF! | R67: =1+$T$11 -> 1.2757 | S67: =ROUND(Q67*R67,2) -> #REF! | T67: =ROUND(K67*S67,2) -> #REF!
A68: =B68&C68 -> SIURB EDIF11002001 | B68: SIURB EDIF | C68: 11002001 | D68: =$D$42 -> 3 | E68: . | F68: 21 | I68: =INDEX(#REF!,MATCH(A68,#REF!,0),0) -> #REF! | J68: =INDEX(#REF!,MATCH(A68,#REF!,0),0) -> #REF! | K68: =#REF! -> #REF! | L68: =INDEX(#REF!,MATCH(A68,#REF!,0),0) -> #REF! | M68: =1+$O$11 -> 1.25 | N68: =ROUND(L68*M68,2) -> #REF! | O68: =ROUND(K68*N68,2) -> #REF! | Q68: =INDEX(#REF!,MATCH(A68,#REF!,0),0) -> #REF! | R68: =1+$T$11 -> 1.2757 | S68: =ROUND(Q68*R68,2) -> #REF! | T68: =ROUND(K68*S68,2) -> #REF!
A69: =B69&C69 -> SIURB EDIF11002010 | B69: SIURB EDIF | C69: 11002010 | D69: =$D$42 -> 3 | E69: . | F69: 22 | I69: =INDEX(#REF!,MATCH(A69,#REF!,0),0) -> #REF! | J69: =INDEX(#REF!,MATCH(A69,#REF!,0),0) -> #REF! | K69: =#REF! -> #REF! | L69: =INDEX(#REF!,MATCH(A69,#REF!,0),0) -> #REF! | M69: =1+$O$11 -> 1.25 | N69: =ROUND(L69*M69,2) -> #REF! | O69: =ROUND(K69*N69,2) -> #REF! | Q69: =INDEX(#REF!,MATCH(A69,#REF!,0),0) -> #REF! | R69: =1+$T$11 -> 1.2757 | S69: =ROUND(Q69*R69,2) -> #REF! | T69: =ROUND(K69*S69,2) -> #REF!
A70: =B70&C70 -> SIURB EDIF13003004 | B70: SIURB EDIF | C70: 13003004 | D70: =$D$42 -> 3 | E70: . | F70: 23 | I70: =INDEX(#REF!,MATCH(A70,#REF!,0),0) -> #REF! | J70: =INDEX(#REF!,MATCH(A70,#REF!,0),0) -> #REF! | K70: =#REF! -> #REF! | L70: =INDEX(#REF!,MATCH(A70,#REF!,0),0) -> #REF! | M70: =1+$O$11 -> 1.25 | N70: =ROUND(L70*M70,2) -> #REF! | O70: =ROUND(K70*N70,2) -> #REF! | Q70: =INDEX(#REF!,MATCH(A70,#REF!,0),0) -> #REF! | R70: =1+$T$11 -> 1.2757 | S70: =ROUND(Q70*R70,2) -> #REF! | T70: =ROUND(K70*S70,2) -> #REF!
A71: =B71&C71 -> CDHU14.30.260 | B71: CDHU | C71: 14.30.260 | D71: =$D$42 -> 3 | E71: . | F71: 24 | I71: =INDEX(#REF!,MATCH(A71,#REF!,0),0) -> #REF! | J71: =INDEX(#REF!,MATCH(A71,#REF!,0),0) -> #REF! | K71: =#REF! -> #REF! | L71: =INDEX(#REF!,MATCH(A71,#REF!,0),0) -> #REF! | M71: =1+$O$11 -> 1.25 | N71: =ROUND(L71*M71,2) -> #REF! | O71: =ROUND(K71*N71,2) -> #REF! | Q71: =INDEX(#REF!,MATCH(A71,#REF!,0),0) -> #REF! | R71: =1+$T$11 -> 1.2757 | S71: =ROUND(Q71*R71,2) -> #REF! | T71: =ROUND(K71*S71,2) -> #REF!
A72: =B72&C72 -> CDHU25.02.042 | B72: CDHU | C72: 25.02.042 | D72: =$D$42 -> 3 | E72: . | F72: 25 | I72: =INDEX(#REF!,MATCH(A72,#REF!,0),0) -> #REF! | J72: =INDEX(#REF!,MATCH(A72,#REF!,0),0) -> #REF! | K72: =#REF! -> #REF! | L72: =INDEX(#REF!,MATCH(A72,#REF!,0),0) -> #REF! | M72: =1+$O$11 -> 1.25 | N72: =ROUND(L72*M72,2) -> #REF! | O72: =ROUND(K72*N72,2) -> #REF! | Q72: =INDEX(#REF!,MATCH(A72,#REF!,0),0) -> #REF! | R72: =1+$T$11 -> 1.2757 | S72: =ROUND(Q72*R72,2) -> #REF! | T72: =ROUND(K72*S72,2) -> #REF!
A73: =B73&C73 -> SIURB EDIF7002012 | B73: SIURB EDIF | C73: 7002012 | D73: =$D$42 -> 3 | E73: . | F73: 26 | I73: =INDEX(#REF!,MATCH(A73,#REF!,0),0) -> #REF! | J73: =INDEX(#REF!,MATCH(A73,#REF!,0),0) -> #REF! | K73: =#REF! -> #REF! | L73: =INDEX(#REF!,MATCH(A73,#REF!,0),0) -> #REF! | M73: =1+$O$11 -> 1.25 | N73: =ROUND(L73*M73,2) -> #REF! | O73: =ROUND(K73*N73,2) -> #REF! | Q73: =INDEX(#REF!,MATCH(A73,#REF!,0),0) -> #REF! | R73: =1+$T$11 -> 1.2757 | S73: =ROUND(Q73*R73,2) -> #REF! | T73: =ROUND(K73*S73,2) -> #REF!
A74: =B74&C74 -> SIURB EDIF8080050 | B74: SIURB EDIF | C74: 8080050 | D74: =D73 -> 3 | E74: . | F74: 27 | I74: RECUPERAÇÃO/REFORMA DE ESQUADRIAS METALICAS COM FORNECIMENTO DE MATERIAIS E MAO DE OBRA (CHAPA, PERFIS, SOLDAS E ACESSÓRIOS) | J74: =INDEX(#REF!,MATCH(A74,#REF!,0),0) -> #REF! | K74: =#REF! -> #REF! | L74: =INDEX(#REF!,MATCH(A74,#REF!,0),0) -> #REF! | M74: =1+$O$11 -> 1.25 | N74: =ROUND(L74*M74,2) -> #REF! | O74: =ROUND(K74*N74,2) -> #REF! | Q74: =INDEX(#REF!,MATCH(A74,#REF!,0),0) -> #REF! | R74: =1+$T$11 -> 1.2757 | S74: =ROUND(Q74*R74,2) -> #REF! | T74: =ROUND(K74*S74,2) -> #REF!
D75: AREA EXTERNA
A76: =B76&C76 -> SIURB EDIF17001028 | B76: SIURB EDIF | C76: 17001028 | D76: =$D$42 -> 3 | E76: . | F76: 28 | I76: =INDEX(#REF!,MATCH(A76,#REF!,0),0) -> #REF! | J76: =INDEX(#REF!,MATCH(A76,#REF!,0),0) -> #REF! | K76: =#REF! -> #REF! | L76: =INDEX(#REF!,MATCH(A76,#REF!,0),0) -> #REF! | M76: =1+$O$11 -> 1.25 | N76: =ROUND(L76*M76,2) -> #REF! | O76: =ROUND(K76*N76,2) -> #REF! | Q76: =INDEX(#REF!,MATCH(A76,#REF!,0),0) -> #REF! | R76: =1+$T$11 -> 1.2757 | S76: =ROUND(Q76*R76,2) -> #REF! | T76: =ROUND(K76*S76,2) -> #REF!
D77: CALÇADA/ESTACIONAMENTO
A78: =B78&C78 -> SIURB EDIF17002046 | B78: SIURB EDIF | C78: 17002046 | D78: =$D$42 -> 3 | E78: . | F78: 29 | I78: =INDEX(#REF!,MATCH(A78,#REF!,0),0) -> #REF! | J78: =INDEX(#REF!,MATCH(A78,#REF!,0),0) -> #REF! | K78: =#REF! -> #REF! | L78: =INDEX(#REF!,MATCH(A78,#REF!,0),0) -> #REF! | M78: =1+$O$11 -> 1.25 | N78: =ROUND(L78*M78,2) -> #REF! | O78: =ROUND(K78*N78,2) -> #REF! | Q78: =INDEX(#REF!,MATCH(A78,#REF!,0),0) -> #REF! | R78: =1+$T$11 -> 1.2757 | S78: =ROUND(Q78*R78,2) -> #REF! | T78: =ROUND(K78*S78,2) -> #REF!
A79: =B79&C79 -> SIURB EDIF2005005 | B79: SIURB EDIF | C79: 2005005 | D79: =$D$42 -> 3 | E79: . | F79: 30 | I79: =INDEX(#REF!,MATCH(A79,#REF!,0),0) -> #REF! | J79: =INDEX(#REF!,MATCH(A79,#REF!,0),0) -> #REF! | K79: =#REF! -> #REF! | L79: =INDEX(#REF!,MATCH(A79,#REF!,0),0) -> #REF! | M79: =1+$O$11 -> 1.25 | N79: =ROUND(L79*M79,2) -> #REF! | O79: =ROUND(K79*N79,2) -> #REF! | Q79: =INDEX(#REF!,MATCH(A79,#REF!,0),0) -> #REF! | R79: =1+$T$11 -> 1.2757 | S79: =ROUND(Q79*R79,2) -> #REF! | T79: =ROUND(K79*S79,2) -> #REF!
A80: =B80&C80 -> SIURB EDIF3002009 | B80: SIURB EDIF | C80: 3002009 | D80: =$D$42 -> 3 | E80: . | F80: 31 | I80: =INDEX(#REF!,MATCH(A80,#REF!,0),0) -> #REF! | J80: =INDEX(#REF!,MATCH(A80,#REF!,0),0) -> #REF! | K80: =#REF! -> #REF! | L80: =INDEX(#REF!,MATCH(A80,#REF!,0),0) -> #REF! | M80: =1+$O$11 -> 1.25 | N80: =ROUND(L80*M80,2) -> #REF! | O80: =ROUND(K80*N80,2) -> #REF! | Q80: =INDEX(#REF!,MATCH(A80,#REF!,0),0) -> #REF! | R80: =1+$T$11 -> 1.2757 | S80: =ROUND(Q80*R80,2) -> #REF! | T80: =ROUND(K80*S80,2) -> #REF!
A81: =B81&C81 -> SIURB EDIF8080050 | B81: SIURB EDIF | C81: 8080050 | D81: =D79 -> 3 | E81: . | F81: 32 | I81: RECUPERAÇÃO/REFORMA DE ESQUADRIAS METALICAS COM FORNECIMENTO DE MATERIAIS E MAO DE OBRA (CHAPA, PERFIS, SOLDAS E ACESSÓRIOS) | J81: =INDEX(#REF!,MATCH(A81,#REF!,0),0) -> #REF! | K81: =#REF! -> #REF! | L81: =INDEX(#REF!,MATCH(A81,#REF!,0),0) -> #REF! | M81: =1+$O$11 -> 1.25 | N81: =ROUND(L81*M81,2) -> #REF! | O81: =ROUND(K81*N81,2) -> #REF! | Q81: =INDEX(#REF!,MATCH(A81,#REF!,0),0) -> #REF! | R81: =1+$T$11 -> 1.2757 | S81: =ROUND(Q81*R81,2) -> #REF! | T81: =ROUND(K81*S81,2) -> #REF!
D82: RESERVATÓRIOS
A83: =B83&C83 -> COMP SINAPI102624 | B83: COMP SINAPI | C83: 102624 | D83: =$D$42 -> 3 | E83: . | F83: 33 | I83: CAIXA D´ÁGUA EM POLIETILENO, 2000 LITROS, TIPO TANQUE COM TAMPA DE ROSCA (INCLUSOS TUBOS, CONEXÕES E TORNEIRA DE BÓIA) - FORNECIMENTO E INSTALAÇÃO. AF_06/2021 | J83: =INDEX(#REF!,MATCH(A83,#REF!,0),0) -> #REF! | K83: =#REF! -> #REF! | L83: =INDEX(#REF!,MATCH(A83,#REF!,0),0) -> #REF! | M83: =1+$O$11 -> 1.25 | N83: =ROUND(L83*M83,2) -> #REF! | O83: =ROUND(K83*N83,2) -> #REF! | Q83: =INDEX(#REF!,MATCH(A83,#REF!,0),0) -> #REF! | R83: =1+$T$11 -> 1.2757 | S83: =ROUND(Q83*R83,2) -> #REF! | T83: =ROUND(K83*S83,2) -> #REF!
A84: =B84&C84 -> SINAPI102623 | B84: SINAPI | C84: 102623 | D84: =$D$42 -> 3 | E84: . | F84: 34 | I84: CAIXA D´ÁGUA EM POLIETILENO, 1000 LITROS, TIPO TANQUE COM TAMPA DE ROSCA (INCLUSOS TUBOS, CONEXÕES E TORNEIRA DE BÓIA) - FORNECIMENTO E INSTALAÇÃO. AF_06/2021 | J84: =INDEX(#REF!,MATCH(A84,#REF!,0),0) -> #REF! | K84: =#REF! -> #REF! | L84: =INDEX(#REF!,MATCH(A84,#REF!,0),0) -> #REF! | M84: =1+$O$11 -> 1.25 | N84: =ROUND(L84*M84,2) -> #REF! | O84: =ROUND(K84*N84,2) -> #REF! | Q84: =INDEX(#REF!,MATCH(A84,#REF!,0),0) -> #REF! | R84: =1+$T$11 -> 1.2757 | S84: =ROUND(Q84*R84,2) -> #REF! | T84: =ROUND(K84*S84,2) -> #REF!
A85: =B85&C85 | I85: TOTAL DO ITEM | O85: =SUM(O44:O84) -> #REF! | T85: =SUM(T44:T84) -> #REF!
A86: =B86&C86 | D86: 4 | E86: . | F86: 0 | I86: PINTURA
A87: =B87&C87 -> CDHU33.02.080 | B87: CDHU | C87: 33.02.080 | D87: =D86 -> 4 | E87: . | F87: 1 | I87: =INDEX(#REF!,MATCH(A87,#REF!,0),0) -> #REF! | J87: =INDEX(#REF!,MATCH(A87,#REF!,0),0) -> #REF! | K87: =#REF! -> #REF! | L87: =INDEX(#REF!,MATCH(A87,#REF!,0),0) -> #REF! | M87: =1+$O$11 -> 1.25 | N87: =ROUND(L87*M87,2) -> #REF! | O87: =ROUND(K87*N87,2) -> #REF!
A88: =B88&C88 -> SIURB EDIF15001010 | B88: SIURB EDIF | C88: 15001010 | D88: =$D$86 -> 4 | E88: . | F88: 2 | I88: =INDEX(#REF!,MATCH(A88,#REF!,0),0) -> #REF! | J88: =INDEX(#REF!,MATCH(A88,#REF!,0),0) -> #REF! | K88: =#REF! -> #REF! | L88: =INDEX(#REF!,MATCH(A88,#REF!,0),0) -> #REF! | M88: =1+$O$11 -> 1.25 | N88: =ROUND(L88*M88,2) -> #REF! | O88: =ROUND(K88*N88,2) -> #REF! | P88: =1079+44 -> 1123 | Q88: =INDEX(#REF!,MATCH(A88,#REF!,0),0) -> #REF! | R88: =1+$T$11 -> 1.2757 | S88: =ROUND(Q88*R88,2) -> #REF! | T88: =ROUND(K88*S88,2) -> #REF!
A89: =B89&C89 -> SIURB EDIF15001015 | B89: SIURB EDIF | C89: 15001015 | D89: =$D$86 -> 4 | E89: . | F89: 3 | I89: =INDEX(#REF!,MATCH(A89,#REF!,0),0) -> #REF! | J89: =INDEX(#REF!,MATCH(A89,#REF!,0),0) -> #REF! | K89: =#REF! -> #REF! | L89: =INDEX(#REF!,MATCH(A89,#REF!,0),0) -> #REF! | M89: =1+$O$11 -> 1.25 | N89: =ROUND(L89*M89,2) -> #REF! | O89: =ROUND(K89*N89,2) -> #REF! | P89: =314-358 -> -44 | Q89: =INDEX(#REF!,MATCH(A89,#REF!,0),0) -> #REF! | R89: =1+$T$11 -> 1.2757 | S89: =ROUND(Q89*R89,2) -> #REF! | T89: =ROUND(K89*S89,2) -> #REF!
A90: =B90&C90 -> SIURB EDIF15001023 | B90: SIURB EDIF | C90: 15001023 | D90: =$D$86 -> 4 | E90: . | F90: 3 | I90: =INDEX(#REF!,MATCH(A90,#REF!,0),0) -> #REF! | J90: =INDEX(#REF!,MATCH(A90,#REF!,0),0) -> #REF! | K90: =#REF! -> #REF! | L90: =INDEX(#REF!,MATCH(A90,#REF!,0),0) -> #REF! | M90: =1+$O$11 -> 1.25 | N90: =ROUND(L90*M90,2) -> #REF! | O90: =ROUND(K90*N90,2) -> #REF! | P90: =314-358 -> -44 | Q90: =INDEX(#REF!,MATCH(A90,#REF!,0),0) -> #REF! | R90: =1+$T$11 -> 1.2757 | S90: =ROUND(Q90*R90,2) -> #REF! | T90: =ROUND(K90*S90,2) -> #REF!
A91: =B91&C91 -> SIURB EDIF15002010 | B91: SIURB EDIF | C91: 15002010 | D91: =$D$86 -> 4 | E91: . | F91: 4 | I91: =INDEX(#REF!,MATCH(A91,#REF!,0),0) -> #REF! | J91: =INDEX(#REF!,MATCH(A91,#REF!,0),0) -> #REF! | K91: =#REF! -> #REF! | L91: =INDEX(#REF!,MATCH(A91,#REF!,0),0) -> #REF! | M91: =1+$O$11 -> 1.25 | N91: =ROUND(L91*M91,2) -> #REF! | O91: =ROUND(K91*N91,2) -> #REF! | Q91: =INDEX(#REF!,MATCH(A91,#REF!,0),0) -> #REF! | R91: =1+$T$11 -> 1.2757 | S91: =ROUND(Q91*R91,2) -> #REF! | T91: =ROUND(K91*S91,2) -> #REF!
A92: =B92&C92 -> SIURB EDIF15003010 | B92: SIURB EDIF | C92: 15003010 | D92: =$D$86 -> 4 | E92: . | F92: 5 | I92: =INDEX(#REF!,MATCH(A92,#REF!,0),0) -> #REF! | J92: =INDEX(#REF!,MATCH(A92,#REF!,0),0) -> #REF! | K92: =#REF! -> #REF! | L92: =INDEX(#REF!,MATCH(A92,#REF!,0),0) -> #REF! | M92: =1+$O$11 -> 1.25 | N92: =ROUND(L92*M92,2) -> #REF! | O92: =ROUND(K92*N92,2) -> #REF! | Q92: =INDEX(#REF!,MATCH(A92,#REF!,0),0) -> #REF! | R92: =1+$T$11 -> 1.2757 | S92: =ROUND(Q92*R92,2) -> #REF! | T92: =ROUND(K92*S92,2) -> #REF!
A93: =B93&C93 -> CDHU33.06.020 | B93: CDHU | C93: 33.06.020 | D93: =$D$86 -> 4 | E93: . | F93: 6 | I93: =INDEX(#REF!,MATCH(A93,#REF!,0),0) -> #REF! | J93: =INDEX(#REF!,MATCH(A93,#REF!,0),0) -> #REF! | K93: =#REF! -> #REF! | L93: =INDEX(#REF!,MATCH(A93,#REF!,0),0) -> #REF! | M93: =1+$O$11 -> 1.25 | N93: =ROUND(L93*M93,2) -> #REF! | O93: =ROUND(K93*N93,2) -> #REF! | Q93: =INDEX(#REF!,MATCH(A93,#REF!,0),0) -> #REF! | R93: =1+$T$11 -> 1.2757 | S93: =ROUND(Q93*R93,2) -> #REF! | T93: =ROUND(K93*S93,2) -> #REF!
A94: =B94&C94 -> CDHU30.06.100 | B94: CDHU | C94: 30.06.100 | D94: =$D$86 -> 4 | E94: . | F94: 6 | I94: =INDEX(#REF!,MATCH(A94,#REF!,0),0) -> #REF! | J94: =INDEX(#REF!,MATCH(A94,#REF!,0),0) -> #REF! | K94: =#REF! -> #REF! | L94: =INDEX(#REF!,MATCH(A94,#REF!,0),0) -> #REF! | M94: =1+$O$11 -> 1.25 | N94: =ROUND(L94*M94,2) -> #REF! | O94: =ROUND(K94*N94,2) -> #REF! | Q94: =INDEX(#REF!,MATCH(A94,#REF!,0),0) -> #REF! | R94: =1+$T$11 -> 1.2757 | S94: =ROUND(Q94*R94,2) -> #REF! | T94: =ROUND(K94*S94,2) -> #REF!
A95: =B95&C95 -> SIURB EDIF13080061 | B95: SIURB EDIF | C95: 13080061 | D95: =$D$86 -> 4 | E95: . | F95: 7 | I95: =INDEX(#REF!,MATCH(A95,#REF!,0),0) -> #REF! | J95: =INDEX(#REF!,MATCH(A95,#REF!,0),0) -> #REF! | K95: =#REF! -> #REF! | L95: =INDEX(#REF!,MATCH(A95,#REF!,0),0) -> #REF! | M95: =1+$O$11 -> 1.25 | N95: =ROUND(L95*M95,2) -> #REF! | O95: =ROUND(K95*N95,2) -> #REF! | Q95: =INDEX(#REF!,MATCH(A95,#REF!,0),0) -> #REF! | R95: =1+$T$11 -> 1.2757 | S95: =ROUND(Q95*R95,2) -> #REF! | T95: =ROUND(K95*S95,2) -> #REF!
A96: =B96&C96 -> SIURB EDIF13080070 | B96: SIURB EDIF | C96: 13080070 | D96: =$D$86 -> 4 | E96: . | F96: 8 | I96: =INDEX(#REF!,MATCH(A96,#REF!,0),0) -> #REF! | J96: =INDEX(#REF!,MATCH(A96,#REF!,0),0) -> #REF! | K96: =#REF! -> #REF! | L96: =INDEX(#REF!,MATCH(A96,#REF!,0),0) -> #REF! | M96: =1+$O$11 -> 1.25 | N96: =ROUND(L96*M96,2) -> #REF! | O96: =ROUND(K96*N96,2) -> #REF! | Q96: =INDEX(#REF!,MATCH(A96,#REF!,0),0) -> #REF! | R96: =1+$T$11 -> 1.2757 | S96: =ROUND(Q96*R96,2) -> #REF! | T96: =ROUND(K96*S96,2) -> #REF!
A97: =B97&C97 | I97: TOTAL DO ITEM | O97: =SUM(O87:O96) -> #REF! | T97: =SUM(T87:T96) -> #REF!
A98: =B98&C98 | D98: 5 | E98: . | F98: 0 | I98: LIMPEZA FINAL
A99: =B99&C99 -> SIURB EDIF17004001 | B99: SIURB EDIF | C99: 17004001 | D99: =D98 -> 5 | E99: . | F99: 1 | I99: =INDEX(#REF!,MATCH(A99,#REF!,0),0) -> #REF! | J99: =INDEX(#REF!,MATCH(A99,#REF!,0),0) -> #REF! | K99: =#REF! -> #REF! | L99: =INDEX(#REF!,MATCH(A99,#REF!,0),0) -> #REF! | M99: =1+$O$11 -> 1.25 | N99: =ROUND(L99*M99,2) -> #REF! | O99: =ROUND(K99*N99,2) -> #REF! | Q99: =INDEX(#REF!,MATCH(A99,#REF!,0),0) -> #REF! | R99: =1+$T$11 -> 1.2757 | S99: =ROUND(Q99*R99,2) -> #REF! | T99: =ROUND(K99*S99,2) -> #REF!
A100: =B100&C100 | I100: TOTAL DO ITEM | O100: =SUM(O99) -> #REF! | T100: =SUM(T99) -> #REF!
I102: SOMATORIA ITEM 2.0 A 5.0 PARA INSTALAÇÕES | O102: =SUM(O100,O97,O85,O41) -> #REF! | S102: SOMATORIA ITEM 2.0 A 8.0 PARA EVENTUAIS | T102: =SUM(T100,T97,T85,T41,T19) -> #REF!
A103: =B103&C103 | D103: 6 | E103: . | F103: 0 | I103: INSTALAÇÕES
D104: =D103 -> 6 | E104: . | F104: 1 | I104: INSTALAÇÕES HIDRAULICAS | J104: % | K104: 0.02 | L104: =O102 -> #REF! | N104: =L104*K104 -> #REF! | O104: =N104 -> #REF! | Q104: 2 | R104: =1+$T$11 -> 1.2757 | S104: =T102*P104 -> #REF! | T104: =ROUND(K104*S104,2) -> #REF!
A105: =B105&C105 | I105: TOTAL DO ITEM | O105: =SUM(O104) -> #REF! | T105: =SUM(T104) -> #REF!
I107: SOMATORIA ITEM 2.0 A 6.0 PARA SERVIÇOS EVENTUAIS | O107: =SUM(O105,O102) -> #REF! | S107: SOMATORIA ITEM 2.0 A 8.0 PARA EVENTUAIS | T107: =SUM(T105,T102) -> #REF!
A108: =B108&C108 | D108: 7 | E108: . | F108: 0 | I108: SERVIÇOS EVENTUAIS
...

Sheet PQPU EUCATEX
Q2: DESONERADO
D6: PQPU - PLANILHA DE QUANTIDADES E PREÇOS UNITÁRIOS
D8: OBRA: | I8: REFORMA UBS SANTO ANGELO
D9: LOCAL: | I9: RUA SÃO SIMÃO, 59 - CONJ. RES. SANTO ANGELO, MOGI DAS CRUZES - SP, 08763-240
N10: DATA: | O10: MAIO/2024 | S10: DATA: | T10: JUL/2022
I11: PLANILHA DE QUANTIDADES E PREÇOS UNITÁRIOS SEM DESONERAÇÃO | N11: BDI: | O11: 0.25 | S11: BDI: | T11: 0.2757
A12: COD-REF | B12: REF | C12: CÓDIGO | G12: ITEM | I12: DESCRIÇÃO DOS SERVIÇOS | J12: UN | K12: QUANTIDADE | L12: $ UNITÁRIO S/ BDI | M12: BDI | N12: PREÇO UNITÁRIO | O12: PREÇO TOTAL | Q12: $ UNITÁRIO S/ BDI | R12: BDI | S12: PREÇO UNITÁRIO | T12: PREÇO TOTAL
A14: =B14&C14 | D14: 1 | E14: . | F14: 0 | I14: SERVIÇOS PRELIMINARES
A15: =B15&C15 -> SIURB EDIF17030002 | B15: SIURB EDIF | C15: 17030002 | D15: =$D$14 -> 1 | E15: . | F15: =F14+1 -> 1 | I15: =INDEX(#REF!,MATCH(A15,#REF!,0),0) -> #REF! | J15: =INDEX(#REF!,MATCH(A15,#REF!,0),0) -> #REF! | K15: 3.38 | L15: =INDEX(#REF!,MATCH(A15,#REF!,0),0) -> #REF! | M15: =1+$O$11 -> 1.25 | N15: =ROUND(L15*M15,2) -> #REF! | O15: =ROUND(K15*N15,2) -> #REF! | Q15: =INDEX(#REF!,MATCH(A15,#REF!,0),0) -> #REF! | R15: =1+$T$11 -> 1.2757 | S15: =Q15*K15 -> #REF! | T15: =S15 -> #REF!
A16: =B16&C16 -> SIURB EDIF17045001 | B16: SIURB EDIF | C16: 17045001 | D16: =$D$14 -> 1 | E16: . | F16: =F15+1 -> 2 | I16: =INDEX(#REF!,MATCH(A16,#REF!,0),0) -> #REF! | J16: =INDEX(#REF!,MATCH(A16,#REF!,0),0) -> #REF! | K16: 157.5 | L16: =INDEX(#REF!,MATCH(A16,#REF!,0),0) -> #REF! | M16: =1+$O$11 -> 1.25 | N16: =ROUND(L16*M16,2) -> #REF! | O16: =ROUND(K16*N16,2) -> #REF! | Q16: =INDEX(#REF!,MATCH(A16,#REF!,0),0) -> #REF! | R16: =1+$T$11 -> 1.2757 | S16: =Q16*K16 -> #REF! | T16: =S16 -> #REF!
A17: =B17&C17 -> SIURB EDIF17045002 | B17: SIURB EDIF | C17: 17045002 | D17: =$D$14 -> 1 | E17: . | F17: =F16+1 -> 3 | I17: =INDEX(#REF!,MATCH(A17,#REF!,0),0) -> #REF! | J17: =INDEX(#REF!,MATCH(A17,#REF!,0),0) -> #REF! | K17: 315 | L17: =INDEX(#REF!,MATCH(A17,#REF!,0),0) -> #REF! | M17: =1+$O$11 -> 1.25 | N17: =ROUND(L17*M17,2) -> #REF! | O17: =ROUND(K17*N17,2) -> #REF! | Q17: =INDEX(#REF!,MATCH(A17,#REF!,0),0) -> #REF! | R17: =1+$T$11 -> 1.2757 | S17: =Q17*K17 -> #REF! | T17: =S17 -> #REF!
A18: =B18&C18 -> SIURB EDIF20003061 | B18: SIURB EDIF | C18: 20003061 | D18: =$D$14 -> 1 | E18: . | F18: =F17+1 -> 4 | I18: =INDEX(#REF!,MATCH(A18,#REF!,0),0) -> #REF! | J18: =INDEX(#REF!,MATCH(A18,#REF!,0),0) -> #REF! | K18: 1 | L18: =INDEX(#REF!,MATCH(A18,#REF!,0),0) -> #REF! | M18: =1+$O$11 -> 1.25 | N18: =ROUND(L18*M18,2) -> #REF! | O18: =ROUND(K18*N18,2) -> #REF! | Q18: =INDEX(#REF!,MATCH(A18,#REF!,0),0) -> #REF! | R18: =1+$T$11 -> 1.2757 | S18: =ROUND(Q18*R18,2) -> #REF! | T18: =ROUND(K18*S18,2) -> #REF!
A19: =B19&C19 | I19: TOTAL DO ITEM | O19: =SUM(O15:O18) -> #REF! | T19: =SUM(T15:T18) -> #REF!
A20: =B20&C20 | D20: 2 | E20: . | F20: 0 | I20: DEMOLIÇÕES E RETIRADAS
D21: RECEPÇÃO
A22: =B22&C22 -> SIURB EDIF4050004 | B22: SIURB EDIF | C22: 4050004 | D22: =$D$20 -> 2 | E22: . | F22: 1 | I22: =INDEX(#REF!,MATCH(A22,#REF!,0),0) -> #REF! | J22: =INDEX(#REF!,MATCH(A22,#REF!,0),0) -> #REF! | K22: 0.14 | L22: =INDEX(#REF!,MATCH(A22,#REF!,0),0) -> #REF! | M22: =1+$O$11 -> 1.25 | N22: =ROUND(L22*M22,2) -> #REF! | O22: =ROUND(K22*N22,2) -> #REF! | Q22: =INDEX(#REF!,MATCH(A22,#REF!,0),0) -> #REF! | R22: =1+$T$11 -> 1.2757 | S22: =ROUND(Q22*R22,2) -> #REF! | T22: =ROUND(K22*S22,2) -> #REF!
A23: =B23&C23 -> CDHU04.14.020 | B23: CDHU | C23: 04.14.020 | D23: =$D$20 -> 2 | E23: . | F23: 2 | I23: =INDEX(#REF!,MATCH(A23,#REF!,0),0) -> #REF! | J23: =INDEX(#REF!,MATCH(A23,#REF!,0),0) -> #REF! | K23: 2 | L23: =INDEX(#REF!,MATCH(A23,#REF!,0),0) -> #REF! | M23: =1+$O$11 -> 1.25 | N23: =ROUND(L23*M23,2) -> #REF! | O23: =ROUND(K23*N23,2) -> #REF! | Q23: =INDEX(#REF!,MATCH(A23,#REF!,0),0) -> #REF! | R23: =1+$T$11 -> 1.2757 | S23: =ROUND(Q23*R23,2) -> #REF! | T23: =ROUND(K23*S23,2) -> #REF!
D24: FARMÁCIA
A25: =B25&C25 -> SIURB EDIF4050004 | B25: SIURB EDIF | C25: 4050004 | D25: =$D$20 -> 2 | E25: . | F25: 3 | I25: =INDEX(#REF!,MATCH(A25,#REF!,0),0) -> #REF! | J25: =INDEX(#REF!,MATCH(A25,#REF!,0),0) -> #REF! | K25: 0.11 | L25: =INDEX(#REF!,MATCH(A25,#REF!,0),0) -> #REF! | M25: =1+$O$11 -> 1.25 | N25: =ROUND(L25*M25,2) -> #REF! | O25: =ROUND(K25*N25,2) -> #REF! | Q25: =INDEX(#REF!,MATCH(A25,#REF!,0),0) -> #REF! | R25: =1+$T$11 -> 1.2757 | S25: =ROUND(Q25*R25,2) -> #REF! | T25: =ROUND(K25*S25,2) -> #REF!
A26: =B26&C26 -> CDHU04.14.020 | B26: CDHU | C26: 04.14.020 | D26: =$D$20 -> 2 | E26: . | F26: =F25+1 -> 4 | I26: =INDEX(#REF!,MATCH(A26,#REF!,0),0) -> #REF! | J26: =INDEX(#REF!,MATCH(A26,#REF!,0),0) -> #REF! | K26: 1 | L26: =INDEX(#REF!,MATCH(A26,#REF!,0),0) -> #REF! | M26: =1+$O$11 -> 1.25 | N26: =ROUND(L26*M26,2) -> #REF! | O26: =ROUND(K26*N26,2) -> #REF! | Q26: =INDEX(#REF!,MATCH(A26,#REF!,0),0) -> #REF! | R26: =1+$T$11 -> 1.2757 | S26: =ROUND(Q26*R26,2) -> #REF! | T26: =ROUND(K26*S26,2) -> #REF!
D27: COLETA
A28: =B28&C28 -> CDHU04.01.040 | B28: CDHU | C28: 04.01.040 | D28: =$D$20 -> 2 | E28: . | F28: =F26+1 -> 5 | I28: =INDEX(#REF!,MATCH(A28,#REF!,0),0) -> #REF! | J28: =INDEX(#REF!,MATCH(A28,#REF!,0),0) -> #REF! | K28: 6.51 | L28: =INDEX(#REF!,MATCH(A28,#REF!,0),0) -> #REF! | M28: =1+$O$11 -> 1.25 | N28: =ROUND(L28*M28,2) -> #REF! | O28: =ROUND(K28*N28,2) -> #REF! | Q28: =INDEX(#REF!,MATCH(A28,#REF!,0),0) -> #REF! | R28: =1+$T$11 -> 1.2757 | S28: =ROUND(Q28*R28,2) -> #REF! | T28: =ROUND(K28*S28,2) -> #REF!
D29: CIRCULAÇÃO (ACESSO RESTRITO)
A30: =B30&C30 -> CDHU04.01.040 | B30: CDHU | C30: 04.01.040 | D30: =$D$20 -> 2 | E30: . | F30: =F28+1 -> 6 | I30: =INDEX(#REF!,MATCH(A30,#REF!,0),0) -> #REF! | J30: =INDEX(#REF!,MATCH(A30,#REF!,0),0) -> #REF! | K30: 6.3 | L30: =INDEX(#REF!,MATCH(A30,#REF!,0),0) -> #REF! | M30: =1+$O$11 -> 1.25 | N30: =ROUND(L30*M30,2) -> #REF! | O30: =ROUND(K30*N30,2) -> #REF! | Q30: =INDEX(#REF!,MATCH(A30,#REF!,0),0) -> #REF! | R30: =1+$T$11 -> 1.2757 | S30: =ROUND(Q30*R30,2) -> #REF! | T30: =ROUND(K30*S30,2) -> #REF!
D31: AREA EXTERNA
A32: =B32&C32 -> SIURB EDIF17050015 | B32: SIURB EDIF | C32: 17050015 | D32: =$D$20 -> 2 | E32: . | F32: =F30+1 -> 7 | I32: =INDEX(#REF!,MATCH(A32,#REF!,0),0) -> #REF! | J32: =INDEX(#REF!,MATCH(A32,#REF!,0),0) -> #REF! | K32: 24.85 | L32: =INDEX(#REF!,MATCH(A32,#REF!,0),0) -> #REF! | M32: =1+$O$11 -> 1.25 | N32: =ROUND(L32*M32,2) -> #REF! | O32: =ROUND(K32*N32,2) -> #REF! | Q32: =INDEX(#REF!,MATCH(A32,#REF!,0),0) -> #REF! | R32: =1+$T$11 -> 1.2757 | S32: =ROUND(Q32*R32,2) -> #REF! | T32: =ROUND(K32*S32,2) -> #REF!
D33: CALÇADA/ESTACIONAMENTO
A34: =B34&C34 -> SIURB EDIF13050001 | B34: SIURB EDIF | C34: 13050001 | D34: =$D$20 -> 2 | E34: . | F34: =F32+1 -> 8 | I34: =INDEX(#REF!,MATCH(A34,#REF!,0),0) -> #REF! | J34: =INDEX(#REF!,MATCH(A34,#REF!,0),0) -> #REF! | K34: 9.85 | L34: =INDEX(#REF!,MATCH(A34,#REF!,0),0) -> #REF! | M34: =1+$O$11 -> 1.25 | N34: =ROUND(L34*M34,2) -> #REF! | O34: =ROUND(K34*N34,2) -> #REF! | Q34: =INDEX(#REF!,MATCH(A34,#REF!,0),0) -> #REF! | R34: =1+$T$11 -> 1.2757 | S34: =ROUND(Q34*R34,2) -> #REF! | T34: =ROUND(K34*S34,2) -> #REF!
D35: RESERVATÓRIOS
A36: =B36&C36 -> FDE08.60.013 | B36: FDE | C36: 08.60.013 | D36: =$D$20 -> 2 | E36: . | F36: =F34+1 -> 9 | I36: =INDEX(#REF!,MATCH(A36,#REF!,0),0) -> #REF! | J36: =INDEX(#REF!,MATCH(A36,#REF!,0),0) -> #REF! | K36: 3 | L36: =INDEX(#REF!,MATCH(A36,#REF!,0),0) -> #REF! | M36: =1+$O$11 -> 1.25 | N36: =ROUND(L36*M36,2) -> #REF! | O36: =ROUND(K36*N36,2) -> #REF! | Q36: =INDEX(#REF!,MATCH(A36,#REF!,0),0) -> #REF! | R36: =1+$T$11 -> 1.2757 | S36: =ROUND(Q36*R36,2) -> #REF! | T36: =ROUND(K36*S36,2) -> #REF!
D37: BOTA-FORA
A38: =B38&C38 -> SIURB EDIF1001007 | B38: SIURB EDIF | C38: 1001007 | D38: =$D$20 -> 2 | E38: . | F38: =F36+1 -> 10 | I38: =INDEX(#REF!,MATCH(A38,#REF!,0),0) -> #REF! | J38: =INDEX(#REF!,MATCH(A38,#REF!,0),0) -> #REF! | K38: 14.75 | L38: =INDEX(#REF!,MATCH(A38,#REF!,0),0) -> #REF! | M38: =1+$O$11 -> 1.25 | N38: =ROUND(L38*M38,2) -> #REF! | O38: =ROUND(K38*N38,2) -> #REF! | Q38: =INDEX(#REF!,MATCH(A38,#REF!,0),0) -> #REF! | R38: =1+$T$11 -> 1.2757 | S38: =ROUND(Q38*R38,2) -> #REF! | T38: =ROUND(K38*S38,2) -> #REF!
A39: =B39&C39 | I39: TOTAL DO ITEM | O39: =SUM(O22:O38) -> #REF! | T39: =SUM(T22:T38) -> #REF!
A40: =B40&C40 | D40: 3 | E40: . | F40: 0 | I40: CONSTRUÇÃO
D41: RECEPÇÃO
A42: =B42&C42 -> FDE05.05.086 | B42: FDE | C42: 05.05.086 | D42: =$D$40 -> 3 | E42: . | F42: 1 | I42: =INDEX(#REF!,MATCH(A42,#REF!,0),0) -> #REF! | J42: =INDEX(#REF!,MATCH(A42,#REF!,0),0) -> #REF! | K42: 1 | L42: =INDEX(#REF!,MATCH(A42,#REF!,0),0) -> #REF! | M42: =1+$O$11 -> 1.25 | N42: =ROUND(L42*M42,2) -> #REF! | O42: =ROUND(K42*N42,2) -> #REF! | Q42: =INDEX(#REF!,MATCH(A42,#REF!,0),0) -> #REF! | R42: =1+$T$11 -> 1.2757 | S42: =ROUND(Q42*R42,2) -> #REF! | T42: =ROUND(K42*S42,2) -> #REF!
A43: =B43&C43 -> SIURB EDIF13002043 | B43: SIURB EDIF | C43: 13002043 | D43: =$D$40 -> 3 | E43: . | F43: 2 | I43: =INDEX(#REF!,MATCH(A43,#REF!,0),0) -> #REF! | J43: =INDEX(#REF!,MATCH(A43,#REF!,0),0) -> #REF! | K43: 0.9 | L43: =INDEX(#REF!,MATCH(A43,#REF!,0),0) -> #REF! | M43: =1+$O$11 -> 1.25 | N43: =ROUND(L43*M43,2) -> #REF! | O43: =ROUND(K43*N43,2) -> #REF! | Q43: =INDEX(#REF!,MATCH(A43,#REF!,0),0) -> #REF! | R43: =1+$T$11 -> 1.2757 | S43: =ROUND(Q43*R43,2) -> #REF! | T43: =ROUND(K43*S43,2) -> #REF!
A44: =B44&C44 -> CDHU26.20.020 | B44: CDHU | C44: 26.20.020 | D44: =$D$40 -> 3 | E44: . | F44: 3 | I44: =INDEX(#REF!,MATCH(A44,#REF!,0),0) -> #REF! | J44: =INDEX(#REF!,MATCH(A44,#REF!,0),0) -> #REF! | K44: 2 | L44: =INDEX(#REF!,MATCH(A44,#REF!,0),0) -> #REF! | M44: =1+$O$11 -> 1.25 | N44: =ROUND(L44*M44,2) -> #REF! | O44: =ROUND(K44*N44,2) -> #REF! | Q44: =INDEX(#REF!,MATCH(A44,#REF!,0),0) -> #REF! | R44: =1+$T$11 -> 1.2757 | S44: =ROUND(Q44*R44,2) -> #REF! | T44: =ROUND(K44*S44,2) -> #REF!
D45: FARMÁCIA
A46: =B46&C46 -> FDE05.05.086 | B46: FDE | C46: 05.05.086 | D46: =$D$40 -> 3 | E46: . | F46: 4 | I46: =INDEX(#REF!,MATCH(A46,#REF!,0),0) -> #REF! | J46: =INDEX(#REF!,MATCH(A46,#REF!,0),0) -> #REF! | K46: 1 | L46: =INDEX(#REF!,MATCH(A46,#REF!,0),0) -> #REF! | M46: =1+$O$11 -> 1.25 | N46: =ROUND(L46*M46,2) -> #REF! | O46: =ROUND(K46*N46,2) -> #REF! | Q46: =INDEX(#REF!,MATCH(A46,#REF!,0),0) -> #REF! | R46: =1+$T$11 -> 1.2757 | S46: =ROUND(Q46*R46,2) -> #REF! | T46: =ROUND(K46*S46,2) -> #REF!
A47: =B47&C47 -> SIURB EDIF13002043 | B47: SIURB EDIF | C47: 13002043 | D47: =$D$40 -> 3 | E47: . | F47: 5 | I47: =INDEX(#REF!,MATCH(A47,#REF!,0),0) -> #REF! | J47: =INDEX(#REF!,MATCH(A47,#REF!,0),0) -> #REF! | K47: 0.9 | L47: =INDEX(#REF!,MATCH(A47,#REF!,0),0) -> #REF! | M47: =1+$O$11 -> 1.25 | N47: =ROUND(L47*M47,2) -> #REF! | O47: =ROUND(K47*N47,2) -> #REF! | Q47: =INDEX(#REF!,MATCH(A47,#REF!,0),0) -> #REF! | R47: =1+$T$11 -> 1.2757 | S47: =ROUND(Q47*R47,2) -> #REF! | T47: =ROUND(K47*S47,2) -> #REF!
A48: =B48&C48 -> CDHU26.20.020 | B48: CDHU | C48: 26.20.020 | D48: =$D$40 -> 3 | E48: . | F48: 6 | I48: =INDEX(#REF!,MATCH(A48,#REF!,0),0) -> #REF! | J48: =INDEX(#REF!,MATCH(A48,#REF!,0),0) -> #REF! | K48: 1 | L48: =INDEX(#REF!,MATCH(A48,#REF!,0),0) -> #REF! | M48: =1+$O$11 -> 1.25 | N48: =ROUND(L48*M48,2) -> #REF! | O48: =ROUND(K48*N48,2) -> #REF! | Q48: =INDEX(#REF!,MATCH(A48,#REF!,0),0) -> #REF! | R48: =1+$T$11 -> 1.2757 | S48: =ROUND(Q48*R48,2) -> #REF! | T48: =ROUND(K48*S48,2) -> #REF!
D49: COLETA
A50: =B50&C50 -> SIURB EDIF4001051 | B50: SIURB EDIF | C50: 4001051 | D50: =$D$40 -> 3 | E50: . | F50: 7 | I50: =INDEX(#REF!,MATCH(A50,#REF!,0),0) -> #REF! | J50: =INDEX(#REF!,MATCH(A50,#REF!,0),0) -> #REF! | K50: 1.17 | L50: =INDEX(#REF!,MATCH(A50,#REF!,0),0) -> #REF! | M50: =1+$O$11 -> 1.25 | N50: =ROUND(L50*M50,2) -> #REF! | O50: =ROUND(K50*N50,2) -> #REF! | Q50: =INDEX(#REF!,MATCH(A50,#REF!,0),0) -> #REF! | R50: =1+$T$11 -> 1.2757 | S50: =ROUND(Q50*R50,2) -> #REF! | T50: =ROUND(K50*S50,2) -> #REF!
A51: =B51&C51 -> SIURB EDIF11002001 | B51: SIURB EDIF | C51: 11002001 | D51: =$D$40 -> 3 | E51: . | F51: 8 | I51: =INDEX(#REF!,MATCH(A51,#REF!,0),0) -> #REF! | J51: =INDEX(#REF!,MATCH(A51,#REF!,0),0) -> #REF! | K51: 3.5 | L51: =INDEX(#REF!,MATCH(A51,#REF!,0),0) -> #REF! | M51: =1+$O$11 -> 1.25 | N51: =ROUND(L51*M51,2) -> #REF! | O51: =ROUND(K51*N51,2) -> #REF! | Q51: =INDEX(#REF!,MATCH(A51,#REF!,0),0) -> #REF! | R51: =1+$T$11 -> 1.2757 | S51: =ROUND(Q51*R51,2) -> #REF! | T51: =ROUND(K51*S51,2) -> #REF!
A52: =B52&C52 -> SIURB EDIF11002010 | B52: SIURB EDIF | C52: 11002010 | D52: =$D$40 -> 3 | E52: . | F52: 9 | I52: =INDEX(#REF!,MATCH(A52,#REF!,0),0) -> #REF! | J52: =INDEX(#REF!,MATCH(A52,#REF!,0),0) -> #REF! | K52: 3.5 | L52: =INDEX(#REF!,MATCH(A52,#REF!,0),0) -> #REF! | M52: =1+$O$11 -> 1.25 | N52: =ROUND(L52*M52,2) -> #REF! | O52: =ROUND(K52*N52,2) -> #REF! | Q52: =INDEX(#REF!,MATCH(A52,#REF!,0),0) -> #REF! | R52: =1+$T$11 -> 1.2757 | S52: =ROUND(Q52*R52,2) -> #REF! | T52: =ROUND(K52*S52,2) -> #REF!
A53: =B53&C53 -> SIURB EDIF13003004 | B53: SIURB EDIF | C53: 13003004 | D53: =$D$40 -> 3 | E53: . | F53: 10 | I53: =INDEX(#REF!,MATCH(A53,#REF!,0),0) -> #REF! | J53: =INDEX(#REF!,MATCH(A53,#REF!,0),0) -> #REF! | K53: 11.68 | L53: =INDEX(#REF!,MATCH(A53,#REF!,0),0) -> #REF! | M53: =1+$O$11 -> 1.25 | N53: =ROUND(L53*M53,2) -> #REF! | O53: =ROUND(K53*N53,2) -> #REF! | Q53: =INDEX(#REF!,MATCH(A53,#REF!,0),0) -> #REF! | R53: =1+$T$11 -> 1.2757 | S53: =ROUND(Q53*R53,2) -> #REF! | T53: =ROUND(K53*S53,2) -> #REF!
A54: =B54&C54 -> CDHU14.30.190 | B54: CDHU | C54: 14.30.190 | D54: =$D$40 -> 3 | E54: . | F54: 11 | I54: =INDEX(#REF!,MATCH(A54,#REF!,0),0) -> #REF! | J54: =INDEX(#REF!,MATCH(A54,#REF!,0),0) -> #REF! | K54: 13.32 | L54: =INDEX(#REF!,MATCH(A54,#REF!,0),0) -> #REF! | M54: =1+$O$11 -> 1.25 | N54: =ROUND(L54*M54,2) -> #REF! | O54: =ROUND(K54*N54,2) -> #REF! | Q54: =INDEX(#REF!,MATCH(A54,#REF!,0),0) -> #REF! | R54: =1+$T$11 -> 1.2757 | S54: =ROUND(Q54*R54,2) -> #REF! | T54: =ROUND(K54*S54,2) -> #REF!
A55: =B55&C55 -> CDHU28.01.080 | B55: CDHU | C55: 28.01.080 | D55: =$D$40 -> 3 | E55: . | F55: 12 | I55: =INDEX(#REF!,MATCH(A55,#REF!,0),0) -> #REF! | J55: =INDEX(#REF!,MATCH(A55,#REF!,0),0) -> #REF! | K55: 1 | L55: =INDEX(#REF!,MATCH(A55,#REF!,0),0) -> #REF! | M55: =1+$O$11 -> 1.25 | N55: =ROUND(L55*M55,2) -> #REF! | O55: =ROUND(K55*N55,2) -> #REF! | Q55: =INDEX(#REF!,MATCH(A55,#REF!,0),0) -> #REF! | R55: =1+$T$11 -> 1.2757 | S55: =ROUND(Q55*R55,2) -> #REF! | T55: =ROUND(K55*S55,2) -> #REF!
D56: CIRCULAÇÃO
A57: =B57&C57 -> SIURB EDIF4001051 | B57: SIURB EDIF | C57: 4001051 | D57: =$D$40 -> 3 | E57: . | F57: 13 | I57: =INDEX(#REF!,MATCH(A57,#REF!,0),0) -> #REF! | J57: =INDEX(#REF!,MATCH(A57,#REF!,0),0) -> #REF! | K57: 0.53 | L57: =INDEX(#REF!,MATCH(A57,#REF!,0),0) -> #REF! | M57: =1+$O$11 -> 1.25 | N57: =ROUND(L57*M57,2) -> #REF! | O57: =ROUND(K57*N57,2) -> #REF! | Q57: =INDEX(#REF!,MATCH(A57,#REF!,0),0) -> #REF! | R57: =1+$T$11 -> 1.2757 | S57: =ROUND(Q57*R57,2) -> #REF! | T57: =ROUND(K57*S57,2) -> #REF!
A58: =B58&C58 -> SIURB EDIF11002001 | B58: SIURB EDIF | C58: 11002001 | D58: =$D$40 -> 3 | E58: . | F58: 14 | I58: =INDEX(#REF!,MATCH(A58,#REF!,0),0) -> #REF! | J58: =INDEX(#REF!,MATCH(A58,#REF!,0),0) -> #REF! | K58: 1.59 | L58: =INDEX(#REF!,MATCH(A58,#REF!,0),0) -> #REF! | M58: =1+$O$11 -> 1.25 | N58: =ROUND(L58*M58,2) -> #REF! | O58: =ROUND(K58*N58,2) -> #REF! | Q58: =INDEX(#REF!,MATCH(A58,#REF!,0),0) -> #REF! | R58: =1+$T$11 -> 1.2757 | S58: =ROUND(Q58*R58,2) -> #REF! | T58: =ROUND(K58*S58,2) -> #REF!
A59: =B59&C59 -> SIURB EDIF11002010 | B59: SIURB EDIF | C59: 11002010 | D59: =$D$40 -> 3 | E59: . | F59: 15 | I59: =INDEX(#REF!,MATCH(A59,#REF!,0),0) -> #REF! | J59: =INDEX(#REF!,MATCH(A59,#REF!,0),0) -> #REF! | K59: 1.59 | L59: =INDEX(#REF!,MATCH(A59,#REF!,0),0) -> #REF! | M59: =1+$O$11 -> 1.25 | N59: =ROUND(L59*M59,2) -> #REF! | O59: =ROUND(K59*N59,2) -> #REF! | Q59: =INDEX(#REF!,MATCH(A59,#REF!,0),0) -> #REF! | R59: =1+$T$11 -> 1.2757 | S59: =ROUND(Q59*R59,2) -> #REF! | T59: =ROUND(K59*S59,2) -> #REF!
A60: =B60&C60 -> SIURB EDIF13003004 | B60: SIURB EDIF | C60: 13003004 | D60: =$D$40 -> 3 | E60: . | F60: 16 | I60: =INDEX(#REF!,MATCH(A60,#REF!,0),0) -> #REF! | J60: =INDEX(#REF!,MATCH(A60,#REF!,0),0) -> #REF! | K60: 5.3 | L60: =INDEX(#REF!,MATCH(A60,#REF!,0),0) -> #REF! | M60: =1+$O$11 -> 1.25 | N60: =ROUND(L60*M60,2) -> #REF! | O60: =ROUND(K60*N60,2) -> #REF! | Q60: =INDEX(#REF!,MATCH(A60,#REF!,0),0) -> #REF! | R60: =1+$T$11 -> 1.2757 | S60: =ROUND(Q60*R60,2) -> #REF! | T60: =ROUND(K60*S60,2) -> #REF!
A61: =B61&C61 -> CDHU14.30.190 | B61: CDHU | C61: 14.30.190 | D61: =$D$40 -> 3 | E61: . | F61: 17 | I61: =INDEX(#REF!,MATCH(A61,#REF!,0),0) -> #REF! | J61: =INDEX(#REF!,MATCH(A61,#REF!,0),0) -> #REF! | K61: 5.3 | L61: =INDEX(#REF!,MATCH(A61,#REF!,0),0) -> #REF! | M61: =1+$O$11 -> 1.25 | N61: =ROUND(L61*M61,2) -> #REF! | O61: =ROUND(K61*N61,2) -> #REF! | Q61: =INDEX(#REF!,MATCH(A61,#REF!,0),0) -> #REF! | R61: =1+$T$11 -> 1.2757 | S61: =ROUND(Q61*R61,2) -> #REF! | T61: =ROUND(K61*S61,2) -> #REF!
D62: CIRCULAÇÃO (ACESSO RESTRITO)
A63: =B63&C63 -> SIURB EDIF4001051 | B63: SIURB EDIF | C63: 4001051 | D63: =$D$40 -> 3 | E63: . | F63: 18 | I63: =INDEX(#REF!,MATCH(A63,#REF!,0),0) -> #REF! | J63: =INDEX(#REF!,MATCH(A63,#REF!,0),0) -> #REF! | K63: 0.42 | L63: =INDEX(#REF!,MATCH(A63,#REF!,0),0) -> #REF! | M63: =1+$O$11 -> 1.25 | N63: =ROUND(L63*M63,2) -> #REF! | O63: =ROUND(K63*N63,2) -> #REF! | Q63: =INDEX(#REF!,MATCH(A63,#REF!,0),0) -> #REF! | R63: =1+$T$11 -> 1.2757 | S63: =ROUND(Q63*R63,2) -> #REF! | T63: =ROUND(K63*S63,2) -> #REF!
A64: =B64&C64 -> SIURB EDIF11002001 | B64: SIURB EDIF | C64: 11002001 | D64: =$D$40 -> 3 | E64: . | F64: 19 | I64: =INDEX(#REF!,MATCH(A64,#REF!,0),0) -> #REF! | J64: =INDEX(#REF!,MATCH(A64,#REF!,0),0) -> #REF! | K64: 1.25 | L64: =INDEX(#REF!,MATCH(A64,#REF!,0),0) -> #REF! | M64: =1+$O$11 -> 1.25 | N64: =ROUND(L64*M64,2) -> #REF! | O64: =ROUND(K64*N64,2) -> #REF! | Q64: =INDEX(#REF!,MATCH(A64,#REF!,0),0) -> #REF! | R64: =1+$T$11 -> 1.2757 | S64: =ROUND(Q64*R64,2) -> #REF! | T64: =ROUND(K64*S64,2) -> #REF!
A65: =B65&C65 -> SIURB EDIF11002010 | B65: SIURB EDIF | C65: 11002010 | D65: =$D$40 -> 3 | E65: . | F65: 20 | I65: =INDEX(#REF!,MATCH(A65,#REF!,0),0) -> #REF! | J65: =INDEX(#REF!,MATCH(A65,#REF!,0),0) -> #REF! | K65: 1.25 | L65: =INDEX(#REF!,MATCH(A65,#REF!,0),0) -> #REF! | M65: =1+$O$11 -> 1.25 | N65: =ROUND(L65*M65,2) -> #REF! | O65: =ROUND(K65*N65,2) -> #REF! | Q65: =INDEX(#REF!,MATCH(A65,#REF!,0),0) -> #REF! | R65: =1+$T$11 -> 1.2757 | S65: =ROUND(Q65*R65,2) -> #REF! | T65: =ROUND(K65*S65,2) -> #REF!
A66: =B66&C66 -> SIURB EDIF13003004 | B66: SIURB EDIF | C66: 13003004 | D66: =$D$40 -> 3 | E66: . | F66: 21 | I66: =INDEX(#REF!,MATCH(A66,#REF!,0),0) -> #REF! | J66: =INDEX(#REF!,MATCH(A66,#REF!,0),0) -> #REF! | K66: 4.16 | L66: =INDEX(#REF!,MATCH(A66,#REF!,0),0) -> #REF! | M66: =1+$O$11 -> 1.25 | N66: =ROUND(L66*M66,2) -> #REF! | O66: =ROUND(K66*N66,2) -> #REF! | Q66: =INDEX(#REF!,MATCH(A66,#REF!,0),0) -> #REF! | R66: =1+$T$11 -> 1.2757 | S66: =ROUND(Q66*R66,2) -> #REF! | T66: =ROUND(K66*S66,2) -> #REF!
A67: =B67&C67 -> CDHU14.30.190 | B67: CDHU | C67: 14.30.190 | D67: =$D$40 -> 3 | E67: . | F67: 22 | I67: =INDEX(#REF!,MATCH(A67,#REF!,0),0) -> #REF! | J67: =INDEX(#REF!,MATCH(A67,#REF!,0),0) -> #REF! | K67: 8.96 | L67: =INDEX(#REF!,MATCH(A67,#REF!,0),0) -> #REF! | M67: =1+$O$11 -> 1.25 | N67: =ROUND(L67*M67,2) -> #REF! | O67: =ROUND(K67*N67,2) -> #REF! | Q67: =INDEX(#REF!,MATCH(A67,#REF!,0),0) -> #REF! | R67: =1+$T$11 -> 1.2757 | S67: =ROUND(Q67*R67,2) -> #REF! | T67: =ROUND(K67*S67,2) -> #REF!
A68: =B68&C68 -> CDHU28.01.080 | B68: CDHU | C68: 28.01.080 | D68: =$D$40 -> 3 | E68: . | F68: 23 | I68: =INDEX(#REF!,MATCH(A68,#REF!,0),0) -> #REF! | J68: =INDEX(#REF!,MATCH(A68,#REF!,0),0) -> #REF! | K68: 1 | L68: =INDEX(#REF!,MATCH(A68,#REF!,0),0) -> #REF! | M68: =1+$O$11 -> 1.25 | N68: =ROUND(L68*M68,2) -> #REF! | O68: =ROUND(K68*N68,2) -> #REF! | Q68: =INDEX(#REF!,MATCH(A68,#REF!,0),0) -> #REF! | R68: =1+$T$11 -> 1.2757 | S68: =ROUND(Q68*R68,2) -> #REF! | T68: =ROUND(K68*S68,2) -> #REF!
A69: =B69&C69 -> SIURB EDIF8080050 | B69: SIURB EDIF | C69: 8080050 | D69: =D68 -> 3 | E69: . | F69: 24 | I69: RECUPERAÇÃO/REFORMA DE ESQUADRIAS METALICAS COM FORNECIMENTO DE MATERIAIS E MAO DE OBRA (CHAPA, PERFIS, SOLDAS E ACESSÓRIOS) | J69: =INDEX(#REF!,MATCH(A69,#REF!,0),0) -> #REF! | K69: 32.44 | L69: =INDEX(#REF!,MATCH(A69,#REF!,0),0) -> #REF! | M69: =1+$O$11 -> 1.25 | N69: =ROUND(L69*M69,2) -> #REF! | O69: =ROUND(K69*N69,2) -> #REF! | Q69: =INDEX(#REF!,MATCH(A69,#REF!,0),0) -> #REF! | R69: =1+$T$11 -> 1.2757 | S69: =ROUND(Q69*R69,2) -> #REF! | T69: =ROUND(K69*S69,2) -> #REF!
D70: AREA EXTERNA
A71: =B71&C71 -> SIURB EDIF17001028 | B71: SIURB EDIF | C71: 17001028 | D71: =$D$40 -> 3 | E71: . | F71: 25 | I71: =INDEX(#REF!,MATCH(A71,#REF!,0),0) -> #REF! | J71: =INDEX(#REF!,MATCH(A71,#REF!,0),0) -> #REF! | K71: 24.85 | L71: =INDEX(#REF!,MATCH(A71,#REF!,0),0) -> #REF! | M71: =1+$O$11 -> 1.25 | N71: =ROUND(L71*M71,2) -> #REF! | O71: =ROUND(K71*N71,2) -> #REF! | Q71: =INDEX(#REF!,MATCH(A71,#REF!,0),0) -> #REF! | R71: =1+$T$11 -> 1.2757 | S71: =ROUND(Q71*R71,2) -> #REF! | T71: =ROUND(K71*S71,2) -> #REF!
D72: CALÇADA/ESTACIONAMENTO
A73: =B73&C73 -> SIURB EDIF17002046 | B73: SIURB EDIF | C73: 17002046 | D73: =$D$40 -> 3 | E73: . | F73: 26 | I73: =INDEX(#REF!,MATCH(A73,#REF!,0),0) -> #REF! | J73: =INDEX(#REF!,MATCH(A73,#REF!,0),0) -> #REF! | K73: 9.85 | L73: =INDEX(#REF!,MATCH(A73,#REF!,0),0) -> #REF! | M73: =1+$O$11 -> 1.25 | N73: =ROUND(L73*M73,2) -> #REF! | O73: =ROUND(K73*N73,2) -> #REF! | Q73: =INDEX(#REF!,MATCH(A73,#REF!,0),0) -> #REF! | R73: =1+$T$11 -> 1.2757 | S73: =ROUND(Q73*R73,2) -> #REF! | T73: =ROUND(K73*S73,2) -> #REF!
A74: =B74&C74 -> SIURB EDIF2005005 | B74: SIURB EDIF | C74: 2005005 | D74: =$D$40 -> 3 | E74: . | F74: 27 | I74: =INDEX(#REF!,MATCH(A74,#REF!,0),0) -> #REF! | J74: =INDEX(#REF!,MATCH(A74,#REF!,0),0) -> #REF! | K74: 9.85 | L74: =INDEX(#REF!,MATCH(A74,#REF!,0),0) -> #REF! | M74: =1+$O$11 -> 1.25 | N74: =ROUND(L74*M74,2) -> #REF! | O74: =ROUND(K74*N74,2) -> #REF! | Q74: =INDEX(#REF!,MATCH(A74,#REF!,0),0) -> #REF! | R74: =1+$T$11 -> 1.2757 | S74: =ROUND(Q74*R74,2) -> #REF! | T74: =ROUND(K74*S74,2) -> #REF!
A75: =B75&C75 -> SIURB EDIF3002009 | B75: SIURB EDIF | C75: 3002009 | D75: =$D$40 -> 3 | E75: . | F75: 28 | I75: =INDEX(#REF!,MATCH(A75,#REF!,0),0) -> #REF! | J75: =INDEX(#REF!,MATCH(A75,#REF!,0),0) -> #REF! | K75: 228.9 | L75: =INDEX(#REF!,MATCH(A75,#REF!,0),0) -> #REF! | M75: =1+$O$11 -> 1.25 | N75: =ROUND(L75*M75,2) -> #REF! | O75: =ROUND(K75*N75,2) -> #REF! | Q75: =INDEX(#REF!,MATCH(A75,#REF!,0),0) -> #REF! | R75: =1+$T$11 -> 1.2757 | S75: =ROUND(Q75*R75,2) -> #REF! | T75: =ROUND(K75*S75,2) -> #REF!
A76: =B76&C76 -> SIURB EDIF8080050 | B76: SIURB EDIF | C76: 8080050 | D76: =D74 -> 3 | E76: . | F76: 29 | I76: RECUPERAÇÃO/REFORMA DE ESQUADRIAS METALICAS COM FORNECIMENTO DE MATERIAIS E MAO DE OBRA (CHAPA, PERFIS, SOLDAS E ACESSÓRIOS) | J76: =INDEX(#REF!,MATCH(A76,#REF!,0),0) -> #REF! | K76: 58.48 | L76: =INDEX(#REF!,MATCH(A76,#REF!,0),0) -> #REF! | M76: =1+$O$11 -> 1.25 | N76: =ROUND(L76*M76,2) -> #REF! | O76: =ROUND(K76*N76,2) -> #REF! | Q76: =INDEX(#REF!,MATCH(A76,#REF!,0),0) -> #REF! | R76: =1+$T$11 -> 1.2757 | S76: =ROUND(Q76*R76,2) -> #REF! | T76: =ROUND(K76*S76,2) -> #REF!
D77: RESERVATÓRIOS
A78: =B78&C78 -> COMP SINAPI102624 | B78: COMP SINAPI | C78: 102624 | D78: =$D$40 -> 3 | E78: . | F78: 30 | I78: CAIXA D´ÁGUA EM POLIETILENO, 2000 LITROS, TIPO TANQUE COM TAMPA DE ROSCA (INCLUSOS TUBOS, CONEXÕES E TORNEIRA DE BÓIA) - FORNECIMENTO E INSTALAÇÃO. AF_06/2021 | J78: =INDEX(#REF!,MATCH(A78,#REF!,0),0) -> #REF! | K78: 1 | L78: =INDEX(#REF!,MATCH(A78,#REF!,0),0) -> #REF! | M78: =1+$O$11 -> 1.25 | N78: =ROUND(L78*M78,2) -> #REF! | O78: =ROUND(K78*N78,2) -> #REF! | Q78: =INDEX(#REF!,MATCH(A78,#REF!,0),0) -> #REF! | R78: =1+$T$11 -> 1.2757 | S78: =ROUND(Q78*R78,2) -> #REF! | T78: =ROUND(K78*S78,2) -> #REF!
A79: =B79&C79 -> SINAPI102623 | B79: SINAPI | C79: 102623 | D79: =$D$40 -> 3 | E79: . | F79: 31 | I79: CAIXA D´ÁGUA EM POLIETILENO, 1000 LITROS, TIPO TANQUE COM TAMPA DE ROSCA (INCLUSOS TUBOS, CONEXÕES E TORNEIRA DE BÓIA) - FORNECIMENTO E INSTALAÇÃO. AF_06/2021 | J79: =INDEX(#REF!,MATCH(A79,#REF!,0),0) -> #REF! | K79: 1 | L79: =INDEX(#REF!,MATCH(A79,#REF!,0),0) -> #REF! | M79: =1+$O$11 -> 1.25 | N79: =ROUND(L79*M79,2) -> #REF! | O79: =ROUND(K79*N79,2) -> #REF! | Q79: =INDEX(#REF!,MATCH(A79,#REF!,0),0) -> #REF! | R79: =1+$T$11 -> 1.2757 | S79: =ROUND(Q79*R79,2) -> #REF! | T79: =ROUND(K79*S79,2) -> #REF!
A80: =B80&C80 | I80: TOTAL DO ITEM | O80: =SUM(O42:O79) -> #REF! | T80: =SUM(T42:T79) -> #REF!
A81: =B81&C81 | D81: 4 | E81: . | F81: 0 | I81: PINTURA
A82: =B82&C82 -> SIURB EDIF15001015 | B82: SIURB EDIF | C82: 15001015 | D82: =$D$81 -> 4 | E82: . | F82: 1 | I82: =INDEX(#REF!,MATCH(A82,#REF!,0),0) -> #REF! | J82: =INDEX(#REF!,MATCH(A82,#REF!,0),0) -> #REF! | K82: 1051.53 | L82: =INDEX(#REF!,MATCH(A82,#REF!,0),0) -> #REF! | M82: =1+$O$11 -> 1.25 | N82: =ROUND(L82*M82,2) -> #REF! | O82: =ROUND(K82*N82,2) -> #REF! | Q82: =INDEX(#REF!,MATCH(A82,#REF!,0),0) -> #REF! | R82: =1+$T$11 -> 1.2757 | S82: =ROUND(Q82*R82,2) -> #REF! | T82: =ROUND(K82*S82,2) -> #REF!
A83: =B83&C83 -> SIURB EDIF15001023 | B83: SIURB EDIF | C83: 15001023 | D83: =$D$81 -> 4 | E83: . | F83: 2 | I83: =INDEX(#REF!,MATCH(A83,#REF!,0),0) -> #REF! | J83: =INDEX(#REF!,MATCH(A83,#REF!,0),0) -> #REF! | K83: 290.51 | L83: =INDEX(#REF!,MATCH(A83,#REF!,0),0) -> #REF! | M83: =1+$O$11 -> 1.25 | N83: =ROUND(L83*M83,2) -> #REF! | O83: =ROUND(K83*N83,2) -> #REF! | Q83: =INDEX(#REF!,MATCH(A83,#REF!,0),0) -> #REF! | R83: =1+$T$11 -> 1.2757 | S83: =ROUND(Q83*R83,2) -> #REF! | T83: =ROUND(K83*S83,2) -> #REF!
A84: =B84&C84 -> SIURB EDIF15002010 | B84: SIURB EDIF | C84: 15002010 | D84: =$D$81 -> 4 | E84: . | F84: 3 | I84: =INDEX(#REF!,MATCH(A84,#REF!,0),0) -> #REF! | J84: =INDEX(#REF!,MATCH(A84,#REF!,0),0) -> #REF! | K84: 110.25 | L84: =INDEX(#REF!,MATCH(A84,#REF!,0),0) -> #REF! | M84: =1+$O$11 -> 1.25 | N84: =ROUND(L84*M84,2) -> #REF! | O84: =ROUND(K84*N84,2) -> #REF! | Q84: =INDEX(#REF!,MATCH(A84,#REF!,0),0) -> #REF! | R84: =1+$T$11 -> 1.2757 | S84: =ROUND(Q84*R84,2) -> #REF! | T84: =ROUND(K84*S84,2) -> #REF!
A85: =B85&C85 -> SIURB EDIF15003010 | B85: SIURB EDIF | C85: 15003010 | D85: =$D$81 -> 4 | E85: . | F85: 4 | I85: =INDEX(#REF!,MATCH(A85,#REF!,0),0) -> #REF! | J85: =INDEX(#REF!,MATCH(A85,#REF!,0),0) -> #REF! | K85: 154.54 | L85: =INDEX(#REF!,MATCH(A85,#REF!,0),0) -> #REF! | M85: =1+$O$11 -> 1.25 | N85: =ROUND(L85*M85,2) -> #REF! | O85: =ROUND(K85*N85,2) -> #REF! | Q85: =INDEX(#REF!,MATCH(A85,#REF!,0),0) -> #REF! | R85: =1+$T$11 -> 1.2757 | S85: =ROUND(Q85*R85,2) -> #REF! | T85: =ROUND(K85*S85,2) -> #REF!
A86: =B86&C86 -> CDHU30.06.100 | B86: CDHU | C86: 30.06.100 | D86: =$D$81 -> 4 | E86: . | F86: 5 | I86: =INDEX(#REF!,MATCH(A86,#REF!,0),0) -> #REF! | J86: =INDEX(#REF!,MATCH(A86,#REF!,0),0) -> #REF! | K86: 2 | L86: =INDEX(#REF!,MATCH(A86,#REF!,0),0) -> #REF! | M86: =1+$O$11 -> 1.25 | N86: =ROUND(L86*M86,2) -> #REF! | O86: =ROUND(K86*N86,2) -> #REF! | Q86: =INDEX(#REF!,MATCH(A86,#REF!,0),0) -> #REF! | R86: =1+$T$11 -> 1.2757 | S86: =ROUND(Q86*R86,2) -> #REF! | T86: =ROUND(K86*S86,2) -> #REF!
A87: =B87&C87 -> SIURB EDIF13080061 | B87: SIURB EDIF | C87: 13080061 | D87: =$D$81 -> 4 | E87: . | F87: 6 | I87: =INDEX(#REF!,MATCH(A87,#REF!,0),0) -> #REF! | J87: =INDEX(#REF!,MATCH(A87,#REF!,0),0) -> #REF! | K87: 207.99 | L87: =INDEX(#REF!,MATCH(A87,#REF!,0),0) -> #REF! | M87: =1+$O$11 -> 1.25 | N87: =ROUND(L87*M87,2) -> #REF! | O87: =ROUND(K87*N87,2) -> #REF! | Q87: =INDEX(#REF!,MATCH(A87,#REF!,0),0) -> #REF! | R87: =1+$T$11 -> 1.2757 | S87: =ROUND(Q87*R87,2) -> #REF! | T87: =ROUND(K87*S87,2) -> #REF!
A88: =B88&C88 -> SIURB EDIF13080070 | B88: SIURB EDIF | C88: 13080070 | D88: =$D$81 -> 4 | E88: . | F88: 7 | I88: =INDEX(#REF!,MATCH(A88,#REF!,0),0) -> #REF! | J88: =INDEX(#REF!,MATCH(A88,#REF!,0),0) -> #REF! | K88: 207.99 | L88: =INDEX(#REF!,MATCH(A88,#REF!,0),0) -> #REF! | M88: =1+$O$11 -> 1.25 | N88: =ROUND(L88*M88,2) -> #REF! | O88: =ROUND(K88*N88,2) -> #REF! | Q88: =INDEX(#REF!,MATCH(A88,#REF!,0),0) -> #REF! | R88: =1+$T$11 -> 1.2757 | S88: =ROUND(Q88*R88,2) -> #REF! | T88: =ROUND(K88*S88,2) -> #REF!
A89: =B89&C89 | I89: TOTAL DO ITEM | O89: =SUM(O82:O88) -> #REF! | T89: =SUM(T82:T88) -> #REF!
A90: =B90&C90 | D90: 5 | E90: . | F90: 0 | I90: LIMPEZA FINAL
A91: =B91&C91 -> SIURB EDIF17004001 | B91: SIURB EDIF | C91: 17004001 | D91: =D90 -> 5 | E91: . | F91: 1 | I91: =INDEX(#REF!,MATCH(A91,#REF!,0),0) -> #REF! | J91: =INDEX(#REF!,MATCH(A91,#REF!,0),0) -> #REF! | K91: 644.41 | L91: =INDEX(#REF!,MATCH(A91,#REF!,0),0) -> #REF! | M91: =1+$O$11 -> 1.25 | N91: =ROUND(L91*M91,2) -> #REF! | O91: =ROUND(K91*N91,2) -> #REF! | Q91: =INDEX(#REF!,MATCH(A91,#REF!,0),0) -> #REF! | R91: =1+$T$11 -> 1.2757 | S91: =ROUND(Q91*R91,2) -> #REF! | T91: =ROUND(K91*S91,2) -> #REF!
A92: =B92&C92 | I92: TOTAL DO ITEM | O92: =SUM(O91) -> #REF! | T92: =SUM(T91) -> #REF!
I94: SOMATORIA ITEM 2.0 A 5.0 PARA INSTALAÇÕES | O94: =SUM(O92,O89,O80,O39) -> #REF! | S94: SOMATORIA ITEM 2.0 A 8.0 PARA EVENTUAIS | T94: =SUM(T92,T89,T80,T39,T19) -> #REF!
A95: =B95&C95 | D95: 6 | E95: . | F95: 0 | I95: INSTALAÇÕES
D96: =D95 -> 6 | E96: . | F96: 1 | I96: INSTALAÇÕES HIDRAULICAS | J96: % | K96: 0.02 | L96: =O94 -> #REF! | N96: =L96*K96 -> #REF! | O96: =N96 -> #REF! | Q96: 2 | R96: =1+$T$11 -> 1.2757 | S96: =T94*P96 -> #REF! | T96: =ROUND(K96*S96,2) -> #REF!
A97: =B97&C97 | I97: TOTAL DO ITEM | O97: =SUM(O96) -> #REF! | T97: =SUM(T96) -> #REF!
I99: SOMATORIA ITEM 2.0 A 6.0 PARA SERVIÇOS EVENTUAIS | O99: =SUM(O97,O94) -> #REF! | S99: SOMATORIA ITEM 2.0 A 8.0 PARA EVENTUAIS | T99: =SUM(T97,T94) -> #REF!
A100: =B100&C100 | D100: 7 | E100: . | F100: 0 | I100: SERVIÇOS EVENTUAIS
A101: =B101&C101 | D101: =D100 -> 7 | E101: . | F101: 1 | I101: SERVIÇOS EVENTUAIS | J101: % | K101: 0.05 | L101: =O99 -> #REF! | N101: =L101*K101 -> #REF! | O101: =N101 -> #REF! | Q101: 0.1 | R101: =1+$T$11 -> 1.2757 | S101: =T99*Q101 -> #REF! | T101: =S101 -> #REF!
A102: =B102&C102 | O102: =SUM(O101) -> #REF! | T102: =SUM(T101) -> #REF!
A104: =B104&C104 | I104: SOMATORIA ITEM 1.0 A 7.0 | O104: =O19+O39+O80+O89+O92+O97+O102 -> #REF! | T104: =T99+T102 -> #REF!
I106: TOTAL GERAL C/ BDI 25% (SEM DES) CDHU 193, SIURB JAN-2024, SINAPI FEV-2024, DER DEZ-2023 | O106: =O104 -> #REF! | T106: =T104 -> #REF!
F110: ENGº ALEXANDRE KOPPERSCHMID PIGNATON | J110: ENGª GIULIANA SILVERIO MUNIZ CAMARGO
I111: Chefe de Divisão | J111: Diretora do Departamento de Obras e Edificações Públicas

Sheet RESUMO
A6: RESUMO DA PQPU - PLANILHA DE QUANTIDADES E PREÇOS UNITÁRIOS
A8: OBRA: | C8: CONTRATAÇÃO DE EMPRESA ESPECIALIZADA CAPACITADA PARA A ELABORAÇÃO DE PROJETOS BÁSICOS E EXECUTIVOS, ABRANGENDO A ELABORAÇÃO DE PEÇAS TÉCNICAS E GRÁFICAS, LEVANTAMENTOS, SONDAGENS, ORÇAMENTOS E ESTUDOS DIVERSOS, COM A FINALIDADE DE ASSEGURAR AS OBRAS DE: (A)-REVITALIZAÇÃO E AMPLIAÇÃO DO PARQUE DA CIDADE, (B)-REVITALIZAÇÃO DO PARQUE LEON FEFFER E (C)-IMPLANTAÇÃO DO PARQUE NÁUTICO MOGIANO, NO MUNICÍPIO DE MOGI DAS CRUZES
A9: LOCAL: | C9: MOGI DAS CRUZES - SP
K10: DATA: | L10: 46054
H11: PLANILHA DE QUANTIDADES E PREÇOS UNITÁRIOS SEM DESONERAÇÃO | K11: BDI: | L11: 0.25
A13: REF | B13: CÓDIGO | F13: ITEM | H13: DESCRIÇÃO DOS SERVIÇOS | L13: PREÇO TOTAL
C15: 1 | D15: . | E15: 0 | H15: SERVIÇOS TOPOGRÁFICOS E ESTUDOS INICIAIS | K15: =L15/L18 -> 0.21755886 | L15: ='PQPU PROJETOS PQ TOTAL'!L21 -> 161296.9
C16: 2 | D16: . | E16: 0 | H16: SONDAGEM | K16: =L16/L18 -> 0.048845588 | L16: ='PQPU PROJETOS PQ TOTAL'!L27 -> 36213.84
C17: 3 | D17: . | E17: 0 | H17: PROJETOS E SERVIÇOS TÉCNICOS | K17: =1-K15-K16 -> 0.73359555 | L17: ='PQPU PROJETOS PQ TOTAL'!L47 -> 543883.55
H18: TOTAL GERAL C/ BDI 25% (SEM DES) CDHU 200, SIURB JUL-2025 | L18: =L15+L16+L17 -> 741394.29
E22: ENGº ALEXANDRE KOPPERSCHMID PIGNATON | I22: Engª LEILA ALCANTARA GALVÃO
H23: Dir. Dep de Obras e Edificações | I23: Secretaria Adjunta de Obras e Infraestrutura
H41: PERFURAÇÃO E EXECUÇÃO DE ENSAIO PENETOMÉTRICO OU DE LAVAGEM POR TEMPO

Sheet PQPU PROJETOS PQ TOTAL
A6: PQPU - PLANILHA DE QUANTIDADES E PREÇOS UNITÁRIOS
A8: OBRA: | C8: CONTRATAÇÃO DE EMPRESA ESPECIALIZADA CAPACITADA PARA A ELABORAÇÃO DE PROJETOS BÁSICOS E EXECUTIVOS, ABRANGENDO A ELABORAÇÃO DE PEÇAS TÉCNICAS E GRÁFICAS, LEVANTAMENTOS, SONDAGENS, ORÇAMENTOS E ESTUDOS DIVERSOS, COM A FINALIDADE DE ASSEGURAR AS OBRAS DE: (A)-REVITALIZAÇÃO E AMPLIAÇÃO DO PARQUE DA CIDADE, (B)-REVITALIZAÇÃO DO PARQUE LEON FEFFER E (C)-IMPLANTAÇÃO DO PARQUE NÁUTICO MOGIANO, NO MUNICÍPIO DE MOGI DAS CRUZES
A9: LOCAL: | C9: MOGI DAS CRUZES - SP
K10: DATA: | L10: 46054
H11: PLANILHA DE QUANTIDADES E PREÇOS UNITÁRIOS SEM DESONERAÇÃO | K11: BDI: | L11: 0.25
A12: REF | B12: CÓDIGO | F12: ITEM | H12: DESCRIÇÃO DOS SERVIÇOS | I12: UN | J12: QUANTIDADE | K12: PREÇO UNITÁRIO C/ BDI | L12: PREÇO TOTAL
C14: 1 | D14: . | E14: 0 | H14: SERVIÇOS TOPOGRÁFICOS E ESTUDOS INICIAIS
A15: SIURB INFRA | B15: 1010000 | C15: 1 | D15: . | E15: 1 | H15: LEVANTAMENTO PLANIALTIMÉTRICO CADASTRAL | I15: M2 | J15: 56500 | K15: 1.1 | L15: =ROUND(J15*K15,2) -> 62150
A16: SIURB EDIF | B16: 20003071 | C16: 1 | D16: . | E16: 2 | H16: LEVANTAMENTO CADASTRAL DE EDIFICAÇÃO ENTRE 501M2 À 2000M2 | I16: M2 | J16: 1500 | K16: 9.29 | L16: =ROUND(J16*K16,2) -> 13935
B17: COMPOSIÇÃO 1 | C17: 1 | D17: . | E17: 3 | H17: RELATÓRIO TÉCNICO PARA REVITALIZAÇÃO E IMPLANTAÇÃO DO PARQUE DA CIDADE | I17: GL | J17: 1 | K17: 14626.37 | L17: =ROUND(J17*K17,2) -> 14626.37
B18: COMPOSIÇÃO 2 | C18: 1 | D18: . | E18: 4 | H18: RELATÓRIO TÉCNICO PARA REVITALIZAÇÃO E IMPLANTAÇÃO DO PARQUE LEON FEFFER | I18: GL | J18: 1 | K18: 7860.22 | L18: =ROUND(J18*K18,2) -> 7860.22
B19: COMPOSIÇÃO 3 | C19: 1 | D19: . | E19: 5 | H19: RELATÓRIO TÉCNICO PARA REVITALIZAÇÃO E IMPLANTAÇÃO DO PARQUE NÁUTICO MOGIANO | I19: GL | J19: 1 | K19: 27680.62 | L19: =ROUND(J19*K19,2) -> 27680.62
B20: COMPOSIÇÃO 10 | C20: 1 | D20: . | E20: 6 | H20: RELATÓRIO AMBIENTAL E OBTENÇÃO DA LAP | I20: GL | J20: 1 | K20: 35044.69 | L20: =ROUND(J20*K20,2) -> 35044.69
K21: TOTAL DO ITEM 1.0 | L21: =SUM(L15:L20) -> 161296.9
C23: 2 | D23: . | E23: 0 | H23: SONDAGEM
A24: SIURB EDIF | B24: 20002009 | C24: 2 | D24: . | E24: 1 | H24: PERFURAÇÃO E EXECUÇÃO DE ENSAIO PENETROMÉTRICO OU DE LAVAGEM POR TEMPO | I24: M | J24: 150 | K24: 224.7 | L24: =ROUND(J24*K24,2) -> 33705 | M24: 25
A25: SIURB EDIF | B25: 20002002 | C25: 2 | D25: . | E25: 2 | H25: MOBILIZAÇÃO E INSTALAÇÃO DE 1 EQUIPAMENTO PARA EXECUÇÃO DE SONDAGEM A PERCUSSÃO | I25: UN | J25: 2 | K25: 940.2 | L25: =ROUND(J25*K25,2) -> 1880.4
A26: SIURB EDIF | B26: 20002003 | C26: 2 | D26: . | E26: 3 | H26: DESLOCAMENTO DE EQUIPAMENTO ENTRE FUROS EM TERRENO PLANO, CONSIDERANDO A DISTÂNCIA ATÉ 100M, PARA SONDAGEM A PERCUSSÃO | I26: UN | J26: 6 | K26: 104.74 | L26: =ROUND(J26*K26,2) -> 628.44
K27: TOTAL DO ITEM 2.0 | L27: =SUM(L24:L26) -> 36213.84
C29: 3 | D29: . | E29: 0 | H29: PROJETOS E SERVIÇOS TÉCNICOS
C30: 3 | D30: . | E30: 1 | H30: PARQUE DA CIDADE
B31: COMPOSIÇÃO 4 | C31: 3 | D31: . | E31: 1 | F31: . | G31: 1 | H31: PROJETO BÁSICO | I31: GL | J31: 1 | K31: 51484.27 | L31: =ROUND(J31*K31,2) -> 51484.27
B32: COMPOSIÇÃO 7 | C32: 3 | D32: . | E32: 1 | F32: . | G32: 2 | H32: PROJETO EXECUTIVO | I32: GL | J32: 1 | K32: 118466.25 | L32: =ROUND(J32*K32,2) -> 118466.25
A33: CDHU | B33: 01.06.031 | C33: 3 | D33: . | E33: 1 | F33: . | G33: 3 | H33: ELABORAÇÃO DE PROJETO DE ADEQUAÇÃO DE ENTRADA DE ENERGIA ELÉTRICA JUNTO A CONCESSIONÁRIA, COM MEDIÇÃO EM MÉDIA TENSÃO, SUBESTAÇÃO SIMPLIFICADA E DEMANDA DE 75 KVA A 300 KVA | I33: UN | J33: 1 | K33: 19484.03 | L33: =ROUND(J33*K33,2) -> 19484.03
K34: TOTAL DO SUB ITEM 3.1 | L34: =SUM(L31:L33) -> 189434.55
C36: 3 | D36: . | E36: 2 | H36: PARQUE LEON FEFFER
B37: COMPOSIÇÃO 5 | C37: 3 | D37: . | E37: 2 | F37: . | G37: 1 | H37: PROJETO BÁSICO | I37: GL | J37: 1 | K37: 57919.81 | L37: =ROUND(J37*K37,2) -> 57919.81
B38: COMPOSIÇÃO 8 | C38: 3 | D38: . | E38: 2 | F38: . | G38: 2 | H38: PROJETO EXECUTIVO | I38: GL | J38: 1 | K38: 113530.16 | L38: =ROUND(J38*K38,2) -> 113530.16
K39: TOTAL DO SUB ITEM 3.2 | L39: =SUM(L37:L38) -> 171449.97
C41: 3 | D41: . | E41: 3 | H41: PARQUE NÁUTICO MOGIANO
B42: COMPOSIÇÃO 6 | C42: 3 | D42: . | E42: 3 | F42: . | G42: 1 | H42: PROJETO BÁSICO | I42: GL | J42: 1 | K42: 45048.75 | L42: =ROUND(J42*K42,2) -> 45048.75
B43: COMPOSIÇÃO 9 | C43: 3 | D43: . | E43: 3 | F43: . | G43: 2 | H43: PROJETO EXECUTIVO | I43: GL | J43: 1 | K43: 118466.25 | L43: =ROUND(J43*K43,2) -> 118466.25
A44: CDHU | B44: 01.06.031 | C44: 3 | D44: . | E44: 3 | F44: . | G44: 3 | H44: ELABORAÇÃO DE PROJETO DE ADEQUAÇÃO DE ENTRADA DE ENERGIA ELÉTRICA JUNTO A CONCESSIONÁRIA, COM MEDIÇÃO EM MÉDIA TENSÃO, SUBESTAÇÃO SIMPLIFICADA E DEMANDA DE 75 KVA A 300 KVA | I44: UN | J44: 1 | K44: 19484.03 | L44: =ROUND(J44*K44,2) -> 19484.03
K45: TOTAL DO SUB ITEM 3.3 | L45: =SUM(L42:L44) -> 182999.03
K47: TOTAL DO ITEM 3.0 | L47: =+L34+L39+L45 -> 543883.55
H49: TOTAL GERAL C/ BDI 25% (SEM DES) CDHU 200, SIURB JUL-2025 | L49: =+L21+L27+L47 -> 741394.29
E51: ENGº ALEXANDRE KOPPERSCHMID PIGNATON | I51: Engª LEILA ALCANTARA GALVÃO
H52: Dir. Dep de Obras e Edificações | I52: Secretaria Adjunta de Obras e Infraestrutura
B54: OBS: Para a Elaboração da proposta, na coluna PREÇO TOTAL, utilizar a função arredondar para duas casas decimais.

Sheet PQPU VER 1
Q2: DESONERADO
B6: PQPU - PLANILHA DE QUANTIDADES E PREÇOS UNITÁRIOS
B8: OBRA: | D8: ATA DE PROJETOS
B9: LOCAL:
N10: DATA: | O10: 45717 | S10: DATA: | T10: JUL/2022
I11: PLANILHA DE QUANTIDADES E PREÇOS UNITÁRIOS SEM DESONERAÇÃO | N11: BDI: | O11: 0.25 | S11: BDI: | T11: 0.2757
A12: COD-REF | B12: REF | C12: CÓDIGO | G12: ITEM | I12: DESCRIÇÃO DOS SERVIÇOS | J12: UN | K12: QUANTIDADE | L12: $ UNITÁRIO S/ BDI | M12: BDI | N12: PREÇO UNITÁRIO | O12: PREÇO TOTAL | Q12: $ UNITÁRIO S/ BDI | R12: BDI | S12: PREÇO UNITÁRIO | T12: PREÇO TOTAL
A14: =B14&C14 | D14: 1 | E14: . | F14: 0 | I14: SERVIÇOS TOPOGRÁFICOS E ESTUDOS INICIAIS
A15: =B15&C15 -> SIURB INFRA1010000 | B15: SIURB INFRA | C15: 1010000 | D15: =$D$14 -> 1 | E15: . | F15: =F14+1 -> 1 | I15: =INDEX(#REF!,MATCH(A15,#REF!,0),0) -> #REF! | J15: =INDEX(#REF!,MATCH(A15,#REF!,0),0) -> #REF! | K15: 400000 | L15: =INDEX(#REF!,MATCH(A15,#REF!,0),0) -> #REF! | M15: =1+$O$11 -> 1.25 | N15: =ROUND(L15*M15,2) -> #REF! | O15: =ROUND(K15*N15,2) -> #REF! | Q15: =INDEX(#REF!,MATCH(A15,#REF!,0),0) -> #REF! | R15: =1+$T$11 -> 1.2757 | S15: =Q15*R15 -> #REF! | T15: =ROUND(S15*K15,2) -> #REF!
A16: =B16&C16 -> SIURB EDIF20003070 | B16: SIURB EDIF | C16: 20003070 | D16: =$D$14 -> 1 | E16: . | F16: =F15+1 -> 2 | I16: =INDEX(#REF!,MATCH(A16,#REF!,0),0) -> #REF! | J16: =INDEX(#REF!,MATCH(A16,#REF!,0),0) -> #REF! | K16: 22 | L16: =INDEX(#REF!,MATCH(A16,#REF!,0),0) -> #REF! | M16: =1+$O$11 -> 1.25 | N16: =ROUND(L16*M16,2) -> #REF! | O16: =ROUND(K16*N16,2) -> #REF! | Q16: =INDEX(#REF!,MATCH(A16,#REF!,0),0) -> #REF! | R16: =1+$T$11 -> 1.2757 | S16: =Q16*R16 -> #REF! | T16: =ROUND(S16*K16,2) -> #REF!
A17: =B17&C17 -> SIURB EDIF20003071 | B17: SIURB EDIF | C17: 20003071 | D17: =$D$14 -> 1 | E17: . | F17: =F16+1 -> 3 | I17: =INDEX(#REF!,MATCH(A17,#REF!,0),0) -> #REF! | J17: =INDEX(#REF!,MATCH(A17,#REF!,0),0) -> #REF! | K17: 8000 | L17: =INDEX(#REF!,MATCH(A17,#REF!,0),0) -> #REF! | M17: =1+$O$11 -> 1.25 | N17: =ROUND(L17*M17,2) -> #REF! | O17: =ROUND(K17*N17,2) -> #REF! | Q17: =INDEX(#REF!,MATCH(A17,#REF!,0),0) -> #REF! | R17: =1+$T$11 -> 1.2757 | S17: =Q17*R17 -> #REF! | T17: =ROUND(S17*K17,2) -> #REF!
A18: =B18&C18 -> SIURB EDIF20003072 | B18: SIURB EDIF | C18: 20003072 | D18: =$D$14 -> 1 | E18: . | F18: =F17+1 -> 4 | I18: =INDEX(#REF!,MATCH(A18,#REF!,0),0) -> #REF! | J18: =INDEX(#REF!,MATCH(A18,#REF!,0),0) -> #REF! | K18: 8000 | L18: =INDEX(#REF!,MATCH(A18,#REF!,0),0) -> #REF! | M18: =1+$O$11 -> 1.25 | N18: =ROUND(L18*M18,2) -> #REF! | O18: =ROUND(K18*N18,2) -> #REF! | Q18: =INDEX(#REF!,MATCH(A18,#REF!,0),0) -> #REF! | R18: =1+$T$11 -> 1.2757 | S18: =Q18*R18 -> #REF! | T18: =ROUND(S18*K18,2) -> #REF!
A19: =B19&C19 -> SIURB INFRA3009000 | B19: SIURB INFRA | C19: 3009000 | D19: =$D$14 -> 1 | E19: . | F19: =F18+1 -> 5 | I19: =INDEX(#REF!,MATCH(A19,#REF!,0),0) -> #REF! | J19: =INDEX(#REF!,MATCH(A19,#REF!,0),0) -> #REF! | K19: 10 | L19: =INDEX(#REF!,MATCH(A19,#REF!,0),0) -> #REF! | M19: =1+$O$11 -> 1.25 | N19: =ROUND(L19*M19,2) -> #REF! | O19: =ROUND(K19*N19,2) -> #REF! | Q19: =INDEX(#REF!,MATCH(A19,#REF!,0),0) -> #REF! | R19: =1+$T$11 -> 1.2757 | S19: =Q19*R19 -> #REF! | T19: =ROUND(S19*K19,2) -> #REF!
A20: =B20&C20 -> SIURB INFRA3010000 | B20: SIURB INFRA | C20: 3010000 | D20: =$D$14 -> 1 | E20: . | F20: =F19+1 -> 6 | I20: =INDEX(#REF!,MATCH(A20,#REF!,0),0) -> #REF! | J20: =INDEX(#REF!,MATCH(A20,#REF!,0),0) -> #REF! | K20: 20 | L20: =INDEX(#REF!,MATCH(A20,#REF!,0),0) -> #REF! | M20: =1+$O$11 -> 1.25 | N20: =ROUND(L20*M20,2) -> #REF! | O20: =ROUND(K20*N20,2) -> #REF! | Q20: =INDEX(#REF!,MATCH(A20,#REF!,0),0) -> #REF! | R20: =1+$T$11 -> 1.2757 | S20: =Q20*R20 -> #REF! | T20: =ROUND(S20*K20,2) -> #REF!
A21: =B21&C21 -> SIURB INFRA3012000 | B21: SIURB INFRA | C21: 3012000 | D21: =$D$14 -> 1 | E21: . | F21: =F20+1 -> 7 | I21: =INDEX(#REF!,MATCH(A21,#REF!,0),0) -> #REF! | J21: =INDEX(#REF!,MATCH(A21,#REF!,0),0) -> #REF! | K21: 3000 | L21: =INDEX(#REF!,MATCH(A21,#REF!,0),0) -> #REF! | M21: =1+$O$11 -> 1.25 | N21: =ROUND(L21*M21,2) -> #REF! | O21: =ROUND(K21*N21,2) -> #REF! | Q21: =INDEX(#REF!,MATCH(A21,#REF!,0),0) -> #REF! | R21: =1+$T$11 -> 1.2757 | S21: =Q21*R21 -> #REF! | T21: =ROUND(S21*K21,2) -> #REF!
A22: =B22&C22 -> CDHU01.02.071 | B22: CDHU | C22: 01.02.071 | D22: =$D$14 -> 1 | E22: . | F22: =F21+1 -> 8 | I22: =INDEX(#REF!,MATCH(A22,#REF!,0),0) -> #REF! | J22: =INDEX(#REF!,MATCH(A22,#REF!,0),0) -> #REF! | K22: 10 | L22: =INDEX(#REF!,MATCH(A22,#REF!,0),0) -> #REF! | M22: =1+$O$11 -> 1.25 | N22: =ROUND(L22*M22,2) -> #REF! | O22: =ROUND(K22*N22,2) -> #REF! | Q22: =INDEX(#REF!,MATCH(A22,#REF!,0),0) -> #REF! | R22: =1+$T$11 -> 1.2757 | S22: =Q22*R22 -> #REF! | T22: =ROUND(S22*K22,2) -> #REF!
A23: =B23&C23 -> CDHU01.02.081 | B23: CDHU | C23: 01.02.081 | D23: =$D$14 -> 1 | E23: . | F23: =F22+1 -> 9 | I23: =INDEX(#REF!,MATCH(A23,#REF!,0),0) -> #REF! | J23: =INDEX(#REF!,MATCH(A23,#REF!,0),0) -> #REF! | K23: 6 | L23: =INDEX(#REF!,MATCH(A23,#REF!,0),0) -> #REF! | M23: =1+$O$11 -> 1.25 | N23: =ROUND(L23*M23,2) -> #REF! | O23: =ROUND(K23*N23,2) -> #REF! | Q23: =INDEX(#REF!,MATCH(A23,#REF!,0),0) -> #REF! | R23: =1+$T$11 -> 1.2757 | S23: =Q23*R23 -> #REF! | T23: =ROUND(S23*K23,2) -> #REF!
A24: =B24&C24 -> CDHU01.02.091 | B24: CDHU | C24: 01.02.091 | D24: =$D$14 -> 1 | E24: . | F24: =F23+1 -> 10 | I24: =INDEX(#REF!,MATCH(A24,#REF!,0),0) -> #REF! | J24: =INDEX(#REF!,MATCH(A24,#REF!,0),0) -> #REF! | K24: 4 | L24: =INDEX(#REF!,MATCH(A24,#REF!,0),0) -> #REF! | M24: =1+$O$11 -> 1.25 | N24: =ROUND(L24*M24,2) -> #REF! | O24: =ROUND(K24*N24,2) -> #REF! | Q24: =INDEX(#REF!,MATCH(A24,#REF!,0),0) -> #REF! | R24: =1+$T$11 -> 1.2757 | S24: =Q24*R24 -> #REF! | T24: =ROUND(S24*K24,2) -> #REF!
A25: =B25&C25 -> CDHU01.02.101 | B25: CDHU | C25: 01.02.101 | D25: =$D$14 -> 1 | E25: . | F25: =F24+1 -> 11 | I25: =INDEX(#REF!,MATCH(A25,#REF!,0),0) -> #REF! | J25: =INDEX(#REF!,MATCH(A25,#REF!,0),0) -> #REF! | K25: 2 | L25: =INDEX(#REF!,MATCH(A25,#REF!,0),0) -> #REF! | M25: =1+$O$11 -> 1.25 | N25: =ROUND(L25*M25,2) -> #REF! | O25: =ROUND(K25*N25,2) -> #REF! | Q25: =INDEX(#REF!,MATCH(A25,#REF!,0),0) -> #REF! | R25: =1+$T$11 -> 1.2757 | S25: =Q25*R25 -> #REF! | T25: =ROUND(S25*K25,2) -> #REF!
A26: =B26&C26 | N26: TOTAL DO ITEM | O26: =SUM(O15:O25) -> #REF! | T26: =SUM(T15:T25) -> #REF!
A28: =B28&C28 | D28: 2 | E28: . | F28: 0 | I28: SONDAGEM, ENSAIOS E CONTROLE TECNÓLOGICO
A29: =B29&C29 -> SIURB INFRA2001001 | B29: SIURB INFRA | C29: 2001001 | D29: =D28 -> 2 | E29: . | F29: =F28+1 -> 1 | I29: =INDEX(#REF!,MATCH(A29,#REF!,0),0) -> #REF! | J29: =INDEX(#REF!,MATCH(A29,#REF!,0),0) -> #REF! | K29: 800 | L29: =INDEX(#REF!,MATCH(A29,#REF!,0),0) -> #REF! | M29: =1+$O$11 -> 1.25 | N29: =ROUND(L29*M29,2) -> #REF! | O29: =ROUND(K29*N29,2) -> #REF! | Q29: =INDEX(#REF!,MATCH(A29,#REF!,0),0) -> #REF! | R29: =1+$T$11 -> 1.2757 | S29: =Q29*R29 -> #REF! | T29: =ROUND(S29*K29,2) -> #REF!
A30: =B30&C30 -> SIURB INFRA2001002 | B30: SIURB INFRA | C30: 2001002 | D30: =$D$28 -> 2 | E30: . | F30: =F29+1 -> 2 | I30: =INDEX(#REF!,MATCH(A30,#REF!,0),0) -> #REF! | J30: =INDEX(#REF!,MATCH(A30,#REF!,0),0) -> #REF! | K30: 140 | L30: =INDEX(#REF!,MATCH(A30,#REF!,0),0) -> #REF! | M30: =1+$O$11 -> 1.25 | N30: =ROUND(L30*M30,2) -> #REF! | O30: =ROUND(K30*N30,2) -> #REF! | P30: =314-358 -> -44 | Q30: =INDEX(#REF!,MATCH(A30,#REF!,0),0) -> #REF! | R30: =1+$T$11 -> 1.2757 | S30: =Q30*R30 -> #REF! | T30: =ROUND(S30*K30,2) -> #REF!
A31: =B31&C31 -> SIURB EDIF20002002 | B31: SIURB EDIF | C31: 20002002 | D31: =$D$28 -> 2 | E31: . | F31: =F29+1 -> 2 | I31: =INDEX(#REF!,MATCH(A31,#REF!,0),0) -> #REF! | J31: =INDEX(#REF!,MATCH(A31,#REF!,0),0) -> #REF! | K31: 20 | L31: =INDEX(#REF!,MATCH(A31,#REF!,0),0) -> #REF! | M31: =1+$O$11 -> 1.25 | N31: =ROUND(L31*M31,2) -> #REF! | O31: =ROUND(K31*N31,2) -> #REF! | P31: =314-358 -> -44 | Q31: =INDEX(#REF!,MATCH(A31,#REF!,0),0) -> #REF! | R31: =1+$T$11 -> 1.2757 | S31: =Q31*R31 -> #REF! | T31: =ROUND(S31*K31,2) -> #REF!
A32: =B32&C32 -> SIURB EDIF20002009 | B32: SIURB EDIF | C32: 20002009 | D32: =$D$28 -> 2 | E32: . | F32: =F30+1 -> 3 | I32: =INDEX(#REF!,MATCH(A32,#REF!,0),0) -> #REF! | J32: =INDEX(#REF!,MATCH(A32,#REF!,0),0) -> #REF! | K32: 1000 | L32: =INDEX(#REF!,MATCH(A32,#REF!,0),0) -> #REF! | M32: =1+$O$11 -> 1.25 | N32: =ROUND(L32*M32,2) -> #REF! | O32: =ROUND(K32*N32,2) -> #REF! | P32: =314-358 -> -44 | Q32: =INDEX(#REF!,MATCH(A32,#REF!,0),0) -> #REF! | R32: =1+$T$11 -> 1.2757 | S32: =Q32*R32 -> #REF! | T32: =ROUND(S32*K32,2) -> #REF!
A33: =B33&C33 -> SIURB INFRA2006001 | B33: SIURB INFRA | C33: 2006001 | D33: =$D$28 -> 2 | E33: . | F33: =F32+1 -> 4 | I33: =INDEX(#REF!,MATCH(A33,#REF!,0),0) -> #REF! | J33: =INDEX(#REF!,MATCH(A33,#REF!,0),0) -> #REF! | K33: 75 | L33: =INDEX(#REF!,MATCH(A33,#REF!,0),0) -> #REF! | M33: =1+$O$11 -> 1.25 | N33: =ROUND(L33*M33,2) -> #REF! | O33: =ROUND(K33*N33,2) -> #REF! | Q33: =INDEX(#REF!,MATCH(A33,#REF!,0),0) -> #REF! | R33: =1+$T$11 -> 1.2757 | S33: =Q33*R33 -> #REF! | T33: =ROUND(S33*K33,2) -> #REF!
A34: =B34&C34 -> SIURB INFRA2006002 | B34: SIURB INFRA | C34: 2006002 | D34: =$D$28 -> 2 | E34: . | F34: =F33+1 -> 5 | I34: =INDEX(#REF!,MATCH(A34,#REF!,0),0) -> #REF! | J34: =INDEX(#REF!,MATCH(A34,#REF!,0),0) -> #REF! | K34: 75 | L34: =INDEX(#REF!,MATCH(A34,#REF!,0),0) -> #REF! | M34: =1+$O$11 -> 1.25 | N34: =ROUND(L34*M34,2) -> #REF! | O34: =ROUND(K34*N34,2) -> #REF! | Q34: =INDEX(#REF!,MATCH(A34,#REF!,0),0) -> #REF! | R34: =1+$T$11 -> 1.2757 | S34: =Q34*R34 -> #REF! | T34: =ROUND(S34*K34,2) -> #REF!
A35: =B35&C35 -> SIURB INFRA2006003 | B35: SIURB INFRA | C35: 2006003 | D35: =$D$28 -> 2 | E35: . | F35: =F34+1 -> 6 | I35: =INDEX(#REF!,MATCH(A35,#REF!,0),0) -> #REF! | J35: =INDEX(#REF!,MATCH(A35,#REF!,0),0) -> #REF! | K35: 75 | L35: =INDEX(#REF!,MATCH(A35,#REF!,0),0) -> #REF! | M35: =1+$O$11 -> 1.25 | N35: =ROUND(L35*M35,2) -> #REF! | O35: =ROUND(K35*N35,2) -> #REF! | Q35: =INDEX(#REF!,MATCH(A35,#REF!,0),0) -> #REF! | R35: =1+$T$11 -> 1.2757 | S35: =Q35*R35 -> #REF! | T35: =ROUND(S35*K35,2) -> #REF!
A36: =B36&C36 -> SIURB INFRA2006004 | B36: SIURB INFRA | C36: 2006004 | D36: =$D$28 -> 2 | E36: . | F36: =F35+1 -> 7 | I36: =INDEX(#REF!,MATCH(A36,#REF!,0),0) -> #REF! | J36: =INDEX(#REF!,MATCH(A36,#REF!,0),0) -> #REF! | K36: 75 | L36: =INDEX(#REF!,MATCH(A36,#REF!,0),0) -> #REF! | M36: =1+$O$11 -> 1.25 | N36: =ROUND(L36*M36,2) -> #REF! | O36: =ROUND(K36*N36,2) -> #REF! | Q36: =INDEX(#REF!,MATCH(A36,#REF!,0),0) -> #REF! | R36: =1+$T$11 -> 1.2757 | S36: =Q36*R36 -> #REF! | T36: =ROUND(S36*K36,2) -> #REF!
A37: =B37&C37 -> SIURB INFRA2006005 | B37: SIURB INFRA | C37: 2006005 | D37: =$D$28 -> 2 | E37: . | F37: =F36+1 -> 8 | I37: =INDEX(#REF!,MATCH(A37,#REF!,0),0) -> #REF! | J37: =INDEX(#REF!,MATCH(A37,#REF!,0),0) -> #REF! | K37: 75 | L37: =INDEX(#REF!,MATCH(A37,#REF!,0),0) -> #REF! | M37: =1+$O$11 -> 1.25 | N37: =ROUND(L37*M37,2) -> #REF! | O37: =ROUND(K37*N37,2) -> #REF! | Q37: =INDEX(#REF!,MATCH(A37,#REF!,0),0) -> #REF! | R37: =1+$T$11 -> 1.2757 | S37: =Q37*R37 -> #REF! | T37: =ROUND(S37*K37,2) -> #REF!
A38: =B38&C38 -> SIURB INFRA2006006 | B38: SIURB INFRA | C38: 2006006 | D38: =$D$28 -> 2 | E38: . | F38: =F37+1 -> 9 | I38: =INDEX(#REF!,MATCH(A38,#REF!,0),0) -> #REF! | J38: =INDEX(#REF!,MATCH(A38,#REF!,0),0) -> #REF! | K38: 75 | L38: =INDEX(#REF!,MATCH(A38,#REF!,0),0) -> #REF! | M38: =1+$O$11 -> 1.25 | N38: =ROUND(L38*M38,2) -> #REF! | O38: =ROUND(K38*N38,2) -> #REF! | Q38: =INDEX(#REF!,MATCH(A38,#REF!,0),0) -> #REF! | R38: =1+$T$11 -> 1.2757 | S38: =Q38*R38 -> #REF! | T38: =ROUND(S38*K38,2) -> #REF!
A39: =B39&C39 -> SIURB INFRA2006007 | B39: SIURB INFRA | C39: 2006007 | D39: =$D$28 -> 2 | E39: . | F39: =F38+1 -> 10 | I39: =INDEX(#REF!,MATCH(A39,#REF!,0),0) -> #REF! | J39: =INDEX(#REF!,MATCH(A39,#REF!,0),0) -> #REF! | K39: 75 | L39: =INDEX(#REF!,MATCH(A39,#REF!,0),0) -> #REF! | M39: =1+$O$11 -> 1.25 | N39: =ROUND(L39*M39,2) -> #REF! | O39: =ROUND(K39*N39,2) -> #REF! | Q39: =INDEX(#REF!,MATCH(A39,#REF!,0),0) -> #REF! | R39: =1+$T$11 -> 1.2757 | S39: =Q39*R39 -> #REF! | T39: =ROUND(S39*K39,2) -> #REF!
A40: =B40&C40 -> SIURB INFRA2006008 | B40: SIURB INFRA | C40: 2006008 | D40: =$D$28 -> 2 | E40: . | F40: =F39+1 -> 11 | I40: =INDEX(#REF!,MATCH(A40,#REF!,0),0) -> #REF! | J40: =INDEX(#REF!,MATCH(A40,#REF!,0),0) -> #REF! | K40: 75 | L40: =INDEX(#REF!,MATCH(A40,#REF!,0),0) -> #REF! | M40: =1+$O$11 -> 1.25 | N40: =ROUND(L40*M40,2) -> #REF! | O40: =ROUND(K40*N40,2) -> #REF! | Q40: =INDEX(#REF!,MATCH(A40,#REF!,0),0) -> #REF! | R40: =1+$T$11 -> 1.2757 | S40: =Q40*R40 -> #REF! | T40: =ROUND(S40*K40,2) -> #REF!
A41: =B41&C41 -> SIURB INFRA2006009 | B41: SIURB INFRA | C41: 2006009 | D41: =$D$28 -> 2 | E41: . | F41: =F40+1 -> 12 | I41: =INDEX(#REF!,MATCH(A41,#REF!,0),0) -> #REF! | J41: =INDEX(#REF!,MATCH(A41,#REF!,0),0) -> #REF! | K41: 50 | L41: =INDEX(#REF!,MATCH(A41,#REF!,0),0) -> #REF! | M41: =1+$O$11 -> 1.25 | N41: =ROUND(L41*M41,2) -> #REF! | O41: =ROUND(K41*N41,2) -> #REF! | Q41: =INDEX(#REF!,MATCH(A41,#REF!,0),0) -> #REF! | R41: =1+$T$11 -> 1.2757 | S41: =Q41*R41 -> #REF! | T41: =ROUND(S41*K41,2) -> #REF!
A42: =B42&C42 -> SIURB INFRA2006010 | B42: SIURB INFRA | C42: 2006010 | D42: =$D$28 -> 2 | E42: . | F42: =F41+1 -> 13 | I42: =INDEX(#REF!,MATCH(A42,#REF!,0),0) -> #REF! | J42: =INDEX(#REF!,MATCH(A42,#REF!,0),0) -> #REF! | K42: 50 | L42: =INDEX(#REF!,MATCH(A42,#REF!,0),0) -> #REF! | M42: =1+$O$11 -> 1.25 | N42: =ROUND(L42*M42,2) -> #REF! | O42: =ROUND(K42*N42,2) -> #REF! | Q42: =INDEX(#REF!,MATCH(A42,#REF!,0),0) -> #REF! | R42: =1+$T$11 -> 1.2757 | S42: =Q42*R42 -> #REF! | T42: =ROUND(S42*K42,2) -> #REF!
A43: =B43&C43 -> SIURB INFRA2006021 | B43: SIURB INFRA | C43: 2006021 | D43: =$D$28 -> 2 | E43: . | F43: =F42+1 -> 14 | I43: =INDEX(#REF!,MATCH(A43,#REF!,0),0) -> #REF! | J43: =INDEX(#REF!,MATCH(A43,#REF!,0),0) -> #REF! | K43: 150 | L43: =INDEX(#REF!,MATCH(A43,#REF!,0),0) -> #REF! | M43: =1+$O$11 -> 1.25 | N43: =ROUND(L43*M43,2) -> #REF! | O43: =ROUND(K43*N43,2) -> #REF! | Q43: =INDEX(#REF!,MATCH(A43,#REF!,0),0) -> #REF! | R43: =1+$T$11 -> 1.2757 | S43: =Q43*R43 -> #REF! | T43: =ROUND(S43*K43,2) -> #REF!
A44: =B44&C44 -> SIURB INFRA2006022 | B44: SIURB INFRA | C44: 2006022 | D44: =$D$28 -> 2 | E44: . | F44: =F43+1 -> 15 | I44: =INDEX(#REF!,MATCH(A44,#REF!,0),0) -> #REF! | J44: =INDEX(#REF!,MATCH(A44,#REF!,0),0) -> #REF! | K44: 192 | L44: =INDEX(#REF!,MATCH(A44,#REF!,0),0) -> #REF! | M44: =1+$O$11 -> 1.25 | N44: =ROUND(L44*M44,2) -> #REF! | O44: =ROUND(K44*N44,2) -> #REF! | Q44: =INDEX(#REF!,MATCH(A44,#REF!,0),0) -> #REF! | R44: =1+$T$11 -> 1.2757 | S44: =Q44*R44 -> #REF! | T44: =ROUND(S44*K44,2) -> #REF!
A45: =B45&C45 -> SIURB INFRA2006101 | B45: SIURB INFRA | C45: 2006101 | D45: =$D$28 -> 2 | E45: . | F45: =F44+1 -> 16 | I45: =INDEX(#REF!,MATCH(A45,#REF!,0),0) -> #REF! | J45: =INDEX(#REF!,MATCH(A45,#REF!,0),0) -> #REF! | K45: 5 | L45: =INDEX(#REF!,MATCH(A45,#REF!,0),0) -> #REF! | M45: =1+$O$11 -> 1.25 | N45: =ROUND(L45*M45,2) -> #REF! | O45: =ROUND(K45*N45,2) -> #REF! | Q45: =INDEX(#REF!,MATCH(A45,#REF!,0),0) -> #REF! | R45: =1+$T$11 -> 1.2757 | S45: =Q45*R45 -> #REF! | T45: =ROUND(S45*K45,2) -> #REF!
A46: =B46&C46 | N46: TOTAL DO ITEM | O46: =SUM(O29:O45) -> #REF! | T46: =SUM(T29:T45) -> #REF!
A48: =B48&C48 | D48: 3 | E48: . | F48: 0 | I48: PROJETOS
A49: =B49&C49 -> SIURB EDIF20003060 | B49: SIURB EDIF | C49: 20003060 | D49: =$D$48 -> 3 | E49: . | F49: =F48+1 -> 1 | I49: =INDEX(#REF!,MATCH(A49,#REF!,0),0) -> #REF! | J49: =INDEX(#REF!,MATCH(A49,#REF!,0),0) -> #REF! | K49: 200 | L49: =INDEX(#REF!,MATCH(A49,#REF!,0),0) -> #REF! | M49: =1+$O$11 -> 1.25 | N49: =ROUND(L49*M49,2) -> #REF! | O49: =ROUND(K49*N49,2) -> #REF! | Q49: =INDEX(#REF!,MATCH(A49,#REF!,0),0) -> #REF! | R49: =1+$T$11 -> 1.2757 | S49: =Q49*R49 -> #REF! | T49: =ROUND(S49*K49,2) -> #REF!
A50: =B50&C50 -> SIURB EDIF20003061 | B50: SIURB EDIF | C50: 20003061 | D50: =$D$48 -> 3 | E50: . | F50: =F49+1 -> 2 | I50: =INDEX(#REF!,MATCH(A50,#REF!,0),0) -> #REF! | J50: =INDEX(#REF!,MATCH(A50,#REF!,0),0) -> #REF! | K50: 600 | L50: =INDEX(#REF!,MATCH(A50,#REF!,0),0) -> #REF! | M50: =1+$O$11 -> 1.25 | N50: =ROUND(L50*M50,2) -> #REF! | O50: =ROUND(K50*N50,2) -> #REF! | Q50: =INDEX(#REF!,MATCH(A50,#REF!,0),0) -> #REF! | R50: =1+$T$11 -> 1.2757 | S50: =Q50*R50 -> #REF! | T50: =ROUND(S50*K50,2) -> #REF!
A51: =B51&C51 -> SIURB EDIF20005033 | B51: SIURB EDIF | C51: 20005033 | D51: =$D$48 -> 3 | E51: . | F51: =F50+1 -> 3 | I51: =INDEX(#REF!,MATCH(A51,#REF!,0),0) -> #REF! | J51: =INDEX(#REF!,MATCH(A51,#REF!,0),0) -> #REF! | L51: =INDEX(#REF!,MATCH(A51,#REF!,0),0) -> #REF! | M51: =1+$O$11 -> 1.25 | N51: =ROUND(L51*M51,2) -> #REF! | O51: =ROUND(K51*N51,2) -> #REF! | Q51: =INDEX(#REF!,MATCH(A51,#REF!,0),0) -> #REF! | R51: =1+$T$11 -> 1.2757 | S51: =Q51*R51 -> #REF! | T51: =ROUND(S51*K51,2) -> #REF!
A52: =B52&C52 -> SIURB EDIF20005034 | B52: SIURB EDIF | C52: 20005034 | D52: =$D$48 -> 3 | E52: . | F52: =F51+1 -> 4 | I52: =INDEX(#REF!,MATCH(A52,#REF!,0),0) -> #REF! | J52: =INDEX(#REF!,MATCH(A52,#REF!,0),0) -> #REF! | L52: =INDEX(#REF!,MATCH(A52,#REF!,0),0) -> #REF! | M52: =1+$O$11 -> 1.25 | N52: =ROUND(L52*M52,2) -> #REF! | O52: =ROUND(K52*N52,2) -> #REF! | Q52: =INDEX(#REF!,MATCH(A52,#REF!,0),0) -> #REF! | R52: =1+$T$11 -> 1.2757 | S52: =Q52*R52 -> #REF! | T52: =ROUND(S52*K52,2) -> #REF!
A53: =B53&C53 -> SIURB EDIF20005035 | B53: SIURB EDIF | C53: 20005035 | D53: =$D$48 -> 3 | E53: . | F53: =F52+1 -> 5 | I53: =INDEX(#REF!,MATCH(A53,#REF!,0),0) -> #REF! | J53: =INDEX(#REF!,MATCH(A53,#REF!,0),0) -> #REF! | L53: =INDEX(#REF!,MATCH(A53,#REF!,0),0) -> #REF! | M53: =1+$O$11 -> 1.25 | N53: =ROUND(L53*M53,2) -> #REF! | O53: =ROUND(K53*N53,2) -> #REF! | Q53: =INDEX(#REF!,MATCH(A53,#REF!,0),0) -> #REF! | R53: =1+$T$11 -> 1.2757 | S53: =Q53*R53 -> #REF! | T53: =ROUND(S53*K53,2) -> #REF!
A54: =B54&C54 -> SIURB EDIF20005036 | B54: SIURB EDIF | C54: 20005036 | D54: =$D$48 -> 3 | E54: . | F54: =F53+1 -> 6 | I54: =INDEX(#REF!,MATCH(A54,#REF!,0),0) -> #REF! | J54: =INDEX(#REF!,MATCH(A54,#REF!,0),0) -> #REF! | K54: 70 | L54: =INDEX(#REF!,MATCH(A54,#REF!,0),0) -> #REF! | M54: =1+$O$11 -> 1.25 | N54: =ROUND(L54*M54,2) -> #REF! | O54: =ROUND(K54*N54,2) -> #REF! | Q54: =INDEX(#REF!,MATCH(A54,#REF!,0),0) -> #REF! | R54: =1+$T$11 -> 1.2757 | S54: =Q54*R54 -> #REF! | T54: =ROUND(S54*K54,2) -> #REF!
A55: =B55&C55 -> SIURB EDIF20005037 | B55: SIURB EDIF | C55: 20005037 | D55: =$D$48 -> 3 | E55: . | F55: =F54+1 -> 7 | I55: =INDEX(#REF!,MATCH(A55,#REF!,0),0) -> #REF! | J55: =INDEX(#REF!,MATCH(A55,#REF!,0),0) -> #REF! | K55: 50 | L55: =INDEX(#REF!,MATCH(A55,#REF!,0),0) -> #REF! | M55: =1+$O$11 -> 1.25 | N55: =ROUND(L55*M55,2) -> #REF! | O55: =ROUND(K55*N55,2) -> #REF! | Q55: =INDEX(#REF!,MATCH(A55,#REF!,0),0) -> #REF! | R55: =1+$T$11 -> 1.2757 | S55: =Q55*R55 -> #REF! | T55: =ROUND(S55*K55,2) -> #REF!
A56: =B56&C56 -> SIURB EDIF20005038 | B56: SIURB EDIF | C56: 20005038 | D56: =$D$48 -> 3 | E56: . | F56: =F55+1 -> 8 | I56: =INDEX(#REF!,MATCH(A56,#REF!,0),0) -> #REF! | J56: =INDEX(#REF!,MATCH(A56,#REF!,0),0) -> #REF! | K56: 5 | L56: =INDEX(#REF!,MATCH(A56,#REF!,0),0) -> #REF! | M56: =1+$O$11 -> 1.25 | N56: =ROUND(L56*M56,2) -> #REF! | O56: =ROUND(K56*N56,2) -> #REF! | Q56: =INDEX(#REF!,MATCH(A56,#REF!,0),0) -> #REF! | R56: =1+$T$11 -> 1.2757 | S56: =Q56*R56 -> #REF! | T56: =ROUND(S56*K56,2) -> #REF!
A57: =B57&C57 -> CDHU01.06.021 | B57: CDHU | C57: 01.06.021 | D57: =$D$48 -> 3 | E57: . | F57: =F56+1 -> 9 | I57: =INDEX(#REF!,MATCH(A57,#REF!,0),0) -> #REF! | J57: =INDEX(#REF!,MATCH(A57,#REF!,0),0) -> #REF! | K57: 6 | L57: =INDEX(#REF!,MATCH(A57,#REF!,0),0) -> #REF! | M57: =1+$O$11 -> 1.25 | N57: =ROUND(L57*M57,2) -> #REF! | O57: =ROUND(K57*N57,2) -> #REF! | Q57: =INDEX(#REF!,MATCH(A57,#REF!,0),0) -> #REF! | R57: =1+$T$11 -> 1.2757 | S57: =Q57*R57 -> #REF! | T57: =ROUND(S57*K57,2) -> #REF!
A58: =B58&C58 -> CDHU01.06.031 | B58: CDHU | C58: 01.06.031 | D58: =$D$48 -> 3 | E58: . | F58: =F57+1 -> 10 | I58: =INDEX(#REF!,MATCH(A58,#REF!,0),0) -> #REF! | J58: =INDEX(#REF!,MATCH(A58,#REF!,0),0) -> #REF! | K58: 3 | L58: =INDEX(#REF!,MATCH(A58,#REF!,0),0) -> #REF! | M58: =1+$O$11 -> 1.25 | N58: =ROUND(L58*M58,2) -> #REF! | O58: =ROUND(K58*N58,2) -> #REF! | Q58: =INDEX(#REF!,MATCH(A58,#REF!,0),0) -> #REF! | R58: =1+$T$11 -> 1.2757 | S58: =Q58*R58 -> #REF! | T58: =ROUND(S58*K58,2) -> #REF!
A59: =B59&C59 | N59: TOTAL DO ITEM | O59: =SUM(O49:O58) -> #REF! | T59: =SUM(T49:T58) -> #REF!
I61: TOTAL GERAL C/ BDI 25% (SEM DES) CDHU 196, SIURB JUL-2024, SINAPI DEZ-2024, FDE OUT-2024 | O61: =O26+O46+O59 -> #REF! | T61: =T26+T46+T59 -> #REF!
F65: ENGº ALEXANDRE KOPPERSCHMID PIGNATON | J65: Engª LEILA ALCANTARA GALVÃO
I66: Chefe de Divisão | J66: Secretaria Adjunta de Obras e Infraestrutura
I84: PERFURAÇÃO E EXECUÇÃO DE ENSAIO PENETOMÉTRICO OU DE LAVAGEM POR TEMPO

Sheet MC SEM PAREDE GESSO
B2: SERVIÇOS INICIAIS
B3: PLACA DE OBRA EM CHAPA DE AÇO GALVANIZADO
B4: TIPO | C4: COMPRIMENTO | D4: ALTURA | E4: ÁREA TOTAL
B5: MUNICIPAL (PLACA MÉDIA) | C5: 2.6 | D5: 1.3 | E5: =C5*D5 -> 3.38
E6: =SUM(E5:E5) -> 3.38 | F6: m2
B8: ANDAIMES METÁLICOS - FORNECIMENTO
B9: COMPRIMENTO | C9: LARGURA | D9: ALTURA | E9: VOLUME TOTAL
B10: 22 | C10: 1.5 | D10: 3 | E10: =B10*C10*D10 -> 99 | H10: .
B11: 13 | C11: 1.5 | D11: 3 | E11: =B11*C11*D11 -> 58.5
E12: =SUM(E10:E11) -> 157.5 | F12: m3xMÊS
B14: ANDAIMES METÁLICOS – MONTAGEM E DESMONTAGEM
B15: COMPRIMENTO | C15: LARGURA | D15: ALTURA | E15: VEZES MONTADO | F15: VOLUME TOTAL
B16: =B10 -> 22 | C16: =C10 -> 1.5 | D16: =D10 -> 3 | E16: 2 | F16: =ROUND(B16*C16*D16*E16,2) -> 198
B17: =B11 -> 13 | C17: =C11 -> 1.5 | D17: =D11 -> 3 | E17: 2 | F17: =ROUND(B17*C17*D17*E17,2) -> 117
F18: =SUM(F16:F17) -> 315 | G18: m3
B20: PROJETO EXECUTIVO (PRANCHA A1)
B21: LOCAL | C21: UNIDADE | D21: UNIDADE TOTAL
C23: 1 | D23: =C23 -> 1
C24: TOTAL | D24: =SUM(D23:D23) -> 1 | E24: UNID
B26: DEMOLIÇÃO
B27: RECEPÇÃO
B28: DEMOLIÇÃO DE ALVENARIA
B29: LOCAL | C29: COMPRIMENTO | D29: LARGURA | E29: ESPESSURA | F29: VOLUME
C30: m | D30: m | E30: m | F30: m3
B31: =B27 -> RECEPÇÃO | C31: 1 | D31: 0.35 | E31: 0.2 | F31: =ROUND(C31*D31*E31,2) -> 0.07
E32: TOTAL | F32: =SUM(F31:F31) -> 0.07 | G32: m3
B34: RETIRADA DE BALCÃO
B35: LOCAL | C35: COMPRIMENTO | D35: LARGURA | E35: ESPESSURA | F35: ÁREA
C36: m | D36: m | E36: m | F36: m3
B37: =B31 -> RECEPÇÃO | C37: 2 | D37: 0.35 | E37: 0.1 | F37: =ROUND(C37*D37*E37,2) -> 0.07
E38: TOTAL | F38: =SUM(F37:F37) -> 0.07 | G38: m3
I39: =1*0.35*0.2 -> 0.07
B40: RETIRADA DE ESQUADRIA EM VIDRO
B41: LOCAL | C41: COMPRIMENTO | D41: ALTURA | E41: ÁREA
B42: =B37 -> RECEPÇÃO | C42: 2 | D42: 1 | E42: =ROUND(C42*D42,2) -> 2
D43: TOTAL | E43: =E42 -> 2 | F43: m2
B45: FARMÁCIA
B46: DEMOLIÇÃO DE ALVENARIA
B47: LOCAL | C47: COMPRIMENTO | D47: LARGURA | E47: ESPESSURA | F47: VOLUME
C48: m | D48: m | E48: m | F48: m3
B49: =B45 -> FARMÁCIA | C49: 1 | D49: 0.35 | E49: 0.2 | F49: =ROUND(C49*D49*E49,2) -> 0.07
E50: TOTAL | F50: =SUM(F49:F49) -> 0.07 | G50: m3
B52: RETIRADA DE BALCÃO
B53: LOCAL | C53: COMPRIMENTO | D53: LARGURA | E53: ESPESSURA | F53: ÁREA
C54: m | D54: m | E54: m | F54: m3
B55: =B49 -> FARMÁCIA | C55: 1 | D55: 0.35 | E55: 0.1 | F55: =ROUND(C55*D55*E55,2) -> 0.04
E56: TOTAL | F56: =SUM(F55) -> 0.04 | G56: m3
B58: RETIRADA DE ESQUADRIA EM VIDRO
B59: LOCAL | C59: COMPRIMENTO | D59: ALTURA | E59: ÁREA
B60: =B55 -> FARMÁCIA | C60: 1 | D60: 1 | E60: =ROUND(C60*D60,2) -> 1
D61: TOTAL | E61: =E60 -> 1 | F61: m2
B63: COLETA
B64: RETIRADA DE DIVISÓRIA
B65: LOCAL | C65: COMPRIMENTO | D65: ALTURA | E65: ÁREA
C66: m | D66: m | E66: m3
B67: =B63 -> COLETA | C67: 3.1 | D67: 2.1 | E67: =ROUND(C67*D67,2) -> 6.51
D68: TOTAL | E68: =SUM(E67:E67) -> 6.51 | F68: m2
B70: CIRCULAÇÃO (ACESSO RESTRITO)
B71: RETIRADA DE DIVISÓRIA
B72: LOCAL | C72: COMPRIMENTO | D72: ALTURA | E72: ÁREA
C73: m | D73: m | E73: m3
B74: =B70 -> CIRCULAÇÃO (ACESSO RESTRITO) | C74: 3 | D74: 2.1 | E74: =ROUND(C74*D74,2) -> 6.3
D75: TOTAL | E75: =SUM(E74:E74) -> 6.3 | F75: m2
B77: ÁREA EXTERNA
B78: DEMOLIÇÃO DE ALAMBRADO
B79: LOCAL | C79: COMPRIMENTO | D79: ALTURA | E79: ÁREA
C80: m | D80: m | E80: m3
B81: =B77 -> ÁREA EXTERNA | C81: 24.85 | D81: 1 | E81: =ROUND(C81*D81,2) -> 24.85
D82: TOTAL | E82: =SUM(E81:E81) -> 24.85 | F82: m2
B84: CALÇADA/ESTACIONAMENTO
B85: DEMOLIÇÃO DE PISO
B86: LOCAL | C86: AREA | D86: ALTURA | E86: VOLUME
C87: m2 | D87: m | E87: m3
B88: CALÇADA | C88: 44.08 | D88: 0.07 | E88: =ROUND(C88*D88,2) -> 3.09
B89: ESTACIONAMENTO | C89: 96.52 | D89: 0.07 | E89: =ROUND(C89*D89,2) -> 6.76
D90: TOTAL | E90: =SUM(E88:E89) -> 9.85 | F90: m3
B92: RESERVATORIOS
B93: DEMOLIÇÃO DE CAIXAS D'AGUA
B94: LOCAL | C94: UNIDADE
B96: =B92 -> RESERVATORIOS | C96: 3
D97: TOTAL | E97: =C96 -> 3 | F97: uni
B99: REMOÇÃO DE ENTULHO COM CAÇAMBA METÁLICA, INCLUSIVE CARGA MANUAL E DESCARGA EM BOTA-FORA
B100: SERVIÇO | C100: ÁREA | D100: QUANTIDADE | E100: VOLUME/ESPESSURA | F100: VOLUME TOTAL
F101: m3
B102: =B28 -> DEMOLIÇÃO DE ALVENARIA | E102: =F32+F50 -> 0.14 | F102: =E102 -> 0.14
B103: =B34 -> RETIRADA DE BALCÃO | E103: =F38+F56 -> 0.11 | F103: =E103 -> 0.11
B104: =B40 -> RETIRADA DE ESQUADRIA EM VIDRO | C104: =E43+E61 -> 3 | D104: 1 | E104: 0.03 | F104: =E104*D104*C104 -> 0.09
B105: =B64 -> RETIRADA DE DIVISÓRIA | C105: =E68+E75 -> 12.81 | D105: 1 | E105: 0.03 | F105: =E105*D105*C105 -> 0.3843
B106: =B78 -> DEMOLIÇÃO DE ALAMBRADO | C106: =E82 -> 24.85 | D106: 1 | E106: 0.03 | F106: =E106*D106*C106 -> 0.7455
B107: =B85 -> DEMOLIÇÃO DE PISO | E107: =E90 -> 9.85 | F107: =E107 -> 9.85
B108: =B93 -> DEMOLIÇÃO DE CAIXAS D'AGUA | C108: 1 | D108: =E97 -> 3 | E108: 0.01 | F108: =E108 -> 0.01
B109: REFORMA ESQUADRIAS | C109: 1 | D109: =E98 -> 0 | E109: =I226+I251 -> 1.6442 | F109: =E109 -> 1.6442
F110: =SUM(F102:F109) -> 12.974
F111: 1.3
F112: =ROUND(F110*F111,2) -> 16.87 | G112: m3
B114: CONSTRUÇÃO
B115: RECEPÇÃO
B116: INSTALAÇÃO DE BALCÃO EM GRANITO (2,00X0,60M)
B117: LOCAL | C117: COMPRIMENTO | D117: LARGURA | E117: ÁREA
B118: =B115 -> RECEPÇÃO | C118: 2 | D118: 0.6 | E118: =ROUND(C118*D118,2) -> 1.2
...

Sheet CRONOGRAMA EUCATEX
A7: OBRA: | B7: ='PQPU EUCATEX'!I8 -> REFORMA UBS SANTO ANGELO
A8: LOCAL: | B8: ='PQPU EUCATEX'!I9 -> RUA SÃO SIMÃO, 59 - CONJ. RES. SANTO ANGELO, MOGI DAS CRUZES - SP, 08763-240
C9: DATA: | D9: ABRIL/2024
B10: CRONOGRAMA SEM DESONERAÇÃO | C10: BDI: | D10: ='PQPU EUCATEX'!O11 -> 0.25
B12: DESCRIÇÃO DOS SERVIÇOS | D12: PREÇO TOTAL | E12: 1º MÊS | F12: 2º MÊS | G12: 3º MÊS | H12: TOTAL
A14: 1 | B14: ='PQPU EUCATEX'!I14 -> SERVIÇOS PRELIMINARES | D14: ='PQPU EUCATEX'!O19 -> #REF! | E14: =D14*E15 -> #REF! | F14: =D14*F15 -> #REF! | G14: =D14*G15 -> #REF! | H14: =E14+F14+G14 -> #REF!
E15: 0.8 | F15: 0.1 | G15: 0.1 | H15: =SUM(E15:G15) -> 1
A16: 2 | B16: ='PQPU EUCATEX'!I20 -> DEMOLIÇÕES E RETIRADAS | D16: ='PQPU EUCATEX'!O39 -> #REF! | E16: =D16*E17 -> #REF! | H16: =E16+F16+G16 -> #REF!
E17: 1 | F17: - | G17: - | H17: =SUM(E17:G17) -> 1
A18: 3 | B18: ='PQPU EUCATEX'!I40 -> CONSTRUÇÃO | D18: ='PQPU EUCATEX'!O80 -> #REF! | F18: =D18*F19 -> #REF! | H18: =E18+F18+G18 -> #REF!
E19: - | F19: 1 | G19: - | H19: =SUM(E19:G19) -> 1
A20: 4 | B20: ='PQPU EUCATEX'!I81 -> PINTURA | D20: ='PQPU EUCATEX'!O89 -> #REF! | G20: =D20*G21 -> #REF! | H20: =E20+F20+G20 -> #REF!
E21: - | F21: - | G21: 1 | H21: =SUM(E21:G21) -> 1
A22: 5 | B22: ='PQPU EUCATEX'!I90 -> LIMPEZA FINAL | D22: ='PQPU PAREDE DE GESSO'!O100 -> #REF! | G22: =D22*G23 -> #REF! | H22: =E22+F22+G22 -> #REF!
E23: - | F23: - | G23: 1 | H23: =SUM(E23:G23) -> 1
A24: 6 | B24: ='PQPU EUCATEX'!I95 -> INSTALAÇÕES | D24: ='PQPU PAREDE DE GESSO'!O105 -> #REF! | G24: =D24*G25 -> #REF! | H24: =E24+F24+G24 -> #REF!
E25: - | F25: - | G25: 1 | H25: =SUM(E25:G25) -> 1
B27: TOTAL GERAL C/ BDI 25% (SEM DES) | D27: =D14+D16+D18+D20+D22+D24 -> #REF! | E27: =E14+E16+E18+E20+E22+E24 -> #REF! | F27: =F14+F16+F18+F20+F22+F24 -> #REF! | G27: =G14+G16+G18+G20+G22+G24 -> #REF! | H27: =H14+H16+H18+H20+H22+H24 -> #REF!
E28: =E27/$D$27*100% -> #REF! | F28: =F27/$D$27*100% -> #REF! | G28: =G27/$D$27*100% -> #REF! | H28: =SUM(E28:G28) -> #REF!
B32: ENGº ALEXANDRE KOPPERSCHMID PIGNATON | F32: ENGª GIULIANA SILVERIO MUNIZ CAMARGO
B33: Chefe de Divisão | F33: Diretora do Departamento de Obras e Edificações Públicas
B49: MMM
