Workbook
Name \0: #REF!
Name \0: #REF!
Name \0: #REF!
Name \a: #REF!
Name \a: #REF!
Name \a: #REF!
Name BDI: 1.43344312465585
Name BuiltIn_Print_Area___0: #REF!
Name BuiltIn_Print_Area___0: #REF!
Name BuiltIn_Print_Area___0: #REF!
Name BuiltIn_Print_Titles___0: #REF!
Name BuiltIn_Print_Titles___0: #REF!
Name BuiltIn_Print_Titles___0: #REF!
Name DOCAS: #REF!
Name DOCAS: #REF!
Name ESTACIONAMENTO: #REF!
Name ESTACIONAMENTO: #REF!
Name LS: [4]M.O.!#REF!
Name LS: [4]M.O.!#REF!
Name LS: [4]M.O.!#REF!
Name PONTE: #REF!
Name PONTE: #REF!
Name PONTE: #REF!
Name tabela_FDE: #REF!
Name tabela_FDE: #REF!
Name tabela_FDE: #REF!
Name tabelas_oficiais: #REF!
Name tabelas_oficiais: #REF!
Name tabelas_oficiais: #REF!

Sheet Planilha Estruturas
D1: PREFEITURA MUNICIPAL DE SÃO JOSÉ DO RIO PRETO - SECRETARIA MUNICIPAL DE OBRAS
A2: PLANILHA DE ORÇAMENTO SINTÉTICO
A3: LOCAL: | B3: Rua Rineu Pupim esquina com a Rua Ernesto Alves, bairro Jardim Felicidade, São José do Rio Preto - SP | I3: Prazo execução: | J3: 4 meses
A4: OBJETO: | B4: EMPREITADA DE MÃO DE OBRA E MATERIAIS PARA CONTINUAÇÃO DA OBRA DE CONSTRUÇÃO DE GALPÃO EM CONCRETO PRÉ-MOLDADO PARA OPERAÇÃO DE PACKING HOUSE NO MUNICÍPIO DE SÃO JOSÉ DO RIO PRETO. | I4: Data da proposta
A5: TABELA: | B5: CONSTRUÇÃO DAS ESTRUTURAS PRÉ-FABRICADAS, PISOS, COBERTURAS E FECHAMENTOS DO EDIFÍCIO PACKING HOUSE | I5: BDI 1 | J5: ='BDI padrão'!D22 -> 0.2204
I6: BDI 2 | J6: ='BDI padrão'!D105 -> 0.1303
A8: ITEM | B8: REFERÊNCIA | D8: SERVIÇO | E8: U N | F8: QUANT. | G8: PREÇO UNITÁRIO - R$ | J8: PREÇO TOTAL - R$
B9: FONTE | C9: ITEM | G9: MAT+MDO | H9: BDI | I9: Preço Unitário com BDI | J9: TOTAL GERAL
A10: 2. | D10: Construção de Packing House (2ª Licitação) | H10: =IF(G10>0,ROUND(G10*$J$6,2),"") | I10: =IF(G10>0,ROUND(G10*(1+VLOOKUP(H10,$I$5:$J$6,2,FALSE)),2),"")
A11: 2.1. | D11: FUNDAÇÕES | H11: =IF(G11>0,ROUND(G11*$J$6,2),"") | I11: =IF(G11>0,ROUND(G11*(1+VLOOKUP(H11,$I$5:$J$6,2,FALSE)),2),"") | J11: =SUM(J12:J16)/2 -> #VALUE!
A12: 2.1.1. | D12: FUNDAÇÃO PROFUNDA | H12: =IF(G12>0,ROUND(G12*$J$6,2),"") | I12: =IF(G12>0,ROUND(G12*(1+VLOOKUP(H12,$I$5:$J$6,2,FALSE)),2),"") | J12: =SUM(J13) -> #VALUE!
A13: 2.1.1.1. | B13: SINAPI | C13: 97918 | D13: TRANSPORTE COM CAMINHÃO BASCULANTE DE 6 M³, EM VIA URBANA PAVIMENTADA, DMT ATÉ 30 KM (UNIDADE: TXKM). AF_02/2026 | E13: TXKM | F13: 271.43 | H13: BDI 1 | I13: =IF(G13>0,ROUND(G13*(1+VLOOKUP(H13,$I$5:$J$6,2,FALSE)),2),"") | J13: =ROUND(I13*F13,2) -> #VALUE!
A14: 2.1.2. | D14: BLOCOS DE FUNDAÇÂO | I14: =IF(G14>0,ROUND(G14*(1+VLOOKUP(H14,$I$5:$J$6,2,FALSE)),2),"") | J14: =SUM(J15:J16) -> #VALUE!
A15: 2.1.2.1. | B15: SINAPI | C15: 93367 | D15: REATERRO MECANIZADO DE VALA COM ESCAVADEIRA HIDRÁULICA (CAPACIDADE DA CAÇAMBA: 0,8 M³/POTÊNCIA: 111 HP), LARGURA DE 1,5 A 2,5 M, PROFUNDIDADE ATÉ 1,5 M, COM SOLO (SEM SUBSTITUIÇÃO) DE 1ª CATEGORIA, COM COMPACTADOR DE SOLOS DE PERCUSSÃO. AF_08/2023 | E15: M3 | F15: 5.51 | H15: BDI 1 | I15: =IF(G15>0,ROUND(G15*(1+VLOOKUP(H15,$I$5:$J$6,2,FALSE)),2),"") | J15: =ROUND(I15*F15,2) -> #VALUE!
A16: 2.1.2.2. | B16: SINAPI | C16: 97918 | D16: TRANSPORTE COM CAMINHÃO BASCULANTE DE 6 M³, EM VIA URBANA PAVIMENTADA, DMT ATÉ 30 KM (UNIDADE: TXKM). AF_02/2026 | E16: TXKM | F16: 171.72 | H16: BDI 1 | I16: =IF(G16>0,ROUND(G16*(1+VLOOKUP(H16,$I$5:$J$6,2,FALSE)),2),"") | J16: =ROUND(I16*F16,2) -> #VALUE!
A17: 2.2. | D17: ESTRUTURA | I17: =IF(G17>0,ROUND(G17*(1+VLOOKUP(H17,$I$5:$J$6,2,FALSE)),2),"") | J17: =SUM(J18:J19)/2 -> #VALUE!
A18: 2.2.1. | D18: ESTRUTURA PRÉ-FABRICADA (Pilares, Vigas e Paineis) | I18: =IF(G18>0,ROUND(G18*(1+VLOOKUP(H18,$I$5:$J$6,2,FALSE)),2),"") | J18: =SUM(J19) -> #VALUE!
A19: 2.2.1.1. | B19: CDHU | C19: 15.05.290 | D19: Placas, vigas e pilares em concreto armado pré-moldado - fck= 40 MPa | E19: M3 | F19: 96.91 | H19: BDI 2 | I19: =IF(G19>0,ROUND(G19*(1+VLOOKUP(H19,$I$5:$J$6,2,FALSE)),2),"") | J19: =ROUND(I19*F19,2) -> #VALUE!
A20: 2.3. | D20: COBERTURA | I20: =IF(G20>0,ROUND(G20*(1+VLOOKUP(H20,$I$5:$J$6,2,FALSE)),2),"") | J20: =SUM(J21:J24)/2 -> #VALUE!
A21: 2.3.1. | D21: TELHAS METÁLICAS | I21: =IF(G21>0,ROUND(G21*(1+VLOOKUP(H21,$I$5:$J$6,2,FALSE)),2),"") | J21: =SUM(J22:J24) -> #VALUE!
A22: 2.3.1.1. | B22: SINAPI | C22: 94216 | D22: TELHAMENTO COM TELHA METÁLICA TERMOACÚSTICA E = 30 MM, COM ATÉ 2 ÁGUAS, INCLUSO IÇAMENTO. AF_07/2019 | E22: M2 | F22: 480.76 | H22: BDI 1 | I22: =IF(G22>0,ROUND(G22*(1+VLOOKUP(H22,$I$5:$J$6,2,FALSE)),2),"") | J22: =ROUND(I22*F22,2) -> #VALUE!
A23: 2.3.1.2. | B23: SINAPI | C23: 94231 | D23: RUFO EM CHAPA DE AÇO GALVANIZADO NÚMERO 24, CORTE DE 25 CM, INCLUSO TRANSPORTE VERTICAL. AF_07/2019 | E23: M | F23: 105.6 | H23: BDI 1 | I23: =IF(G23>0,ROUND(G23*(1+VLOOKUP(H23,$I$5:$J$6,2,FALSE)),2),"") | J23: =ROUND(I23*F23,2) -> #VALUE!
A24: 2.3.1.3. | B24: SINAPI | C24: 101979 | D24: CHAPIM (RUFO CAPA) EM AÇO GALVANIZADO, CORTE 33. AF_11/2020 | E24: M | F24: 105.6 | H24: BDI 1 | I24: =IF(G24>0,ROUND(G24*(1+VLOOKUP(H24,$I$5:$J$6,2,FALSE)),2),"") | J24: =ROUND(I24*F24,2) -> #VALUE!
A25: 2.4. | D25: PISO DE CONCRETO | I25: =IF(G25>0,ROUND(G25*(1+VLOOKUP(H25,$I$5:$J$6,2,FALSE)),2),"") | J25: =SUM(J26:J33)/2 -> #VALUE!
A26: 2.4.1. | D26: PISO INTERNO | I26: =IF(G26>0,ROUND(G26*(1+VLOOKUP(H26,$I$5:$J$6,2,FALSE)),2),"") | J26: =SUM(J27:J29) -> #VALUE!
A27: 2.4.1.1. | B27: SINAPI | C27: 100576 | D27: REGULARIZAÇÃO E COMPACTAÇÃO DE SUBLEITO DE SOLO PREDOMINANTEMENTE ARGILOSO, PARA OBRAS DE CONSTRUÇÃO DE PAVIMENTOS. AF_09/2024 | E27: M2 | F27: 511.56 | H27: BDI 1 | I27: =IF(G27>0,ROUND(G27*(1+VLOOKUP(H27,$I$5:$J$6,2,FALSE)),2),"") | J27: =ROUND(I27*F27,2) -> #VALUE!
A28: 2.4.1.2. | B28: SINAPI | C28: 96622 | D28: LASTRO COM MATERIAL GRANULAR, APLICADO EM PISOS OU LAJES SOBRE SOLO, ESPESSURA DE *5 CM*. AF_01/2024 | E28: M3 | F28: 25.58 | H28: BDI 1 | I28: =IF(G28>0,ROUND(G28*(1+VLOOKUP(H28,$I$5:$J$6,2,FALSE)),2),"") | J28: =ROUND(I28*F28,2) -> #VALUE!
A29: 2.4.1.3. | B29: SINAPI | C29: 103913 | D29: EXECUÇÃO DE PISO INDUSTRIAL DE CONCRETO ARMADO, FCK = 20 MPA, ESPESSURA DE 12,0 CM. AF_04/2022 | E29: M2 | F29: 511.56 | H29: BDI 1 | I29: =IF(G29>0,ROUND(G29*(1+VLOOKUP(H29,$I$5:$J$6,2,FALSE)),2),"") | J29: =ROUND(I29*F29,2) -> #VALUE!
A30: 2.4.2. | D30: CALÇADA PERIMETRAL | I30: =IF(G30>0,ROUND(G30*(1+VLOOKUP(H30,$I$5:$J$6,2,FALSE)),2),"") | J30: =SUM(J31:J33) -> #VALUE!
A31: 2.4.2.1. | B31: SINAPI | C31: 100576 | D31: REGULARIZAÇÃO E COMPACTAÇÃO DE SUBLEITO DE SOLO PREDOMINANTEMENTE ARGILOSO, PARA OBRAS DE CONSTRUÇÃO DE PAVIMENTOS. AF_09/2024 | E31: M2 | F31: 210.84 | H31: BDI 1 | I31: =IF(G31>0,ROUND(G31*(1+VLOOKUP(H31,$I$5:$J$6,2,FALSE)),2),"") | J31: =ROUND(I31*F31,2) -> #VALUE!
A32: 2.4.2.2. | B32: SINAPI | C32: 96622 | D32: LASTRO COM MATERIAL GRANULAR, APLICADO EM PISOS OU LAJES SOBRE SOLO, ESPESSURA DE *5 CM*. AF_01/2024 | E32: M3 | F32: 10.54 | H32: BDI 1 | I32: =IF(G32>0,ROUND(G32*(1+VLOOKUP(H32,$I$5:$J$6,2,FALSE)),2),"") | J32: =ROUND(I32*F32,2) -> #VALUE!
A33: 2.4.2.3. | B33: SINAPI | C33: 103913 | D33: EXECUÇÃO DE PISO INDUSTRIAL DE CONCRETO ARMADO, FCK = 20 MPA, ESPESSURA DE 12,0 CM. AF_04/2022 | E33: M2 | F33: 210.84 | H33: BDI 1 | I33: =IF(G33>0,ROUND(G33*(1+VLOOKUP(H33,$I$5:$J$6,2,FALSE)),2),"") | J33: =ROUND(I33*F33,2) -> #VALUE!
A34: 2.5. | D34: ESQUADRIAS | I34: =IF(G34>0,ROUND(G34*(1+VLOOKUP(H34,$I$5:$J$6,2,FALSE)),2),"") | J34: =SUM(J35:J39)/2 -> #VALUE!
A35: 2.5.1. | D35: METÁLICAS | I35: =IF(G35>0,ROUND(G35*(1+VLOOKUP(H35,$I$5:$J$6,2,FALSE)),2),"") | J35: =SUM(J36:J37) -> #VALUE!
A36: 2.5.1.1. | B36: Cotação | C36: VENEZ-MAT | D36: VENEZIANAS INDUSTRIAIS, PERFIL EM AÇO GALVANIZADO COM ALETAS EM PVC - 10,00 x 1,25M | E36: m2 | F36: 75 | H36: BDI 2 | I36: =IF(G36>0,ROUND(G36*(1+VLOOKUP(H36,$I$5:$J$6,2,FALSE)),2),"") | J36: =ROUND(I36*F36,2) -> #VALUE!
A37: 2.5.1.2. | B37: Composição | C37: VENEZ-MDO | D37: MÃO DE OBRA PARA INSTALAÇÃO DE VENEZIANAS | E37: MÊS | F37: 75 | H37: BDI 1 | I37: =IF(G37>0,ROUND(G37*(1+VLOOKUP(H37,$I$5:$J$6,2,FALSE)),2),"") | J37: =ROUND(I37*F37,2) -> #VALUE!
A38: 2.5.2. | D38: SERVIÇOS FINAIS | I38: =IF(G38>0,ROUND(G38*(1+VLOOKUP(H38,$I$5:$J$6,2,FALSE)),2),"") | J38: =SUM(J39) -> #VALUE!
A39: 2.5.2.1. | B39: Composição | C39: LIMP | D39: LIMPEZA MANUAL DE OBRA COM USO DE DETERGENTE | E39: m2 | F39: 511.56 | H39: BDI 1 | I39: =IF(G39>0,ROUND(G39*(1+VLOOKUP(H39,$I$5:$J$6,2,FALSE)),2),"") | J39: =ROUND(I39*F39,2) -> #VALUE!
D41: VALOR TOTAL GERAL | J41: =SUM(J11:J39)/3 -> #VALUE!

Sheet Planilha Instalações
D1: PREFEITURA MUNICIPAL DE SÃO JOSÉ DO RIO PRETO - SECRETARIA MUNICIPAL DE OBRAS
A2: PLANILHA DE ORÇAMENTO SINTÉTICO
A3: LOCAL: | B3: Rua Rineu Pupim esquina com a Rua Ernesto Alves, bairro Jardim Felicidade, São José do Rio Preto - SP | I3: Prazo execução: | J3: 4 meses
A4: OBJETO: | B4: EMPREITADA DE MÃO DE OBRA E MATERIAIS PARA CONTINUAÇÃO DA OBRA DE CONSTRUÇÃO DE GALPÃO EM CONCRETO PRÉ-MOLDADO PARA OPERAÇÃO DE PACKING HOUSE NO MUNICÍPIO DE SÃO JOSÉ DO RIO PRETO. | I4: Data da proposta
A5: TABELA: | B5: SERVIÇOS COMPLEMENTARES DE INSTALAÇÕES HIDRAULICAS E ELÉTRICAS PARA O EDIFÍCIO PACKINGHOUSE | I5: BDI 1 | J5: ='BDI padrão'!D22 -> 0.2204
I6: BDI 2 | J6: ='BDI padrão'!D105 -> 0.1303
A8: ITEM | B8: REFERÊNCIA | D8: SERVIÇO | E8: U N | F8: QUANT. | G8: PREÇO UNITÁRIO - R$ | J8: PREÇO TOTAL - R$
B9: FONTE | C9: ITEM | G9: MAT+MDO | H9: BDI | I9: Preço Unitário com BDI | J9: TOTAL GERAL
A10: 1. | D10: INSTALAÇÕES HIDRAULICAS | J10: =SUM(J11:J48)/2 -> #VALUE!
A11: 1.1. | D11: ENTRADA DE ÁGUA | J11: =SUM(J12:J13) -> #VALUE!
A12: 1.1.1. | B12: SINAPI | C12: 95636 | D12: KIT CAVALETE PARA MEDIÇÃO DE ÁGUA - ENTRADA PRINCIPAL, EM AÇO GALVANIZADO DN 25 MM (1") - FORNECIMENTO E INSTALAÇÃO (EXCLUSIVE HIDRÔMETRO). AF_03/2024 | E12: UN | F12: 1 | H12: BDI 1 | I12: =IF(G12>0,ROUND(G12*(1+VLOOKUP(H12,$I$5:$J$6,2,FALSE)),2),"") | J12: =ROUND(I12*F12,2) -> #VALUE!
A13: 1.1.2. | B13: SINAPI | C13: 86913 | D13: TORNEIRA CROMADA 1/2" OU 3/4" PARA TANQUE, PADRÃO POPULAR - FORNECIMENTO E INSTALAÇÃO. AF_02/2026 | E13: UN | F13: 1 | H13: BDI 1 | I13: =IF(G13>0,ROUND(G13*(1+VLOOKUP(H13,$I$5:$J$6,2,FALSE)),2),"") | J13: =ROUND(I13*F13,2) -> #VALUE!
A14: 1.2. | B14: SINAPI | D14: REDE DE ÁGUA FRIA | J14: =SUM(J15:J23) -> #VALUE!
A15: 1.2.1. | B15: SINAPI | C15: 89446 | D15: TUBO, PVC, SOLDÁVEL, DE 25MM, INSTALADO EM PRUMADA DE ÁGUA - FORNECIMENTO E INSTALAÇÃO. AF_06/2022 | E15: M | F15: 4 | H15: BDI 1 | I15: =IF(G15>0,ROUND(G15*(1+VLOOKUP(H15,$I$5:$J$6,2,FALSE)),2),"") | J15: =ROUND(I15*F15,2) -> #VALUE!
A16: 1.2.2. | B16: SINAPI | C16: 89448 | D16: TUBO, PVC, SOLDÁVEL, DE 40MM, INSTALADO EM PRUMADA DE ÁGUA - FORNECIMENTO E INSTALAÇÃO. AF_06/2022 | E16: M | F16: 76.71 | H16: BDI 1 | I16: =IF(G16>0,ROUND(G16*(1+VLOOKUP(H16,$I$5:$J$6,2,FALSE)),2),"") | J16: =ROUND(I16*F16,2) -> #VALUE!
A17: 1.2.3. | B17: SINAPI | C17: 89489 | D17: CURVA 90 GRAUS, PVC, SOLDÁVEL, DN 25MM, INSTALADO EM PRUMADA DE ÁGUA - FORNECIMENTO E INSTALAÇÃO. AF_06/2022 | E17: UN | F17: 8 | H17: BDI 1 | I17: =IF(G17>0,ROUND(G17*(1+VLOOKUP(H17,$I$5:$J$6,2,FALSE)),2),"") | J17: =ROUND(I17*F17,2) -> #VALUE!
A18: 1.2.4. | B18: SINAPI | C18: 89497 | D18: JOELHO 90 GRAUS, PVC, SOLDÁVEL, DN 40MM, INSTALADO EM PRUMADA DE ÁGUA - FORNECIMENTO E INSTALAÇÃO. AF_06/2022 | E18: UN | F18: 6 | H18: BDI 1 | I18: =IF(G18>0,ROUND(G18*(1+VLOOKUP(H18,$I$5:$J$6,2,FALSE)),2),"") | J18: =ROUND(I18*F18,2) -> #VALUE!
A19: 1.2.5. | B19: SINAPI | C19: 89426 | D19: LUVA DE REDUÇÃO, PVC, SOLDÁVEL, DN 32MM X 25MM, INSTALADO EM RAMAL DE DISTRIBUIÇÃO DE ÁGUA - FORNECIMENTO E INSTALAÇÃO. AF_06/2022 | E19: UN | F19: 8 | H19: BDI 1 | I19: =IF(G19>0,ROUND(G19*(1+VLOOKUP(H19,$I$5:$J$6,2,FALSE)),2),"") | J19: =ROUND(I19*F19,2) -> #VALUE!
A20: 1.2.6. | B20: SINAPI | C20: 89433 | D20: LUVA DE REDUÇÃO, PVC, SOLDÁVEL, DN 40MM X 32MM, INSTALADO EM RAMAL DE DISTRIBUIÇÃO DE ÁGUA - FORNECIMENTO E INSTALAÇÃO. AF_06/2022 | E20: UN | F20: 3 | H20: BDI 1 | I20: =IF(G20>0,ROUND(G20*(1+VLOOKUP(H20,$I$5:$J$6,2,FALSE)),2),"") | J20: =ROUND(I20*F20,2) -> #VALUE!
A21: 1.2.7. | B21: SINAPI | C21: 104011 | D21: TE, PVC, SOLDÁVEL, DN 40MM, INSTALADO EM RAMAL DE DISTRIBUIÇÃO DE ÁGUA - FORNECIMENTO E INSTALAÇÃO. AF_06/2022 | E21: UN | F21: 2 | H21: BDI 1 | I21: =IF(G21>0,ROUND(G21*(1+VLOOKUP(H21,$I$5:$J$6,2,FALSE)),2),"") | J21: =ROUND(I21*F21,2) -> #VALUE!
A22: 1.2.8. | B22: SINAPI | C22: 104012 | D22: TÊ DE REDUÇÃO, PVC, SOLDÁVEL, DN 40MM X 32MM, INSTALADO EM RAMAL DE DISTRIBUIÇÃO DE ÁGUA - FORNECIMENTO E INSTALAÇÃO. AF_06/2022 | E22: UN | F22: 5 | H22: BDI 1 | I22: =IF(G22>0,ROUND(G22*(1+VLOOKUP(H22,$I$5:$J$6,2,FALSE)),2),"") | J22: =ROUND(I22*F22,2) -> #VALUE!
A23: 1.2.9. | B23: SINAPI | C23: 89987 | D23: REGISTRO DE GAVETA BRUTO, LATÃO, ROSCÁVEL, 3/4", COM ACABAMENTO E CANOPLA CROMADOS - FORNECIMENTO E INSTALAÇÃO. AF_08/2021 | E23: UN | F23: 8 | H23: BDI 1 | I23: =IF(G23>0,ROUND(G23*(1+VLOOKUP(H23,$I$5:$J$6,2,FALSE)),2),"") | J23: =ROUND(I23*F23,2) -> #VALUE!
A24: 1.3. | B24: SINAPI | D24: REDE DE AGUA PARA EDIFÍCIO AUXILIAR | J24: =SUM(J25:J29) -> #VALUE!
A25: 1.3.1. | B25: SINAPI | C25: 89450 | D25: TUBO, PVC, SOLDÁVEL, DE 60MM, INSTALADO EM PRUMADA DE ÁGUA - FORNECIMENTO E INSTALAÇÃO. AF_06/2022 | E25: M | F25: 60 | H25: BDI 1 | I25: =IF(G25>0,ROUND(G25*(1+VLOOKUP(H25,$I$5:$J$6,2,FALSE)),2),"") | J25: =ROUND(I25*F25,2) -> #VALUE!
A26: 1.3.2. | B26: SINAPI | C26: 94680 | D26: JOELHO 90 GRAUS, PVC, SOLDÁVEL, DN 60 MM INSTALADO EM RESERVAÇÃO PREDIAL DE ÁGUA - FORNECIMENTO E INSTALAÇÃO. AF_04/2024 | E26: UN | F26: 8 | H26: BDI 1 | I26: =IF(G26>0,ROUND(G26*(1+VLOOKUP(H26,$I$5:$J$6,2,FALSE)),2),"") | J26: =ROUND(I26*F26,2) -> #VALUE!
A27: 1.3.3. | B27: SINAPI | C27: 94696 | D27: TÊ, PVC, SOLDÁVEL, DN 60 MM INSTALADO EM RESERVAÇÃO PREDIAL DE ÁGUA - FORNECIMENTO E INSTALAÇÃO. AF_04/2024 | E27: UN | F27: 1 | H27: BDI 1 | I27: =IF(G27>0,ROUND(G27*(1+VLOOKUP(H27,$I$5:$J$6,2,FALSE)),2),"") | J27: =ROUND(I27*F27,2) -> #VALUE!
A28: 1.3.4. | B28: SINAPI | C28: 105144 | D28: LUVA DE REDUÇÃO SOLDÁVEL, PVC, DN 60 MM X 50 MM, INSTALADO EM RESERVAÇÃO PREDIAL DE ÁGUA - FORNECIMENTO E INSTALAÇÃO. AF_04/2024 | E28: UN | F28: 1 | H28: BDI 1 | I28: =IF(G28>0,ROUND(G28*(1+VLOOKUP(H28,$I$5:$J$6,2,FALSE)),2),"") | J28: =ROUND(I28*F28,2) -> #VALUE!
A29: 1.3.5. | B29: SINAPI | C29: 89987 | D29: REGISTRO DE GAVETA BRUTO, LATÃO, ROSCÁVEL, 3/4", COM ACABAMENTO E CANOPLA CROMADOS - FORNECIMENTO E INSTALAÇÃO. AF_08/2021 | E29: UN | F29: 2 | H29: BDI 1 | I29: =IF(G29>0,ROUND(G29*(1+VLOOKUP(H29,$I$5:$J$6,2,FALSE)),2),"") | J29: =ROUND(I29*F29,2) -> #VALUE!
A30: 1.4. | B30: SINAPI | D30: REDE DE ESGOTO | J30: =SUM(J31:J36) -> #VALUE!
A31: 1.4.1. | B31: SINAPI | C31: 97901 | D31: CAIXA ENTERRADA HIDRÁULICA RETANGULAR EM ALVENARIA COM TIJOLOS CERÂMICOS MACIÇOS, DIMENSÕES INTERNAS: 0,4X0,4X0,4 M PARA REDE DE ESGOTO. AF_12/2020 | E31: UN | F31: 5 | H31: BDI 1 | I31: =IF(G31>0,ROUND(G31*(1+VLOOKUP(H31,$I$5:$J$6,2,FALSE)),2),"") | J31: =ROUND(I31*F31,2) -> #VALUE!
A32: 1.4.2. | B32: SINAPI | C32: 97903 | D32: CAIXA ENTERRADA HIDRÁULICA RETANGULAR EM ALVENARIA COM TIJOLOS CERÂMICOS MACIÇOS, DIMENSÕES INTERNAS: 0,8X0,8X0,6 M PARA REDE DE ESGOTO. AF_12/2020 | E32: UN | F32: 1 | H32: BDI 1 | I32: =IF(G32>0,ROUND(G32*(1+VLOOKUP(H32,$I$5:$J$6,2,FALSE)),2),"") | J32: =ROUND(I32*F32,2) -> #VALUE!
A33: 1.4.3. | B33: SINAPI | C33: 89714 | D33: TUBO PVC, SERIE NORMAL, ESGOTO PREDIAL, DN 100 MM, FORNECIDO E INSTALADO EM RAMAL DE DESCARGA OU RAMAL DE ESGOTO SANITÁRIO. AF_08/2022 | E33: M | F33: 125 | H33: BDI 1 | I33: =IF(G33>0,ROUND(G33*(1+VLOOKUP(H33,$I$5:$J$6,2,FALSE)),2),"") | J33: =ROUND(I33*F33,2) -> #VALUE!
A34: 1.4.4. | B34: SINAPI | C34: 89569 | D34: JUNÇÃO SIMPLES, PVC, SERIE R, ÁGUA PLUVIAL, DN 100 X 75 MM, JUNTA ELÁSTICA, FORNECIDO E INSTALADO EM RAMAL DE ENCAMINHAMENTO. AF_06/2022 | E34: UN | F34: 4 | H34: BDI 1 | I34: =IF(G34>0,ROUND(G34*(1+VLOOKUP(H34,$I$5:$J$6,2,FALSE)),2),"") | J34: =ROUND(I34*F34,2) -> #VALUE!
A35: 1.4.5. | B35: SINAPI | C35: 89744 | D35: JOELHO 90 GRAUS, PVC, SERIE NORMAL, ESGOTO PREDIAL, DN 100 MM, JUNTA ELÁSTICA, FORNECIDO E INSTALADO EM RAMAL DE DESCARGA OU RAMAL DE ESGOTO SANITÁRIO. AF_08/2022 | E35: UN | F35: 7 | H35: BDI 1 | I35: =IF(G35>0,ROUND(G35*(1+VLOOKUP(H35,$I$5:$J$6,2,FALSE)),2),"") | J35: =ROUND(I35*F35,2) -> #VALUE!
A36: 1.4.6. | B36: SINAPI | C36: 104063 | D36: CURVA LONGA, 45 GRAUS, PVC OCRE, JUNTA ELÁSTICA, DN 100 MM, PARA COLETOR PREDIAL DE ESGOTO. AF_06/2022 | E36: UN | F36: 2 | H36: BDI 1 | I36: =IF(G36>0,ROUND(G36*(1+VLOOKUP(H36,$I$5:$J$6,2,FALSE)),2),"") | J36: =ROUND(I36*F36,2) -> #VALUE!
A37: 1.5. | B37: SINAPI | D37: REDE PLUVIAL | J37: =SUM(J38:J44) -> #VALUE!
A38: 1.5.1. | B38: SINAPI | C38: 97933 | D38: CAIXA COM GRELHA SIMPLES RETANGULAR, EM CONCRETO PRÉ-MOLDADO, DIMENSÕES INTERNAS: 0,6X1,0X1,0 M. AF_12/2020 | E38: UN | F38: 5 | H38: BDI 1 | I38: =IF(G38>0,ROUND(G38*(1+VLOOKUP(H38,$I$5:$J$6,2,FALSE)),2),"") | J38: =ROUND(I38*F38,2) -> #VALUE!
A39: 1.5.2. | B39: SINAPI | C39: 99257 | D39: CAIXA ENTERRADA HIDRÁULICA RETANGULAR EM ALVENARIA COM TIJOLOS CERÂMICOS MACIÇOS, DIMENSÕES INTERNAS: 1X1X0,6 M PARA REDE DE DRENAGEM. AF_12/2020 | E39: UN | F39: 1 | H39: BDI 1 | I39: =IF(G39>0,ROUND(G39*(1+VLOOKUP(H39,$I$5:$J$6,2,FALSE)),2),"") | J39: =ROUND(I39*F39,2) -> #VALUE!
A40: 1.5.3. | B40: SINAPI | C40: 106004 | D40: EXECUÇÃO DE CANALETA DE CONCRETO ARMADO MOLDADA IN LOCO, ESPESSURA DE 0,1 M, GEOMETRIA QUADRADA, COM DIMENSÕES INTERNAS: L=0,20 M; H=0,20 M. AF_05/2025 | E40: M | F40: 26 | H40: BDI 1 | I40: =IF(G40>0,ROUND(G40*(1+VLOOKUP(H40,$I$5:$J$6,2,FALSE)),2),"") | J40: =ROUND(I40*F40,2) -> #VALUE!
A41: 1.5.4. | B41: SINAPI | C41: 103002 | D41: GRELHA DE FERRO FUNDIDO SIMPLES COM REQUADRO, 200 X 1000 MM, ASSENTADA COM ARGAMASSA 1 : 3 CIMENTO: AREIA - FORNECIMENTO E INSTALAÇÃO. AF_05/2025 | E41: UN | F41: 26 | H41: BDI 1 | I41: =IF(G41>0,ROUND(G41*(1+VLOOKUP(H41,$I$5:$J$6,2,FALSE)),2),"") | J41: =ROUND(I41*F41,2) -> #VALUE!
...

Sheet Cronograma
A1: PREFEITURA MUNICIPAL DE SÃO JOSÉ DO RIO PRETO SECRETARIA MUNICIPAL DE OBRAS | E1: CRONOGRAMA FÍSICO FINANCEIRO
E2: LOCAL: | F2: Bairro Jardim Felicidade, terreno compreendido entre a Rua Rineu Pupim, Rua Ernesto Alves e Avenida Narciso Anselmo - São José do Rio Preto / SP
E3: OBJETO: | F3: EMPREITADA DE MÃO DE OBRA E MATERIAIS PARA CONTINUAÇÃO DA OBRA DE CONSTRUÇÃO DE GALPÃO EM CONCRETO PRÉ-MOLDADO PARA OPERAÇÃO DE PACKING HOUSE NO MUNICÍPIO DE SÃO JOSÉ DO RIO PRETO.
E4: DATA: | F4: Julho de 2026
A5: ITEM | B5: SERVIÇO | C5: VALOR (R$) | D5: PESO % | E5: 1 | H5: 2 | K5: 3 | N5: 4 | Q5: 5 | T5: 6 | W5: 7 | Z5: 8
E6: R$ | F6: % | G6: %ACUM. | H6: R$ | I6: % | J6: %ACUM. | K6: R$ | L6: % | M6: %ACUM. | N6: R$ | O6: % | P6: %ACUM. | Q6: R$ | R6: % | S6: %ACUM. | T6: R$ | U6: % | V6: %ACUM. | W6: R$ | X6: % | Y6: %ACUM. | Z6: R$ | AA6: % | AB6: %ACUM.
A7: A | B7: CONSTRUÇÃO DAS ESTRUTURAS PRÉ-FABRICADAS, PISOS, COBERTURAS E FECHAMENTOS DO EDIFÍCIO PACKING HOUSE | C7: =SUM(C8:C20) -> #VALUE! | D7: =C7/$C$40 -> #VALUE!
A8: 2.1 | B8: FUNDAÇÕES | Q8: 0 | R8: 12.5 | S8: 62.5 | T8: 0 | U8: 12.5 | V8: 75 | W8: 0 | X8: 12.5 | Y8: 87.5 | Z8: 0 | AA8: 12.5 | AB8: 100 | AD8: #REF!
A9: 2.1.1. | B9: FUNDAÇÃO PROFUNDA | C9: ='Planilha Estruturas'!J12 -> #VALUE! | D9: =C9/$C$40 -> #VALUE! | E9: =F9/100*$C9 -> #VALUE! | F9: 100 | G9: =F9 -> 100 | H9: =I9/100*$C9 -> #VALUE! | I9: 0 | J9: =I9+G9 -> 100 | K9: =L9/100*$C9 -> #VALUE! | L9: 0 | M9: =L9+J9 -> 100 | N9: =O9/100*$C9 -> #VALUE! | O9: 0 | P9: =O9+M9 -> 100
A10: 2.1.2. | B10: BLOCOS DE FUNDAÇÂO | C10: ='Planilha Estruturas'!J14 -> #VALUE! | D10: =C10/$C$40 -> #VALUE! | E10: =F10/100*$C10 -> #VALUE! | F10: 100 | G10: =F10 -> 100 | H10: =I10/100*$C10 -> #VALUE! | I10: 0 | J10: =I10+G10 -> 100 | K10: =L10/100*$C10 -> #VALUE! | L10: 0 | M10: =L10+J10 -> 100 | N10: =O10/100*$C10 -> #VALUE! | O10: 0 | P10: =O10+M10 -> 100 | Q10: 0 | R10: 0 | S10: 100 | T10: 0 | U10: 0 | V10: 100 | W10: 0 | X10: 0 | Y10: 100 | Z10: 0 | AA10: 0 | AB10: 100 | AD10: #REF!
A11: 2.2. | B11: ESTRUTURA | Q11: 0 | R11: 0 | S11: 100 | T11: 0 | U11: 0 | V11: 100 | W11: 0 | X11: 0 | Y11: 100 | Z11: 0 | AA11: 0 | AB11: 100 | AD11: #REF!
A12: 2.2.1. | B12: ESTRUTURA PRÉ-FABRICADA (Pilares, Vigas e Paineis) | C12: ='Planilha Estruturas'!J18 -> #VALUE! | D12: =C12/$C$40 -> #VALUE! | E12: =F12/100*$C12 -> #VALUE! | F12: 25.8 | G12: =F12 -> 25.8 | H12: =I12/100*$C12 -> #VALUE! | I12: 25.8 | J12: =I12+G12 -> 51.6 | K12: =L12/100*$C12 -> #VALUE! | L12: 25.8 | M12: =L12+J12 -> 77.4 | N12: =O12/100*$C12 -> #VALUE! | O12: 22.6 | P12: =O12+M12 -> 100
A13: 2.3. | B13: COBERTURA | Q13: 0 | R13: 25 | S13: 50 | T13: 0 | U13: 25 | V13: 75 | W13: 0 | X13: 25 | Y13: 100 | Z13: 0 | AA13: 0 | AB13: 100 | AD13: #REF!
A14: 2.3.1. | B14: TELHAS METÁLICAS | C14: ='Planilha Estruturas'!J21 -> #VALUE! | D14: =C14/$C$40 -> #VALUE! | E14: =F14/100*$C14 -> #VALUE! | F14: 0 | G14: =F14 -> 0 | H14: =I14/100*$C14 -> #VALUE! | I14: 0 | J14: =I14+G14 -> 0 | K14: =L14/100*$C14 -> #VALUE! | L14: 91.18 | M14: =L14+J14 -> 91.18 | N14: =O14/100*$C14 -> #VALUE! | O14: 8.82 | P14: =O14+M14 -> 100 | Q14: 0 | R14: 25 | S14: 50 | T14: 0 | U14: 25 | V14: 75 | W14: 0 | X14: 25 | Y14: 100 | Z14: 0 | AA14: 0 | AB14: 100 | AD14: #REF!
A15: 2.4. | B15: PISO DE CONCRETO | Q15: 0 | R15: 25 | S15: 50 | T15: 0 | U15: 25 | V15: 75 | W15: 0 | X15: 25 | Y15: 100 | Z15: 0 | AA15: 0 | AB15: 100 | AD15: #REF!
A16: 2.4.1. | B16: PISO INTERNO | C16: ='Planilha Estruturas'!J26 -> #VALUE! | D16: =C16/$C$40 -> #VALUE! | E16: =F16/100*$C16 -> #VALUE! | F16: 0 | G16: =F16 -> 0 | H16: =I16/100*$C16 -> #VALUE! | I16: 0 | J16: =I16+G16 -> 0 | K16: =L16/100*$C16 -> #VALUE! | L16: 10.37 | M16: =L16+J16 -> 10.37 | N16: =O16/100*$C16 -> #VALUE! | O16: 89.63 | P16: =O16+M16 -> 100 | Q16: 0 | R16: 25 | S16: 50 | T16: 0 | U16: 25 | V16: 75 | W16: 0 | X16: 25 | Y16: 100 | Z16: 0 | AA16: 0 | AB16: 100 | AD16: #REF!
A17: 2.4.2. | B17: CALÇADA PERIMETRAL | C17: ='Planilha Estruturas'!J30 -> #VALUE! | D17: =C17/$C$40 -> #VALUE! | E17: =F17/100*$C17 -> #VALUE! | F17: 0 | G17: =F17 -> 0 | H17: =I17/100*$C17 -> #VALUE! | I17: 0 | J17: =I17+G17 -> 0 | K17: =L17/100*$C17 -> #VALUE! | L17: 10.37 | M17: =L17+J17 -> 10.37 | N17: =O17/100*$C17 -> #VALUE! | O17: 89.63 | P17: =O17+M17 -> 100 | Q17: 0 | R17: 25 | S17: 50 | T17: 0 | U17: 25 | V17: 75 | W17: 0 | X17: 25 | Y17: 100 | Z17: 0 | AA17: 0 | AB17: 100
A18: 2.5. | B18: ESQUADRIAS | Q18: 0 | R18: 25 | S18: 50 | T18: 0 | U18: 25 | V18: 75 | W18: 0 | X18: 25 | Y18: 100 | Z18: 0 | AA18: 0 | AB18: 100
A19: 2.5.1. | B19: METÁLICAS | C19: ='Planilha Estruturas'!J35 -> #VALUE! | D19: =C19/$C$40 -> #VALUE! | E19: =F19/100*$C19 -> #VALUE! | F19: 0 | G19: =F19 -> 0 | H19: =I19/100*$C19 -> #VALUE! | I19: 0 | J19: =I19+G19 -> 0 | K19: =L19/100*$C19 -> #VALUE! | L19: 0 | M19: =L19+J19 -> 0 | N19: =O19/100*$C19 -> #VALUE! | O19: 100 | P19: =O19+M19 -> 100
A20: 2.5.2. | B20: SERVIÇOS FINAIS | C20: ='Planilha Estruturas'!J38 -> #VALUE! | D20: =C20/$C$40 -> #VALUE! | E20: =F20/100*$C20 -> #VALUE! | F20: 0 | G20: =F20 -> 0 | H20: =I20/100*$C20 -> #VALUE! | I20: 0 | J20: =I20+G20 -> 0 | K20: =L20/100*$C20 -> #VALUE! | L20: 0 | M20: =L20+J20 -> 0 | N20: =O20/100*$C20 -> #VALUE! | O20: 100 | P20: =O20+M20 -> 100 | Q20: 0 | R20: 0 | S20: 100 | T20: 0 | U20: 0 | V20: 100 | W20: 0 | X20: 0 | Y20: 100 | Z20: 0 | AA20: 0 | AB20: 100
A21: B | B21: Instalações Hidraulicas, Elétricas, Sanitárias e Serviços Complementares | C21: =SUM(C22:C39) -> #VALUE! | D21: =C21/$C$40 -> #VALUE! | Q21: 0 | R21: 0 | S21: 100 | T21: 0 | U21: 0 | V21: 100 | W21: 0 | X21: 0 | Y21: 100 | Z21: 0 | AA21: 0 | AB21: 100
A22: 1. | B22: INSTALAÇÕES HIDRAULICAS | Q22: 0 | R22: 10 | S22: 100 | T22: 0 | U22: 0 | V22: 100 | W22: 0 | X22: 0 | Y22: 100 | Z22: 0 | AA22: 0 | AB22: 100
A23: 1.1. | B23: ENTRADA DE ÁGUA | C23: ='Planilha Instalações'!J11 -> #VALUE! | D23: =C23/$C$40 -> #VALUE! | E23: =F23/100*$C23 -> #VALUE! | F23: 100 | G23: =F23 -> 100 | H23: =I23/100*$C23 -> #VALUE! | I23: 0 | J23: =I23+G23 -> 100 | K23: =L23/100*$C23 -> #VALUE! | L23: 0 | M23: =L23+J23 -> 100 | N23: =O23/100*$C23 -> #VALUE! | O23: 0 | P23: =O23+M23 -> 100 | Q23: 0 | R23: 0 | S23: 0 | T23: 0 | U23: 20 | V23: 20 | W23: 0 | X23: 30 | Y23: 50 | Z23: 0 | AA23: 50 | AB23: 100
A24: 1.2. | B24: REDE DE ÁGUA FRIA | C24: ='Planilha Instalações'!J14 -> #VALUE! | D24: =C24/$C$40 -> #VALUE! | E24: =F24/100*$C24 -> #VALUE! | F24: 100 | G24: =F24 -> 100 | H24: =I24/100*$C24 -> #VALUE! | I24: 0 | J24: =I24+G24 -> 100 | K24: =L24/100*$C24 -> #VALUE! | L24: 0 | M24: =L24+J24 -> 100 | N24: =O24/100*$C24 -> #VALUE! | O24: 0 | P24: =O24+M24 -> 100 | Q24: 0 | R24: 20 | S24: 80 | T24: 0 | U24: 20 | V24: 100 | W24: 0 | X24: 0 | Y24: 100 | Z24: 0 | AA24: 0 | AB24: 100
A25: 1.3. | B25: REDE DE AGUA PARA EDIFÍCIO AUXILIAR | C25: ='Planilha Instalações'!J24 -> #VALUE! | D25: =C25/$C$40 -> #VALUE! | E25: =F25/100*$C25 -> #VALUE! | F25: 100 | G25: =F25 -> 100 | H25: =I25/100*$C25 -> #VALUE! | I25: 0 | J25: =I25+G25 -> 100 | K25: =L25/100*$C25 -> #VALUE! | L25: 0 | M25: =L25+J25 -> 100 | N25: =O25/100*$C25 -> #VALUE! | O25: 0 | P25: =O25+M25 -> 100 | Q25: 0 | R25: 0 | S25: 0 | T25: 0 | U25: 20 | V25: 20 | W25: 0 | X25: 30 | Y25: 50 | Z25: 0 | AA25: 50 | AB25: 100
A26: 1.4. | B26: REDE DE ESGOTO | C26: ='Planilha Instalações'!J30 -> #VALUE! | D26: =C26/$C$40 -> #VALUE! | E26: =F26/100*$C26 -> #VALUE! | F26: 0 | G26: =F26 -> 0 | H26: =I26/100*$C26 -> #VALUE! | I26: 100 | J26: =I26+G26 -> 100 | K26: =L26/100*$C26 -> #VALUE! | L26: 0 | M26: =L26+J26 -> 100 | N26: =O26/100*$C26 -> #VALUE! | O26: 0 | P26: =O26+M26 -> 100
A27: 1.5. | B27: REDE PLUVIAL | C27: ='Planilha Instalações'!J37 -> #VALUE! | D27: =C27/$C$40 -> #VALUE! | E27: =F27/100*$C27 -> #VALUE! | F27: 0 | G27: =F27 -> 0 | H27: =I27/100*$C27 -> #VALUE! | I27: 44.48 | J27: =I27+G27 -> 44.48 | K27: =L27/100*$C27 -> #VALUE! | L27: 55.52 | M27: =L27+J27 -> 100 | N27: =O27/100*$C27 -> #VALUE! | O27: 0 | P27: =O27+M27 -> 100 | Q27: 0 | R27: 0 | S27: 100 | T27: 0 | U27: 0 | V27: 100 | W27: 0 | X27: 0 | Y27: 100 | Z27: 0 | AA27: 0 | AB27: 100
A28: 1.6. | B28: SERVIÇOS COMPLEMENTARES | C28: ='Planilha Instalações'!J45 -> #VALUE! | D28: =C28/$C$40 -> #VALUE! | E28: =F28/100*$C28 -> #VALUE! | F28: 0 | G28: =F28 -> 0 | H28: =I28/100*$C28 -> #VALUE! | I28: 64.97 | J28: =I28+G28 -> 64.97 | K28: =L28/100*$C28 -> #VALUE! | L28: 35.03 | M28: =L28+J28 -> 100 | N28: =O28/100*$C28 -> #VALUE! | O28: 0 | P28: =O28+M28 -> 100 | Q28: 0 | R28: 0 | S28: 100 | T28: 0 | U28: 0 | V28: 100 | W28: 0 | X28: 0 | Y28: 100 | Z28: 0 | AA28: 0 | AB28: 100
A29: 2. | B29: INSTALAÇÕES ELÉTRICAS
A30: 2.1. | B30: ENTRADA PADRÃO | C30: ='Planilha Instalações'!J50 -> #VALUE! | D30: =C30/$C$40 -> #VALUE! | E30: =F30/100*$C30 -> #VALUE! | F30: 0 | G30: =F30 -> 0 | H30: =I30/100*$C30 -> #VALUE! | I30: 100 | J30: =I30+G30 -> 100 | K30: =L30/100*$C30 -> #VALUE! | L30: 0 | M30: =L30+J30 -> 100 | N30: =O30/100*$C30 -> #VALUE! | O30: 0 | P30: =O30+M30 -> 100 | Q30: 0 | R30: 20 | S30: 20 | T30: 0 | U30: 20 | V30: 40 | W30: 0 | X30: 20 | Y30: 60 | Z30: 0 | AA30: 40 | AB30: 100
A31: 2.2. | B31: TUBULAÇÕES | C31: ='Planilha Instalações'!J60 -> #VALUE! | D31: =C31/$C$40 -> #VALUE! | E31: =F31/100*$C31 -> #VALUE! | F31: 0 | G31: =F31 -> 0 | H31: =I31/100*$C31 -> #VALUE! | I31: 0 | J31: =I31+G31 -> 0 | K31: =L31/100*$C31 -> #VALUE! | L31: 100 | M31: =L31+J31 -> 100 | N31: =O31/100*$C31 -> #VALUE! | O31: 0 | P31: =O31+M31 -> 100 | Q31: 0 | R31: 20 | S31: 20 | T31: 0 | U31: 20 | V31: 40 | W31: 0 | X31: 20 | Y31: 60 | Z31: 0 | AA31: 40 | AB31: 100 | AD31: #REF!
A32: 2.3. | B32: FIAÇÃO | C32: ='Planilha Instalações'!J66 -> #VALUE! | D32: =C32/$C$40 -> #VALUE! | E32: =F32/100*$C32 -> #VALUE! | F32: 0 | G32: =F32 -> 0 | H32: =I32/100*$C32 -> #VALUE! | I32: 0 | J32: =I32+G32 -> 0 | K32: =L32/100*$C32 -> #VALUE! | L32: 100 | M32: =L32+J32 -> 100 | N32: =O32/100*$C32 -> #VALUE! | O32: 0 | P32: =O32+M32 -> 100 | Q32: 0 | R32: 20 | S32: 20 | T32: 0 | U32: 20 | V32: 40 | W32: 0 | X32: 20 | Y32: 60 | Z32: 0 | AA32: 40 | AB32: 100 | AD32: #REF!
A33: 2.4. | B33: QUADROS e DISJUNTORES | C33: ='Planilha Instalações'!J69 -> #VALUE! | D33: =C33/$C$40 -> #VALUE! | E33: =F33/100*$C33 -> #VALUE! | F33: 0 | G33: =F33 -> 0 | H33: =I33/100*$C33 -> #VALUE! | I33: 0 | J33: =I33+G33 -> 0 | K33: =L33/100*$C33 -> #VALUE! | L33: 100 | M33: =L33+J33 -> 100 | N33: =O33/100*$C33 -> #VALUE! | O33: 0 | P33: =O33+M33 -> 100 | Q33: 0 | R33: 20 | S33: 20 | T33: 0 | U33: 20 | V33: 40 | W33: 0 | X33: 20 | Y33: 60 | Z33: 0 | AA33: 40 | AB33: 100
A34: 2.5. | B34: TOMADAS | C34: ='Planilha Instalações'!J75 -> #VALUE! | D34: =C34/$C$40 -> #VALUE! | E34: =F34/100*$C34 -> #VALUE! | F34: 0 | G34: =F34 -> 0 | H34: =I34/100*$C34 -> #VALUE! | I34: 0 | J34: =I34+G34 -> 0 | K34: =L34/100*$C34 -> #VALUE! | L34: 100 | M34: =L34+J34 -> 100 | N34: =O34/100*$C34 -> #VALUE! | O34: 0 | P34: =O34+M34 -> 100
A35: 2.6. | B35: LUMINÁRIAS | C35: ='Planilha Instalações'!J79 -> #VALUE! | D35: =C35/$C$40 -> #VALUE! | E35: =F35/100*$C35 -> #VALUE! | F35: 0 | G35: =F35 -> 0 | H35: =I35/100*$C35 -> #VALUE! | I35: 0 | J35: =I35+G35 -> 0 | K35: =L35/100*$C35 -> #VALUE! | L35: 0 | M35: =L35+J35 -> 0 | N35: =O35/100*$C35 -> #VALUE! | O35: 100 | P35: =O35+M35 -> 100 | Q35: 0 | R35: 20 | S35: 100 | T35: 0 | U35: 0 | V35: 100 | W35: 0 | X35: 0 | Y35: 100 | Z35: 0 | AA35: 0 | AB35: 100 | AD35: #REF!
A36: 3. | B36: BOMBEIROS | Q36: 0 | R36: 0 | S36: 0 | T36: 0 | U36: 20 | V36: 20 | W36: 0 | X36: 30 | Y36: 50 | Z36: 0 | AA36: 50 | AB36: 100
A37: 3.1. | B37: REDE DE EXTINTORES | C37: ='Planilha Instalações'!J84 -> #VALUE! | D37: =C37/$C$40 -> #VALUE! | E37: =F37/100*$C37 -> #VALUE! | F37: 0 | G37: =F37 -> 0 | H37: =I37/100*$C37 -> #VALUE! | I37: 0 | J37: =I37+G37 -> 0 | K37: =L37/100*$C37 -> #VALUE! | L37: 100 | M37: =L37+J37 -> 100 | N37: =O37/100*$C37 -> #VALUE! | O37: 0 | P37: =O37+M37 -> 100 | Q37: 0 | R37: 0 | S37: 0 | T37: 0 | U37: 20 | V37: 20 | W37: 0 | X37: 30 | Y37: 50 | Z37: 0 | AA37: 50 | AB37: 100
A38: 4. | B38: CANTEIRO DE OBRAS E SERVIÇOS COMPLEMENTARES | Q38: 0 | R38: 0 | S38: 0 | T38: 0 | U38: 0 | V38: 0 | W38: 0 | X38: 0 | Y38: 0 | Z38: 0 | AA38: 100 | AB38: 100
A39: 4.1. | B39: CANTEIRO | C39: ='Planilha Instalações'!J89 -> #VALUE! | D39: =C39/$C$40 -> #VALUE! | E39: =F39/100*$C39 -> #VALUE! | F39: 100 | G39: =F39 -> 100 | H39: =I39/100*$C39 -> #VALUE! | I39: 0 | J39: =I39+G39 -> 100 | K39: =L39/100*$C39 -> #VALUE! | L39: 0 | M39: =L39+J39 -> 100 | N39: =O39/100*$C39 -> #VALUE! | O39: 0 | P39: =O39+M39 -> 100 | Q39: 0 | R39: 0 | S39: 100 | T39: 0 | U39: 0 | V39: 100 | W39: 0 | X39: 0 | Y39: 100 | Z39: 0 | AA39: 0 | AB39: 100
A40: TOTAIS | B40: ORÇAMENTO | C40: =SUM(C7:C39)/2 -> #VALUE! | D40: =SUM(D22:D39)+SUM(D8:D20) -> #VALUE!
...

Sheet BDI padrão
B2: Quadro de Composição do BDI - BDI 1
B5: Selecione na célula abaixo o tipo de obra do empreendimento:
B6: Construção e Reforma de Edifícios
B8: Conforme legislação tributária municipal, definir estimativa de percentual da base de cálculo para o ISS: | G8: 0.5
B9: Sobre a base de cálculo, definir a respectiva alíquota do ISS (entre 2% e 5%): | G9: 0.05
B12: Itens | C12: Siglas | D12: Preencher percentuais das parcelas do BDI | E12: Situação intervalo admissível | F12: 1º Quartil | G12: Médio | H12: 3º Quartil
B13: Administração Central | C13: AC | D13: 0.03 | E13: - | F13: =VLOOKUP(CONCATENATE($B$6,"-",$C13),$D$29:$H$70,3,FALSE) -> 0.03 | G13: =VLOOKUP(CONCATENATE($B$6,"-",$C13),$D$29:$H$70,4,FALSE) -> 0.04 | H13: =VLOOKUP(CONCATENATE($B$6,"-",$C13),$D$29:$H$70,5,FALSE) -> 0.055
B14: Seguro e Garantia | C14: SG | D14: 0.01 | E14: - | F14: =VLOOKUP(CONCATENATE($B$6,"-",$C14),$D$29:$H$70,3,FALSE) -> 0.008 | G14: =VLOOKUP(CONCATENATE($B$6,"-",$C14),$D$29:$H$70,4,FALSE) -> 0.008 | H14: =VLOOKUP(CONCATENATE($B$6,"-",$C14),$D$29:$H$70,5,FALSE) -> 0.01
B15: Risco | C15: R | D15: 0.01 | E15: - | F15: =VLOOKUP(CONCATENATE($B$6,"-",$C15),$D$29:$H$70,3,FALSE) -> 0.0097 | G15: =VLOOKUP(CONCATENATE($B$6,"-",$C15),$D$29:$H$70,4,FALSE) -> 0.0127 | H15: =VLOOKUP(CONCATENATE($B$6,"-",$C15),$D$29:$H$70,5,FALSE) -> 0.0127
B16: Despesas Financeiras | C16: DF | D16: 0.01 | E16: - | F16: =VLOOKUP(CONCATENATE($B$6,"-",$C16),$D$29:$H$70,3,FALSE) -> 0.0059 | G16: =VLOOKUP(CONCATENATE($B$6,"-",$C16),$D$29:$H$70,4,FALSE) -> 0.0123 | H16: =VLOOKUP(CONCATENATE($B$6,"-",$C16),$D$29:$H$70,5,FALSE) -> 0.0139
B17: Lucro | C17: L | D17: 0.08 | E17: - | F17: =VLOOKUP(CONCATENATE($B$6,"-",$C17),$D$29:$H$70,3,FALSE) -> 0.0616 | G17: =VLOOKUP(CONCATENATE($B$6,"-",$C17),$D$29:$H$70,4,FALSE) -> 0.074 | H17: =VLOOKUP(CONCATENATE($B$6,"-",$C17),$D$29:$H$70,5,FALSE) -> 0.0896
B18: Tributos (impostos COFINS 3%, e PIS 0,65%) | C18: CP | D18: 0.0365 | E18: =IF(AND(D18>=F18, D18<=H18), "OK", "Não OK") -> OK | F18: 0.0365 | G18: 0.0365 | H18: 0.0365
B19: Tributos (ISS, variável de acordo com o município) | C19: ISS | D19: =G9*G8 -> 0.025 | E19: =IF(AND(D19>=F19, D19<=H19), "OK", "Não OK") -> OK | F19: 0 | G19: 0.025 | H19: 0.05
B20: Tributos (Contribuição Previdenciária - 0% ou 4,5%, conforme Lei 13.161/2015 - Desoneração) | C20: CPRB | D20: 0 | E20: =IF(AND(D20>=F20, D20<=H20), "OK", "Não OK") -> OK | F20: 0 | G20: 0.02 | H20: 0.045
B21: Fórmula de BDI adotado conforme Acórdão TCU | C21: BDI PAD | D21: =ROUND((((1+D13+D14+D15)*(1+D16)*(1+D17)/(1-(D18+D19)))-1),4) -> 0.2204 | E21: =IF(AND(D21>=F21, D21<=H21), "OK", "Não OK") -> OK | F21: =VLOOKUP(CONCATENATE($B$6,"-",$C21),$D$29:$H$70,3,FALSE) -> 0.2034 | G21: =VLOOKUP(CONCATENATE($B$6,"-",$C21),$D$29:$H$70,4,FALSE) -> 0.2212 | H21: =VLOOKUP(CONCATENATE($B$6,"-",$C21),$D$29:$H$70,5,FALSE) -> 0.25
B22: BDI SINAPI NÃO DESONERADO (A ser aplicado na Planilha Orçamentária) | C22: BDI NÃO DES | D22: =ROUND((((1+D13+D14+D15)*(1+D16)*(1+D17)/(1-(D18+D19+D20)))-1),4) -> 0.2204 | E22: =IF(COUNTIF($E$13:$E$21,"NÃO OK")>0,"NÃO OK","OK") -> OK
B24: Os valores de BDI foram calculados com o emprego da fórmula abaixo:
B26: =CONCATENATE("Declaro para os devidos fins que, conforme legislação tributária municipal, a base de cálculo para ",B6,", é de ",G8*100,"%, com a respectiva alíquota de ",G9*100,"%.") -> Declaro para os devidos fins que, conforme legislação tributária municipal, a base de cálculo para Construção e Reforma de Edifícios, é de 50%, com a respectiva alíquota de 5%.
B27: =CONCATENATE("Declaro para os devidos fins que para o cálculo deste BDI, optamos pelo Orçamento ",IF($D$20=4.5%,"COM","SEM")," DESONERAÇÃO, e que esta alternativa é a mais adequada para a Administração Pública.") -> Declaro para os devidos fins que para o cálculo deste BDI, optamos pelo Orçamento SEM DESONERAÇÃO, e que esta alternativa é a mais adequada para a Administração Pública.
F28: MIN | G28: MED | H28: MAX
B29: Construção e Reforma de Edifícios | C29: AC | D29: =CONCATENATE(B29,"-",C29) -> Construção e Reforma de Edifícios-AC | F29: 0.03 | G29: 0.04 | H29: 0.055
B30: =B29 -> Construção e Reforma de Edifícios | C30: SG | D30: =CONCATENATE(B30,"-",C30) -> Construção e Reforma de Edifícios-SG | F30: 0.008 | G30: 0.008 | H30: 0.01
B31: =B30 -> Construção e Reforma de Edifícios | C31: R | D31: =CONCATENATE(B31,"-",C31) -> Construção e Reforma de Edifícios-R | F31: 0.0097 | G31: 0.0127 | H31: 0.0127
B32: =B31 -> Construção e Reforma de Edifícios | C32: DF | D32: =CONCATENATE(B32,"-",C32) -> Construção e Reforma de Edifícios-DF | F32: 0.0059 | G32: 0.0123 | H32: 0.0139
B33: =B32 -> Construção e Reforma de Edifícios | C33: L | D33: =CONCATENATE(B33,"-",C33) -> Construção e Reforma de Edifícios-L | F33: 0.0616 | G33: 0.074 | H33: 0.0896
B34: =B33 -> Construção e Reforma de Edifícios | C34: BDI PAD | D34: =CONCATENATE(B34,"-",C34) -> Construção e Reforma de Edifícios-BDI PAD | F34: 0.2034 | G34: 0.2212 | H34: 0.25
B35: Construção de Praças Urbanas, Rodovias, Ferrovias e recapeamento e pavimentação de vias urbanas | C35: AC | D35: =CONCATENATE(B35,"-",C35) -> Construção de Praças Urbanas, Rodovias, Ferrovias e recapeamento e pavimentação de vias urbanas-AC | F35: 0.038 | G35: 0.0401 | H35: 0.0467
B36: Construção de Praças Urbanas, Rodovias, Ferrovias e recapeamento e pavimentação de vias urbanas | C36: SG | D36: =CONCATENATE(B36,"-",C36) -> Construção de Praças Urbanas, Rodovias, Ferrovias e recapeamento e pavimentação de vias urbanas-SG | F36: 0.0032 | G36: 0.004 | H36: 0.0074
B37: Construção de Praças Urbanas, Rodovias, Ferrovias e recapeamento e pavimentação de vias urbanas | C37: R | D37: =CONCATENATE(B37,"-",C37) -> Construção de Praças Urbanas, Rodovias, Ferrovias e recapeamento e pavimentação de vias urbanas-R | F37: 0.005 | G37: 0.0056 | H37: 0.0097
B38: Construção de Praças Urbanas, Rodovias, Ferrovias e recapeamento e pavimentação de vias urbanas | C38: DF | D38: =CONCATENATE(B38,"-",C38) -> Construção de Praças Urbanas, Rodovias, Ferrovias e recapeamento e pavimentação de vias urbanas-DF | F38: 0.0102 | G38: 0.0111 | H38: 0.0121
B39: Construção de Praças Urbanas, Rodovias, Ferrovias e recapeamento e pavimentação de vias urbanas | C39: L | D39: =CONCATENATE(B39,"-",C39) -> Construção de Praças Urbanas, Rodovias, Ferrovias e recapeamento e pavimentação de vias urbanas-L | F39: 0.0664 | G39: 0.073 | H39: 0.0869
B40: Construção de Praças Urbanas, Rodovias, Ferrovias e recapeamento e pavimentação de vias urbanas | C40: BDI PAD | D40: =CONCATENATE(B40,"-",C40) -> Construção de Praças Urbanas, Rodovias, Ferrovias e recapeamento e pavimentação de vias urbanas-BDI PAD | F40: 0.196 | G40: 0.2097 | H40: 0.2423
B41: Construção de Redes de Abastecimento de Água, Coleta de Esgoto | C41: AC | D41: =CONCATENATE(B41,"-",C41) -> Construção de Redes de Abastecimento de Água, Coleta de Esgoto-AC | F41: 0.0343 | G41: 0.0493 | H41: 0.0671
B42: =B41 -> Construção de Redes de Abastecimento de Água, Coleta de Esgoto | C42: SG | D42: =CONCATENATE(B42,"-",C42) -> Construção de Redes de Abastecimento de Água, Coleta de Esgoto-SG | F42: 0.0028 | G42: 0.0049 | H42: 0.0075
B43: =B42 -> Construção de Redes de Abastecimento de Água, Coleta de Esgoto | C43: R | D43: =CONCATENATE(B43,"-",C43) -> Construção de Redes de Abastecimento de Água, Coleta de Esgoto-R | F43: 0.01 | G43: 0.0139 | H43: 0.0174
B44: =B43 -> Construção de Redes de Abastecimento de Água, Coleta de Esgoto | C44: DF | D44: =CONCATENATE(B44,"-",C44) -> Construção de Redes de Abastecimento de Água, Coleta de Esgoto-DF | F44: 0.0094 | G44: 0.0099 | H44: 0.0117
B45: =B44 -> Construção de Redes de Abastecimento de Água, Coleta de Esgoto | C45: L | D45: =CONCATENATE(B45,"-",C45) -> Construção de Redes de Abastecimento de Água, Coleta de Esgoto-L | F45: 0.0674 | G45: 0.0804 | H45: 0.094
B46: =B45 -> Construção de Redes de Abastecimento de Água, Coleta de Esgoto | C46: BDI PAD | D46: =CONCATENATE(B46,"-",C46) -> Construção de Redes de Abastecimento de Água, Coleta de Esgoto-BDI PAD | F46: 0.2076 | G46: 0.2418 | H46: 0.2644
B47: Construção e Manutenção de Estações e Redes de Distribuição de Energia Elétrica | C47: AC | D47: =CONCATENATE(B47,"-",C47) -> Construção e Manutenção de Estações e Redes de Distribuição de Energia Elétrica-AC | F47: 0.0529 | G47: 0.0592 | H47: 0.0793
B48: =B47 -> Construção e Manutenção de Estações e Redes de Distribuição de Energia Elétrica | C48: SG | D48: =CONCATENATE(B48,"-",C48) -> Construção e Manutenção de Estações e Redes de Distribuição de Energia Elétrica-SG | F48: 0.0025 | G48: 0.0051 | H48: 0.0056
...
