Workbook

Sheet BDI (24,19%)
B4: Quadro de Composição do BDI
B6: Construção e Reforma de Edifícios
B8: Conforme legislação tributária municipal, definir estimativa de percentual da base de cálculo para o ISS: | G8: 1
B9: Sobre a base de cálculo, definir a respectiva alíquota do ISS (entre 2% e 5%): | G9: 0.05
B11: Itens | C11: Siglas | D11: Preencher percentuais das parcelas do BDI | E11: Situação intervalo admissível | F11: 1º Quartil | G11: Médio | H11: 3º Quartil
B12: Administração Central | C12: AC | D12: 0.035 | E12: - | F12: 0.03 | G12: 0.04 | H12: 0.055
B13: Seguro e Garantia | C13: SG | D13: 0.008 | E13: - | F13: 0.008 | G13: 0.008 | H13: 0.01
B14: Risco | C14: R | D14: 0.0127 | E14: - | F14: 0.0097 | G14: 0.0127 | H14: 0.0127
B15: Despesas Financeiras | C15: DF | D15: 0.0123 | E15: - | F15: 0.0059 | G15: 0.0123 | H15: 0.0139
B16: Lucro | C16: L | D16: 0.0616 | E16: - | F16: 0.0616 | G16: 0.074 | H16: 0.0896
B17: Tributos (impostos COFINS 3%, e PIS 0,65%) | C17: CP | D17: 0.0365 | E17: =IF(AND(D17>=F17, D17<=H17), "OK", "Não OK") -> OK | F17: 0.0365 | G17: 0.0365 | H17: 0.0365
B18: Tributos (ISS, variável de acordo com o município) | C18: ISS | D18: =G9*G8 -> 0.05 | E18: =IF(AND(D18>=F18, D18<=H18), "OK", "Não OK") -> OK | F18: 0 | G18: 0.025 | H18: 0.05
B19: Tributos (Contribuição Previdenciária - 0% ou 4,5%, conforme Lei 13.161/2015 - Desoneração) | C19: CPRB | D19: 0 | E19: =IF(AND(D19>=F19, D19<=H19), "OK", "Não OK") -> OK | F19: 0 | G19: 0.02 | H19: 0.045
B20: Fórmula de BDI adotado conforme Acórdão TCU | C20: BDI PAD | D20: =ROUND((((1+D12+D13+D14)*(1+D15)*(1+D16)/(1-(D17+D18)))-1),4) -> 0.2419 | E20: =IF(AND(D20>=F20, D20<=H20), "OK", "Não OK") -> OK | F20: 0.2034 | G20: 0.2212 | H20: 0.25
B21: BDI SINAPI DESONERADO (A ser aplicado na Planilha Orçamentária) | C21: BDI DES | D21: =ROUND((((1+D12+D13+D14)*(1+D15)*(1+D16)/(1-(D17+D18+D19)))-1),4) -> 0.2419 | E21: =IF(COUNTIF($E$12:$E$20,"NÃO OK")>0,"NÃO OK","OK") -> OK
B23: Os valores de BDI foram calculados com o emprego da fórmula abaixo:
B25: Declaro para os devidos fins que, conforme legislação tributária municipal, a base de cálculo para Construção e Reforma de Edifícios, é de 50%, com a respectiva alíquota de 5%.
B26: Declaro para os devidos fins que para o cálculo deste BDI, optamos pelo Orçamento SEM DESONERAÇÃO, e que esta alternativa é a mais adequada para a Administração Pública.

Sheet planilha
B4: PLANILHA ORÇAMENTÁRIA - SEM DESONERAÇÃO | I4: 46261
B7: Unidade | C7: COMPLEXO DE DOENÇAS CRÔNICAS TRANSMISSÍVEIS. | I7: BDI= | J7: ='BDI (24,19%)'!D21 -> 0.2419
B8: Objeto | C8: REFORMA E ADEQUAÇÃO DA UNIDADE | I8: LEIS SOCIAIS=
B9: Local | C9: RUA IPIRANGA, 291
C10: VILA CURTI | G10: Cidade: | H10: SÃO JOSÉ DO RIO PRETO - SP
B13: REF.: PREÇOS: SINAPI-JUL./2026; CDHU-BOL.202; FDE-JUL./2026
B15: ITEM | C15: FONTE | D15: CÓDIGO | E15: DESCRIÇÃO | F15: UNID | G15: QUANT | H15: CUSTO UNITÁRIO (R$) | I15: UNITÁRIO COM BDI (R$) | J15: VALOR TOTAL COM BDI (R$)
B16: 1 | E16: SERVIÇOS PRELIMINARES | J16: =J17 -> 3630.96
B17: 1.1 | E17: CANTEIRO | J17: =SUM(J18:J19) -> 3630.96
B18: 1.1.1 | C18: CDHU-D | D18: 02.02.150 | E18: LOCAÇÃO DE CONTAINER TIPO DEPÓSITO - ÁREA MÍNIMA DE 13,80 M² | F18: UNXMÊS | G18: 2 | H18: 998.21 | I18: =ROUND(ROUND(H18,2)*(1+J$7),2) -> 1239.68 | J18: =ROUND(G18*I18,2) -> 2479.36
B19: 1.1.2 | C19: CDHU-D | D19: 02.08.050 | E19: PLACA EM LONA COM IMPRESSÃO DIGITAL E ESTRUTURA EM MADEIRA | F19: M2 | G19: 4.5 | H19: 206.06 | I19: =ROUND(ROUND(H19,2)*(1+J$7),2) -> 255.91 | J19: =ROUND(G19*I19,2) -> 1151.6
B20: 2 | E20: DEMOLIÇÕES E RETIRADAS | J20: =J21+J28+J30+J33 -> 4905.72
B21: 2.1 | E21: CIRCULAÇÃO 5 | J21: =SUM(J22:J27) -> 4011.22
B22: 2.1.1 | C22: FDE | D22: 13.50.002 | E22: DEMOLIÇAO PISO GRANILITE, LADRILHO HIDRAULICO, CERAMICO, CACOS, INCLUSIVE BASE | F22: M2 | G22: 32.33 | H22: 36.61 | I22: =ROUND(ROUND(H22,2)*(1+J$7),2) -> 45.47 | J22: =ROUND(G22*I22,2) -> 1470.05
B23: 2.1.2 | C23: FDE | D23: 13.50.016 | E23: DEMOLICAO RODAPES EM GERAL INCLUSIVE ARGAMASSA ASSENTAMENTO | F23: M | G23: 33.4 | H23: 2.79 | I23: =ROUND(ROUND(H23,2)*(1+J$7),2) -> 3.46 | J23: =ROUND(G23*I23,2) -> 115.56
B24: 2.1.3 | C24: CDHU-D | D24: 04.09.020 | E24: RETIRADA DE ESQUADRIA METÁLICA EM GERAL | F24: M2 | G24: 8.84 | H24: 37.09 | I24: =ROUND(ROUND(H24,2)*(1+J$7),2) -> 46.06 | J24: =ROUND(G24*I24,2) -> 407.17
B25: 2.1.4 | C25: SINAPI | D25: 97631 | E25: DEMOLIÇÃO DE ARGAMASSAS, DE FORMA MANUAL, SEM REAPROVEITAMENTO. AF_09/2023 | F25: M2 | G25: 4.81 | H25: 16.74 | I25: =ROUND(ROUND(H25,2)*(1+J$7),2) -> 20.79 | J25: =ROUND(G25*I25,2) -> 100
B26: 2.1.5 | C26: CDHU-D | D26: 03.10.140 | E26: REMOÇÃO DE PINTURA EM MASSA COM LIXAMENTO | F26: M2 | G26: 138.48 | H26: 7.36 | I26: =ROUND(ROUND(H26,2)*(1+J$7),2) -> 9.14 | J26: =ROUND(G26*I26,2) -> 1265.71
B27: 2.1.6 | C27: CDHU-D | D27: 05.07.040 | E27: REMOÇÃO DE ENTULHO SEPARADO DE OBRA COM CAÇAMBA METÁLICA - TERRA, ALVENARIA, CONCRETO, ARGAMASSA, MADEIRA, PAPEL, PLASTICO OU METAL. | F27: M3 | G27: 4.61 | H27: 114.01 | I27: =ROUND(ROUND(H27,2)*(1+J$7),2) -> 141.59 | J27: =ROUND(G27*I27,2) -> 652.73
B28: 2.2 | E28: REFEITORIO | J28: =SUM(J29:J29) -> 809.9
B29: 2.2.1 | C29: CDHU-D | D29: 03.10.140 | E29: REMOÇÃO DE PINTURA EM MASSA COM LIXAMENTO | F29: M2 | G29: 88.61 | H29: 7.36 | I29: =ROUND(ROUND(H29,2)*(1+J$7),2) -> 9.14 | J29: =ROUND(G29*I29,2) -> 809.9
B30: 2.3 | E30: SAE - CIRCULAÇÃO 2 | J30: =SUM(J31:J32) -> 36.18
B31: 2.3.1 | C31: SINAPI | D31: 97644 | E31: REMOÇÃO DE PORTAS, DE FORMA MANUAL, SEM REAPROVEITAMENTO. AF_09/2023 | F31: M2 | G31: 1.89 | H31: 13.94 | I31: =ROUND(ROUND(H31,2)*(1+J$7),2) -> 17.31 | J31: =ROUND(G31*I31,2) -> 32.72
B32: 2.3.2 | C32: FDE | D32: 13.50.016 | E32: DEMOLICAO RODAPES EM GERAL INCLUSIVE ARGAMASSA ASSENTAMENTO | F32: M | G32: 1 | H32: 2.79 | I32: =ROUND(ROUND(H32,2)*(1+J$7),2) -> 3.46 | J32: =ROUND(G32*I32,2) -> 3.46
B33: 2.4 | E33: SAE - A.C. | J33: =SUM(J34) -> 48.42
B34: 2.4.1 | C34: SINAPI | D34: 97638 | E34: REMOÇÃO DE CHAPAS E PERFIS DE DRYWALL, DE FORMA MANUAL, SEM REAPROVEITAMENTO. AF_09/2023 | F34: M2 | G34: 3.15 | H34: 12.38 | I34: =ROUND(ROUND(H34,2)*(1+J$7),2) -> 15.37 | J34: =ROUND(G34*I34,2) -> 48.42
B35: 3 | E35: UNIDADE IV - DST | J35: =J36+J55+J61 -> 72470.96
B36: 3.1 | E36: CIRCULAÇÃO 5 | J36: =SUM(J37:J54) -> 48639
B37: 3.1.1 | C37: SINAPI | D37: 94342 | E37: ATERRO MANUAL DE VALAS COM AREIA PARA ATERRO. AF_08/2023 | F37: M3 | G37: 3.24 | H37: 100.69 | I37: =ROUND(ROUND(H37,2)*(1+J$7),2) -> 125.05 | J37: =ROUND(G37*I37,2) -> 405.16
B38: 3.1.2 | C38: SINAPI | D38: 87879 | E38: CHAPISCO APLICADO EM ALVENARIAS E ESTRUTURAS DE CONCRETO INTERNAS, COM COLHER DE PEDREIRO. ARGAMASSA TRAÇO 1:3 COM PREPARO EM BETONEIRA 400L. AF_10/2022 | F38: M2 | G38: 16.4 | H38: 5.38 | I38: =ROUND(ROUND(H38,2)*(1+J$7),2) -> 6.68 | J38: =ROUND(G38*I38,2) -> 109.55
B39: 3.1.3 | C39: SINAPI | D39: 87529 | E39: MASSA ÚNICA, EM ARGAMASSA TRAÇO 1:2:8, PREPARO MECÂNICO, APLICADA MANUALMENTE EM PAREDES INTERNAS DE AMBIENTES COM ÁREA ENTRE 5M² E 10M², E = 17,5MM, COM TALISCAS. AF_03/2024 | F39: M2 | G39: 11.59 | H39: 43.93 | I39: =ROUND(ROUND(H39,2)*(1+J$7),2) -> 54.56 | J39: =ROUND(G39*I39,2) -> 632.35
B40: 3.1.4 | C40: CDHU-D | D40: 24.01.030 | E40: CAIXILHO EM FERRO BASCULANTE, SOB MEDIDA | F40: M2 | G40: 8.84 | H40: 1765.44 | I40: =ROUND(ROUND(H40,2)*(1+J$7),2) -> 2192.5 | J40: =ROUND(G40*I40,2) -> 19381.7
B41: 3.1.5 | C41: CDHU-D | D41: 26.01.230 | E41: VIDRO FANTASIA DE 3/4 MM | F41: M2 | G41: 8.84 | H41: 291.67 | I41: =ROUND(ROUND(H41,2)*(1+J$7),2) -> 362.22 | J41: =ROUND(G41*I41,2) -> 3202.02
B42: 3.1.6 | C42: FDE | D42: 02.01.010 | E42: APILOAMENTO PARA SIMPLES REGULARIZACAO | F42: M2 | G42: 32.33 | H42: 7.55 | I42: =ROUND(ROUND(H42,2)*(1+J$7),2) -> 9.38 | J42: =ROUND(G42*I42,2) -> 303.26
B43: 3.1.7 | C43: SINAPI | D43: 97113 | E43: APLICAÇÃO DE LONA PLÁSTICA PARA EXECUÇÃO DE PAVIMENTOS DE CONCRETO. AF_04/2022 | F43: M2 | G43: 32.33 | H43: 3.21 | I43: =ROUND(ROUND(H43,2)*(1+J$7),2) -> 3.99 | J43: =ROUND(G43*I43,2) -> 129
B44: 3.1.8 | C44: SINAPI | D44: 96620 | E44: LASTRO DE CONCRETO MAGRO, APLICADO EM PISOS, LAJES SOBRE SOLO OU RADIERS. AF_01/2024 | F44: M3 | G44: 1.94 | H44: 794.6 | I44: =ROUND(ROUND(H44,2)*(1+J$7),2) -> 986.81 | J44: =ROUND(G44*I44,2) -> 1914.41
B45: 3.1.9 | C45: SINAPI | D45: 87745 | E45: CONTRAPISO EM ARGAMASSA TRAÇO 1:4 (CIMENTO E AREIA), PREPARO MECÂNICO COM BETONEIRA 400 L, APLICADO EM ÁREAS MOLHADAS SOBRE LAJE, ADERIDO, ACABAMENTO NÃO REFORÇADO, ESPESSURA 3CM. AF_07/2021 | F45: M2 | G45: 32.33 | H45: 60.63 | I45: =ROUND(ROUND(H45,2)*(1+J$7),2) -> 75.3 | J45: =ROUND(G45*I45,2) -> 2434.45
B46: 3.1.10 | C46: CDHU-D | D46: 18.08.062 | E46: REVESTIMENTO EM PORCELANATO ESMALTADO POLIDO PARA ÁREA INTERNA E AMBIENTE COM TRÁFEGO MÉDIO, GRUPO DE ABSORÇÃO BIA, ASSENTADO COM ARGAMASSA COLANTE INDUSTRIALIZADA, REJUNTADO | F46: M2 | G46: 32.33 | H46: 190.75 | I46: =ROUND(ROUND(H46,2)*(1+J$7),2) -> 236.89 | J46: =ROUND(G46*I46,2) -> 7658.65
B47: 3.1.11 | C47: CDHU-D | D47: 18.08.072 | E47: RODAPÉ EM PORCELANATO ESMALTADO POLIDO PARA ÁREA INTERNA E AMBIENTE COM TRÁFEGO MÉDIO, GRUPO DE ABSORÇÃO BIA, ASSENTADO COM ARGAMASSA COLANTE INDUSTRIALIZADA, REJUNTADO | F47: M | G47: 32.87 | H47: 38.65 | I47: =ROUND(ROUND(H47,2)*(1+J$7),2) -> 48 | J47: =ROUND(G47*I47,2) -> 1577.76
B48: 3.1.12 | C48: SINAPI | D48: 88484 | E48: FUNDO SELADOR ACRÍLICO, APLICAÇÃO MANUAL EM TETO, UMA DEMÃO. AF_04/2023 | F48: M2 | G48: 32.33 | H48: 6.46 | I48: =ROUND(ROUND(H48,2)*(1+J$7),2) -> 8.02 | J48: =ROUND(G48*I48,2) -> 259.29
...

Sheet Comp
B4: COMPOSIÇÕES ANALITICAS AUXILIARES | H4: =planilha!I4 -> 46261
B8: Unidade | C8: =planilha!C7 -> COMPLEXO DE DOENÇAS CRÔNICAS TRANSMISSÍVEIS.
B9: Objeto | C9: =planilha!C8 -> REFORMA E ADEQUAÇÃO DA UNIDADE
B10: Local | C10: =planilha!C9 -> RUA IPIRANGA, 291
C11: =planilha!C10 -> VILA CURTI | F11: Cidade: | G11: =planilha!H10 -> SÃO JOSÉ DO RIO PRETO - SP
B14: COMP. 004 | D14: ADEQUAÇÃO DA PORTA METALICA ABRIR DUAS FOLHAS - INVERTER FOLHA DE ABERTURA | E14: UN | H14: =SUM(H16:H16) -> 950
B15: FONTE | C15: CÓDIGO | D15: DESCRIÇÃO DO INSUMO | E15: UNIDADE | F15: COEFICIENTE | G15: CUSTO UNITÁRIO | H15: CUSTO TOTAL
B16: COT. | D16: ADEQUAÇÃO DA PORTA METALICA ABRIR DUAS FOLHAS - INVERTER FOLHA DE ABERTURA, COM MUDANÇA DE FECHADURA, TRINCOS E MATA JUNTA. | E16: UN | F16: 1 | G16: 950 | H16: =IF(G16=0,"",ROUND(F16*G16,2)) -> 950
B18: Altamir Roberto Marascalchi Filho - Eng° Civil - CREA 5070622761
B19: e-mail: sms.obras@riopreto.sp.gov.br - (17) 3216-9787

Sheet CronoFF-1
J3: CRONOGRAMA FÍSICO - FINANCEIRO
B4: UNIDADE: | E4: =planilha!C7 -> COMPLEXO DE DOENÇAS CRÔNICAS TRANSMISSÍVEIS.
B5: OBJETO: | E5: =planilha!C8 -> REFORMA E ADEQUAÇÃO DA UNIDADE | M5: CIDADE: | N5: SÃO JOSÉ DO RIO PRETO - SP
B6: LOCAL: | E6: =planilha!C9 -> RUA IPIRANGA, 291 | F6: =planilha!C10 -> VILA CURTI
B7: ITEM | E7: DESCRIÇÃO | F7: VALOR (R$) | G7: % | H7: 1 | K7: 2 | N7: 3 | Q7: 4
H9: R$ | I9: % | J9: %ACUM. | K9: R$ | L9: % | M9: %ACUM. | N9: R$ | O9: % | P9: %ACUM. | Q9: R$ | R9: % | S9: %ACUM.
E10: REFORMA E ADEQUAÇÃO DA UNIDADE | F10: =planilha!J97 -> 99088.58 | G10: =F10/F$12 -> 1 | H10: =$F10*I10% -> 59453.148 | I10: 60 | J10: =I10 -> 60 | K10: =$F10*L10% -> 39635.432 | L10: 40 | M10: =L10+J10 -> 100 | N10: =$F10*O10% -> 0 | P10: =O10+M10 -> 100 | Q10: =$F10*R10% -> 0 | R10: 0 | S10: =R10+P10 -> 100
B12: TOTAIS | E12: ORÇAMENTO | F12: =SUM(F10:F10) -> 99088.58 | G12: =SUM(G10:G10) -> 1
E13: % EXECUTADO NO PERÍODO | H13: =H15/$F$12 -> 0.6 | K13: =K15/$F$12 -> 0.4 | N13: =N15/$F$12 -> 0 | Q13: =Q15/$F$12 -> 0
E14: % ACUMULADO NO PERÍODO | H14: =H13 -> 0.6 | K14: =K13+H14 -> 1 | N14: =N13+K14 -> 1 | Q14: =Q13+N14 -> 1
E15: VALOR (R$) EXECUTADO NO PERÍODO | H15: =SUM(H10:H10) -> 59453.148 | K15: =SUM(K10:K10) -> 39635.432 | N15: =SUM(N10:N10) -> 0 | Q15: =SUM(Q10:Q10) -> 0
E16: VALOR (R$) ACUMULADO NO PERÍODO | H16: =H15 -> 59453.148 | K16: =K15+H16 -> 99088.58 | N16: =N15+K16 -> 99088.58 | Q16: =Q15+N16 -> 99088.58
I18: Altamir Roberto Marascalchi Filho - Eng° Civil - CREA 5070622761
B19: e-mail: sms.obras@riopreto.sp.gov.br - (17) 3216-9787 | H19: RRT Nº
