Workbook

Sheet Resumo do Orçamento
B1: RESUMO DO ORÇAMENTO | C1: DATA: | D1: REV03 - PMS - 21/08/24 | E1: BDI: 20,47%
B2: OBRA: Adaptação de próprio para Acessibilidade - CS Vila Barão | C2: NOME | D2: VERSÃO | E2: MÊS REFERÊNCIA
B3: LOCAL: Sorocaba - SP | C3: CDHU | D3: SEM DESONERAÇÃO | E3: Nov/2023
B4: CLIENTE: Prefeitura Municipal de Sorocaba | C4: SINAPI | D4: SEM DESONERAÇÃO | E4: Nov/2023
C5: SIURB | D5: SEM DESONERAÇÃO | E5: Pub. Out/23
C6: FDE | D6: SEM DESONERAÇÃO | E6: Out/2023
C7: COMPOSIÇÕES PRÓPRIAS
A9: ITEM | B9: DESCRIÇÃO | C9: VALOR (R$) | D9: %
A10: ='Planilha Orçamentária'!A10 -> 1 | B10: Serviços Preliminares | C10: ='Planilha Orçamentária'!H10 -> 16371.7 | D10: =C10*100/$C$35 -> 17.636059
A11: ='Planilha Orçamentária'!A17 -> 2 | B11: Projetos | C11: ='Planilha Orçamentária'!H17 -> 2653.53 | D11: =C11*100/$C$35 -> 2.8584577
A12: ='Planilha Orçamentária'!A22 -> 3 | B12: Administração da Obra | C12: ='Planilha Orçamentária'!H22 -> 3325.22 | D12: =C12*100/$C$35 -> 3.5820212
A13: ='Planilha Orçamentária'!A27 -> 4 | B13: Área Externa | C13: ='Planilha Orçamentária'!H27 -> 8751.38 | D13: =C13*100/$C$35 -> 9.4272345
A14: ='Planilha Orçamentária'!A36 -> 5 | B14: Área de Circulação | C14: ='Planilha Orçamentária'!H36 -> 9630.68 | D14: =C14*100/$C$35 -> 10.374441
A15: ='Planilha Orçamentária'!A37 -> 5.1 | B15: Área de Circulação - Pisos e Bancadas | C15: ='Planilha Orçamentária'!H37 -> 2838.79 | D15: =C15*100/$C$35 -> 3.058025
A16: ='Planilha Orçamentária'!A46 -> 5.2 | B16: Área de Circulação - Acessos | C16: ='Planilha Orçamentária'!H46 -> 6791.89 | D16: =C16*100/$C$35 -> 7.3164163
A17: ='Planilha Orçamentária'!A54 -> 6 | B17: Equipamentos | C17: ='Planilha Orçamentária'!H54 -> 4843.91 | D17: =C17*100/$C$35 -> 5.2179971
A18: ='Planilha Orçamentária'!A55 -> 6.1 | B18: Equipamentos Acessíveis | C18: ='Planilha Orçamentária'!H55 -> 3928.71 | D18: =C18*100/$C$35 -> 4.2321177
A19: ='Planilha Orçamentária'!A61 -> 6.2 | B19: Equipamentos de Proteção | C19: ='Planilha Orçamentária'!H61 -> 915.2 | D19: =C19*100/$C$35 -> 0.98587937
A20: ='Planilha Orçamentária'!A67 -> 7 | B20: Reforma | C20: ='Planilha Orçamentária'!H67 -> 18534.35 | D20: =C20*100/$C$35 -> 19.965727
A21: ='Planilha Orçamentária'!A68 -> 7.1 | B21: Portas, Divisórias e Janelas | C21: ='Planilha Orçamentária'!H68 -> 6866.76 | D21: =C21*100/$C$35 -> 7.3970684
A22: ='Planilha Orçamentária'!A77 -> 7.2 | B22: Paredes | C22: ='Planilha Orçamentária'!H77 -> 4772.91 | D22: =C22*100/$C$35 -> 5.1415139
A23: ='Planilha Orçamentária'!A89 -> 7.3 | B23: Pinturas | C23: ='Planilha Orçamentária'!H89 -> 906.76 | D23: =C23*100/$C$35 -> 0.97678756
A24: ='Planilha Orçamentária'!A93 -> 7.4 | B24: Revestimentos | C24: ='Planilha Orçamentária'!H93 -> 4816.04 | D24: =C24*100/$C$35 -> 5.1879747
A25: ='Planilha Orçamentária'!A100 -> 7.5 | B25: Rampas sobre rampas existentes e Rampas com i<5% | C25: ='Planilha Orçamentária'!H100 -> 1171.88 | D25: =C25*100/$C$35 -> 1.2623823
A26: ='Planilha Orçamentária'!A110 -> 8 | B26: Sanitários e Vestiários | C26: ='Planilha Orçamentária'!H110 -> 13045.97 | D26: =C26*100/$C$35 -> 14.053488
A27: ='Planilha Orçamentária'!A111 -> 8.1 | B27: Acessórios | C27: ='Planilha Orçamentária'!H111 -> 2943.96 | D27: =C27*100/$C$35 -> 3.1713171
A28: ='Planilha Orçamentária'!A119 -> 8.2 | B28: Barras e Puxadores | C28: ='Planilha Orçamentária'!H125 -> 2231.9 | D28: =C28*100/$C$35 -> 2.4042659
A29: ='Planilha Orçamentária'!A125 -> 8.3 | B29: Vasos, Lavatórios e Chuveiros | C29: ='Planilha Orçamentária'!H119 -> 5225.58 | D29: =C29*100/$C$35 -> 5.6291428
A30: ='Planilha Orçamentária'!A129 -> 8.4 | B30: Remoção de louças e acessórios | C30: ='Planilha Orçamentária'!H129 -> 265.7 | D30: =C30*100/$C$35 -> 0.28621957
A31: ='Planilha Orçamentária'!A133 -> 8.5 | B31: Hidráulica - Esgoto | C31: ='Planilha Orçamentária'!H133 -> 1835.58 | D31: =C31*100/$C$35 -> 1.9773388
A32: ='Planilha Orçamentária'!A138 -> 8.6 | B32: Hidráulica - Água Fria | C32: ='Planilha Orçamentária'!H138 -> 543.25 | D32: =C32*100/$C$35 -> 0.58520429
A33: ='Planilha Orçamentária'!A144 -> 9 | B33: Sinalização | C33: ='Planilha Orçamentária'!H144 -> 13096.76 | D33: =C33*100/$C$35 -> 14.108201
A34: ='Planilha Orçamentária'!A151 -> 10 | B34: Serviços Finais | C34: ='Planilha Orçamentária'!H151 -> 5230.86 | D34: =C34*100/$C$35 -> 5.6348306
B35: VALOR ORÇAMENTO SEM BDI E SEM O ITEM 2 (PROJETOS): | C35: =C10+C12+C13+C14+C17+C20+C26+C33+C34 -> 92830.83 | D35: =C35*100/$C$35 -> 100
B36: VALOR DO BDI (20,47%): | C36: =(C35)*0.2047 -> 19002.471
B37: VALOR DO ITEM 2 (PROJETOS) COM FATOR K (2,93): | C37: =(C11*#REF!) -> #REF!
B38: VALOR TOTAL DO ORÇAMENTO: | C38: =SUM(C35:C37) -> #REF!

Sheet Planilha Orçamentária
C1: PLANILHA ORÇAMENTÁRIA | E1: DATA: | F1: REV03 - 22/08/24 | H1: BDI: 20,47%
C2: OBRA: Adaptação de próprio para Acessibilidade - CS Vila Barão | E2: NOME | F2: VERSÃO | H2: MÊS REFERÊNCIA
C3: LOCAL: Sorocaba - SP | E3: CDHU | F3: SEM DESONERAÇÃO | H3: 194 - MAIO/24
C4: CLIENTE: Prefeitura Municipal de Sorocaba | E4: SINAPI | F4: SEM DESONERAÇÃO | H4: JUL/2024
E5: SIURB | F5: SEM DESONERAÇÃO | H5: publ. MAI/24
E6: FDE | F6: SEM DESONERAÇÃO | H6: Abr/2024
E7: COMPOSIÇÕES PRÓPRIAS
A9: ITEM | B9: CÓDIGO | C9: REFER. | D9: DESCRIÇÃO | E9: UN | F9: QUANT | G9: CUSTO UNIT. (R$) | H9: CUSTO TOTAL (R$)
A10: 1 | B10: Serviços Preliminares | H10: =SUM(H11:H14) -> 16371.7
A11: 1.1 | B11: 02.08.020 | C11: CDHU | D11: PLACA DE IDENTIFICAÇÃO PARA OBRA | E11: M2 | F11: 8 | G11: 942.3 | H11: =ROUND(F11*G11,2) -> 7538.4
A12: 1.2 | B12: 02.02.130 | C12: CDHU | D12: Locação de container tipo escritório com 1 vaso sanitário, 1 lavatório e 1 ponto para chuveiro ‐ área mínima de 13,80 m² | E12: UNXMÊS | F12: 2 | G12: 1490.08 | H12: =ROUND(F12*G12,2) -> 2980.16
A13: 1.3 | B13: 02.02.150 | C13: CDHU | D13: Locação de container tipo depósito ‐ área mínima de 13,80 m² | E13: UNXMÊS | F13: 2 | G13: 904.45 | H13: =ROUND(F13*G13,2) -> 1808.9
A14: 1.4 | B14: 02.03.110 | C14: CDHU | D14: TAPUME MÓVEL PARA FECHAMENTO DE ÁREAS | E14: M2 | F14: 36 | G14: 112.34 | H14: =ROUND(F14*G14,2) -> 4044.24
A17: 2 | B17: Projetos | H17: =SUM(H18:H19) -> 2653.53
A18: 2.1* | B18: 01.17.081 | C18: CDHU | D18: PROJETO EXECUTIVO DE INSTALAÇÕES HIDRÁULICAS EM FORMATO A0 | E18: UN | F18: 1 | G18: =ROUND(1433.17/(1+128.23%),2) -> 627.95 | H18: =ROUND(F18*G18,2) -> 627.95
A19: 2.2* | B19: 01.17.041 | C19: CDHU | D19: PROJETO EXECUTIVO DE ARQUITETURA EM FORMATO A0 | E19: UN | F19: 1 | G19: =ROUND(4622.97/(1+128.23%),2) -> 2025.58 | H19: =ROUND(F19*G19,2) -> 2025.58
A22: 3 | B22: Administração da Obra | H22: =SUM(H23:H24) -> 3325.22
A23: 3.1 | B23: 90777 | C23: SINAPI | D23: ENGENHEIRO CIVIL DE OBRA JUNIOR COM ENCARGOS COMPLEMENTARES | E23: H | F23: 8 | G23: 121.69 | H23: =ROUND(F23*G23,2) -> 973.52
A24: 3.2 | B24: 90780 | C24: SINAPI | D24: MESTRE DE OBRAS COM ENCARGOS COMPLEMENTARES | E24: H | F24: 30 | G24: 78.39 | H24: =ROUND(F24*G24,2) -> 2351.7
A27: 4 | B27: Área Externa | H27: =SUM(H28:H33) -> 8751.38
A28: 4.1 | B28: 30.06.110 | C28: CDHU | D28: SINALIZAÇÃO COM PICTOGRAMA PARA VAGA DE ESTACIONAMENTO, COM FAIXAS DEMARCATÓRIAS | E28: UN | F28: 4 | G28: 500.42 | H28: =ROUND(F28*G28,2) -> 2001.68
A29: 4.2 | B29: 30.06.090 | C29: CDHU | D29: PLACA DE IDENTIFICAÇÃO PARA ESTACIONAMENTO, COM DESENHO UNIVERSAL DE ACESSIBILIDADE, TIPO PEDESTAL | E29: UN | F29: 4 | G29: 828.08 | H29: =ROUND(F29*G29,2) -> 3312.32
A30: 4.3 | B30: 05-001-000 | C30: SIURB - infra | D30: ARRANCAMENTO DE GUIAS, INCLUI CARGA EM CAMINHÃO | E30: M | F30: 9.6 | G30: 10.01 | H30: =ROUND(F30*G30,2) -> 96.1
A31: 4.4 | B31: 17-002-050 | C31: SIURB - edif | D31: GUIA DE CONCRETO RETA OU CURVA, TIPO PMSP | E31: M | F31: 9.6 | G31: 92.29 | H31: =ROUND(F31*G31,2) -> 885.98
A32: 4.5 | B32: 08-049-000 | C32: SIURB - infra | D32: DEMOLIÇÃO DE CONCRETO SIMPLES | E32: M3 | F32: 2.39 | G32: 203.82 | H32: =ROUND(F32*G32,2) -> 487.13
A33: 4.6 | B33: 94995 | C33: SINAPI | D33: EXECUÇÃO DE PASSEIO (CALÇADA) OU PISO DE CONCRETO COM CONCRETO MOLDADO IN LOCO, FEITO EM OBRA, ACABAMENTO CONVENCIONAL, ESPESSURA 8 CM, ARMADO. | E33: M2 | F33: 23.9 | G33: 82.35 | H33: =ROUND(F33*G33,2) -> 1968.17
A36: 5 | B36: Área de Circulação | H36: =H37+H46 -> 9630.68
A37: 5.1 | B37: Área de Circulação - Pisos e Bancadas | H37: =SUM(H38:H45) -> 2838.79
A38: 5.1.1 | B38: 30.04.030 | C38: CDHU | D38: PISO EM LADRILHO HIDRÁULICO PODOTÁTIL VÁRIAS CORES (25X25X2,5CM), ASSENTADO COM ARGAMASSA MISTA | E38: M2 | F38: 4.68 | G38: 132.79 | H38: =ROUND(F38*G38,2) -> 621.46
A39: 5.1.2 | B39: 10-021-000 | C39: SIURB - infra | D39: CORTE DE CONCRETO COM DISCO DIAMANTADO ATÉ PROFUNDIDADE DE 13CM | E39: M2 | F39: 4.68 | G39: 112.77 | H39: =ROUND(F39*G39,2) -> 527.76
A40: 5.1.3 | B40: 13-002-043 | C40: SIURB - edif | D40: PISO PODOTÁTIL, ALERTA OU DIRECIONAL, EM BORRACHA SINTÉTICA ASSENTES COM COLA | E40: M2 | F40: 4.29 | G40: 215.8 | H40: =ROUND(F40*G40,2) -> 925.78
A41: 5.1.4 | B41: 17-003-071 | C41: SIURB - edif | D41: DEMARCAÇÃO E PINTURA DE SUPERFÍCIES - EPÓXI | E41: M2 | F41: 1.24 | G41: 42.83 | H41: =ROUND(F41*G41,2) -> 53.11
A42: 5.1.5 | B42: 17.10.100 | C42: CDHU | D42: SOLEIRA EM GRANILITE MOLDADO NO LOCAL | E42: M | F42: 2.4 | G42: 52.31 | H42: =ROUND(F42*G42,2) -> 125.54
A43: 5.1.6 | B43: 04.04.030 | C43: CDHU | D43: RETIRADA DE SOLEIRA OU PEITORIL EM PEDRA, GRANITO OU MÁRMORE | E43: M | F43: 1.7 | G43: 19.29 | H43: =ROUND(F43*G43,2) -> 32.79
A44: 5.1.7 | B44: 44.02.062 | C44: CDHU | D44: TAMPO/BANCADA EM GRANITO, COM FRONTÃO, ESPESSURA DE 2 CM, ACABAMENTO POLIDO | E44: M2 | F44: 0.59 | G44: 926.98 | H44: =ROUND(F44*G44,2) -> 546.92
A45: 5.1.8 | B45: 08-050-000 | C45: SIURB - infra | D45: DEMOLIÇÃO DE ALVENARIA | E45: M3 | F45: 0.07 | G45: 77.61 | H45: =ROUND(F45*G45,2) -> 5.43
A46: 5.2 | B46: Área de Circulação - Acessos | H46: =SUM(H47:H51) -> 6791.89
A47: 5.2.1 | B47: 06.01.020 | C47: CDHU | D47: ESCAVAÇÃO MANUAL EM SOLO DE 1ª E 2ª CATEGORIA EM CAMPO ABERTO | E47: M3 | F47: 8.2 | G47: 53.58 | H47: =ROUND(F47*G47,2) -> 439.36
A48: 5.2.2 | B48: 04-032-000 | C48: SIURB - infra | D48: COMPACTAÇÃO DE TERRA, MEDIDA NO ATERRO | E48: M3 | F48: 8.2 | G48: 8.55 | H48: =ROUND(F48*G48,2) -> 70.11
A49: 5.2.3 | B49: 94995 | C49: SINAPI | D49: EXECUÇÃO DE PASSEIO (CALÇADA) OU PISO DE CONCRETO COM CONCRETO MOLDADO IN LOCO, FEITO EM OBRA, ACABAMENTO CONVENCIONAL, ESPESSURA 8 CM, ARMADO. | E49: M2 | F49: 54.68 | G49: 82.35 | H49: =ROUND(F49*G49,2) -> 4502.9
...

Sheet Cronograma Físico-Financeiro
B1: CRONOGRAMA FÍSICO FINANCEIRO | D1: DATA: | E1: REV04 - 11/09/2024
B2: ='[1]Resumo do Orçamento'!B2 -> OBRA: Adaptação de próprio para Acessibilidade - CS Vila Barão | D2: NOME | E2: VERSÃO | F2: MÊS REFERÊNCIA
B3: LOCAL: Sorocaba - SP | D3: CDHU | E3: SEM DESONERAÇÃO | F3: Nov/2023
B4: CLIENTE: Prefeitura Municipal de Sorocaba | D4: SINAPI | E4: SEM DESONERAÇÃO | F4: Nov/2023
D5: SIURB | E5: SEM DESONERAÇÃO | F5: Pub. Out/23
D6: FDE | E6: SEM DESONERAÇÃO | F6: Out/2023
D7: COMPOSIÇÕES PRÓPRIAS
A9: ITEM | B9: DESCRIÇÃO | C9: VALOR (R$) | D9: 30 dias | E9: 60 dias | F9: Total parcela
A10: ='[1]Resumo do Orçamento'!A10 -> 1 | B10: Serviços Preliminares | C10: =ROUND('Planilha Orçamentária'!H10*1.2047,2) -> 19722.99 | D10: 1 | F10: =D10+E10 -> 1
D11: =$C$10*D10 -> 19722.99 | F11: =D11+E11 -> 19722.99
A12: ='[1]Resumo do Orçamento'!A11 -> 2 | B12: Projetos | C12: =ROUND('Planilha Orçamentária'!H17*2.93,2) -> 7774.84 | D12: 1 | F12: =D12+E12 -> 1
D13: =$C$12*D12 -> 7774.84 | F13: =D13+E13 -> 7774.84
A14: ='[1]Resumo do Orçamento'!A12 -> 3 | B14: Administração da Obra | C14: =ROUND('Planilha Orçamentária'!H22*1.2047,2) -> 4005.89 | D14: 0.5 | E14: 0.5 | F14: =D14+E14 -> 1
D15: =$C$14*D14-0.005 -> 2002.94 | E15: =$C$14*E14 -> 2002.945 | F15: =D15+E15 -> 4005.885
A16: ='[1]Resumo do Orçamento'!A13 -> 4 | B16: Área Externa | C16: =ROUND('Planilha Orçamentária'!H27*1.2047,2) -> 10542.79 | E16: 1 | F16: =D16+E16 -> 1
E17: =$C$16*E16 -> 10542.79 | F17: =D17+E17 -> 10542.79
A18: ='[1]Resumo do Orçamento'!A14 -> 5 | B18: Área de Circulação | C18: =ROUND('Planilha Orçamentária'!H36*1.2047,2) -> 11602.08 | E18: 1 | F18: =D18+E18 -> 1
E19: =$C$18*E18 -> 11602.08 | F19: =D19+E19 -> 11602.08
A20: ='[1]Resumo do Orçamento'!A17 -> 6 | B20: Equipamentos | C20: =ROUND('Planilha Orçamentária'!H54*1.2047,2) -> 5835.46 | E20: 1 | F20: =D20+E20 -> 1
E21: =$C$20*E20 -> 5835.46 | F21: =D21+E21 -> 5835.46
A22: ='[1]Resumo do Orçamento'!A20 -> 7 | B22: Reforma | C22: =ROUND('Planilha Orçamentária'!H67*1.2047,2) -> 22328.33 | D22: 0.5 | E22: 0.5 | F22: =D22+E22 -> 1
D23: =$C$22*D22-0.005 -> 11164.16 | E23: =$C$22*E22 -> 11164.165 | F23: =D23+E23 -> 22328.325
A24: ='[1]Resumo do Orçamento'!A26 -> 8 | B24: Sanitários e Vestiários | C24: =ROUND('Planilha Orçamentária'!H110*1.2047,2) -> 15716.48 | D24: 0.5 | E24: 0.5 | F24: =D24+E24 -> 1
D25: =$C$24*D24 -> 7858.24 | E25: =$C$24*E24 -> 7858.24 | F25: =D25+E25 -> 15716.48
A26: ='[1]Resumo do Orçamento'!A33 -> 9 | B26: Sinalização | C26: =ROUND('Planilha Orçamentária'!H144*1.2047,2) -> 15777.67 | D26: 0.5 | E26: 0.5 | F26: =D26+E26 -> 1
D27: =$C$26*D26-0.005 -> 7888.83 | E27: =$C$26*E26 -> 7888.835 | F27: =D27+E27 -> 15777.665
A28: ='[1]Resumo do Orçamento'!A34 -> 10 | B28: Serviços Finais | C28: =ROUND('Planilha Orçamentária'!H151*1.2047,2) -> 6301.62 | E28: 1 | F28: =D28+E28 -> 1
E29: =$C$28*E28 -> 6301.62 | F29: =D29+E29 -> 6301.62
A30: VALOR TOTAL COM BDI (20,47%) E FATOR K (2,93) | C30: =SUM(C10:C29)-0.01 -> 119608.14 | D30: =D11+D13+D15+D17+D19+D21+D23+D25+D27+D29 -> 56412 | E30: =E11+E13+E15+E17+E19+E21+E23+E25+E27+E29 -> 63196.135 | F30: =D30+E30 -> 119608.14
A35: Responsável Técnica pela atualização de custos:
A40: Nome: | B40: Engª Viviane Gonçalves
A41: CREA: | B41: 5062080254
A43: UNIDADE GESTORA:
B49: Cláudio Pompeo Chagas Dias
B50: Secretário SES
