Workbook

Sheet Planilha Orçamentária
A1: SECRETARIA DE SERVIÇOS PÚBLICOS E OBRAS
A2: Divisão de Gerenciamento Viário
A3: PLANILHA ORÇAMENTÁRIA
A5: CDHU 195 SEM DESONERAÇÃO – AGOSTO/24 – SINAPI SEM DESONERAÇÃO – SETEMBRO/2024
A6: OBRA: | B6: PAVIMENTAÇÃO E RECAPEAMENTO ASFÁLTICO | G6: Comprimento(m): | I6: =MDC!E15 -> 3293.13
A7: Local: | B7: Rua Dr. Fausto Pereira Telles Filho, rua Celso Benedito de Madureira Moreira, rua Bernardo Mascarenhas Martins, rua Nelson Pires de Campos, rua José Maria do Amaral, rua Rosa Molineiro Ventrella, rua José Ortega Lopes, rua Diogo Soler e rua Antônio Cândido de Oliveira - Bairro chácara 3 Marias; Rua Maria Raphaela Pagliucca e rua Antônio Fruet – Bairro Jardim Nilton Torres | G7: Área(m2): | I7: =MDC!D15 -> 23279.9
A9: ITEM | B9: CÓDIGO | C9: REF | D9: Serviço | E9: Un. | F9: Quant. | G9: Custo (R$) | I9: Total (R$)
A11: 1 | B11: SERVIÇOS PRELIMINARES
A12: 1.1 | B12: 103689 | C12: SINAPI | D12: FORNECIMENTO E INSTALAÇÃO DE PLACA DE OBRA COM CHAPA GALVANIZADA E ESTRUTURA DE MADEIRA. AF_03/2022_PS | E12: M2 | F12: 9 | G12: R$ | H12: =VLOOKUP(B12,Planilha4!$A$7:$D$8000,4,0) -> 470.52 | I12: R$ | J12: =F12*H12 -> 4234.68
H13: Sub-total: | I13: R$ | J13: =SUM(J12:J12) -> 4234.68
A14: 2 | B14: PAVIMENTAÇÃO ASFÁLTICA - RUA CELSO BENEDITO DE MADUREIRA MOREIRA, RUA JOSÉ MARIA DO AMARAL, RUA JOSÉ ORTEGA LOPES E RUA ROSA M. VENTRELLA
A15: 2.1 | B15: TERRAPLANAGEM
A16: 2.1.1 | B16: 98525 | C16: SINAPI | D16: LIMPEZA MECANIZADA DE CAMADA VEGETAL, VEGETAÇÃO E PEQUENAS ÁRVORES (DIÂMETRO DE TRONCO MENOR QUE 0,20 M), COM TRATOR DE ESTEIRAS.AF_05/2018 | E16: M2 | F16: =(MDC!E5+MDC!E8+MDC!E9+MDC!E10)*2.5 -> 2168.975 | G16: R$ | H16: =VLOOKUP(B16,Planilha4!$A$7:$D$8000,4,0) -> 0.69 | I16: R$ | J16: =H16*F16 -> 1496.5928
A17: 2.1.2 | B17: 100978 | C17: SINAPI | D17: CARGA, MANOBRA E DESCARGA DE SOLOS E MATERIAIS GRANULARES EM CAMINHÃO BASCULANTE 10 M³ - CARGA COM ESCAVADEIRA HIDRÁULICA (CAÇAMBA DE 1,20 M³ / 155 HP) E DESCARGA LIVRE (UNIDADE: M3). AF_07/2020 | E17: M3 | F17: =F16*0.1*1.3 -> 281.96675 | G17: R$ | H17: =VLOOKUP(B17,Planilha4!$A$7:$D$8000,4,0) -> 7.22 | I17: R$ | J17: =H17*F17 -> 2035.7999
A18: 2.1.3 | B18: 95875 | C18: SINAPI | D18: TRANSPORTE COM CAMINHÃO BASCULANTE DE 10 M³, EM VIA URBANA PAVIMENTADA, DMT ATÉ 30 KM (UNIDADE: M3XKM). AF_07/2020 | E18: M3XKM | F18: =F17*MDC!K18 -> 4483.2713 | G18: R$ | H18: =VLOOKUP(B18,Planilha4!$A$7:$D$8000,4,0) -> 2.56 | I18: R$ | J18: =H18*F18 -> 11477.175
A19: 2.1.4 | B19: 101141 | C19: SINAPI | D19: ESCAVAÇÃO HORIZONTAL, INCLUINDO ESCARIFICAÇÃO, CARGA, DESCARGA E TRANSPORTE EM SOLO DE 2A CATEGORIA COM TRATOR DE ESTEIRAS (170HP/LÂMINA: 5,20M3) E CAMINHÃO BASCULANTE DE 10M3, DMT ATÉ 200M. AF_07/2020 | E19: M3 | F19: =(MDC!D5+MDC!D8+MDC!D9+MDC!D10)*0.45 -> 2547.2205 | G19: R$ | H19: =VLOOKUP(B19,Planilha4!$A$7:$D$8000,4,0) -> 16.78 | I19: R$ | J19: =H19*F19 -> 42742.36
A20: 2.1.5 | B20: 95875 | C20: SINAPI | D20: TRANSPORTE COM CAMINHÃO BASCULANTE DE 10 M³, EM VIA URBANA PAVIMENTADA, DMT ATÉ 30 KM (UNIDADE: M3XKM). AF_07/2020 | E20: M3XKM | F20: =F19*MDC!K18*1.3 -> 52651.048 | G20: R$ | H20: =VLOOKUP(B20,Planilha4!$A$7:$D$8000,4,0) -> 2.56 | I20: R$ | J20: =H20*F20 -> 134786.68
A21: 2.1.6 | B21: 100576 | C21: SINAPI | D21: REGULARIZAÇÃO E COMPACTAÇÃO DE SUBLEITO DE SOLO PREDOMINANTEMENTE ARGILOSO. AF_11/2019 | E21: M2 | F21: =MDC!D5+MDC!D8+MDC!D9+MDC!D10 -> 5660.49 | G21: R$ | H21: =VLOOKUP(B21,Planilha4!$A$7:$D$8000,4,0) -> 2.14 | I21: R$ | J21: =H21*F21 -> 12113.449 | O21: Laterais | P21: =1.2*2*0.2 -> 0.48
A22: 2.1.7 | B22: 100569 | C22: SINAPI | D22: EXECUÇÃO E COMPACTAÇÃO DE BASE E OU SUB-BASE PARA PAVIMENTAÇÃO DE SOLO (PREDOMINANTEMENTE ARENOSO) COM CIMENTO (TEOR DE 4%) - EXCLUSIVE SOLO, ESCAVAÇÃO, CARGA E TRANSPORTE. AF_11/2019 – 20CM | E22: M3 | F22: =(MDC!D5+MDC!D8+MDC!D9+MDC!D10)*0.2 -> 1132.098 | G22: R$ | H22: =VLOOKUP(B22,Planilha4!$A$7:$D$8000,4,0) -> 127.87 | I22: R$ | J22: =H22*F22 -> 144761.37 | L22: =F22+F52+F82+F112 -> 4167.484
A23: 2.1.8 | B23: 100978 | C23: SINAPI | D23: CARGA, MANOBRA E DESCARGA DE SOLOS E MATERIAIS GRANULARES EM CAMINHÃO BASCULANTE 10 M³ - CARGA COM ESCAVADEIRA HIDRÁULICA (CAÇAMBA DE 1,20 M³ / 155 HP) E DESCARGA LIVRE (UNIDADE: M3). AF_07/2020 | E23: M3 | F23: =F22*0.66 -> 747.18468 | G23: R$ | H23: =VLOOKUP(B23,Planilha4!$A$7:$D$8000,4,0) -> 7.22 | I23: R$ | J23: =H23*F23 -> 5394.6734 | L23: =L22/2 -> 2083.742
A24: 2.1.9 | B24: 95875 | C24: SINAPI | D24: TRANSPORTE COM CAMINHÃO BASCULANTE DE 10 M³, EM VIA URBANA PAVIMENTADA, DMT ATÉ 30 KM (UNIDADE: M3XKM). AF_07/2020 | E24: M3XKM | F24: =F23*Planilha1!D7 -> 18799.167 | G24: R$ | H24: =VLOOKUP(B24,Planilha4!$A$7:$D$8000,4,0) -> 2.56 | I24: R$ | J24: =H24*F24 -> 48125.866
H25: Sub-total: | I25: R$ | J25: =SUM(J16:J24) -> 402933.97
A26: 2.2 | B26: EXECUÇÃO DE BASE E IMPRIMAÇÃO
A27: 2.2.1 | B27: 96396 | C27: SINAPI | D27: EXECUÇÃO E COMPACTAÇÃO DE BASE E OU SUB BASE PARA PAVIMENTAÇÃO DE BRITA GRADUADA SIMPLES – EXCLUSIVE CARGA E TRANSPORTE. AF_11/2019 – 15CM | E27: M3 | F27: =(MDC!D5+MDC!D8+MDC!D9+MDC!D10)*0.15 -> 849.0735 | G27: R$ | H27: =VLOOKUP(B27,Planilha4!$A$7:$D$8000,4,0) -> 128.59 | I27: R$ | J27: =F27*H27 -> 109182.36 | L27: =F27+F57+F87+F117 -> 3125.613
A28: 2.2.2 | B28: 100978 | C28: SINAPI | D28: CARGA, MANOBRA E DESCARGA DE SOLOS E MATERIAIS GRANULARES EM CAMINHÃO BASCULANTE 10 M³ - CARGA COM ESCAVADEIRA HIDRÁULICA (CAÇAMBA DE 1,20 M³ / 155 HP) E DESCARGA LIVRE (UNIDADE: M3). AF_07/2020 | E28: M3 | F28: =F27 -> 849.0735 | G28: R$ | H28: =VLOOKUP(B28,Planilha4!$A$7:$D$8000,4,0) -> 7.22 | I28: R$ | J28: =F28*H28 -> 6130.3107 | L28: =L27/2 -> 1562.8065
A29: 2.2.3 | B29: 95875 | C29: SINAPI | D29: TRANSPORTE COM CAMINHÃO BASCULANTE DE 10 M³, EM VIA URBANA PAVIMENTADA, DMT ATÉ 30 KM (UNIDADE: M3XKM). AF_07/2020 | E29: M3XKM | F29: =F28*Planilha1!D7 -> 21362.689 | G29: R$ | H29: =VLOOKUP(B29,Planilha4!$A$7:$D$8000,4,0) -> 2.56 | I29: R$ | J29: =F29*H29 -> 54688.485
A30: 2.2.4 | B30: 54.03.240 | C30: CDHU | D30: Imprimação betuminosa impermeabilizante | E30: M2 | F30: =MDC!D5+MDC!D8+MDC!D9+MDC!D10 -> 5660.49 | G30: R$ | H30: 15.59 | I30: R$ | J30: =F30*H30 -> 88247.039
A31: 2.2.5 | B31: 54.03.230 | C31: CDHU | D31: Imprimação betuminosa ligante | E31: M2 | F31: =F30*2 -> 11320.98 | G31: R$ | H31: 6.02 | I31: R$ | J31: =F31*H31 -> 68152.3
H32: Sub-total: | I32: R$ | J32: =SUM(J27:J31) -> 326400.5
A33: 2.3 | B33: PAVIMENTAÇÃO ASFÁLTICA
A34: 2.3.1 | B34: 95996 | C34: SINAPI | D34: EXECUÇÃO DE PAVIMENTO COM APLICAÇÃO DE CONCRETO ASFÁLTICO, CAMADA DE BINDER - EXCLUSIVE CARGA E TRANSPORTE. AF_11/2019 – 4CM | E34: M3 | F34: =(MDC!D5+MDC!D8+MDC!D9+MDC!D10)*0.04 -> 226.4196 | G34: R$ | H34: =VLOOKUP(B34,Planilha4!$A$7:$D$8000,4,0) -> 1245.65 | I34: R$ | J34: =F34*H34 -> 282039.57 | L34: =F34+F64+F94+F122 -> 833.4968
A35: 2.3.2 | B35: 100986 | C35: SINAPI | D35: CARGA DE MISTURA ASFÁLTICA EM CAMINHÃO BASCULANTE 10 M³ (UNIDADE: M3). AF_07/2020 | E35: M3 | F35: =F34 -> 226.4196 | G35: R$ | H35: =VLOOKUP(B35,Planilha4!$A$7:$D$8000,4,0) -> 9.39 | I35: R$ | J35: =F35*H35 -> 2126.08 | L35: =L34/2 -> 416.7484
A36: 2.3.3 | B36: 95875 | C36: SINAPI | D36: TRANSPORTE COM CAMINHÃO BASCULANTE DE 10 M³, EM VIA URBANA PAVIMENTADA, DMT ATÉ 30 KM (UNIDADE: M3XKM). AF_07/2020 | E36: M3XKM | F36: =F35*Planilha1!D7 -> 5696.7171 | G36: R$ | H36: =VLOOKUP(B36,Planilha4!$A$7:$D$8000,4,0) -> 2.56 | I36: R$ | J36: =F36*H36 -> 14583.596
A37: 2.3.4 | B37: 95995 | C37: SINAPI | D37: EXECUÇÃO DE PAVIMENTO COM APLICAÇÃO DE CONCRETO ASFÁLTICO, CAMADA DE ROLAMENTO - EXCLUSIVE CARGA E TRANSPORTE. AF_11/2019 – 4CM | E37: M3 | F37: =(MDC!D5+MDC!D8+MDC!D9+MDC!D10)*0.04 -> 226.4196 | G37: R$ | H37: =VLOOKUP(B37,Planilha4!$A$7:$D$8000,4,0) -> 1444.78 | I37: R$ | J37: =F37*H37 -> 327126.51 | L37: =F37+F67+F125+F135+F97 -> 931.196
A38: 2.3.5 | B38: 100986 | C38: SINAPI | D38: CARGA DE MISTURA ASFÁLTICA EM CAMINHÃO BASCULANTE 10 M³ (UNIDADE: M3). AF_07/2020 | E38: M3 | F38: =F37 -> 226.4196 | G38: R$ | H38: =VLOOKUP(B38,Planilha4!$A$7:$D$8000,4,0) -> 9.39 | I38: R$ | J38: =F38*H38 -> 2126.08 | L38: =L37/2 -> 465.598
A39: 2.3.6 | B39: 95875 | C39: SINAPI | D39: TRANSPORTE COM CAMINHÃO BASCULANTE DE 10 M³, EM VIA URBANA PAVIMENTADA, DMT ATÉ 30 KM (UNIDADE: M3XKM). AF_07/2020 | E39: M3XKM | F39: =F38*Planilha1!D7 -> 5696.7171 | G39: R$ | H39: =VLOOKUP(B39,Planilha4!$A$7:$D$8000,4,0) -> 2.56 | I39: R$ | J39: =F39*H39 -> 14583.596
H40: Sub-total: | I40: R$ | J40: =SUM(J34:J39) -> 642585.44
A41: 3 | B41: PAVIMENTAÇÃO ASFÁLTICA - RUA BERNARDO MASCARENHAS MARTINS, RUA NELSON PIRES DE CAMPOS, RUA DIOGO SOLER SOLER E RUA ANTÔNIO C. OLIVEIRA
A42: 3.1 | B42: TERRAPLANAGEM
A43: 3.1.1 | B43: 98525 | C43: SINAPI | D43: LIMPEZA MECANIZADA DE CAMADA VEGETAL, VEGETAÇÃO E PEQUENAS ÁRVORES (DIÂMETRO DE TRONCO MENOR QUE 0,20 M), COM TRATOR DE ESTEIRAS.AF_05/2018 | E43: M2 | F43: =(MDC!E6+MDC!E7+MDC!E11+MDC!E12)*2.5 -> 2183.65 | G43: R$ | H43: =VLOOKUP(B43,Planilha4!$A$7:$D$8000,4,0) -> 0.69 | I43: R$ | J43: =H43*F43 -> 1506.7185
...

Sheet Cronograma
A1: SECRETARIA DE SERVIÇOS PÚBLICOS E OBRAS
A2: Divisão de Gerenciamento Viário
A3: PAVIMENTAÇÃO E RECAPEAMENTO ASFÁLTICO
A4: Local: Rua Dr. Fausto Pereira Telles Filho, rua Celso Benedito de Madureira Moreira, rua Bernardo Mascarenhas Martins, rua Nelson Pires de Campos, rua José Maria do Amaral, rua Rosa Molineiro Ventrella, rua José Ortega Lopes, rua Diogo Soler e rua Antônio Cândido de Oliveira - Bairro chácara 3 Marias; Rua Maria Raphaela Pagliucca e rua Antônio Fruet – Bairro Jardim Nilton Torres
A5: CRONOGRAMA FÍSICO-FINANCEIRO
A6: PRAZO DE EXECUÇÃO: 3 meses
A7: ITEM | B7: DESCRIMINAÇÃO DOS SERVIÇOS | C7: CUSTO TOTAL COM BDI | D7: 1º MÊS | E7: 2º MÊS | F7: 3º MÊS
A9: 1 | B9: ='Planilha Orçamentária'!B11 -> SERVIÇOS PRELIMINARES | C9: =('Planilha Orçamentária'!J13)*1.2332 -> 5222.2074 | D9: =C9 -> 5222.2074 | E9: 0 | F9: 0
D10: 1 | E10: 0 | F10: 0
A11: 2.1 | B11: PAVIMENTAÇÃO ASFÁLTICA - RUA CELSO BENEDITO DE MADUREIRA MOREIRA, RUA JOSÉ MARIA DO AMARAL, RUA JOSÉ ORTEGA LOPES E RUA ROSA M. VENTRELLA – TERRAPLENAGEM | C11: =('Planilha Orçamentária'!J25)*1.2332 -> 496898.17 | D11: =C11*D12 -> 298138.9 | E11: =C11*E12 -> 198759.27 | F11: =C11*F12 -> 0
D12: 0.6 | E12: 0.4 | F12: 0
A13: 2.2 | B13: PAVIMENTAÇÃO ASFÁLTICA - RUA CELSO BENEDITO DE MADUREIRA MOREIRA, RUA JOSÉ MARIA DO AMARAL, RUA JOSÉ ORTEGA LOPES E RUA ROSA M. VENTRELLA – EXECUÇÃO DE BASE E IMPRIMAÇÃO | C13: =('Planilha Orçamentária'!J32)*1.2332 -> 402517.09 | D13: =C13*D14 -> 0 | E13: =C13*E14 -> 161006.84 | F13: =C13*F14 -> 241510.25
D14: 0 | E14: 0.4 | F14: 0.6
A15: 2.3 | B15: PAVIMENTAÇÃO ASFÁLTICA - RUA CELSO BENEDITO DE MADUREIRA MOREIRA, RUA JOSÉ MARIA DO AMARAL, RUA JOSÉ ORTEGA LOPES E RUA ROSA M. VENTRELLA – PAVIMENTAÇÃO ASFÁLTICA | C15: =('Planilha Orçamentária'!J40)*1.2332 -> 792436.36 | D15: =$C$15*D16 -> 0 | E15: =$C$15*E16 -> 237730.91 | F15: =$C$15*F16 -> 554705.45
D16: 0 | E16: 0.3 | F16: 0.7
A17: 3.1 | B17: PAVIMENTAÇÃO ASFÁLTICA - RUA BERNARDO MASCARENHAS MARTINS, RUA NELSON PIRES DE CAMPOS, RUA DIOGO SOLER SOLER E RUA ANTÔNIO C. OLIVEIRA – TERRAPLANAGEM | C17: =('Planilha Orçamentária'!J55)*1.2332 -> 525396.55 | D17: =$C$17*D18 -> 315237.93 | E17: =$C$17*E18 -> 210158.62 | F17: =$C$17*F18 -> 0
D18: 0.6 | E18: 0.4 | F18: 0
A19: 3.2 | B19: PAVIMENTAÇÃO ASFÁLTICA - RUA BERNARDO MASCARENHAS MARTINS, RUA NELSON PIRES DE CAMPOS, RUA DIOGO SOLER SOLER E RUA ANTÔNIO C. OLIVEIRA – EXECUÇÃO DE BASE E IMPRIMAÇÃO | C19: =('Planilha Orçamentária'!J62)*1.2332 -> 408793.25 | D19: =$C$19*D20 -> 0 | E19: =$C$19*E20 -> 163517.3 | F19: =$C$19*F20 -> 245275.95
D20: 0 | E20: 0.4 | F20: 0.6
A21: 3.3 | B21: PAVIMENTAÇÃO ASFÁLTICA - RUA BERNARDO MASCARENHAS MARTINS, RUA NELSON PIRES DE CAMPOS, RUA DIOGO SOLER SOLER E RUA ANTÔNIO C. OLIVEIRA – PAVIMENTAÇÃO ASFÁLTICA | C21: =('Planilha Orçamentária'!J70)*1.2332 -> 804792.26 | D21: =$C$21*D22 -> 0 | E21: =$C$21*E22 -> 241437.68 | F21: =$C$21*F22 -> 563354.58
D22: 0 | E22: 0.3 | F22: 0.7
A23: 4.1 | B23: PAVIMENTAÇÃO ASFÁLTICA – RUA DOUTOR FAUSTO TELLES FILHO – TERRAPLENAGEM | C23: =('Planilha Orçamentária'!J85)*1.2332 -> 826865.67 | D23: =$C$23*D24 -> 496119.4 | E23: =$C$23*E24 -> 330746.27 | F23: =$C$23*F24 -> 0
D24: 0.6 | E24: 0.4 | F24: 0
A25: 4.2 | B25: PAVIMENTAÇÃO ASFÁLTICA – RUA DOUTOR FAUSTO TELLES FILHO – EXECUÇÃO DE BASE E IMPRIMAÇÃO | C25: =('Planilha Orçamentária'!J92)*1.2332 -> 491116.52 | D25: =$C$25*D26 -> 0 | E25: =$C$25*E26 -> 196446.61 | F25: =$C$25*F26 -> 294669.91
D26: 0 | E26: 0.4 | F26: 0.6
A27: 4.3 | B27: PAVIMENTAÇÃO ASFÁLTICA – RUA DOUTOR FAUSTO TELLES FILHO – PAVIMENTAÇÃO ASFÁLTICA | C27: =('Planilha Orçamentária'!J100)*1.2332 -> 966862.26 | D27: =$C$27*D28 -> 0 | E27: =$C$27*E28 -> 290058.68 | F27: =$C$27*F28 -> 676803.58
D28: 0 | E28: 0.3 | F28: 0.7
A29: 5.1 | B29: RECAPEAMENTO ASFÁLTICO – RUA MARIA RAPHAELA PAGLIUCCA E RUA ANTÔNIO FRUET – TERRAPLENAGEM | C29: =('Planilha Orçamentária'!J115)*1.2332 -> 262661.89 | D29: =$C$29*D30 -> 157597.13 | E29: =$C$29*E30 -> 105064.76 | F29: =$C$29*F30 -> 0
D30: 0.6 | E30: 0.4 | F30: 0
A31: 5.2 | B31: RECAPEAMENTO ASFÁLTICO – RUA MARIA RAPHAELA PAGLIUCCA E RUA ANTÔNIO FRUET – PAVIMENTAÇÃO ASFÁLTICA | C31: =('Planilha Orçamentária'!J128)*1.2332 -> 527113.19 | D31: =$C$31*D32 -> 0 | E31: =$C$31*E32 -> 158133.96 | F31: =$C$31*F32 -> 368979.23
D32: 0 | E32: 0.3 | F32: 0.7
A33: 5.3 | B33: RECAPEAMENTO ASFÁLTICO – RUA MARIA RAPHAELA PAGLIUCCA E RUA ANTÔNIO FRUET – RECAPEAMENTO ASFÁLTICO | C33: =('Planilha Orçamentária'!J138)*1.2332 -> 237777.28 | D33: =$C$33*D34 -> 0 | E33: =$C$33*E34 -> 71333.183 | F33: =$C$33*F34 -> 166444.09
D34: 0 | E34: 0.3 | F34: 0.7
A35: 6 | B35: RECAPEAMENTO ASFÁLTICO – RUA MARIA RAPHAELA PAGLIUCCA E RUA ANTÔNIO FRUET – DRENAGEM (GUIAS, SARJETAS E SARJETÕES) | C35: =('Planilha Orçamentária'!J143)*1.2332 -> 439441.45 | D35: =$C$35*D36 -> 263664.87 | E35: =$C$35*E36 -> 175776.58 | F35: =$C$35*F36 -> 0
D36: 0.6 | E36: 0.4 | F36: 0
A37: 7.1 | B37: SERVIÇOS DE DRENAGEM DE ÁGUAS PLUVIAIS - MOVIMENTAÇÃO DE TERRA E TUBULAÇÃO | C37: =('Planilha Orçamentária'!J153)*1.2332 -> 668596.64 | D37: =$C$37*D38 -> 401157.98 | E37: =$C$37*E38 -> 267438.66 | F37: =$C$37*F38 -> 0
D38: 0.6 | E38: 0.4 | F38: 0
A39: 7.2 | B39: SERVIÇOS DE DRENAGEM DE ÁGUAS PLUVIAIS - CAIXAS, POÇOS DE VISITA E MURO DE ALA | C39: =('Planilha Orçamentária'!J165)*1.2332 -> 349210.58 | D39: =$C$39*D40 -> 209526.35 | E39: =$C$39*E40 -> 139684.23 | F39: =$C$39*F40 -> 0
D40: 0.6 | E40: 0.4 | F40: 0
A41: 8 | B41: PASSEIO PUBLICO (CALÇADA) | C41: =('Planilha Orçamentária'!J171)*1.2332 -> 453205.54 | D41: =$C$41*D42 -> 135961.66 | E41: =$C$41*E42 -> 135961.66 | F41: =$C$41*F42 -> 181282.22
...

Sheet Memorial de Cálculo
A1: SECRETARIA DE SERVIÇOS PÚBLICOS E OBRAS
A2: Divisão de Gerenciamento Viário
A3: MEMÓRIA DE CÁLCULO
A4: OBRA: Pavimentação Asfáltica
A5: Local: Rua Dr. Fausto Pereira Telles Filho, rua Celso Benedito de Madureira Moreira, rua Bernardo Mascarenhas Martins, rua Nelson Pires de Campos, rua José Maria do Amaral, rua Rosa Molineiro Ventrella, rua José Ortega Lopes, rua Diogo Soler e rua Antônio Cândido de Oliveira - Bairro chácara 3 Marias; Rua Maria Raphaela Pagliucca e rua Antônio Fruet – Bairro Jardim Nilton Torres
A7: ITEM | B7: CÓD. SERVIÇO | D7: DESCRIÇÃO DO SERVIÇO
A8: 1.1 | B8: ='Planilha Orçamentária'!B12 -> 103689 | D8: ='Planilha Orçamentária'!D12 -> FORNECIMENTO E INSTALAÇÃO DE PLACA DE OBRA COM CHAPA GALVANIZADA E ESTRUTURA DE MADEIRA. AF_03/2022_PS
A10: CÁLCULO
A12: Área da placa = 9,00 m2 | F12: Quantidade total (Q) = 9,00 x 1,00
A13: Quantidade de placas = 1,00 unidade
F14: Q = | G14: ='Planilha Orçamentária'!F12 -> 9 | H14: ='Planilha Orçamentária'!E12 -> M2
A18: ITEM | B18: CÓD. SERVIÇO | D18: DESCRIÇÃO DO SERVIÇO
A19: ='Planilha Orçamentária'!A16 -> 2.1.1 | B19: ='Planilha Orçamentária'!B16 -> 98525 | D19: ='Planilha Orçamentária'!D16 -> LIMPEZA MECANIZADA DE CAMADA VEGETAL, VEGETAÇÃO E PEQUENAS ÁRVORES (DIÂMETRO DE TRONCO MENOR QUE 0,20 M), COM TRATOR DE ESTEIRAS.AF_05/2018
A21: CÁLCULO
A23: Comprimento = 867,59 m | F23: Quantidade total (Q) = 867,59 x 2,50
A24: Largura = 2,50 m
F25: Q = | G25: ='Planilha Orçamentária'!F16 -> 2168.975 | H25: ='Planilha Orçamentária'!E16 -> M2
A29: ITEM | B29: CÓD. SERVIÇO | D29: DESCRIÇÃO DO SERVIÇO
A30: ='Planilha Orçamentária'!A17 -> 2.1.2 | B30: ='Planilha Orçamentária'!B17 -> 100978 | D30: ='Planilha Orçamentária'!D17 -> CARGA, MANOBRA E DESCARGA DE SOLOS E MATERIAIS GRANULARES EM CAMINHÃO BASCULANTE 10 M³ - CARGA COM ESCAVADEIRA HIDRÁULICA (CAÇAMBA DE 1,20 M³ / 155 HP) E DESCARGA LIVRE (UNIDADE: M3). AF_07/2020
A32: CÁLCULO
A34: Área =2168,98 m2 | F34: Quantidade total (Q) = 2168,98 x 0,10 x 1,30
A35: Espessura = 0,10 m
A36: Fator = 1,30 | F36: Q = | G36: ='Planilha Orçamentária'!F17 -> 281.96675 | H36: ='Planilha Orçamentária'!E17 -> M3
A40: ITEM | B40: CÓD. SERVIÇO | D40: DESCRIÇÃO DO SERVIÇO
A41: ='Planilha Orçamentária'!A18 -> 2.1.3 | B41: ='Planilha Orçamentária'!B18 -> 95875 | D41: ='Planilha Orçamentária'!D18 -> TRANSPORTE COM CAMINHÃO BASCULANTE DE 10 M³, EM VIA URBANA PAVIMENTADA, DMT ATÉ 30 KM (UNIDADE: M3XKM). AF_07/2020
A43: CÁLCULO
A45: Volume = 281,97 m3 | F45: Quantidade total (Q) = 281,97 x 15,90
A46: Distância = 15,90 km
F47: Q = | G47: ='Planilha Orçamentária'!F18 -> 4483.2713 | H47: ='Planilha Orçamentária'!E18 -> M3XKM
A51: ITEM | B51: CÓD. SERVIÇO | D51: DESCRIÇÃO DO SERVIÇO
A52: ='Planilha Orçamentária'!A19 -> 2.1.4 | B52: ='Planilha Orçamentária'!B19 -> 101141 | D52: ='Planilha Orçamentária'!D19 -> ESCAVAÇÃO HORIZONTAL, INCLUINDO ESCARIFICAÇÃO, CARGA, DESCARGA E TRANSPORTE EM SOLO DE 2A CATEGORIA COM TRATOR DE ESTEIRAS (170HP/LÂMINA: 5,20M3) E CAMINHÃO BASCULANTE DE 10M3, DMT ATÉ 200M. AF_07/2020
A54: CÁLCULO
A56: Área = 5660,49 m2 | F56: Quantidade total (Q) = 5660,49 x 0,45
A57: Espessura = 0,45 m
F58: Q = | G58: ='Planilha Orçamentária'!F19 -> 2547.2205 | H58: ='Planilha Orçamentária'!E19 -> M3
A62: ITEM | B62: CÓD. SERVIÇO | D62: DESCRIÇÃO DO SERVIÇO
A63: ='Planilha Orçamentária'!A20 -> 2.1.5 | B63: ='Planilha Orçamentária'!B20 -> 95875 | D63: ='Planilha Orçamentária'!D20 -> TRANSPORTE COM CAMINHÃO BASCULANTE DE 10 M³, EM VIA URBANA PAVIMENTADA, DMT ATÉ 30 KM (UNIDADE: M3XKM). AF_07/2020
A65: CÁLCULO
A67: Volume = 2547,22 m3 | F67: Quantidade total (Q) = 2547,22 x 15,90 x 1,30
A68: Distância = 15,90 km
...

Sheet Planilha1
D3: 3 Marias | E3: Nilton
C4: Julio & Julio | D4: 24.5 | E4: 23.4
C5: Obragen | D5: 36.83 | E5: 33.4
C6: Ellenco | D6: 14.15 | E6: 10.1
C7: Média: | D7: =AVERAGE(D4:D6) -> 25.16 | E7: =AVERAGE(E4:E6) -> 22.3

Sheet Planilha4
A5: CODIGO DA COMPOSICAO | B5: DESCRICAO DA COMPOSICAO | C5: UNIDADE | D5: CUSTO TOTAL
A7: 97141 | B7: ASSENTAMENTO DE TUBO DE FERRO FUNDIDO PARA REDE DE ÁGUA, DN 80 MM, JUNTA ELÁSTICA, INSTALADO EM LOCAL COM NÍVEL ALTO DE INTERFERÊNCIAS (NÃO INCLUI FORNECIMENTO). AF_05/2024 | C7: M | D7: 5.34
A8: 97142 | B8: ASSENTAMENTO DE TUBO DE FERRO FUNDIDO PARA REDE DE ÁGUA, DN 100 MM, JUNTA ELÁSTICA, INSTALADO EM LOCAL COM NÍVEL ALTO DE INTERFERÊNCIAS (NÃO INCLUI FORNECIMENTO). AF_05/2024 | C8: M | D8: 6.21
A9: 97143 | B9: ASSENTAMENTO DE TUBO DE FERRO FUNDIDO PARA REDE DE ÁGUA, DN 150 MM, JUNTA ELÁSTICA, INSTALADO EM LOCAL COM NÍVEL ALTO DE INTERFERÊNCIAS (NÃO INCLUI FORNECIMENTO). AF_05/2024 | C9: M | D9: 8.33
A10: 97144 | B10: ASSENTAMENTO DE TUBO DE FERRO FUNDIDO PARA REDE DE ÁGUA, DN 200 MM, JUNTA ELÁSTICA, INSTALADO EM LOCAL COM NÍVEL ALTO DE INTERFERÊNCIAS (NÃO INCLUI FORNECIMENTO). AF_05/2024 | C10: M | D10: 10.43
A11: 97145 | B11: ASSENTAMENTO DE TUBO DE FERRO FUNDIDO PARA REDE DE ÁGUA, DN 250 MM, JUNTA ELÁSTICA, INSTALADO EM LOCAL COM NÍVEL ALTO DE INTERFERÊNCIAS (NÃO INCLUI FORNECIMENTO). AF_05/2024 | C11: M | D11: 12.57
A12: 97146 | B12: ASSENTAMENTO DE TUBO DE FERRO FUNDIDO PARA REDE DE ÁGUA, DN 300 MM, JUNTA ELÁSTICA, INSTALADO EM LOCAL COM NÍVEL ALTO DE INTERFERÊNCIAS (NÃO INCLUI FORNECIMENTO). AF_05/2024 | C12: M | D12: 14.72
A13: 97147 | B13: ASSENTAMENTO DE TUBO DE FERRO FUNDIDO PARA REDE DE ÁGUA, DN 350 MM, JUNTA ELÁSTICA, INSTALADO EM LOCAL COM NÍVEL ALTO DE INTERFERÊNCIAS (NÃO INCLUI FORNECIMENTO). AF_05/2024 | C13: M | D13: 16.86
A14: 97148 | B14: ASSENTAMENTO DE TUBO DE FERRO FUNDIDO PARA REDE DE ÁGUA, DN 400 MM, JUNTA ELÁSTICA, INSTALADO EM LOCAL COM NÍVEL ALTO DE INTERFERÊNCIAS (NÃO INCLUI FORNECIMENTO). AF_05/2024 | C14: M | D14: 18.99
A15: 97149 | B15: ASSENTAMENTO DE TUBO DE FERRO FUNDIDO PARA REDE DE ÁGUA, DN 450 MM, JUNTA ELÁSTICA, INSTALADO EM LOCAL COM NÍVEL ALTO DE INTERFERÊNCIAS (NÃO INCLUI FORNECIMENTO). AF_05/2024 | C15: M | D15: 21.14
A16: 97150 | B16: ASSENTAMENTO DE TUBO DE FERRO FUNDIDO PARA REDE DE ÁGUA, DN 500 MM, JUNTA ELÁSTICA, INSTALADO EM LOCAL COM NÍVEL ALTO DE INTERFERÊNCIAS (NÃO INCLUI FORNECIMENTO). AF_05/2024 | C16: M | D16: 26.61
A17: 97151 | B17: ASSENTAMENTO DE TUBO DE FERRO FUNDIDO PARA REDE DE ÁGUA, DN 600 MM, JUNTA ELÁSTICA, INSTALADO EM LOCAL COM NÍVEL ALTO DE INTERFERÊNCIAS (NÃO INCLUI FORNECIMENTO). AF_05/2024 | C17: M | D17: 31.42
A18: 97152 | B18: ASSENTAMENTO DE TUBO DE FERRO FUNDIDO PARA REDE DE ÁGUA, DN 700 MM, JUNTA ELÁSTICA, INSTALADO EM LOCAL COM NÍVEL ALTO DE INTERFERÊNCIAS (NÃO INCLUI FORNECIMENTO). AF_05/2024 | C18: M | D18: 36
... A7749: 101460 | B7749: VIGIA DIURNO COM ENCARGOS COMPLEMENTARES | C7749: MES | D7749: 5602.92

Sheet MDC
A1: Chácara 3 Marias e Jd. Nilton Torres
A3: Pavimentação | G3: Calçada | I3: Vias | K3: Podotátil
A4: Rua | D4: Área (m²) | E4: Metro (m) | G4: Área(m²) | I4: Metros | K4: Quantidade | L4: Metros
A5: RUA CELSO BENEDITO DE MADUREIRA MOREIRA | D5: 2830.12 | E5: =21*20+13.79 -> 433.79 | G5: =261.44+656.04+856.01+302.78+249.36+170.43+205.45+294.67+410.52+210.88+240.8+722.47+217.44+334.43 -> 5132.72 | I5: =E15 -> 3293.13 | K5: 36 | L5: =K5*5.14 -> 185.04
A6: RUA BERNARDO MASCARENHAS MARTINS | D6: 2283.99 | E6: =17*20+10.49 -> 350.49
A7: RUA NELSON PIRES DE CAMPOS | D7: 925.73 | E7: =7*20+2.61 -> 142.61
A8: RUA JOSÉ MARIA DO AMARAL | D8: 1275.76 | E8: =9*20+15.23 -> 195.23
A9: RUA JOSÉ ORTEGA LOPES | D9: 1053.09 | E9: =8*20+1.39 -> 161.39
A10: RUA ROSA M. VENTRELLA | D10: 501.52 | E10: =3*20+17.18 -> 77.18
A11: RUA DIOGO SOLER SOLER | D11: 1643.62 | E11: =12*20+2.81 -> 242.81 | F11: 100m de Pavimento para retirar
A12: RUA ANTÔNIO C. OLIVEIRA | D12: 895.41 | E12: =6*20+17.55 -> 137.55
A13: RUA DR. FAUSTO TELLES FILHO | D13: 6906.44 | E13: =49*20+2.46 -> 982.46 | F13: Obs: demolição e remoção pavimento
A14: RUA MARIA RAPHAEL PAGLIUCCA E RUA ANTÔNIO FRUET | D14: =2521.74+2442.48 -> 4964.22 | E14: =28*20+9.62 -> 569.62
A15: TOTAL: | D15: =SUM(D5:D14) -> 23279.9 | E15: =SUM(E5:E14) -> 3293.13 | K15: Distância GM 3 Nilton Torres
K16: 9.4
A17: Drenagem | G17: Sarjetão | I17: Guia e sarjeta | K17: Distância GM 3 Marias
A18: Tubo / Material | D18: Comprimento (m) / Quantidade | G18: Comprimento (m) | I18: Comprimento (m) | K18: 15.9
A19: BLD | D19: 51 | G19: =6.5 -> 6.5 | I19: =(((21*20)+13.79)+((17*20)+10.49)+((7*20)+2.61)+((9*20)+15.23)+((8*20)+1.39)+((3*20)+17.18)+((12*20)+2.81)+((6*20)+17.55)+((49*20)+2.46))*2+((8*7.4)+7.9) -> 5514.12
A20: PV | D20: 28
A21: Tubo 40 | D21: =284.06+14.35 -> 298.41
A22: Tubo 50 | D22: 450
A23: Tubo 60 | D23: =819.49-5.4-141.71 -> 672.38
A24: Tubo 80 | D24: 179.4
A25: Muro de ala | D25: 8

Sheet Planilha7
A1: ='Planilha Orçamentária'!$D$9 -> Serviço | B1: ='Planilha Orçamentária'!$E$9 -> Un. | C1: ='Planilha Orçamentária'!$F$9 -> Quant. | D1: ='Planilha Orçamentária'!$G$9 -> Custo (R$) | F1: ='Planilha Orçamentária'!$I$9 -> Total (R$)
A2: ='Planilha Orçamentária'!B11 -> SERVIÇOS PRELIMINARES
A3: ='Planilha Orçamentária'!$D$12 -> FORNECIMENTO E INSTALAÇÃO DE PLACA DE OBRA COM CHAPA GALVANIZADA E ESTRUTURA DE MADEIRA. AF_03/2022_PS | B3: ='Planilha Orçamentária'!$E$12 -> M2 | C3: ='Planilha Orçamentária'!$F$12 -> 9 | D3: ='Planilha Orçamentária'!$G$12 -> R$ | E3: ='Planilha Orçamentária'!$H$12 -> 470.52 | F3: ='Planilha Orçamentária'!$I$12 -> R$ | G3: ='Planilha Orçamentária'!$J$12 -> 4234.68
E4: ='Planilha Orçamentária'!$H$13 -> Sub-total: | F4: ='Planilha Orçamentária'!$I$13 -> R$ | G4: ='Planilha Orçamentária'!$J$13 -> 4234.68
A5: ='Planilha Orçamentária'!B14 -> PAVIMENTAÇÃO ASFÁLTICA - RUA CELSO BENEDITO DE MADUREIRA MOREIRA, RUA JOSÉ MARIA DO AMARAL, RUA JOSÉ ORTEGA LOPES E RUA ROSA M. VENTRELLA
A6: ='Planilha Orçamentária'!B15 -> TERRAPLANAGEM
A7: ='Planilha Orçamentária'!$D$16 -> LIMPEZA MECANIZADA DE CAMADA VEGETAL, VEGETAÇÃO E PEQUENAS ÁRVORES (DIÂMETRO DE TRONCO MENOR QUE 0,20 M), COM TRATOR DE ESTEIRAS.AF_05/2018 | B7: ='Planilha Orçamentária'!$E$16 -> M2 | C7: ='Planilha Orçamentária'!$F$16 -> 2168.975 | D7: ='Planilha Orçamentária'!$G$16 -> R$ | E7: ='Planilha Orçamentária'!$H$16 -> 0.69 | F7: ='Planilha Orçamentária'!$I$16 -> R$ | G7: ='Planilha Orçamentária'!$J$16 -> 1496.5928
A8: ='Planilha Orçamentária'!$D$17 -> CARGA, MANOBRA E DESCARGA DE SOLOS E MATERIAIS GRANULARES EM CAMINHÃO BASCULANTE 10 M³ - CARGA COM ESCAVADEIRA HIDRÁULICA (CAÇAMBA DE 1,20 M³ / 155 HP) E DESCARGA LIVRE (UNIDADE: M3). AF_07/2020 | B8: ='Planilha Orçamentária'!$E$17 -> M3 | C8: ='Planilha Orçamentária'!$F$17 -> 281.96675 | D8: ='Planilha Orçamentária'!$G$17 -> R$ | E8: ='Planilha Orçamentária'!$H$17 -> 7.22 | F8: ='Planilha Orçamentária'!$I$17 -> R$ | G8: ='Planilha Orçamentária'!$J$17 -> 2035.7999
A9: ='Planilha Orçamentária'!$D$18 -> TRANSPORTE COM CAMINHÃO BASCULANTE DE 10 M³, EM VIA URBANA PAVIMENTADA, DMT ATÉ 30 KM (UNIDADE: M3XKM). AF_07/2020 | B9: ='Planilha Orçamentária'!$E$18 -> M3XKM | C9: ='Planilha Orçamentária'!$F$18 -> 4483.2713 | D9: ='Planilha Orçamentária'!$G$18 -> R$ | E9: ='Planilha Orçamentária'!$H$18 -> 2.56 | F9: ='Planilha Orçamentária'!$I$18 -> R$ | G9: ='Planilha Orçamentária'!$J$18 -> 11477.175
A10: ='Planilha Orçamentária'!$D$19 -> ESCAVAÇÃO HORIZONTAL, INCLUINDO ESCARIFICAÇÃO, CARGA, DESCARGA E TRANSPORTE EM SOLO DE 2A CATEGORIA COM TRATOR DE ESTEIRAS (170HP/LÂMINA: 5,20M3) E CAMINHÃO BASCULANTE DE 10M3, DMT ATÉ 200M. AF_07/2020 | B10: ='Planilha Orçamentária'!$E$19 -> M3 | C10: ='Planilha Orçamentária'!$F$19 -> 2547.2205 | D10: ='Planilha Orçamentária'!$G$19 -> R$ | E10: ='Planilha Orçamentária'!$H$19 -> 16.78 | F10: ='Planilha Orçamentária'!$I$19 -> R$ | G10: ='Planilha Orçamentária'!$J$19 -> 42742.36
A11: ='Planilha Orçamentária'!$D$20 -> TRANSPORTE COM CAMINHÃO BASCULANTE DE 10 M³, EM VIA URBANA PAVIMENTADA, DMT ATÉ 30 KM (UNIDADE: M3XKM). AF_07/2020 | B11: ='Planilha Orçamentária'!$E$20 -> M3XKM | C11: ='Planilha Orçamentária'!$F$20 -> 52651.048 | D11: ='Planilha Orçamentária'!$G$20 -> R$ | E11: ='Planilha Orçamentária'!$H$20 -> 2.56 | F11: ='Planilha Orçamentária'!$I$20 -> R$ | G11: ='Planilha Orçamentária'!$J$20 -> 134786.68
A12: ='Planilha Orçamentária'!$D$21 -> REGULARIZAÇÃO E COMPACTAÇÃO DE SUBLEITO DE SOLO PREDOMINANTEMENTE ARGILOSO. AF_11/2019 | B12: ='Planilha Orçamentária'!$E$21 -> M2 | C12: ='Planilha Orçamentária'!$F$21 -> 5660.49 | D12: ='Planilha Orçamentária'!$G$21 -> R$ | E12: ='Planilha Orçamentária'!$H$21 -> 2.14 | F12: ='Planilha Orçamentária'!$I$21 -> R$ | G12: ='Planilha Orçamentária'!$J$21 -> 12113.449
A13: ='Planilha Orçamentária'!$D$22 -> EXECUÇÃO E COMPACTAÇÃO DE BASE E OU SUB-BASE PARA PAVIMENTAÇÃO DE SOLO (PREDOMINANTEMENTE ARENOSO) COM CIMENTO (TEOR DE 4%) - EXCLUSIVE SOLO, ESCAVAÇÃO, CARGA E TRANSPORTE. AF_11/2019 – 20CM | B13: ='Planilha Orçamentária'!$E$22 -> M3 | C13: ='Planilha Orçamentária'!$F$22 -> 1132.098 | D13: ='Planilha Orçamentária'!$G$22 -> R$ | E13: ='Planilha Orçamentária'!$H$22 -> 127.87 | F13: ='Planilha Orçamentária'!$I$22 -> R$ | G13: ='Planilha Orçamentária'!$J$22 -> 144761.37
A14: ='Planilha Orçamentária'!$D$23 -> CARGA, MANOBRA E DESCARGA DE SOLOS E MATERIAIS GRANULARES EM CAMINHÃO BASCULANTE 10 M³ - CARGA COM ESCAVADEIRA HIDRÁULICA (CAÇAMBA DE 1,20 M³ / 155 HP) E DESCARGA LIVRE (UNIDADE: M3). AF_07/2020 | B14: ='Planilha Orçamentária'!$E$23 -> M3 | C14: ='Planilha Orçamentária'!$F$23 -> 747.18468 | D14: ='Planilha Orçamentária'!$G$23 -> R$ | E14: ='Planilha Orçamentária'!$H$23 -> 7.22 | F14: ='Planilha Orçamentária'!$I$23 -> R$ | G14: ='Planilha Orçamentária'!$J$23 -> 5394.6734
A15: ='Planilha Orçamentária'!$D$24 -> TRANSPORTE COM CAMINHÃO BASCULANTE DE 10 M³, EM VIA URBANA PAVIMENTADA, DMT ATÉ 30 KM (UNIDADE: M3XKM). AF_07/2020 | B15: ='Planilha Orçamentária'!$E$24 -> M3XKM | C15: ='Planilha Orçamentária'!$F$24 -> 18799.167 | D15: ='Planilha Orçamentária'!$G$24 -> R$ | E15: ='Planilha Orçamentária'!$H$24 -> 2.56 | F15: ='Planilha Orçamentária'!$I$24 -> R$ | G15: ='Planilha Orçamentária'!$J$24 -> 48125.866
E16: ='Planilha Orçamentária'!$H$25 -> Sub-total: | F16: ='Planilha Orçamentária'!$I$25 -> R$ | G16: ='Planilha Orçamentária'!$J$25 -> 402933.97
A17: ='Planilha Orçamentária'!B26 -> EXECUÇÃO DE BASE E IMPRIMAÇÃO
A18: ='Planilha Orçamentária'!$D$27 -> EXECUÇÃO E COMPACTAÇÃO DE BASE E OU SUB BASE PARA PAVIMENTAÇÃO DE BRITA GRADUADA SIMPLES – EXCLUSIVE CARGA E TRANSPORTE. AF_11/2019 – 15CM | B18: ='Planilha Orçamentária'!$E$27 -> M3 | C18: ='Planilha Orçamentária'!$F$27 -> 849.0735 | D18: ='Planilha Orçamentária'!$G$27 -> R$ | E18: ='Planilha Orçamentária'!$H$27 -> 128.59 | F18: ='Planilha Orçamentária'!$I$27 -> R$ | G18: ='Planilha Orçamentária'!$J$27 -> 109182.36
A19: ='Planilha Orçamentária'!$D$28 -> CARGA, MANOBRA E DESCARGA DE SOLOS E MATERIAIS GRANULARES EM CAMINHÃO BASCULANTE 10 M³ - CARGA COM ESCAVADEIRA HIDRÁULICA (CAÇAMBA DE 1,20 M³ / 155 HP) E DESCARGA LIVRE (UNIDADE: M3). AF_07/2020 | B19: ='Planilha Orçamentária'!$E$28 -> M3 | C19: ='Planilha Orçamentária'!$F$28 -> 849.0735 | D19: ='Planilha Orçamentária'!$G$28 -> R$ | E19: ='Planilha Orçamentária'!$H$28 -> 7.22 | F19: ='Planilha Orçamentária'!$I$28 -> R$ | G19: ='Planilha Orçamentária'!$J$28 -> 6130.3107
A20: ='Planilha Orçamentária'!$D$29 -> TRANSPORTE COM CAMINHÃO BASCULANTE DE 10 M³, EM VIA URBANA PAVIMENTADA, DMT ATÉ 30 KM (UNIDADE: M3XKM). AF_07/2020 | B20: ='Planilha Orçamentária'!$E$29 -> M3XKM | C20: ='Planilha Orçamentária'!$F$29 -> 21362.689 | D20: ='Planilha Orçamentária'!$G$29 -> R$ | E20: ='Planilha Orçamentária'!$H$29 -> 2.56 | F20: ='Planilha Orçamentária'!$I$29 -> R$ | G20: ='Planilha Orçamentária'!$J$29 -> 54688.485
A21: ='Planilha Orçamentária'!$D$30 -> Imprimação betuminosa impermeabilizante | B21: ='Planilha Orçamentária'!$E$30 -> M2 | C21: ='Planilha Orçamentária'!$F$30 -> 5660.49 | D21: ='Planilha Orçamentária'!$G$30 -> R$ | E21: ='Planilha Orçamentária'!$H$30 -> 15.59 | F21: ='Planilha Orçamentária'!$I$30 -> R$ | G21: ='Planilha Orçamentária'!$J$30 -> 88247.039
A22: ='Planilha Orçamentária'!$D$31 -> Imprimação betuminosa ligante | B22: ='Planilha Orçamentária'!$E$31 -> M2 | C22: ='Planilha Orçamentária'!$F$31 -> 11320.98 | D22: ='Planilha Orçamentária'!$G$31 -> R$ | E22: ='Planilha Orçamentária'!$H$31 -> 6.02 | F22: ='Planilha Orçamentária'!$I$31 -> R$ | G22: ='Planilha Orçamentária'!$J$31 -> 68152.3
E23: ='Planilha Orçamentária'!$H$32 -> Sub-total: | F23: ='Planilha Orçamentária'!$I$32 -> R$ | G23: ='Planilha Orçamentária'!$J$32 -> 326400.5
A24: ='Planilha Orçamentária'!B33 -> PAVIMENTAÇÃO ASFÁLTICA
A25: ='Planilha Orçamentária'!$D$34 -> EXECUÇÃO DE PAVIMENTO COM APLICAÇÃO DE CONCRETO ASFÁLTICO, CAMADA DE BINDER - EXCLUSIVE CARGA E TRANSPORTE. AF_11/2019 – 4CM | B25: ='Planilha Orçamentária'!$E$34 -> M3 | C25: ='Planilha Orçamentária'!$F$34 -> 226.4196 | D25: ='Planilha Orçamentária'!$G$34 -> R$ | E25: ='Planilha Orçamentária'!$H$34 -> 1245.65 | F25: ='Planilha Orçamentária'!$I$34 -> R$ | G25: ='Planilha Orçamentária'!$J$34 -> 282039.57
A26: ='Planilha Orçamentária'!$D$35 -> CARGA DE MISTURA ASFÁLTICA EM CAMINHÃO BASCULANTE 10 M³ (UNIDADE: M3). AF_07/2020 | B26: ='Planilha Orçamentária'!$E$35 -> M3 | C26: ='Planilha Orçamentária'!$F$35 -> 226.4196 | D26: ='Planilha Orçamentária'!$G$35 -> R$ | E26: ='Planilha Orçamentária'!$H$35 -> 9.39 | F26: ='Planilha Orçamentária'!$I$35 -> R$ | G26: ='Planilha Orçamentária'!$J$35 -> 2126.08
A27: ='Planilha Orçamentária'!$D$36 -> TRANSPORTE COM CAMINHÃO BASCULANTE DE 10 M³, EM VIA URBANA PAVIMENTADA, DMT ATÉ 30 KM (UNIDADE: M3XKM). AF_07/2020 | B27: ='Planilha Orçamentária'!$E$36 -> M3XKM | C27: ='Planilha Orçamentária'!$F$36 -> 5696.7171 | D27: ='Planilha Orçamentária'!$G$36 -> R$ | E27: ='Planilha Orçamentária'!$H$36 -> 2.56 | F27: ='Planilha Orçamentária'!$I$36 -> R$ | G27: ='Planilha Orçamentária'!$J$36 -> 14583.596
A28: ='Planilha Orçamentária'!$D$37 -> EXECUÇÃO DE PAVIMENTO COM APLICAÇÃO DE CONCRETO ASFÁLTICO, CAMADA DE ROLAMENTO - EXCLUSIVE CARGA E TRANSPORTE. AF_11/2019 – 4CM | B28: ='Planilha Orçamentária'!$E$37 -> M3 | C28: ='Planilha Orçamentária'!$F$37 -> 226.4196 | D28: ='Planilha Orçamentária'!$G$37 -> R$ | E28: ='Planilha Orçamentária'!$H$37 -> 1444.78 | F28: ='Planilha Orçamentária'!$I$37 -> R$ | G28: ='Planilha Orçamentária'!$J$37 -> 327126.51
A29: ='Planilha Orçamentária'!$D$38 -> CARGA DE MISTURA ASFÁLTICA EM CAMINHÃO BASCULANTE 10 M³ (UNIDADE: M3). AF_07/2020 | B29: ='Planilha Orçamentária'!$E$38 -> M3 | C29: ='Planilha Orçamentária'!$F$38 -> 226.4196 | D29: ='Planilha Orçamentária'!$G$38 -> R$ | E29: ='Planilha Orçamentária'!$H$38 -> 9.39 | F29: ='Planilha Orçamentária'!$I$38 -> R$ | G29: ='Planilha Orçamentária'!$J$38 -> 2126.08
A30: ='Planilha Orçamentária'!$D$39 -> TRANSPORTE COM CAMINHÃO BASCULANTE DE 10 M³, EM VIA URBANA PAVIMENTADA, DMT ATÉ 30 KM (UNIDADE: M3XKM). AF_07/2020 | B30: ='Planilha Orçamentária'!$E$39 -> M3XKM | C30: ='Planilha Orçamentária'!$F$39 -> 5696.7171 | D30: ='Planilha Orçamentária'!$G$39 -> R$ | E30: ='Planilha Orçamentária'!$H$39 -> 2.56 | F30: ='Planilha Orçamentária'!$I$39 -> R$ | G30: ='Planilha Orçamentária'!$J$39 -> 14583.596
E31: ='Planilha Orçamentária'!$H$40 -> Sub-total: | F31: ='Planilha Orçamentária'!$I$40 -> R$ | G31: ='Planilha Orçamentária'!$J$40 -> 642585.44
A32: ='Planilha Orçamentária'!B41 -> PAVIMENTAÇÃO ASFÁLTICA - RUA BERNARDO MASCARENHAS MARTINS, RUA NELSON PIRES DE CAMPOS, RUA DIOGO SOLER SOLER E RUA ANTÔNIO C. OLIVEIRA
A33: ='Planilha Orçamentária'!B42 -> TERRAPLANAGEM
A34: ='Planilha Orçamentária'!$D$43 -> LIMPEZA MECANIZADA DE CAMADA VEGETAL, VEGETAÇÃO E PEQUENAS ÁRVORES (DIÂMETRO DE TRONCO MENOR QUE 0,20 M), COM TRATOR DE ESTEIRAS.AF_05/2018 | B34: ='Planilha Orçamentária'!$E$43 -> M2 | C34: ='Planilha Orçamentária'!$F$43 -> 2183.65 | D34: ='Planilha Orçamentária'!$G$43 -> R$ | E34: ='Planilha Orçamentária'!$H$43 -> 0.69 | F34: ='Planilha Orçamentária'!$I$43 -> R$ | G34: ='Planilha Orçamentária'!$J$43 -> 1506.7185
A35: ='Planilha Orçamentária'!$D$44 -> CARGA, MANOBRA E DESCARGA DE SOLOS E MATERIAIS GRANULARES EM CAMINHÃO BASCULANTE 10 M³ - CARGA COM ESCAVADEIRA HIDRÁULICA (CAÇAMBA DE 1,20 M³ / 155 HP) E DESCARGA LIVRE (UNIDADE: M3). AF_07/2020 | B35: ='Planilha Orçamentária'!$E$44 -> M3 | C35: ='Planilha Orçamentária'!$F$44 -> 283.8745 | D35: ='Planilha Orçamentária'!$G$44 -> R$ | E35: ='Planilha Orçamentária'!$H$44 -> 7.22 | F35: ='Planilha Orçamentária'!$I$44 -> R$ | G35: ='Planilha Orçamentária'!$J$44 -> 2049.5739
A36: ='Planilha Orçamentária'!$D$45 -> TRANSPORTE COM CAMINHÃO BASCULANTE DE 10 M³, EM VIA URBANA PAVIMENTADA, DMT ATÉ 30 KM (UNIDADE: M3XKM). AF_07/2020 | B36: ='Planilha Orçamentária'!$E$45 -> M3XKM | C36: ='Planilha Orçamentária'!$F$45 -> 4513.6046 | D36: ='Planilha Orçamentária'!$G$45 -> R$ | E36: ='Planilha Orçamentária'!$H$45 -> 2.56 | F36: ='Planilha Orçamentária'!$I$45 -> R$ | G36: ='Planilha Orçamentária'!$J$45 -> 11554.828
A37: ='Planilha Orçamentária'!$D$46 -> DEMOLIÇÃO PARCIAL DE PAVIMENTO ASFÁLTICO, DE FORMA MECANIZADA, SEM REAPROVEITAMENTO. AF_09/2023 | B37: ='Planilha Orçamentária'!$E$46 -> M2 | C37: ='Planilha Orçamentária'!$F$46 -> 650 | D37: ='Planilha Orçamentária'!$G$46 -> R$ | E37: ='Planilha Orçamentária'!$H$46 -> 24.44 | F37: ='Planilha Orçamentária'!$I$46 -> R$ | G37: ='Planilha Orçamentária'!$J$46 -> 15886
A38: ='Planilha Orçamentária'!$D$47 -> CARGA, MANOBRA E DESCARGA DE ENTULHO EM CAMINHÃO BASCULANTE 10 M³ - CARGA COM ESCAVADEIRA HIDRÁULICA (CAÇAMBA DE 0,80 M³ / 111 HP) E DESCARGA LIVRE (UNIDADE: M3). AF_07/2020 | B38: ='Planilha Orçamentária'!$E$47 -> M3 | C38: ='Planilha Orçamentária'!$F$47 -> 42.25 | D38: ='Planilha Orçamentária'!$G$47 -> R$ | E38: ='Planilha Orçamentária'!$H$47 -> 9.34 | F38: ='Planilha Orçamentária'!$I$47 -> R$ | G38: ='Planilha Orçamentária'!$J$47 -> 394.615
A39: ='Planilha Orçamentária'!$D$48 -> TRANSPORTE COM CAMINHÃO BASCULANTE DE 10 M³, EM VIA URBANA PAVIMENTADA, ADICIONAL PARA DMT EXCEDENTE A 30 KM (UNIDADE: M3XKM). AF_07/2020 | B39: ='Planilha Orçamentária'!$E$48 -> M3XKM | C39: ='Planilha Orçamentária'!$F$48 -> 671.775 | D39: ='Planilha Orçamentária'!$G$48 -> R$ | E39: ='Planilha Orçamentária'!$H$48 -> 1.01 | F39: ='Planilha Orçamentária'!$I$48 -> R$ | G39: ='Planilha Orçamentária'!$J$48 -> 678.49275
A40: ='Planilha Orçamentária'!$D$49 -> ESCAVAÇÃO HORIZONTAL, INCLUINDO ESCARIFICAÇÃO, CARGA, DESCARGA E TRANSPORTE EM SOLO DE 2A CATEGORIA COM TRATOR DE ESTEIRAS (170HP/LÂMINA: 5,20M3) E CAMINHÃO BASCULANTE DE 10M3, DMT ATÉ 200M. AF_07/2020 | B40: ='Planilha Orçamentária'!$E$49 -> M3 | C40: ='Planilha Orçamentária'!$F$49 -> 2586.9375 | D40: ='Planilha Orçamentária'!$G$49 -> R$ | E40: ='Planilha Orçamentária'!$H$49 -> 16.78 | F40: ='Planilha Orçamentária'!$I$49 -> R$ | G40: ='Planilha Orçamentária'!$J$49 -> 43408.811
...
