Workbook

Sheet ORCAMENTO
H2: SERPO
H3: Serviços Públicos e Obras
A4: PLANILHA ORÇAMENTÁRIA | I4: REV. | J4: 45903
A5: OBRA: | B5: Revitalização de Quadra - Jardim Topázio | I5: BDI Obra | J5: 0.22
A6: LOCAL: | B6: Rua Cornélio Rosumek, s/nº - Jardim Topázio, Sorocaba/SP | I6: Área (m²): | J6: 658.8
A8: ITEM | B8: CÓDIGO | C8: REFERÊNCIA | D8: DISCRIMINAÇÃO DO SERVIÇO | E8: UNIDADE | F8: QUANTIDADE | G8: PREÇO UNITÁRIO (S/ BDI) | H8: PREÇO UNITÁRIO (C/ BDI) | I8: PREÇO TOTAL (SEM BDI) | J8: PREÇO TOTAL (COM BDI) | K8: $ sem BDI | L8: $ com BDI
A9: 1 | D9: SERVIÇOS PRELIMINARES | K9: =I16 -> 7640.62 | L9: =J16 -> 9318.86
A10: 1.1 | D10: CANTEIRO DE OBRAS
A11: 1.1.1 | B11: 02.08.040 | C11: CDHU | D11: Placa em lona com impressão digital e requadro em metalon | E11: M2 | F11: 3 | G11: 410.39 | H11: =TRUNC(G11*(1+$J$5),2) -> 500.67 | I11: =TRUNC(G11*F11,2) -> 1231.17 | J11: =TRUNC(H11*F11,2) -> 1502.01
A12: 1.1.2 | B12: 02.01.180 | C12: CDHU | D12: Banheiro químico modelo Standard, com manutenção conforme exigências da CETESB | E12: UNMES | F12: 2 | G12: 1157.98 | H12: =TRUNC(G12*(1+$J$5),2) -> 1412.73 | I12: =TRUNC(G12*F12,2) -> 2315.96 | J12: =TRUNC(H12*F12,2) -> 2825.46
A13: 1.1.3 | B13: 01-005-040 | C13: SIURB - EDIF | D13: TELA PARA PROTEÇÃO DE OBRAS, MALHA 2 MM | E13: M2 | F13: 90.72 | G13: 31.47 | H13: =TRUNC(G13*(1+$J$5),2) -> 38.39 | I13: =TRUNC(G13*F13,2) -> 2854.95 | J13: =TRUNC(H13*F13,2) -> 3482.74
A14: 1.2 | D14: LOCAÇÃO DE OBRA
A15: 1.2.1 | B15: 02.10.060 | C15: CDHU | D15: Locação de vias, calçadas, tanques e lagoas | E15: M2 | F15: 658.8 | G15: 1.88 | H15: =TRUNC(G15*(1+$J$5),2) -> 2.29 | I15: =TRUNC(G15*F15,2) -> 1238.54 | J15: =TRUNC(H15*F15,2) -> 1508.65
H16: SUBTOTAL | I16: =SUM(I11:I15) -> 7640.62 | J16: =SUM(J11:J15) -> 9318.86
A17: 2 | D17: EXECUÇÃO DA BASE DA QUADRA | K17: =I38 -> 99132.6 | L17: =J38 -> 120910.33
A18: 2.1 | C18: =IFERROR(IFERROR(VLOOKUP($B18,#REF!,8,0),IFERROR(VLOOKUP($B18,#REF!,6,0),IFERROR(VLOOKUP($B18,#REF!,5,0),IFERROR(VLOOKUP($B18,#REF!,6,0),(VLOOKUP($B18,#REF!,6,0))))))," ") | D18: BASE DE CONCRETO
A19: 2.1.1 | B19: 06.01.020 | C19: CDHU | D19: Escavação manual em solo de 1ª e 2ª categoria em campo aberto | E19: M3 | F19: 98.82 | G19: 56.78 | H19: =TRUNC(G19*(1+$J$5),2) -> 69.27 | I19: =TRUNC(G19*F19,2) -> 5610.99 | J19: =TRUNC(H19*F19,2) -> 6845.26
A20: 2.1.2 | B20: 02-002-001 | C20: SIURB - EDIF | D20: ESCAVAÇÃO MANUAL COM PROFUNDIDADE IGUAL OU INFERIOR A 1,50M | E20: M3 | F20: 7.614 | G20: 76.89 | H20: =TRUNC(G20*(1+$J$5),2) -> 93.8 | I20: =TRUNC(G20*F20,2) -> 585.44 | J20: =TRUNC(H20*F20,2) -> 714.19
A21: 2.1.3 | B21: 104789 | C21: SINAPI | D21: DEMOLIÇÃO DE PISO DE CONCRETO SIMPLES, DE FORMA MANUAL, SEM REAPROVEITAMENTO. AF_09/2023 | E21: M3 | F21: 0.108 | G21: 272.48 | H21: =TRUNC(G21*(1+$J$5),2) -> 332.42 | I21: =TRUNC(G21*F21,2) -> 29.42 | J21: =TRUNC(H21*F21,2) -> 35.9
A22: 2.1.4 | B22: 100976 | C22: SINAPI | D22: CARGA, MANOBRA E DESCARGA DE SOLOS E MATERIAIS GRANULARES EM CAMINHÃO BASCULANTE 18 M³ - CARGA COM PÁ CARREGADEIRA (CAÇAMBA DE 1,7 A 2,8 M³ / 128 HP) E DESCARGA LIVRE (UNIDADE: M3). AF_07/2020 | E22: M3 | F22: 130.91382 | G22: 8.7 | H22: =TRUNC(G22*(1+$J$5),2) -> 10.61 | I22: =TRUNC(G22*F22,2) -> 1138.95 | J22: =TRUNC(H22*F22,2) -> 1388.99
A23: 2.1.5 | B23: 95877 | C23: SINAPI | D23: TRANSPORTE COM CAMINHÃO BASCULANTE DE 18 M³, EM VIA URBANA PAVIMENTADA, DMT ATÉ 30 KM (UNIDADE: M3XKM). AF_07/2020 | E23: M3XKM | F23: 3272.8455 | G23: 1.93 | H23: =TRUNC(G23*(1+$J$5),2) -> 2.35 | I23: =TRUNC(G23*F23,2) -> 6316.59 | J23: =TRUNC(H23*F23,2) -> 7691.18
A24: 2.1.6 | B24: 05.09.007 | C24: CDHU | D24: Taxa de destinação de resíduo sólido em aterro, tipo solo/terra | E24: M3 | F24: 130.91382 | G24: 30.67 | H24: =TRUNC(G24*(1+$J$5),2) -> 37.41 | I24: =TRUNC(G24*F24,2) -> 4015.12 | J24: =TRUNC(H24*F24,2) -> 4897.48
A25: 2.1.7 | B25: 97084 | C25: SINAPI | D25: COMPACTAÇÃO MECÂNICA DE SOLO PARA EXECUÇÃO DE RADIER, PISO DE CONCRETO OU LAJE SOBRE SOLO, COM COMPACTADOR DE SOLOS TIPO PLACA VIBRATÓRIA. AF_09/2021 | E25: M2 | F25: 658.8 | G25: 0.91 | H25: =TRUNC(G25*(1+$J$5),2) -> 1.11 | I25: =TRUNC(G25*F25,2) -> 599.5 | J25: =TRUNC(H25*F25,2) -> 731.26
A26: 2.1.8 | B26: 97086 | C26: SINAPI | D26: FABRICAÇÃO, MONTAGEM E DESMONTAGEM DE FORMA PARA RADIER, PISO DE CONCRETO OU LAJE SOBRE SOLO, EM MADEIRA SERRADA, 4 UTILIZAÇÕES. AF_09/2021 | E26: M2 | F26: 16.38 | G26: 159.57 | H26: =TRUNC(G26*(1+$J$5),2) -> 194.67 | I26: =TRUNC(G26*F26,2) -> 2613.75 | J26: =TRUNC(H26*F26,2) -> 3188.69
A27: 2.1.9 | B27: 96622 | C27: SINAPI | D27: LASTRO COM MATERIAL GRANULAR, APLICADO EM PISOS OU LAJES SOBRE SOLO, ESPESSURA DE *5 CM*. AF_01/2024 | E27: M3 | F27: 32.94 | G27: 197.19 | H27: =TRUNC(G27*(1+$J$5),2) -> 240.57 | I27: =TRUNC(G27*F27,2) -> 6495.43 | J27: =TRUNC(H27*F27,2) -> 7924.37
A28: 2.1.10 | B28: 97088 | C28: SINAPI | D28: ARMAÇÃO PARA EXECUÇÃO DE RADIER, PISO DE CONCRETO OU LAJE SOBRE SOLO, COM USO DE TELA Q-92. AF_09/2021 | E28: KG | F28: 975.024 | G28: 14.89 | H28: =TRUNC(G28*(1+$J$5),2) -> 18.16 | I28: =TRUNC(G28*F28,2) -> 14518.1 | J28: =TRUNC(H28*F28,2) -> 17706.43
A29: 2.1.11 | B29: 97096 | C29: SINAPI | D29: CONCRETAGEM DE RADIER, PISO DE CONCRETO OU LAJE SOBRE SOLO, FCK 30 MPA - LANÇAMENTO, ADENSAMENTO E ACABAMENTO. AF_09/2021 | E29: M3 | F29: 65.88 | G29: 537.45 | H29: =TRUNC(G29*(1+$J$5),2) -> 655.68 | I29: =TRUNC(G29*F29,2) -> 35407.2 | J29: =TRUNC(H29*F29,2) -> 43196.19
A30: 2.1.12 | B30: 13-002-004 | C30: SIURB - EDIF | D30: ACABAMENTO DE PISO DE CONCRETO TIPO BAMBOLÊ | E30: M2 | F30: 658.8 | G30: 6.08 | H30: =TRUNC(G30*(1+$J$5),2) -> 7.41 | I30: =TRUNC(G30*F30,2) -> 4005.5 | J30: =TRUNC(H30*F30,2) -> 4881.7
... A32: 2.1.14 | B32: 32.07.090 | C32: CDHU | D32: Junta de dilatação ou vedação com mastique de silicone, 1,0 x 0,5 cm - inclusive guia de apoio em polietileno | E32: M | F32: 90.6 | G32: 12.57 | H32: =TRUNC(G32*(1+$J$5),2) -> 15.33 | I32: =TRUNC(G32*F32,2) -> 1138.84 | J32: =TRUNC(H32*F32,2) -> 1388.89
A33: 2.2 | D33: PINTURA
A34: 2.2.1 | B34: 33.09.021 | C34: CDHU | D34: Tinta acrílica para faixas demarcatórias | E34: M | F34: 281.4 | G34: 4.63 | H34: =TRUNC(G34*(1+$J$5),2) -> 5.64 | I34: =TRUNC(G34*F34,2) -> 1302.88 | J34: =TRUNC(H34*F34,2) -> 1587.09
A35: 2.3 | D35: EQUIPAMENTOS
A36: 2.3.1 | B36: 17-003-063 | C36: SIURB - EDIF | D36: TABELA PARA BASQUETE, ENGLOBANDO DESDE FUNDAÇÃO ATÉ A CESTA DE NYLON | E36: UN | F36: 2 | G36: 6951.58 | H36: =TRUNC(G36*(1+$J$5),2) -> 8480.92 | I36: =TRUNC(G36*F36,2) -> 13903.16 | J36: =TRUNC(H36*F36,2) -> 16961.84
A37: 2.3.2 | B37: C.30 | C37: COMPOSIÇÃO | D37: RETIRADA E REINSTALAÇÃO DE TRAVE DE FUTEBOL COM REDE EM NYLON – ESTRUTURA METÁLICA | E37: UN. | F37: 2 | G37: 212.62 | H37: =TRUNC(G37*(1+$J$5),2) -> 259.39 | I37: =TRUNC(G37*F37,2) -> 425.24 | J37: =TRUNC(H37*F37,2) -> 518.78
H38: SUBTOTAL | I38: =SUM(I19:I37) -> 99132.6 | J38: =SUM(J19:J37) -> 120910.33
A39: 3 | D39: DRENAGEM DA QUADRA | K39: =I45 -> 12039.19 | L39: =J45 -> 14687.52
A40: 3.1 | B40: 10-011-072 | C40: SIURB - EDIF | D40: HC.01 - CANALETA DE CONCRETO DE A.P.P/TAMPA/GRELHA DE CONCRETO OU FERRO L=30CM | E40: M | F40: 72 | G40: 114.28 | H40: =TRUNC(G40*(1+$J$5),2) -> 139.42 | I40: =TRUNC(G40*F40,2) -> 8228.16 | J40: =TRUNC(H40*F40,2) -> 10038.24
A41: 3.2 | B41: 99258 | C41: SINAPI | D41: CAIXA ENTERRADA HIDRÁULICA RETANGULAR, EM ALVENARIA COM BLOCOS DE CONCRETO, DIMENSÕES INTERNAS: 0,4X0,4X0,4 M PARA REDE DE DRENAGEM. AF_12/2020 | E41: UN | F41: 5 | G41: 261.89 | H41: =TRUNC(G41*(1+$J$5),2) -> 319.5 | I41: =TRUNC(G41*F41,2) -> 1309.45 | J41: =TRUNC(H41*F41,2) -> 1597.5
A42: 3.3 | B42: 11.18.040 | C42: CDHU | D42: Lastro de pedra britada | E42: M3 | F42: 6.48 | G42: 214.95 | H42: =TRUNC(G42*(1+$J$5),2) -> 262.23 | I42: =TRUNC(G42*F42,2) -> 1392.87 | J42: =TRUNC(H42*F42,2) -> 1699.25
A43: 3.4 | B43: 10-011-096 | C43: SIURB - EDIF | D43: HC.03 - TAMPA DE CONCRETO PARA CANALETA DE A.P.L=0,30M | E43: M | F43: 1.5 | G43: 67.62 | H43: =TRUNC(G43*(1+$J$5),2) -> 82.49 | I43: =TRUNC(G43*F43,2) -> 101.43 | J43: =TRUNC(H43*F43,2) -> 123.73
...

Sheet CRONOGRAMA
B6: CRONOGRAMA FÍSICO-FINANCEIRO | G6: =ORCAMENTO!I4 -> REV. | H6: =ORCAMENTO!J4 -> 45903
B7: OBRA: | C7: =ORCAMENTO!B5 -> Revitalização de Quadra - Jardim Topázio | G7: BDI Obra | H7: 0.22
B8: LOCAL: | C8: =ORCAMENTO!B6 -> Rua Cornélio Rosumek, s/nº - Jardim Topázio, Sorocaba/SP
B9: ITEM | C9: ETAPA | D9: PREÇO TOTAL (SEM BDI) | E9: PREÇO TOTAL (COM BDI) | F9: % SOBRE O TOTAL | G9: 1º MÊS | H9: 2º MÊS | K9: CONFERECIA
B10: 1 | C10: =VLOOKUP($B10,ORCAMENTO!$A$9:$L$52,4,0) -> SERVIÇOS PRELIMINARES | D10: =VLOOKUP($B10,ORCAMENTO!$A$9:$L$52,11,0) -> 7640.62 | E10: =VLOOKUP($B10,ORCAMENTO!$A$9:$L$52,12,0) -> 9318.86 | F10: =E10/$E$18 -> 0.062135882 | G10: =ORCAMENTO!J11+(ORCAMENTO!J12/2)+ORCAMENTO!J13+ORCAMENTO!J15 -> 7906.13 | H10: =ORCAMENTO!J12/2 -> 1412.73
G11: =G10/$E10 -> 0.84840098 | H11: =H10/$E10 -> 0.15159902 | K11: =SUM(G11:H11) -> 1 | L11: =K11=1 -> TRUE
B12: 2 | C12: =VLOOKUP($B12,ORCAMENTO!$A$9:$L$52,4,0) -> EXECUÇÃO DA BASE DA QUADRA | D12: =VLOOKUP($B12,ORCAMENTO!$A$9:$L$52,11,0) -> 99132.6 | E12: =VLOOKUP($B12,ORCAMENTO!$A$9:$L$52,12,0) -> 120910.33 | F12: =E12/$E$18 -> 0.80620055 | G12: =SUM(ORCAMENTO!J19:J28) -> 51123.75 | H12: =SUM(ORCAMENTO!J29:J37) -> 69786.58
G13: =G12/$E12 -> 0.42282367 | H13: =H12/$E12 -> 0.57717633 | K13: =SUM(G13:H13) -> 1 | L13: =K13=1 -> TRUE
B14: 3 | C14: =VLOOKUP($B14,ORCAMENTO!$A$9:$L$52,4,0) -> DRENAGEM DA QUADRA | D14: =VLOOKUP($B14,ORCAMENTO!$A$9:$L$52,11,0) -> 12039.19 | E14: =VLOOKUP($B14,ORCAMENTO!$A$9:$L$52,12,0) -> 14687.52 | F14: =E14/$E$18 -> 0.097932796 | G14: =ORCAMENTO!J40+ORCAMENTO!J41+ORCAMENTO!J44 -> 12864.54 | H14: =ORCAMENTO!J42+ORCAMENTO!J43 -> 1822.98
G15: =G14/$E14 -> 0.87588238 | H15: =H14/$E14 -> 0.12411762 | K15: =SUM(G15:H15) -> 1 | L15: =K15=1 -> TRUE
B16: =ORCAMENTO!A48 -> 4 | C16: =VLOOKUP($B16,ORCAMENTO!$A$9:$L$52,4,0) -> ADMINISTRAÇÃO LOCAL | E16: =VLOOKUP($B16,ORCAMENTO!$A$9:$L$52,12,0) -> 5058.79 | F16: =E16/$E$18 -> 0.033730776 | G16: =$E16*G17 -> 2509.709 | H16: =$E16*H17 -> 2549.081
G17: =G26 -> 0.49610856 | H17: =H26 -> 0.50389144 | K17: =SUM(G17:H17) -> 1 | L17: =K17=1 -> TRUE
C18: TOTAL | E18: =SUM(E10:E17) -> 149975.5 | F18: TOTAL (R$) | G18: =SUMIF($B$10:$B$17,"<>",G10:G17) -> 74404.129 | H18: =SUMIF($B$10:$B$17,"<>",H10:H17) -> 75571.371
F19: TOTAL (%) | G19: =G18/$E$18 -> 0.49610856 | H19: =H18/$E$18 -> 0.50389144
E20: TOTAL ACUMULADO ($) | G20: =G18 -> 74404.129 | H20: =G20+H18 -> 149975.5
E21: TOTAL ACUMULADO (%) | G21: =G20/$E$18 -> 0.49610856 | H21: =G21+H19 -> 1
G26: =SUMIF($B$10:$B$15,"<>",G10:G15)/($E$18-$E$16) -> 0.49610856 | H26: =SUMIF($B$10:$B$15,"<>",H10:H15)/($E$18-$E$16) -> 0.50389144
