Workbook

Sheet ORCAMENTO
C1: PLANILHA ORÇAMENTÁRIA
I2: SERPO
H3: Secretaria de Serviços Públicos e Obras
A5: OBRA: | B5: Ampliação e reforma da sede da Secretaria de Serviços Públicos e Obras | I5: REV. 09 | J5: 46044
A6: LOCAL: | B6: Avenida Rudolf Dafferner, 65 - Alto da Boa Vista - Sorocaba - SP | I6: BDI Obra | J6: 0.2354
A7: ÁREA: | B7: 634,75 m² | I7: Fator K | J7: 2.27
A9: ITEM | B9: CÓDIGO | C9: REFERÊNCIA | D9: DISCRIMINAÇÃO DO SERVIÇO | E9: UNIDADE | F9: QUANTIDADE | G9: PREÇO UNITÁRIO (S/ BDI) | H9: PREÇO UNITÁRIO (C/ BDI) | I9: PREÇO TOTAL (SEM BDI) | J9: PREÇO TOTAL (COM BDI) | K9: $ sem BDI | L9: $ com BDI
A10: 1 | D10: SERVIÇOS PRELIMINARES | K10: =I20 -> 42602.95 | L10: =J20 -> 52627.65
A11: 1.1 | D11: IDENTIFICAÇÃO E LOCAÇÃO
A12: 1.1.1 | B12: 02.08.040 | C12: CDHU | D12: Placa em lona com impressão digital e requadro em metalon | E12: M2 | F12: 6 | G12: 431.48 | H12: =TRUNC(G12*(1+$J$6),2) -> 533.05 | I12: =TRUNC(G12*F12,2) -> 2588.88 | J12: =TRUNC(H12*F12,2) -> 3198.3
A13: 1.1.2 | B13: 02.10.020 | C13: CDHU | D13: Locação de obra de edificação | E13: M2 | F13: 355.45 | G13: 18.03 | H13: =TRUNC(G13*(1+$J$6),2) -> 22.27 | I13: =TRUNC(G13*F13,2) -> 6408.76 | J13: =TRUNC(H13*F13,2) -> 7915.87
A14: 1.1.3 | B14: 02.10.060 | C14: CDHU | D14: Locação de vias, calçadas, tanques e lagoas | E14: M2 | F14: 224.25 | G14: 1.89 | H14: =TRUNC(G14*(1+$J$6),2) -> 2.33 | I14: =TRUNC(G14*F14,2) -> 423.83 | J14: =TRUNC(H14*F14,2) -> 522.5
A15: 1.2 | D15: CANTEIRO DE OBRAS
A16: 1.2.1 | B16: 02.01.180 | C16: CDHU | D16: Banheiro químico modelo Standard, com manutenção conforme exigências da CETESB | E16: UNMES | F16: 10 | G16: 1251.8 | H16: =TRUNC(G16*(1+$J$6),2) -> 1546.47 | I16: =TRUNC(G16*F16,2) -> 12518 | J16: =TRUNC(H16*F16,2) -> 15464.7
A17: 1.2.2 | B17: 02.02.150 | C17: CDHU | D17: Locação de container tipo depósito - área mínima de 13,80 m² | E17: UNMES | F17: 10 | G17: 975.03 | H17: =TRUNC(G17*(1+$J$6),2) -> 1204.55 | I17: =TRUNC(G17*F17,2) -> 9750.3 | J17: =TRUNC(H17*F17,2) -> 12045.5
A18: 1.2.3 | B18: 01-005-040 | C18: SIURB - EDIF | D18: TELA PARA PROTEÇÃO DE OBRAS, MALHA 2 MM | E18: M2 | F18: 117.4 | G18: 31.47 | H18: =TRUNC(G18*(1+$J$6),2) -> 38.87 | I18: =TRUNC(G18*F18,2) -> 3694.57 | J18: =TRUNC(H18*F18,2) -> 4563.33
A19: 1.2.4 | B19: 98458 | C19: SINAPI | D19: TAPUME COM COMPENSADO DE MADEIRA. AF_03/2024 | E19: M2 | F19: 72.6 | G19: 99.43 | H19: =TRUNC(G19*(1+$J$6),2) -> 122.83 | I19: =TRUNC(G19*F19,2) -> 7218.61 | J19: =TRUNC(H19*F19,2) -> 8917.45
H20: SUBTOTAL | I20: =SUM(I12:I19) -> 42602.95 | J20: =SUM(J12:J19) -> 52627.65
A21: 2 | D21: DEMOLIÇÕES E RETIRADAS | K21: =I53 -> 51854.07 | L21: =J53 -> 64051.45
A22: 2.1 | D22: DEMOLIÇÕES
A23: 2.1.1 | B23: 03.01.240 | C23: CDHU | D23: Demolição mecanizada de pavimento ou piso em concreto, inclusive fragmentação, carregamento, transporte até 1 quilômetro e descarregamento | E23: M2 | F23: 185 | G23: 33.44 | H23: =TRUNC(G23*(1+$J$6),2) -> 41.31 | I23: =TRUNC(G23*F23,2) -> 6186.4 | J23: =TRUNC(H23*F23,2) -> 7642.35
A24: 2.1.2 | B24: 03.02.040 | C24: CDHU | D24: Demolição manual de alvenaria de elevação ou elemento vazado, incluindo revestimento | E24: M3 | F24: 15.94 | G24: 90.84 | H24: =TRUNC(G24*(1+$J$6),2) -> 112.22 | I24: =TRUNC(G24*F24,2) -> 1447.98 | J24: =TRUNC(H24*F24,2) -> 1788.78
A25: 2.1.3 | B25: 03.07.030 | C25: CDHU | D25: Demolição (levantamento) mecanizada de pavimento asfáltico, inclusive fragmentação e acomodação do material | E25: M2 | F25: 57.62 | G25: 27.14 | H25: =TRUNC(G25*(1+$J$6),2) -> 33.52 | I25: =TRUNC(G25*F25,2) -> 1563.8 | J25: =TRUNC(H25*F25,2) -> 1931.42
A26: 2.1.4 | B26: 03.04.020 | C26: CDHU | D26: Demolição manual de revestimento cerâmico, incluindo a base | E26: M2 | F26: 52.76 | G26: 13.63 | H26: =TRUNC(G26*(1+$J$6),2) -> 16.83 | I26: =TRUNC(G26*F26,2) -> 719.11 | J26: =TRUNC(H26*F26,2) -> 887.95
A27: 2.1.5 | B27: 03.08.200 | C27: CDHU | D27: Demolição manual de painéis divisórias, inclusive montantes metálicos | E27: M2 | F27: 47.55 | G27: 7.49 | H27: =TRUNC(G27*(1+$J$6),2) -> 9.25 | I27: =TRUNC(G27*F27,2) -> 356.14 | J27: =TRUNC(H27*F27,2) -> 439.83
A28: 2.1.6 | B28: 03.01.210 | C28: CDHU | D28: Demolição mecanizada de concreto armado, inclusive fragmentação e acomodação do material | E28: M3 | F28: 3.51 | G28: 588.16 | H28: =TRUNC(G28*(1+$J$6),2) -> 726.61 | I28: =TRUNC(G28*F28,2) -> 2064.44 | J28: =TRUNC(H28*F28,2) -> 2550.4
A29: 2.1.7 | B29: 04.09.140 | C29: CDHU | D29: Retirada de poste ou sistema de sustentação para alambrado ou fechamento | E29: UN | F29: 10 | G29: 29.52 | H29: =TRUNC(G29*(1+$J$6),2) -> 36.46 | I29: =TRUNC(G29*F29,2) -> 295.2 | J29: =TRUNC(H29*F29,2) -> 364.6
A30: 2.1.8 | B30: 04.09.160 | C30: CDHU | D30: Retirada de entelamento metálico em geral | E30: M2 | F30: 57.5 | G30: 4.79 | H30: =TRUNC(G30*(1+$J$6),2) -> 5.91 | I30: =TRUNC(G30*F30,2) -> 275.42 | J30: =TRUNC(H30*F30,2) -> 339.82
A31: 2.2 | D31: RETIRADA DE COBERTURA
A32: 2.2.1 | B32: 04.03.020 | C32: CDHU | D32: Retirada de telhamento em barro | E32: M2 | F32: 328.63 | G32: 18.17 | H32: =TRUNC(G32*(1+$J$6),2) -> 22.44 | I32: =TRUNC(G32*F32,2) -> 5971.2 | J32: =TRUNC(H32*F32,2) -> 7374.45
A33: 2.2.2 | B33: 04.02.050 | C33: CDHU | D33: Retirada de estrutura em madeira tesoura - telhas de barro | E33: M2 | F33: 328.63 | G33: 27.69 | H33: =TRUNC(G33*(1+$J$6),2) -> 34.2 | I33: =TRUNC(G33*F33,2) -> 9099.76 | J33: =TRUNC(H33*F33,2) -> 11239.14
A34: 2.2.3 | B34: 04.30.020 | C34: CDHU | D34: Remoção de calha ou rufo | E34: M | F34: 18.32 | G34: 5.22 | H34: =TRUNC(G34*(1+$J$6),2) -> 6.44 | I34: =TRUNC(G34*F34,2) -> 95.63 | J34: =TRUNC(H34*F34,2) -> 117.98
A35: 2.3 | D35: REMOÇÕES DE ESQUADRIAS
A36: 2.3.1 | B36: 04.08.020 | C36: CDHU | D36: Retirada de folha de esquadria em madeira | E36: UN | F36: 3 | G36: 25.18 | H36: =TRUNC(G36*(1+$J$6),2) -> 31.1 | I36: =TRUNC(G36*F36,2) -> 75.54 | J36: =TRUNC(H36*F36,2) -> 93.3
A37: 2.3.2 | B37: 04.08.040 | C37: CDHU | D37: Retirada de guarnição, moldura e peças lineares em madeira, fixadas | E37: M | F37: 15.2 | G37: 1.93 | H37: =TRUNC(G37*(1+$J$6),2) -> 2.38 | I37: =TRUNC(G37*F37,2) -> 29.33 | J37: =TRUNC(H37*F37,2) -> 36.17
A38: 2.3.3 | B38: 04.09.020 | C38: CDHU | D38: Retirada de esquadria metálica em geral | E38: M2 | F38: 37.89 | G38: 35.25 | H38: =TRUNC(G38*(1+$J$6),2) -> 43.54 | I38: =TRUNC(G38*F38,2) -> 1335.62 | J38: =TRUNC(H38*F38,2) -> 1649.73
A39: 2.3.4 | B39: 102191 | C39: SINAPI | D39: REMOÇÃO DE VIDRO LISO COMUM DE ESQUADRIA COM BAGUETE DE ALUMÍNIO OU PVC. AF_01/2021 | E39: M2 | F39: 37.89 | G39: 29.51 | H39: =TRUNC(G39*(1+$J$6),2) -> 36.45 | I39: =TRUNC(G39*F39,2) -> 1118.13 | J39: =TRUNC(H39*F39,2) -> 1381.09
A40: 2.4 | D40: REMOÇÕES DE INSTALAÇÕES HIDRÁULICAS
A41: 2.4.1 | B41: 04.30.060 | C41: CDHU | D41: Remoção de tubulação hidráulica em geral, incluindo conexões, caixas e ralos | E41: M | F41: 10 | G41: 9.08 | H41: =TRUNC(G41*(1+$J$6),2) -> 11.21 | I41: =TRUNC(G41*F41,2) -> 90.8 | J41: =TRUNC(H41*F41,2) -> 112.1
A42: 2.4.2 | B42: 04.11.160 | C42: CDHU | D42: Retirada de caixa de descarga de sobrepor ou acoplada | E42: UN | F42: 1 | G42: 25.17 | H42: =TRUNC(G42*(1+$J$6),2) -> 31.09 | I42: =TRUNC(G42*F42,2) -> 25.17 | J42: =TRUNC(H42*F42,2) -> 31.09
...

Sheet CRONOGRAMA
I2: SERPO
I3: Serviços Públicos e Obras
A4: CRONOGRAMA FÍSICO-FINANCEIRO | P4: =ORCAMENTO!I5 -> REV. 09 | Q4: =ORCAMENTO!J5 -> 46044
A5: OBRA: | B5: =ORCAMENTO!B5 -> Ampliação e reforma da sede da Secretaria de Serviços Públicos e Obras | P5: BDI Obra | Q5: =ORCAMENTO!J6 -> 0.2354
A6: LOCAL: | B6: =ORCAMENTO!B6 -> Avenida Rudolf Dafferner, 65 - Alto da Boa Vista - Sorocaba - SP | P6: Fator K | Q6: =ORCAMENTO!J7 -> 2.27
A7: ÁREA: | B7: =ORCAMENTO!B7 -> 634,75 m²
A8: ITEM | B8: ETAPA | C8: PREÇO TOTAL (SEM BDI) | D8: PREÇO TOTAL (COM BDI) | E8: % SOBRE O TOTAL | F8: 1º MÊS | G8: 2º MÊS | H8: 3º MÊS | I8: 4º MÊS | J8: 5º MÊS | K8: 6º MÊS | L8: 7º MÊS | M8: 8º MÊS | N8: 9º MÊS | O8: 10º MÊS | P8: 11º MÊS | Q8: 12º MÊS | R8: 7º MÊS | S8: 8º MÊS | T8: 9º MÊS | U8: 10º MÊS | V8: 11º MÊS | W8: 12º MÊS | Z8: CONFERECIA
A9: 1 | B9: =VLOOKUP($A9,ORCAMENTO!$A$10:$L$360,4,0) -> SERVIÇOS PRELIMINARES | C9: =VLOOKUP($A9,ORCAMENTO!$A$10:$L$360,11,0) -> 42602.95 | D9: =VLOOKUP($A9,ORCAMENTO!$A$10:$L$360,12,0) -> 52627.65 | E9: =D9/$D$49 -> 0.021261908 | H9: =SUM(ORCAMENTO!J12:J14)+SUM(ORCAMENTO!J18:J19)+SUM(ORCAMENTO!H16:H17) -> 27868.47 | I9: =SUM(ORCAMENTO!H16:H17) -> 2751.02 | J9: =SUM(ORCAMENTO!H16:H17) -> 2751.02 | K9: =SUM(ORCAMENTO!H16:H17) -> 2751.02 | L9: =SUM(ORCAMENTO!H16:H17) -> 2751.02 | M9: =SUM(ORCAMENTO!H16:H17) -> 2751.02 | N9: =SUM(ORCAMENTO!H16:H17) -> 2751.02 | O9: =SUM(ORCAMENTO!H16:H17) -> 2751.02 | P9: =SUM(ORCAMENTO!H16:H17) -> 2751.02 | Q9: =SUM(ORCAMENTO!H16:H17) -> 2751.02
H10: =H9/$D9 -> 0.52954046 | I10: =I9/$D9 -> 0.052273282 | J10: =J9/$D9 -> 0.052273282 | K10: =K9/$D9 -> 0.052273282 | L10: =L9/$D9 -> 0.052273282 | M10: =M9/$D9 -> 0.052273282 | N10: =N9/$D9 -> 0.052273282 | O10: =O9/$D9 -> 0.052273282 | ... W10: =W9/$D9 -> 0 | Z10: =SUM(F10:W10) -> 1 | AA10: =Z10=1 -> TRUE
A11: 2 | B11: =VLOOKUP($A11,ORCAMENTO!$A$10:$L$360,4,0) -> DEMOLIÇÕES E RETIRADAS | C11: =VLOOKUP($A11,ORCAMENTO!$A$10:$L$360,11,0) -> 51854.07 | D11: =VLOOKUP($A11,ORCAMENTO!$A$10:$L$360,12,0) -> 64051.45 | E11: =D11/$D$49 -> 0.025877197 | H11: =$D11*H12 -> 64051.45 | I11: =$D11*I12 -> 0 | J11: =$D11*J12 -> 0 | Q11: =$D11*Q12 -> 0 | R11: =$D11*R12 -> 0 | S11: =$D11*S12 -> 0 | T11: =$D11*T12 -> 0 | U11: =$D11*U12 -> 0 | V11: =$D11*V12 -> 0 | W11: =$D11*W12 -> 0
H12: 1 | Z12: =SUM(F12:W12) -> 1 | AA12: =Z12=1 -> TRUE
A13: 3 | B13: =VLOOKUP($A13,ORCAMENTO!$A$10:$L$360,4,0) -> LIMPEZA E TERRAPLANAGEM | C13: =VLOOKUP($A13,ORCAMENTO!$A$10:$L$360,11,0) -> 17417.74 | D13: =VLOOKUP($A13,ORCAMENTO!$A$10:$L$360,12,0) -> 21497.88 | E13: =D13/$D$49 -> 0.0086852815 | H13: =$D13*H14 -> 21497.88 | I13: =$D13*I14 -> 0 | J13: =$D13*J14 -> 0 | Q13: =$D13*Q14 -> 0 | R13: =$D13*R14 -> 0 | S13: =$D13*S14 -> 0 | T13: =$D13*T14 -> 0 | U13: =$D13*U14 -> 0 | V13: =$D13*V14 -> 0 | W13: =$D13*W14 -> 0
H14: 1 | Z14: =SUM(F14:W14) -> 1 | AA14: =Z14=1 -> TRUE
A15: 4 | B15: =VLOOKUP($A15,ORCAMENTO!$A$10:$L$360,4,0) -> INFRAESTRUTURA | C15: =VLOOKUP($A15,ORCAMENTO!$A$10:$L$360,11,0) -> 112490.88 | D15: =VLOOKUP($A15,ORCAMENTO!$A$10:$L$360,12,0) -> 138959.21 | E15: =D15/$D$49 -> 0.056140413 | I15: =$D15*I16 -> 138959.21 | Q15: =$D15*Q16 -> 0 | R15: =$D15*R16 -> 0 | S15: =$D15*S16 -> 0 | T15: =$D15*T16 -> 0 | U15: =$D15*U16 -> 0 | V15: =$D15*V16 -> 0 | W15: =$D15*W16 -> 0
I16: 1 | Z16: =SUM(F16:W16) -> 1 | AA16: =Z16=1 -> TRUE
A17: 5 | B17: =VLOOKUP($A17,ORCAMENTO!$A$10:$L$360,4,0) -> SUPERESTRUTURA | C17: =VLOOKUP($A17,ORCAMENTO!$A$10:$L$360,11,0) -> 62082.06 | D17: =VLOOKUP($A17,ORCAMENTO!$A$10:$L$360,12,0) -> 76690.19 | E17: =D17/$D$49 -> 0.030983329 | F17: =$D17*F18 -> 0 | G17: =$D17*G18 -> 0 | J17: =$D17*J18 -> 76690.19 | Q17: =$D17*Q18 -> 0 | R17: =$D17*R18 -> 0 | S17: =$D17*S18 -> 0 | T17: =$D17*T18 -> 0 | U17: =$D17*U18 -> 0 | V17: =$D17*V18 -> 0 | W17: =$D17*W18 -> 0
J18: 1 | Z18: =SUM(F18:W18) -> 1 | AA18: =Z18=1 -> TRUE
A19: 6 | B19: =VLOOKUP($A19,ORCAMENTO!$A$10:$L$360,4,0) -> VEDAÇÃO, PISO E CONTRAPISO | C19: =VLOOKUP($A19,ORCAMENTO!$A$10:$L$360,11,0) -> 139817.65 | D19: =VLOOKUP($A19,ORCAMENTO!$A$10:$L$360,12,0) -> 172720.29 | E19: =D19/$D$49 -> 0.069780106 | F19: =$D19*F20 -> 0 | K19: =SUM(ORCAMENTO!J105:J107) -> 100310.58 | L19: =SUM(ORCAMENTO!J109:J114) -> 72409.71 | Q19: =$D19*Q20 -> 0 | R19: =$D19*R20 -> 0 | S19: =$D19*S20 -> 0 | T19: =$D19*T20 -> 0 | U19: =$D19*U20 -> 0 | V19: =$D19*V20 -> 0 | W19: =$D19*W20 -> 0
K20: =K19/$D19 -> 0.58076894 | L20: =L19/$D19 -> 0.41923106 | Z20: =SUM(F20:W20) -> 1 | AA20: =Z20=1 -> TRUE
A21: 7 | B21: =VLOOKUP($A21,ORCAMENTO!$A$10:$L$360,4,0) -> COBERTURA | C21: =VLOOKUP($A21,ORCAMENTO!$A$10:$L$360,11,0) -> 503366.26 | D21: =VLOOKUP($A21,ORCAMENTO!$A$10:$L$360,12,0) -> 621839.22 | E21: =D21/$D$49 -> 0.25122704 | F21: =$D21*F22 -> 0 | G21: =$D21*G22 -> 0 | L21: =ORCAMENTO!J118 -> 71682.02 | M21: =ORCAMENTO!J121 -> 329360.07 | N21: =ORCAMENTO!J119+SUM(ORCAMENTO!J122:J125) -> 200484.48 | P21: =ORCAMENTO!J127 -> 20312.65 | Q21: =$D21*Q22 -> 0 | R21: =$D21*R22 -> 0 | S21: =$D21*S22 -> 0 | T21: =$D21*T22 -> 0 | U21: =$D21*U22 -> 0 | V21: =$D21*V22 -> 0 | W21: =$D21*W22 -> 0
L22: =L21/$D21 -> 0.1152742 | M22: =M21/$D21 -> 0.52965471 | N22: =N21/$D21 -> 0.32240565 | P22: =P21/$D21 -> 0.032665437 | Z22: =SUM(F22:W22) -> 1 | AA22: =Z22=1 -> TRUE
A23: 8 | B23: =VLOOKUP($A23,ORCAMENTO!$A$10:$L$360,4,0) -> ESQUADRIAS | C23: =VLOOKUP($A23,ORCAMENTO!$A$10:$L$360,11,0) -> 153319.81 | D23: =VLOOKUP($A23,ORCAMENTO!$A$10:$L$360,12,0) -> 189410.11 | E23: =D23/$D$49 -> 0.0765229 | F23: =$D23*F24 -> 0 | G23: =$D23*G24 -> 0 | H23: =$D23*H24 -> 0 | N23: =$D23*N24 -> 0 | O23: =$D23*O24 -> 189410.11 | R23: =$D23*R24 -> 0 | S23: =$D23*S24 -> 0 | T23: =$D23*T24 -> 0 | U23: =$D23*U24 -> 0 | V23: =$D23*V24 -> 0 | W23: =$D23*W24 -> 0
O24: 1 | Z24: =SUM(F24:W24) -> 1 | AA24: =Z24=1 -> TRUE
A25: 9 | B25: =VLOOKUP($A25,ORCAMENTO!$A$10:$L$360,4,0) -> REVESTIMENTOS | C25: =VLOOKUP($A25,ORCAMENTO!$A$10:$L$360,11,0) -> 265914.17 | D25: =VLOOKUP($A25,ORCAMENTO!$A$10:$L$360,12,0) -> 328475.71 | E25: =D25/$D$49 -> 0.1327063 | F25: =$D25*F26 -> 0 | G25: =$D25*G26 -> 0 | O25: =ORCAMENTO!J161+SUM(ORCAMENTO!J153:J159) -> 183845.27 | P25: =SUM(ORCAMENTO!J148:J151) -> 144630.44 | R25: =$D25*R26 -> 0 | S25: =$D25*S26 -> 0 | T25: =$D25*T26 -> 0 | U25: =$D25*U26 -> 0 | V25: =$D25*V26 -> 0 | W25: =$D25*W26 -> 0
O26: =O25/$D25 -> 0.55969213 | P26: =P25/$D25 -> 0.44030787 | Z26: =SUM(F26:W26) -> 1 | AA26: =Z26=1 -> TRUE
A27: 10 | B27: =VLOOKUP($A27,ORCAMENTO!$A$10:$L$360,4,0) -> PINTURAS | C27: =VLOOKUP($A27,ORCAMENTO!$A$10:$L$360,11,0) -> 36074.52 | D27: =VLOOKUP($A27,ORCAMENTO!$A$10:$L$360,12,0) -> 44548.51 | E27: =D27/$D$49 -> 0.017997884 | F27: =$D27*F28 -> 0 | G27: =$D27*G28 -> 0 | H27: =$D27*H28 -> 0 | I27: =$D27*I28 -> 0 | P27: =$D27*P28 -> 44548.51 | Q27: =$D27*Q28 -> 0 | R27: =$D27*R28 -> 0 | S27: =$D27*S28 -> 0 | T27: =$D27*T28 -> 0 | U27: =$D27*U28 -> 0 | V27: =$D27*V28 -> 0 | W27: =$D27*W28 -> 0
P28: 1 | Z28: =SUM(F28:W28) -> 1 | AA28: =Z28=1 -> TRUE
A29: 11 | B29: =VLOOKUP($A29,ORCAMENTO!$A$10:$L$360,4,0) -> INSTALAÇÕES HIDRÁULICAS | C29: =VLOOKUP($A29,ORCAMENTO!$A$10:$L$360,11,0) -> 92476.69 | D29: =VLOOKUP($A29,ORCAMENTO!$A$10:$L$360,12,0) -> 114241.8 | E29: =D29/$D$49 -> 0.04615442 | F29: =$D29*F30 -> 0 | G29: =$D29*G30 -> 0 | J29: =SUM(ORCAMENTO!J200:J205,ORCAMENTO!J207:J208) -> 16790.09 | K29: =SUM(ORCAMENTO!J192:J198,ORCAMENTO!J182:J190) -> 77568.47 | P29: =SUM(ORCAMENTO!J172:J180,ORCAMENTO!J210) -> 19883.24 | Q29: =$D29*Q30 -> 0 | R29: =$D29*R30 -> 0 | S29: =$D29*S30 -> 0 | T29: =$D29*T30 -> 0 | U29: =$D29*U30 -> 0 | V29: =$D29*V30 -> 0 | W29: =$D29*W30 -> 0
J30: =J29/$D29 -> 0.14696976 | K30: =K29/$D29 -> 0.67898501 | P30: =P29/$D29 -> 0.17404523 | Z30: =SUM(F30:W30) -> 1 | AA30: =Z30=1 -> TRUE
A31: 12 | B31: =VLOOKUP($A31,ORCAMENTO!$A$10:$L$360,4,0) -> CENTRAL DE GLP | C31: =VLOOKUP($A31,ORCAMENTO!$A$10:$L$360,11,0) -> 4315.58 | D31: =VLOOKUP($A31,ORCAMENTO!$A$10:$L$360,12,0) -> 5331.15 | E31: =D31/$D$49 -> 0.0021538188 | F31: =$D31*F32 -> 0 | G31: =$D31*G32 -> 0 | K31: =SUM(ORCAMENTO!J220:J224) -> 1343.03 | Q31: =SUM(ORCAMENTO!J214:J218) -> 3988.12 | R31: =$D31*R32 -> 0 | S31: =$D31*S32 -> 0 | T31: =$D31*T32 -> 0 | U31: =$D31*U32 -> 0 | V31: =$D31*V32 -> 0 | W31: =$D31*W32 -> 0
K32: =K31/$D31 -> 0.25192126 | Q32: =Q31/$D31 -> 0.74807874 | Z32: =SUM(F32:W32) -> 1 | AA32: =Z32=1 -> TRUE
A33: 13 | B33: =VLOOKUP($A33,ORCAMENTO!$A$10:$L$360,4,0) -> SISTEMA DE PREVENÇÃO E COMBATE A INCÊNDIO | C33: =VLOOKUP($A33,ORCAMENTO!$A$10:$L$360,11,0) -> 2207.46 | D33: =VLOOKUP($A33,ORCAMENTO!$A$10:$L$360,12,0) -> 2726.99 | E33: =D33/$D$49 -> 0.0011017215 | F33: =$D33*F34 -> 0 | G33: =$D33*G34 -> 0 | H33: =$D33*H34 -> 0 | I33: =$D33*I34 -> 0 | P33: =$D33*P34 -> 2726.99 | Q33: =$D33*Q34 -> 0 | R33: =$D33*R34 -> 0 | S33: =$D33*S34 -> 0 | T33: =$D33*T34 -> 0 | U33: =$D33*U34 -> 0 | V33: =$D33*V34 -> 0 | W33: =$D33*W34 -> 0
P34: 1 | Z34: =SUM(F34:W34) -> 1 | AA34: =Z34=1 -> TRUE
A35: 14 | B35: =VLOOKUP($A35,ORCAMENTO!$A$10:$L$360,4,0) -> INSTALAÇÕES ELÉTRICAS | C35: =VLOOKUP($A35,ORCAMENTO!$A$10:$L$360,11,0) -> 117440.01 | D35: =VLOOKUP($A35,ORCAMENTO!$A$10:$L$360,12,0) -> 145043.72 | E35: =D35/$D$49 -> 0.058598594 | F35: =$D35*F36 -> 0 | G35: =$D35*G36 -> 0 | J35: =$D35*J36 -> 0 | O35: =SUM(ORCAMENTO!J259:J271,ORCAMENTO!J273:J286) -> 117537.29 | P35: =SUM(ORCAMENTO!J238:J242,ORCAMENTO!J244:J250,ORCAMENTO!J252:J257) -> 27506.43 | Q35: =$D35*Q36 -> 0 | R35: =$D35*R36 -> 0 | S35: =$D35*S36 -> 0 | T35: =$D35*T36 -> 0 | U35: =$D35*U36 -> 0 | V35: =$D35*V36 -> 0 | W35: =$D35*W36 -> 0
O36: =O35/$D35 -> 0.81035766 | P36: =P35/$D35 -> 0.18964234 | Z36: =SUM(F36:W36) -> 1 | AA36: =Z36=1 -> TRUE
A37: 15 | B37: =VLOOKUP($A37,ORCAMENTO!$A$10:$L$360,4,0) -> ATERRAMENTO | C37: =VLOOKUP($A37,ORCAMENTO!$A$10:$L$360,11,0) -> 10985 | D37: =VLOOKUP($A37,ORCAMENTO!$A$10:$L$360,12,0) -> 13570.22 | E37: =D37/$D$49 -> 0.005482456 | F37: =$D37*F38 -> 0 | G37: =$D37*G38 -> 0 | H37: =$D37*H38 -> 0 | I37: =$D37*I38 -> 0 | L37: =$D37*L38 -> 13570.22 | Q37: =$D37*Q38 -> 0 | R37: =$D37*R38 -> 0 | S37: =$D37*S38 -> 0 | T37: =$D37*T38 -> 0 | U37: =$D37*U38 -> 0 | V37: =$D37*V38 -> 0 | W37: =$D37*W38 -> 0
L38: 1 | Z38: =SUM(F38:W38) -> 1 | AA38: =Z38=1 -> TRUE
A39: 16 | B39: =VLOOKUP($A39,ORCAMENTO!$A$10:$L$360,4,0) -> REDE DE LÓGICA | C39: =VLOOKUP($A39,ORCAMENTO!$A$10:$L$360,11,0) -> 16336.15 | D39: =VLOOKUP($A39,ORCAMENTO!$A$10:$L$360,12,0) -> 20177.81 | E39: =D39/$D$49 -> 0.0081519648 | F39: =$D39*F40 -> 0 | G39: =$D39*G40 -> 0 | H39: =$D39*H40 -> 0 | I39: =$D39*I40 -> 0 | J39: =$D39*J40 -> 0 | L39: =$D39*L40 -> 0 | M39: =$D39*M40 -> 20177.81 | Q39: =$D39*Q40 -> 0 | R39: =$D39*R40 -> 0 | S39: =$D39*S40 -> 0 | T39: =$D39*T40 -> 0 | U39: =$D39*U40 -> 0 | V39: =$D39*V40 -> 0 | W39: =$D39*W40 -> 0
M40: 1 | Z40: =SUM(F40:W40) -> 1 | AA40: =Z40=1 -> TRUE
A41: 17 | B41: =VLOOKUP($A41,ORCAMENTO!$A$10:$L$360,4,0) -> ÁREA EXTERNA | C41: =VLOOKUP($A41,ORCAMENTO!$A$10:$L$360,11,0) -> 215047.15 | D41: =VLOOKUP($A41,ORCAMENTO!$A$10:$L$360,12,0) -> 265664.56 | E41: =D41/$D$49 -> 0.10733019 | I41: =SUM(ORCAMENTO!J302:J308) -> 45162.52 | J41: =SUM(ORCAMENTO!J310:J314) -> 145574.29 | O41: =SUM(ORCAMENTO!J315:J319) -> 4843 | P41: =SUM(ORCAMENTO!J321:J326) -> 61409.39 | Q41: =SUM(ORCAMENTO!J328:J332) -> 8675.36 | R41: =$D41*R42 -> 0 | S41: =$D41*S42 -> 0 | T41: =$D41*T42 -> 0 | U41: =$D41*U42 -> 0 | V41: =$D41*V42 -> 0 | W41: =$D41*W42 -> 0
...
